Workbook

Sheet PAPILDU nepieciešams
E1: 5.pielikums
E2: pasākumu plāna atbalsta sniegšanai Ukrainas civiliedzīvotājiem Latvijas Republikā 2024.gadā sākotnējās ietekmes novērtējuma ziņojumam (anotācijai)
A3: Izglītības un zinātnes ministrija
A4: papildu nepieciešamo izdevumu aprēķins
A6: EKK | B6: Apraksts | C6: Aprēķins | D6: 2024. gadā | E6: Pamatojums
B8: PAVISAM: | D8: =SUM(D9:D14) -> 14765542
A9: EKK 1000 | B9: Atlīdzība | D9: =D19+D29+D37+D47+D57+D67+D77+D87+D97 -> 41300
A10: EKK 2000 | B10: Preces un pakalpojumi | D10: =D20+D30+D38+D48+D58+D68+D78+D88+D98 -> 112644
A11: EKK 3000 | B11: Subsīdijas un dotācijas | D11: =D21+D31+D39+D49+D59+D69+D79+D89+D99 -> 1477
A12: EKK 5000 | B12: Pamatkapitāla veidošana | D12: =D23+D33+D41+D51+D61+D71+D81+D91+D101 -> 0
A13: EKK 6000 | B13: Sociāla rakstura maksājumi un kompensācijas | D13: =D22+D32+D40+D50+D60+D70+D80+D90+D100 -> 1800
A14: EKK 7000 | B14: Transferti, starptautiskā sadarbība | D14: =D24+D34+D42+D52+D62+D72+D82+D92+D102 -> 14608321
A16: 6.1. Nepilngadīgo Ukrainas civiliedzīvotāju pirmsskolas izglītības ieguves nodrošināšana pašvaldības vai privātajās izglītības iestādēs. 6.2.Nepilngadīgo Ukrainas civiliedzīvotāju (kā arī pilngadīgo Ukrainas civiliedzīvotāju, kuri iepriekš uzsākuši vispārējās izglītības ieguvi) vispārējās izglītības ieguves nodrošināšana valsts, pašvaldības vai privātajās izglītības iestādēs
A17: (Nr., pasākums)
C18: 6.1., 6.2. KOPĀ: | D18: =SUM(D19:D24) -> 12107878
A19: EKK 1000 | B19: Atlīdzība | E19: Izdevumu sadalījums starp izdevumu kodiem var mainīties atbilstoši iestāžu juridiskajam statusam.
A20: EKK 2000 | B20: Preces un pakalpojumi
A21: EKK 3000 | B21: Subsīdijas un dotācijas
A22: EKK 6000 | B22: Sociāla rakstura maksājumi un kompensācijas
A23: EKK 5000 | B23: Pamatkapitāla veidošana
A24: EKK 7000 | B24: Transferti, starptautiskā sadarbība | C24: Aprēķins lapā "Papildu aprēķins" | D24: {='PAPILDU APRĒĶINS'!D5:D6} -> 12107878
D25: 0
A26: 6.3. Nepilngadīgo Ukrainas civiliedzīvotāju profesionālās vidējās izglītības, tai skaitā iepriekš uzsāktās profesionālās vidējās izglītības ieguve pēc pamatizglītības apguves, kā arī pilngadīgo Ukrainas civiliedzīvotāju iepriekš uzsāktās profesionālās izglītības ieguves turpināšana, apgūstot profesionālās vidējās izglītības programmas pēc pamatizglītības ieguves valsts vai pašvaldību izglītības iestādēs
A27: (Nr., pasākums)
C28: 6.3. KOPĀ: | D28: =SUM(D29:D34) -> 36144
A29: EKK 1000 | B29: Atlīdzība | C29: Aprēķins lapā "Papildu aprēķins" | D29: ='PAPILDU APRĒĶINS'!F7 -> 25700 | E29: Izdevumu sadalījums starp izdevumu kodiem var mainīties atbilstoši iestāžu juridiskajam statusam.
A30: EKK 2000 | B30: Preces un pakalpojumi | C30: Aprēķins lapā "Papildu aprēķins" | D30: ='PAPILDU APRĒĶINS'!G7 -> 8644
A31: EKK 3000 | B31: Subsīdijas un dotācijas
A32: EKK 6000 | B32: Sociāla rakstura maksājumi un kompensācijas | C32: Aprēķins lapā "Papildu aprēķins" | D32: ='PAPILDU APRĒĶINS'!H7 -> 1800
A33: EKK 5000 | B33: Pamatkapitāla veidošana
A34: EKK 7000 | B34: Transferti, starptautiskā sadarbība
A35: 6.5 Ukrainas civiliedzīvotāju uzņemšana Latvijas augstskolā (tajā skaitā rezidentūrā) vai koledžā
C36: 6.5. KOPĀ: | D36: =SUM(D37:D42) -> 211477
A37: EKK 1000 | B37: Atlīdzība | E37: Izdevumu sadalījums starp izdevumu kodiem var mainīties atbilstoši iestāžu juridiskajam statusam.
A38: EKK 2000 | B38: Preces un pakalpojumi
A39: EKK 3000 | B39: Subsīdijas un dotācijas | C39: Aprēķins lapā "Papildu aprēķins" | D39: ='PAPILDU APRĒĶINS'!G8 -> 1477
A40: EKK 6000 | B40: Sociāla rakstura maksājumi un kompensācijas
A41: EKK 5000 | B41: Pamatkapitāla veidošana
A42: EKK 7000 | B42: Transferti, starptautiskā sadarbība | C42: Aprēķins lapā "Papildu aprēķins" | D42: ='PAPILDU APRĒĶINS'!F8 -> 210000
A44: 6.6 Atbalsta sniegšana Ukrainas civiliedzīvotājiem zinātniskās darbības turpināšanā, turpinot piešķirt Ukrainas pētniekiem Pētniecības stipendijas.
A45: (Nr., pasākums)
C46: 6.6. KOPĀ: | D46: =SUM(D47:D52) -> 324000
A47: EKK 1000 | B47: Atlīdzība | E47: Izdevumu sadalījums starp izdevumu kodiem var mainīties atbilstoši iestāžu juridiskajam statusam.
A48: EKK 2000 | B48: Preces un pakalpojumi
A49: EKK 3000 | B49: Subsīdijas un dotācijas
A50: EKK 6000 | B50: Sociāla rakstura maksājumi un kompensācijas
A51: EKK 5000 | B51: Pamatkapitāla veidošana
A52: EKK 7000 | B52: Transferti, starptautiskā sadarbība | C52: Aprēķins lapā "Papildu aprēķins" | D52: ='PAPILDU APRĒĶINS'!D9 -> 324000
A54: 6.7. Brīvpusdienu nodrošināšana (1.–4. klase).
A55: (Nr., pasākums)
C56: 6.7. KOPĀ: | D56: =SUM(D57:D62) -> 192723.3
A57: EKK 1000 | B57: Atlīdzība | E57: Izdevumu sadalījums starp izdevumu kodiem var mainīties atbilstoši iestāžu juridiskajam statusam.
A58: EKK 2000 | B58: Preces un pakalpojumi
A59: EKK 3000 | B59: Subsīdijas un dotācijas
A60: EKK 6000 | B60: Sociāla rakstura maksājumi un kompensācijas
A61: EKK 5000 | B61: Pamatkapitāla veidošana
A62: EKK 7000 | B62: Transferti, starptautiskā sadarbība | C62: Aprēķins lapā "Papildu aprēķins" | D62: ='PAPILDU APRĒĶINS'!D10 -> 192723.3
A64: 6.8. Asistenta pakalpojumu nodrošināšana izglītības iestādē
A65: (Nr., pasākums)
C66: 6.8. KOPĀ: | D66: =SUM(D67:D72) -> 109320
A67: EKK 1000 | B67: Atlīdzība | E67: Izdevumu sadalījums starp izdevumu kodiem var mainīties atbilstoši iestāžu juridiskajam statusam.
A68: EKK 2000 | B68: Preces un pakalpojumi
A69: EKK 3000 | B69: Subsīdijas un dotācijas
A70: EKK 6000 | B70: Sociāla rakstura maksājumi un kompensācijas
A71: EKK 5000 | B71: Pamatkapitāla veidošana
A72: EKK 7000 | B72: Transferti, starptautiskā sadarbība | C72: Aprēķins lapā "Papildu aprēķins" | D72: ='PAPILDU APRĒĶINS'!D11 -> 109320
A74: 6.9. Atbalsts neformālās izglītības pasākumu nodrošināšanai, tajā skaitā latviešu valodas apguvei.
A75: (Nr., pasākums)
C76: 6.9. KOPĀ: | D76: 780000
A77: EKK 1000 | B77: Atlīdzība | D77: 7800 | E77: Izdevumu sadalījums starp izdevumu kodiem var mainīties atbilstoši iestāžu juridiskajam statusam.
A78: EKK 2000 | B78: Preces un pakalpojumi
A79: EKK 3000 | B79: Subsīdijas un dotācijas
A80: EKK 6000 | B80: Sociāla rakstura maksājumi un kompensācijas
A81: EKK 5000 | B81: Pamatkapitāla veidošana
A82: EKK 7000 | B82: Transferti, starptautiskā sadarbība | C82: Aprēķins lapā "Papildu aprēķins" | D82: 772200
A84: 9.6.Dienas nometnes (3 dienas) 2500 personām (ietver izglītojošus pasākumus) un socializēšanās diennakts nometnes (5 dienas) 1500 personām (ietver kultūrorientāciju, izglītojošos pasākumus, sporta un tehnikas (piemēram, robotikas) nodarbības).
A85: (Nr., pasākums)
C86: 9.6. KOPĀ: | D86: 900000
A87: EKK 1000 | B87: Atlīdzība | D87: 7800 | E87: Izdevumu sadalījums starp izdevumu kodiem var mainīties atbilstoši iestāžu juridiskajam statusam.
A88: EKK 2000 | B88: Preces un pakalpojumi
A89: EKK 3000 | B89: Subsīdijas un dotācijas
A90: EKK 6000 | B90: Sociāla rakstura maksājumi un kompensācijas
A91: EKK 5000 | B91: Pamatkapitāla veidošana
A92: EKK 7000 | B92: Transferti, starptautiskā sadarbība | C92: Aprēķins lapā "Papildu aprēķins" | D92: 892200
A94: 9.7. Valsts valodas prasmes pārbaudes ukraiņu civiliedzīvotājiem.
A95: (Nr., pasākums)
C96: 9.7. KOPĀ: | D96: =SUM(D97:D102) -> 104000
A97: EKK 1000 | B97: Atlīdzība | E97: Izdevumu sadalījums starp izdevumu kodiem var mainīties atbilstoši iestāžu juridiskajam statusam.
A98: EKK 2000 | B98: Preces un pakalpojumi | D98: ='PAPILDU APRĒĶINS'!D14 -> 104000
A99: EKK 3000 | B99: Subsīdijas un dotācijas
A100: EKK 6000 | B100: Sociāla rakstura maksājumi un kompensācijas
A101: EKK 5000 | B101: Pamatkapitāla veidošana
A102: EKK 7000 | B102: Transferti, starptautiskā sadarbība | C102: Aprēķins lapā "Papildu aprēķins"

Sheet BUDŽETA ietvaros
E1: 2..pielikums
E2: plānam…..
A3: ……… (ministrija)
A4: ……… (iestāde)
A5: budžeta programma/ apakšprogramma ………………….
A6: budžeta ietvaros plānotais finansējums
A8: EKK | B8: Apraksts | C8: Aprēķins | D8: 2024. gadā | E8: Pamatojums
B10: PAVISAM: | D10: =SUM(D11:D15) -> 0
A11: EKK 1000 | B11: Atlīdzība
A12: EKK 2000 | B12: Preces un pakalpojumi
A13: EKK 3000 | B13: Subsīdijas un dotācijas
A14: EKK 5000 | B14: Pamatkapitāla veidošana
A15: EKK 7000 | B15: Transferti, starptautiskā sadarbība
A16: 1.1. AAAAAA
A17: (Nr., pasākums)
C18: 1.1. KOPĀ: | D18: =D19 -> 0
A19: EKK 1000 | B19: Atlīdzība
A20: EKK 1100 | B20: Atalgojums
A21: EKK 1110 | B21: Mēnešalga
A22: EKK 1114 | B22: Valsts civildienesta ierēdņu mēnešalga
A23: EKK 1140 | B23: Piemaksas prēmijas un naudas balvas
A24: EKK 1147 | B24: Piemaksa par papildu darbu
A25: EKK 1148 | B25: Prēmijas un naudas balvas
A26: EKK 2000 | B26: Preces un pakalpojumi
A27: …. | B27: …
A28: EKK 5000 | B28: Pamatkapitāla veidošana
A29: …. | B29: …
A31: Piezīme: EKK kodus pievieno atbilstoši MK 27.12.2005. noteikumiem Nr.1031. Nevajadzīgās rindas dzēš.
A32: Piezīme: Detalizētu aprēķinu var pievienot atsevišķā lapā.
A33: Piezīme: Pamatojumu norāda, ja nepieciešams (piemēram, atsauce uz normatīvo aktu vai citu būtisku, paskaidrojošu informāciju)

Sheet PAPILDU APRĒĶINS
A2: Papildu nepieciešamā finansējuma kopsavilkums
A3: Pasākuma plāna Nr. | B3: Pasākums | C3: Atbildīgā institūcija | D3: Papildus nepieciešamais finansējums, euro | E3: Aprēķins
B4: KOPĀ | D4: =SUM(D5:D14) -> 14765542 | O4: 14767289 | P4: =D4-O4 -> -1746.7
A5: 6.1. | B5: Nepilngadīgo Ukrainas civiliedzīvotāju pirmsskolas izglītības ieguves nodrošināšana pašvaldības vai privātajās izglītības iestādēs. | C5: Pašvaldības | D5: 12107878 | E5: Pirmskolas un vispārējās izglītības izmaksas pedagogu atlīdzībai: 257 euro mēnesī par izglītojamo + mācību līdzekļiem (2100 izgl.) x 50 euro visā periodā. Provizoriskais izglītojamo skaita (pieņemot, ka uz 01.09.2023 ir 3903 izglītojamie + periodā no 02.09.2023-12.2024 vēl ierodas ~2362 izglītojamie (2023.gadā 211 un 2024.gadā 2100 (pieņemot, ka no Iem prognozētā iebraucēju kopskaita (12000) ~35% (5250) ir nepilngadīgie, no tiem ~50% (2100) nonāk Latvijas izglītības iestādēs) (no tiem ~808 pirmskola, ~1554 skola) sadalījums pa mēnešiem: sept 3903 janvāris 4114 februāris 4310 marts 4506 aprīlis 4702 maijs 4898 jūnijs 5094* jūlijs 1809 augusts 1876 septembris 5680 oktobris 5875 novembris 6070 decembris 6265 Kopā: 12 107 878 euro 1) Mērķdotācija ped.algai reģistrētiem uz 1.09.2023 7 667 439 euro (atbilstoši aprēķinam pie 3.10.2023 MK rīkojuma Nr.650 ( 23-TA-2334) attiecinot uz pilnu gadu) 2) Mācību līdzekļi (reģistrētajiem uz 1.09.2023) 32.04*3292 =105 476 euro 3) papildus atbalsts jauniebraukušiem pēc 1.09.2023 līdz 31.12.2024 257 euro*12*1124.9 vid. mēnesī =3 469 243 euro un māc.līdz 50*2100= 105 000 euro, 4) Papildus atbalsta turpināšana izglītojamajiem, kuri no 2023.gada 1.janvāra līdz 2023. gada 1. septembrim ir reģistrēti Valsts izglītības informācijas sistēmā ar apakšstatusu "Ukrainas civiliedzīvotājs" , finansējumu piešķir 50% apmērā laikposmam no 2024. gada 1. janvāra līdz 2024. gada 31. augustam. 257euro*50%*8 mēn*740 izglītojamie = 760 720 euro *pirmskola un daļai skolēnu papildus mācību pasākumi priekšmetos kur zems vērtējums vai papildus latviešu valodas apguve, atbilstoši 2022.g.11.janvāra MK noteikumiem Nr.11. | F5: uz IZM budžeta progr | G5: uz IZM budžeta progr | H5: uz IZM budžeta progr | I5: Caur e-kases atskaiti (VARAM) pedagogu darba samaksai | J5: Caur e-kases atskaiti (VARAM) pedagogu darba samaksai | K5: Caur e-kases atskaiti (VARAM) mācību līdzekļu iegādei | L5: kopā | O5: 12069328 | P5: =D5-O5 -> 38550
A6: 6.2. | B6: Nepilngadīgo Ukrainas civiliedzīvotāju (kā arī pilngadīgo Ukrainas civiliedzīvotāju, kuri iepriekš uzsākuši vispārējās izglītības ieguvi) vispārējās izglītības ieguves nodrošināšana valsts, pašvaldības vai privātajās izglītības iestādēs | C6: Pašvaldības | F6: 7667439 | G6: 105475.68 | I6: 3469243 | J6: 760720 | K6: 105000 | L6: =ROUNDUP(F6+G6+I6+K6+H6+J6,0) -> 12107878 | P6: =D6-O6 -> 0
A7: 6.3. | B7: Nepilngadīgo Ukrainas civiliedzīvotāju profesionālās vidējās izglītības, tai skaitā iepriekš uzsāktās profesionālās vidējās izglītības ieguve pēc pamatizglītības apguves, kā arī pilngadīgo Ukrainas civiliedzīvotāju iepriekš uzsāktās profesionālās izglītības ieguves turpināšana, apgūstot profesionālās vidējās izglītības programmas pēc pamatizglītības ieguves valsts vai pašvaldību izglītības iestādēs | C7: Pašvaldības | D7: 36144 | E7: 1) izglītojamā izmaksas pedagogu atlīdzībai ir 257 euro mēnesī, kā arī vienreizēja maksa mācību līdzekļu iegādei 50 euro apmērā. 2) finansējums profesionālās izglītības programmas īstenošanas izmaksu nodrošināšanai - izglītības tematiskajā jomā “Mākslas” =(425,15*2,34+282,23+22,77/12)= 108,32 euro, pārējās profesionālās izglītības programmās (vidējais koeficients 2022.gadam 1,43) =(425,15*1,43+282,23+22,77/12)=76,08 euro. vidēji 81,44 euro (ja mākslu programmu īpatsvars 16,6%) 3) finansējums profesionālās izglītības ikmēneša stipendijas izmaksai 15 euro apmērā Provizoriskais izglītojamo sadalījums pa mēnešiem (2024.gadā +10 salīdzinot ar 2023.g.sept ): Janvāris 10 Februāris 10 marts 10 aprīlis 10 maijs 10 jūnijs 10 jūlijs 10 (tikai stipendijas) augusts 10 (tikai stipendijas) septembris 10 oktobris 10 novembris 10 decembris 10 Kopā:=(257+15+81,44)*(10*12)+10*50-((257+81,44)*(10+10)) = 36 144 euro | F7: 25700 | G7: 8644 | H7: 1800 | L7: =F7+G7+H7++I7+K7 -> 36144 | O7: 36144 | P7: =D7-O7 -> 0
A8: 6.5 | B8: Ukrainas civiliedzīvotāju uzņemšana Latvijas augstskolā (tajā skaitā rezidentūrā) vai koledžā | C8: Izglītības un zinātnes ministrija | D8: =L8 -> 211477 | E8: Ukrainas civiliedzīvotāju Studiju stipendija (150 studenti*140 euro*10 mēn.= 210 000 euro)+ Iepriekšējās izglītības atzīšana bez dokumentāriem pierādījumiem (9 studenti*72,62 euro= 654 euro)+ Ārvalstīs iegūta akadēmiskā grāda vai izglītības dokumenta ekspertīze (17 studenti* 48,38 euro = 823 euro)= Kopā 211 477 euro | F8: =150*140*10 -> 210000 | G8: =ROUNDUP(9*72.62+17*48.38,0) -> 1477 | L8: =F8+G8+H8++I8+K8 -> 211477 | O8: 211477 | P8: =D8-O8 -> 0
A9: 6.6. | B9: Atbalsta sniegšana Ukrainas civiliedzīvotājiem zinātniskās darbības turpināšanā, turpinot piešķirt Ukrainas pētniekiem Pētniecības stipendijas. | C9: Izglītības un zinātnes ministrija | D9: =L9 -> 324000 | E9: Papildus: pētniecības stipendijas akadēmiskajam un zinātniskajam personālam; 30 personas * stipendija 900 euro * 12 mēneši = 324 000 euro | F9: =30*900*12 -> 324000 | L9: =F9+G9+H9++I9+K9 -> 324000 | O9: 324000 | P9: =D9-O9 -> 0
A10: 6.7. | B10: Brīvpusdienu nodrošināšana (1.–4. klase). | C10: Pašvaldības, Izglītības un zinātnes ministrija | D10: 192723.3 | E10: 330 patvēruma meklētāju skaits (pieaugums no 02.09.2023) x 9 mēneši(janv-maijs; sept-dec) x 64,89 euro (Brīvpusdienas 1.-4.klase (VB+PB) ((1,545+1,545) euro dienā*21 dienas= 64,89 euro mēnesī) | F10: =ROUND(330*64.89*9,0) -> 192723 | L10: =F10+G10+H10++I10+K10 -> 192723 | O10: 233020 | P10: =D10-O10 -> -40296.7
A11: 6.8. | B11: Asistenta pakalpojumu nodrošināšana izglītības iestādē | C11: Pašvaldības, Izglītības un zinātnes ministrija | D11: =L11 -> 109320 | E11: Asistenti izglītības iestāde (5.42 euro stundā*8 h*21 diena= 911 euro mēnesī)= 10 patvēruma meklētāju skaits x 12 mēneši x 911euro | F11: 109320 | L11: =F11+G11+H11++I11+K11 -> 109320 | M11: summa nemainas | O11: 109320 | P11: =D11-O11 -> 0
A12: 6.9. | B12: Atbalsts neformālās izglītības pasākumu nodrošināšanai, tajā skaitā latviešu valodas apguvei. | C12: Izglītības un zinātnes ministrija, Valsts izglītības satura centrs, Ukrainas kopienas NVO | D12: 780000 | E12: Neformālās izglītības programmas īstenošanas laikā tiek atbalstītas 10 aktivitātes vienam bērnam. Vienas aktivitātes ilgums vismaz 6 stundas, vienas stundas izmaksa 5 EUR jeb 30 EUR par vienu aktivitāti, tādējādi vienam bērnam var nodrošināt atbalstu 300 EUR apmērā kopumā par 60 stundām. Vienam bērnam paredzētajā atbalstā (300 EUR ) apmērā ir iekļautas arī izmaksas Valsts izglītības satura centra atbalsta programmas administrēšanai 1% apmērā un izmaksas pašvaldībām pasākumu administrēšanai 4%. Ukrainas bērnu skaitu (5-18 gadi)- ~7800 (3781 VIIS reģistrēti un ~4000 nav reģistrēti Latvijas izglītības iestādēs). Ja pieņemama, ka atbalstu varētu saņemt trešdaļa no viņiem, t.i., 2600 un katram bērnam atbalsts tādā apmērā kā 2023. gadā, tad kopējā summa 2024.gadam, kas būtu nepieciešama: 2600 x 300 EUR = 780 000 EUR. Atbalsta programmas administrēšanai (līgumu slēgšana ar pašvaldībām, konsultēšana par programmas īstenošanu, informatīvu semināru organizēšana, programmas īstenošanas starpposma izvērtēšana, gala atskaišu apkopošana, programmas rezultātu izvērtēšana) Valsts izglītības satura centram tiek paredzēts 1% no kopējās programmas summas 780 000 x 1% = 7 800 EUR, kas paredzēti atlīdzībai grāmatveža pienākumu apmaksai un programmas koordinatoru un administratora pienākumu apmaksai. (3 darbinieki ar vidējo atlīdzību 1315 EUR x 20% piemaksa = 789 x 8 mēneši = 6 312 EUR; 6312 EUR x DDVSAOI = 7 801 EUR) Attiecīgi pašvaldībām pārskaitāmais finansējums 780 000 – 7800 = 772 200 EUR Pašvaldībām neformālās izglītības pasākumu administrēšanai 4 % (772 200 x 4% = jeb ap 30 888 EUR) no programmā apgūtā finansējuma paredzēta, lai segtu papildu administratīvās un organizatoriskās izmaksas pašvaldībā. | F12: =3900*300-11700 -> 1158300 | G12: =ROUND(1315*1.2359*0.2*3,0)*12 -> 11700 | L12: =F12+G12+H12+I12+K12 -> 1170000 | O12: 780000 | P12: =D12-O12 -> 0
A13: 9.6. | B13: Dienas nometnes (3 dienas) 2500 personām (ietver izglītojošus pasākumus) un socializēšanās diennakts nometnes (5 dienas) 1500 personām (ietver kultūrorientāciju, izglītojošos pasākumus, sporta un tehnikas (piemēram, robotikas) nodarbības). | C13: Izglītības un zinātnes ministrija, Valsts izglītības satura centrs, Ukrainas kopienas NVO | D13: 900000 | E13: Finansējums tiek plānots dienas nometnēm (3 dienas) 2500 personām (ietver izglītojošus pasākumus) un socializēšanās diennakts nometnēm (5 dienas) 1500 personām (ietver kultūrorientāciju, izglītojošos pasākumus, sporta un tehnikas (piemēram, robotikas) nodarbības) organizēšanai. Atbalsta apmērs par vienu bērnu dienā plānots 50 euro apmērā (dienas nometne) vai 70 euro apmērā (diennakts nometne).Atbalsta programmas administrēšanai (līgumu slēgšana ar pašvaldībām, konsultēšana par programmas īstenošanu, informatīvu semināru organizēšana, programmas īstenošanas starpposma izvērtēšana, gala atskaišu apkopošana, programmas rezultātu izvērtēšana) Valsts izglītības satura centram tiek paredzēts 1% no kopējās programmas summas 900 000 x 1% = max.9000 euro, kas paredzēti atlīdzībai grāmatveža pienākumu apmaksai un programmas koordinatoru un administratora pienākumu apmaksai. Aprēķins: - 50 euro x 3 dienas x 2500 skolēnu = 375 000 euro - 70 euro x 5 dienas x 1500 skolēnu = 525 000 euro Kopā: 900 000 euro , tai skaitā: 3 darbinieki * ar vidējo atlīdzību 1315.00 EUR * 20% piemaksa * (3 darbinieki ar vidējo atlīdzību 1315 EUR x 20% piemaksa = 789 x 8 mēneši = 6312 euro; 6312 euro x DDVSAOI = 7801 euro); Pašvaldībam pārskaitāmais finansējums 900 000 - 7800 = 892 200 euro. Pašvaldībām paredzamās izmaksas programmas administrēšanai līdz 4% jeb (892 200 x 4% = jeb ap 35 688 euro) atbilstoši faktiskajām izmaksām. | F13: =50*3*5000+70*5*3000-22905 -> 1777095 | G13: =ROUND(4*1287*0.3*1.2359*12,0) -> 22905 | L13: =F13+G13+H13+I13+K13 -> 1800000 | O13: 900000 | P13: =D13-O13 -> 0
A14: 9.7. | B14: Valsts valodas prasmes pārbaudes ukraiņu civiliedzīvotājiem. | C14: Izglītības un zinātnes ministrija, Valsts izglītības satura centrs | D14: =L14 -> 104000 | E14: Lai nodrošinātu Ukrainas civiliedzīvotāju paātrinātu pieeju valsts valodas prasmes pārbaudes ietvaros, Valsts izglītības satura centrs nodrošinās atsevišķas papildu valsts valodas prasmes pārbaudes norises Ukrainas civiliedzīvotājiem, kas tādējādi ļaus prioritāri Ukrainas civiliedzīvotājam nokārtot valsts valodas prasmes pārbaudi ātrākā laika periodā nekā tai reģistrējoties regulārajā procesā. Tas, savukārt, veicinās Ukrainas civiliedzīvotāju integrāciju darba tirgū, kas ir prioritārais mērķis šai mērķa grupai valsts valodas prasmes apliecināšanā, un samazinās sociālo atkarību no valsts un pašvaldību sociālās palīdzības. Vienas valsts valodas prasmes pārbaudes izmaksas ir 52 euro (viens eksaminācijas notikums). Plānotais pretendentu skaits, ņemot vērā, ka laika periodā no 2023. gada februāra līdz 2023. gada augustam ir nodrošinātas papildu valsts valodas prasmes pārbaudes jau 592 Ukrainas civiliedzīvotājiem, tiek plānots, ka vidēji tie varētu būt 1000 pretendentu. Attiecīgi 2024.gadā pretendenti varētu kārtot valsts valodas pārbaudi uz augstāku līmeni. Plānotais pretendentu skaits 2024. gadā - 2000. Aprēķins: pretendentu skaits * pārbaudes procesa izmaksas EUR (52.00 * 2000 = 104 000 euro). | F14: =2000*52 -> 104000 | L14: =F14+G14+H14+I14+K14 -> 104000 | O14: 104000 | P14: =D14-O14 -> 0
