Workbook

Sheet marts
A1: Pārskats par sabiedriskā transporta pakalpojumos radītajiem izdevumiem un zaudējumiem sakarā ar noteiktajiem ierobežojumiem Liepājas pilsētas maršrutos
A2: Periods | C2: Vienības | D2: Autobusi | E2: Minibusi (ekspresbusi) | F2: Tramvaji | G2: Trolejbusi
A3: 1.SADAĻA | B3: KOPSUMMA ((N - P) x Izm) | D3: =(D10-D9)*D13 -> -553.35571 | E3: =(E10-E9)*E13 -> -685.55852 | F3: =(F10-F9)*F13 -> 0 | G3: =(G10-G9)*G13 -> 0 | H3: =SUM(D3:G3) -> -1238.9142
A4: 09.03.2021.- 31.03.2021. | B4: Iesaistīto transportlīdzekļu vienības | C4: skaits | D4: 43 | E4: 13 | F4: 20
B5: (S) Plānotais reisu skaits | D5: 10201 | E5: 6814 | F5: 6084
B6: (R) Faktiskais reisu skaits (S + RP-RA) | D6: =D5+D7-D8 -> 10165 | E6: =E5+E7-E8 -> 6706 | F6: =F5+F7-F8 -> 6084 | G6: =G5+G7-G8 -> 0
B7: to starpā papildu reisi (RP) | D7: 0 | E7: 0 | F7: 0
B8: to starpā atceltie reisi (RA) | D8: 36 | E8: 108 | F8: 0
B9: (P) Plānotais nobraukums | C9: km | D9: 146665.04 | E9: 65745.29 | F9: 45021.6
B10: (N) Faktiskais nobraukums (P + NP-NA) | D10: =D9+D11-D12 -> 146317.28 | E10: =E9+E11-E12 -> 64902.77 | F10: =F9+F11-F12 -> 45021.6 | G10: =G9+G11-G12 -> 0 | I10: =atskaites_jedox!BA9 -> 284587 | J10: =atskaites_jedox!BB9 -> 60680
B11: to starpā papildu reisos veiktais nobraukums (NP) | D11: 0 | E11: 0 | F11: 0
B12: to starpā atcelto reisu nobraukums (NA) | D12: 347.76 | E12: 842.52 | F12: 0
A13: 01.03.2021.-31.03.2021. | B13: (Izm) 1 km pašizmaksa | C13: EUR/km | D13: 1.5912 | E13: 0.8137 | F13: 2.8063 | I13: =atskaites_jedox!BC9 -> 1.36 | J13: =atskaites_jedox!BD9 -> 2.81
A14: 2.SADAĻA | B14: KOPSUMMA (1 vienības cenas reizinājums ar preču/pakalpojumu skaitu; summa ( K x Z)) | D14: =SUM(D18*D25) -> 4.74 | E14: =SUM(E18*E25) -> 2.1 | F14: =SUM(F16*F23,F17*F24,F19*F26,F27*F20,F21*F28) -> 123.78 | G14: =SUM(#REF!*#REF!,G18*G25,#REF!*#REF!,#REF!*#REF!,#REF!*#REF!,#REF!*#REF!) -> #REF! | H14: =SUM(D14:G14) -> #REF!
A15: 09.03.2021.- 31.03.2021. | B15: (Z) Pakalpojumi, pasākumi un materiāli Covid-19 pandēmijas ierobežošanai
B16: Roku dezinfekcijas līdzekļi | C16: litri | F16: 5
B17: Virsmu dezinfekcijas līdzekļi | C17: litri | F17: 15
B18: Sejas maskas | C18: gabali | D18: 79 | E18: 35
B19: Papīra dvieļi | C19: ruļļi | F19: 260
B20: Pudeles izsmidzināšanai 650 ml | C20: gabali | F20: 5
B21: Pudeles izsmidzināšanai 750 ml | C21: gabali | F21: 1
B22: (K) Faktiskās izmaksas Covid-19 pandēmijas ierobežošanai, t.sk. | C22: EUR/vien bez PVN
B23: Roku dezinfekcijas līdzekļi, litri | F23: 2.62
B24: Virsmu dezinfekcijas līdzekļi , litri | F24: 2.86
B25: Sejas maskas | D25: 0.06 | E25: 0.06
B26: Papīra dvieļi, ruļļi | F26: 0.23
B27: Pudeles izsmidzināšanai 650 ml, gab. | F27: 1.32
B28: Pudeles izsmidzināšanai 750 ml, gab. | F28: 1.38
A29: 3.SADAĻA | B29: KOPSUMMA ((C/D-A/N) x N) | D29: =((D32/D33)-(D30/D31))*D31 -> 39844.114 | E29: =((E32/E33)-(E30/E31))*E31 -> 15998.646 | F29: =((F32/F33)-(F30/F31))*F31 -> 13650.345 | G29: =((G32/G33)-(G30/G31))*G31 -> #DIV/0! | H29: =SUM(D29:F29) -> 69493.105
A30: 09.03.2021.-31.03.2021. | B30: (A) No pasažieriem, t.sk., personām, kurām noteikti pašvaldības noteiktie braukšanas maksas atvieglojumi, saņemtie ieņēmumi par sniegto sabiedriskā transporta pakalpojumu | C30: EUR bez PVN | D30: 74913.11 | E30: 30374.29 | F30: 24986.48 | H30: =SUM(D30:G30) -> 130273.88 | I30: =atskaites_jedox!AY9 -> 153004.31 | J30: =atskaites_jedox!AZ9 -> 32612.95
B31: (N) Faktiskais nobraukums | C31: km | D31: =D10 -> 146317.28 | E31: =E10 -> 64902.77 | F31: =F10 -> 45021.6 | I31: =atskaites_jedox!BA9 -> 284587 | J31: =atskaites_jedox!BB9 -> 60680 | K31: =D31=D10 -> TRUE | L31: =E31=E10 -> TRUE | M31: =F31=F10 -> TRUE
A32: 09.03.2019.-31.03.2019. | B32: (C) No pasažieriem, t.sk., personām, kurām noteikti pašvaldības noteiktie braukšanas maksas atvieglojumi, saņemtie ieņēmumi par sniegto sabiedriskā transporta pakalpojumu | C32: EUR bez PVN | D32: 139567.43 | E32: 46243.24 | F32: 37906.51 | H32: =SUM(D32:G32) -> 223717.18 | I32: =atskaites_jedox!C9 -> 255532.3 | J32: =atskaites_jedox!D9 -> 46515.34
B33: (D) Faktiskais nobraukums | C33: km | D33: 177950.69 | E33: 64721.25 | F33: 44170.6 | I33: =atskaites_jedox!E9 -> 328818.45 | J33: =atskaites_jedox!F9 -> 59858.6
B36: Pašvaldības atbildīgās personas vārds, uzvārds, kontaktinformācija un paraksts (Maija, Līne-Buce, 63425854)
A39: Informāciju aizpilda katra pašvaldība par pārvadājumu veidiem, kādi ir noteikti attiecīgā pilsētā
A40: Tabulā iekļauj norādītajā laika periodā radušās pamatotās izmaksas, kas attiecināmas uz sabiedriskā transporta pakalpojuma izpildē noteiktajiem drošības pasākumiem Covid-19 infekcijas izplatības ierobežošanai.
A41: Pašvaldībai ir pienākums pārliecināties par izmaksu pamatotību, to apjomu vai attiecināto apmēru.
A42: 1.SADAĻĀ tiek aprēķināti faktiskie izdevumi, kas radušies saistībā ar atcelto reisu vai/un papildu reisu nodrošināšanu sakarā ar pakalpojuma apjoma ierobežošanu un 50% pasažieru piepildījuma noteikšanu
A43: 2.SADAĻĀ nosakāmi kopējie izdevumi par Covid-19 infekcijas ierobežošanas pasākumiem, kas izpildāmi atbilstoši MK 09.06.2020. noteikumiem Nr.360; MK 06.11.2020. rīkojumam Nr.655
A44: 3.SADAĻĀ nosakāma kopējā ietekme uz ieņēmumu apgrozījumu, ko radījusi Covid-19 infekcijas apkarošanā radītā iedzīvotāju mobilitātes ierobežošana, pakalpojuma apjoma ierobežošana, kā arī citi ārkārtējās situācijas laikā un pēc tās noteiktie ierobežojumi atsevišķām nozarēm
...

Sheet aprīlis
A1: Pārskats par sabiedriskā transporta pakalpojumos radītajiem izdevumiem un zaudējumiem sakarā ar noteiktajiem ierobežojumiem Liepājas pilsētas maršrutos
A2: Periods | C2: Vienības | D2: Autobusi | E2: Minibusi (ekspresbusi) | F2: Tramvaji | G2: Trolejbusi | I2: Autobusi + minibusi
A3: 1.SADAĻA | B3: KOPSUMMA ((N - P) x Izm) | D3: =(D10-D9)*D13 -> -650.86078 | E3: =(E10-E9)*E13 -> -1165.7668 | F3: =(F10-F9)*F13 -> 0 | G3: =(G10-G9)*G13 -> 0
A4: 01.04.2021.- 30.04.2021. | B4: Iesaistīto transportlīdzekļu vienības | C4: skaits | D4: 43 | E4: 13 | F4: 21
B5: (S) Plānotais reisu skaits | D5: 13150 | E5: 8840 | F5: 7840
B6: (R) Faktiskais reisu skaits (S + RP-RA) | D6: =D5+D7-D8 -> 13096 | E6: =E5+E7-E8 -> 8660 | F6: =F5+F7-F8 -> 7840 | G6: =G5+G7-G8 -> 0
B7: to starpā papildu reisi (RP) | D7: 6
B8: to starpā atceltie reisi (RA) | D8: 60 | E8: 180
B9: (P) Plānotais nobraukums | C9: km | D9: 189950.32 | E9: 85294.3 | F9: 55825.84
B10: (N) Faktiskais nobraukums (P + NP-NA) | D10: =D9+D11-D12 -> 189546.46 | E10: =E9+E11-E12 -> 83890.1 | F10: =F9+F11-F12 -> 55825.84 | G10: =G9+G11-G12 -> 0 | I10: =D10+E10 -> 273436.56 | J10: =atskaites_jedox!BG9 -> 273129.09 | K10: =atskaites_jedox!BH9 -> 55576.4
B11: to starpā papildu reisos veiktais nobraukums (NP) | D11: 175.74 | E11: 0 | F11: 0
B12: to starpā atcelto reisu nobraukums (NA) | D12: 579.6 | E12: 1404.2 | F12: 0
A13: 01.04.2021.-30.04.2021. | B13: (Izm) 1 km pašizmaksa | C13: EUR/km | D13: 1.6116 | E13: 0.8302 | F13: 3.0742 | J13: =atskaites_jedox!BI9 -> 1.37 | K13: =atskaites_jedox!BJ9 -> 3.07
A14: 2.SADAĻA | B14: KOPSUMMA (1 vienības cenas reizinājums ar preču/pakalpojumu skaitu; summa ( K x Z)) | D14: =SUM(D18*D27,D19*D28) -> 10.65574 | E14: =SUM(E18*E27,E19*E28) -> 7.21985 | F14: =SUM(F16*F25,F17*F26,F19*F28,F20*F29,F23*F32,F21*F30) -> 133.11 | G14: =SUM(#REF!*#REF!,G19*G28,G22*#REF!,#REF!*#REF!,#REF!*#REF!,#REF!*#REF!) -> #REF!
A15: 01.04.2021.- 30.04.2021. | B15: (Z) Pakalpojumi, pasākumi un materiāli Covid-19 pandēmijas ierobežošanai
B16: Roku dezinfekcijas līdzekļi | C16: litri | F16: 6
B17: Virsmu dezinfekcijas līdzekļi | C17: litri | F17: 5
B18: Roku un virsmu dezinfekcijas līdzeklis (4 litri) | C18: gabali | D18: 1.2644 | E18: 1.1155
B19: Sejas maskas | C19: gabali | D19: 79 | E19: 35 | F19: 50
B20: Cimdi lateksa | C20: pāris | F20: 27
B21: Papīra dvieļi | C21: ruļļi | F21: 233
B22: Sociālā distancēšanās sabiedriskā transportā
B23: Līmlente brīdinājuma | C23: gabali | F23: 4
B24: (K) Faktiskās izmaksas Covid-19 pandēmijas ierobežošanai, t.sk. | C24: EUR/vien bez PVN
B25: Roku dezinfekcijas līdzekļi, litri | F25: 2.47
B26: Virsmu dezinfekcijas līdzekļi , litri | F26: 2.86
B27: Roku un virsmu dezinfekcijas līdzeklis (4 litri) | D27: 4.5 | E27: 4.5
B28: Sejas maskas | D28: 0.06286 | E28: 0.06286 | F28: 0.36
B29: Cimdi lateksa | F29: 0.68
B30: Papīra dvieļi, ruļļi | F30: 0.23
B31: Sociālā distancēšanās sabiedriskā transportā
B32: Līmlente brīdinājuma | F32: 3.51
A33: 3.SADAĻA | B33: KOPSUMMA ((C/D-A/N) x N) | D33: =((D36/D37)-(D34/D35))*D35 -> 45980.562 | E33: =((E36/E37)-(E34/E35))*E35 -> 18645.099 | F33: =((F36/F37)-(F34/F35))*F35 -> 14026.174 | G33: =((G36/G37)-(G34/G35))*G35 -> #DIV/0! | H33: =SUM(D33:F33) -> 78651.834
A34: 01.04.2021.-30.04.2021. | B34: (A) No pasažieriem, t.sk., personām, kurām noteikti pašvaldības noteiktie braukšanas maksas atvieglojumi, saņemtie ieņēmumi par sniegto sabiedriskā transporta pakalpojumu | C34: EUR bez PVN | D34: 106290.02 | E34: 42792.34 | F34: 34312.14 | H34: =SUM(D34:G34) -> 183394.5 | I34: =D34+E34 -> 149082.36 | J34: =atskaites_jedox!BE9 -> 150512.01 | K34: =atskaites_jedox!BF9 -> 30631.34
B35: (N) Faktiskais nobraukums | C35: km | D35: =D10 -> 189546.46 | E35: =E10 -> 83890.1 | F35: =F10 -> 55825.84 | H35: =SUM(D35:G35) -> 329262.4 | I35: =D35+E35 -> 273436.56 | J35: =atskaites_jedox!BG9 -> 273129.09 | K35: =atskaites_jedox!BH9 -> 55576.4
A36: 01.04.2019.-30.04.2019. | B36: (C) No pasažieriem, t.sk., personām, kurām noteikti pašvaldības noteiktie braukšanas maksas atvieglojumi, saņemtie ieņēmumi par sniegto sabiedriskā transporta pakalpojumu | C36: EUR bez PVN | D36: 191644.13 | E36: 61663.18 | F36: 50074.54 | H36: =SUM(D36:G36) -> 303381.85 | I36: =D36+E36 -> 253307.31 | J36: =atskaites_jedox!I9 -> 266391.35 | K36: =atskaites_jedox!J9 -> 47823.5
B37: (D) Faktiskais nobraukums | C37: km | D37: 238558.66 | E37: 84198.34 | F37: 57831.004 | H37: =SUM(D37:G37) -> 380588.01 | I37: =D37+E37 -> 322757 | J37: =atskaites_jedox!K9 -> 322082.32 | K37: =atskaites_jedox!L9 -> 57831
B40: Pašvaldības atbildīgās personas vārds, uzvārds, kontaktinformācija un paraksts (Maija, Līne-Buce, 63425854)
A43: Informāciju aizpilda katra pašvaldība par pārvadājumu veidiem, kādi ir noteikti attiecīgā pilsētā
A44: Tabulā iekļauj norādītajā laika periodā radušās pamatotās izmaksas, kas attiecināmas uz sabiedriskā transporta pakalpojuma izpildē noteiktajiem drošības pasākumiem Covid-19 infekcijas izplatības ierobežošanai.
...

Sheet maijs
A1: Pārskats par sabiedriskā transporta pakalpojumos radītajiem izdevumiem un zaudējumiem sakarā ar noteiktajiem ierobežojumiem Liepājas pilsētas maršrutos
A2: Periods | C2: Vienības | D2: Autobusi | E2: Minibusi (ekspresbusi) | F2: Tramvaji | G2: Trolejbusi | I2: Autobusi + minibusi
A3: 1.SADAĻA | B3: KOPSUMMA ((N - P) x Izm) | D3: =(D10-D9)*D13 -> -943.53084 | E3: =(E10-E9)*E13 -> -1180.2301 | F3: =(F10-F9)*F13 -> 0 | G3: =(G10-G9)*G13 -> 0
A4: 01.05.2021.- 31.05.2021. | B4: Iesaistīto transportlīdzekļu vienības | C4: skaits | D4: 43 | E4: 13 | F4: 21
B5: (S) Plānotais reisu skaits | D5: 13585 | E5: 9102 | F5: 8072
B6: (R) Faktiskais reisu skaits (S + RP-RA) | D6: =D5+D7-D8 -> 13525 | E6: =E5+E7-E8 -> 8922 | F6: =F5+F7-F8 -> 8072 | G6: =G5+G7-G8 -> 0
B7: to starpā papildu reisi (RP) | D7: 0 | E7: 0 | F7: 0
B8: to starpā atceltie reisi (RA) | D8: 60 | E8: 180 | F8: 0
B9: (P) Plānotais nobraukums | C9: km | D9: 197049.46 | E9: 87623.54 | F9: 57478.28
B10: (N) Faktiskais nobraukums (P + NP-NA) | D10: =D9+D11-D12 -> 196469.86 | E10: =E9+E11-E12 -> 86219.34 | F10: =F9+F11-F12 -> 57478.28 | G10: =G9+G11-G12 -> 0 | I10: =D10+E10 -> 282689.2 | J10: =atskaites_jedox!BM9 -> 281966.54 | K10: =atskaites_jedox!BN9 -> 57436.84
B11: to starpā papildu reisos veiktais nobraukums (NP) | D11: 0 | E11: 0 | F11: 0
B12: to starpā atcelto reisu nobraukums (NA) | D12: 579.6 | E12: 1404.2 | F12: 0
A13: 01.05.2021.- 31.05.2021. | B13: (Izm) 1 km pašizmaksa | C13: EUR/km | D13: 1.6279 | E13: 0.8405 | F13: 3.0814 | J13: =atskaites_jedox!BO9 -> 1.39 | K13: =atskaites_jedox!BP9 -> 3.08
A14: 2.SADAĻA | B14: KOPSUMMA (1 vienības cenas reizinājums ar preču/pakalpojumu skaitu; summa ( K x Z)) | D14: =SUM(#REF!*#REF!,D20*D30) -> #REF! | E14: =SUM(#REF!*#REF!,E20*E30) -> #REF! | F14: =SUM(F16*F26,F17*F27,F18*F28,F19*F29,F20*F30,F21*F31,F22*F32,F23*F33,F24*F34) -> 95.3587 | G14: =SUM(#REF!*#REF!,G20*G30,#REF!*#REF!,#REF!*#REF!,#REF!*#REF!,#REF!*#REF!) -> #REF!
A15: 01.05.2021.- 31.05.2021. | B15: (Z) Pakalpojumi, pasākumi un materiāli Covid-19 pandēmijas ierobežošanai
B16: Roku dezinfekcijas līdzekļi | C16: litri | D16: - | E16: - | F16: 9
B17: Virsmu dezinfekcijas līdzekļi | C17: litri | D17: - | E17: - | F17: 5
B18: Dezinfekcijas līdzekļi | C18: litri | D18: - | E18: - | F18: 5
B19: Dezinfekcijas līdzekļi | C19: litri | D19: - | E19: - | F19: 2
B20: Sejas maskas | C20: gabali | D20: - | E20: - | F20: 10
B21: Cimdi gumijas | C21: pāris | D21: - | E21: - | F21: 1
B22: Cimdi lateksa | C22: gabali | D22: - | E22: - | F22: 46
B23: Papīra dvieļi | C23: ruļļi | D23: - | E23: - | F23: 37
B24: Papīra dvieļi | C24: ruļļi | D24: - | E24: - | F24: 33
B25: (K) Faktiskās izmaksas Covid-19 pandēmijas ierobežošanai, t.sk. | C25: EUR/vien bez PVN | D25: - | E25: -
B26: Roku dezinfekcijas līdzekļi, litri | D26: - | E26: - | F26: 2.47
B27: Virsmu dezinfekcijas līdzekļi , litri | D27: - | E27: - | F27: 2.862
B28: Dezinfekcijas līdzekļi , litri | D28: - | E28: - | F28: 2.514
B29: Dezinfekcijas līdzekļi , litri | D29: - | E29: - | F29: 5.31
B30: Sejas maskas, gabali | D30: - | E30: - | F30: 0.357
B31: Cimdi gumijas, pāris | D31: - | E31: - | F31: 0.56
B32: Cimdi lateksa, gabali | D32: - | E32: - | F32: 0.34
B33: Papīra dvieļi, ruļļi | D33: - | E33: - | F33: 0.22
B34: Papīra dvieļi, ruļļi | D34: - | E34: - | F34: 0.2339
A35: 3.SADAĻA | B35: KOPSUMMA ((C/D-A/N) x N) | D35: =((D38/D39)-(D36/D37))*D37 -> 37892.128 | E35: =((E38/E39)-(E36/E37))*E37 -> 15730.163 | F35: =((F38/F39)-(F36/F37))*F37 -> 10102.968 | G35: =((G38/G39)-(G36/G37))*G37 -> #DIV/0! | H35: =SUM(D35:F35) -> 63725.259
A36: 01.05.2021.-31.05.2021. | B36: (A) No pasažieriem, t.sk., personām, kurām noteikti pašvaldības noteiktie braukšanas maksas atvieglojumi, saņemtie ieņēmumi par sniegto sabiedriskā transporta pakalpojumu | C36: EUR bez PVN | D36: 114554.52 | E36: 45150.818 | F36: 37767.14 | H36: =SUM(D36:G36) -> 197472.48 | I36: =D36+E36 -> 159705.34 | J36: =atskaites_jedox!BK9 -> 156052.5 | K36: =atskaites_jedox!BL9 -> 31788.03
B37: (N) Faktiskais nobraukums | C37: km | D37: =D10 -> 196469.86 | E37: =E10 -> 86219.34 | F37: =F10 -> 57478.28 | H37: =SUM(D37:G37) -> 340167.48 | I37: =D37+E37 -> 282689.2 | J37: =atskaites_jedox!BM9 -> 281966.54 | K37: =atskaites_jedox!BN9 -> 57436.84
A38: 01.05.2019.-31.05.2019. | B38: (C) No pasažieriem, t.sk., personām, kurām noteikti pašvaldības noteiktie braukšanas maksas atvieglojumi, saņemtie ieņēmumi par sniegto sabiedriskā transporta pakalpojumu | C38: EUR bez PVN | D38: 193164.92 | E38: 61139.621 | F38: 49957.305 | H38: =SUM(D38:G38) -> 304261.85 | I38: =D38+E38 -> 254304.55 | J38: =atskaites_jedox!O9 -> 239647.78 | K38: =atskaites_jedox!P9 -> 42955.73
B39: (D) Faktiskais nobraukums | C39: km | D39: 248946.67 | E39: 86585.625 | F39: 59984.404 | H39: =SUM(D39:G39) -> 395516.7 | I39: =D39+E39 -> 335532.29 | J39: =atskaites_jedox!Q9 -> 334653.18 | K39: =atskaites_jedox!R9 -> 59984.4
B42: Pašvaldības atbildīgās personas vārds, uzvārds, kontaktinformācija un paraksts (Maija Līne-Buce, 63425854)
...

Sheet jūnijs
A1: Pārskats par sabiedriskā transporta pakalpojumos radītajiem izdevumiem un zaudējumiem sakarā ar noteiktajiem ierobežojumiem Liepājas pilsētas maršrutos
A2: Periods | C2: Vienības | D2: Autobusi | E2: Minibusi (ekspresbusi) | F2: Tramvaji | G2: Trolejbusi
A3: 1.SADAĻA | B3: KOPSUMMA ((N - P) x Izm) | D3: =(D10-D9)*D13 -> 0 | E3: =(E10-E9)*E13 -> 0 | F3: =(F10-F9)*F13 -> 0 | G3: =(G10-G9)*G13 -> 0
A4: 01.06.2021.- 30.06.2021. | B4: Iesaistīto transportlīdzekļu vienības | C4: skaits | D4: 43 | E4: 13 | F4: 20
B5: (S) Plānotais reisu skaits | D5: 12790 | E5: 8660 | F5: 7840
B6: (R) Faktiskais reisu skaits (S + RP-RA) | D6: =D5+D7-D8 -> 12790 | E6: =E5+E7-E8 -> 8660 | F6: =F5+F7-F8 -> 7840 | G6: =G5+G7-G8 -> 0
B7: to starpā papildu reisi (RP) | D7: 0 | E7: 0 | F7: 0
B8: to starpā atceltie reisi (RA) | D8: 0 | E8: 0 | F8: 0
B9: (P) Plānotais nobraukums | C9: km | D9: 185411.8 | E9: 84612.8 | F9: 55825.82
B10: (N) Faktiskais nobraukums (P + NP-NA) | D10: =D9+D11-D12 -> 185411.8 | E10: =E9+E11-E12 -> 84612.8 | F10: =F9+F11-F12 -> 55825.82 | G10: =G9+G11-G12 -> 0 | H10: =atskaites_jedox!BS9 -> 269270.81 | I10: =atskaites_jedox!BT9 -> 55667.9
B11: to starpā papildu reisos veiktais nobraukums (NP) | D11: 0 | E11: 0 | F11: 0
B12: to starpā atcelto reisu nobraukums (NA) | D12: 0 | E12: 0 | F12: 0
A13: 01.06.2021.- 30.06.2021. | B13: (Izm) 1 km pašizmaksa | C13: EUR/km | D13: 1.6343 | E13: 0.842 | F13: 3.0809 | H13: =atskaites_jedox!BU9 -> 1.3865 | I13: =atskaites_jedox!BV9 -> 3.08
A14: 2.SADAĻA | B14: KOPSUMMA (1 vienības cenas reizinājums ar preču/pakalpojumu skaitu; summa ( K x Z)) | D14: =SUM(D24*D36,D25*D37,D26*D38) -> 8.8862 | E14: =SUM(E24*E36,E25*E37,E26*E38) -> 4.049816 | F14: =SUM(F16*F28,F17*F29,F18*F30,F19*F31,F20*F32,F21*F33,F22*F34,F23*F35) -> 96.6 | G14: =SUM(#REF!*#REF!,G23*G32,#REF!*#REF!,#REF!*#REF!,#REF!*#REF!,#REF!*#REF!) -> #REF!
A15: 01.06.2021.- 30.06.2021. | B15: (Z) Pakalpojumi, pasākumi un materiāli Covid-19 pandēmijas ierobežošanai
B16: Roku dezinfekcijas līdzekļi | C16: litri | F16: 5
B17: Dezinfekcijas līdzekļi Lideks OxyDez | C17: litri | F17: 5
B18: Dezinfekcijas līdzekļi Lideks-Spray | C18: litri | F18: 2
B19: Virsmu dezinfekcijas līdzekļi | C19: litri | F19: 10
B20: Dezinfekcijas mazgāšanas līdzeklis | C20: litri | F20: 5
B21: Pudele ar smidzinātāju 750 ml | C21: gabali | F21: 1
B22: Pudele ar smidzinātāju 650 ml | C22: gabali | F22: 1
B23: Papīra dvieļi | C23: ruļļi | F23: 66
B24: Mitrinošs roku kopšanas līdzeklis ALCOHOL GEL, 500 ml | C24: gabali | D24: 0.745 | E24: 0.3466
B25: Sejas maska 50gab. | C25: gabali | D25: 44 | E25: 20
B26: Sejas aizsargmaska medicīniska 50gab. | C26: gabali | D26: 45 | E26: 20
B27: (K) Faktiskās izmaksas Covid-19 pandēmijas ierobežošanai, t.sk. | C27: EUR/vien bez PVN
B28: Roku dezinfekcijas līdzekļi | F28: 2.472
B29: Dezinfekcijas līdzekļi Lideks OxyDez | F29: 2.514
B30: Dezinfekcijas līdzekļi Lideks-Spray | F30: 5.31
B31: Virsmu dezinfekcijas līdzekļi | F31: 2.86
B32: Dezinfekcijas mazgāšanas līdzeklis | F32: 3.046
B33: Pudele ar smidzinātāju 750 ml | F33: 1.38
B34: Pudele ar smidzinātāju 650 ml | F34: 1.32
B35: Papīra dvieļi | F35: 0.22
B36: Mitrinošs roku kopšanas līdzeklis ALCOHOL GEL, 500 ml | D36: 4.76 | E36: 4.76
B37: Sejas maska 50gab. | D37: 0.06 | E37: 0.06
B38: Sejas aizsargmaska medicīniska 50gab./4 iepakojumi | D38: 0.06 | E38: 0.06
A39: 3.SADAĻA | B39: KOPSUMMA ((C/D-A/N) x N) | D39: =((D42/D43)-(D40/D41))*D41 -> 15499.472 | E39: =((E42/E43)-(E40/E41))*E41 -> 10485.041 | F39: =((F42/F43)-(F40/F41))*F41 -> 4970.7176 | G39: =((G42/G43)-(G40/G41))*G41 -> #DIV/0!
A40: 01.06.2021.- 30.06.2021. | B40: (A) No pasažieriem, t.sk., personām, kurām noteikti pašvaldības noteiktie braukšanas maksas atvieglojumi, saņemtie ieņēmumi par sniegto sabiedriskā transporta pakalpojumu | C40: EUR bez PVN | D40: 110380.73 | E40: 45565.9 | F40: 38461.82 | H40: =atskaites_jedox!BQ9 -> 163445.3 | I40: =atskaites_jedox!BR9 -> 33789.99
...

Sheet PIVOT_atskaite
A3: Sum of Vērtība | B3: Column Labels
B4: 09.03.2021.- 31.03.2021. | E4: 09.03.2021.- 31.03.2021. Total | F4: Aprīlis | I4: Aprīlis Total | J4: Maijs | M4: Maijs Total | N4: Jūnijs | Q4: Jūnijs Total | R4: Grand Total
A5: Row Labels | B5: Autobuss | C5: Minibuss | D5: Tramvajs | F5: Autobuss | G5: Minibuss | H5: Tramvajs | J5: Autobuss | K5: Minibuss | L5: Tramvajs | N5: Autobuss | O5: Minibuss | P5: Tramvajs
A6: 1. Faktiskie izdevumi, kas radušies saistībā ar reisu atcelšanu vai papild reisu nodrošināšanu - KOPSUMMA ((N - P) x Izm) | B6: -553.35571 | C6: -685.55852 | D6: 0 | E6: -1238.9142 | F6: -650.86078 | G6: -1165.7668 | H6: 0 | I6: -1816.6276 | J6: -943.53084 | K6: -1180.2301 | L6: 0 | M6: -2123.7609 | N6: 0 | O6: 0 | P6: 0 | Q6: 0 | R6: -5179.3028
A7: 2. Kopējie izdevumi par Covid-19 infekcijas ierobežošanas pasākumiem - KOPSUMMA (1 vienības cenas reizinājums ar preču/pakalpojumu skaitu; summa ( K x Z)) | B7: 4.74 | C7: 2.1 | D7: 123.78 | E7: 130.62 | F7: 10.65574 | G7: 7.21985 | H7: 133.11 | I7: 150.98559 | J7: 0 | K7: 0 | L7: 95.3587 | M7: 95.3587 | N7: 8.8862 | O7: 4.049816 | P7: 96.6 | Q7: 109.53602 | R7: 486.50031
A8: 3. Kopējā ietekme uz ieņēmumu apgrozījumu - KOPSUMMA ((C/D-A/N) x N) | B8: 39844.114 | C8: 15998.646 | D8: 13650.345 | E8: 69493.105 | F8: 45980.562 | G8: 18645.099 | H8: 14026.174 | I8: 78651.834 | J8: 37892.128 | K8: 15730.163 | L8: 10102.968 | M8: 63725.259 | N8: 15499.472 | O8: 10485.041 | P8: 4970.7176 | Q8: 30955.23 | R8: 242825.43
A9: Grand Total | B9: 39295.499 | C9: 15315.187 | D9: 13774.125 | E9: 68384.811 | F9: 45340.357 | G9: 17486.552 | H9: 14159.284 | I9: 76986.192 | J9: 36948.597 | K9: 14549.933 | L9: 10198.327 | M9: 61696.857 | N9: 15508.358 | O9: 10489.091 | P9: 5067.3176 | Q9: 31064.766 | R9: 238132.63

Sheet PIVOT
B1: Pārskats par sabiedriskā transporta pakalpojumos radītajiem izdevumiem un zaudējumiem sakarā ar noteiktajiem ierobežojumiem
B5: Rādītājs | C5: Vienības | D5: Vērtība | E5: Pārvadājumu veids | F5: Pilsēta | G5: Periods
B6: 1. Faktiskie izdevumi, kas radušies saistībā ar reisu atcelšanu vai papild reisu nodrošināšanu - KOPSUMMA ((N - P) x Izm) | D6: -553.35571 | E6: Autobuss | F6: Liepāja | G6: 09.03.2021.- 31.03.2021.
B7: Iesaistīto transportlīdzekļu vienības | C7: skaits | D7: 43 | E7: Autobuss | F7: Liepāja | G7: 09.03.2021.- 31.03.2021.
B8: (S) Plānotais reisu skaits | C8: skaits | D8: 10201 | E8: Autobuss | F8: Liepāja | G8: 09.03.2021.- 31.03.2021.
B9: (R) Faktiskais reisu skaits (S + RP-RA) | C9: skaits | D9: 10165 | E9: Autobuss | F9: Liepāja | G9: 09.03.2021.- 31.03.2021.
B10: to starpā papildu reisi (RP) | C10: skaits | D10: 0 | E10: Autobuss | F10: Liepāja | G10: 09.03.2021.- 31.03.2021.
B11: to starpā atceltie reisi (RA) | C11: skaits | D11: 36 | E11: Autobuss | F11: Liepāja | G11: 09.03.2021.- 31.03.2021.
B12: (P) Plānotais nobraukums | C12: km | D12: 146665.04 | E12: Autobuss | F12: Liepāja | G12: 09.03.2021.- 31.03.2021.
B13: (N) Faktiskais nobraukums (P + NP-NA) | C13: km | D13: 146317.28 | E13: Autobuss | F13: Liepāja | G13: 09.03.2021.- 31.03.2021.
B14: to starpā papildu reisos veiktais nobraukums (NP) | C14: km | D14: 0 | E14: Autobuss | F14: Liepāja | G14: 09.03.2021.- 31.03.2021.
B15: to starpā atcelto reisu nobraukums (NA) | C15: km | D15: 347.76 | E15: Autobuss | F15: Liepāja | G15: 09.03.2021.- 31.03.2021.
B16: (Izm) 1 km pašizmaksa | C16: EUR/km | D16: 1.5912 | E16: Autobuss | F16: Liepāja | G16: 09.03.2021.- 31.03.2021.
B17: 1. Faktiskie izdevumi, kas radušies saistībā ar reisu atcelšanu vai papild reisu nodrošināšanu - KOPSUMMA ((N - P) x Izm) | D17: -685.55852 | E17: Minibuss | F17: Liepāja | G17: 09.03.2021.- 31.03.2021.
B18: Iesaistīto transportlīdzekļu vienības | C18: skaits | D18: 13 | E18: Minibuss | F18: Liepāja | G18: 09.03.2021.- 31.03.2021.
B19: (S) Plānotais reisu skaits | C19: skaits | D19: 6814 | E19: Minibuss | F19: Liepāja | G19: 09.03.2021.- 31.03.2021.
B20: (R) Faktiskais reisu skaits (S + RP-RA) | C20: skaits | D20: 6706 | E20: Minibuss | F20: Liepāja | G20: 09.03.2021.- 31.03.2021.
B21: to starpā papildu reisi (RP) | C21: skaits | D21: 0 | E21: Minibuss | F21: Liepāja | G21: 09.03.2021.- 31.03.2021.
B22: to starpā atceltie reisi (RA) | C22: skaits | D22: 108 | E22: Minibuss | F22: Liepāja | G22: 09.03.2021.- 31.03.2021.
B23: (P) Plānotais nobraukums | C23: km | D23: 65745.29 | E23: Minibuss | F23: Liepāja | G23: 09.03.2021.- 31.03.2021.
B24: (N) Faktiskais nobraukums (P + NP-NA) | C24: km | D24: 64902.77 | E24: Minibuss | F24: Liepāja | G24: 09.03.2021.- 31.03.2021.
B25: to starpā papildu reisos veiktais nobraukums (NP) | C25: km | D25: 0 | E25: Minibuss | F25: Liepāja | G25: 09.03.2021.- 31.03.2021.
B26: to starpā atcelto reisu nobraukums (NA) | C26: km | D26: 842.52 | E26: Minibuss | F26: Liepāja | G26: 09.03.2021.- 31.03.2021.
B27: (Izm) 1 km pašizmaksa | C27: EUR/km | D27: 0.8137 | E27: Minibuss | F27: Liepāja | G27: 09.03.2021.- 31.03.2021.
B28: 1. Faktiskie izdevumi, kas radušies saistībā ar reisu atcelšanu vai papild reisu nodrošināšanu - KOPSUMMA ((N - P) x Izm) | D28: 0 | E28: Tramvajs | F28: Liepāja | G28: 09.03.2021.- 31.03.2021.
B29: Iesaistīto transportlīdzekļu vienības | C29: skaits | D29: 20 | E29: Tramvajs | F29: Liepāja | G29: 09.03.2021.- 31.03.2021.
B30: (S) Plānotais reisu skaits | C30: skaits | D30: 6084 | E30: Tramvajs | F30: Liepāja | G30: 09.03.2021.- 31.03.2021.
B31: (R) Faktiskais reisu skaits (S + RP-RA) | C31: skaits | D31: 6084 | E31: Tramvajs | F31: Liepāja | G31: 09.03.2021.- 31.03.2021.
B32: to starpā papildu reisi (RP) | C32: skaits | D32: 0 | E32: Tramvajs | F32: Liepāja | G32: 09.03.2021.- 31.03.2021.
B33: to starpā atceltie reisi (RA) | C33: skaits | D33: 0 | E33: Tramvajs | F33: Liepāja | G33: 09.03.2021.- 31.03.2021.
B34: (P) Plānotais nobraukums | C34: km | D34: 45021.6 | E34: Tramvajs | F34: Liepāja | G34: 09.03.2021.- 31.03.2021.
B35: (N) Faktiskais nobraukums (P + NP-NA) | C35: km | D35: 45021.6 | E35: Tramvajs | F35: Liepāja | G35: 09.03.2021.- 31.03.2021.
B36: to starpā papildu reisos veiktais nobraukums (NP) | C36: km | D36: 0 | E36: Tramvajs | F36: Liepāja | G36: 09.03.2021.- 31.03.2021.
B37: to starpā atcelto reisu nobraukums (NA) | C37: km | D37: 0 | E37: Tramvajs | F37: Liepāja | G37: 09.03.2021.- 31.03.2021.
B38: (Izm) 1 km pašizmaksa | C38: EUR/km | D38: 2.8063 | E38: Tramvajs | F38: Liepāja | G38: 09.03.2021.- 31.03.2021.
B39: 2. Kopējie izdevumi par Covid-19 infekcijas ierobežošanas pasākumiem - KOPSUMMA (1 vienības cenas reizinājums ar preču/pakalpojumu skaitu; summa ( K x Z)) | D39: =SUM(D43*D50) -> 4.74 | E39: Autobuss | F39: Liepāja | G39: 09.03.2021.- 31.03.2021.
B40: (Z) Pakalpojumi, pasākumi un materiāli Covid-19 pandēmijas ierobežošanai | E40: Autobuss | F40: Liepāja | G40: 09.03.2021.- 31.03.2021.
B41: Roku dezinfekcijas līdzekļi | C41: litri | E41: Autobuss | F41: Liepāja | G41: 09.03.2021.- 31.03.2021.
B42: Virsmu dezinfekcijas līdzekļi | C42: litri | E42: Autobuss | F42: Liepāja | G42: 09.03.2021.- 31.03.2021.
B43: Sejas maskas | C43: gabali | D43: 79 | E43: Autobuss | F43: Liepāja | G43: 09.03.2021.- 31.03.2021.
...

Sheet atskaites_jedox
B2: servers_ATD/STIFSS | D2: =_xll.PALO.VIEW.DIMNAME($B$2,$B$3,0,0) -> ContractNo | E2: =_xll.PALO.VIEW.DIMNAME($B$2,$B$3,0,1) -> Region | F2: =_xll.PALO.VIEW.DIMNAME($B$2,$B$3,0,2) -> Period_type | G2: =_xll.PALO.VIEW.DIMNAME($B$2,$B$3,0,3) -> Report_type | H2: =_xll.PALO.VIEW.DIMNAME($B$2,$B$3,0,4) -> Vertibas | I2: =_xll.PALO.VIEW.DIMNAME($B$2,$B$3,0,5) -> Traffic
B3: =_xll.PALO.CUBE($B$2,"PnL_") -> 02f513aaa8023d4d71048152dadd6cce77dcb9d7 | D3: =_xll.PALO.ENAME($B$2,$B$3,0,0,0) -> Visi_ligumi | E3: =_xll.PALO.ENAME($B$2,$B$3,0,1,0) -> Visi regioni | F3: =_xll.PALO.ENAME($B$2,$B$3,0,2,0) -> MONTH | G3: =_xll.PALO.ENAME($B$2,$B$3,0,3,0) -> FACTUAL | H3: =_xll.PALO.ENAME($B$2,$B$3,0,4,0) -> EUR [+] | I3: =_xll.PALO.ENAME($B$2,$B$3,0,5,0) -> Visi marsruti
B4: [Edit View]
B5: [Swap]
C6: =_xll.PALO.ENAME($B$2,$B$3,2,0,0) -> 2019-03 | D6: =_xll.PALO.ENAME($B$2,$B$3,2,0,1) -> 2019-03 | E6: =_xll.PALO.ENAME($B$2,$B$3,2,0,2) -> 2019-03 | F6: =_xll.PALO.ENAME($B$2,$B$3,2,0,3) -> 2019-03 | G6: =_xll.PALO.ENAME($B$2,$B$3,2,0,4) -> 2019-03 | H6: =_xll.PALO.ENAME($B$2,$B$3,2,0,5) -> 2019-03 | I6: =_xll.PALO.ENAME($B$2,$B$3,2,0,6) -> 2019-04 | J6: =_xll.PALO.ENAME($B$2,$B$3,2,0,7) -> 2019-04 | K6: =_xll.PALO.ENAME($B$2,$B$3,2,0,8) -> 2019-04 | L6: =_xll.PALO.ENAME($B$2,$B$3,2,0,9) -> 2019-04 | M6: =_xll.PALO.ENAME($B$2,$B$3,2,0,10) -> 2019-04 | N6: =_xll.PALO.ENAME($B$2,$B$3,2,0,11) -> 2019-04 | O6: =_xll.PALO.ENAME($B$2,$B$3,2,0,12) -> 2019-05 | P6: =_xll.PALO.ENAME($B$2,$B$3,2,0,13) -> 2019-05 | Q6: =_xll.PALO.ENAME($B$2,$B$3,2,0,14) -> 2019-05 | R6: =_xll.PALO.ENAME($B$2,$B$3,2,0,15) -> 2019-05 | S6: =_xll.PALO.ENAME($B$2,$B$3,2,0,16) -> 2019-05 | T6: =_xll.PALO.ENAME($B$2,$B$3,2,0,17) -> 2019-05 | U6: =_xll.PALO.ENAME($B$2,$B$3,2,0,18) -> 2019-06 | V6: =_xll.PALO.ENAME($B$2,$B$3,2,0,19) -> 2019-06 | W6: =_xll.PALO.ENAME($B$2,$B$3,2,0,20) -> 2019-06 | X6: =_xll.PALO.ENAME($B$2,$B$3,2,0,21) -> 2019-06 | Y6: =_xll.PALO.ENAME($B$2,$B$3,2,0,22) -> 2019-06 | Z6: =_xll.PALO.ENAME($B$2,$B$3,2,0,23) -> 2019-06 | AA6: =_xll.PALO.ENAME($B$2,$B$3,2,0,24) -> 2020-03 | AB6: =_xll.PALO.ENAME($B$2,$B$3,2,0,25) -> 2020-03 | AC6: =_xll.PALO.ENAME($B$2,$B$3,2,0,26) -> 2020-03 | AD6: =_xll.PALO.ENAME($B$2,$B$3,2,0,27) -> 2020-03 | AE6: =_xll.PALO.ENAME($B$2,$B$3,2,0,28) -> 2020-03 | AF6: =_xll.PALO.ENAME($B$2,$B$3,2,0,29) -> 2020-03 | AG6: =_xll.PALO.ENAME($B$2,$B$3,2,0,30) -> 2020-04 | AH6: =_xll.PALO.ENAME($B$2,$B$3,2,0,31) -> 2020-04 | AI6: =_xll.PALO.ENAME($B$2,$B$3,2,0,32) -> 2020-04 | AJ6: =_xll.PALO.ENAME($B$2,$B$3,2,0,33) -> 2020-04 | AK6: =_xll.PALO.ENAME($B$2,$B$3,2,0,34) -> 2020-04 | AL6: =_xll.PALO.ENAME($B$2,$B$3,2,0,35) -> 2020-04 | AM6: =_xll.PALO.ENAME($B$2,$B$3,2,0,36) -> 2020-05 | AN6: =_xll.PALO.ENAME($B$2,$B$3,2,0,37) -> 2020-05 | AO6: =_xll.PALO.ENAME($B$2,$B$3,2,0,38) -> 2020-05 | AP6: =_xll.PALO.ENAME($B$2,$B$3,2,0,39) -> 2020-05 | AQ6: =_xll.PALO.ENAME($B$2,$B$3,2,0,40) -> 2020-05 | AR6: =_xll.PALO.ENAME($B$2,$B$3,2,0,41) -> 2020-05 | AS6: =_xll.PALO.ENAME($B$2,$B$3,2,0,42) -> 2020-06 | AT6: =_xll.PALO.ENAME($B$2,$B$3,2,0,43) -> 2020-06 | AU6: =_xll.PALO.ENAME($B$2,$B$3,2,0,44) -> 2020-06 | AV6: =_xll.PALO.ENAME($B$2,$B$3,2,0,45) -> 2020-06 | AW6: =_xll.PALO.ENAME($B$2,$B$3,2,0,46) -> 2020-06 | AX6: =_xll.PALO.ENAME($B$2,$B$3,2,0,47) -> 2020-06 | AY6: =_xll.PALO.ENAME($B$2,$B$3,2,0,48) -> 2021-03 | AZ6: =_xll.PALO.ENAME($B$2,$B$3,2,0,49) -> 2021-03 | BA6: =_xll.PALO.ENAME($B$2,$B$3,2,0,50) -> 2021-03 | BB6: =_xll.PALO.ENAME($B$2,$B$3,2,0,51) -> 2021-03 | BC6: =_xll.PALO.ENAME($B$2,$B$3,2,0,52) -> 2021-03 | BD6: =_xll.PALO.ENAME($B$2,$B$3,2,0,53) -> 2021-03 | BE6: =_xll.PALO.ENAME($B$2,$B$3,2,0,54) -> 2021-04 | BF6: =_xll.PALO.ENAME($B$2,$B$3,2,0,55) -> 2021-04 | BG6: =_xll.PALO.ENAME($B$2,$B$3,2,0,56) -> 2021-04 | BH6: =_xll.PALO.ENAME($B$2,$B$3,2,0,57) -> 2021-04 | BI6: =_xll.PALO.ENAME($B$2,$B$3,2,0,58) -> 2021-04 | BJ6: =_xll.PALO.ENAME($B$2,$B$3,2,0,59) -> 2021-04 | BK6: =_xll.PALO.ENAME($B$2,$B$3,2,0,60) -> 2021-05 | BL6: =_xll.PALO.ENAME($B$2,$B$3,2,0,61) -> 2021-05 | BM6: =_xll.PALO.ENAME($B$2,$B$3,2,0,62) -> 2021-05 | BN6: =_xll.PALO.ENAME($B$2,$B$3,2,0,63) -> 2021-05 | BO6: =_xll.PALO.ENAME($B$2,$B$3,2,0,64) -> 2021-05 | BP6: =_xll.PALO.ENAME($B$2,$B$3,2,0,65) -> 2021-05 | BQ6: =_xll.PALO.ENAME($B$2,$B$3,2,0,66) -> 2021-06 | BR6: =_xll.PALO.ENAME($B$2,$B$3,2,0,67) -> 2021-06 | BS6: =_xll.PALO.ENAME($B$2,$B$3,2,0,68) -> 2021-06 | BT6: =_xll.PALO.ENAME($B$2,$B$3,2,0,69) -> 2021-06 | BU6: =_xll.PALO.ENAME($B$2,$B$3,2,0,70) -> 2021-06 | BV6: =_xll.PALO.ENAME($B$2,$B$3,2,0,71) -> 2021-06
C7: =_xll.PALO.ENAME($B$2,$B$3,2,1,0) -> Ieņēmumi | D7: =_xll.PALO.ENAME($B$2,$B$3,2,1,1) -> Ieņēmumi | E7: =_xll.PALO.ENAME($B$2,$B$3,2,1,2) -> Nobraukums maršrutu tīklā | F7: =_xll.PALO.ENAME($B$2,$B$3,2,1,3) -> Nobraukums maršrutu tīklā | G7: =_xll.PALO.ENAME($B$2,$B$3,2,1,4) -> Viena kilometra pašizmaksa (EUR) | H7: =_xll.PALO.ENAME($B$2,$B$3,2,1,5) -> Viena kilometra pašizmaksa (EUR) | I7: =_xll.PALO.ENAME($B$2,$B$3,2,1,6) -> Ieņēmumi | J7: =_xll.PALO.ENAME($B$2,$B$3,2,1,7) -> Ieņēmumi | K7: =_xll.PALO.ENAME($B$2,$B$3,2,1,8) -> Nobraukums maršrutu tīklā | L7: =_xll.PALO.ENAME($B$2,$B$3,2,1,9) -> Nobraukums maršrutu tīklā | M7: =_xll.PALO.ENAME($B$2,$B$3,2,1,10) -> Viena kilometra pašizmaksa (EUR) | N7: =_xll.PALO.ENAME($B$2,$B$3,2,1,11) -> Viena kilometra pašizmaksa (EUR) | O7: =_xll.PALO.ENAME($B$2,$B$3,2,1,12) -> Ieņēmumi | P7: =_xll.PALO.ENAME($B$2,$B$3,2,1,13) -> Ieņēmumi | Q7: =_xll.PALO.ENAME($B$2,$B$3,2,1,14) -> Nobraukums maršrutu tīklā | R7: =_xll.PALO.ENAME($B$2,$B$3,2,1,15) -> Nobraukums maršrutu tīklā | S7: =_xll.PALO.ENAME($B$2,$B$3,2,1,16) -> Viena kilometra pašizmaksa (EUR) | T7: =_xll.PALO.ENAME($B$2,$B$3,2,1,17) -> Viena kilometra pašizmaksa (EUR) | U7: =_xll.PALO.ENAME($B$2,$B$3,2,1,18) -> Ieņēmumi | V7: =_xll.PALO.ENAME($B$2,$B$3,2,1,19) -> Ieņēmumi | W7: =_xll.PALO.ENAME($B$2,$B$3,2,1,20) -> Nobraukums maršrutu tīklā | X7: =_xll.PALO.ENAME($B$2,$B$3,2,1,21) -> Nobraukums maršrutu tīklā | Y7: =_xll.PALO.ENAME($B$2,$B$3,2,1,22) -> Viena kilometra pašizmaksa (EUR) | Z7: =_xll.PALO.ENAME($B$2,$B$3,2,1,23) -> Viena kilometra pašizmaksa (EUR) | AA7: =_xll.PALO.ENAME($B$2,$B$3,2,1,24) -> Ieņēmumi | AB7: =_xll.PALO.ENAME($B$2,$B$3,2,1,25) -> Ieņēmumi | AC7: =_xll.PALO.ENAME($B$2,$B$3,2,1,26) -> Nobraukums maršrutu tīklā | AD7: =_xll.PALO.ENAME($B$2,$B$3,2,1,27) -> Nobraukums maršrutu tīklā | AE7: =_xll.PALO.ENAME($B$2,$B$3,2,1,28) -> Viena kilometra pašizmaksa (EUR) | AF7: =_xll.PALO.ENAME($B$2,$B$3,2,1,29) -> Viena kilometra pašizmaksa (EUR) | AG7: =_xll.PALO.ENAME($B$2,$B$3,2,1,30) -> Ieņēmumi | AH7: =_xll.PALO.ENAME($B$2,$B$3,2,1,31) -> Ieņēmumi | AI7: =_xll.PALO.ENAME($B$2,$B$3,2,1,32) -> Nobraukums maršrutu tīklā | AJ7: =_xll.PALO.ENAME($B$2,$B$3,2,1,33) -> Nobraukums maršrutu tīklā | AK7: =_xll.PALO.ENAME($B$2,$B$3,2,1,34) -> Viena kilometra pašizmaksa (EUR) | AL7: =_xll.PALO.ENAME($B$2,$B$3,2,1,35) -> Viena kilometra pašizmaksa (EUR) | AM7: =_xll.PALO.ENAME($B$2,$B$3,2,1,36) -> Ieņēmumi | AN7: =_xll.PALO.ENAME($B$2,$B$3,2,1,37) -> Ieņēmumi | AO7: =_xll.PALO.ENAME($B$2,$B$3,2,1,38) -> Nobraukums maršrutu tīklā | AP7: =_xll.PALO.ENAME($B$2,$B$3,2,1,39) -> Nobraukums maršrutu tīklā | AQ7: =_xll.PALO.ENAME($B$2,$B$3,2,1,40) -> Viena kilometra pašizmaksa (EUR) | AR7: =_xll.PALO.ENAME($B$2,$B$3,2,1,41) -> Viena kilometra pašizmaksa (EUR) | AS7: =_xll.PALO.ENAME($B$2,$B$3,2,1,42) -> Ieņēmumi | AT7: =_xll.PALO.ENAME($B$2,$B$3,2,1,43) -> Ieņēmumi | AU7: =_xll.PALO.ENAME($B$2,$B$3,2,1,44) -> Nobraukums maršrutu tīklā | AV7: =_xll.PALO.ENAME($B$2,$B$3,2,1,45) -> Nobraukums maršrutu tīklā | AW7: =_xll.PALO.ENAME($B$2,$B$3,2,1,46) -> Viena kilometra pašizmaksa (EUR) | AX7: =_xll.PALO.ENAME($B$2,$B$3,2,1,47) -> Viena kilometra pašizmaksa (EUR) | AY7: =_xll.PALO.ENAME($B$2,$B$3,2,1,48) -> Ieņēmumi | AZ7: =_xll.PALO.ENAME($B$2,$B$3,2,1,49) -> Ieņēmumi | BA7: =_xll.PALO.ENAME($B$2,$B$3,2,1,50) -> Nobraukums maršrutu tīklā | BB7: =_xll.PALO.ENAME($B$2,$B$3,2,1,51) -> Nobraukums maršrutu tīklā | BC7: =_xll.PALO.ENAME($B$2,$B$3,2,1,52) -> Viena kilometra pašizmaksa (EUR) | BD7: =_xll.PALO.ENAME($B$2,$B$3,2,1,53) -> Viena kilometra pašizmaksa (EUR) | BE7: =_xll.PALO.ENAME($B$2,$B$3,2,1,54) -> Ieņēmumi | BF7: =_xll.PALO.ENAME($B$2,$B$3,2,1,55) -> Ieņēmumi | BG7: =_xll.PALO.ENAME($B$2,$B$3,2,1,56) -> Nobraukums maršrutu tīklā | BH7: =_xll.PALO.ENAME($B$2,$B$3,2,1,57) -> Nobraukums maršrutu tīklā | BI7: =_xll.PALO.ENAME($B$2,$B$3,2,1,58) -> Viena kilometra pašizmaksa (EUR) | BJ7: =_xll.PALO.ENAME($B$2,$B$3,2,1,59) -> Viena kilometra pašizmaksa (EUR) | BK7: =_xll.PALO.ENAME($B$2,$B$3,2,1,60) -> Ieņēmumi | BL7: =_xll.PALO.ENAME($B$2,$B$3,2,1,61) -> Ieņēmumi | BM7: =_xll.PALO.ENAME($B$2,$B$3,2,1,62) -> Nobraukums maršrutu tīklā | BN7: =_xll.PALO.ENAME($B$2,$B$3,2,1,63) -> Nobraukums maršrutu tīklā | BO7: =_xll.PALO.ENAME($B$2,$B$3,2,1,64) -> Viena kilometra pašizmaksa (EUR) | BP7: =_xll.PALO.ENAME($B$2,$B$3,2,1,65) -> Viena kilometra pašizmaksa (EUR) | BQ7: =_xll.PALO.ENAME($B$2,$B$3,2,1,66) -> Ieņēmumi | BR7: =_xll.PALO.ENAME($B$2,$B$3,2,1,67) -> Ieņēmumi | BS7: =_xll.PALO.ENAME($B$2,$B$3,2,1,68) -> Nobraukums maršrutu tīklā | BT7: =_xll.PALO.ENAME($B$2,$B$3,2,1,69) -> Nobraukums maršrutu tīklā | BU7: =_xll.PALO.ENAME($B$2,$B$3,2,1,70) -> Viena kilometra pašizmaksa (EUR) | BV7: =_xll.PALO.ENAME($B$2,$B$3,2,1,71) -> Viena kilometra pašizmaksa (EUR)
C8: =_xll.PALO.ENAME($B$2,$B$3,2,2,0) -> Bus | D8: =_xll.PALO.ENAME($B$2,$B$3,2,2,1) -> Tram | E8: =_xll.PALO.ENAME($B$2,$B$3,2,2,2) -> Bus | F8: =_xll.PALO.ENAME($B$2,$B$3,2,2,3) -> Tram | G8: =_xll.PALO.ENAME($B$2,$B$3,2,2,4) -> Bus | H8: =_xll.PALO.ENAME($B$2,$B$3,2,2,5) -> Tram | I8: =_xll.PALO.ENAME($B$2,$B$3,2,2,6) -> Bus | J8: =_xll.PALO.ENAME($B$2,$B$3,2,2,7) -> Tram | K8: =_xll.PALO.ENAME($B$2,$B$3,2,2,8) -> Bus | L8: =_xll.PALO.ENAME($B$2,$B$3,2,2,9) -> Tram | M8: =_xll.PALO.ENAME($B$2,$B$3,2,2,10) -> Bus | N8: =_xll.PALO.ENAME($B$2,$B$3,2,2,11) -> Tram | O8: =_xll.PALO.ENAME($B$2,$B$3,2,2,12) -> Bus | P8: =_xll.PALO.ENAME($B$2,$B$3,2,2,13) -> Tram | Q8: =_xll.PALO.ENAME($B$2,$B$3,2,2,14) -> Bus | R8: =_xll.PALO.ENAME($B$2,$B$3,2,2,15) -> Tram | S8: =_xll.PALO.ENAME($B$2,$B$3,2,2,16) -> Bus | T8: =_xll.PALO.ENAME($B$2,$B$3,2,2,17) -> Tram | U8: =_xll.PALO.ENAME($B$2,$B$3,2,2,18) -> Bus | V8: =_xll.PALO.ENAME($B$2,$B$3,2,2,19) -> Tram | W8: =_xll.PALO.ENAME($B$2,$B$3,2,2,20) -> Bus | X8: =_xll.PALO.ENAME($B$2,$B$3,2,2,21) -> Tram | Y8: =_xll.PALO.ENAME($B$2,$B$3,2,2,22) -> Bus | Z8: =_xll.PALO.ENAME($B$2,$B$3,2,2,23) -> Tram | AA8: =_xll.PALO.ENAME($B$2,$B$3,2,2,24) -> Bus | AB8: =_xll.PALO.ENAME($B$2,$B$3,2,2,25) -> Tram | AC8: =_xll.PALO.ENAME($B$2,$B$3,2,2,26) -> Bus | AD8: =_xll.PALO.ENAME($B$2,$B$3,2,2,27) -> Tram | AE8: =_xll.PALO.ENAME($B$2,$B$3,2,2,28) -> Bus | AF8: =_xll.PALO.ENAME($B$2,$B$3,2,2,29) -> Tram | AG8: =_xll.PALO.ENAME($B$2,$B$3,2,2,30) -> Bus | AH8: =_xll.PALO.ENAME($B$2,$B$3,2,2,31) -> Tram | AI8: =_xll.PALO.ENAME($B$2,$B$3,2,2,32) -> Bus | AJ8: =_xll.PALO.ENAME($B$2,$B$3,2,2,33) -> Tram | AK8: =_xll.PALO.ENAME($B$2,$B$3,2,2,34) -> Bus | AL8: =_xll.PALO.ENAME($B$2,$B$3,2,2,35) -> Tram | AM8: =_xll.PALO.ENAME($B$2,$B$3,2,2,36) -> Bus | AN8: =_xll.PALO.ENAME($B$2,$B$3,2,2,37) -> Tram | AO8: =_xll.PALO.ENAME($B$2,$B$3,2,2,38) -> Bus | AP8: =_xll.PALO.ENAME($B$2,$B$3,2,2,39) -> Tram | AQ8: =_xll.PALO.ENAME($B$2,$B$3,2,2,40) -> Bus | AR8: =_xll.PALO.ENAME($B$2,$B$3,2,2,41) -> Tram | AS8: =_xll.PALO.ENAME($B$2,$B$3,2,2,42) -> Bus | AT8: =_xll.PALO.ENAME($B$2,$B$3,2,2,43) -> Tram | AU8: =_xll.PALO.ENAME($B$2,$B$3,2,2,44) -> Bus | AV8: =_xll.PALO.ENAME($B$2,$B$3,2,2,45) -> Tram | AW8: =_xll.PALO.ENAME($B$2,$B$3,2,2,46) -> Bus | AX8: =_xll.PALO.ENAME($B$2,$B$3,2,2,47) -> Tram | AY8: =_xll.PALO.ENAME($B$2,$B$3,2,2,48) -> Bus | AZ8: =_xll.PALO.ENAME($B$2,$B$3,2,2,49) -> Tram | BA8: =_xll.PALO.ENAME($B$2,$B$3,2,2,50) -> Bus | BB8: =_xll.PALO.ENAME($B$2,$B$3,2,2,51) -> Tram | BC8: =_xll.PALO.ENAME($B$2,$B$3,2,2,52) -> Bus | BD8: =_xll.PALO.ENAME($B$2,$B$3,2,2,53) -> Tram | BE8: =_xll.PALO.ENAME($B$2,$B$3,2,2,54) -> Bus | BF8: =_xll.PALO.ENAME($B$2,$B$3,2,2,55) -> Tram | BG8: =_xll.PALO.ENAME($B$2,$B$3,2,2,56) -> Bus | BH8: =_xll.PALO.ENAME($B$2,$B$3,2,2,57) -> Tram | BI8: =_xll.PALO.ENAME($B$2,$B$3,2,2,58) -> Bus | BJ8: =_xll.PALO.ENAME($B$2,$B$3,2,2,59) -> Tram | BK8: =_xll.PALO.ENAME($B$2,$B$3,2,2,60) -> Bus | BL8: =_xll.PALO.ENAME($B$2,$B$3,2,2,61) -> Tram | BM8: =_xll.PALO.ENAME($B$2,$B$3,2,2,62) -> Bus | BN8: =_xll.PALO.ENAME($B$2,$B$3,2,2,63) -> Tram | BO8: =_xll.PALO.ENAME($B$2,$B$3,2,2,64) -> Bus | BP8: =_xll.PALO.ENAME($B$2,$B$3,2,2,65) -> Tram | BQ8: =_xll.PALO.ENAME($B$2,$B$3,2,2,66) -> Bus | BR8: =_xll.PALO.ENAME($B$2,$B$3,2,2,67) -> Tram | BS8: =_xll.PALO.ENAME($B$2,$B$3,2,2,68) -> Bus | BT8: =_xll.PALO.ENAME($B$2,$B$3,2,2,69) -> Tram | BU8: =_xll.PALO.ENAME($B$2,$B$3,2,2,70) -> Bus | BV8: =_xll.PALO.ENAME($B$2,$B$3,2,2,71) -> Tram
B9: =_xll.PALO.ENAME($B$2,$B$3,1,0,0) -> LPPA "Liepājas sabiedriskais transports" | C9: =_xll.PALO.DATA($B$2,$B$3,_xll.PALO.EL("Time",C$6),_xll.PALO.EL("Partner",$B9),_xll.PALO.EL($D$2,$D$3),_xll.PALO.EL($E$2,$E$3),_xll.PALO.EL($I$2,$I$3),_xll.PALO.EL($F$2,$F$3),_xll.PALO.EL($G$2,$G$3),_xll.PALO.EL("Transport",C$8),_xll.PALO.EL($H$2,$H$3),_xll.PALO.EL("Position",C$7)) -> 255532.3 | D9: =_xll.PALO.DATA($B$2,$B$3,_xll.PALO.EL("Time",D$6),_xll.PALO.EL("Partner",$B9),_xll.PALO.EL($D$2,$D$3),_xll.PALO.EL($E$2,$E$3),_xll.PALO.EL($I$2,$I$3),_xll.PALO.EL($F$2,$F$3),_xll.PALO.EL($G$2,$G$3),_xll.PALO.EL("Transport",D$8),_xll.PALO.EL($H$2,$H$3),_xll.PALO.EL("Position",D$7)) -> 46515.34 | E9: =_xll.PALO.DATA($B$2,$B$3,_xll.PALO.EL("Time",E$6),_xll.PALO.EL("Partner",$B9),_xll.PALO.EL($D$2,$D$3),_xll.PALO.EL($E$2,$E$3),_xll.PALO.EL($I$2,$I$3),_xll.PALO.EL($F$2,$F$3),_xll.PALO.EL($G$2,$G$3),_xll.PALO.EL("Transport",E$8),_xll.PALO.EL($H$2,$H$3),_xll.PALO.EL("Position",E$7)) -> 328818.45 | F9: =_xll.PALO.DATA($B$2,$B$3,_xll.PALO.EL("Time",F$6),_xll.PALO.EL("Partner",$B9),_xll.PALO.EL($D$2,$D$3),_xll.PALO.EL($E$2,$E$3),_xll.PALO.EL($I$2,$I$3),_xll.PALO.EL($F$2,$F$3),_xll.PALO.EL($G$2,$G$3),_xll.PALO.EL("Transport",F$8),_xll.PALO.EL($H$2,$H$3),_xll.PALO.EL("Position",F$7)) -> 59858.6 | G9: =_xll.PALO.DATA($B$2,$B$3,_xll.PALO.EL("Time",G$6),_xll.PALO.EL("Partner",$B9),_xll.PALO.EL($D$2,$D$3),_xll.PALO.EL($E$2,$E$3),_xll.PALO.EL($I$2,$I$3),_xll.PALO.EL($F$2,$F$3),_xll.PALO.EL($G$2,$G$3),_xll.PALO.EL("Transport",G$8),_xll.PALO.EL($H$2,$H$3),_xll.PALO.EL("Position",G$7)) -> 1.4 | H9: =_xll.PALO.DATA($B$2,$B$3,_xll.PALO.EL("Time",H$6),_xll.PALO.EL("Partner",$B9),_xll.PALO.EL($D$2,$D$3),_xll.PALO.EL($E$2,$E$3),_xll.PALO.EL($I$2,$I$3),_xll.PALO.EL($F$2,$F$3),_xll.PALO.EL($G$2,$G$3),_xll.PALO.EL("Transport",H$8),_xll.PALO.EL($H$2,$H$3),_xll.PALO.EL("Position",H$7)) -> 2.46 | I9: =_xll.PALO.DATA($B$2,$B$3,_xll.PALO.EL("Time",I$6),_xll.PALO.EL("Partner",$B9),_xll.PALO.EL($D$2,$D$3),_xll.PALO.EL($E$2,$E$3),_xll.PALO.EL($I$2,$I$3),_xll.PALO.EL($F$2,$F$3),_xll.PALO.EL($G$2,$G$3),_xll.PALO.EL("Transport",I$8),_xll.PALO.EL($H$2,$H$3),_xll.PALO.EL("Position",I$7)) -> 266391.35 | J9: =_xll.PALO.DATA($B$2,$B$3,_xll.PALO.EL("Time",J$6),_xll.PALO.EL("Partner",$B9),_xll.PALO.EL($D$2,$D$3),_xll.PALO.EL($E$2,$E$3),_xll.PALO.EL($I$2,$I$3),_xll.PALO.EL($F$2,$F$3),_xll.PALO.EL($G$2,$G$3),_xll.PALO.EL("Transport",J$8),_xll.PALO.EL($H$2,$H$3),_xll.PALO.EL("Position",J$7)) -> 47823.5 | ... BV9: =_xll.PALO.DATA($B$2,$B$3,_xll.PALO.EL("Time",BV$6),_xll.PALO.EL("Partner",$B9),_xll.PALO.EL($D$2,$D$3),_xll.PALO.EL($E$2,$E$3),_xll.PALO.EL($I$2,$I$3),_xll.PALO.EL($F$2,$F$3),_xll.PALO.EL($G$2,$G$3),_xll.PALO.EL("Transport",BV$8),_xll.PALO.EL($H$2,$H$3),_xll.PALO.EL("Position",BV$7)) -> 3.08
