Workbook

Sheet Atalgojums saskaņā ar IAP
A1: Algas
A2: Vidējā darba alga ar doktora grādu starp valstī nodarbinātajiem (2022, CSP)
A3: 2017
D4: Akadēmiskās karjeras līmenis un alga mēnesī
D5: P1 | E5: P2 | F5: P3 | G5: P4 | I5: Svērtā vidējā
C6: Skaits | D6: 0.35 | E6: 0.3 | F6: 0.25 | G6: 0.1
A7: Vidējās algas izmaiņa pēc IAP | B7: Mērķis | C7: Atlīdzība % no P4 | D7: 0.512 | E7: 0.64 | F7: 0.8 | G7: 1
A8: 2024. gads – 121% | B8: 2440.57 | D8: 1861.6982 | E8: 2327.1228 | F8: 2908.9035 | G8: 3636.1293 | I8: 2440.57
A9: 2025. gads – 130% | B9: 2622.1 | D9: 2000.1716 | E9: 2500.2145 | F9: 3125.2682 | G9: 3906.5852 | I9: 2622.1
A10: 2026. gads – 135% | B10: 2722.95 | D10: 2077.1013 | E10: 2596.3766 | F10: 3245.4708 | G10: 4056.8385 | I10: 2722.95
A11: 2027. gads – 142% (gala plānotais) | B11: 2864.14 | D11: 2184.8029 | E11: 2731.0036 | F11: 3413.7545 | G11: 4267.1931 | I11: 2864.14

Sheet Profesora komplekta izmaksas
C1: Saskaņā ar IAP - 142% no vidējā darba alga ar doktora grādu 2027 | E1: Saskaņā ar KPMG - 0.48
A2: 1 profesora komplekts | B2: Skaits, PLE | C2: Alga mēnesī | D2: Alga gadā +VSAOI | E2: Administācijas, infrasturktūras, materiālu izmaksas | F2: Kopā uz 1 vienību | G2: Kopā uz kopējo skaitu
A3: Profesors | B3: 1 | C3: 4536 | D3: =C3*12*1.2359 -> 67272.509 | E3: =D3*0.48 -> 32290.804 | F3: =E3+D3 -> 99563.313 | G3: =F3*B3 -> 99563.313
A4: Asociētie profesori | B4: 2.5 | C4: =C3*0.8 -> 3628.8 | D4: =C4*12*1.2359 -> 53818.007 | E4: =D4*0.48 -> 25832.643 | F4: =E4+D4 -> 79650.65 | G4: =F4*B4 -> 199126.63
A5: Pētnieki | B5: 3 | C5: =C4*0.8 -> 2903.04 | D5: =C5*12*1.2359 -> 43054.406 | E5: =D5*0.48 -> 20666.115 | F5: =E5+D5 -> 63720.52 | G5: =F5*B5 -> 191161.56
A6: Jaunākie pētnieki | B6: 3.5 | C6: =C5*0.8 -> 2322.432 | D6: =C6*12*1.2359 -> 34443.525 | E6: =D6*0.48 -> 16532.892 | F6: =E6+D6 -> 50976.416 | G6: =F6*B6 -> 178417.46
A7: Kopā | B7: =SUM(B3:B6) -> 10 | C7: =SUM(C3:C6) -> 13390.272 | D7: =SUM(D3:D6) -> 198588.45 | E7: =SUM(E3:E6) -> 95322.454 | F7: =SUM(F3:F6) -> 293910.9 | G7: =SUM(G3:G6) -> 668268.96

Sheet Izmēģinājumprojekta izmaksas
A2: Izmēģinājumprojekta izmaksas vienai iestādei | B2: Komplekti | C2: Summa gadā
A3: RTU + LiepU + RTA | B3: 16 | C3: =ROUND(B3*'Profesora komplekta izmaksas'!G$7,0) -> 10692303
A4: RSU + LSPA | B4: 10 | C4: =ROUND(B4*'Profesora komplekta izmaksas'!G$7,0) -> 6682690
A5: LU + BA | B5: 17 | C5: =ROUND(B5*'Profesora komplekta izmaksas'!G$7,0) -> 11360572
A6: LBTU | B6: 4 | C6: =ROUND(B6*'Profesora komplekta izmaksas'!G$7,0) -> 2673076
A7: DU | B7: 3 | C7: =ROUND(B7*'Profesora komplekta izmaksas'!G$7,0) -> 2004807
A8: Pārējās iestādes (zem 1k studējošo) | B8: 1 | C8: =ROUND(B8*'Profesora komplekta izmaksas'!G$7,0) -> 668269
A11: Iestāde | B11: Izmēģinājumprojekta izmaksas
A12: DU | B12: =C7 -> 2004807
A13: JVLMA | B13: =C8 -> 668269
A14: LBTU | B14: =C6 -> 2673076
A15: LKA | B15: =C8 -> 668269
A16: LMA | B16: =C8 -> 668269
A17: LU | B17: =C5 -> 11360572
A18: RSU | B18: =C4 -> 6682690
A19: RTU | B19: =C3 -> 10692303
A20: ViA | B20: =C8 -> 668269
A21: VeA | B21: =C8 -> 668269
A22: Kopā | B22: =B12+B13+B14+B15+B16+B17+B18+B19+B20+B21 -> 36754793
A23: Ietekme uz budžetu | B23: =B22-10000000 -> 26754793
