Workbook

Sheet IZM
B2: Energoresursu izmaksu sadārdzinājums
B4: Nr.p.k. | C4: Energoresursu veids | D4: Izdevumu EKK | E4: Izdevumi pēc naudas plūsmas principa par 2021.gadu EUR | J4: Izdevumi pēc naudas plūsmas principa par 2022.gadu EUR | O4: Korekcijas (+/-), lai dati būtu salīdzināmi | P4: Skaidrojums par veiktajām korekcijām | Q4: Energoresursu izmaksu pieaugums 2022.g. janvāris - maijs | R4: Vidējās pieaugums mēnesī | S4: Vidējās pieagums gadā
E5: Janvāris (par decembri) | F5: Februāris (par janvāri) | G5: Marts (par februāri) | H5: Aprīlis (par martu) | I5: Maijs (par aprīli) | J5: Janvāris (par decembri) | K5: Februāris (par janvāri) | L5: Marts (par februāri) | M5: Aprīlis (par martu) | N5: Maijs (par aprīli) | R5: Vid.izm. Menesī | S5: Vid.izm. Menesī
B6: a | C6: b | D6: c | E6: d | F6: e | G6: f | H6: g | I6: h | J6: i | K6: j | L6: k | M6: l | N6: m | O6: n | P6: o | Q6: p=i+j+k+l+m-d-e-f-g-h+n
B7: 97.01.00 Ministrijas centrālā aparāta darbības nodrošināšana
B8: tai skaitā konts:_________________________________ (norēķinu konta numurs)
B9: 1. | C9: Kopā energoresursi: | D9: x | E9: =SUM(E10:E16) -> 8193.5 | F9: =SUM(F10:F16) -> 10132.56 | G9: =SUM(G10:G16) -> 10947.89 | H9: =SUM(H10:H16) -> 8440.11 | I9: =SUM(I10:I16) -> 6081.54 | J9: =SUM(J10:J16) -> 16021.47 | K9: =SUM(K10:K16) -> 11787.68 | L9: =SUM(L10:L16) -> 9068.71 | ... P9: =SUM(P10:P16) -> 0 | Q9: =SUM(Q10:Q11) -> 17875.53 | R9: =SUM(R10) -> 2250.444 | S9: =SUM(S10:S11) -> 37602.624 | T9: =SUM(E9:I9) -> 43795.6 | U9: =SUM(J9:N9) -> 56093.34 | V9: =U9/T9*100-100 -> 28.079853
B10: 1.1. | C10: Elektroenerģija | D10: 2223 | E10: 3418.88 | F10: =7166.26-E10 -> 3747.38 | G10: =11558.13-F10-E10 -> 4391.87 | H10: =15667.08-G10-F10-E10 -> 4108.95 | I10: =19304.22-H10-G10-F10-E10 -> 3637.14 | J10: 9047.81 | K10: =13861.83-J10 -> 4814.02 | L10: =16804.8-J10-K10 -> 2942.97 | M10: =21804.39-J10-K10-L10 -> 4999.59 | N10: =24978.65-M10-L10-K10-J10 -> 3174.26 | O10: 5577.79 | P10: Elektroenerģijas maksas samazinājums no 01.01.2022.-30.04.2022 | Q10: =ROUND(SUM(J10:N10)-SUM(E10:I10)+O10,2) -> 11252.22 | R10: =Q10/5 -> 2250.444 | S10: =R10*12 -> 27005.328 | T10: =T9/5 -> 8759.12 | U10: =T10*0.5+T10 -> 13138.68 | V10: =U10-T10 -> 4379.56 | W10: =V10*12 -> 52554.72
B11: 1.2. | C11: Siltumenerģija apkurei | D11: 2221 | E11: 4774.62 | F11: =11159.8-E11 -> 6385.18 | G11: =17715.82-F11-E11 -> 6556.02 | H11: =22046.98-G11-F11-E11 -> 4331.16 | I11: =24491.38-H11-G11-F11-E11 -> 2444.4 | J11: 6973.66 | K11: 6973.66 | L11: =20073.06-J11-K11 -> 6125.74 | M11: =26471.81-L11-K11-J11 -> 6398.75 | N11: =31114.69-M11-L11-K11-J11 -> 4642.88 | Q11: =ROUND(SUM(J11:N11)-SUM(E11:I11)+O11,2) -> 6623.31 | R11: =Q11/5 -> 1324.662 | S11: =R11*8 -> 10597.296
B12: 1.3. | C12: Dabasgāze | Q12: =ROUND(SUM(J12:N12)-SUM(E12:I12)+O12,2) -> 0
B13: 1.4. | C13: Ogles | Q13: =ROUND(SUM(J13:N13)-SUM(E13:I13)+O13,2) -> 0 | R13: =3575.11*0.2+3575.11 -> 4290.132 | S13: =R13*12 -> 51481.584
B14: 1.5. | C14: Kurināmā koksne | Q14: =ROUND(SUM(J14:N14)-SUM(E14:I14)+O14,2) -> 0
B15: 1.6. | C15: Norādīt citu konkrētu energoresursu veidu | Q15: =ROUND(SUM(J15:N15)-SUM(E15:I15)+O15,2) -> 0
B16: 1.7. | C16: Norādīt citu konkrētu energoresursu veidu | Q16: =ROUND(SUM(J16:N16)-SUM(E16:I16)+O16,2) -> 0
C18: 2022.gada ___.___________
C19: Sagatavotājs:
C20: (Vārds, Uzvārds, telefona nr., epasts)

Sheet Savilkums
B1: Pieaugums apkurei 2022.gadam | C1: Paskaidrojums par oktobra, novembra un decembra prognozētajām izmaksām
A2: Banku augstskola | B2: =ROUNDUP(BA!AE8,0) -> 28162 | C2: Prognozes aprēķinā izmantoti iepriekšējo periodu (2021.g.) patēriņš, kas reizināts ar pēdējo aktuālo cenu no piegādātāja. | E2: AI | F2: IZM | G2: ZM | H2: VM | I2: KM | J2: Kopā:
A3: Daugavpils Universitāte (ieskaitot DU aģentūru- Daugavpils Medicīnas koledžu) | B3: =ROUNDUP(DU!AE8+DU_DMK!AE8+DU_DMK!AE13,0) -> 91172 | C3: Apkures izdevumi no 1.oktobra par 1MWh 175,59 euro. | F3: =B2+B3+B4+B5+B6+B7+B8+B9+B10+B11 -> 3401039 | G3: =B13 -> 1367762 | H3: =B12 -> 547990 | I3: =B14+B15+B16 -> 194061 | J3: =SUM(F3:I3) -> 5510852
A4: Latvijas Jūras akadēmija (*RTU struktūrvienība, dati iesniegti atsevišķi, jo ir atseviška studiju īstenošanas vieta ar apkures izmaksām) | B4: =ROUNDUP(LJA!AE8,0) -> 70251 | C4: Apkures prognozētie izdevumi ir balstīti uz SIA Rīgas Siltums iesūtīto vēstuli par siltumtarifa cenas dubulto pieaugumu. | E4: 0.5 | F4: =ROUNDUP(F3*$E$4,0) -> 1700520 | G4: =ROUNDUP(G3*$E$4,0) -> 683881 | H4: =ROUNDUP(H3*$E$4,0) -> 273995 | I4: =ROUNDUP(I3*$E$4,0) -> 97031 | J4: =SUM(F4:I4) -> 2755427
A5: Latvijas Sporta pedagoģijas akadēmija | B5: =ROUNDUP(LSPA!AE8,0) -> 64064 | C5: Oktobris, novembris, decembris prognozēts, ņemot vērā siltuma tarifa dubultošanu. Ar oktobri tarifs no 85 euro par MWh pacelts uz 206 euro par MWh .
A6: Liepājas Universitāte | B6: =ROUNDUP(LiepU!AE8,0) -> 20257 | C6: Aprēķini balstīti aptuvenā vidējā vēsturiskā mēneša patēriņā, to reizinot ar pieņemtu iespējamo piegādātāju cenu.
A7: Latvijas Universitāte (ieskaitot LU aģentūras- koledžas) | B7: =ROUNDUP(LU!AE8+LU!AE10+LU!AE12,0) -> 1085545 | C7: * Prognoze atbilstoši optimistiskam scenārijam, neņemot vērā plānotots taupības pasākumus: - pamats patēriņa prognozei 2019.gada attiecīgā mēneša parēriņš (pēdējais pirms COVID gads, kad infrastruktūra strādāja normālā režīmā); - siltumenerģijas tarifs LU, LU RMK un LU R1MK 170,59 EUR/mWh (bez PVN); LU PSMK n/a; - gāzes tarifs LU 63 EUR/mWh (bez PVN; atbilstoši ilgtermiņa līgumam); LU PSMK 95 EUR/mWh (bez PVN; atbilstoši ilgtermiņa līgumam); LU R1MK 255.37 EUR/mWh (bez PVN; saskaņā ar mainīgo cenu); LU RMK n/a; - LU kurināmā izmaksas balstoties uz iepriekšējā gada izmaksām, reizinot ar koeficientu 1,7 atbilstoši faktiskam sadārdzinājumam; LU PSMK, LU RMK, LU R1MK n/a
A8: Rēzeknes Tehnoloģiju akadēmija | B8: =ROUNDUP(RTA!AE8+RTA!AE13+RTA!AE14,0) -> 23294 | C8: Apkuri ar šķeldu sāk oktobrī, apkuri ar granulām novembrī. Granulu izmaksas 576 euro par tonnu, šķeldas izmaksas 30,25 euro par 1 berm3.
A9: Rīgas Tehniskā universitāte (ieskaitot RTU aģentūru- Olaines Tehnoloģiju koledžu) | B9: =ROUNDUP(RTU!AE8+RTU!AE10,0) -> 1973283 | C9: Izmaksas tika prognozētas pēc iepriekšējo četru gadu vidējā patēriņa un sareizināta ar iesniegto tarifu no siltumenerģijas ražotāja.
A10: Ventspils Augstskola | B10: =ROUNDUP(VeA!AE8+VeA!AE13,0) -> 13116 | C10: Izejas dati iegūti pēc saziņas ar PSIA Ventspils Siltums.
A11: Vidzemes Augstskola | B11: =ROUNDUP(ViA!AE8,0) -> 31895 | C11: Tika izvērtēts pēdējo 5 gadu resursu patēriņa apjoms un izrēķināts vidējais patēriņš katrā no mēnešiem: Apkure: vidējais patēriņš novembra mēnesim 70 MWh, decembra mēnesim 110 MWh, Valmierā noteiktā cena 192 EUR/MWh
A12: Rīgas Stradiņa Universitāte | B12: =ROUNDUP(RSU!AE8+RSU!AE10+RSU!AE13,0) -> 547990 | C12: 1) Patēriņa izmaiņas ir noteiktas pēc 2021.gada datiem, veicot korekcijas par ietaupījumiem un platības izmaiņām; 2) Siltumenerģija - tarifs pēc Rīgas siltuma publiski pieejamās informācijas, Dabasgāzes tarifs - pēc līguma noteikumiem, Kokskaidu granulas - iespējamā plānotā kokskaidru granulu cena par t, ņemot vērā tirgus tendences.
A13: Latvijas Biozinātņu un tehnoloģiju universitāte | B13: =ROUNDUP(LBTU!AE10+LBTU!AE12,0) -> 1367762 | C13: Siltumenerģijas prognozētās izmaksas norādītas rēķinot prognozēto patēriņu ar prognozētajām cenām.
A14: Jāzepa Vītola Latvijas Mūzikas akadēmija | B14: =ROUNDUP(JVLMA!AE8,0) -> 36367 | C14: Aprēķins tika veikts, pēc pēdējā zināmā tarifa siltumenerģijai, un vidējā patēriņa trīs gadu termiņā, neņemot vērā pēdējos divus gadus, kad COVID 19 apstākļos tika organizēts attālinātais mācību process.
A15: Latvijas Mākslas akadēmija | B15: =ROUNDUP(LMA!AE8+LMA!AE10,0) -> 107291 | C15: Aprēķins tika veikts, pēc pēdējā zināmā tarifa siltumenerģijai, un vidējā patēriņa trīs gadu termiņā, neņemot vērā pēdējos divus gadus, kad COVID 19 apstākļos tika organizēts attālinātais mācību process.
A16: Latvijas Kultūras akadēmija (ieskaitot aģentūru- koledžu) | B16: =ROUNDUP(LKA!AE8+LKA!AE10+LKA_LKK!AE8,0) -> 50403 | C16: Aprēķins tika veikts, pēc pēdējā zināmā tarifa siltumenerģijai, un vidējā patēriņa trīs gadu termiņā, neņemot vērā pēdējos divus gadus, kad COVID 19 apstākļos tika organizēts attālinātais mācību process.
A17: KOPĀ | B17: =SUM(B2:B16) -> 5510852

Sheet Visas_AI
B2: AI energoresursu izmaksu sadārdzinājums
B4: Nr.p.k. | C4: Energoresursu veids | D4: Izdevumu EKK | E4: Izdevumi pēc naudas plūsmas principa par 2021.gadu EUR | Q4: Izdevumi pēc naudas plūsmas principa par 2022.gadu EUR Faktiskie izdevumi līdz 30.septembrim un prognozētie no 1.oktobra līdz 31.decembrim | AC4: Korekcijas (+/-), lai dati būtu salīdzināmi | AD4: Skaidrojums par veiktajām korekcijām | AE4: Energoresursu izmaksu pieaugums 2022.g. janvāris - decembris | AF4: Vidējās pieaugums mēnesī | AG4: Vidējās pieagums gadā | AI4: Sadārdzinājums - septembrim, oktobrim, novembrim, decembrim
E5: Janvāris (par decembri) | F5: Februāris (par janvāri) | G5: Marts (par februāri) | H5: Aprīlis (par martu) | I5: Maijs (par aprīli) | J5: Jūnijs (par maiju) | K5: Jūlijs (par jūniju) | L5: Augusts(par jūliju) | M5: Septembris (par augustu) | N5: Oktobris (par septembri) | O5: Novembris(par oktobri) | P5: Decembris (par novembri) | Q5: Janvāris (par decembri) | R5: Februāris (par janvāri) | S5: Marts (par februāri) | T5: Aprīlis (par martu) | U5: Maijs (par aprīli) | V5: Jūnijs (par maiju) | W5: Jūlijs (par jūniju) | X5: Augusts(par jūliju) | Y5: Septembris (par augustu) | Z5: Oktobris (par septembri) | AA5: Novembris(par oktobri) | AB5: Decembris (par novembri) | AF5: Vid.izm. Menesī | AG5: Vid.izm. Menesī | AI5: Vid.izm. Menesī
B6: a | C6: b | D6: c | E6: d | F6: e | G6: f | H6: g | I6: h | J6: d | K6: e | L6: f | M6: g | N6: h | O6: g | P6: h | Q6: i | R6: j | S6: k | T6: l | U6: m | V6: i | W6: j | X6: k | Y6: l | Z6: m | AA6: l | AB6: m | AC6: n | AD6: o | AE6: p=i+j+k+l+m-d-e-f-g-h+n
B7: 1. | C7: Kopā energoresursi: | D7: x | E7: =SUM(E8:E14) -> 539122.7 | F7: =SUM(F8:F14) -> 710486.79 | G7: =SUM(G8:G14) -> 714993.53 | H7: =SUM(H8:H14) -> 532416.76 | I7: =SUM(I8:I14) -> 313674.36 | J7: =SUM(J8:J14) -> 122230.55 | K7: =SUM(K8:K14) -> 43517.343 | L7: =SUM(L8:L14) -> 31088.336 | ... P7: =SUM(P8:P14) -> 1007127.7 | Q7: =Q8+Q10+Q11+Q12+Q13+Q14 -> 1497138.6 | R7: =R8+R10+R11+R12+R13+R14 -> 1238292.4 | S7: =S8+S10+S11+S12+S13+S14 -> 1069981.1 | T7: =T8+T10+T11+T12+T13+T14 -> 1059605.8 | U7: =U8+U10+U11+U12+U13+U14 -> 806434.98 | V7: =V8+V10+V11+V12+V13+V14 -> 289463.37 | W7: =W8+W10+W11+W12+W13+W14 -> 126218.39 | X7: =X8+X10+X11+X12+X13+X14 -> 70316.263 | ... AC7: =AC8+AC10+AC11+AC12+AC13+AC14 -> 5292.29 | AD7: =SUM(AD8:AD14) -> 0 | AE7: =SUM(AE8:AE14) -> 5510844.7 | AF7: =SUM(AF8:AF14) -> 459237.05 | AG7: =SUM(AG8:AG14) -> 3673896.4 | AJ7: =SUM(E7:P7) -> 4685761.8 | AK7: =SUM(Q7:AC7) -> 10196606 | AL7: =AJ7-AK7 -> -5510844.7 | AM7: =AK7/AJ7*100-100 -> 117.6083
B8: 1.2. | C8: Siltumenerģija apkurei (2221) | E8: =BA!E8+DU!E8+DU_DMK!E8+LJA!E8+LSPA!E8+LiepU!E8+LU!E8+RTA!E8+RTU!E8+VeA!E8+ViA!E8+RSU!E8+LBTU!E8+JVLMA!E8+LMA!E8+LKA!E8+LKA_LKK!E8 -> 448608.96 | F8: =BA!F8+DU!F8+DU_DMK!F8+LJA!F8+LSPA!F8+LiepU!F8+LU!F8+RTA!F8+RTU!F8+VeA!F8+ViA!F8+RSU!F8+LBTU!F8+JVLMA!F8+LMA!F8+LKA!F8+LKA_LKK!F8 -> 561189.25 | G8: =BA!G8+DU!G8+DU_DMK!G8+LJA!G8+LSPA!G8+LiepU!G8+LU!G8+RTA!G8+RTU!G8+VeA!G8+ViA!G8+RSU!G8+LBTU!G8+JVLMA!G8+LMA!G8+LKA!G8+LKA_LKK!G8 -> 553180.44 | H8: =BA!H8+DU!H8+DU_DMK!H8+LJA!H8+LSPA!H8+LiepU!H8+LU!H8+RTA!H8+RTU!H8+VeA!H8+ViA!H8+RSU!H8+LBTU!H8+JVLMA!H8+LMA!H8+LKA!H8+LKA_LKK!H8 -> 417867.47 | I8: =BA!I8+DU!I8+DU_DMK!I8+LJA!I8+LSPA!I8+LiepU!I8+LU!I8+RTA!I8+RTU!I8+VeA!I8+ViA!I8+RSU!I8+LBTU!I8+JVLMA!I8+LMA!I8+LKA!I8+LKA_LKK!I8 -> 259058.98 | J8: =BA!J8+DU!J8+DU_DMK!J8+LJA!J8+LSPA!J8+LiepU!J8+LU!J8+RTA!J8+RTU!J8+VeA!J8+ViA!J8+RSU!J8+LBTU!J8+JVLMA!J8+LMA!J8+LKA!J8+LKA_LKK!J8 -> 106019.81 | K8: =BA!K8+DU!K8+DU_DMK!K8+LJA!K8+LSPA!K8+LiepU!K8+LU!K8+RTA!K8+RTU!K8+VeA!K8+ViA!K8+RSU!K8+LBTU!K8+JVLMA!K8+LMA!K8+LKA!K8+LKA_LKK!K8 -> 31977.14 | L8: =BA!L8+DU!L8+DU_DMK!L8+LJA!L8+LSPA!L8+LiepU!L8+LU!L8+RTA!L8+RTU!L8+VeA!L8+ViA!L8+RSU!L8+LBTU!L8+JVLMA!L8+LMA!L8+LKA!L8+LKA_LKK!L8 -> 25944.454 | ... AC8: =BA!AC8+DU!AC8+DU_DMK!AC8+LJA!AC8+LSPA!AC8+LiepU!AC8+LU!AC8+RTA!AC8+RTU!AC8+VeA!AC8+ViA!AC8+RSU!AC8+LBTU!AC8+JVLMA!AC8+LMA!AC8+LKA!AC8+LKA_LKK!AC8 -> 5292.29 | AE8: =ROUND(SUM(Q8:AB8)-SUM(E8:P8)+AC8,2) -> 3825367.5 | AF8: =AE8/12 -> 318780.63 | AG8: =AF8*8 -> 2550245 | AI8: 50% + janvāra mēnesis
C9: Starpība % | Q9: =Q8/E8 -> 2.2468128 | R9: =R8/F8 -> 1.5343977 | S9: =S8/G8 -> 1.3274574 | T9: =T8/H8 -> 1.9226169 | U9: =U8/I8 -> 2.2892301 | V9: =V8/J8 -> 2.1681622 | W9: =W8/K8 -> 2.9996312 | X9: =X8/L8 -> 2.1946479 | ... AB9: =AB8/P8 -> 2.3008037
B10: 1.3. | C10: Dabasgāze | E10: =BA!E10+DU!E10+DU_DMK!E10+LJA!E10+LSPA!E10+LiepU!E10+LU!E10+RTA!E10+RTU!E10+VeA!E10+ViA!E10+RSU!E10+LBTU!E10+JVLMA!E10+LMA!E10+LKA!E10+LKA_LKK!E10 -> 59722.052 | F10: =BA!F10+DU!F10+DU_DMK!F10+LJA!F10+LSPA!F10+LiepU!F10+LU!F10+RTA!F10+RTU!F10+VeA!F10+ViA!F10+RSU!F10+LBTU!F10+JVLMA!F10+LMA!F10+LKA!F10+LKA_LKK!F10 -> 123741.79 | G10: =BA!G10+DU!G10+DU_DMK!G10+LJA!G10+LSPA!G10+LiepU!G10+LU!G10+RTA!G10+RTU!G10+VeA!G10+ViA!G10+RSU!G10+LBTU!G10+JVLMA!G10+LMA!G10+LKA!G10+LKA_LKK!G10 -> 133236.81 | H10: =BA!H10+DU!H10+DU_DMK!H10+LJA!H10+LSPA!H10+LiepU!H10+LU!H10+RTA!H10+RTU!H10+VeA!H10+ViA!H10+RSU!H10+LBTU!H10+JVLMA!H10+LMA!H10+LKA!H10+LKA_LKK!H10 -> 99569.57 | I10: =BA!I10+DU!I10+DU_DMK!I10+LJA!I10+LSPA!I10+LiepU!I10+LU!I10+RTA!I10+RTU!I10+VeA!I10+ViA!I10+RSU!I10+LBTU!I10+JVLMA!I10+LMA!I10+LKA!I10+LKA_LKK!I10 -> 50537.892 | J10: =BA!J10+DU!J10+DU_DMK!J10+LJA!J10+LSPA!J10+LiepU!J10+LU!J10+RTA!J10+RTU!J10+VeA!J10+ViA!J10+RSU!J10+LBTU!J10+JVLMA!J10+LMA!J10+LKA!J10+LKA_LKK!J10 -> 16210.736 | K10: =BA!K10+DU!K10+DU_DMK!K10+LJA!K10+LSPA!K10+LiepU!K10+LU!K10+RTA!K10+RTU!K10+VeA!K10+ViA!K10+RSU!K10+LBTU!K10+JVLMA!K10+LMA!K10+LKA!K10+LKA_LKK!K10 -> 8528.0527 | L10: =BA!L10+DU!L10+DU_DMK!L10+LJA!L10+LSPA!L10+LiepU!L10+LU!L10+RTA!L10+RTU!L10+VeA!L10+ViA!L10+RSU!L10+LBTU!L10+JVLMA!L10+LMA!L10+LKA!L10+LKA_LKK!L10 -> 5143.8821 | ... AC10: =BA!AC10+DU!AC10+DU_DMK!AC10+LJA!AC10+LSPA!AC10+LiepU!AC10+LU!AC10+RTA!AC10+RTU!AC10+VeA!AC10+ViA!AC10+RSU!AC10+LBTU!AC10+JVLMA!AC10+LMA!AC10+LKA!AC10+LKA_LKK!AC10 -> 0 | AE10: =ROUND(SUM(Q10:AB10)-SUM(E10:P10)+AC10,2) -> 1125364.7 | AF10: =AE10/12 -> 93780.39 | AG10: =AF10*8 -> 750243.12
B11: 1.4. | C11: Ogles | E11: =BA!E11+DU!E11+DU_DMK!E11+LJA!E11+LSPA!E11+LiepU!E11+LU!E11+RTA!E11+RTU!E11+VeA!E11+ViA!E11+RSU!E11+LBTU!E11+JVLMA!E11+LMA!E11+LKA!E11+LKA_LKK!E11 -> 0 | F11: =BA!F11+DU!F11+DU_DMK!F11+LJA!F11+LSPA!F11+LiepU!F11+LU!F11+RTA!F11+RTU!F11+VeA!F11+ViA!F11+RSU!F11+LBTU!F11+JVLMA!F11+LMA!F11+LKA!F11+LKA_LKK!F11 -> 0 | G11: =BA!G11+DU!G11+DU_DMK!G11+LJA!G11+LSPA!G11+LiepU!G11+LU!G11+RTA!G11+RTU!G11+VeA!G11+ViA!G11+RSU!G11+LBTU!G11+JVLMA!G11+LMA!G11+LKA!G11+LKA_LKK!G11 -> 0 | H11: =BA!H11+DU!H11+DU_DMK!H11+LJA!H11+LSPA!H11+LiepU!H11+LU!H11+RTA!H11+RTU!H11+VeA!H11+ViA!H11+RSU!H11+LBTU!H11+JVLMA!H11+LMA!H11+LKA!H11+LKA_LKK!H11 -> 0 | I11: =BA!I11+DU!I11+DU_DMK!I11+LJA!I11+LSPA!I11+LiepU!I11+LU!I11+RTA!I11+RTU!I11+VeA!I11+ViA!I11+RSU!I11+LBTU!I11+JVLMA!I11+LMA!I11+LKA!I11+LKA_LKK!I11 -> 0 | J11: =BA!J11+DU!J11+DU_DMK!J11+LJA!J11+LSPA!J11+LiepU!J11+LU!J11+RTA!J11+RTU!J11+VeA!J11+ViA!J11+RSU!J11+LBTU!J11+JVLMA!J11+LMA!J11+LKA!J11+LKA_LKK!J11 -> 0 | K11: =BA!K11+DU!K11+DU_DMK!K11+LJA!K11+LSPA!K11+LiepU!K11+LU!K11+RTA!K11+RTU!K11+VeA!K11+ViA!K11+RSU!K11+LBTU!K11+JVLMA!K11+LMA!K11+LKA!K11+LKA_LKK!K11 -> 0 | L11: =BA!L11+DU!L11+DU_DMK!L11+LJA!L11+LSPA!L11+LiepU!L11+LU!L11+RTA!L11+RTU!L11+VeA!L11+ViA!L11+RSU!L11+LBTU!L11+JVLMA!L11+LMA!L11+LKA!L11+LKA_LKK!L11 -> 0 | ... AC11: =BA!AC11+DU!AC11+DU_DMK!AC11+LJA!AC11+LSPA!AC11+LiepU!AC11+LU!AC11+RTA!AC11+RTU!AC11+VeA!AC11+ViA!AC11+RSU!AC11+LBTU!AC11+JVLMA!AC11+LMA!AC11+LKA!AC11+LKA_LKK!AC11 -> 0 | AE11: =ROUND(SUM(Q11:AB11)-SUM(E11:P11)+AC11,2) -> 0 | AF11: =AE11/12 -> 0 | AG11: =AF11*8 -> 0
B12: 1.5. | C12: Kurināmā koksne | E12: =BA!E12+DU!E12+DU_DMK!E12+LJA!E12+LSPA!E12+LiepU!E12+LU!E12+RTA!E12+RTU!E12+VeA!E12+ViA!E12+RSU!E12+LBTU!E12+JVLMA!E12+LMA!E12+LKA!E12+LKA_LKK!E12 -> 25358.302 | F12: =BA!F12+DU!F12+DU_DMK!F12+LJA!F12+LSPA!F12+LiepU!F12+LU!F12+RTA!F12+RTU!F12+VeA!F12+ViA!F12+RSU!F12+LBTU!F12+JVLMA!F12+LMA!F12+LKA!F12+LKA_LKK!F12 -> 20548.62 | G12: =BA!G12+DU!G12+DU_DMK!G12+LJA!G12+LSPA!G12+LiepU!G12+LU!G12+RTA!G12+RTU!G12+VeA!G12+ViA!G12+RSU!G12+LBTU!G12+JVLMA!G12+LMA!G12+LKA!G12+LKA_LKK!G12 -> 19568.89 | H12: =BA!H12+DU!H12+DU_DMK!H12+LJA!H12+LSPA!H12+LiepU!H12+LU!H12+RTA!H12+RTU!H12+VeA!H12+ViA!H12+RSU!H12+LBTU!H12+JVLMA!H12+LMA!H12+LKA!H12+LKA_LKK!H12 -> 12513.501 | I12: =BA!I12+DU!I12+DU_DMK!I12+LJA!I12+LSPA!I12+LiepU!I12+LU!I12+RTA!I12+RTU!I12+VeA!I12+ViA!I12+RSU!I12+LBTU!I12+JVLMA!I12+LMA!I12+LKA!I12+LKA_LKK!I12 -> 2999.4812 | J12: =BA!J12+DU!J12+DU_DMK!J12+LJA!J12+LSPA!J12+LiepU!J12+LU!J12+RTA!J12+RTU!J12+VeA!J12+ViA!J12+RSU!J12+LBTU!J12+JVLMA!J12+LMA!J12+LKA!J12+LKA_LKK!J12 -> 0 | K12: =BA!K12+DU!K12+DU_DMK!K12+LJA!K12+LSPA!K12+LiepU!K12+LU!K12+RTA!K12+RTU!K12+VeA!K12+ViA!K12+RSU!K12+LBTU!K12+JVLMA!K12+LMA!K12+LKA!K12+LKA_LKK!K12 -> 3012.15 | L12: =BA!L12+DU!L12+DU_DMK!L12+LJA!L12+LSPA!L12+LiepU!L12+LU!L12+RTA!L12+RTU!L12+VeA!L12+ViA!L12+RSU!L12+LBTU!L12+JVLMA!L12+LMA!L12+LKA!L12+LKA_LKK!L12 -> 0 | ... AC12: =BA!AC12+DU!AC12+DU_DMK!AC12+LJA!AC12+LSPA!AC12+LiepU!AC12+LU!AC12+RTA!AC12+RTU!AC12+VeA!AC12+ViA!AC12+RSU!AC12+LBTU!AC12+JVLMA!AC12+LMA!AC12+LKA!AC12+LKA_LKK!AC12 -> 0 | AE12: =ROUND(SUM(Q12:AB12)-SUM(E12:P12)+AC12,2) -> 531325.13 | AF12: =AE12/12 -> 44277.094 | AG12: =AF12*8 -> 354216.75
B13: 1.6. | C13: Norādīt citu konkrētu energoresursu veidu | E13: =BA!E13+DU!E13+DU_DMK!E13+LJA!E13+LSPA!E13+LiepU!E13+LU!E13+RTA!E13+RTU!E13+VeA!E13+ViA!E13+RSU!E13+LBTU!E13+JVLMA!E13+LMA!E13+LKA!E13+LKA_LKK!E13 -> 5081.8064 | F13: =BA!F13+DU!F13+DU_DMK!F13+LJA!F13+LSPA!F13+LiepU!F13+LU!F13+RTA!F13+RTU!F13+VeA!F13+ViA!F13+RSU!F13+LBTU!F13+JVLMA!F13+LMA!F13+LKA!F13+LKA_LKK!F13 -> 4831.3364 | G13: =BA!G13+DU!G13+DU_DMK!G13+LJA!G13+LSPA!G13+LiepU!G13+LU!G13+RTA!G13+RTU!G13+VeA!G13+ViA!G13+RSU!G13+LBTU!G13+JVLMA!G13+LMA!G13+LKA!G13+LKA_LKK!G13 -> 8831.5964 | H13: =BA!H13+DU!H13+DU_DMK!H13+LJA!H13+LSPA!H13+LiepU!H13+LU!H13+RTA!H13+RTU!H13+VeA!H13+ViA!H13+RSU!H13+LBTU!H13+JVLMA!H13+LMA!H13+LKA!H13+LKA_LKK!H13 -> 2290.4332 | I13: =BA!I13+DU!I13+DU_DMK!I13+LJA!I13+LSPA!I13+LiepU!I13+LU!I13+RTA!I13+RTU!I13+VeA!I13+ViA!I13+RSU!I13+LBTU!I13+JVLMA!I13+LMA!I13+LKA!I13+LKA_LKK!I13 -> 1061.775 | J13: =BA!J13+DU!J13+DU_DMK!J13+LJA!J13+LSPA!J13+LiepU!J13+LU!J13+RTA!J13+RTU!J13+VeA!J13+ViA!J13+RSU!J13+LBTU!J13+JVLMA!J13+LMA!J13+LKA!J13+LKA_LKK!J13 -> 0 | K13: =BA!K13+DU!K13+DU_DMK!K13+LJA!K13+LSPA!K13+LiepU!K13+LU!K13+RTA!K13+RTU!K13+VeA!K13+ViA!K13+RSU!K13+LBTU!K13+JVLMA!K13+LMA!K13+LKA!K13+LKA_LKK!K13 -> 0 | L13: =BA!L13+DU!L13+DU_DMK!L13+LJA!L13+LSPA!L13+LiepU!L13+LU!L13+RTA!L13+RTU!L13+VeA!L13+ViA!L13+RSU!L13+LBTU!L13+JVLMA!L13+LMA!L13+LKA!L13+LKA_LKK!L13 -> 0 | ... AC13: =BA!AC13+DU!AC13+DU_DMK!AC13+LJA!AC13+LSPA!AC13+LiepU!AC13+LU!AC13+RTA!AC13+RTU!AC13+VeA!AC13+ViA!AC13+RSU!AC13+LBTU!AC13+JVLMA!AC13+LMA!AC13+LKA!AC13+LKA_LKK!AC13 -> 0 | AE13: =ROUND(SUM(Q13:AB13)-SUM(E13:P13)+AC13,2) -> 28093.41 | AF13: =AE13/12 -> 2341.1175 | AG13: =AF13*8 -> 18728.94
B14: 1.7. | C14: Norādīt citu konkrētu energoresursu veidu | E14: =BA!E14+DU!E14+DU_DMK!E14+LJA!E14+LSPA!E14+LiepU!E14+LU!E14+RTA!E14+RTU!E14+VeA!E14+ViA!E14+RSU!E14+LBTU!E14+JVLMA!E14+LMA!E14+LKA!E14+LKA_LKK!E14 -> 351.58 | F14: =BA!F14+DU!F14+DU_DMK!F14+LJA!F14+LSPA!F14+LiepU!F14+LU!F14+RTA!F14+RTU!F14+VeA!F14+ViA!F14+RSU!F14+LBTU!F14+JVLMA!F14+LMA!F14+LKA!F14+LKA_LKK!F14 -> 175.79 | G14: =BA!G14+DU!G14+DU_DMK!G14+LJA!G14+LSPA!G14+LiepU!G14+LU!G14+RTA!G14+RTU!G14+VeA!G14+ViA!G14+RSU!G14+LBTU!G14+JVLMA!G14+LMA!G14+LKA!G14+LKA_LKK!G14 -> 175.79 | H14: =BA!H14+DU!H14+DU_DMK!H14+LJA!H14+LSPA!H14+LiepU!H14+LU!H14+RTA!H14+RTU!H14+VeA!H14+ViA!H14+RSU!H14+LBTU!H14+JVLMA!H14+LMA!H14+LKA!H14+LKA_LKK!H14 -> 175.79 | I14: =BA!I14+DU!I14+DU_DMK!I14+LJA!I14+LSPA!I14+LiepU!I14+LU!I14+RTA!I14+RTU!I14+VeA!I14+ViA!I14+RSU!I14+LBTU!I14+JVLMA!I14+LMA!I14+LKA!I14+LKA_LKK!I14 -> 16.23 | J14: =BA!J14+DU!J14+DU_DMK!J14+LJA!J14+LSPA!J14+LiepU!J14+LU!J14+RTA!J14+RTU!J14+VeA!J14+ViA!J14+RSU!J14+LBTU!J14+JVLMA!J14+LMA!J14+LKA!J14+LKA_LKK!J14 -> 0 | K14: =BA!K14+DU!K14+DU_DMK!K14+LJA!K14+LSPA!K14+LiepU!K14+LU!K14+RTA!K14+RTU!K14+VeA!K14+ViA!K14+RSU!K14+LBTU!K14+JVLMA!K14+LMA!K14+LKA!K14+LKA_LKK!K14 -> 0 | L14: =BA!L14+DU!L14+DU_DMK!L14+LJA!L14+LSPA!L14+LiepU!L14+LU!L14+RTA!L14+RTU!L14+VeA!L14+ViA!L14+RSU!L14+LBTU!L14+JVLMA!L14+LMA!L14+LKA!L14+LKA_LKK!L14 -> 0 | ... AC14: =BA!AC14+DU!AC14+DU_DMK!AC14+LJA!AC14+LSPA!AC14+LiepU!AC14+LU!AC14+RTA!AC14+RTU!AC14+VeA!AC14+ViA!AC14+RSU!AC14+LBTU!AC14+JVLMA!AC14+LMA!AC14+LKA!AC14+LKA_LKK!AC14 -> 0 | AE14: =ROUND(SUM(Q14:AB14)-SUM(E14:P14)+AC14,2) -> 693.93 | AF14: =AE14/12 -> 57.8275 | AG14: =AF14*8 -> 462.62

Sheet BA
B2: BANKU AUGSTSKOLAS energoresursu izmaksu sadārdzinājums
B4: Nr.p.k. | C4: Energoresursu veids | D4: Izdevumu EKK | E4: Izdevumi pēc naudas plūsmas principa par 2021.gadu EUR | Q4: Izdevumi pēc naudas plūsmas principa par 2022.gadu EUR Faktiskie izdevumi līdz 31.oktobrim un prognozētie no 1.novembra līdz 31.decembrim | AC4: Korekcijas (+/-), lai dati būtu salīdzināmi | AD4: Skaidrojums par veiktajām korekcijām | AE4: Energoresursu izmaksu pieaugums 2022.g. janvāris - decembris | AF4: Vidējās pieaugums mēnesī | AG4: Vidējās pieagums gadā | AI4: Sadārdzinājums - septembrim, oktobrim, novembrim, decembrim
E5: Janvāris (par decembri) | F5: Februāris (par janvāri) | G5: Marts (par februāri) | H5: Aprīlis (par martu) | I5: Maijs (par aprīli) | J5: Jūnijs (par maiju) | K5: Jūlijs (par jūniju) | L5: Augusts(par jūliju) | M5: Septembris (par augustu) | N5: Oktobris (par septembri) | O5: Novembris(par oktobri) | P5: Decembris (par novembri) | Q5: Janvāris (par decembri) | R5: Februāris (par janvāri) | S5: Marts (par februāri) | T5: Aprīlis (par martu) | U5: Maijs (par aprīli) | V5: Jūnijs (par maiju) | W5: Jūlijs (par jūniju) | X5: Augusts(par jūliju) | Y5: Septembris (par augustu) | Z5: Oktobris (par septembri) | AA5: Novembris(par oktobri) | AB5: Decembris (par novembri) | AF5: Vid.izm. Menesī | AG5: Vid.izm. Menesī | AI5: Vid.izm. Menesī
B6: a | C6: b | D6: c | E6: d | F6: e | G6: f | H6: g | I6: h | J6: d | K6: e | L6: f | M6: g | N6: h | O6: g | P6: h | Q6: i | R6: j | S6: k | T6: l | U6: m | V6: i | W6: j | X6: k | Y6: l | Z6: m | AA6: l | AB6: m | AC6: n | AD6: o | AE6: p=i+j+k+l+m-d-e-f-g-h+n
B7: 1. | C7: Kopā energoresursi: | D7: x | E7: =SUM(E8:E14) -> 4791.38 | F7: =SUM(F8:F14) -> 6375.04 | G7: =SUM(G8:G14) -> 5956.15 | H7: =SUM(H8:H14) -> 3751.81 | I7: =SUM(I8:I14) -> 1969.02 | J7: =SUM(J8:J14) -> 898.59 | K7: =SUM(K8:K14) -> 411.41 | L7: =SUM(L8:L14) -> 353.25 | ... P7: =SUM(P8:P14) -> 6574.62 | Q7: =Q8 -> 10424.64 | R7: =R8 -> 9732.32 | S7: =S8 -> 7821.89 | T7: =T8 -> 7214.7 | U7: =U8 -> 4832.32 | V7: =V8 -> 1968.42 | W7: =W8 -> 1028.12 | X7: =X8 -> 903.54 | ... AC7: =AC8 -> 0 | AD7: =SUM(AD8:AD14) -> 0 | AE7: =SUM(AE8:AE14) -> 28161.64 | AF7: =SUM(AF8:AF14) -> 2346.8033 | AG7: =SUM(AG8:AG14) -> 18774.427 | AJ7: =SUM(E7:P7) -> 34800.91 | AK7: =SUM(Q7:AC7) -> 62962.55 | AL7: =AJ7-AK7 -> -28161.64 | AM7: =AK7/AJ7*100-100 -> 80.922137
B8: 1.2. | C8: Siltumenerģija apkurei (2221) | E8: 4791.38 | F8: 6375.04 | G8: 5956.15 | H8: 3751.81 | I8: 1969.02 | J8: 898.59 | K8: 411.41 | L8: 353.25 | M8: 404.25 | N8: 1042.26 | O8: 2273.13 | P8: 6574.62 | Q8: 10424.64 | R8: 9732.32 | S8: 7821.89 | T8: 7214.7 | U8: 4832.32 | V8: 1968.42 | W8: 1028.12 | X8: 903.54 | Y8: 814.38 | Z8: 1512.67 | AA8: 4037.55 | AB8: 12672 | AE8: =ROUND(SUM(Q8:AB8)-SUM(E8:P8)+AC8,2) -> 28161.64 | AF8: =AE8/12 -> 2346.8033 | AG8: =AF8*8 -> 18774.427 | AI8: 50% + janvāra mēnesis
C9: Starpība % | Q9: =Q8/E8 -> 2.1757072 | R9: =R8/F8 -> 1.5266289 | S9: =S8/G8 -> 1.313246 | T9: =T8/H8 -> 1.9229918 | U9: =U8/I8 -> 2.4541752 | V9: =V8/J8 -> 2.1905652 | W9: =W8/K8 -> 2.4990156 | X9: =X8/L8 -> 2.5577919 | ... AB9: =AB8/P8 -> 1.9274118
B10: 1.3. | C10: Dabasgāze | AE10: =ROUND(SUM(Q10:AB10)-SUM(E10:P10)+AC10,2) -> 0
B11: 1.4. | C11: Ogles | AE11: =ROUND(SUM(Q11:AB11)-SUM(E11:P11)+AC11,2) -> 0
B12: 1.5. | C12: Kurināmā koksne | AE12: =ROUND(SUM(Q12:AB12)-SUM(E12:P12)+AC12,2) -> 0
B13: 1.6. | C13: Norādīt citu konkrētu energoresursu veidu | AE13: =ROUND(SUM(Q13:AB13)-SUM(E13:P13)+AC13,2) -> 0
B14: 1.7. | C14: Norādīt citu konkrētu energoresursu veidu | AE14: =ROUND(SUM(Q14:AB14)-SUM(E14:P14)+AC14,2) -> 0
C16: 2022.gada 14.09.2022
C18: Sagatavotājs:
C19: (Katrīna Alksne-Alksnīte, telefona nr. 26475683, epasts: Katrina.Alksne-Alksnite@ba.lv)

Sheet DU
B2: ____________________________________(Daugavpils Universitāte) Energoresursu izmaksu sadārdzinājums
B4: Nr.p.k. | C4: Energoresursu veids | D4: Izdevumu EKK | E4: Izdevumi pēc naudas plūsmas principa par 2021.gadu EUR | Q4: Izdevumi pēc naudas plūsmas principa par 2022.gadu EUR Faktiskie izdevumi līdz 31.oktobrim un prognozētie no 1.novembra līdz 31.decembrim | AC4: Korekcijas (+/-), lai dati būtu salīdzināmi | AD4: Skaidrojums par veiktajām korekcijām | AE4: Energoresursu izmaksu pieaugums 2022.g. janvāris - decembris | AF4: Vidējās pieaugums mēnesī | AG4: Vidējās pieagums gadā | AI4: Sadārdzinājums - septembrim, oktobrim, novembrim, decembrim
E5: Janvāris (par decembri) | F5: Februāris (par janvāri) | G5: Marts (par februāri) | H5: Aprīlis (par martu) | I5: Maijs (par aprīli) | J5: Jūnijs (par maiju) | K5: Jūlijs (par jūniju) | L5: Augusts(par jūliju) | M5: Septembris (par augustu) | N5: Oktobris (par septembri) | O5: Novembris(par oktobri) | P5: Decembris (par novembri) | Q5: Janvāris (par decembri) | R5: Februāris (par janvāri) | S5: Marts (par februāri) | T5: Aprīlis (par martu) | U5: Maijs (par aprīli) | V5: Jūnijs (par maiju) | W5: Jūlijs (par jūniju) | X5: Augusts(par jūliju) | Y5: Septembris (par augustu) | Z5: Oktobris (par septembri) | AA5: Novembris(par oktobri) | AB5: Decembris (par novembri) | AF5: Vid.izm. Menesī | AG5: Vid.izm. Menesī | AI5: Vid.izm. Menesī
B6: a | C6: b | D6: c | E6: d | F6: e | G6: f | H6: g | I6: h | J6: d | K6: e | L6: f | M6: g | N6: h | O6: g | P6: h | Q6: i | R6: j | S6: k | T6: l | U6: m | V6: i | W6: j | X6: k | Y6: l | Z6: m | AA6: l | AB6: m | AC6: n | AD6: o | AE6: p=i+j+k+l+m-d-e-f-g-h+n
B7: 1. | C7: Kopā energoresursi: | D7: x | E7: =SUM(E8:E14) -> 15047.57 | F7: =SUM(F8:F14) -> 17951.41 | G7: =SUM(G8:G14) -> 21962.13 | H7: =SUM(H8:H14) -> 13945.9 | I7: =SUM(I8:I14) -> 7340.94 | J7: =SUM(J8:J14) -> 2298.44 | K7: =SUM(K8:K14) -> 341.43 | L7: =SUM(L8:L14) -> 152.94 | ... P7: =SUM(P8:P14) -> 11798.2 | Q7: =Q8 -> 26085.93 | R7: =R8 -> 20751.05 | S7: =S8 -> 26845.27 | T7: =T8 -> 25821.91 | U7: =U8 -> 10351.4 | V7: =V8 -> 2950.86 | W7: =W8 -> 1855.7 | X7: =X8 -> 1407.12 | ... AC7: =AC8 -> 0 | AD7: =SUM(AD8:AD14) -> 0 | AE7: =SUM(AE8:AE14) -> 61291.45 | AF7: =SUM(AF8:AF14) -> 5107.6208 | AG7: =SUM(AG8:AG14) -> 40860.967 | AJ7: =SUM(E7:P7) -> 96883.39 | AK7: =SUM(Q7:AC7) -> 158174.84 | AL7: =AJ7-AK7 -> -61291.45 | AM7: =AK7/AJ7*100-100 -> 63.263115
B8: 1.2. | C8: Siltumenerģija apkurei (2221) | E8: 15047.57 | F8: 17951.41 | G8: 21962.13 | H8: 13945.9 | I8: 7340.94 | J8: 2298.44 | K8: 341.43 | L8: 152.94 | M8: 306.01 | N8: 472.8 | O8: 5265.62 | P8: 11798.2 | Q8: 26085.93 | R8: 20751.05 | S8: 26845.27 | T8: 25821.91 | U8: 10351.4 | V8: 2950.86 | W8: 1855.7 | X8: 1407.12 | Y8: 1684.71 | Z8: 2182.9 | AA8: 9555.36 | AB8: 28682.63 | AE8: =ROUND(SUM(Q8:AB8)-SUM(E8:P8)+AC8,2) -> 61291.45 | AF8: =AE8/12 -> 5107.6208 | AG8: =AF8*8 -> 40860.967 | AI8: 50% + janvāra mēnesis
C9: Starpība % | Q9: =Q8/E8 -> 1.7335643 | R9: =R8/F8 -> 1.1559566 | S9: =S8/G8 -> 1.2223436 | T9: =T8/H8 -> 1.8515772 | U9: =U8/I8 -> 1.4100919 | V9: =V8/J8 -> 1.2838534 | W9: =W8/K8 -> 5.4350819 | X9: =X8/L8 -> 9.2004708 | ... AB9: =AB8/P8 -> 2.4311022
B10: 1.3. | C10: Dabasgāze | AE10: =ROUND(SUM(Q10:AB10)-SUM(E10:P10)+AC10,2) -> 0
B11: 1.4. | C11: Ogles | AE11: =ROUND(SUM(Q11:AB11)-SUM(E11:P11)+AC11,2) -> 0
B12: 1.5. | C12: Kurināmā koksne | AE12: =ROUND(SUM(Q12:AB12)-SUM(E12:P12)+AC12,2) -> 0
B13: 1.6. | C13: Norādīt citu konkrētu energoresursu veidu | AE13: =ROUND(SUM(Q13:AB13)-SUM(E13:P13)+AC13,2) -> 0
B14: 1.7. | C14: Norādīt citu konkrētu energoresursu veidu | AE14: =ROUND(SUM(Q14:AB14)-SUM(E14:P14)+AC14,2) -> 0
I16: Daugavpils Siltumtīkli tarifi: | L16: no 1.09. | M16: 122,55 EUR bez PVN par 1 MWh siltuma
L17: no 1.10. | M17: 175,59 EUR bez PVN par 1 MWh siltuma
C19: 2022.gada ___.___________ | I19: Elektroenerģijas izdevumu prognoze sastādīta balstoties uz pašreizējām elektroenerģijas cenām
C20: Sagatavotājs:
C21: (Vārds, Uzvārds, telefona nr., epasts)

Sheet DU_DMK
B2: Daugavpils Universitātes aģentūra Daugavpils Universitātes Daugavpils medicīnas koledža Energoresursu izmaksu sadārdzinājums
B4: Nr.p.k. | C4: Energoresursu veids | D4: Izdevumu EKK | E4: Izdevumi pēc naudas plūsmas principa par 2021.gadu EUR | Q4: Izdevumi pēc naudas plūsmas principa par 2022.gadu EUR Faktiskie izdevumi līdz 30.septembrim un prognozētie no 1.oktobra līdz 31.decembrim | AC4: Korekcijas (+/-), lai dati būtu salīdzināmi | AD4: Skaidrojums par veiktajām korekcijām | AE4: Energoresursu izmaksu pieaugums 2022.g. janvāris - decembris | AF4: Vidējās pieaugums mēnesī | AG4: Vidējās pieagums gadā | AI4: Sadārdzinājums - septembrim, oktobrim, novembrim, decembrim
E5: Janvāris (par decembri) | F5: Februāris (par janvāri) | G5: Marts (par februāri) | H5: Aprīlis (par martu) | I5: Maijs (par aprīli) | J5: Jūnijs (par maiju) | K5: Jūlijs (par jūniju) | L5: Augusts(par jūliju) | M5: Septembris (par augustu) | N5: Oktobris (par septembri) | O5: Novembris(par oktobri) | P5: Decembris (par novembri) | Q5: Janvāris (par decembri) | R5: Februāris (par janvāri) | S5: Marts (par februāri) | T5: Aprīlis (par martu) | U5: Maijs (par aprīli) | V5: Jūnijs (par maiju) | W5: Jūlijs (par jūniju) | X5: Augusts(par jūliju) | Y5: Septembris (par augustu) | Z5: Oktobris (par septembri) | AA5: Novembris(par oktobri) | AB5: Decembris (par novembri) | AF5: Vid.izm. Menesī | AG5: Vid.izm. Menesī | AI5: Vid.izm. Menesī
B6: a | C6: b | D6: c | E6: d | F6: e | G6: f | H6: g | I6: h | J6: d | K6: e | L6: f | M6: g | N6: h | O6: g | P6: h | Q6: i | R6: j | S6: k | T6: l | U6: m | V6: i | W6: j | X6: k | Y6: l | Z6: m | AA6: l | AB6: m | AC6: n | AD6: o | AE6: p=i+j+k+l+m-d-e-f-g-h+n
B7: 1. | C7: Kopā energoresursi: | D7: x | E7: =SUM(E8:E14) -> 1472.72 | F7: =SUM(F8:F14) -> 1776.17 | G7: =SUM(G8:G14) -> 5838.95 | H7: =SUM(H8:H14) -> 1437.46 | I7: =SUM(I8:I14) -> 1053 | J7: =SUM(J8:J14) -> 718.4 | K7: =SUM(K8:K14) -> 516.84 | L7: =SUM(L8:L14) -> 446.33 | ... P7: =SUM(P8:P14) -> 8341.52 | Q7: =Q8+Q13 -> 6896.07 | R7: =R8+R13 -> 2117.21 | S7: =S8+S13 -> 2833.49 | T7: =T8+T13 -> 2465.31 | U7: =U8+U13 -> 1654.34 | V7: =V8+V13 -> 1583.29 | W7: =W8+W13 -> 1468.02 | X7: =X8+X13 -> 1223.3 | ... AC7: =AC8+AC13 -> 0 | AD7: =SUM(AD8:AD14) -> 0 | AE7: =SUM(AE8:AE14) -> 29880.2 | AF7: =SUM(AF8:AF14) -> 2490.0167 | AG7: =SUM(AG8:AG14) -> 19920.133 | AJ7: =SUM(E7:P7) -> 24308.39 | AK7: =SUM(Q7:AC7) -> 54188.59 | AL7: =AJ7-AK7 -> -29880.2 | AM7: =AK7/AJ7*100-100 -> 122.92135
B8: 1.2. | C8: Siltumenerģija apkurei (2221) | D8: 2221 | E8: 1472.72 | F8: 1776.17 | G8: 1337.75 | H8: 1437.46 | I8: 1053 | J8: 718.4 | K8: 516.84 | L8: 446.33 | M8: 592.69 | N8: 788.54 | O8: 1325.77 | P8: 1445.56 | Q8: 2055.03 | R8: 2117.21 | S8: 2833.49 | T8: 2465.31 | U8: 1654.34 | V8: 1583.29 | W8: 1468.02 | X8: 1223.3 | Y8: =1242.38+5.18 -> 1247.56 | Z8: 2500 | AA8: 3000 | AB8: 3000 | AE8: =ROUND(SUM(Q8:AB8)-SUM(E8:P8)+AC8,2) -> 12236.32 | AF8: =AE8/12 -> 1019.6933 | AG8: =AF8*8 -> 8157.5467 | AI8: 50% + janvāra mēnesis
C9: Starpība % | Q9: =Q8/E8 -> 1.3953976 | R9: =R8/F8 -> 1.1920086 | S9: =S8/G8 -> 2.1181013 | T9: =T8/H8 -> 1.715046 | U9: =U8/I8 -> 1.5710731 | V9: =V8/J8 -> 2.2039115 | W9: =W8/K8 -> 2.8403761 | X9: =X8/L8 -> 2.7407972 | ... AB9: =AB8/P8 -> 2.0753203 | AF9: =AE9/12 -> 0 | AG9: =AF9*8 -> 0
B10: 1.3. | C10: Dabasgāze | AE10: =ROUND(SUM(Q10:AB10)-SUM(E10:P10)+AC10,2) -> 0 | AF10: =AE10/12 -> 0 | AG10: =AF10*8 -> 0
B11: 1.4. | C11: Ogles | AE11: =ROUND(SUM(Q11:AB11)-SUM(E11:P11)+AC11,2) -> 0 | AF11: =AE11/12 -> 0 | AG11: =AF11*8 -> 0
B12: 1.5. | C12: Kurināmā koksne | AE12: =ROUND(SUM(Q12:AB12)-SUM(E12:P12)+AC12,2) -> 0 | AF12: =AE12/12 -> 0 | AG12: =AF12*8 -> 0
B13: 1.6. | C13: Kokskaidu granulas | D13: 2321 | G13: =3720+781.2 -> 4501.2 | P13: 6895.96 | Q13: =2804.04+2037 -> 4841.04 | AA13: 20000 | AB13: 4200 | AE13: =ROUND(SUM(Q13:AB13)-SUM(E13:P13)+AC13,2) -> 17643.88 | AF13: =AE13/12 -> 1470.3233 | AG13: =AF13*8 -> 11762.587
B14: 1.7. | C14: Norādīt citu konkrētu energoresursu veidu | AE14: =ROUND(SUM(Q14:AB14)-SUM(E14:P14)+AC14,2) -> 0 | AF14: =AE14/12 -> 0 | AG14: =AF14*8 -> 0
C16: 2022. gada 15. septembrī
C17: Sagatavotājs: Nataļja Pučkova, 28210142, natalja@dmk.lv
C18: (Vārds, Uzvārds, telefona nr., epasts)

Sheet LJA
B2: Latvijas Jūras akadēmija Energoresursu izmaksu sadārdzinājums
B4: Nr.p.k. | C4: Energoresursu veids | D4: Izdevumu EKK | E4: Izdevumi pēc naudas plūsmas principa par 2021.gadu EUR | Q4: Izdevumi pēc naudas plūsmas principa par 2022.gadu EUR Faktiskie izdevumi līdz 31.oktobrim un prognozētie no 1.novembra līdz 31.decembrim | AC4: Korekcijas (+/-), lai dati būtu salīdzināmi | AD4: Skaidrojums par veiktajām korekcijām | AE4: Energoresursu izmaksu pieaugums 2022.g. janvāris - decembris | AF4: Vidējās pieaugums mēnesī | AG4: Vidējās pieagums gadā | AI4: Sadārdzinājums - septembrim, oktobrim, novembrim, decembrim
E5: Janvāris (par decembri) | F5: Februāris (par janvāri) | G5: Marts (par februāri) | H5: Aprīlis (par martu) | I5: Maijs (par aprīli) | J5: Jūnijs (par maiju) | K5: Jūlijs (par jūniju) | L5: Augusts(par jūliju) | M5: Septembris (par augustu) | N5: Oktobris (par septembri) | O5: Novembris(par oktobri) | P5: Decembris (par novembri) | Q5: Janvāris (par decembri) | R5: Februāris (par janvāri) | S5: Marts (par februāri) | T5: Aprīlis (par martu) | U5: Maijs (par aprīli) | V5: Jūnijs (par maiju) | W5: Jūlijs (par jūniju) | X5: Augusts(par jūliju) | Y5: Septembris (par augustu) | Z5: Oktobris (par septembri) | AA5: Novembris(par oktobri) | AB5: Decembris (par novembri) | AF5: Vid.izm. Menesī | AG5: Vid.izm. Menesī | AI5: Vid.izm. Menesī
B6: a | C6: b | D6: c | E6: d | F6: e | G6: f | H6: g | I6: h | J6: d | K6: e | L6: f | M6: g | N6: h | O6: g | P6: h | Q6: i | R6: j | S6: k | T6: l | U6: m | V6: i | W6: j | X6: k | Y6: l | Z6: m | AA6: l | AB6: m | AC6: n | AD6: o | AE6: p=i+j+k+l+m-d-e-f-g-h+n
B7: 1. | C7: Kopā energoresursi: | D7: x | E7: =SUM(E8:E14) -> 13422 | F7: =SUM(F8:F14) -> 16360 | G7: =SUM(G8:G14) -> 15235 | H7: =SUM(H8:H14) -> 12310 | I7: =SUM(I8:I14) -> 8266 | J7: =SUM(J8:J14) -> 3655 | K7: =SUM(K8:K14) -> 1942 | L7: =SUM(L8:L14) -> 1318 | ... P7: =SUM(P8:P14) -> 15881 | Q7: =Q8 -> 24460 | R7: =R8 -> 21197 | S7: =S8 -> 18159 | T7: =T8 -> 21452 | U7: =U8 -> 16726 | V7: =V8 -> 4392 | W7: =W8 -> 3422 | X7: =X8 -> 3115 | ... AC7: =AC8 -> 0 | AD7: =SUM(AD8:AD14) -> 0 | AE7: =SUM(AE8:AE14) -> 70251 | AF7: =SUM(AF8:AF14) -> 5854.25 | AG7: =SUM(AG8:AG14) -> 46834 | AJ7: =SUM(E7:P7) -> 99672 | AK7: =SUM(Q7:AC7) -> 169923 | AL7: =AJ7-AK7 -> -70251 | AM7: =AK7/AJ7*100-100 -> 70.482182
B8: 1.2. | C8: Siltumenerģija apkurei (2221) | D8: 2221 | E8: 13422 | F8: 16360 | G8: 15235 | H8: 12310 | I8: 8266 | J8: 3655 | K8: 1942 | L8: 1318 | M8: 1457 | N8: 2975 | O8: 6851 | P8: 15881 | Q8: 24460 | R8: 21197 | S8: 18159 | T8: 21452 | U8: 16726 | V8: 4392 | W8: 3422 | X8: 3115 | Y8: 3253 | Z8: 3432 | AA8: 17729 | AB8: 32586 | AE8: =ROUND(SUM(Q8:AB8)-SUM(E8:P8)+AC8,2) -> 70251 | AF8: =AE8/12 -> 5854.25 | AG8: =AF8*8 -> 46834 | AI8: 50% + janvāra mēnesis
C9: Starpība % | Q9: =Q8/E8 -> 1.8223812 | R9: =R8/F8 -> 1.2956601 | S9: =S8/G8 -> 1.1919265 | T9: =T8/H8 -> 1.7426483 | U9: =U8/I8 -> 2.0234696 | V9: =V8/J8 -> 1.2016416 | W9: =W8/K8 -> 1.7621009 | X9: =X8/L8 -> 2.3634294 | ... AB9: =AB8/P8 -> 2.0518859
B10: 1.3. | C10: Dabasgāze | AE10: =ROUND(SUM(Q10:AB10)-SUM(E10:P10)+AC10,2) -> 0
B11: 1.4. | C11: Ogles | AE11: =ROUND(SUM(Q11:AB11)-SUM(E11:P11)+AC11,2) -> 0
B12: 1.5. | C12: Kurināmā koksne | AE12: =ROUND(SUM(Q12:AB12)-SUM(E12:P12)+AC12,2) -> 0
B13: 1.6. | C13: Norādīt citu konkrētu energoresursu veidu | AE13: =ROUND(SUM(Q13:AB13)-SUM(E13:P13)+AC13,2) -> 0
B14: 1.7. | C14: Norādīt citu konkrētu energoresursu veidu | AE14: =ROUND(SUM(Q14:AB14)-SUM(E14:P14)+AC14,2) -> 0
C16: 2022.gada 15.septembris
C17: Sagatavotājs:
C18: Irina Skurska, tel. 67161119, e-pasts: irina@latja.lv

Sheet LSPA
B2: Latvijas Sporta pedagoģijas akadēmijas Energoresursu izmaksu sadārdzinājums
B4: Nr.p.k. | C4: Energoresursu veids | D4: Izdevumu EKK | E4: Izdevumi pēc naudas plūsmas principa par 2021.gadu EUR | Q4: Izdevumi pēc naudas plūsmas principa par 2022.gadu EUR Faktiskie izdevumi līdz 31.oktobrim un prognozētie no 1.novembra līdz 31.decembrim | AC4: Korekcijas (+/-), lai dati būtu salīdzināmi | AD4: Skaidrojums par veiktajām korekcijām | AE4: Energoresursu izmaksu pieaugums 2022.g. janvāris - decembris | AF4: Vidējās pieaugums mēnesī | AG4: Vidējās pieagums gadā | AI4: Sadārdzinājums - septembrim, oktobrim, novembrim, decembrim
E5: Janvāris (par decembri) | F5: Februāris (par janvāri) | G5: Marts (par februāri) | H5: Aprīlis (par martu) | I5: Maijs (par aprīli) | J5: Jūnijs (par maiju) | K5: Jūlijs (par jūniju) | L5: Augusts(par jūliju) | M5: Septembris (par augustu) | N5: Oktobris (par septembri) | O5: Novembris(par oktobri) | P5: Decembris (par novembri) | Q5: Janvāris (par decembri) | R5: Februāris (par janvāri) | S5: Marts (par februāri) | T5: Aprīlis (par martu) | U5: Maijs (par aprīli) | V5: Jūnijs (par maiju) | W5: Jūlijs (par jūniju) | X5: Augusts(par jūliju) | Y5: Septembris (par augustu) | Z5: Oktobris (par septembri) | AA5: Novembris(par oktobri) | AB5: Decembris (par novembri) | AF5: Vid.izm. Menesī | AG5: Vid.izm. Menesī | AI5: Vid.izm. Menesī
B6: a | C6: b | D6: c | E6: d | F6: e | G6: f | H6: g | I6: h | J6: d | K6: e | L6: f | M6: g | N6: h | O6: g | P6: h | Q6: i | R6: j | S6: k | T6: l | U6: m | V6: i | W6: j | X6: k | Y6: l | Z6: m | AA6: l | AB6: m | AC6: n | AD6: o | AE6: p=i+j+k+l+m-d-e-f-g-h+n
B7: 1. | C7: Kopā energoresursi: | D7: x | E7: =SUM(E8:E14) -> 9523 | F7: =SUM(F8:F14) -> 12627 | G7: =SUM(G8:G14) -> 12843 | H7: =SUM(H8:H14) -> 8417 | I7: =SUM(I8:I14) -> 4165 | J7: =SUM(J8:J14) -> 1019 | K7: =SUM(K8:K14) -> 270 | L7: =SUM(L8:L14) -> 204 | ... P7: =SUM(P8:P14) -> 10824 | Q7: =Q8 -> 21136 | R7: =R8 -> 18012 | S7: =S8 -> 14175 | T7: =T8 -> 14076 | U7: =U8 -> 8527 | V7: =V8 -> 1952 | W7: =W8 -> 539 | X7: =X8 -> 398 | ... AC7: =AC8 -> 0 | AD7: =SUM(AD8:AD14) -> 0 | AE7: =SUM(AE8:AE14) -> 64064 | AF7: =SUM(AF8:AF14) -> 5338.6667 | AG7: =SUM(AG8:AG14) -> 42709.333 | AJ7: =SUM(E7:P7) -> 61912 | AK7: =SUM(Q7:AC7) -> 125976 | AL7: =AJ7-AK7 -> -64064 | AM7: =AK7/AJ7*100-100 -> 103.4759
B8: 1.2. | C8: Siltumenerģija apkurei (2221) | E8: 9523 | F8: =22150-E8 -> 12627 | G8: =34993-E8-F8 -> 12843 | H8: =43410-G8-F8-E8 -> 8417 | I8: =47575-H8-G8-F8-E8 -> 4165 | J8: =48594-I8-H8-G8-F8-E8 -> 1019 | K8: =48864-J8-I8-H8-G8-F8-E8 -> 270 | L8: =49068-K8-J8-I8-H8-G8-F8-E8 -> 204 | M8: =49379-L8-K8-J8-I8-H8-G8-F8-E8 -> 311 | N8: =49746-M8-L8-K8-J8-I8-H8-G8-F8-E8 -> 367 | O8: =51088-N8-M8-L8-K8-J8-I8-H8-G8-F8-E8 -> 1342 | P8: =61912-O8-N8-M8-L8-K8-J8-I8-H8-G8-F8-E8 -> 10824 | Q8: 21136 | R8: =39148-Q8 -> 18012 | S8: =53323-R8-Q8 -> 14175 | T8: =67399-S8-R8-Q8 -> 14076 | U8: =75926-T8-S8-R8-Q8 -> 8527 | V8: =77878-U8-T8-S8-R8-Q8 -> 1952 | W8: =78417-V8-U8-T8-S8-R8-Q8 -> 539 | X8: =78815-W8-V8-U8-T8-S8-R8-Q8 -> 398 | Y8: 447 | Z8: 800 | AA8: 12260 | AB8: 33654 | AE8: =ROUND(SUM(Q8:AB8)-SUM(E8:P8)+AC8,2) -> 64064 | AF8: =AE8/12 -> 5338.6667 | AG8: =AF8*8 -> 42709.333 | AI8: 50% + janvāra mēnesis
C9: Starpība % | Q9: =Q8/E8 -> 2.2194687 | R9: =R8/F8 -> 1.4264671 | S9: =S8/G8 -> 1.1037141 | T9: =T8/H8 -> 1.6723298 | U9: =U8/I8 -> 2.0472989 | V9: =V8/J8 -> 1.9156035 | W9: =W8/K8 -> 1.9962963 | X9: =X8/L8 -> 1.9509804 | ... AB9: =AB8/P8 -> 3.1092018
B10: 1.3. | C10: Dabasgāze | AE10: =ROUND(SUM(Q10:AB10)-SUM(E10:P10)+AC10,2) -> 0
B11: 1.4. | C11: Ogles | AE11: =ROUND(SUM(Q11:AB11)-SUM(E11:P11)+AC11,2) -> 0
B12: 1.5. | C12: Kurināmā koksne | AE12: =ROUND(SUM(Q12:AB12)-SUM(E12:P12)+AC12,2) -> 0
B13: 1.6. | C13: Norādīt citu konkrētu energoresursu veidu | AE13: =ROUND(SUM(Q13:AB13)-SUM(E13:P13)+AC13,2) -> 0
B14: 1.7. | C14: Norādīt citu konkrētu energoresursu veidu | AE14: =ROUND(SUM(Q14:AB14)-SUM(E14:P14)+AC14,2) -> 0
C16: 2022.gada 13.septembrī
C17: Sagatavotājs:
C18: Ingūna Zazīte, tel.nr.67543415
C19: inguna.zazite@lspa.lv

Sheet LiepU
B2: Liepājas Universitāte (iestādes nosaukums) Energoresursu izmaksu sadārdzinājums
B4: Nr.p.k. | C4: Energoresursu veids | D4: Izdevumu EKK | E4: Izdevumi pēc naudas plūsmas principa par 2021.gadu EUR | Q4: Izdevumi pēc naudas plūsmas principa par 2022.gadu EUR Faktiskie izdevumi līdz 31.oktobrim un prognozētie no 1.novembra līdz 31.decembrim | AC4: Korekcijas (+/-), lai dati būtu salīdzināmi | AD4: Skaidrojums par veiktajām korekcijām | AE4: Energoresursu izmaksu pieaugums 2022.g. janvāris - decembris | AF4: Vidējās pieaugums mēnesī | AG4: Vidējās pieagums gadā | AI4: Sadārdzinājums - septembrim, oktobrim, novembrim, decembrim
E5: Janvāris (par decembri) | F5: Februāris (par janvāri) | G5: Marts (par februāri) | H5: Aprīlis (par martu) | I5: Maijs (par aprīli) | J5: Jūnijs (par maiju) | K5: Jūlijs (par jūniju) | L5: Augusts(par jūliju) | M5: Septembris (par augustu) | N5: Oktobris (par septembri) | O5: Novembris(par oktobri) | P5: Decembris (par novembri) | Q5: Janvāris (par decembri) | R5: Februāris (par janvāri) | S5: Marts (par februāri) | T5: Aprīlis (par martu) | U5: Maijs (par aprīli) | V5: Jūnijs (par maiju) | W5: Jūlijs (par jūniju) | X5: Augusts(par jūliju) | Y5: Septembris (par augustu) | Z5: Oktobris (par septembri) | AA5: Novembris(par oktobri) | AB5: Decembris (par novembri) | AF5: Vid.izm. Menesī | AG5: Vid.izm. Menesī | AI5: Vid.izm. Menesī
B6: a | C6: b | D6: c | E6: d | F6: e | G6: f | H6: g | I6: h | J6: d | K6: e | L6: f | M6: g | N6: h | O6: g | P6: h | Q6: i | R6: j | S6: k | T6: l | U6: m | V6: i | W6: j | X6: k | Y6: l | Z6: m | AA6: l | AB6: m | AC6: n | AD6: o | AE6: p=i+j+k+l+m-d-e-f-g-h+n
B7: 1. | C7: Kopā energoresursi: | D7: x | E7: =SUM(E8:E14) -> 747.3 | F7: =SUM(F8:F14) -> 7788.39 | G7: =SUM(G8:G14) -> 7748.6 | H7: =SUM(H8:H14) -> 6297.31 | I7: =SUM(I8:I14) -> 4029.29 | J7: =SUM(J8:J14) -> 1606.64 | K7: =SUM(K8:K14) -> 71.51 | L7: =SUM(L8:L14) -> 3.46 | ... P7: =SUM(P8:P14) -> 4835.52 | Q7: =Q8 -> 9372.22 | R7: =R8 -> 8495.37 | S7: =S8 -> 7135.41 | T7: =T8 -> 6860.97 | U7: =U8 -> 4726.18 | V7: =V8 -> 1405.04 | W7: =W8 -> 171.05 | X7: =X8 -> 122.68 | ... AC7: =AC8 -> 0 | AD7: =SUM(AD8:AD14) -> 0 | AE7: =SUM(AE8:AE14) -> 20256.76 | AF7: =SUM(AF8:AF14) -> 1688.0633 | AG7: =SUM(AG8:AG14) -> 13504.507 | AJ7: =SUM(E7:P7) -> 36311.4 | AK7: =SUM(Q7:AC7) -> 56568.16 | AL7: =AJ7-AK7 -> -20256.76 | AM7: =AK7/AJ7*100-100 -> 55.786227
B8: 1.2. | C8: Siltumenerģija apkurei (2221) | D8: 2221 | E8: 747.3 | F8: 7788.39 | G8: 7748.6 | H8: 6297.31 | I8: 4029.29 | J8: 1606.64 | K8: 71.51 | L8: 3.46 | M8: 15.8 | N8: 657.88 | O8: 2509.7 | P8: 4835.52 | Q8: 9372.22 | R8: 8495.37 | S8: 7135.41 | T8: 6860.97 | U8: 4726.18 | V8: 1405.04 | W8: 171.05 | X8: 122.68 | Y8: 86.39 | Z8: 142.42 | AA8: 6016.81 | AB8: 12033.62 | AE8: =ROUND(SUM(Q8:AB8)-SUM(E8:P8)+AC8,2) -> 20256.76 | AF8: =AE8/12 -> 1688.0633 | AG8: =AF8*8 -> 13504.507 | AI8: 50% + janvāra mēnesis
C9: Starpība % | Q9: =Q8/E8 -> 12.541443 | R9: =R8/F8 -> 1.0907736 | S9: =S8/G8 -> 0.92086441 | T9: =T8/H8 -> 1.0895081 | U9: =U8/I8 -> 1.172956 | V9: =V8/J8 -> 0.87452074 | W9: =W8/K8 -> 2.3919732 | X9: =X8/L8 -> 35.456647 | ... AB9: =AB8/P8 -> 2.4885886
B10: 1.3. | C10: Dabasgāze | AE10: =ROUND(SUM(Q10:AB10)-SUM(E10:P10)+AC10,2) -> 0
B11: 1.4. | C11: Ogles | AE11: =ROUND(SUM(Q11:AB11)-SUM(E11:P11)+AC11,2) -> 0
B12: 1.5. | C12: Kurināmā koksne | AE12: =ROUND(SUM(Q12:AB12)-SUM(E12:P12)+AC12,2) -> 0
B13: 1.6. | C13: Norādīt citu konkrētu energoresursu veidu | AE13: =ROUND(SUM(Q13:AB13)-SUM(E13:P13)+AC13,2) -> 0
B14: 1.7. | C14: Norādīt citu konkrētu energoresursu veidu | AE14: =ROUND(SUM(Q14:AB14)-SUM(E14:P14)+AC14,2) -> 0
C16: 2022.gada 14.septembris
C17: Sagatavotājs: Jeļena Trukšāne tālr.26300360, jelena.truksane@liepu.lv
C18: (Vārds, Uzvārds, telefona nr., epasts)

Sheet LU
B2: LATVIJAS UNIVERSITĀTES (iesk. koledžas) Energoresursu izmaksu sadārdzinājums
B4: Nr.p.k. | C4: Energoresursu veids | D4: Izdevumu EKK | E4: Izdevumi pēc naudas plūsmas principa par 2021.gadu EUR | Q4: Izdevumi pēc naudas plūsmas principa par 2022.gadu EUR Faktiskie izdevumi līdz 30.septembrim un prognozētie no 1.oktobra līdz 31.decembrim | AC4: Korekcijas (+/-), lai dati būtu salīdzināmi | AD4: Skaidrojums par veiktajām korekcijām | AE4: Energoresursu izmaksu pieaugums 2022.g. janvāris - decembris | AF4: Vidējās pieaugums mēnesī | AG4: Vidējās pieagums gadā | AI4: Sadārdzinājums - septembrim, oktobrim, novembrim, decembrim
E5: Janvāris (par decembri) | F5: Februāris (par janvāri) | G5: Marts (par februāri) | H5: Aprīlis (par martu) | I5: Maijs (par aprīli) | J5: Jūnijs (par maiju) | K5: Jūlijs (par jūniju) | L5: Augusts(par jūliju) | M5: Septembris (par augustu) | N5: Oktobris (par septembri) | O5: Novembris(par oktobri) | P5: Decembris (par novembri) | Q5: Janvāris (par decembri) | R5: Februāris (par janvāri) | S5: Marts (par februāri) | T5: Aprīlis (par martu) | U5: Maijs (par aprīli) | V5: Jūnijs (par maiju) | W5: Jūlijs (par jūniju) | X5: Augusts(par jūliju) | Y5: Septembris (par augustu) | Z5: Oktobris (par septembri) | AA5: Novembris(par oktobri) | AB5: Decembris (par novembri) | AF5: Vid.izm. Menesī | AG5: Vid.izm. Menesī | AI5: Vid.izm. Menesī
B6: a | C6: b | D6: c | E6: d | F6: e | G6: f | H6: g | I6: h | J6: d | K6: e | L6: f | M6: g | N6: h | O6: g | P6: h | Q6: i | R6: j | S6: k | T6: l | U6: m | V6: i | W6: j | X6: k | Y6: l | Z6: m | AA6: l | AB6: m | AC6: n | AD6: o | AE6: p=i+j+k+l+m-d-e-f-g-h+n
B7: 1. | C7: Kopā energoresursi: | D7: x | E7: =SUM(E8,E10:E14) -> 192520.71 | F7: =SUM(F8,F10:F14) -> 224982.56 | G7: =SUM(G8,G10:G14) -> 223492.63 | H7: =SUM(H8,H10:H14) -> 171583.31 | I7: =SUM(I8,I10:I14) -> 107042.48 | J7: =SUM(J8,J10:J14) -> 38759.36 | K7: =SUM(K8,K10:K14) -> 11815.84 | L7: =SUM(L8,L10:L14) -> 6665.45 | ... AC7: =SUM(AC8,AC10:AC14) -> 0 | AE7: =SUM(AE8:AE14) -> 1085544.4 | AF7: =SUM(AF8:AF14) -> 79791.33 | AG7: =SUM(AG8:AG14) -> 638330.64 | AJ7: =SUM(E7:P7) -> 1378778.3 | AK7: =SUM(Q7:AC7) -> 2464322.6 | AL7: =AJ7-AK7 -> -1085544.4 | AM7: =AK7/AJ7*100-100 -> 78.73234
B8: 1.2. | C8: Siltumenerģija apkurei (2221) | E8: 174533.15 | F8: 206114.64 | G8: 202018.06 | H8: 154398.37 | I8: 95904.17 | J8: 34025.11 | K8: 7071.68 | L8: 4815.23 | M8: 6097.84 | N8: 38642.41 | O8: 112609.4 | P8: 190949.78 | Q8: 316714.7 | R8: 262845.82 | S8: 212643.2 | T8: 216634.93 | U8: 163153.44 | V8: 41651.81 | W8: 12606.09 | X8: 9119.81 | Y8: 13087.88 | Z8: 107468.76 | AA8: 334075.84 | AB8: 494673.52 | AC8: 0 | AE8: =ROUND(SUM(Q8:AB8)-SUM(E8:P8)+AC8,2) -> 957495.96 | AF8: =AE8/12 -> 79791.33 | AG8: =AF8*8 -> 638330.64 | AI8: 50% + janvāra mēnesis
C9: Starpība % | Q9: =Q8/E8 -> 1.8146392 | R9: =R8/F8 -> 1.2752409 | S9: =S8/G8 -> 1.052595 | T9: =T8/H8 -> 1.4030908 | U9: =U8/I8 -> 1.7012132 | V9: =V8/J8 -> 1.2241492 | W9: =W8/K8 -> 1.782616 | X9: =X8/L8 -> 1.8939511 | ... AB9: =AB8/P8 -> 2.5905949 | AC9: 0
B10: 1.3. | C10: Dabasgāze | E10: 15045.96 | F10: 17182.03 | G10: 19154.64 | H10: 15088.49 | I10: 10638.31 | J10: 4734.25 | K10: 1732.01 | L10: 1850.22 | M10: 2099 | N10: 5394.18 | O10: 13022.77 | P10: 25215.97 | Q10: 35387.07 | R10: 36634.01 | S10: 26986.63 | T10: 26602.31 | U10: 20212.63 | V10: 7267.14 | W10: 3477.4 | X10: 2935.28 | Y10: 2774.53 | Z10: 10631.956 | AA10: 25034.955 | AB10: 35429.998 | AC10: 0 | AE10: =ROUND(SUM(Q10:AB10)-SUM(E10:P10)+AC10,2) -> 102216.08
B11: 1.4. | C11: Ogles | E11: 0 | F11: 0 | G11: 0 | H11: 0 | I11: 0 | J11: 0 | K11: 0 | L11: 0 | M11: 0 | N11: 0 | O11: 0 | P11: 0 | Q11: 0 | R11: 0 | S11: 0 | T11: 0 | U11: 0 | V11: 0 | W11: 0 | X11: 0 | Y11: 0 | Z11: 0 | AA11: 0 | AB11: 0 | AC11: 0 | AE11: =ROUND(SUM(Q11:AB11)-SUM(E11:P11)+AC11,2) -> 0
B12: 1.5. | C12: Kurināmā koksne | E12: 2941.6 | F12: 1685.89 | G12: 2319.93 | H12: 2096.45 | I12: 500 | J12: 0 | K12: 3012.15 | L12: 0 | M12: 553.8 | N12: 4554.49 | O12: 2098.77 | P12: 677.51 | Q12: 2806.98 | R12: 5886.05 | S12: 2016.72 | T12: 3929.89 | U12: 748.81 | V12: 5589.23 | W12: 6092.25 | X12: 0 | Y12: 6740.7 | Z12: 7742.633 | AA12: 3567.909 | AB12: 1151.767 | AC12: 0 | AE12: =ROUND(SUM(Q12:AB12)-SUM(E12:P12)+AC12,2) -> 25832.35
B13: 1.6. | C13: Norādīt citu konkrētu energoresursu veidu | E13: 0 | F13: 0 | G13: 0 | H13: 0 | I13: 0 | J13: 0 | K13: 0 | L13: 0 | M13: 0 | N13: 0 | O13: 0 | P13: 0 | Q13: 0 | R13: 0 | S13: 0 | T13: 0 | U13: 0 | V13: 0 | W13: 0 | X13: 0 | Y13: 0 | Z13: 0 | AA13: 0 | AB13: 0 | AC13: 0 | AE13: =ROUND(SUM(Q13:AB13)-SUM(E13:P13)+AC13,2) -> 0
B14: 1.7. | C14: Norādīt citu konkrētu energoresursu veidu | E14: 0 | F14: 0 | G14: 0 | H14: 0 | I14: 0 | J14: 0 | K14: 0 | L14: 0 | M14: 0 | N14: 0 | O14: 0 | P14: 0 | Q14: 0 | R14: 0 | S14: 0 | T14: 0 | U14: 0 | V14: 0 | W14: 0 | X14: 0 | Y14: 0 | Z14: 0 | AA14: 0 | AB14: 0 | AC14: 0 | AE14: =ROUND(SUM(Q14:AB14)-SUM(E14:P14)+AC14,2) -> 0
C16: 2022.gada 16.septembrī
C17: Sagatavotājs: Jevgenijs Blaževičs, 29809133, jevgenijs.blazevics@lu.lv
C18: (Vārds, Uzvārds, telefona nr., epasts)
C21: Ietilpst:
C22: Latvijas Universitāte
C23: LU Paula Stradiņa medicīnas koledža
C24: LU Rīgas Medicīnas koledža
C25: LU Rīgas 1. Medicīnas koledža

Sheet RTA
B2: Rēzeknes Tehnoloģiju akadēmijas Energoresursu izmaksu sadārdzinājums
B4: Nr.p.k. | C4: Energoresursu veids | D4: Izdevumu EKK | E4: Izdevumi pēc naudas plūsmas principa par 2021.gadu EUR | Q4: Izdevumi pēc naudas plūsmas principa par 2022.gadu EUR Faktiskie izdevumi līdz 31.oktobrim un prognozētie no 1.novembra līdz 31.decembrim | AC4: Korekcijas (+/-), lai dati būtu salīdzināmi | AD4: Skaidrojums par veiktajām korekcijām | AE4: Energoresursu izmaksu pieaugums 2022.g. janvāris - decembris | AF4: Vidējās pieaugums mēnesī | AG4: Vidējās pieagums gadā | AI4: Sadārdzinājums - septembrim, oktobrim, novembrim, decembrim
E5: Janvāris (par decembri) | F5: Februāris (par janvāri) | G5: Marts (par februāri) | H5: Aprīlis (par martu) | I5: Maijs (par aprīli) | J5: Jūnijs (par maiju) | K5: Jūlijs (par jūniju) | L5: Augusts(par jūliju) | M5: Septembris (par augustu) | N5: Oktobris (par septembri) | O5: Novembris(par oktobri) | P5: Decembris (par novembri) | Q5: Janvāris (par decembri) | R5: Februāris (par janvāri) | S5: Marts (par februāri) | T5: Aprīlis (par martu) | U5: Maijs (par aprīli) | V5: Jūnijs (par maiju) | W5: Jūlijs (par jūniju) | X5: Augusts(par jūliju) | Y5: Septembris (par augustu) | Z5: Oktobris (par septembri) | AA5: Novembris(par oktobri) | AB5: Decembris (par novembri) | AF5: Vid.izm. Menesī | AG5: Vid.izm. Menesī | AI5: Vid.izm. Menesī
B6: a | C6: b | D6: c | E6: d | F6: e | G6: f | H6: g | I6: h | J6: d | K6: e | L6: f | M6: g | N6: h | O6: g | P6: h | Q6: i | R6: j | S6: k | T6: l | U6: m | V6: i | W6: j | X6: k | Y6: l | Z6: m | AA6: l | AB6: m | AC6: n | AD6: o | AE6: p=i+j+k+l+m-d-e-f-g-h+n
B7: 1. | C7: Kopā energoresursi: | D7: x | E7: =SUM(E8:E14) -> 13202.64 | F7: =SUM(F8:F14) -> 9462.82 | G7: =SUM(G8:G14) -> 8004.14 | H7: =SUM(H8:H14) -> 5266.54 | I7: =SUM(I8:I14) -> 2896.97 | J7: =SUM(J8:J14) -> 1424.4 | K7: =SUM(K8:K14) -> 201.73 | L7: =SUM(L8:L14) -> 187.56 | ... P7: =SUM(P8:P14) -> 5342.93 | Q7: =Q8+Q13+Q14 -> 9440.32 | R7: =R8+R13+R14 -> 10593.48 | S7: =S8+S13+S14 -> 6574.32 | T7: =T8+T13+T14 -> 6112.36 | U7: =U8+U13+U14 -> 994.19 | V7: =V8+V13+V14 -> 3423.15 | W7: =W8+W13+W14 -> 1652.36 | X7: =X8+X13+X14 -> 1201.82 | ... AC7: =AC8+AC13+AC14 -> 5292.29 | AE7: =SUM(AE8:AE14) -> 23293.1 | AF7: =SUM(AF8:AF14) -> 1469.3208 | AG7: =SUM(AG8:AG14) -> 11754.567 | AJ7: =SUM(E7:P7) -> 53904.92 | AK7: =SUM(Q7:AC7) -> 77198.016 | AL7: =AJ7-AK7 -> -23293.096 | AM7: =AK7/AJ7*100-100 -> 43.211448
B8: 1.2. | C8: Siltumenerģija apkurei (2221) | D8: 2221 | E8: 9845.42 | F8: 6531.86 | G8: 5574.12 | H8: 3838.4 | I8: 2880.74 | J8: 1424.4 | K8: 201.73 | L8: 187.56 | M8: 182.21 | N8: 790.66 | O8: 2831.35 | P8: 2734.78 | Q8: 6257.72 | R8: 8112.74 | S8: 4368.01 | T8: 4883.97 | U8: 994.19 | V8: 3423.15 | W8: 1652.36 | X8: 1201.82 | Y8: 992.21011 | Z8: 1035.8 | AA8: 9672.122 | AB8: 6768.6977 | AC8: 5292.29 | AD8: Apkures maksas samazinājums no 01.05.2022.-31.07.2022. | AE8: =ROUND(SUM(Q8:AB8)-SUM(E8:P8)+AC8,2) -> 17631.85 | AF8: =AE8/12 -> 1469.3208 | AG8: =AF8*8 -> 11754.567 | AI8: 50% + janvāra mēnesis
C9: Starpība % | Q9: =Q8/E8 -> 0.63559706 | R9: =R8/F8 -> 1.242026 | S9: =S8/G8 -> 0.78362324 | T9: =T8/H8 -> 1.2723974 | U9: =U8/I8 -> 0.34511619 | V9: =V8/J8 -> 2.4032224 | W9: =W8/K8 -> 8.1909483 | X9: =X8/L8 -> 6.4076562 | ... AB9: =AB8/P8 -> 2.4750429
B10: 1.3. | C10: Dabasgāze | AE10: =ROUND(SUM(Q10:AB10)-SUM(E10:P10)+AC10,2) -> 0
B11: 1.4. | C11: Ogles | AE11: =ROUND(SUM(Q11:AB11)-SUM(E11:P11)+AC11,2) -> 0
B12: 1.5. | C12: Kurināmā koksne | AE12: =ROUND(SUM(Q12:AB12)-SUM(E12:P12)+AC12,2) -> 0
B13: 1.6. | C13: Šķelda | D13: 2321 | E13: 3005.64 | F13: 2755.17 | G13: 2254.23 | H13: 1252.35 | M13: 751.41 | N13: 1252.35 | O13: 1753.29 | P13: 2254.23 | Q13: 3005.64 | R13: 2254.23 | S13: 1753.29 | T13: 1001.88 | Y13: 0 | Z13: 0 | AA13: 5351.0411 | AB13: 6879.91 | AE13: =ROUND(SUM(Q13:AB13)-SUM(E13:P13)+AC13,2) -> 4967.32
B14: 1.7. | C14: Granulas | D14: 2321 | E14: 351.58 | F14: 175.79 | G14: 175.79 | H14: 175.79 | I14: 16.23 | M14: 176.96 | O14: 176.96 | P14: 353.92 | Q14: 176.96 | R14: 226.51 | S14: 453.02 | T14: 226.51 | Y14: 0 | Z14: 0 | AA14: 0 | AB14: 1213.9456 | AE14: =ROUND(SUM(Q14:AB14)-SUM(E14:P14)+AC14,2) -> 693.93
C16: 2022.gada ___.___________
C17: Sagatavotājs:
C18: (Vārds, Uzvārds, telefona nr., epasts)

Sheet RTU
B2: Rīgas Tehniskā universitāte Energoresursu izmaksu sadārdzinājums
B4: Nr.p.k. | C4: Energoresursu veids | D4: Izdevumu EKK | E4: Izdevumi pēc naudas plūsmas principa par 2021.gadu EUR | Q4: Izdevumi pēc naudas plūsmas principa par 2022.gadu EUR Faktiskie izdevumi līdz 31.oktobrim un prognozētie no 1.novembra līdz 31.decembrim | AC4: Korekcijas (+/-), lai dati būtu salīdzināmi | AD4: Skaidrojums par veiktajām korekcijām | AE4: Energoresursu izmaksu pieaugums 2022.g. janvāris - decembris | AF4: Vidējās pieaugums mēnesī | AG4: Vidējās pieagums gadā | AI4: Sadārdzinājums - septembrim, oktobrim, novembrim, decembrim
E5: Janvāris (par decembri) | F5: Februāris (par janvāri) | G5: Marts (par februāri) | H5: Aprīlis (par martu) | I5: Maijs (par aprīli) | J5: Jūnijs (par maiju) | K5: Jūlijs (par jūniju) | L5: Augusts(par jūliju) | M5: Septembris (par augustu) | N5: Oktobris (par septembri) | O5: Novembris(par oktobri) | P5: Decembris (par novembri) | Q5: Janvāris (par decembri) | R5: Februāris (par janvāri) | S5: Marts (par februāri) | T5: Aprīlis (par martu) | U5: Maijs (par aprīli) | V5: Jūnijs (par maiju) | W5: Jūlijs (par jūniju) | X5: Augusts(par jūliju) | Y5: Septembris (par augustu) | Z5: Oktobris (par septembri) | AA5: Novembris(par oktobri) | AB5: Decembris (par novembri) | AF5: Vid.izm. Menesī | AG5: Vid.izm. Menesī | AI5: Vid.izm. Menesī
B6: a | C6: b | D6: c | E6: d | F6: e | G6: f | H6: g | I6: h | J6: d | K6: e | L6: f | M6: g | N6: h | O6: g | P6: h | Q6: i | R6: j | S6: k | T6: l | U6: m | V6: i | W6: j | X6: k | Y6: l | Z6: m | AA6: l | AB6: m | AC6: n | AD6: o | AE6: p=i+j+k+l+m-d-e-f-g-h+n
B7: 1. | C7: Kopā energoresursi: | D7: x | E7: =SUM(E8:E14) -> 152437.28 | F7: =SUM(F8:F14) -> 162150.48 | G7: =SUM(G8:G14) -> 160101.32 | H7: =SUM(H8:H14) -> 119453.12 | I7: =SUM(I8:I14) -> 72016.135 | J7: =SUM(J8:J14) -> 34503.932 | K7: =SUM(K8:K14) -> 13956.216 | L7: =SUM(L8:L14) -> 9389.1359 | ... P7: =SUM(P8:P14) -> 266037.55 | Q7: =Q8+Q10 -> 453614.74 | R7: =R8+R10 -> 350660.94 | S7: =S8+S10 -> 294257.89 | T7: =T8+T10 -> 336859.4 | U7: =U8+U10 -> 244834.91 | V7: =V8+V10 -> 131296.68 | W7: =W8+W10 -> 57988.742 | X7: =X8+X10 -> 31047.763 | ... AC7: =AC8+AC10 -> 0 | AD7: =SUM(AD8:AD14) -> 0 | AE7: =SUM(AE8:AE14) -> 1973282.6 | AF7: =SUM(AF8:AF14) -> 162735.2 | AG7: =SUM(AG8:AG14) -> 1301881.6 | AJ7: =SUM(E7:P7) -> 1119792.7 | AK7: =SUM(Q7:AC7) -> 3093075.3 | AL7: =AJ7-AK7 -> -1973282.6 | AM7: =AK7/AJ7*100-100 -> 176.21857
B8: 1.2. | C8: Siltumenerģija apkurei (2221) | E8: 151772.54 | F8: 161607.32 | G8: 159422.93 | H8: 118823.2 | I8: 71617.876 | J8: 34200.791 | K8: 13796.508 | L8: 9264.4938 | M8: 11668.549 | N8: 32367.515 | O8: 83440.185 | P8: 263318.63 | Q8: 451091.61 | R8: 346688.45 | S8: 291583.8 | T8: 334127.28 | U8: 242581.62 | V8: 129429.89 | W8: 57409.503 | X8: 30254.85 | Y8: 34522.23 | Z8: 59835.85 | AA8: 463394.13 | AB8: 623203.79 | AE8: =ROUND(SUM(Q8:AB8)-SUM(E8:P8)+AC8,2) -> 1952822.5 | AF8: =AE8/12 -> 162735.2 | AG8: =AF8*8 -> 1301881.6 | AI8: 50% + janvāra mēnesis
C9: Starpība % | Q9: =Q8/E8 -> 2.9721557 | R9: =R8/F8 -> 2.1452521 | S9: =S8/G8 -> 1.8289954 | T9: =T8/H8 -> 2.8119699 | U9: =U8/I8 -> 3.3871658 | V9: =V8/J8 -> 3.7844122 | W9: =W8/K8 -> 4.1611617 | X9: =X8/L8 -> 3.2656776 | ... AB9: =AB8/P8 -> 2.3667288
B10: 1.3. | C10: Dabasgāze | E10: 664.7377 | F10: 543.1569 | G10: 678.3865 | H10: 629.9139 | I10: 398.2594 | J10: 303.1413 | K10: 159.7079 | L10: 124.6421 | M10: 420.8743 | N10: 594.1342 | O10: 1256.2462 | P10: 2718.9184 | Q10: 2523.1283 | R10: 3972.4905 | S10: 2674.0879 | T10: 2732.1195 | U10: 2253.2862 | V10: 1866.788 | W10: 579.2391 | X10: 792.913 | Y10: 1123.81 | Z10: 3252.41 | AA10: 3202 | AB10: 3980 | AE10: =ROUND(SUM(Q10:AB10)-SUM(E10:P10)+AC10,2) -> 20460.15
B11: 1.4. | C11: Ogles | AE11: =ROUND(SUM(Q11:AB11)-SUM(E11:P11)+AC11,2) -> 0
B12: 1.5. | C12: Kurināmā koksne | AE12: =ROUND(SUM(Q12:AB12)-SUM(E12:P12)+AC12,2) -> 0
B13: 1.6. | C13: Norādīt citu konkrētu energoresursu veidu | AE13: =ROUND(SUM(Q13:AB13)-SUM(E13:P13)+AC13,2) -> 0
B14: 1.7. | C14: Norādīt citu konkrētu energoresursu veidu | AE14: =ROUND(SUM(Q14:AB14)-SUM(E14:P14)+AC14,2) -> 0
C16: 2022.gada 14.septembris
C17: Sagatavotājs: Sandis Kārkliņš, +371 22023377, sandis.karklins@rtu.lv

Sheet VeA
B2: Ventspils Augstskolas Energoresursu izmaksu sadārdzinājums
B4: Nr.p.k. | C4: Energoresursu veids | D4: Izdevumu EKK | E4: Izdevumi pēc naudas plūsmas principa par 2021.gadu EUR | Q4: Izdevumi pēc naudas plūsmas principa par 2022.gadu EUR Faktiskie izdevumi līdz 31.oktobrim un prognozētie no 1.novembra līdz 31.decembrim | AC4: Korekcijas (+/-), lai dati būtu salīdzināmi | AD4: Skaidrojums par veiktajām korekcijām | AE4: Energoresursu izmaksu pieaugums 2022.g. janvāris - decembris | AF4: Vidējās pieaugums mēnesī | AG4: Vidējās pieagums gadā | AI4: Sadārdzinājums - septembrim, oktobrim, novembrim, decembrim
E5: Janvāris (par decembri) | F5: Februāris (par janvāri) | G5: Marts (par februāri) | H5: Aprīlis (par martu) | I5: Maijs (par aprīli) | J5: Jūnijs (par maiju) | K5: Jūlijs (par jūniju) | L5: Augusts(par jūliju) | M5: Septembris (par augustu) | N5: Oktobris (par septembri) | O5: Novembris(par oktobri) | P5: Decembris (par novembri) | Q5: Janvāris (par decembri) | R5: Februāris (par janvāri) | S5: Marts (par februāri) | T5: Aprīlis (par martu) | U5: Maijs (par aprīli) | V5: Jūnijs (par maiju) | W5: Jūlijs (par jūniju) | X5: Augusts(par jūliju) | Y5: Septembris (par augustu) | Z5: Oktobris (par septembri) | AA5: Novembris(par oktobri) | AB5: Decembris (par novembri) | AF5: Vid.izm. Menesī | AG5: Vid.izm. Menesī | AI5: Vid.izm. Menesī
B6: a | C6: b | D6: c | E6: d | F6: e | G6: f | H6: g | I6: h | J6: d | K6: e | L6: f | M6: g | N6: h | O6: g | P6: h | Q6: i | R6: j | S6: k | T6: l | U6: m | V6: i | W6: j | X6: k | Y6: l | Z6: m | AA6: l | AB6: m | AC6: n | AD6: o | AE6: p=i+j+k+l+m-d-e-f-g-h+n
B7: 1. | C7: Kopā energoresursi: | D7: x | E7: =SUM(E8:E14) -> 10529.67 | F7: =SUM(F8:F14) -> 8494.27 | G7: =SUM(G8:G14) -> 10469.2 | H7: =SUM(H8:H14) -> 9374.45 | I7: =SUM(I8:I14) -> 3886.76 | J7: =SUM(J8:J14) -> 1579.03 | K7: =SUM(K8:K14) -> 893.46 | L7: =SUM(L8:L14) -> 330.15 | ... P7: =SUM(P8:P14) -> 4713.69 | Q7: =Q8+Q13 -> 12369.87 | R7: =R8+R13 -> 1138.59 | S7: =S8+S13 -> 0 | T7: =T8+T13 -> 16002.74 | U7: =U8+U13 -> 14672.16 | V7: =V8+V13 -> 0 | W7: =W8+W13 -> 4941.67 | X7: =X8+X13 -> 1190.41 | ... AC7: =AC8+AC13 -> 0 | AD7: =SUM(AD8:AD14) -> 0 | AE7: =SUM(AE8:AE14) -> 13115.15 | AF7: =SUM(AF8:AF14) -> 1092.9292 | AG7: =SUM(AG8:AG14) -> 5599.0467 | AJ7: =SUM(E7:P7) -> 63022.2 | AK7: =SUM(Q7:AC7) -> 76137.35 | AL7: =AJ7-AK7 -> -13115.15 | AM7: =AK7/AJ7*100-100 -> 20.810365
B8: 1.2. | C8: Siltumenerģija apkurei (2221) | D8: 2221 | E8: 10529.67 | F8: 8494.27 | G8: 10469.2 | H8: 9374.45 | I8: 3886.76 | J8: 1579.03 | K8: 893.46 | L8: 330.15 | M8: 461.69 | N8: 781.21 | O8: =1333.27+3021.83 -> 4355.1 | P8: =154.78+691.2+3867.71 -> 4713.69 | Q8: =1828.23+10541.64 -> 12369.87 | R8: =1138.59 -> 1138.59 | T8: =7762.22+1485.36+6755.16 -> 16002.74 | U8: =8623.14+6049.02 -> 14672.16 | W8: =3749.26+1192.41 -> 4941.67 | X8: 1190.41 | Y8: 1127.96 | Z8: 1643.46 | AA8: 4180.39 | AB8: 7000 | AD8: VeA | AE8: =ROUND(SUM(Q8:AB8)-SUM(E8:P8)+AC8,2) -> 8398.57 | AF8: =AE8/12 -> 699.88083 | AG8: =AF8*8 -> 5599.0467 | AI8: 50% + janvāra mēnesis
C9: Starpība % | Q9: =Q8/E8 -> 1.1747633 | R9: =R8/F8 -> 0.13404212 | S9: =S8/G8 -> 0 | T9: =T8/H8 -> 1.7070591 | U9: =U8/I8 -> 3.7749076 | V9: =V8/J8 -> 0 | W9: =W8/K8 -> 5.5309359 | X9: =X8/L8 -> 3.6056641 | ... AB9: =AB8/P8 -> 1.4850361
B10: 1.3. | C10: Dabasgāze | AE10: =ROUND(SUM(Q10:AB10)-SUM(E10:P10)+AC10,2) -> 0 | AF10: =AE10/12 -> 0
B11: 1.4. | C11: Ogles | AE11: =ROUND(SUM(Q11:AB11)-SUM(E11:P11)+AC11,2) -> 0 | AF11: =AE11/12 -> 0
B12: 1.5. | C12: Kurināmā koksne | AE12: =ROUND(SUM(Q12:AB12)-SUM(E12:P12)+AC12,2) -> 0 | AF12: =AE12/12 -> 0
B13: 1.6. | C13: Sašķidrinātā gāze apkurei | D13: 2321 | M13: 7153.52 | Y13: 11870.1 | AD13: Irbene | AE13: =ROUND(SUM(Q13:AB13)-SUM(E13:P13)+AC13,2) -> 4716.58 | AF13: =AE13/12 -> 393.04833
B14: 1.7. | C14: Norādīt citu konkrētu energoresursu veidu | AE14: =ROUND(SUM(Q14:AB14)-SUM(E14:P14)+AC14,2) -> 0 | AF14: =AE14/12 -> 0
C16: 2022.gada ___.___________
C17: Sagatavotājs:
C18: (Vārds, Uzvārds, telefona nr., epasts)

Sheet ViA
B2: Vidzemes Augstskola (iestādes nosaukums) Energoresursu izmaksu sadārdzinājums
B4: Nr.p.k. | C4: Energoresursu veids | D4: Izdevumu EKK | E4: Izdevumi pēc naudas plūsmas principa par 2021.gadu EUR | Q4: Izdevumi pēc naudas plūsmas principa par 2022.gadu EUR Faktiskie izdevumi līdz 31.oktobrim un prognozētie no 1.novembra līdz 31.decembrim | AC4: Korekcijas (+/-), lai dati būtu salīdzināmi | AD4: Skaidrojums par veiktajām korekcijām | AE4: Energoresursu izmaksu pieaugums 2022.g. janvāris - decembris | AF4: Vidējās pieaugums mēnesī | AG4: Vidējās pieagums gadā | AI4: Sadārdzinājums - septembrim, oktobrim, novembrim, decembrim
E5: Janvāris (par decembri) | F5: Februāris (par janvāri) | G5: Marts (par februāri) | H5: Aprīlis (par martu) | I5: Maijs (par aprīli) | J5: Jūnijs (par maiju) | K5: Jūlijs (par jūniju) | L5: Augusts(par jūliju) | M5: Septembris (par augustu) | N5: Oktobris (par septembri) | O5: Novembris(par oktobri) | P5: Decembris (par novembri) | Q5: Janvāris (par decembri) | R5: Februāris (par janvāri) | S5: Marts (par februāri) | T5: Aprīlis (par martu) | U5: Maijs (par aprīli) | V5: Jūnijs (par maiju) | W5: Jūlijs (par jūniju) | X5: Augusts(par jūliju) | Y5: Septembris (par augustu) | Z5: Oktobris (par septembri) | AA5: Novembris(par oktobri) | AB5: Decembris (par novembri) | AF5: Vid.izm. Menesī | AG5: Vid.izm. Menesī | AI5: Vid.izm. Menesī
B6: a | C6: b | D6: c | E6: d | F6: e | G6: f | H6: g | I6: h | J6: d | K6: e | L6: f | M6: g | N6: h | O6: g | P6: h | Q6: i | R6: j | S6: k | T6: l | U6: m | V6: i | W6: j | X6: k | Y6: l | Z6: m | AA6: l | AB6: m | AC6: n | AD6: o | AE6: p=i+j+k+l+m-d-e-f-g-h+n
B7: 1. | C7: Kopā energoresursi: | D7: x | E7: =SUM(E8:E14) -> 7539.14 | F7: =SUM(F8:F14) -> 10476.19 | G7: =SUM(G8:G14) -> 10303.71 | H7: =SUM(H8:H14) -> 6718.48 | I7: =SUM(I8:I14) -> 3995.04 | J7: =SUM(J8:J14) -> 1738.82 | K7: =SUM(K8:K14) -> 647.23 | L7: =SUM(L8:L14) -> 566.19 | ... P7: =SUM(P8:P14) -> 6291.64 | Q7: =Q8 -> 11900.42 | R7: =R8 -> 10955.01 | S7: =S8 -> 9012.87 | T7: =T8 -> 8238.87 | U7: =U8 -> 5991.87 | V7: =V8 -> 1351.81 | W7: =W8 -> 1127.59 | X7: =X8 -> 1210.91 | ... AC7: =AC8 -> 0 | AD7: =SUM(AD8:AD14) -> 0 | AE7: =SUM(AE8:AE14) -> 31894.52 | AF7: =SUM(AF8:AF14) -> 2657.8767 | AG7: =SUM(AG8:AG14) -> 21263.013 | AJ7: =SUM(E7:P7) -> 55095.18 | AK7: =SUM(Q7:AC7) -> 86989.7 | AL7: =AJ7-AK7 -> -31894.52 | AM7: =AK7/AJ7*100-100 -> 57.889855
B8: 1.2. | C8: Siltumenerģija apkurei (2221) | E8: 7539.14 | F8: 10476.19 | G8: 10303.71 | H8: 6718.48 | I8: 3995.04 | J8: 1738.82 | K8: 647.23 | L8: 566.19 | M8: 712.36 | N8: 1934.82 | O8: 4171.56 | P8: 6291.64 | Q8: 11900.42 | R8: 10955.01 | S8: 9012.87 | T8: 8238.87 | U8: 5991.87 | V8: 1351.81 | W8: 1127.59 | X8: 1210.91 | Y8: 1221.68 | Z8: 1418.67 | AA8: 13440 | AB8: 21120 | AE8: =ROUND(SUM(Q8:AB8)-SUM(E8:P8)+AC8,2) -> 31894.52 | AF8: =AE8/12 -> 2657.8767 | AG8: =AF8*8 -> 21263.013 | AI8: 50% + janvāra mēnesis
C9: Starpība % | Q9: =Q8/E8 -> 1.5784851 | R9: =R8/F8 -> 1.0457055 | S9: =S8/G8 -> 0.87472085 | T9: =T8/H8 -> 1.2262997 | U9: =U8/I8 -> 1.4998273 | V9: =V8/J8 -> 0.77742952 | W9: =W8/K8 -> 1.7421782 | X9: =X8/L8 -> 2.138699 | ... AB9: =AB8/P8 -> 3.3568354
B10: 1.3. | C10: Dabasgāze | AE10: =ROUND(SUM(Q10:AB10)-SUM(E10:P10)+AC10,2) -> 0
B11: 1.4. | C11: Ogles | AE11: =ROUND(SUM(Q11:AB11)-SUM(E11:P11)+AC11,2) -> 0
B12: 1.5. | C12: Kurināmā koksne | AE12: =ROUND(SUM(Q12:AB12)-SUM(E12:P12)+AC12,2) -> 0
B13: 1.6. | C13: Norādīt citu konkrētu energoresursu veidu | AE13: =ROUND(SUM(Q13:AB13)-SUM(E13:P13)+AC13,2) -> 0
B14: 1.7. | C14: Norādīt citu konkrētu energoresursu veidu | AE14: =ROUND(SUM(Q14:AB14)-SUM(E14:P14)+AC14,2) -> 0
C16: 2022.gada 15.septembris
C17: Sagatavotājs: Ginta Sēne, 26681800, ginta.sene@va.lv
C18: (Vārds, Uzvārds, telefona nr., epasts)

Sheet RSU
B2: Rīgas Stradiņa universitāte Energoresursu izmaksu sadārdzinājums
B4: Nr.p.k. | C4: Energoresursu veids | D4: Izdevumu EKK | E4: Izdevumi pēc naudas plūsmas principa par 2021.gadu EUR | Q4: Izdevumi pēc naudas plūsmas principa par 2022.gadu EUR Faktiskie izdevumi līdz 31.oktobrim un prognozētie no 1.novembra līdz 31.decembrim | AC4: Korekcijas (+/-), lai dati būtu salīdzināmi | AD4: Skaidrojums par veiktajām korekcijām | AE4: Energoresursu izmaksu pieaugums 2022.g. janvāris - decembris | AF4: Vidējās pieaugums mēnesī | AG4: Vidējās pieagums gadā | AI4: Sadārdzinājums - septembrim, oktobrim, novembrim, decembrim
E5: Janvāris (par decembri) | F5: Februāris (par janvāri) | G5: Marts (par februāri) | H5: Aprīlis (par martu) | I5: Maijs (par aprīli) | J5: Jūnijs (par maiju) | K5: Jūlijs (par jūniju) | L5: Augusts(par jūliju) | M5: Septembris (par augustu) | N5: Oktobris (par septembri) | O5: Novembris(par oktobri) | P5: Decembris (par novembri) | Q5: Janvāris (par decembri) | R5: Februāris (par janvāri) | S5: Marts (par februāri) | T5: Aprīlis (par martu) | U5: Maijs (par aprīli) | V5: Jūnijs (par maiju) | W5: Jūlijs (par jūniju) | X5: Augusts(par jūliju) | Y5: Septembris (par augustu) | Z5: Oktobris (par septembri) | AA5: Novembris(par oktobri) | AB5: Decembris (par novembri) | AF5: Vid.izm. Menesī | AG5: Vid.izm. Menesī | AI5: Vid.izm. Menesī
B6: a | C6: b | D6: c | E6: d | F6: e | G6: f | H6: g | I6: h | J6: d | K6: e | L6: f | M6: g | N6: h | O6: g | P6: h | Q6: i | R6: j | S6: k | T6: l | U6: m | V6: i | W6: j | X6: k | Y6: l | Z6: m | AA6: l | AB6: m | AC6: n | AD6: o | AE6: p=i+j+k+l+m-d-e-f-g-h+n
B7: 1. | C7: Kopā energoresursi: | D7: x | E7: =SUM(E8:E13) -> 32766.074 | F7: =SUM(F8:F13) -> 87279.974 | G7: =SUM(G8:G13) -> 84646.651 | H7: =SUM(H8:H13) -> 66563.782 | I7: =SUM(I8:I13) -> 46293.959 | J7: =SUM(J8:J13) -> 19890.694 | K7: =SUM(K8:K13) -> 6502.8667 | L7: =SUM(L8:L13) -> 8433.34 | ... P7: =SUM(P8:P13) -> 160639.1 | Q7: =SUM(Q8+Q10+Q13) -> 101598.56 | R7: =SUM(R8+R10+R13) -> 135539.01 | S7: =SUM(S8+S10+S13) -> 113775.68 | T7: =SUM(T8+T10+T13) -> 120357.9 | U7: =SUM(U8+U10+U13) -> 91544.498 | V7: =SUM(V8+V10+V13) -> 42411.976 | W7: =SUM(W8+W10+W13) -> 9891.7016 | X7: =SUM(X8+X10+X13) -> 6994.75 | ... AC7: =SUM(AC8+AC10+AC13) -> 0 | AD7: =SUM(AD8:AD13) -> 0 | AE7: =SUM(AE8:AE13) -> 547989.28 | AF7: =SUM(AF8:AF13) -> 45665.773 | AG7: =SUM(AG8:AG13) -> 301309.81 | AJ7: =SUM(E7:P7) -> 606566.96 | AK7: =SUM(Q7:AC7) -> 1154556.2 | AL7: =AJ7-AK7 -> -547989.28 | AM7: =AK7/AJ7*100-100 -> 90.342752
B8: 1.2. | C8: Siltumenerģija apkurei (2221) | D8: 2221 | E8: 25455.593 | F8: 78654.477 | G8: 76788.778 | H8: 60065.223 | I8: 41082.501 | J8: 18628.519 | K8: 5487.8219 | L8: 8077.41 | M8: 4485.57 | N8: 24214.28 | O8: 52512.68 | P8: 140361.73 | Q8: 78037.921 | R8: 116083.03 | S8: 97397.946 | T8: 103562.88 | U8: 78454.561 | V8: 35747.357 | W8: 8583.4254 | X8: 6177.49 | Y8: 6796.03 | Z8: 19465.17 | AA8: 184911.94 | AB8: 252561.55 | AE8: =ROUND(SUM(Q8:AB8)-SUM(E8:P8)+AC8,2) -> 451964.72 | AF8: =AE8/12 -> 37663.727 | AG8: =AF8*8 -> 301309.81 | AI8: 50% + janvāra mēnesis
C9: Starpība % | Q9: =Q8/E8 -> 3.0656493 | R9: =R8/F8 -> 1.4758605 | S9: =S8/G8 -> 1.2683878 | T9: =T8/H8 -> 1.7241738 | U9: =U8/I8 -> 1.9096832 | V9: =V8/J8 -> 1.9189586 | W9: =W8/K8 -> 1.564086 | X9: =X8/L8 -> 0.76478599 | ... AB9: =AB8/P8 -> 1.7993619
B10: 1.3. | C10: Dabasgāze | D10: 2329 | E10: 5234.3148 | F10: 6549.3307 | G10: 5781.7067 | H10: 5460.4759 | I10: 4149.6829 | J10: 1262.1752 | K10: 1015.0448 | L10: 355.93 | M10: 391.53 | N10: 1718.3 | O10: 7042.83 | P10: 18153.82 | Q10: 21437.086 | R10: 17332.427 | S10: 15315.962 | T10: 15668.35 | U10: 11963.27 | V10: 5537.9522 | W10: 1308.2762 | X10: 817.26 | Y10: 923.36 | Z10: 4052.97 | AA10: 20461.429 | AB10: 37555.73 | AE10: =ROUND(SUM(Q10:AB10)-SUM(E10:P10)+AC10,2) -> 95258.93 | AF10: =AE10/12 -> 7938.2442
B11: 1.4. | C11: Ogles | AE11: =ROUND(SUM(Q11:AB11)-SUM(E11:P11)+AC11,2) -> 0 | AF11: =AE11/12 -> 0
B12: 1.5. | C12: Kurināmā koksne | AE12: =ROUND(SUM(Q12:AB12)-SUM(E12:P12)+AC12,2) -> 0 | AF12: =AE12/12 -> 0
B13: 1.6. | C13: Koskaidu granulas | D13: 2321 | E13: 2076.1664 | F13: 2076.1664 | G13: 2076.1664 | H13: 1038.0832 | I13: 1061.775 | J13: 0 | K13: 0 | L13: 0 | M13: 1061.775 | N13: 1061.775 | O13: 1061.775 | P13: 2123.55 | Q13: 2123.55 | R13: 2123.55 | S13: 1061.775 | T13: 1126.6673 | U13: 1126.6673 | V13: 1126.6673 | W13: 0 | X13: 0 | Y13: 0 | Z13: 0 | AA13: 1904.6605 | AB13: 3809.3211 | AE13: =ROUND(SUM(Q13:AB13)-SUM(E13:P13)+AC13,2) -> 765.63 | AF13: =AE13/12 -> 63.8025
B14: 1.7. | C14: Norādīt citu konkrētu energoresursu veidu | AE14: =ROUND(SUM(Q14:AB14)-SUM(E14:P14)+AC14,2) -> 0 | AF14: =AE14/12 -> 0
C15: 2022.gada ___.___________
C16: Sagatavotājs:
C17: (Vārds, Uzvārds, telefona nr., epasts)
O19: Atbalsts elektroenerģijai | R19: 22449.92 | S19: 22782.25 | T19: 23541.25 | U19: 22030

Sheet LBTU
B2: Latvijas Biozinātņu un tehnoloģiju universitāte (LBTU) Energoresursu izmaksu sadārdzinājums
B4: Nr.p.k. | C4: Energoresursu veids | D4: Izdevumu EKK | E4: Izdevumi pēc naudas plūsmas principa par 2021.gadu EUR | Q4: Izdevumi pēc naudas plūsmas principa par 2022.gadu EUR Faktiskie izdevumi līdz 31.oktobrim un prognozētie no 1.novembra līdz 31.decembrim | AC4: Korekcijas (+/-), lai dati būtu salīdzināmi | AD4: Skaidrojums par veiktajām korekcijām | AE4: Energoresursu izmaksu pieaugums 2022.g. janvāris - decembris | AF4: Vidējās pieaugums mēnesī | AG4: Vidējās pieagums gadā | AI4: Sadārdzinājums - septembrim, oktobrim, novembrim, decembrim
E5: Janvāris (par decembri) | F5: Februāris (par janvāri) | G5: Marts (par februāri) | H5: Aprīlis (par martu) | I5: Maijs (par aprīli) | J5: Jūnijs (par maiju) | K5: Jūlijs (par jūniju) | L5: Augusts(par jūliju) | M5: Septembris (par augustu) | N5: Oktobris (par septembri) | O5: Novembris(par oktobri) | P5: Decembris (par novembri) | Q5: Janvāris (par decembri) | R5: Februāris (par janvāri) | S5: Marts (par februāri) | T5: Aprīlis (par martu) | U5: Maijs (par aprīli) | V5: Jūnijs (par maiju) | W5: Jūlijs (par jūniju) | X5: Augusts(par jūliju) | Y5: Septembris (par augustu) | Z5: Oktobris (par septembri) | AA5: Novembris(par oktobri) | AB5: Decembris (par novembri) | AF5: Vid.izm. Menesī | AG5: Vid.izm. Menesī | AI5: Vid.izm. Menesī
B6: a | C6: b | D6: c | E6: d | F6: e | G6: f | H6: g | I6: h | J6: d | K6: e | L6: f | M6: g | N6: h | O6: g | P6: h | Q6: i | R6: j | S6: k | T6: l | U6: m | V6: i | W6: j | X6: k | Y6: l | Z6: m | AA6: l | AB6: m | AC6: n | AD6: o | AE6: p=i+j+k+l+m-d-e-f-g-h+n
B7: 1. | C7: Kopā energoresursi: | D7: x | E7: =E8+E10+E12 -> 57257.822 | F7: =F8+F10+F12 -> 114463.07 | G7: =G8+G10+G12 -> 122159.52 | H7: =H8+H10+H12 -> 87030.001 | I7: =I8+I10+I12 -> 37089.221 | J7: =J8+J10+J12 -> 9524.4 | K7: =K8+K10+K12 -> 5538.63 | L7: =L8+L10+L12 -> 2745 | ... AC7: =AC8+AC10+AC12 -> 0 | AD7: =SUM(AD8:AD14) -> 0 | AE7: =SUM(AE8:AE14) -> 1367761 | AF7: =SUM(AF8:AF14) -> 113980.09 | AG7: =SUM(AG8:AG14) -> 911840.69 | AJ7: =SUM(E7:P7) -> 860102.44 | AK7: =SUM(Q7:AC7) -> 2227863.5 | AL7: =AJ7-AK7 -> -1367761 | AM7: =AK7/AJ7*100-100 -> 159.02304
B8: 1.2. | C8: Siltumenerģija apkurei (2221 un 2321) | AE8: =ROUND(SUM(Q8:AB8)-SUM(E8:P8)+AC8,2) -> 0 | AF8: =AE8/12 -> 0 | AG8: =AF8*8 -> 0 | AI8: 50% + janvāra mēnesis
C9: Starpība %
B10: 1.3. | C10: Dabasgāze | D10: 2321; 2221 | E10: 34841.12 | F10: 95600.34 | G10: 104910.56 | H10: 76612.95 | I10: 34589.74 | J10: 9524.4 | K10: 5538.63 | L10: 2745 | M10: 5503.79 | N10: 32726.79 | O10: 113227.79 | P10: 233456.65 | Q10: 382116.3 | R10: 277538.84 | S10: 254117.56 | T10: 181899.85 | U10: 169395.31 | V10: 36107.27 | W10: 18277.05 | X10: 8698.42 | Y10: 15996.53 | Z10: 27492.57 | AA10: 100832.38 | AB10: 139073.93 | AE10: =ROUND(SUM(Q10:AB10)-SUM(E10:P10)+AC10,2) -> 862268.25 | AF10: =AE10/12 -> 71855.688 | AG10: =AF10*8 -> 574845.5
B11: 1.4. | C11: Ogles | E11: 0 | F11: 0 | G11: 0 | H11: 0 | I11: 0 | J11: 0 | K11: 0 | L11: 0 | M11: 0 | N11: 0 | O11: 0 | P11: 0 | Q11: 0 | R11: 0 | S11: 0 | T11: 0 | U11: 0 | V11: 0 | W11: 0 | X11: 0 | Y11: 0 | Z11: 0 | AA11: 0 | AB11: 0 | AE11: =ROUND(SUM(Q11:AB11)-SUM(E11:P11)+AC11,2) -> 0 | AF11: =AE11/12 -> 0 | AG11: =AF11*8 -> 0
B12: 1.5. | C12: Kurināmā koksne (šķelda) | E12: 22416.702 | F12: 18862.73 | G12: 17248.96 | H12: 10417.051 | I12: 2499.4812 | J12: 0 | K12: 0 | L12: 0 | M12: 0 | N12: 6203.912 | O12: 12521.246 | P12: 20654.596 | Q12: 26803.56 | R12: 23988.644 | S12: 23993.876 | T12: 17674.729 | U12: 2875.1744 | V12: 0 | W12: 0 | X12: 0 | Y12: 0 | Z12: 39639.6 | AA12: 181771.14 | AB12: 299570.74 | AE12: =ROUND(SUM(Q12:AB12)-SUM(E12:P12)+AC12,2) -> 505492.78 | AF12: =AE12/12 -> 42124.398 | AG12: =AF12*8 -> 336995.19
B13: 1.6. | C13: Norādīt citu konkrētu energoresursu veidu | E13: 0 | F13: 0 | G13: 0 | H13: 0 | I13: 0 | J13: 0 | K13: 0 | L13: 0 | M13: 0 | N13: 0 | O13: 0 | P13: 0 | Q13: 0 | R13: 0 | S13: 0 | T13: 0 | U13: 0 | V13: 0 | W13: 0 | X13: 0 | Y13: 0 | Z13: 0 | AA13: 0 | AB13: 0 | AE13: =ROUND(SUM(Q13:AB13)-SUM(E13:P13)+AC13,2) -> 0 | AF13: =AE13/12 -> 0 | AG13: =AF13*8 -> 0
B14: 1.7. | C14: Norādīt citu konkrētu energoresursu veidu | E14: 0 | F14: 0 | G14: 0 | H14: 0 | I14: 0 | J14: 0 | K14: 0 | L14: 0 | M14: 0 | N14: 0 | O14: 0 | P14: 0 | Q14: 0 | R14: 0 | S14: 0 | T14: 0 | U14: 0 | V14: 0 | W14: 0 | X14: 0 | Y14: 0 | Z14: 0 | AA14: 0 | AB14: 0 | AE14: =ROUND(SUM(Q14:AB14)-SUM(E14:P14)+AC14,2) -> 0 | AF14: =AE14/12 -> 0 | AG14: =AF14*8 -> 0
AD15: LBTU ir savas katlu mājas (kods 2321)
C16: 2022.gada ___.___________
C17: Sagatavotājs:
C18: (Vārds, Uzvārds, telefona nr., epasts)

Sheet JVLMA
B2: Jāzepa Vītola Latvijas Mūzikas akadēmija Energoresursu izmaksu sadārdzinājums
B4: Nr.p.k. | C4: Energoresursu veids | D4: Izdevumu EKK | E4: Izdevumi pēc naudas plūsmas principa par 2021.gadu EUR | Q4: Izdevumi pēc naudas plūsmas principa par 2022.gadu EUR Faktiskie izdevumi līdz 30.septembrim un prognozētie no 1.oktobra līdz 31.decembrim | AC4: Korekcijas (+/-), lai dati būtu salīdzināmi | AD4: Skaidrojums par veiktajām korekcijām | AE4: Energoresursu izmaksu pieaugums 2022.g. janvāris - decembris | AF4: Vidējās pieaugums mēnesī | AG4: Vidējās pieagums gadā | AI4: Sadārdzinājums - septembrim, oktobrim, novembrim, decembrim
E5: Janvāris (par decembri) | F5: Februāris (par janvāri) | G5: Marts (par februāri) | H5: Aprīlis (par martu) | I5: Maijs (par aprīli) | J5: Jūnijs (par maiju) | K5: Jūlijs (par jūniju) | L5: Augusts(par jūliju) | M5: Septembris (par augustu) | N5: Oktobris (par septembri) | O5: Novembris(par oktobri) | P5: Decembris (par novembri) | Q5: Janvāris (par decembri) | R5: Februāris (par janvāri) | S5: Marts (par februāri) | T5: Aprīlis (par martu) | U5: Maijs (par aprīli) | V5: Jūnijs (par maiju) | W5: Jūlijs (par jūniju) | X5: Augusts(par jūliju) | Y5: Septembris (par augustu) | Z5: Oktobris (par septembri) | AA5: Novembris(par oktobri) | AB5: Decembris (par novembri) | AF5: Vid.izm. Menesī | AG5: Vid.izm. Menesī | AI5: Vid.izm. Menesī
B6: a | C6: b | D6: c | E6: d | F6: e | G6: f | H6: g | I6: h | J6: d | K6: e | L6: f | M6: g | N6: h | O6: g | P6: h | Q6: i | R6: j | S6: k | T6: l | U6: m | V6: i | W6: j | X6: k | Y6: l | Z6: m | AA6: l | AB6: m | AC6: n | AD6: o | AE6: p=i+j+k+l+m-d-e-f-g-h+n
B7: 1. | C7: Kopā energoresursi: | D7: x | E7: =SUM(E8:E14) -> 8082.56 | F7: =SUM(F8:F14) -> 9686.08 | G7: =SUM(G8:G14) -> 9548.42 | H7: =SUM(H8:H14) -> 7356.89 | I7: =SUM(I8:I14) -> 5489.78 | J7: =SUM(J8:J14) -> 1844.7 | K7: =SUM(K8:K14) -> 139.29 | L7: =SUM(L8:L14) -> 100.85 | ... P7: =SUM(P8:P14) -> 8723.4 | Q7: =Q8 -> 14202.68 | R7: =R8 -> 12145.2 | S7: =S8 -> 10176.6 | T7: =T8 -> 10845.92 | U7: =U8 -> 9177.01 | V7: =V8 -> 2025.79 | W7: =W8 -> 296.71 | X7: =X8 -> 223.2 | ... AC7: =AC8 -> 0 | AD7: =SUM(AD8:AD14) -> 0 | AE7: =SUM(AE8:AE14) -> 36366.02 | AF7: =SUM(AF8:AF14) -> 3030.5017 | AG7: =SUM(AG8:AG14) -> 24244.013 | AJ7: =SUM(E7:P7) -> 60766.13 | AK7: =SUM(Q7:AC7) -> 97132.15 | AL7: =AJ7-AK7 -> -36366.02 | AM7: =AK7/AJ7*100-100 -> 59.845871
B8: 1.2. | C8: Siltumenerģija apkurei (2221) | D8: 2221 | E8: =2667.14+5415.42 -> 8082.56 | F8: 9686.08 | G8: 9548.42 | H8: 7356.89 | I8: 5489.78 | J8: 1844.7 | K8: 139.29 | L8: 100.85 | M8: 120.52 | N8: 3800.81 | O8: 5872.83 | P8: 8723.4 | Q8: 14202.68 | R8: 12145.2 | S8: 10176.6 | T8: 10845.92 | U8: 9177.01 | V8: =1357.1+668.69 -> 2025.79 | W8: =97.71+199 -> 296.71 | X8: =149.69+73.51 -> 223.2 | Y8: =62.04+124.1 -> 186.14 | Z8: 1915.9 | AA8: 15239 | AB8: 20698 | AE8: =ROUND(SUM(Q8:AB8)-SUM(E8:P8)+AC8,2) -> 36366.02 | AF8: =AE8/12 -> 3030.5017 | AG8: =AF8*8 -> 24244.013 | AI8: 50% + janvāra mēnesis
C9: Starpība % | Q9: =Q8/E8 -> 1.7572007 | R9: =R8/F8 -> 1.2538819 | S9: =S8/G8 -> 1.0657889 | T9: =T8/H8 -> 1.4742534 | U9: =U8/I8 -> 1.6716535 | V9: =V8/J8 -> 1.0981677 | W9: =W8/K8 -> 2.1301601 | X9: =X8/L8 -> 2.2131879 | ... AB9: =AB8/P8 -> 2.3726987
B10: 1.3. | C10: Dabasgāze
B11: 1.4. | C11: Ogles
B12: 1.5. | C12: Kurināmā koksne
B13: 1.6. | C13: Norādīt citu konkrētu energoresursu veidu
B14: 1.7. | C14: Norādīt citu konkrētu energoresursu veidu
C16: 2022.gada 23. septembris
C17: Sagatavotājs:
C18: Vita Daudisa tel.27865001

Sheet LMA
B2: Latvijas Mākslas akadēmija Energoresursu izmaksu sadārdzinājums
B4: Nr.p.k. | C4: Energoresursu veids | D4: Izdevumu EKK | E4: Izdevumi pēc naudas plūsmas principa par 2021.gadu EUR | Q4: Izdevumi pēc naudas plūsmas principa par 2022.gadu EUR Faktiskie izdevumi līdz 30.septembrim un prognozētie no 1.oktobra līdz 31.decembrim | AC4: Korekcijas (+/-), lai dati būtu salīdzināmi | AD4: Skaidrojums par veiktajām korekcijām | AE4: Energoresursu izmaksu pieaugums 2022.g. janvāris - decembris | AF4: Vidējās pieaugums mēnesī | AG4: Vidējās pieagums gadā | AI4: Sadārdzinājums - septembrim, oktobrim, novembrim, decembrim
E5: Janvāris (par decembri) | F5: Februāris (par janvāri) | G5: Marts (par februāri) | H5: Aprīlis (par martu) | I5: Maijs (par aprīli) | J5: Jūnijs (par maiju) | K5: Jūlijs (par jūniju) | L5: Augusts(par jūliju) | M5: Septembris (par augustu) | N5: Oktobris (par septembri) | O5: Novembris(par oktobri) | P5: Decembris (par novembri) | Q5: Janvāris (par decembri) | R5: Februāris (par janvāri) | S5: Marts (par februāri) | T5: Aprīlis (par martu) | U5: Maijs (par aprīli) | V5: Jūnijs (par maiju) | W5: Jūlijs (par jūniju) | X5: Augusts(par jūliju) | Y5: Septembris (par augustu) | Z5: Oktobris (par septembri) | AA5: Novembris(par oktobri) | AB5: Decembris (par novembri) | AF5: Vid.izm. Menesī | AG5: Vid.izm. Menesī | AI5: Vid.izm. Menesī
B6: a | C6: b | D6: c | E6: d | F6: e | G6: f | H6: g | I6: h | J6: d | K6: e | L6: f | M6: g | N6: h | O6: g | P6: h | Q6: i | R6: j | S6: k | T6: l | U6: m | V6: i | W6: j | X6: k | Y6: l | Z6: m | AA6: l | AB6: m | AC6: n | AD6: o | AE6: p=i+j+k+l+m-d-e-f-g-h+n
B7: 1. | C7: Kopā energoresursi: | D7: x | E7: =SUM(E8:E14) -> 11774.4 | F7: =SUM(F8:F14) -> 12626 | G7: =SUM(G8:G14) -> 11663.14 | H7: =SUM(H8:H14) -> 9526.43 | I7: =SUM(I8:I14) -> 6959.49 | J7: =SUM(J8:J14) -> 2573.8 | K7: =SUM(K8:K14) -> 226.73 | L7: =SUM(L8:L14) -> 150.27 | ... P7: =SUM(P8:P14) -> 12954.77 | Q7: =Q8+Q10 -> 19261.29 | R7: =R8+R10 -> 19261.26 | S7: =S8+S10 -> 29803.7 | T7: =T8+T10 -> 30005.27 | U7: =U8+U10 -> 32575.27 | V7: =V8+V10 -> 3890.87 | W7: =W8+W10 -> 1264.33 | X7: =X8+X10 -> 420.91 | ... AC7: =AC8+AC10 -> 0 | AD7: =SUM(AD8:AD14) -> 0 | AE7: =SUM(AE8:AE14) -> 107290.75 | AF7: =SUM(AF8:AF14) -> 8940.8958 | AG7: =SUM(AG8:AG14) -> 62976.46 | AJ7: =SUM(E7:P7) -> 82363.81 | AK7: =SUM(Q7:AC7) -> 189654.56 | AL7: =AJ7-AK7 -> -107290.75 | AM7: =AK7/AJ7*100-100 -> 130.26443
B8: 1.2. | C8: Siltumenerģija apkurei (2221) | E8: 11060 | F8: 11853.08 | G8: 10685.01 | H8: 8766.68 | I8: 6463.08 | J8: 2216.09 | K8: 176.62 | L8: 114.73 | M8: 172.55 | N8: 4561.52 | O8: 8657.04 | P8: 11561.99 | Q8: 17069.53 | R8: 17069.53 | S8: 26868.91 | T8: 27854.43 | U8: 30541.11 | V8: 1880.96 | W8: 732.33 | X8: 320.01 | Y8: 226.06 | Z8: 374.29 | AA8: 23328.92 | AB8: 24487 | AE8: =ROUND(SUM(Q8:AB8)-SUM(E8:P8)+AC8,2) -> 94464.69 | AF8: =AE8/12 -> 7872.0575 | AG8: =AF8*8 -> 62976.46 | AI8: 50% + janvāra mēnesis
C9: Starpība % | Q9: =Q8/E8 -> 1.5433571 | R9: =R8/F8 -> 1.4400924 | S9: =S8/G8 -> 2.5146359 | T9: =T8/H8 -> 3.1773066 | U9: =U8/I8 -> 4.725473 | V9: =V8/J8 -> 0.84877419 | W9: =W8/K8 -> 4.1463594 | X9: =X8/L8 -> 2.7892443 | ... AB9: =AB8/P8 -> 2.117888
B10: 1.3. | C10: Dabasgāze | E10: 714.4 | F10: 772.92 | G10: 978.13 | H10: 759.75 | I10: 496.41 | J10: 357.71 | K10: 50.11 | L10: 35.54 | M10: 231.63 | N10: 43 | O10: 243.04 | P10: 1392.78 | Q10: 2191.76 | R10: 2191.73 | S10: 2934.79 | T10: 2150.84 | U10: 2034.16 | V10: 2009.91 | W10: 532 | X10: 100.9 | Y10: 141.16 | Z10: 347.62 | AA10: 508.61 | AB10: 3758 | AE10: =ROUND(SUM(Q10:AB10)-SUM(E10:P10)+AC10,2) -> 12826.06 | AF10: =AE10/12 -> 1068.8383
B11: 1.4. | C11: Ogles
B12: 1.5. | C12: Kurināmā koksne
B13: 1.6. | C13: Norādīt citu konkrētu energoresursu veidu
B14: 1.7. | C14: Norādīt citu konkrētu energoresursu veidu
C16: 2022.gada 21.septembris
C17: Sagatavotājs: Inga Kiselova , 29296021, inga.kiselova@lma.lv
C18: (Vārds, Uzvārds, telefona nr., epasts)

Sheet LKA
B2: Latvijas Kultūras akadēmijas Energoresursu izmaksu sadārdzinājums
B4: Nr.p.k. | C4: Energoresursu veids | D4: Izdevumu EKK | E4: Izdevumi pēc naudas plūsmas principa par 2021.gadu EUR | Q4: Izdevumi pēc naudas plūsmas principa par 2022.gadu EUR Faktiskie izdevumi līdz 30.septembrim un prognozētie no 1.oktobra līdz 31.decembrim | AC4: Korekcijas (+/-), lai dati būtu salīdzināmi | AD4: Skaidrojums par veiktajām korekcijām | AE4: Energoresursu izmaksu pieaugums 2022.g. janvāris - decembris | AF4: Vidējās pieaugums mēnesī | AG4: Vidējās pieagums gadā | AI4: Sadārdzinājums - septembrim, oktobrim, novembrim, decembrim
E5: Janvāris (par decembri) | F5: Februāris (par janvāri) | G5: Marts (par februāri) | H5: Aprīlis (par martu) | I5: Maijs (par aprīli) | J5: Jūnijs (par maiju) | K5: Jūlijs (par jūniju) | L5: Augusts(par jūliju) | M5: Septembris (par augustu) | N5: Oktobris (par septembri) | O5: Novembris(par oktobri) | P5: Decembris (par novembri) | Q5: Janvāris (par decembri) | R5: Februāris (par janvāri) | S5: Marts (par februāri) | T5: Aprīlis (par martu) | U5: Maijs (par aprīli) | V5: Jūnijs (par maiju) | W5: Jūlijs (par jūniju) | X5: Augusts(par jūliju) | Y5: Septembris (par augustu) | Z5: Oktobris (par septembri) | AA5: Novembris(par oktobri) | AB5: Decembris (par novembri) | AF5: Vid.izm. Menesī | AG5: Vid.izm. Menesī | AI5: Vid.izm. Menesī
B6: a | C6: b | D6: c | E6: d | F6: e | G6: f | H6: g | I6: h | J6: d | K6: e | L6: f | M6: g | N6: h | O6: g | P6: h | Q6: i | R6: j | S6: k | T6: l | U6: m | V6: i | W6: j | X6: k | Y6: l | Z6: m | AA6: l | AB6: m | AC6: n | AD6: o | AE6: p=i+j+k+l+m-d-e-f-g-h+n
B7: 1. | C7: Kopā energoresursi: | D7: x | E7: =SUM(E8:E14) -> 5259.28 | F7: =SUM(F8:F14) -> 5524.18 | G7: =SUM(G8:G14) -> 3705.08 | H7: =SUM(H8:H14) -> 2969.66 | I7: =SUM(I8:I14) -> 1181.27 | J7: =SUM(J8:J14) -> 195.34 | K7: =SUM(K8:K14) -> 42.16 | L7: =SUM(L8:L14) -> 42.41 | ... P7: =SUM(P8:P14) -> 9268.41 | Q7: =Q8+Q10 -> 9586.7 | R7: =R8+R10 -> 8247.18 | S7: =S8+S10 -> 7478.09 | T7: =T8+T10 -> 5205.25 | U7: =U8+U10 -> 3416.48 | V7: =V8+V10 -> 196.04 | W7: =W8+W10 -> 118.61 | X7: =X8+X10 -> 103.35 | ... AC7: =AC8+AC10 -> 0 | AD7: =SUM(AD8:AD14) -> 0 | AE7: =SUM(AE8:AE14) -> 46952.85 | AF7: =SUM(AF8:AF14) -> 1218.1375 | AG7: =SUM(AG8:AG14) -> 9745.1 | AJ7: =SUM(E7:P7) -> 37931.04 | AK7: =SUM(Q7:AC7) -> 84883.896 | AL7: =AJ7-AK7 -> -46952.856 | AM7: =AK7/AJ7*100-100 -> 123.78478
B8: 1.2. | C8: Siltumenerģija apkurei (2221) | E8: 2037.76 | F8: 2430.17 | G8: 1971.69 | H8: 1951.67 | I8: 915.78 | J8: 166.28 | K8: 9.61 | L8: 9.86 | M8: 427.86 | N8: 951.07 | O8: 2006.36 | P8: 3483.21 | Q8: 3801.5 | R8: 3190.71 | S8: 3128.16 | T8: 2011.71 | U8: 636.42 | V8: 105.77 | W8: 86.06 | X8: 70.8 | Y8: 144.75 | Z8: 5934.3643 | AA8: 5934.3643 | AB8: 5934.3643 | AE8: =ROUND(SUM(Q8:AB8)-SUM(E8:P8)+AC8,2) -> 14617.65 | AF8: =AE8/12 -> 1218.1375 | AG8: =AF8*8 -> 9745.1 | AI8: 50% + janvāra mēnesis
C9: Starpība % | Q9: =Q8/E8 -> 1.8655288 | R9: =R8/F8 -> 1.3129575 | S9: =S8/G8 -> 1.5865374 | T9: =T8/H8 -> 1.0307634 | U9: =U8/I8 -> 0.69494857 | V9: =V8/J8 -> 0.63609574 | W9: =W8/K8 -> 8.9552549 | X9: =X8/L8 -> 7.1805274 | ... AB9: =AB8/P8 -> 1.7037056
B10: 1.3. | C10: Dabasgāze | E10: 3221.52 | F10: 3094.01 | G10: 1733.39 | H10: 1017.99 | I10: 265.49 | J10: 29.06 | K10: 32.55 | L10: 32.55 | M10: 222.99 | N10: 2329.67 | O10: 3805.3 | P10: 5785.2 | Q10: 5785.2 | R10: 5056.47 | S10: 4349.93 | T10: 3193.54 | U10: 2780.06 | V10: 90.27 | W10: 32.55 | X10: 32.55 | Y10: 32.55 | Z10: 32.55 | AA10: 16259.627 | AB10: 16259.627 | AE10: =ROUND(SUM(Q10:AB10)-SUM(E10:P10)+AC10,2) -> 32335.2
B11: 1.4. | C11: Ogles | AE11: =ROUND(SUM(Q11:AB11)-SUM(E11:P11)+AC11,2) -> 0
B12: 1.5. | C12: Kurināmā koksne | AE12: =ROUND(SUM(Q12:AB12)-SUM(E12:P12)+AC12,2) -> 0
B13: 1.6. | C13: Norādīt citu konkrētu energoresursu veidu | AE13: =ROUND(SUM(Q13:AB13)-SUM(E13:P13)+AC13,2) -> 0
B14: 1.7. | C14: Norādīt citu konkrētu energoresursu veidu | AE14: =ROUND(SUM(Q14:AB14)-SUM(E14:P14)+AC14,2) -> 0
C16: 2022. gada 22. septembris
C17: Sagatavotājs:
C18: Laura Liniņa, telefona nr. 67114811, Laura.Linina@lka.edu.lv)

Sheet LKA_LKK
B2: Latvijas Kultūras akadēmijas aģentūras"Latvijas Kultūras akadēmijas Latvijas Kultūras koledža" Energoresursu izmaksu sadārdzinājums
B4: Nr.p.k. | C4: Energoresursu veids | D4: Izdevumu EKK | E4: Izdevumi pēc naudas plūsmas principa par 2021.gadu EUR | Q4: Izdevumi pēc naudas plūsmas principa par 2022.gadu EUR Faktiskie izdevumi līdz 30.septembrim un prognozētie no 1.oktobra līdz 31.decembrim | AC4: Korekcijas (+/-), lai dati būtu salīdzināmi | AD4: Skaidrojums par veiktajām korekcijām | AE4: Energoresursu izmaksu pieaugums 2022.g. janvāris - decembris | AF4: Vidējās pieaugums mēnesī | AG4: Vidējās pieagums gadā | AI4: Sadārdzinājums - septembrim, oktobrim, novembrim, decembrim
E5: Janvāris (par decembri) | F5: Februāris (par janvāri) | G5: Marts (par februāri) | H5: Aprīlis (par martu) | I5: Maijs (par aprīli) | J5: Jūnijs (par maiju) | K5: Jūlijs (par jūniju) | L5: Augusts(par jūliju) | M5: Septembris (par augustu) | N5: Oktobris (par septembri) | O5: Novembris(par oktobri) | P5: Decembris (par novembri) | Q5: Janvāris (par decembri) | R5: Februāris (par janvāri) | S5: Marts (par februāri) | T5: Aprīlis (par martu) | U5: Maijs (par aprīli) | V5: Jūnijs (par maiju) | W5: Jūlijs (par jūniju) | X5: Augusts(par jūliju) | Y5: Septembris (par augustu) | Z5: Oktobris (par septembri) | AA5: Novembris(par oktobri) | AB5: Decembris (par novembri) | AF5: Vid.izm. Menesī | AG5: Vid.izm. Menesī | AI5: Vid.izm. Menesī
B6: a | C6: b | D6: c | E6: d | F6: e | G6: f | H6: g | I6: h | J6: d | K6: e | L6: f | M6: g | N6: h | O6: g | P6: h | Q6: i | R6: j | S6: k | T6: l | U6: m | V6: i | W6: j | X6: k | Y6: l | Z6: m | AA6: l | AB6: m | AC6: n | AD6: o | AE6: p=i+j+k+l+m-d-e-f-g-h+n
B7: 1. | C7: Kopā energoresursi: | D7: x | E7: =SUM(E8:E14) -> 2749.16 | F7: =SUM(F8:F14) -> 2463.15 | G7: =SUM(G8:G14) -> 1315.89 | H7: =SUM(H8:H14) -> 414.62 | I7: =SUM(I8:I14) -> 0 | J7: =SUM(J8:J14) -> 0 | K7: =SUM(K8:K14) -> 0 | L7: =SUM(L8:L14) -> 0 | ... P7: =SUM(P8:P14) -> 3946.89 | Q7: =Q8 -> 2960.57 | R7: =R8 -> 2553.44 | S7: =S8 -> 2173.89 | T7: =T8 -> 1345.45 | U7: =U8 -> 25.99 | V7: =V8 -> 0 | W7: =W8 -> 0 | X7: =X8 -> 0 | ... AC7: =AC8 -> 0 | AD7: =SUM(AD8:AD14) -> 0 | AE7: =SUM(AE8:AE14) -> 3449.9 | AF7: =SUM(AF8:AF14) -> 287.49167 | AG7: =SUM(AG8:AG14) -> 2299.9333 | AJ7: =SUM(E7:P7) -> 13550.1 | AK7: =SUM(Q7:AC7) -> 17000 | AL7: =AJ7-AK7 -> -3449.9 | AM7: =AK7/AJ7*100-100 -> 25.460329
B8: 1.2. | C8: Siltumenerģija apkurei (2221) | E8: 2749.16 | F8: 2463.15 | G8: 1315.89 | H8: 414.62 | N8: 664.33 | O8: 1996.06 | P8: 3946.89 | Q8: 2960.57 | R8: 2553.44 | S8: 2173.89 | T8: 1345.45 | U8: 25.99 | Z8: 2640.66 | AA8: 2700 | AB8: 2600 | AE8: =ROUND(SUM(Q8:AB8)-SUM(E8:P8)+AC8,2) -> 3449.9 | AF8: =AE8/12 -> 287.49167 | AG8: =AF8*8 -> 2299.9333 | AI8: 50% + janvāra mēnesis
C9: Starpība % | Q9: =Q8/E8 -> 1.0768999 | R9: =R8/F8 -> 1.0366563 | S9: =S8/G8 -> 1.6520302 | T9: =T8/H8 -> 3.2450195 | Z9: =Z8/N8 -> 3.9749221 | AA9: =AA8/O8 -> 1.3526647 | AB9: =AB8/P8 -> 0.65874651
B10: 1.3. | C10: Dabasgāze
B11: 1.4. | C11: Ogles
B12: 1.5. | C12: Kurināmā koksne
B13: 1.6. | C13: Norādīt citu konkrētu energoresursu veidu
B14: 1.7. | C14: Norādīt citu konkrētu energoresursu veidu
C16: 2022.gada 22.septembrī
C17: Sagatavotājs:
C18: Lelde Strazdiņa
