Workbook

Sheet Kopsavilkums
D1: 1.pielikums Informatīvajam ziņojumam “Par pilotprojekta integrētai pieejai - pakalpojumu pieejamības uzlabošanai nepilngadīgajiem, kuri pārmērīgi lieto atkarību izraisošas vielas, īstenošanu”
B3: Papildus nepieciešamais finansējums Informatīvajā ziņojumā “Par pilotprojekta integrētai pieejai - pakalpojumu pieejamības uzlabošanai nepilngadīgajiem, kuri pārmērīgi lieto atkarību izraisošas vielas, īstenošanu” minēto pasākumu īstenošanai no 2025. gada 1.septembra līdz 2026. gada 30. jūnijam, EUR
C5: 2025. gada septembris - decembris, EUR | D5: 2026. gada I pusgads, EUR
B6: Papildus nepieciešamais finansējums pilotprojekta īstenošanai
B7: Veselības ministrija | C7: ='2025_sept_dec'!D3 -> 174768 | D7: ='2026_I_pusg'!C5 -> 343627
B8: Finansējuma avots
B9: Budžeta resora “74. Gadskārtējā valsts budžeta izpildes procesā pārdalāmais finansējums” programmas 20.00.00 “Veselības aprūpes pasākumu īstenošana” ietvaros | C9: =C7 -> 174768 | D9: 253203
B10: Nacionālā veselības dienesta esošā budžeta ietvaros | D10: =D7-D9 -> 90424

Sheet 2025_sept_dec
F1: 1.1.pielikums Informatīvajam ziņojumam “Par pilotprojekta integrētai pieejai - pakalpojumu pieejamības uzlabošanai nepilngadīgajiem, kuri pārmērīgi lieto atkarību izraisošas vielas, īstenošanu”
A2: Papildus nepieciešamais finansējums narkoloģiskās rehabilitācijas nodrošināšanai (projekta ietvaros) | D2: 2025. gada septembris-decembris, EUR
A3: 1. Finanšu ietekmes aprēķins | D3: =ROUND(D19+I37+Papildus_specialisti!K9,0) -> 174768
A7: Pasākums | B7: Plānotais pacientu skaits 2025. gada septembris - decembris | C7: Tarifs, euro | D7: Kopā, euro | G7: Apmaksas modelis
A8: Uzturēšanās slimnīcā līdz 24h VSIA "Bērnu klīniskā universitātes slimnīca"- IZVĒRTĒŠANA | B8: 18 | C8: 299.82 | D8: =B8*C8 -> 5396.76 | G8: Pēc faktiski ārstēto pacientu skaita
A9: Stacionārā psihiskā palīdzība bērniem līdz 30 dienām VSIA "Bērnu klīniskā universitātes slimnīca" | B9: 7 | C9: 6177.42 | D9: =B9*C9 -> 43241.94 | G9: Pēc faktiski ārstēto pacientu skaita
A10: Transportēšana uz Ģintermuižu, Ainažiem (Manipulācija 60680 Piemaksa par pacienta nogādāšanu no augstāka līmeņa stacionārās ārstniecības iestādes uz zemāka līmeņa stacionāro ārstniecības iestādi terapijas pabeigšanai) | B10: 7 | C10: 109.99 | D10: =B10*C10 -> 769.93 | G10: pēc faktiskā ar manipulācijām
A11: Narkoloģiskā motivācija stacionārā bērniem (30 dienas) slimnīcā "Ģintermuiža" | B11: 6 | C11: 2966.1 | D11: =B11*C11 -> 17796.6 | G11: Pēc faktiski ārstēto pacientu skaita
A12: Narkoloģiskā motivācija stacionārā bērniem (60 dienas) slimnīcā "Ģintermuiža" | B12: 1 | C12: =C11*2 -> 5932.2 | D12: =B12*C12 -> 5932.2 | G12: Pēc faktiski ārstēto pacientu skaita
A13: Narkoloģiskā motivācija stacionārā bērniem (30 dienas) Bērnu psihoneiroloģiskā slimnīcā "Ainaži" | B13: 0 | C13: 2966.1 | D13: =B13*C13 -> 0 | G13: Pēc faktiski ārstēto pacientu skaita
A14: Narkoloģiskā motivācija stacionārā bērniem (60 dienas) Bērnu psihoneiroloģiskā slimnīcā "Ainaži" | B14: 0 | C14: =C13*2 -> 5932.2 | D14: =B14*C14 -> 0 | G14: Pēc faktiski ārstēto pacientu skaita
A15: Nemedikamentozās terapijas nodrošināšanai (**Rehabilitācijas komandas darbs psihiatrijas iestādē), EUR (30 dienām) slimnīcā "Ģintermuiža"* | B15: 6 | C15: 497.79 | D15: =B15*C15 -> 2986.74 | G15: pēc faktiskā ar manipulācijām
A16: Nemedikamentozās terapijas nodrošināšanai (**Rehabilitācijas komandas darbs psihiatrijas iestādē), EUR (60 dienām) slimnīcā "Ģintermuiža" | B16: 1 | C16: =C15*2 -> 995.58 | D16: =B16*C16 -> 995.58 | G16: pēc faktiskā ar manipulācijām
A17: Nemedikamentozās terapijas nodrošināšanai (**Rehabilitācijas komandas darbs psihiatrijas iestādē), EUR (30 dienām) Bērnu psihoneiroloģiskā slimnīcā "Ainaži"* | B17: 0 | C17: 497.79 | D17: =B17*C17 -> 0 | G17: pēc faktiskā ar manipulācijām
A18: Nemedikamentozās terapijas nodrošināšanai (**Rehabilitācijas komandas darbs psihiatrijas iestādē), EUR (60 dienām) Bērnu psihoneiroloģiskā slimnīcā "Ainaži" | B18: 0 | C18: =C17*2 -> 995.58 | D18: =B18*C18 -> 0 | G18: pēc faktiskā ar manipulācijām
A19: KOPĀ | D19: =SUM(D8:D18) -> 77119.75
A20: * Atbilstoši 2024_10 mēnešu datiem Slimnīca Ģintermuiža vidēji uz vienu pacientu nodrošina rehabilitācijas komandas darba manipulācijas 497.79 EUR apmērā
E23: Ārsts | F23: Māsa | G23: Palīgpersonāls | H23: Soc.nodoklis
D24: Mēneša darba samaksa, euro | E24: 2304 | F24: 1388 | G24: 925 | H24: 0.2359
A26: Pasākums | B26: Kabineta plānotais darbības periods mēnešos 2025. gadā | C26: Slodžu plāns 2025.gadam | D26: Darba samaksa kopā 2025.gadā, euro | E26: Piemaksa par pieejamības nodrošināšanu un darbu paaugstinātas intensitātes apstākļos, euro** | F26: Piemaksa par sarežģītību, euro*** | G26: VSAOI 2025.gadā, euro | H26: Darba samaksa+VSAOI, euro | I26: Darbības nodrošināšanai nepieciešamie līdzekļi, euro | J26: Papildus nepieciešamais finansējums 2025. gadam un turpmāk ik gadu, euro
A27: Koordinators Ģintermuižā | B27: 4 | C27: 0.5 | D27: =F24*B27*C27 -> 2776 | E27: 0 | F27: 0 | G27: =ROUND(D27*H$24,2) -> 654.86 | H27: =D27+G27 -> 3430.86 | J27: =E27+F27+H27+I27 -> 3430.86
A28: Viena multiprofesionālā komanda (ambulatori) VSIA "Bērnu klīniskā universitātes slimnīca"*
A29: Komandas vadītājs 0.5 slodze (narkologs) | B29: 4 | C29: 0.5 | D29: =B29*C29*E24 -> 4608 | E29: =540*B29*C29 -> 1080 | F29: =405*B29*C29 -> 810 | G29: =ROUND(D29*H$24,2) -> 1087.03 | H29: =D29+G29 -> 5695.03 | J29: =E29+F29+H29+I29 -> 7585.03
A30: Atkarību psihiatrs (narkologs) | B30: 4 | C30: 0.25 | D30: =B30*C30*E24 -> 2304 | E30: =540*B30*C30 -> 540 | F30: =405*B30*C30 -> 405 | G30: =ROUND(D30*H$24,2) -> 543.51 | H30: =D30+G30 -> 2847.51 | I30: 1245 | J30: =E30+F30+H30+I30 -> 5037.51
A31: Māsa/Koordinators | B31: 4 | C31: 2 | D31: =B31*C31*F24 -> 11104 | E31: 0 | F31: =243*B31*C31 -> 1944 | G31: =ROUND(D31*H$24,2) -> 2619.43 | H31: =D31+G31 -> 13723.43 | I31: 1283 | J31: =E31+F31+H31+I31 -> 16950.43
A32: Psihologs | B32: 4 | C32: 1 | D32: =B32*C32*E24 -> 9216 | E32: =540*B32*C32 -> 2160 | F32: =405*B32*C32 -> 1620 | G32: =ROUND(D32*H$24,2) -> 2174.05 | H32: =D32+G32 -> 11390.05 | I32: 1245 | J32: =E32+F32+H32+I32 -> 16415.05
A33: Funkcionālie speciālisti | B33: 4 | C33: 2 | D33: =B33*C33*E24 -> 18432 | E33: 0 | F33: =405*B33*C33 -> 3240 | G33: =ROUND(D33*H$24,2) -> 4348.11 | H33: =D33+G33 -> 22780.11 | I33: 2490 | J33: =E33+F33+H33+I33 -> 28510.11
A34: KOPĀ | C34: =SUM(C27:C33) -> 6.25 | E34: =E31+E32+E30+E33 -> 2700 | F34: =F31+F32+F30+F33 -> 7209 | G34: =SUM(G30:G33) -> 9685.1 | H34: =D34+G34 -> 9685.1 | I34: =I31+I32+I30+I33 -> 6263 | J34: =SUM(J27:J33) -> 77928.99
B36: Tarifs, eiro | C36: Reižu skaits | D36: Summa gadam, eiro
A37: Transporta izmaksas mobilās psihiatriskās komandas izbraukumiem (manipulācija 13079) | B37: 30.32 | C37: 26 | D37: =B37*C37 -> 788.32 | H37: KOPĀ, EUR | I37: =SUM(J34,D37) -> 78717.31
A38: * Darba samaksas aprēķinam izmantotas sekojošas likmes: atkarību speciālistam (narkologam) un psihologam, funkcionālam speciālistam - 2304 euro, māsai - 1388 euro
A39: ** MK noteikumu Nr.555 10.pielikums;
A40: ***Piemaksa par sarežģītību pēc Psihiatru kabineta principa, kas noteikts MK 555 10.pielikumā

Sheet 2026_I_pusg
F1: 1.2.pielikums Informatīvajam ziņojumam “Par pilotprojekta integrētai pieejai - pakalpojumu pieejamības uzlabošanai nepilngadīgajiem, kuri pārmērīgi lieto atkarību izraisošas vielas, īstenošanu”
A2: Papildus nepieciešamais finansējums narkoloģiskās rehabilitācijas nodrošināšanai (projekta ietvaros)
A3: 1. Finanšu ietekmes aprēķins
C4: 2026. gada I pusgadam, EUR | D4: GADAM KOPĀ, EUR
C5: =ROUND(F19+J37+Papildus_specialisti!G9,0) -> 343627 | D5: =ROUND(D19+I37+Papildus_specialisti!F9+Bupenorfīns!C9,0) -> 700107
A7: Pasākums | B7: Plānotais pacientu skaits gadam | C7: Tarifs, euro | D7: Kopā GADAM, euro | E7: Plānotais pacientu skaits 2026. gada I pusgadam | F7: 2026. gada I pusgadam, euro | H7: Apmaksas modelis
A8: Uzturēšanās slimnīcā līdz 24h VSIA "Bērnu klīniskā universitātes slimnīca"- IZVĒRTĒŠANA | B8: 54 | C8: 299.82 | D8: =B8*C8 -> 16190.28 | E8: =ROUND(B8/2,0) -> 27 | F8: =ROUND(C8*E8,2) -> 8095.14 | H8: Pēc faktiski ārstēto pacientu skaita
A9: Stacionārā psihiskā palīdzība bērniem līdz 30 dienām VSIA "Bērnu klīniskā universitātes slimnīca" | B9: 36 | C9: 6177.42 | D9: =B9*C9 -> 222387.12 | E9: =ROUND(B9/2,0) -> 18 | F9: =ROUND(C9*E9,2) -> 111193.56 | H9: Pēc faktiski ārstēto pacientu skaita
A10: Transportēšana uz Ģintermuižu, Ainažiem (Manipulācija 60680 Piemaksa par pacienta nogādāšanu no augstāka līmeņa stacionārās ārstniecības iestādes uz zemāka līmeņa stacionāro ārstniecības iestādi terapijas pabeigšanai) | B10: 36 | C10: 109.99 | D10: =B10*C10 -> 3959.64 | E10: =ROUND(B10/2,0) -> 18 | F10: =ROUND(C10*E10,2) -> 1979.82 | H10: pēc faktiskā ar manipulācijām
A11: Narkoloģiskā motivācija stacionārā bērniem (30 dienas) slimnīcā "Ģintermuiža" | B11: 15 | C11: 2966.1 | D11: =B11*C11 -> 44491.5 | E11: =ROUNDDOWN(B11/2,0) -> 7 | F11: =ROUND(C11*E11,2) -> 20762.7 | H11: Pēc faktiski ārstēto pacientu skaita
A12: Narkoloģiskā motivācija stacionārā bērniem (60 dienas) slimnīcā "Ģintermuiža" | B12: 3 | C12: =C11*2 -> 5932.2 | D12: =B12*C12 -> 17796.6 | E12: =ROUND(B12/2,0) -> 2 | F12: =ROUND(C12*E12,2) -> 11864.4 | H12: Pēc faktiski ārstēto pacientu skaita
A13: Narkoloģiskā motivācija stacionārā bērniem (30 dienas) Bērnu psihoneiroloģiskā slimnīcā "Ainaži" | B13: 15 | C13: 2966.1 | D13: =B13*C13 -> 44491.5 | E13: =ROUND(B13/2,0) -> 8 | F13: =ROUND(C13*E13,2) -> 23728.8 | H13: Pēc faktiski ārstēto pacientu skaita
A14: Narkoloģiskā motivācija stacionārā bērniem (60 dienas) Bērnu psihoneiroloģiskā slimnīcā "Ainaži" | B14: 3 | C14: =C13*2 -> 5932.2 | D14: =B14*C14 -> 17796.6 | E14: =ROUNDDOWN(B14/2,0) -> 1 | F14: =ROUND(C14*E14,2) -> 5932.2 | H14: Pēc faktiski ārstēto pacientu skaita
A15: Nemedikamentozās terapijas nodrošināšanai (**Rehabilitācijas komandas darbs psihiatrijas iestādē), EUR (30 dienām) slimnīcā "Ģintermuiža"* | B15: 15 | C15: 497.79 | D15: =B15*C15 -> 7466.85 | E15: =ROUNDDOWN(B15/2,0) -> 7 | F15: =ROUND(C15*E15,2) -> 3484.53 | H15: pēc faktiskā ar manipulācijām
A16: Nemedikamentozās terapijas nodrošināšanai (**Rehabilitācijas komandas darbs psihiatrijas iestādē), EUR (60 dienām) slimnīcā "Ģintermuiža" | B16: 3 | C16: =C15*2 -> 995.58 | D16: =B16*C16 -> 2986.74 | E16: =ROUND(B16/2,0) -> 2 | F16: =ROUND(C16*E16,2) -> 1991.16 | H16: pēc faktiskā ar manipulācijām
A17: Nemedikamentozās terapijas nodrošināšanai (**Rehabilitācijas komandas darbs psihiatrijas iestādē), EUR (30 dienām) Bērnu psihoneiroloģiskā slimnīcā "Ainaži"* | B17: 15 | C17: 497.79 | D17: =B17*C17 -> 7466.85 | E17: =ROUND(B17/2,0) -> 8 | F17: =ROUND(C17*E17,2) -> 3982.32 | H17: pēc faktiskā ar manipulācijām
A18: Nemedikamentozās terapijas nodrošināšanai (**Rehabilitācijas komandas darbs psihiatrijas iestādē), EUR (60 dienām) Bērnu psihoneiroloģiskā slimnīcā "Ainaži" | B18: 3 | C18: =C17*2 -> 995.58 | D18: =B18*C18 -> 2986.74 | E18: =ROUNDDOWN(B18/2,0) -> 1 | F18: =ROUND(C18*E18,2) -> 995.58 | H18: pēc faktiskā ar manipulācijām
A19: KOPĀ | D19: =SUM(D8:D18) -> 388020.42 | F19: =SUM(F8:F18) -> 194010.21
A20: * Atbilstoši 2024_10 mēnešu datiem Slimnīca Ģintermuiža vidēji uz vienu pacientu nodrošina rehabilitācijas komandas darba manipulācijas 497.79 EUR apmērā
E23: Ārsts | F23: Māsa | G23: Palīgpersonāls | H23: Soc.nodoklis
D24: Mēneša darba samaksa, euro | E24: 2304 | F24: 1388 | G24: 925 | H24: 0.2359
A26: Pasākums | B26: Kabineta plānotais darbības periods mēnešos GADĀ | C26: Slodžu plāns GADAM | D26: Darba samaksa kopā GADĀ, euro | E26: Piemaksa par pieejamības nodrošināšanu un darbu paaugstinātas intensitātes apstākļos, euro** | F26: Piemaksa par sarežģītību, euro*** | G26: VSAOI , euro | H26: Darba samaksa+VSAOI, euro | I26: Darbības nodrošināšanai nepieciešamie līdzekļi, euro | J26: Papildus nepieciešamais finansējumsGADAM, euro | K26: Papildus nepieciešamais finansējums 2026. gada I pusgadam, euro
A27: Koordinators Ģintermuižā | B27: 12 | C27: 0.5 | D27: =F24*B27*C27 -> 8328 | E27: 0 | F27: 0 | G27: =ROUND(D27*H$24,2) -> 1964.58 | H27: =D27+G27 -> 10292.58 | J27: =E27+F27+H27+I27 -> 10292.58
A28: Viena multiprofesionālā komanda (ambulatori) VSIA "Bērnu klīniskā universitātes slimnīca"*
A29: Komandas vadītājs 0.5 slodze (narkologs) | B29: 12 | C29: 0.5 | D29: =B29*C29*E24 -> 13824 | E29: =540*B29*C29 -> 3240 | F29: =405*B29*C29 -> 2430 | G29: =ROUND(D29*H$24,2) -> 3261.08 | H29: =D29+G29 -> 17085.08 | J29: =E29+F29+H29+I29 -> 22755.08
A30: Atkarību psihiatrs (narkologs) | B30: 12 | C30: 0.25 | D30: =B30*C30*E24 -> 6912 | E30: =540*B30*C30 -> 1620 | F30: =405*B30*C30 -> 1215 | G30: =ROUND(D30*H$24,2) -> 1630.54 | H30: =D30+G30 -> 8542.54 | I30: 3736 | J30: =E30+F30+H30+I30 -> 15113.54
A31: Māsa/Koordinators | B31: 12 | C31: 2 | D31: =B31*C31*F24 -> 33312 | E31: 0 | F31: =243*B31*C31 -> 5832 | G31: =ROUND(D31*H$24,2) -> 7858.3 | H31: =D31+G31 -> 41170.3 | I31: 3849 | J31: =E31+F31+H31+I31 -> 50851.3
A32: Psihologs | B32: 12 | C32: 1 | D32: =B32*C32*E24 -> 27648 | E32: =540*B32*C32 -> 6480 | F32: =405*B32*C32 -> 4860 | G32: =ROUND(D32*H$24,2) -> 6522.16 | H32: =D32+G32 -> 34170.16 | I32: 3736 | J32: =E32+F32+H32+I32 -> 49246.16
A33: Funkcionālie speciālisti | B33: 12 | C33: 2 | D33: =B33*C33*E24 -> 55296 | E33: 0 | F33: =405*B33*C33 -> 9720 | G33: =ROUND(D33*H$24,2) -> 13044.33 | H33: =D33+G33 -> 68340.33 | I33: 7472 | J33: =E33+F33+H33+I33 -> 85532.33
A34: KOPĀ | E34: =E31+E32+E30+E33 -> 8100 | F34: =F31+F32+F30+F33 -> 21627 | G34: =SUM(G30:G33) -> 29055.33 | H34: =D34+G34 -> 29055.33 | I34: =I31+I32+I30+I33 -> 18793 | J34: =SUM(J27:J33) -> 233790.99 | K34: =ROUND(J34/2,2) -> 116895.5
B36: Tarifs, eiro | C36: Reižu skaits | D36: Summa gadam, euro | E36: Summa 2026. gada I pusgadam, euro | I36: GADAM | J36: 2026. gada I pusgadam
A37: Transporta izmaksas mobilās psihiatriskās komandas izbraukumiem (manipulācija 13079) | B37: 30.32 | C37: 80 | D37: =B37*C37 -> 2425.6 | E37: =ROUND(D37/2,2) -> 1212.8 | H37: KOPĀ, EUR | I37: =SUM(J34,D37) -> 236216.59 | J37: =K34+E37 -> 118108.3
A38: * Darba samaksas aprēķinam izmantotas sekojošas likmes: atkarību speciālistam (narkologam) un psihologam, funkcionālam speciālistam - 2304 euro, māsai - 1388 euro
A39: ** MK noteikumu Nr.555 10.pielikums;
A40: ***Piemaksa par sarežģītību pēc Psihiatru kabineta principa, kas noteikts MK 555 10.pielikumā

Sheet Papildus_specialisti
F1: 1.3.pielikums Informatīvajam ziņojumam “Par pilotprojekta integrētai pieejai - pakalpojumu pieejamības uzlabošanai nepilngadīgajiem, kuri pārmērīgi lieto atkarību izraisošas vielas, īstenošanu”
A3: Papildus nodrošināmies speciālisti
C5: GADAM | H5: 2025. GADA SEPTEMBRIS- DECEMBRIS
A6: Pakalpojuma veids | B6: Mērvienība | C6: Vienību skaits* | D6: Vienības cena | E6: Summa par vienību, EUR | F6: Papildus nepieciešams finansējums gadam ** | G6: Papildus nepieciešams finansējums 2026. gada I pusgadam | H6: Vienību skaits | I6: Vienības cena | J6: Summa par vienību, EUR | K6: Periodam no 01.09.-31.12.2025.
A7: Sociālā atbalsta darbinieks** | B7: PLE + VSAOI | C7: 2 | D7: =ROUND(1600*1.2359,2) -> 1977.44 | E7: =C7*D7 -> 3954.88 | F7: =ROUND(E7*12,2) -> 47458.56 | H7: 2 | I7: 1977.44 | J7: =H7*I7 -> 3954.88 | K7: =ROUND(J7*4,2) -> 15819.52
A8: Juridiskā atbalsta pakalpojumi | B8: vienības cena | C8: 25 | D8: 622.29 | E8: =C8*D8 -> 15557.25 | F8: =E8 -> 15557.25 | H8: 5 | I8: 622.28571 | J8: =H8*I8 -> 3111.4286 | K8: =J8 -> 3111.4286
A9: KOPĀ | F9: =ROUND(F7+F8,0) -> 63016 | G9: =F9/2 -> 31508 | K9: =ROUND(SUM(K7:K8),0) -> 18931
A11: * BKUS nodrošinātais atalgojums personālam
A12: ** paredzot 12 kalendāros mēnešus

Sheet Bupenorfīns
C1: 1.4.pielikums Informatīvajam ziņojumam “Par pilotprojekta integrētai pieejai - pakalpojumu pieejamības uzlabošanai nepilngadīgajiem, kuri pārmērīgi lieto atkarību izraisošas vielas, īstenošanu”
A3: Papildus nepieciešamais finansējums Buprenorfīna terapijas nodrošināšanai - terapija uzsākama no 2026. gada II pusgada (ņemot vērā procedūras medikamenta iekļaušanai KZS)
B5: Papildus nepieciešamais finansējums | C5: 2026. gada II pusgadam
B6: 33.03.00 "Kompensējamo medikamentu un materiālu apmaksāšana" | C6: =$F42*D12 -> 11395.2
B7: 33.15.00 "Laboratorisko izmeklējumu nodrošināšana ambulatorajā aprūpē" | C7: =($C23+$E52)*D12 -> 635.26
B8: 33.16.00 Pārējo ambulatoro veselības aprūpes pakalpojumu nodrošināšana | C8: =($E30+$F36+$G46)*D12 -> 823.44
B9: KOPĀ, EUR: | C9: =SUM(C6:C8) -> 12853.9
D11: 2026. gada II pusgads
C12: Pacientu skaits | D12: 2
A14: 1.Pirms terapijas uzsākšanas nepieciešamie izmeklējumi un ārstu konsīlijs
A15: Manipulācijas kods | B15: Laboratoriskieizmeklējumi pirms terapijas uzsākšanas | C15: Tarifs, eiro
A16: 40003 | B16: Asins ņemšana ar slēgtu sistēmu vienā stobriņā | C16: 1.52
A17: 40042 | B17: Pilna asins aina | C17: 3.93
A18: 40148 | B18: Urīna analīze ar teststrēmeli (9–10 parametri) | C18: 1.72
A19: 54092 | B19: Izmeklēšana ar mikromatricu tehnoloģiju uz 13 vielu grupām | C19: 57.64
A20: 41022 | B20: ALAT – alanīnaminotransferāze | C20: 1.42
A21: 41309 | B21: Anti-HCV | C21: 7.2
A22: 41401 | B22: Anti-HIV 1, HIV 2 + HIV Ag. Imūnķīmiskās metodes (bez reaktīvu cenas) | C22: 7.56
C23: =SUM(C16:C22) -> 80.99
A24: *Analīzes paņemšanu veic VSIA "Bērnu klīniskā universitātes slimnīca", testē VSIA "Nacionālais psihiskās veselības centrs"
A27: Manipulācijas kods | B27: Funkcionālie izmeklējumi pirms terapijas uzsākšanas | C27: Tarifs, eiro | D27: Pacienta līdzmaksājums, eiro* | E27: Kopā, eiro
A28: 06003 | B28: Elektrokardiogrammas ar 12 novadījumiem pieraksts | C28: 1.83 | D28: 2 | E28: =C28+D28 -> 3.83
A29: 06004 | B29: Elektrokardiogrammas ar 12 novadījumiem apraksts | C29: 6.06 | D29: 0 | E29: =C29+D29 -> 6.06
E30: =SUM(E28:E29) -> 9.89
A31: *Bērni vecumā līdz 18 gadiem un personas, kuras slimo ar alkohola, narkotisko, psihotropo vai toksisko vielu atkarību, saņemot narkoloģisko ārstēšanu, atbrīvotas no pacienta līdmaksājuma.
B33: Ārstu konsīlijs (3 speciālisti) terapijas uzsākšanai | C33: Ārstu skaits | D33: Tarifs, eiro | E33: Pacienta līdzmaksājums, eiro* | F33: Kopā, eiro
B34: Narkologa aprūpes epizode | C34: 2 | D34: 32.53 | E34: 4 | F34: =C34*(D34+E34) -> 73.06
B35: Psihiatra aprūpes epizode | C35: 1 | D35: 32.53 | E35: 4 | F35: =C35*(D35+E35) -> 36.53
F36: =SUM(F34:F35) -> 109.59
A37: Ārstu konsīliju sastāvs atkarībā no pieejamiem speciālistiem, iespējams arī 3 narkologu konsīlijs
A38: *Bērni vecumā līdz 18 gadiem un personas, kuras slimo ar alkohola, narkotisko, psihotropo vai toksisko vielu atkarību, saņemot narkoloģisko ārstēšanu, atbrīvotas no pacienta līdmaksājuma.
A40: 2.Terapijas saņemšana
B41: Aizstājējterapijas medikamenta saņemšana | C41: Nepieciešamais devu skaits mēnesī | D41: Vidējais ārstēšanās ilgums, mēnešos | E41: Cena, eiro* | F41: Kopā, eiro
B42: Buprenorfīns (tablete lietošanai zem mēles) 8mg | C42: 30 | D42: 8 | E42: 23.74 | F42: =E42*C42*D42 -> 5697.6
B43: *pēz ZVA Zāļu reģistra Bupensanduo 8 mg/2 mg tabletes lietošanai zem mēles
B45: Ikmēneša narkologa apmeklējums medikamentu saņemšanai | C45: Apmeklējumu skaits mēnesī | D45: Vidējais ārstēšanās ilgums, mēnešos | E45: Tarifs, eiro | F45: Pacienta līdzmaksājums, eiro* | G45: Kopā, eiro
B46: Narkologa konsultācija, eiro | C46: 1 | D46: 8 | E46: 32.53 | F46: 4 | G46: =C46*D46*(E46+F46) -> 292.24
A47: *Bērni vecumā līdz 18 gadiem un personas, kuras slimo ar alkohola, narkotisko, psihotropo vai toksisko vielu atkarību, saņemot narkoloģisko ārstēšanu, atbrīvotas no pacienta līdmaksājuma.
A49: Manipulācijas kods | B49: Papildus nepieciešamie izmeklējumi | C49: Reizes gadā | D49: Tarifs, eiro | E49: Kopā, eiro
A50: 54092 | B50: Izmeklēšana ar mikromatricu tehnoloģiju uz 13 vielu grupām | C50: 4 | D50: 57.64 | E50: =D50*C50 -> 230.56
...

Sheet Stacion_interv_BKUS
G1: 1.5.pielikums Informatīvajam ziņojumam “Par pilotprojekta integrētai pieejai - pakalpojumu pieejamības uzlabošanai nepilngadīgajiem, kuri pārmērīgi lieto atkarību izraisošas vielas, īstenošanu”
A3: Stacionārā multidisciplinārā intervence bērniem, kas lieto atkarību izraisošas vielas
A5: 1. Samaksa par manipulācijām | D5: 2025. gads | I5: Apmaksas nosacījumi:
A6: Manipulācijas kods | B6: Manipulācijas nosaukums | C6: Tarifs, EUR | D6: Bērnu klīniskās universitātes slimnīca | I6: Pakalpojums bērniem, kas lieto atkarību izraisošas vielas. Manipulācijā ir ietverta samaksa par intervences nodarbībām, ko īsteno divi un vairāk speciālisti vienā dienā. Ja intervences plāna ietvaros nav iespējams īstenot vienas dienas laikā vairāku multiprofesionālās komandas speciālistu darbu, šo manipulāciju var norādīt viens speciālists, veicot 2 nodarbības manipulācijas ietvaros. Manipulāciju var norādīt atkārtotas multiprofesionālās komandas izvērtēšanas gadījumā. Manipulāciju norāda viens no multiprofesionālās komandas speciālistiem, kas īsteno nodarbību šī manipulācijas ietvaros vai multiprofesionālās intervences komandas vadītājs. Pacientam kursa laikā var norādīt ne vairāk kā 30 reizes.
D7: Skaits | E7: Summa, EUR
A8: xxxx | B8: Multiprofesionāls intervences pakalpojums bērniem, kas lieto atkarību izraisošas vielas - speciālistu nodarbības | C8: 66.63 | D8: =E19*36 -> 648 | E8: =C8*D8 -> 43176.24
B9: Kopā: | C9: =SUM(C8:C8) -> 66.63 | D9: =SUM(D8:D8) -> 648 | E9: =SUM(E8:E8) -> 43176.24
A13: 2. Samaksa par gultasdienām | C13: Gultasdienu tarifs, EUR | D13: Bērnu klīniskās universitātes slimnīca
D14: Gultasdienu skaits | E14: Summa, EUR
C15: 276.56 | D15: =36*18 -> 648 | E15: =D15*C15 -> 179210.88
A17: Pavisam kopā: | E17: =E15+E9 -> 222387.12
A18: Pacientu skaits: | E18: 36
B19: Vidējais ārstēšanas ilgums | E19: =ROUND(D15/E18,1) -> 18
A20: Iezīmēto programmu vidējās izmaksas, EUR: | E20: =ROUND(E17/E18,2) -> 6177.42
A25: Manipulācijas kods | B25: Manipulācijas nosaukums | C25: Laiks Ārstam | D25: Laiks Māsai | E25: Laiks Jaunākajam personālam | F25: Darba samaksa, EUR | G25: Valsts sociālās apdrošināšanas obligātās iemaksas, EUR | H25: Ārstniecības līdzekļi, EUR | I25: Izdevumi, saistīti ar pacientu ēdināšanu, EUR | J25: Pieskaitāmās un netiešās ražošanas izmaksas, EUR | K25: Administratīvie izdevumi, EUR | L25: Nolietojums, EUR | N25: Kopējās pakalpojuma izmaksas | O25: Pacienta līdzmaksājums | P25: Tarifs, EUR
F26: D | G26: S | H26: M | I26: E | J26: U | K26: A | L26: N | M26: P | P26: TC
A27: 1 | B27: 2 | C27: 3 | D27: 4 | E27: 5 | F27: 6 | G27: 7 | H27: 8 | I27: 9 | J27: 10 | K27: 11 | L27: 12 | M27: 13 | N27: 14 | O27: 15 | P27: 16
A28: 13121 | B28: Multiprofesionāls AST agrīnās intervences pakalpojums - speciālistu nodarbības | C28: 150 | D28: 0 | E28: 0 | F28: 36 | G28: 8.49 | H28: 0 | I28: 0 | J28: 20.25 | K28: 0.73 | L28: 1.16 | M28: 0 | N28: 66.63 | O28: 0 | P28: 66.63

Sheet Motivācijas_progr.
C1: 1.6.pielikums Informatīvajam ziņojumam “Par pilotprojekta integrētai pieejai - pakalpojumu pieejamības uzlabošanai nepilngadīgajiem, kuri pārmērīgi lieto atkarību izraisošas vielas, īstenošanu”
A3: Narkoloģiskā motivācija stacionārā bērniem līdz 30 dienām
A4: 1. Samaksa par manipulācijām
A5: Manipulācijas kods | B5: Manipulācijas nosaukums | C5: Slimnīca " Ģintermuiža"
C6: Tarifs, EUR | D6: Skaits | E6: Summa, EUR
B7: =VLOOKUP(A7,[1]Man.saraksts!$D$7:$G$4636,3,0) -> #N/A | C7: =VLOOKUP(A7,[1]Man.saraksts!$D$7:$G$4636,4,0) -> #N/A
B8: =VLOOKUP(A8,[1]Man.saraksts!$D$7:$G$4636,3,0) -> #N/A | C8: =VLOOKUP(A8,[1]Man.saraksts!$D$7:$G$4636,4,0) -> #N/A
B9: =VLOOKUP(A9,[1]Man.saraksts!$D$7:$G$4636,3,0) -> #N/A | C9: =VLOOKUP(A9,[1]Man.saraksts!$D$7:$G$4636,4,0) -> #N/A
B10: Kopā | C10: =SUM(C7:C9) -> #N/A | D10: =SUM(D7:D9) -> 0 | E10: =SUM(E7:E9) -> 0
A14: 2. Samaksa par gultasdienām | C14: Slimnīca " Ģintermuiža"
C15: Gultasdienu tarifs, EUR | D15: Gultasdienu skaits | E15: Summa, EUR
C16: ='[1]GD tarifi'!E12 -> 98.87 | D16: 30 | E16: =D16*C16 -> 2966.1
A18: Pavisam kopā: | E18: =E16+E7 -> 2966.1
A19: Pacientu skaits: | E19: 1
B20: Vidējais ārstēšanas ilgums | E20: =D16/E19 -> 30
A21: Iezīmēto programmu vidējās izmaksas, EUR: | E21: =ROUND(E18/E19,2) -> 2966.1
A26: Narkoloģiskā motivācija stacionārā bērniem līdz 60 dienām
A27: 1. Samaksa par manipulācijām
A28: Manipulācijas kods | B28: Manipulācijas nosaukums | C28: Slimnīca " Ģintermuiža"
C29: Tarifs, EUR | D29: Skaits | E29: Summa, EUR
B30: =VLOOKUP(A30,[1]Man.saraksts!$D$7:$G$4636,3,0) -> #N/A | C30: =VLOOKUP(A30,[1]Man.saraksts!$D$7:$G$4636,4,0) -> #N/A
B31: =VLOOKUP(A31,[1]Man.saraksts!$D$7:$G$4636,3,0) -> #N/A | C31: =VLOOKUP(A31,[1]Man.saraksts!$D$7:$G$4636,4,0) -> #N/A
B32: =VLOOKUP(A32,[1]Man.saraksts!$D$7:$G$4636,3,0) -> #N/A | C32: =VLOOKUP(A32,[1]Man.saraksts!$D$7:$G$4636,4,0) -> #N/A
B33: Kopā | C33: =SUM(C30:C32) -> #N/A | D33: =SUM(D30:D32) -> 0 | E33: =SUM(E30:E32) -> 0
A37: 2. Samaksa par gultasdienām | C37: Slimnīca " Ģintermuiža"
C38: Gultasdienu tarifs, EUR | D38: Gultasdienu skaits | E38: Summa, EUR
C39: 98.87 | D39: 60 | E39: =D39*C39 -> 5932.2
A41: Pavisam kopā: | E41: =E39+E30 -> 5932.2
A42: Pacientu skaits: | E42: 1
B43: Vidējais ārstēšanas ilgums | E43: =D39/E42 -> 60
A44: Iezīmēto programmu vidējās izmaksas, EUR: | E44: =ROUND(E41/E42,2) -> 5932.2

Sheet Izvertesanas_process_BKUS
C1: 1.7.pielikums Informatīvajam ziņojumam “Par pilotprojekta integrētai pieejai - pakalpojumu pieejamības uzlabošanai nepilngadīgajiem, kuri pārmērīgi lieto atkarību izraisošas vielas, īstenošanu”
A3: Izvērtēšana/observācija NMC specializēta bērniem, kas lieto apreibinošās vielas
A5: Manipulācijas kods | B5: Manipulācijas nosaukums | C5: Tarifs, EUR
A7: xxxx | B7: Intensīvas multiprofesionālas intervences komandas izvērtēšanas un vizītes ar vecākiem veikšana NMC etapa laikā. Norāda multiprofesionālas intervences komandas vadītājs vienu reizi. Pacientam un ģimeni nodrošinot visaptverošu vajadzību izvērtējumu un plāna sastādīšanu, psihoedukāciju, starpinstitucionālās sapulces izvērtējumu. | C7: 299.82
A11: Manipulācijas kods | B11: Manipulācijas nosaukums | C11: Laiks Ārstam | D11: Laiks Māsai | E11: Laiks Jaunākajam personālam | F11: Darba samaksa, EUR | G11: Valsts sociālās apdrošināšanas obligātās iemaksas, EUR | H11: Ārstniecības līdzekļi, EUR | I11: Izdevumi, saistīti ar pacientu ēdināšanu, EUR | J11: Pieskaitāmās un netiešās ražošanas izmaksas, EUR | K11: Administratīvie izdevumi, EUR | L11: Nolietojums, EUR | N11: Kopējās pakalpojuma izmaksas | O11: Pacienta līdzmaksājums | P11: Tarifs, EUR
F12: D | G12: S | H12: M | I12: E | J12: U | K12: A | L12: N | M12: P | P12: TC
A13: 1 | B13: 2 | C13: 3 | D13: 4 | E13: 5 | F13: 6 | G13: 7 | H13: 8 | I13: 9 | J13: 10 | K13: 11 | L13: 12 | M13: 13 | N13: 14 | O13: 15 | P13: 16
A14: 13119 | B14: Multiprofesionālas komandas izvērtēšanas un vizītes ar vecākiem veikšana AST agrīnās intervences ietvaros, ko nodrošina 6 speciālisti. Norāda multiprofesionālas intervences komandas vadītājs vienu reizi kursa ietvaros | C14: 675 | D14: 0 | E14: 0 | F14: 162 | G14: 38.22 | H14: 0 | I14: 0 | J14: 91.11 | K14: 3.27 | L14: 5.22 | M14: 0 | N14: 299.82 | O14: 0 | P14: 299.82

Sheet Nemedikam_terapija
C1: 1.8.pielikums Informatīvajam ziņojumam “Par pilotprojekta integrētai pieejai - pakalpojumu pieejamības uzlabošanai nepilngadīgajiem, kuri pārmērīgi lieto atkarību izraisošas vielas, īstenošanu”
A3: Nemedikamentozās terapijas nodrošināšanai (**Rehabilitācijas komandas darbs psihiatrijas iestādē)
A5: Manipulācijas kods | B5: Manipulācijas nosaukums | C5: Tarifs, EUR | D5: Manipulāciju skaits | E5: Summa, EUR
A6: 55069 | B6: Multiprofesionāls rehabilitācijas bāzes pakalpojums psihiatriskiem pacientiem (2–3 stundas) (par katru kalendāro dienu) | C6: 62.38 | D6: 90 | E6: =C6*D6 -> 5614.2
A7: 55069 | B7: Multiprofesionāls rehabilitācijas bāzes pakalpojums psihiatriskiem pacientiem (2–3 stundas) (par katru kalendāro dienu) | C7: 68.3 | D7: 3898 | E7: =C7*D7 -> 266233.4
A8: 55156 | B8: Funkcionālā speciālista nodarbība (15 minūtes) (par katru kalendāro dienu) | C8: 5.37 | D8: 180 | E8: =C8*D8 -> 966.6
A9: 55156 | B9: Funkcionālā speciālista nodarbība (15 minūtes) (par katru kalendāro dienu) | C9: 5.91 | D9: 6696 | E9: =C9*D9 -> 39573.36
A10: 55176 | B10: Funkcionālā speciālista vai psihologa darbs ar pacientu grupu (30 minūtes). Norāda par katru pacientu (grupā 3-5 pacienti) | C10: 2.86 | D10: 17 | E10: =C10*D10 -> 48.62
A11: 55176 | B11: Funkcionālā speciālista vai psihologa darbs ar pacientu grupu (30 minūtes). Norāda par katru pacientu (grupā 3-5 pacienti) | C11: 3.14 | D11: 833 | E11: =C11*D11 -> 2615.62
A12: 55177 | B12: Funkcionālā speciālista vai psihologa darbs ar pacientu grupu (nākamās 15 minūtes). Norāda par katru pacientu (grupā 3-5 pacienti) | C12: 1.37 | D12: 34 | E12: =C12*D12 -> 46.58
A13: 55177 | B13: Funkcionālā speciālista vai psihologa darbs ar pacientu grupu (nākamās 15 minūtes). Norāda par katru pacientu (grupā 3-5 pacienti) | C13: 1.51 | D13: 1675 | E13: =C13*D13 -> 2529.25
A14: 55178 | B14: Funkcionālā speciālista vai psihologa darbs ar pacientu grupu (30 minūtes). Norāda par katru pacientu (grupā 6-8 pacienti) | C14: 1.43 | D14: 5 | E14: =C14*D14 -> 7.15
A15: 55178 | B15: Funkcionālā speciālista vai psihologa darbs ar pacientu grupu (30 minūtes). Norāda par katru pacientu (grupā 6-8 pacienti) | C15: 1.57 | D15: 552 | E15: =C15*D15 -> 866.64
A16: 55179 | B16: Funkcionālā speciālista vai psihologa darbs ar pacientu grupu (nākamās 15 minūtes). Norāda par katru pacientu (grupā 6-8 pacienti) | C16: 0.7 | D16: 10 | E16: =C16*D16 -> 7
A17: 55179 | B17: Funkcionālā speciālista vai psihologa darbs ar pacientu grupu (nākamās 15 minūtes). Norāda par katru pacientu (grupā 6-8 pacienti) | C17: 0.78 | D17: 1100 | E17: =C17*D17 -> 858
... A21: 55183 | B21: Rehabilitācijas komandas apspriede, norāda katrs iesaistītais rehabilitācijas speciālists | C21: 5.67 | D21: 10278 | E21: =C21*D21 -> 58276.26
A22: KOPĀ EUR par manipulācijām | D22: =SUM(D6:D21) -> 26296 | E22: =SUM(E6:E21) -> 382801.84
B23: Pacientu skaits, kam nodrošinātas manipulācijas | E23: 769
B24: Vidējās izmaksas uz vienu pacientu 30 dienu ārstēšanā | E24: =E22/E23 -> 497.79173
B25: Vidējās izmaksas uz vienu pacientu 60 dienu ārstēšanā | E25: =E24*2 -> 995.58346
A27: 2024_10M dati, Slimnīca "Ģintermuiža"
