Workbook

Sheet Kopsavilkums
I1: 1. Pielikums
B2: Slimnīca | C2: Pavisam kopā papildus nepieciešamais finansējums, euro | D2: Papildus nepieciešamais finansējums 2021.gadā (oktobris, novembris, decembris) avanss | E2: Papildus nepieciešamais finansējums 2022.gadā (janvāris, februāris, marts) | F2: Papildus nepieciešamais finansējums skābekļa sistēmu pārbūvei, euro | G2: Dignostiskās iekārtas, euro | H2: Medicīniskajam aprīkojumam un ierīcēm papildus nepieciešamais finansējums, euro | I2: Jaunu gultu izveide (skaits integrēts 1.2.pielikumā) | J2: Pārprofilētas gultas (skaits integrēts 1.2.pielikumā)
B3: VSIA "Daugavpils psihoneiroloģiskā slimnīca" | C3: =Daugavpils_psihneirol!E5 -> 19200 | D3: =Daugavpils_psihneirol!E9 -> 19200 | H3: =C3-F3-G3 -> 19200 | I3: 20
B4: VSIA “Strenču psihoneiroloģiskā slimnīca” | C4: =ROUNDUP(Strenči!E31,0) -> 143250 | D4: =Strenči!E34 -> 143250 | G4: =Strenči!E21 -> 2637.8 | H4: =C4-F4-G4 -> 140612.2 | J4: 20
B5: VSIA "Rīgas Psihiatrijas un narkoloģijas centrs" | C5: =RPNC!E4 -> 1200 | D5: =RPNC!E8 -> 1200 | H5: =C5-F5-G5 -> 1200 | J5: 22
C6: =SUM(C3:C5) -> 163650 | D6: =SUM(D3:D5) -> 163650 | E6: =SUM(E3:E5) -> 0 | F6: =SUM(F3:F5) -> 0 | G6: =SUM(G3:G5) -> 2637.8 | H6: =SUM(H3:H5) -> 161012.2 | I6: =SUM(I3:I5) -> 20 | J6: =SUM(J3:J5) -> 42

Sheet gultas_kopsavilkums
T1: 1.2. Pielikums
D2: 2020.gada 8.decembris | G2: 2021.gada 5.janvāris | I2: 2021.gada 9.februāris | Q2: Statuss par kopējo izvēršamo gultu skaitu, ja tiek piešķirts papildus finansējums, kas ir iekļauts MK sēdes protokollēmumā
A3: Slimnīcu sadarbības teritorija/Slimnīca | B3: Kopējais gultu skaits pēc ODP (uz 28.10.2021.) | C3: Covid-19 gultu skaits (uz 28.10.2021. plkst. 10.00) | D3: No tām jau pārprofilētās | E3: Gultu skaits, ko vēl papildus iespējams pārprofilēt | F3: Jaunu gultu izveide | G3: Pārprofilēto gultu skaits | H3: Jaunu gultu izveide | I3: Pārprofilēto gultu skaits | J3: Jaunu IT gultu izveide | K3: Kopā gultu skaits no trīs piešķīrumiem | M3: Norādītais izvēršamo gultu skaits ziņojumā 20.10.21. | O3: Norādītais izvēršamo gultu skaits ziņojumā 26.10.21. | Q3: Gultas uz 29.10.21. | R3: Gultas uz 01.11.21. | S3: Gultas uz 05.11. līdz 08.11.21. | T3: Gultas uz 15.11.21. | U3: Gultas uz 01.12.21.
A4: Liepājas reģionālā slimnīca | B4: 338 | C4: 100 | D4: 0 | E4: 33 | F4: 0 | G4: 9 | H4: 13 | I4: 0 | J4: 0 | K4: =E4+F4+G4+H4+I4+J4 -> 55 | Q4: 92 | R4: 92 | S4: 92 | T4: =92+28 -> 120 | U4: 120
A5: Saldus medicīnas centrs | B5: 35 | K5: =E5+F5+G5+H5+I5+J5 -> 0
A6: Priekules slimnīca | B6: 3 | K6: =E6+F6+G6+H6+I6+J6 -> 0 | T6: 20
A7: Piejūras slimnīca* | B7: 95 | K7: =E7+F7+G7+H7+I7+J7 -> 0 | T7: 15
A8: KOPĀ | B8: =SUM(B4:B7) -> 471 | C8: =SUM(C4:C7) -> 100 | D8: =SUM(D4:D7) -> 0 | E8: =SUM(E4:E7) -> 33 | F8: =SUM(F4:F7) -> 0 | G8: =SUM(G4:G7) -> 9 | H8: =SUM(H4:H7) -> 13 | I8: =SUM(I4:I7) -> 0 | ... K8: =SUM(K4:K7) -> 55 | Q8: =SUM(Q4:Q7) -> 92 | R8: =SUM(R4:R7) -> 92 | S8: =SUM(S4:S7) -> 92 | T8: =SUM(T4:T7) -> 155 | U8: =SUM(U4:U7) -> 120
A9: Ziemeļkurzemes reģionālā slimnīca Ventspils | B9: 218 | C9: 52 | D9: 0 | E9: 20 | F9: 6 | G9: 10 | H9: 0 | I9: 0 | J9: 4 | K9: =E9+F9+G9+H9+I9+J9 -> 40 | M9: 25 | Q9: 52 | R9: 52 | S9: 52 | T9: =52+20 -> 72 | U9: 72
A10: Ziemeļkurzemes reģionālā slimnīca Talsu filiāle | B10: 39 | C10: 10 | K10: =D10+E10+F10+G10+H10+I10+J10 -> 0 | Q10: 10 | R10: 10 | S10: =10+21 -> 31 | T10: 31 | U10: 31
A11: Kuldīgas slimnīca | B11: 86 | C11: 16 | K11: =D11+E11+F11+G11+H11+I11+J11 -> 0 | Q11: 16 | R11: 16 | S11: =16+9 -> 25 | T11: 25 | U11: 25
A12: KOPĀ | B12: =SUM(B9:B11) -> 343 | C12: =SUM(C9:C11) -> 78 | D12: =SUM(D9:D11) -> 0 | E12: =SUM(E9:E11) -> 20 | F12: =SUM(F9:F11) -> 6 | G12: =SUM(G9:G11) -> 10 | H12: =SUM(H9:H11) -> 0 | I12: =SUM(I9:I11) -> 0 | ... K12: =SUM(K9:K11) -> 40 | M12: 25 | Q12: =SUM(Q9:Q11) -> 78 | R12: =SUM(R9:R11) -> 78 | S12: =SUM(S9:S11) -> 108 | T12: =SUM(T9:T11) -> 128 | U12: =SUM(U9:U11) -> 128
A13: Jelgavas pilsētas slimnīca | B13: 257 | C13: 75 | D13: 20 | E13: 20 | F13: 20 | G13: 30 | K13: =E13+F13+G13+H13+I13+J13 -> 70 | M13: 25 | Q13: 75 | R13: 75 | S13: 90 | T13: 90 | U13: 90
A14: Dobeles un apkārtnes slimnīca | B14: 70 | K14: =E14+F14+G14+H14+I14+J14 -> 0 | Q14: 16 | R14: 16 | S14: 16 | T14: 16 | U14: 16
A15: Bauskas slimnīca | B15: 20 | C15: 20 | G15: 20 | K15: =E15+F15+G15+H15+I15+J15 -> 20 | Q15: 40 | R15: 40 | S15: 40 | T15: 40 | U15: 40
A16: Slimnīca Ģintermuiža* | B16: 300 | K16: =E16+F16+G16+H16+I16+J16 -> 0 | Q16: 15 | R16: 15 | S16: 15 | T16: 15 | U16: 15
A17: KOPĀ | B17: =SUM(B13:B16) -> 647 | C17: =SUM(C13:C16) -> 95 | D17: =SUM(D13:D16) -> 20 | E17: =SUM(E13:E16) -> 20 | F17: =SUM(F13:F16) -> 20 | G17: =SUM(G13:G16) -> 50 | H17: =SUM(H13:H16) -> 0 | I17: =SUM(I13:I16) -> 0 | ... K17: =SUM(K13:K16) -> 90 | M17: 25 | Q17: =SUM(Q13:Q16) -> 146 | R17: =SUM(R13:R16) -> 146 | S17: =SUM(S13:S16) -> 161 | T17: =SUM(T13:T16) -> 161 | U17: =SUM(U13:U16) -> 161
A18: Vidzemes slimnīca | B18: 282 | C18: 103 | D18: 50 | E18: 20 | F18: 0 | G18: 82 | J18: 8 | K18: =E18+F18+G18+H18+I18+J18 -> 110 | Q18: 102 | R18: 112 | S18: 112 | T18: 126 | U18: 141
A19: Cēsu klīnika | B19: 70 | C19: 16 | J19: 4 | K19: =E19+F19+G19+H19+I19+J19 -> 4 | Q19: 22 | R19: 28 | S19: 28 | T19: 28 | U19: 28
A20: Alūksnes slimnīca | B20: 65 | J20: 2 | K20: =E20+F20+G20+H20+I20+J20 -> 2 | R20: 20 | S20: =20+12 -> 32 | T20: 32 | U20: 32
A21: Limbažu slimnīca | B21: 39 | C21: 33 | K21: =E21+F21+G21+H21+I21+J21 -> 0 | Q21: 33 | R21: 52 | S21: 52 | T21: 52 | U21: 52
A22: Strenču psihoneiroloģiskā slimnīca | B22: 300 | C22: 17 | K22: =E22+F22+G22+H22+I22+J22 -> 0 | Q22: 17 | R22: 90 | S22: 90 | T22: 90 | U22: =90+10 -> 100
A23: KOPĀ | B23: =SUM(B18:B22) -> 756 | C23: =SUM(C18:C22) -> 169 | D23: =SUM(D18:D22) -> 50 | E23: =SUM(E18:E22) -> 20 | F23: =SUM(F18:F22) -> 0 | G23: =SUM(G18:G22) -> 82 | H23: =SUM(H18:H22) -> 0 | I23: =SUM(I18:I22) -> 0 | ... K23: =SUM(K18:K22) -> 116 | Q23: =SUM(Q18:Q22) -> 174 | R23: =SUM(R18:R22) -> 302 | S23: =SUM(S18:S22) -> 314 | T23: =SUM(T18:T22) -> 328 | U23: =SUM(U18:U22) -> 353
A24: Daugavpils reģionālā slimnīca | B24: 640 | C24: 257 | D24: 130 | F24: 41 | K24: =E24+F24+G24+H24+I24+J24 -> 41 | Q24: 257 | R24: 257 | S24: 257 | T24: 257 | U24: 257
A25: Krāslavas slimnīca | B25: 60 | K25: =E25+F25+G25+H25+I25+J25 -> 0 | Q25: 0 | U25: 20
A26: Aknīstes psihoneiroloģiskā slimnīca | B26: 350 | K26: =E26+F26+G26+H26+I26+J26 -> 0 | Q26: 50 | R26: 50 | S26: 50 | T26: 50 | U26: 50
A27: Daugavpils psihoneiroloģiskā slimnīca | B27: 375 | C27: 20 | K27: =E27+F27+G27+H27+I27+J27 -> 0 | Q27: 82 | R27: =82+20 -> 102 | S27: 102 | T27: 102 | U27: 102
A28: Preiļu slimnīca | B28: 42 | K28: =E28+F28+G28+H28+I28+J28 -> 0 | Q28: 13 | R28: 42 | S28: 42 | T28: 42 | U28: 42
A29: KOPĀ | B29: =SUM(B24:B28) -> 1467 | C29: =SUM(C24:C28) -> 277 | D29: =SUM(D24:D28) -> 130 | E29: =SUM(E24:E28) -> 0 | F29: =SUM(F24:F28) -> 41 | G29: =SUM(G24:G28) -> 0 | H29: =SUM(H24:H28) -> 0 | I29: =SUM(I24:I28) -> 0 | ... K29: =SUM(K24:K28) -> 41 | Q29: =SUM(Q24:Q28) -> 402 | R29: =SUM(R24:R28) -> 451 | S29: =SUM(S24:S28) -> 451 | T29: =SUM(T24:T28) -> 451 | U29: =SUM(U24:U28) -> 471
A30: Jēkabpils reģionālā slimnīca | B30: 192 | C30: 68 | D30: 34 | E30: 1 | F30: 15 | G30: 80 | J30: 9 | K30: =E30+F30+G30+H30+I30+J30 -> 105 | Q30: 67 | R30: 67 | S30: 67 | T30: 91 | U30: 109
A31: Madonas slimnīca | B31: 90 | K31: =E31+F31+G31+H31+I31+J31 -> 0 | Q31: 0 | U31: 20
A32: Aizkraukles medicīnas centrs | B32: 40 | C32: 40 | G32: 40 | K32: =E32+F32+G32+H32+I32+J32 -> 40 | Q32: 25 | R32: 25 | S32: 25 | T32: 40 | U32: 40
A33: Līvānu slimnīca | B33: 50 | K33: =E33+F33+G33+H33+I33+J33 -> 0
A34: KOPĀ | B34: =SUM(B30:B33) -> 372 | C34: =SUM(C30:C33) -> 108 | D34: =SUM(D30:D33) -> 34 | E34: =SUM(E30:E33) -> 1 | F34: =SUM(F30:F33) -> 15 | G34: =SUM(G30:G33) -> 120 | H34: =SUM(H30:H33) -> 0 | I34: =SUM(I30:I33) -> 0 | ... K34: =SUM(K30:K33) -> 145 | Q34: =Q30+Q31+Q32+Q33 -> 92 | R34: =R30+R31+R32+R33 -> 92 | S34: =S30+S31+S32+S33 -> 92 | T34: =T30+T31+T32+T33 -> 131 | U34: =U30+U31+U32+U33 -> 169
A35: Rēzeknes slimnīca | B35: 259 | C35: 77 | D35: 54 | G35: 20 | J35: 8 | K35: =E35+F35+G35+H35+I35+J35 -> 28 | M35: 25 | Q35: 85 | R35: 108 | S35: 108 | T35: 108 | U35: 113
A36: Ludzas medicīnas centrs | B36: 63 | C36: 30 | G36: 30 | K36: =E36+F36+G36+H36+I36+J36 -> 30 | Q36: 30 | R36: 45 | S36: 45 | T36: 45 | U36: 60
A37: Balvu un Gulbenes slimnīcu apvienība | B37: 74 | C37: 15 | F37: 15 | G37: 10 | K37: =E37+F37+G37+H37+I37+J37 -> 25 | Q37: 15 | R37: 25 | S37: 25 | T37: 25 | U37: 25
A38: KOPĀ | B38: =SUM(B35:B37) -> 396 | C38: =SUM(C35:C37) -> 122 | D38: =SUM(D35:D37) -> 54 | E38: =SUM(E35:E37) -> 0 | F38: =SUM(F35:F37) -> 15 | G38: =SUM(G35:G37) -> 60 | H38: =SUM(H35:H37) -> 0 | I38: =SUM(I35:I37) -> 0 | ... K38: =SUM(K35:K37) -> 83 | M38: 25 | Q38: =SUM(Q35:Q37) -> 130 | R38: =SUM(R35:R37) -> 178 | S38: =SUM(S35:S37) -> 178 | T38: =SUM(T35:T37) -> 178 | U38: =SUM(U35:U37) -> 198
A39: Rīgas Austrumu klīniskā universitātes slimnīca | B39: 1720 | C39: 439 | D39: 301 | E39: 33 | F39: 11 | G39: 50 | H39: 111 | J39: 12 | K39: =E39+F39+G39+H39+I39+J39 -> 217 | M39: 380 | O39: 50 Juglas iela 20 | Q39: 439 | R39: 501 | S39: 566 | T39: 741 | U39: 741
A40: Ogres rajona slimnīca | B40: 97 | J40: 4 | K40: =E40+F40+G40+H40+I40+J40 -> 4
...

Sheet Daugavpils_psihneirol
E1: 1.3. Pielikums
A2: Papildus nepieciešamais finansējums VSIA "Daugavpils psihoneiroloģiskā slimnīca" atbilstoši informatīvajam ziņojumam “Par papildu gultu izvēršanu un resursiem Covid-19 pacientu ārstēšanai” (2021.gada 2.novembra protokols Nr.73 47.§), euro
B4: Iekārtas nosaukums | C4: Skaits | D4: Cena (EUR) | E4: Summa (EUR)
B5: Funkcionālās gultas | C5: 20 | D5: 960 | E5: =D5*C5 -> 19200
B7: 20 gultu izveidei
B9: Papildus nepieciešamais finansējums 2021.gadā (oktobris, novembris, decembris) ieguldīšana pamatkapitālā | E9: =E5 -> 19200

Sheet Strenči
D1: 1.4. Pielikums
A2: Papildus nepieciešamais finansējums VSIA “Strenču psihoneiroloģiskā slimnīca” atbilstoši informatīvajam ziņojumam “Par papildu gultu izvēršanu un resursiem Covid-19 pacientu ārstēšanai” (2021.gada 2.novembra protokols Nr.73 47.§), euro
A4: Medicīnas ierīce | B4: Cena EUR bez PVN | C4: Cena EUR ar PVN | D4: Skaits | E4: Kopā EUR (ar PVN)
A5: Funkcionālā gulta | B5: 2659 | C5: =B5*1.21 -> 3217.39 | D5: 27 | E5: =D5*C5 -> 86869.53
A6: Matracis | B6: 240 | C6: =B6*1.21 -> 290.4 | D6: 14 | E6: =D6*C6 -> 4065.6
A7: Matracis pretizgulējumu | B7: 300 | C7: =B7*1.21 -> 363 | D7: 7 | E7: =D7*C7 -> 2541
A8: Slīdmatracis pacientu pārvietošanai | B8: 454 | C8: =B8*1.21 -> 549.34 | D8: 10 | E8: =D8*C8 -> 5493.4
A9: Aktīvais pretizgulējumu matracis ar kompresoru | B9: 1400 | C9: =B9*1.21 -> 1694 | D9: 4 | E9: =D9*C9 -> 6776
A10: Tualetes krēsls | B10: 41 | C10: =B10*1.21 -> 49.61 | D10: 6 | E10: =D10*C10 -> 297.66
A11: Pozicionēšanas spilvens | B11: 50 | C11: =B11*1.21 -> 60.5 | D11: 24 | E11: =D11*C11 -> 1452
A12: Portatīva gaisa un telpas attīrīšanas iekārta | B12: 3305 | C12: =B12*1.21 -> 3999.05 | D12: 3 | E12: =D12*C12 -> 11997.15
A13: Antibakteriālais paklājs | B13: 60 | C13: =B13*1.21 -> 72.6 | D13: 14 | E13: =D13*C13 -> 1016.4
A14: Termometrs bezkontakta | B14: 30 | C14: =B14*1.21 -> 36.3 | D14: 2 | E14: =D14*C14 -> 72.6
A15: Oksimetrs | B15: 50 | C15: =B15*1.21 -> 60.5 | D15: 2 | E15: =D15*C15 -> 121
A16: Tonometrs elektroniskais | B16: 40 | C16: =B16*1.21 -> 48.4 | D16: 2 | E16: =D16*C16 -> 96.8
... A30: Galdiņš pacientu barošanai gultā | B30: 130 | C30: =B30*1.21 -> 157.3 | D30: 27 | E30: =D30*C30 -> 4247.1
D31: KOPĀ | E31: =ROUNDUP(SUM(E5:E30),0) -> 143250
A32: 20 gultu izveidei
A34: Papildus nepieciešamais finansējums 2021.gadā (oktobris, novembris, decembris) ieguldīšana pamatkapitālā | E34: =E31 -> 143250

Sheet RPNC
E1: 1.5. Pielikums
A2: Papildus nepieciešamais finansējums VSIA "Rīgas Psihiatrijas un narkoloģijas centrs" atbilstoši informatīvajam ziņojumam “Par papildu gultu izvēršanu un resursiem Covid-19 pacientu ārstēšanai” (2021.gada 2.novembra protokols Nr.73 47.§), euro
B3: Iekārtas nosaukums | C3: Skaits | D3: Cena (EUR) | E3: Summa (EUR)
B4: pārvietojamās baktericīdās kvarca lampas | C4: 2 | D4: 600 | E4: =D4*C4 -> 1200
B6: 22 gultas pārprofilēšanai
B8: Papildus nepieciešamais finansējums 2021.gadā (oktobris, novembris, decembris) ieguldīšana pamatkapitālā | E8: =E4 -> 1200
