Workbook

Sheet Tame_projekts
C2: mēneši | D2: 6 | E2: 12 | F2: 12 | G2: 12 | H2: 12 | I2: 12 | J2: 6
A3: Kods | B3: Pozīcija | C3: Kopā | D3: 2024 (6 mēn.) | E3: 2025 | F3: 2026 | G3: 2027 | H3: 2028 | I3: 2029 | J3: 2030 (6 mēn.)
B5: Izdevumi kopā | C5: =C7+C15+C24+C27+C29 -> 4917000 | D5: =D7+D15+D24+D27+D29 -> 219700 | E5: =E7+E15+E24+E27+E29 -> 402500 | F5: =F7+F15+F24+F27+F29 -> 799200 | G5: =G7+G15+G24+G27+G29 -> 940900 | H5: =H7+H15+H24+H27+H29 -> 978800 | I5: =I7+I15+I24+I27+I29 -> 1029800 | J5: =J7+J15+J24+J27+J29 -> 546100
A7: 1000 | B7: Atlīdzība kopā | C7: =C8+C11 -> 2985200 | D7: =D8+D11 -> 98100 | E7: =E8+E11 -> 201600 | F7: =F8+F11 -> 502800 | G7: =G8+G11 -> 575700 | H7: =H8+H11 -> 610700 | I7: =I8+I11 -> 657700 | J7: =J8+J11 -> 338600
A8: 1100 | B8: Atalgojums | C8: =SUM(C9:C10) -> 2396900 | D8: =SUM(D9:D10) -> 78700 | E8: =SUM(E9:E10) -> 161900 | F8: =SUM(F9:F10) -> 403600 | G8: =SUM(G9:G10) -> 462200 | H8: =SUM(H9:H10) -> 490300 | I8: =SUM(I9:I10) -> 528200 | J8: =SUM(J9:J10) -> 272000
B9: Darbinieku mēneša amatalga | C9: =SUM(D9:J9) -> 2209100 | D9: =ROUND(DAF_projekts!C32*D2,-2) -> 72500 | E9: =ROUND(DAF_projekts!D32*E2,-2) -> 149200 | F9: =ROUND(DAF_projekts!E32*F2,-2) -> 372000 | G9: =ROUND(DAF_projekts!F32*G2,-2) -> 426000 | H9: =ROUND(DAF_projekts!G32*H2,-2) -> 451900 | I9: =ROUND(DAF_projekts!H32*I2,-2) -> 486800 | J9: =ROUND(DAF_projekts!I32*J2,-2) -> 250700
B10: Piemaksas un prēmijas | C10: =SUM(D10:J10) -> 187800 | D10: =ROUND(D9*'Pieņēmumi aprēķiniem'!$C$5,-2) -> 6200 | E10: =ROUND(E9*'Pieņēmumi aprēķiniem'!$C$5,-2) -> 12700 | F10: =ROUND(F9*'Pieņēmumi aprēķiniem'!$C$5,-2) -> 31600 | G10: =ROUND(G9*'Pieņēmumi aprēķiniem'!$C$5,-2) -> 36200 | H10: =ROUND(H9*'Pieņēmumi aprēķiniem'!$C$5,-2) -> 38400 | I10: =ROUND(I9*'Pieņēmumi aprēķiniem'!$C$5,-2) -> 41400 | J10: =ROUND(J9*'Pieņēmumi aprēķiniem'!$C$5,-2) -> 21300
A11: 1200 | B11: Darba devēja valsts sociālās apdrošināšanas obligātās iemaksas, sociāla rakstura pabalsti un kompensācijas | C11: =SUM(C12:C13) -> 588300 | D11: =SUM(D12:D13) -> 19400 | E11: =SUM(E12:E13) -> 39700 | F11: =SUM(F12:F13) -> 99200 | G11: =SUM(G12:G13) -> 113500 | H11: =SUM(H12:H13) -> 120400 | I11: =SUM(I12:I13) -> 129500 | J11: =SUM(J12:J13) -> 66600
B12: Darba devēja sociālās apdrošināšanas obligātās iemaksas | C12: =SUM(D12:J12) -> 565500 | D12: =ROUND(D8*'Pieņēmumi aprēķiniem'!$C$6,-2) -> 18600 | E12: =ROUND(E8*'Pieņēmumi aprēķiniem'!$C$6,-2) -> 38200 | F12: =ROUND(F8*'Pieņēmumi aprēķiniem'!$C$6,-2) -> 95200 | G12: =ROUND(G8*'Pieņēmumi aprēķiniem'!$C$6,-2) -> 109000 | H12: =ROUND(H8*'Pieņēmumi aprēķiniem'!$C$6,-2) -> 115700 | I12: =ROUND(I8*'Pieņēmumi aprēķiniem'!$C$6,-2) -> 124600 | J12: =ROUND(J8*'Pieņēmumi aprēķiniem'!$C$6,-2) -> 64200
B13: Darba devēja izdevumi veselības apdrošināšanai | C13: =SUM(D13:J13) -> 22800 | D13: =ROUND(SUM(DAF_projekts!C4:C15)/12*D2*'Pieņēmumi aprēķiniem'!$C$7,-2) -> 800 | E13: =ROUND(SUM(DAF_projekts!D4:D15)/12*E2*'Pieņēmumi aprēķiniem'!$C$7,-2) -> 1500 | F13: =ROUND(SUM(DAF_projekts!E4:E15)/12*F2*'Pieņēmumi aprēķiniem'!$C$7,-2) -> 4000 | G13: =ROUND(SUM(DAF_projekts!F4:F15)/12*G2*'Pieņēmumi aprēķiniem'!$C$7,-2) -> 4500 | H13: =ROUND(SUM(DAF_projekts!G4:G15)/12*H2*'Pieņēmumi aprēķiniem'!$C$7,-2) -> 4700 | I13: =ROUND(SUM(DAF_projekts!H4:H15)/12*I2*'Pieņēmumi aprēķiniem'!$C$7,-2) -> 4900 | J13: =ROUND(SUM(DAF_projekts!I4:I15)/12*J2*'Pieņēmumi aprēķiniem'!$C$7,-2) -> 2400
A15: 2000 | B15: Preces un pakalpojumi | C15: =C16+C17 -> 141200 | D15: =D16+D17 -> 9100 | E15: =E16+E17 -> 17800 | F15: =F16+F17 -> 24000 | G15: =G16+G17 -> 25300 | H15: =H16+H17 -> 25700 | I15: =I16+I17 -> 26200 | J15: =J16+J17 -> 13100
A16: 2100 | B16: Komandējuma izdevumi | C16: =SUM(D16:J16) -> 31800 | D16: =ROUND(SUM(DAF_projekts!C4:C15)/12*D2*'Pieņēmumi aprēķiniem'!$C$8,-2) -> 1100 | E16: =ROUND(SUM(DAF_projekts!D4:D15)/12*E2*'Pieņēmumi aprēķiniem'!$C$8,-2) -> 2100 | F16: =ROUND(SUM(DAF_projekts!E4:E15)/12*F2*'Pieņēmumi aprēķiniem'!$C$8,-2) -> 5600 | G16: =ROUND(SUM(DAF_projekts!F4:F15)/12*G2*'Pieņēmumi aprēķiniem'!$C$8,-2) -> 6300 | H16: =ROUND(SUM(DAF_projekts!G4:G15)/12*H2*'Pieņēmumi aprēķiniem'!$C$8,-2) -> 6500 | I16: =ROUND(SUM(DAF_projekts!H4:H15)/12*I2*'Pieņēmumi aprēķiniem'!$C$8,-2) -> 6800 | J16: =ROUND(SUM(DAF_projekts!I4:I15)/12*J2*'Pieņēmumi aprēķiniem'!$C$8,-2) -> 3400
A17: 2200 | B17: Pakalpojumi, tai skaitā | C17: =SUM(C18:C22) -> 109400 | D17: =SUM(D18:D22) -> 8000 | E17: =SUM(E18:E22) -> 15700 | F17: =SUM(F18:F22) -> 18400 | G17: =SUM(G18:G22) -> 19000 | H17: =SUM(H18:H22) -> 19200 | I17: =SUM(I18:I22) -> 19400 | J17: =SUM(J18:J22) -> 9700
B18: Sakaru pakalpojumi | C18: =SUM(D18:J18) -> 1900 | D18: =ROUND(SUM(DAF_projekts!C4:C15)/12*D2*'Pieņēmumi aprēķiniem'!$C$9,-2) -> 100 | E18: =ROUND(SUM(DAF_projekts!D4:D15)/12*E2*'Pieņēmumi aprēķiniem'!$C$9,-2) -> 100 | F18: =ROUND(SUM(DAF_projekts!E4:E15)/12*F2*'Pieņēmumi aprēķiniem'!$C$9,-2) -> 300 | G18: =ROUND(SUM(DAF_projekts!F4:F15)/12*G2*'Pieņēmumi aprēķiniem'!$C$9,-2) -> 400 | H18: =ROUND(SUM(DAF_projekts!G4:G15)/12*H2*'Pieņēmumi aprēķiniem'!$C$9,-2) -> 400 | I18: =ROUND(SUM(DAF_projekts!H4:H15)/12*I2*'Pieņēmumi aprēķiniem'!$C$9,-2) -> 400 | J18: =ROUND(SUM(DAF_projekts!I4:I15)/12*J2*'Pieņēmumi aprēķiniem'!$C$9,-2) -> 200
B19: Transporta izmaksas | C19: =SUM(D19:J19) -> 57600 | D19: ='Pieņēmumi aprēķiniem'!$C$10*D2 -> 4800 | E19: ='Pieņēmumi aprēķiniem'!$C$10*E2 -> 9600 | F19: ='Pieņēmumi aprēķiniem'!$C$10*F2 -> 9600 | G19: ='Pieņēmumi aprēķiniem'!$C$10*G2 -> 9600 | H19: ='Pieņēmumi aprēķiniem'!$C$10*H2 -> 9600 | I19: ='Pieņēmumi aprēķiniem'!$C$10*I2 -> 9600 | J19: ='Pieņēmumi aprēķiniem'!$C$10*J2 -> 4800
B20: Izdevumi iestādes sabiedrisko aktivitāšu īstenošanai | C20: =SUM(D20:J20) -> 9100 | D20: 800 | E20: 1500 | F20: 1500 | G20: 1500 | H20: 1500 | I20: 1500 | J20: 800
B21: Konferences, semināri, kongresi, izstādes u.c. | C21: =SUM(D21:J21) -> 22800 | D21: =ROUND(SUM(DAF_projekts!C4:C15)/12*D2*'Pieņēmumi aprēķiniem'!$C$11,-2) -> 800 | E21: =ROUND(SUM(DAF_projekts!D4:D15)/12*E2*'Pieņēmumi aprēķiniem'!$C$11,-2) -> 1500 | F21: =ROUND(SUM(DAF_projekts!E4:E15)/12*F2*'Pieņēmumi aprēķiniem'!$C$11,-2) -> 4000 | G21: =ROUND(SUM(DAF_projekts!F4:F15)/12*G2*'Pieņēmumi aprēķiniem'!$C$11,-2) -> 4500 | H21: =ROUND(SUM(DAF_projekts!G4:G15)/12*H2*'Pieņēmumi aprēķiniem'!$C$11,-2) -> 4700 | I21: =ROUND(SUM(DAF_projekts!H4:H15)/12*I2*'Pieņēmumi aprēķiniem'!$C$11,-2) -> 4900 | J21: =ROUND(SUM(DAF_projekts!I4:I15)/12*J2*'Pieņēmumi aprēķiniem'!$C$11,-2) -> 2400
B22: Pārējie neklasificētie izdevumi (piem. grafiskie materiāli, tipogrāfija) | C22: =SUM(D22:J22) -> 18000 | D22: 1500 | E22: 3000 | F22: 3000 | G22: 3000 | H22: 3000 | I22: 3000 | J22: 1500
A24: 2300 | B24: Krājumi, materiāli, energoresursi, preces, biroja preces un inventārs, ko neuzskaita kodā 5000 | C24: =C25 -> 109000 | D24: =D25 -> 3600 | E24: =E25 -> 7200 | F24: =F25 -> 19200 | G24: =G25 -> 21600 | H24: =H25 -> 22300 | I24: =I25 -> 23400 | J24: =J25 -> 11700
B25: Biroja/darba vietas uzturēšanas/nodrošināšanas izmaksas | C25: =SUM(D25:J25) -> 109000 | D25: =ROUND(SUM(DAF_projekts!C4:C15)*'Pieņēmumi aprēķiniem'!$C$12*D2,-2) -> 3600 | E25: =ROUND(SUM(DAF_projekts!D4:D15)*'Pieņēmumi aprēķiniem'!$C$12*E2,-2) -> 7200 | F25: =ROUND(SUM(DAF_projekts!E4:E15)*'Pieņēmumi aprēķiniem'!$C$12*F2,-2) -> 19200 | G25: =ROUND(SUM(DAF_projekts!F4:F15)*'Pieņēmumi aprēķiniem'!$C$12*G2,-2) -> 21600 | H25: =ROUND(SUM(DAF_projekts!G4:G15)*'Pieņēmumi aprēķiniem'!$C$12*H2,-2) -> 22300 | I25: =ROUND(SUM(DAF_projekts!H4:H15)*'Pieņēmumi aprēķiniem'!$C$12*I2,-2) -> 23400 | J25: =ROUND(SUM(DAF_projekts!I4:I15)*'Pieņēmumi aprēķiniem'!$C$12*J2,-2) -> 11700
B27: Pieskaitāmās izmaksas (valde, padome, komunikācija, adm. Daļa, IT, Personāls, BIM, finanses, nemateriālo izmaksu nolietojums utt.) | C27: =SUM(D27:J27) -> 1167400 | D27: =ROUND(160*COUNT(DAF_projekts!C5:C8)*'Pieņēmumi aprēķiniem'!$C$13*D2,-2) -> 58400 | E27: =ROUND(160*COUNT(DAF_projekts!D5:D8)*'Pieņēmumi aprēķiniem'!$C$13*E2,-2) -> 116700 | F27: =ROUND(160*COUNT(DAF_projekts!E5:E8)*'Pieņēmumi aprēķiniem'!$C$13*F2,-2) -> 175100 | G27: =ROUND(160*COUNT(DAF_projekts!F5:F8)*'Pieņēmumi aprēķiniem'!$C$13*G2,-2) -> 233500 | H27: =ROUND(160*COUNT(DAF_projekts!G5:G8)*'Pieņēmumi aprēķiniem'!$C$13*H2,-2) -> 233500 | I27: =ROUND(160*COUNT(DAF_projekts!H5:H8)*'Pieņēmumi aprēķiniem'!$C$13*I2,-2) -> 233500 | J27: =ROUND(160*COUNT(DAF_projekts!I5:I8)*'Pieņēmumi aprēķiniem'!$C$13*J2,-2) -> 116700
B29: Ārpakalpojumi un ārkārtas izdevumi (neatkarīgu profesionālās darbības veicēju sniegtie pakalpojumi, atzinumi, ekspertīzes (FEA, iepirkumu dokumentacija, eksperti komisijās, juridiskās konsultācijas, tāmju ekspertīze, nekustamo īpašumu vērtējumi, geoloģiskā izpēte u.c.) | C29: =SUM(D29:J29) -> 514200 | D29: 50500 | E29: 59200 | F29: 78100 | G29: 84800 | H29: 86600 | I29: 89000 | J29: 66000

Sheet Kopsavilkums
C4: Kopā | D4: 2024 (6 mēn.) | E4: 2025 | F4: 2026 | G4: 2027 | H4: 2028 | I4: 2029 | J4: 2030 (6 mēn.)
B5: IZMAKSAS KOPĀ | C5: =SUM(D5:J5) -> 4917000 | D5: =Tame_projekts!D5 -> 219700 | E5: =Tame_projekts!E5 -> 402500 | F5: =Tame_projekts!F5 -> 799200 | G5: =Tame_projekts!G5 -> 940900 | H5: =Tame_projekts!H5 -> 978800 | I5: =Tame_projekts!I5 -> 1029800 | J5: =Tame_projekts!J5 -> 546100
B6: PPP projekta vadības izmaksas (Atlīdzība, nodokļi, komandējumi, transports, sakari, konferences, semināri, grafiskie materiāli, darba vietas aprīkojums un uzturēšanas izdevumi, pārējo struktūrvienību atbalsts un citas ar uzņēmuma darbības nodrošināšanu pieskaitāmās izmaksas) | C6: =SUM(D6:J6) -> 4402800 | D6: =D5-D7 -> 169200 | E6: =E5-E7 -> 343300 | F6: =F5-F7 -> 721100 | G6: =G5-G7 -> 856100 | H6: =H5-H7 -> 892200 | I6: =I5-I7 -> 940800 | J6: =J5-J7 -> 480100
B7: Ārpakalpojumi un ārkārtas izdevumi (neatkarīgu profesionālās darbības veicēju sniegtie pakalpojumi, atzinumi, ekspertīzes, iepirkumu dokumentacija, eksperti komisijās, juridiskās konsultācijas, tāmju ekspertīze, nekustamo īpašumu vērtējumi, geoloģiskā izpēte u.c.) | C7: =SUM(D7:J7) -> 514200 | D7: =Tame_projekts!D29 -> 50500 | E7: =Tame_projekts!E29 -> 59200 | F7: =Tame_projekts!F29 -> 78100 | G7: =Tame_projekts!G29 -> 84800 | H7: =Tame_projekts!H29 -> 86600 | I7: =Tame_projekts!I29 -> 89000 | J7: =Tame_projekts!J29 -> 66000

Sheet DAF_projekts
A3: Amata nosaukums | B3: Mēneša alga vienībai | C3: PLE (mēnesī) 1.gads (6 mēn.) | D3: PLE (mēnesī) 2.gads | E3: PLE (mēnesī) 3.gads | F3: PLE (mēnesī) 4.gads | G3: PLE (mēnesī) 5.gads | H3: PLE (mēnesī) 6.gads | I3: PLE (mēnesī) 7.gads (6 mēn.)
A4: Publiskās Privātās Partnerības nodaļas vadītājs | B4: 5000 | C4: 1 | D4: 1 | E4: 1 | F4: 1 | G4: 1 | H4: 1 | I4: 1
A5: Projekta koordinātors | B5: 3700 | C5: 1 | D5: 1 | E5: 1 | F5: 1 | G5: 1 | H5: 1 | I5: 1
A6: Projekta vadītājs Nr. 1 | B6: 3300 | E6: 1 | F6: 1 | G6: 1 | H6: 1 | I6: 1
A7: Projekta vadītājs Nr. 2 | B7: 3300 | F7: 1 | G7: 1 | H7: 1 | I7: 1
A8: Projekta vadītāja asistents | B8: 2400 | C8: 0.25 | D8: 0.25 | E8: 1 | F8: 1 | G8: 1 | H8: 1 | I8: 1
A9: Jurists / Iepirkumu speciālists | B9: 3700 | C9: 0.25 | D9: 0.25 | E9: 1 | F9: 1 | G9: 1 | H9: 1 | I9: 1
A10: Projekta finanšu vadītājs | B10: 3700 | C10: 0.25 | D10: 0.25 | E10: 1 | F10: 1 | G10: 1 | H10: 1 | I10: 1
A11: Būvniecības procesa eksperts / Arhitekts | B11: 3700 | C11: 0.25 | D11: 0.25 | E11: 1 | F11: 1 | G11: 1 | H11: 1 | I11: 1
A12: Ēku būvinženieris / tehniskais eksperts | B12: 3700 | E12: 1 | F12: 1 | G12: 1 | H12: 1 | I12: 1
A13: Specializētais būvuzraugs (ūdens un kanalizācija) | B13: 3300 | G13: 0.1 | H13: 0.25 | I13: 0.25
A14: Specializētais būvuzraugs (siltumapgādes un ventilācijas sistēmu) | B14: 3300 | G14: 0.1 | H14: 0.25 | I14: 0.25
A15: Specializētais būvuzraugs (elektroietaišu un vājstrāvu) | B15: 3300 | G15: 0.1 | H15: 0.25 | I15: 0.25
B16: =SUM(B4:B15) -> 42400
D18: 1 | E18: 2 | F18: 3 | G18: 4 | H18: 5 | I18: 6
A19: Amata nosaukums | B19: Vārds uzvārds | C19: DAF (mēnesī) 1.gads | D19: DAF (mēnesī) 2.gads | E19: DAF (mēnesī) 3.gads | F19: DAF (mēnesī) 4.gads | G19: DAF (mēnesī) 5.gads | H19: DAF (mēnesī) 6.gads | I19: DAF (mēnesī) 7.gads
A20: Publiskās Privātās Partnerības nodaļas vadītājs | C20: =$B4*C4 -> 5000 | D20: =ROUND($B4*D4*POWER('Pieņēmumi aprēķiniem'!$C$17+1,DAF_projekts!D$18),-1) -> 5150 | E20: =ROUND($B4*E4*POWER('Pieņēmumi aprēķiniem'!$C$17+1,DAF_projekts!E$18),-1) -> 5300 | F20: =ROUND($B4*F4*POWER('Pieņēmumi aprēķiniem'!$C$17+1,DAF_projekts!F$18),-1) -> 5460 | G20: =ROUND($B4*G4*POWER('Pieņēmumi aprēķiniem'!$C$17+1,DAF_projekts!G$18),-1) -> 5630 | H20: =ROUND($B4*H4*POWER('Pieņēmumi aprēķiniem'!$C$17+1,DAF_projekts!H$18),-1) -> 5800 | I20: =ROUND($B4*I4*POWER('Pieņēmumi aprēķiniem'!$C$17+1,DAF_projekts!I$18),-1) -> 5970
A21: Projekta koordinātors | C21: =$B5*C5 -> 3700 | D21: =ROUND($B5*D5*POWER('Pieņēmumi aprēķiniem'!$C$17+1,DAF_projekts!D$18),-1) -> 3810 | E21: =ROUND($B5*E5*POWER('Pieņēmumi aprēķiniem'!$C$17+1,DAF_projekts!E$18),-1) -> 3930 | F21: =ROUND($B5*F5*POWER('Pieņēmumi aprēķiniem'!$C$17+1,DAF_projekts!F$18),-1) -> 4040 | G21: =ROUND($B5*G5*POWER('Pieņēmumi aprēķiniem'!$C$17+1,DAF_projekts!G$18),-1) -> 4160 | H21: =ROUND($B5*H5*POWER('Pieņēmumi aprēķiniem'!$C$17+1,DAF_projekts!H$18),-1) -> 4290 | I21: =ROUND($B5*I5*POWER('Pieņēmumi aprēķiniem'!$C$17+1,DAF_projekts!I$18),-1) -> 4420
A22: Projekta vadītājs Nr. 1 | C22: =$B6*C6 -> 0 | D22: =ROUND($B6*D6*POWER('Pieņēmumi aprēķiniem'!$C$17+1,DAF_projekts!D$18),-1) -> 0 | E22: =ROUND($B6*E6*POWER('Pieņēmumi aprēķiniem'!$C$17+1,DAF_projekts!E$18),-1) -> 3500 | F22: =ROUND($B6*F6*POWER('Pieņēmumi aprēķiniem'!$C$17+1,DAF_projekts!F$18),-1) -> 3610 | G22: =ROUND($B6*G6*POWER('Pieņēmumi aprēķiniem'!$C$17+1,DAF_projekts!G$18),-1) -> 3710 | H22: =ROUND($B6*H6*POWER('Pieņēmumi aprēķiniem'!$C$17+1,DAF_projekts!H$18),-1) -> 3830 | I22: =ROUND($B6*I6*POWER('Pieņēmumi aprēķiniem'!$C$17+1,DAF_projekts!I$18),-1) -> 3940
A23: Projekta vadītājs Nr. 2 | C23: =$B7*C7 -> 0 | D23: =ROUND($B7*D7*POWER('Pieņēmumi aprēķiniem'!$C$17+1,DAF_projekts!D$18),-1) -> 0 | E23: =ROUND($B7*E7*POWER('Pieņēmumi aprēķiniem'!$C$17+1,DAF_projekts!E$18),-1) -> 0 | F23: =ROUND($B7*F7*POWER('Pieņēmumi aprēķiniem'!$C$17+1,DAF_projekts!F$18),-1) -> 3610 | G23: =ROUND($B7*G7*POWER('Pieņēmumi aprēķiniem'!$C$17+1,DAF_projekts!G$18),-1) -> 3710 | H23: =ROUND($B7*H7*POWER('Pieņēmumi aprēķiniem'!$C$17+1,DAF_projekts!H$18),-1) -> 3830 | I23: =ROUND($B7*I7*POWER('Pieņēmumi aprēķiniem'!$C$17+1,DAF_projekts!I$18),-1) -> 3940
A24: Projekta vadītāja asistents | C24: =$B8*C8 -> 600 | D24: =ROUND($B8*D8*POWER('Pieņēmumi aprēķiniem'!$C$17+1,DAF_projekts!D$18),-1) -> 620 | E24: =ROUND($B8*E8*POWER('Pieņēmumi aprēķiniem'!$C$17+1,DAF_projekts!E$18),-1) -> 2550 | F24: =ROUND($B8*F8*POWER('Pieņēmumi aprēķiniem'!$C$17+1,DAF_projekts!F$18),-1) -> 2620 | G24: =ROUND($B8*G8*POWER('Pieņēmumi aprēķiniem'!$C$17+1,DAF_projekts!G$18),-1) -> 2700 | H24: =ROUND($B8*H8*POWER('Pieņēmumi aprēķiniem'!$C$17+1,DAF_projekts!H$18),-1) -> 2780 | I24: =ROUND($B8*I8*POWER('Pieņēmumi aprēķiniem'!$C$17+1,DAF_projekts!I$18),-1) -> 2870
A25: Jurists / Iepirkumu speciālists | C25: =$B9*C9 -> 925 | D25: =ROUND($B9*D9*POWER('Pieņēmumi aprēķiniem'!$C$17+1,DAF_projekts!D$18),-1) -> 950 | E25: =ROUND($B9*E9*POWER('Pieņēmumi aprēķiniem'!$C$17+1,DAF_projekts!E$18),-1) -> 3930 | F25: =ROUND($B9*F9*POWER('Pieņēmumi aprēķiniem'!$C$17+1,DAF_projekts!F$18),-1) -> 4040 | G25: =ROUND($B9*G9*POWER('Pieņēmumi aprēķiniem'!$C$17+1,DAF_projekts!G$18),-1) -> 4160 | H25: =ROUND($B9*H9*POWER('Pieņēmumi aprēķiniem'!$C$17+1,DAF_projekts!H$18),-1) -> 4290 | I25: =ROUND($B9*I9*POWER('Pieņēmumi aprēķiniem'!$C$17+1,DAF_projekts!I$18),-1) -> 4420
A26: Investīciju analītiķis / NĪ eksperts | C26: =$B10*C10 -> 925 | D26: =ROUND($B10*D10*POWER('Pieņēmumi aprēķiniem'!$C$17+1,DAF_projekts!D$18),-1) -> 950 | E26: =ROUND($B10*E10*POWER('Pieņēmumi aprēķiniem'!$C$17+1,DAF_projekts!E$18),-1) -> 3930 | F26: =ROUND($B10*F10*POWER('Pieņēmumi aprēķiniem'!$C$17+1,DAF_projekts!F$18),-1) -> 4040 | G26: =ROUND($B10*G10*POWER('Pieņēmumi aprēķiniem'!$C$17+1,DAF_projekts!G$18),-1) -> 4160 | H26: =ROUND($B10*H10*POWER('Pieņēmumi aprēķiniem'!$C$17+1,DAF_projekts!H$18),-1) -> 4290 | I26: =ROUND($B10*I10*POWER('Pieņēmumi aprēķiniem'!$C$17+1,DAF_projekts!I$18),-1) -> 4420
A27: Būvniecības procesa eksperts / Arhitekts | C27: =$B11*C11 -> 925 | D27: =ROUND($B11*D11*POWER('Pieņēmumi aprēķiniem'!$C$17+1,DAF_projekts!D$18),-1) -> 950 | E27: =ROUND($B11*E11*POWER('Pieņēmumi aprēķiniem'!$C$17+1,DAF_projekts!E$18),-1) -> 3930 | F27: =ROUND($B11*F11*POWER('Pieņēmumi aprēķiniem'!$C$17+1,DAF_projekts!F$18),-1) -> 4040 | G27: =ROUND($B11*G11*POWER('Pieņēmumi aprēķiniem'!$C$17+1,DAF_projekts!G$18),-1) -> 4160 | H27: =ROUND($B11*H11*POWER('Pieņēmumi aprēķiniem'!$C$17+1,DAF_projekts!H$18),-1) -> 4290 | I27: =ROUND($B11*I11*POWER('Pieņēmumi aprēķiniem'!$C$17+1,DAF_projekts!I$18),-1) -> 4420
A28: Ēku būvinženieris / tehniskais eksperts | C28: =$B12*C12 -> 0 | D28: =ROUND($B12*D12*POWER('Pieņēmumi aprēķiniem'!$C$17+1,DAF_projekts!D$18),-1) -> 0 | E28: =ROUND($B12*E12*POWER('Pieņēmumi aprēķiniem'!$C$17+1,DAF_projekts!E$18),-1) -> 3930 | F28: =ROUND($B12*F12*POWER('Pieņēmumi aprēķiniem'!$C$17+1,DAF_projekts!F$18),-1) -> 4040 | G28: =ROUND($B12*G12*POWER('Pieņēmumi aprēķiniem'!$C$17+1,DAF_projekts!G$18),-1) -> 4160 | H28: =ROUND($B12*H12*POWER('Pieņēmumi aprēķiniem'!$C$17+1,DAF_projekts!H$18),-1) -> 4290 | I28: =ROUND($B12*I12*POWER('Pieņēmumi aprēķiniem'!$C$17+1,DAF_projekts!I$18),-1) -> 4420
A29: Specializētais būvuzraugs (ūdens un kanalizācija) | C29: =$B13*C13 -> 0 | D29: =ROUND($B13*D13*POWER('Pieņēmumi aprēķiniem'!$C$17+1,DAF_projekts!D$18),-1) -> 0 | E29: =ROUND($B13*E13*POWER('Pieņēmumi aprēķiniem'!$C$17+1,DAF_projekts!E$18),-1) -> 0 | F29: =ROUND($B13*F13*POWER('Pieņēmumi aprēķiniem'!$C$17+1,DAF_projekts!F$18),-1) -> 0 | G29: =ROUND($B13*G13*POWER('Pieņēmumi aprēķiniem'!$C$17+1,DAF_projekts!G$18),-1) -> 370 | H29: =ROUND($B13*H13*POWER('Pieņēmumi aprēķiniem'!$C$17+1,DAF_projekts!H$18),-1) -> 960 | I29: =ROUND($B13*I13*POWER('Pieņēmumi aprēķiniem'!$C$17+1,DAF_projekts!I$18),-1) -> 990
A30: Specializētais būvuzraugs (siltumapgādes un ventilācijas sistēmu) | C30: =$B14*C14 -> 0 | D30: =ROUND($B14*D14*POWER('Pieņēmumi aprēķiniem'!$C$17+1,DAF_projekts!D$18),-1) -> 0 | E30: =ROUND($B14*E14*POWER('Pieņēmumi aprēķiniem'!$C$17+1,DAF_projekts!E$18),-1) -> 0 | F30: =ROUND($B14*F14*POWER('Pieņēmumi aprēķiniem'!$C$17+1,DAF_projekts!F$18),-1) -> 0 | G30: =ROUND($B14*G14*POWER('Pieņēmumi aprēķiniem'!$C$17+1,DAF_projekts!G$18),-1) -> 370 | H30: =ROUND($B14*H14*POWER('Pieņēmumi aprēķiniem'!$C$17+1,DAF_projekts!H$18),-1) -> 960 | I30: =ROUND($B14*I14*POWER('Pieņēmumi aprēķiniem'!$C$17+1,DAF_projekts!I$18),-1) -> 990
A31: Specializētais būvuzraugs (elektroietaišu un vājstrāvu) | C31: =$B15*C15 -> 0 | D31: =ROUND($B15*D15*POWER('Pieņēmumi aprēķiniem'!$C$17+1,DAF_projekts!D$18),-1) -> 0 | E31: =ROUND($B15*E15*POWER('Pieņēmumi aprēķiniem'!$C$17+1,DAF_projekts!E$18),-1) -> 0 | F31: =ROUND($B15*F15*POWER('Pieņēmumi aprēķiniem'!$C$17+1,DAF_projekts!F$18),-1) -> 0 | G31: =ROUND($B15*G15*POWER('Pieņēmumi aprēķiniem'!$C$17+1,DAF_projekts!G$18),-1) -> 370 | H31: =ROUND($B15*H15*POWER('Pieņēmumi aprēķiniem'!$C$17+1,DAF_projekts!H$18),-1) -> 960 | I31: =ROUND($B15*I15*POWER('Pieņēmumi aprēķiniem'!$C$17+1,DAF_projekts!I$18),-1) -> 990
C32: =SUM(C20:C31) -> 12075 | D32: =SUM(D20:D31) -> 12430 | E32: =SUM(E20:E31) -> 31000 | F32: =SUM(F20:F31) -> 35500 | G32: =SUM(G20:G31) -> 37660 | H32: =SUM(H20:H31) -> 40570 | I32: =SUM(I20:I31) -> 41790

Sheet Pieņēmumi aprēķiniem
B4: Pozīcija | C4: Vērtība
B5: Piemaksas un prēmijas (% no DAF) | C5: 0.085
B6: Darba devēja sociālās apdrošināšanas obligātās iemaksas | C6: 0.2359
B7: Darba devēja izdevumi veselības apdrošināšanai (personai gadā, tiek rēķināts ņemot vērā gada kopējo PLE) | C7: 500
B8: Komandējuma izdevumi (personai gadā, tiek rēķināts ņemot vērā gada kopējo PLE) | C8: 700
B9: Sakaru pakalpojumi (atbilstoši nepieciešamībai personālu nodrošināt ar apmaksātiem sakaru pakalpojumiem) | C9: 42
B10: Transporta izmaksas uz projekta vadības komandu (mēnesī) | C10: =600+200 -> 800
B11: Konferences, semināri, kongresi, izstādes u.c. (personai gadā, tiek rēķināts ņemot vērā gada kopējo PLE) | C11: 500
B12: Biroja uzturēšanas izmaksas (personai mēnesī, tiek rēķināts ņemot vērā gada kopējo PLE) | C12: 200
B13: Pieskaitāmo izmaksu likme (uz projekta koordinātora, projekta vadītāja un projekta administrātora 1 darba stundu, saskaņā ar VNĪ sniegto būvniecības pakalpojumu likmi) | C13: =31.7-1.3 -> 30.4
B14: Aprēķinā pieņemto darbinieku skaits uz kuriem tiek attiecināta pieskaitāmo izmaksu likme (projekta koordinātors, projekta vadītāji - 2, projekta asistents) | C14: 4
B15: PLE pilna laika darba slodze mēnesī (h) | C15: 160
B16: Uzturēšanas periodā 1 projekta vadītājs | C16: 1
B17: Darba algas fonda pieaugums | C17: 0.03
B18: Izdevumi iestādes sabiedrisko aktivitāšu īstenošanai (tiek noteikti pēc VNĪ pieredzes sarežģītu un komplicētu būvniecības attīstības projektu realizācijā)
B19: Izdevumi iestādes sabiedrisko aktivitāšu īstenošanai (tiek noteikti pēc VNĪ pieredzes sarežģītu un komplicētu būvniecības attīstības projektu realizācijā)
B20: Pārējie neklasificētie izdevumi (piem. grafiskie materiāli, tipogrāfija - tiek noteikti pēc VNĪ pieredzes sarežģītu un komplicētu būvniecības attīstības projektu realizācijā)
B21: Ārpakalpojumi un ārkārtas izdevumi (tiek noteikti pēc VNĪ pieredzes sarežģītu un komplicētu būvniecības attīstības projektu realizācijā)
