Workbook
Name Recover: [1]Macro1!$A$135
Name Rikojums2222: [2]Macro1!$A$106
Name TableName: "Dummy"

Sheet KOPSAVILKUMS
H1: 1. Pielikums Informatīvajam ziņojumam par valsts apmaksāto laboratorisko izmeklējumu nodrošināšanu
A4: Pieejamais finansējums, faktiskā izpilde un indikatīvi prognozētais papildus nepieciešamais finansējums laboratorisko izmeklējumu nodrošināšanai ambulatorajā aprūpē 2024. un 2025. gadā un turpmāk ik gadu
A6: 2024. gads
B7: Plānotais finansējums 2024.gadam apakšprogrammā 33.15.00 "Laboratorisko izmeklējumu nodrošināšana ambulatorajā aprūpē" (uz 10.05.2024), euro | C7: Prognozējamā rēķinu summa 2024.gadā *, euro | D7: Norēķins par 2023.gada decembri, kas veicams 2024. gadā, euro | E7: Indikatīvi prognozējamais deficīts uz gada beigām bz tarifu samazināšanas, euro | F7: Indikatīvais ietaupījums 2024. gada jūnijs - decembris no tarifu samazināšanas *, euro | G7: Kopējais indikatīvi prognozējamais deficīts uz 2024. gada beigām, euro | H7: Jaunu izmeklējumu ieviešanai 2024. gadā, euro | I7: Papildus pārdalāmais finansējums no budžeta resora “74.Gadskārtējā valsts budžeta izpildes procesā pārdalāmais finansējums” programmas 20.00.00 “Veselības aprūpes pasākumu īstenošana”, euro | J7: Indikatīvi prognozējamais deficīts uz 2024. gada beigām pēc papildus finansējuma pārdales, euro
A9: Laboratorisko izmeklējumu nodrošināšna (ar ierēķinātu sezonalitāti) | B9: ='2024.g.-2023.g.'!B7 -> 52001578 | C9: =ROUND('2024_fin_prognoze'!M7,0) -> 65322246 | D9: 1187246 | E9: =B9-C9-D9 -> -14507914 | F9: =ROUND(Ietaupījums_2024_2025!P30,0) -> 3936000 | G9: =B9+F9-C9-D9 -> -10571914 | H9: =-398813 -> -398813 | I9: 10970727 | J9: =G9+H9+I9 -> 0
A11: 2025. gads un turpmāk ik gadu
B12: Plānotais finansējums 2025.gadam apakšprogrammā 33.15.00 "Laboratorisko izmeklējumu nodrošināšana ambulatorajā aprūpē" , euro | C12: Plānotā pārdale no budžeta resora "74. Gadskārtējā valsts budžeta izpildes procesā pārdalāmais finansējums" programmas 20.00.00 "Veselības aprūpes pasākumu īstenošana" **, euro | D12: Prognozējamā rēķinu summa 2025.gadā *, euro | E12: Indikatīvi prognozējamais deficīts uz gada beigām bz tarifu samazināšanas, euro | F12: Indikatīvais ietaupījums 2025. gadā no tarifu samazināšanas *, euro | G12: Kopējais indikatīvi prognozējamais deficīts uz 2025. gada beigām, euro | H12: Jaunu izmeklējumu ieviešanai 2025. gadā, euro | I12: Papildus pārdalāmais finansējums no budžeta resora “74.Gadskārtējā valsts budžeta izpildes procesā pārdalāmais finansējums” programmas 20.00.00 “Veselības aprūpes pasākumu īstenošana”, euro | J12: Indikatīvi prognozējamais deficīts uz 2025. gada beigām pēc papildus finansējuma pārdales, euro
A14: Laboratorisko izmeklējumu nodrošināšna (ar ierēķinātu sezonalitāti) | B14: 49823493 | C14: 2217645 | D14: =ROUND(C9*'2024.g.-2023.g.'!J7,0) -> 69764159 | E14: =B14+C14-D14 -> -17723021 | F14: =ROUND(Ietaupījums_2024_2025!U30,0) -> 7417982 | G14: =B14+C14+F14-D14 -> -10305039 | H14: -683663 | I14: 10988702 | J14: =G14+H14+I14 -> 0
A16: *Finansējuma aprēķins balstās uz indikatīvu novērtējumu.
A17: ** Plānotā pārdale no budžeta resora "74. Gadskārtējā valsts budžeta izpildes procesā pārdalāmais finansējums" programmas 20.00.00 "Veselības aprūpes pasākumu īstenošana" atbilstoši MK 2023. gada 12.decembra sēdes protokollēmumā Nr. 61 50.§ 3.punktā dotajam uzdevumam

Sheet 2022_2023_veiktais_darbs
F1: 1.1. Pielikums Informatīvajam ziņojumam par valsts apmaksāto laboratorisko izmeklējumu nodrošināšanu
B3: Faktiski veiktais darbs laboratorisko izmeklējumu nodrošināšanā ambulatorajā aprūpē 2022. un 2023. gadā
A6: Mēnesis | B6: Laboratorisko pakalpojumu veiktais darbs 2023.gadā
B7: Veiktais darbs, euro | C7: % pa mēnešiem | D7: Veiktais darbs pa ceturkšņiem, euro | E7: % pret 1.cet. | F7: Indikatīvā prognoze 2024. gada ceturkšniem % pret 2024. gada 1.ceturksni
A8: janvāris | B8: 5210224.4 | C8: =(B8/$B$20)*100 -> 9.0952148
A9: februāris | B9: 4725825.7 | C9: =(B9/$B$20)*100 -> 8.2496254
A10: marts | B10: 5764747.7 | C10: =(B10/$B$20)*100 -> 10.063217 | D10: =SUM(B8:B10) -> 15700798
A11: aprīlis | B11: 4812482.4 | C11: =(B11/$B$20)*100 -> 8.4008975
A12: maijs | B12: 4881567.9 | C12: =(B12/$B$20)*100 -> 8.5214964
A13: jūnijs | B13: 4581122.3 | C13: =(B13/$B$20)*100 -> 7.9970244 | D13: =SUM(B11:B13) -> 14275173 | E13: =ROUNDUP(D13/D10,2) -> 0.91 | F13: =H41 -> 0.895
A14: jūlijs | B14: 4254677.9 | C14: =(B14/$B$20)*100 -> 7.4271675
A15: augusts | B15: 4847674.8 | C15: =(B15/$B$20)*100 -> 8.4623309
A16: septembris | B16: 4361423 | C16: =(B16/$B$20)*100 -> 7.6135068 | D16: =SUM(B14:B16) -> 13463776 | E16: =ROUNDUP(D16/D10,2) -> 0.86 | F16: =H41 -> 0.895
A17: oktobris | B17: 4867257.4 | C17: =(B17/$B$20)*100 -> 8.4965153
A18: novembris | B18: 4695913.3 | C18: =(B18/$B$20)*100 -> 8.1974089
A19: decembris | B19: 4282419.9 | C19: =(B19/$B$20)*100 -> 7.4755952 | D19: =SUM(B17:B19) -> 13845591 | E19: =ROUNDUP(D19/D10,2) -> 0.89 | F19: =H41 -> 0.895
A20: Kopā | B20: =SUM(B8:B19) -> 57285337 | C20: =SUM(C8:C19) -> 100
B21: =B20-B8 -> 52075112
D22: Vid. gadā | E22: =AVERAGE(E13:E19) -> 0.88666667
A26: Laboratorisko pakalpojumu veiktais darbs 2022.gadā
A28: Mēnesis | B28: Laboratorisko pakalpojumu veiktais darbs 2022.gadā
B29: Veiktais darbs, euro | C29: % pa mēnešiem | D29: Veiktais darbs pa ceturkšņiem, euro | E29: % pret 1.cet.
A30: janvāris | B30: 4705855 | C30: 9.1692004
A31: februāris | B31: 4128551.2 | C31: 8.0443434
A32: marts | B32: 5016480.1 | C32: 9.7744431 | D32: =SUM(B30:B32) -> 13850886
A33: aprīlis | B33: 4327725.9 | C33: 8.4324286
A34: maijs | B34: 4649605.8 | C34: 9.0596007
A35: jūnijs | B35: 4010988.6 | C35: 7.8152766 | D35: =SUM(B33:B35) -> 12988320 | E35: =D35/D32 -> 0.93772485
A36: jūlijs | B36: 3952764.3 | C36: 7.7018286
A37: augusts | B37: 4072534.5 | C37: 7.9351967
A38: septembris | B38: 4011500 | C38: 7.816273 | D38: =SUM(B36:B38) -> 12036799 | E38: =D38/D32 -> 0.86902734
A39: oktobris | B39: 4310487.1 | C39: 8.3988394
A40: novembris | B40: 4372642 | C40: 8.5199461
A41: decembris | B41: 3763279.4 | C41: 7.3326234 | D41: =SUM(B39:B41) -> 12446408 | E41: =D41/D32 -> 0.89860015 | G41: Vidēji 2022. un 2023. gada ceturkšnoš pret attiecīgā gada 1. ceturksni | H41: =ROUNDUP(AVERAGE(E43,E22),3) -> 0.895
A42: Kopā | B42: 51322414 | C42: 100
D43: Vid. gadā | E43: =AVERAGE(E35:E41) -> 0.90178411
A47: Analizējot 2022. gada un 2023. gada viedējo 2., 3. un 4. ceturkšņa izpildi pret 1. ceturksni, redzams, ka 1.ceturksnis ik gadu ir apjoma ziņā lielāks kā pārējie, kas ir vidēji gadā ~90% no 1.ceturkšņa vērības. Līdz ar to prgnozējot 2024. gada faktisko izpildi tika pieņemts, ka 2., 3. un 4. ceturksnis arī 2024. gadā būs ~89.5% no 2024. gada 1.ceturkšna faktiskās izpildes.

Sheet 2024_fin_prognoze
I1: 1.2. Pielikums Informatīvajam ziņojumam par valsts apmaksāto laboratorisko izmeklējumu nodrošināšanu
A3: Indikatīvi prognozētais kopējais finansējuma izlietojums laboratorisko izmeklējumu nodrošināšanai ambulatorajā aprūpē 2024.gadā
B5: Plānotais finansējums 2024.gadam apakšprogrammā 33.15.00 (uz 10.05.2024), euro | C5: Faktiskā izpilde 2024.gada janvārī-martā | F5: Indikatīvā prognoze 2024.gada janvārī-decembrī veikatajam darba apjomam | I5: Indikatīvā prognoze 2024. gadam janvāris - decembris veikatjam darbam KOPĀ, euro | J5: Pārstrāde "+"/Neizpilde "-" 2024. gada janvāris-decembris, euro | K5: Prognoze finansējuma izlietojumam 2024. gada janvāris - maijs, euro | L5: Prognoze finansējuma izlietojumam 2024. gada jūnijs-decembris, euro | M5: Prognozējamā rēķinu summa 2024.gadā, euro
C6: Līgums uz periodu janvāris-marts, euro | D6: Veiktais darbs janvāris-marts, euro | E6: Pārstrāde "+"/Neizpilde "-", janvāris-marts, euro | F6: Aprīlis - Jūnijs, euro | G6: Jūlijs - Septembris, euro | H6: Oktobris - Decembris, euro
A7: Līdzekļu sadalījums | B7: =SUM(B8:B21) -> 52001578 | C7: =ROUND(SUM(C8:C15),2) -> 12591747 | D7: =ROUND(SUM(D8:D15),2) -> 17469068 | E7: =ROUND(SUM(E8:E15),2) -> 4877321.1 | F7: =SUM(F8:F15) -> 15634816 | G7: =SUM(G8:G15) -> 15634816 | H7: =SUM(H8:H15) -> 15634816 | I7: =SUM(I8:I15) -> 64373515 | J7: =SUM(J8:J15) -> 13320668 | K7: =SUM(K8:K15) -> 27892278 | L7: =SUM(L8:L15) -> 36481237 | M7: =SUM(M8:M21) -> 65322246
A8: Laboratorijas pakalpojumi (AP53) | B8: 37204074 | C8: 9205712 | D8: 13189454 | E8: =D8-C8 -> 3983741.6 | F8: ='2024_fin_prognoze'!$D8*'2022_2023_veiktais_darbs'!$F$13 -> 11804561 | G8: =$D8*'2022_2023_veiktais_darbs'!$F$16 -> 11804561 | H8: =$D8*'2022_2023_veiktais_darbs'!$F$19 -> 11804561 | I8: =D8+F8+G8+H8 -> 48603136 | J8: =I8-B8 -> 11399062 | K8: =D8+(F8/3*2) -> 21059161 | L8: =(F8/3*1)+G8+H8 -> 27543976 | M8: =ROUND(D8+F8+G8+(H8/3*3),2) -> 48603136
A9: Histoloģiskie izmeklējumi (AP52) | B9: 2799280 | C9: 699820.26 | D9: 1049356.1 | E9: =D9-C9 -> 349535.84 | F9: ='2024_fin_prognoze'!$D9*'2022_2023_veiktais_darbs'!$F$13 -> 939173.71 | G9: =$D9*'2022_2023_veiktais_darbs'!$F$16 -> 939173.71 | H9: =$D9*'2022_2023_veiktais_darbs'!$F$19 -> 939173.71 | I9: =D9+F9+G9+H9 -> 3866877.2 | J9: =I9-B9 -> 1067597.2 | K9: =D9+(F9/3*2) -> 1675471.9 | L9: =(F9/3*1)+G9+H9 -> 2191405.3 | M9: =ROUND(D9+F9+G9+(H9/3*3),2) -> 3866877.2
A10: Mutāciju noteikšana audzēju šūnās (AP68) | B10: 252900 | C10: 63225 | D10: 99538.64 | E10: =D10-C10 -> 36313.64 | F10: ='2024_fin_prognoze'!$D10*'2022_2023_veiktais_darbs'!$F$13 -> 89087.083 | G10: =$D10*'2022_2023_veiktais_darbs'!$F$16 -> 89087.083 | H10: =$D10*'2022_2023_veiktais_darbs'!$F$19 -> 89087.083 | I10: =D10+F10+G10+H10 -> 366799.89 | J10: =I10-B10 -> 113899.89 | K10: =D10+(F10/3*2) -> 158930.03 | L10: =(F10/3*1)+G10+H10 -> 207869.86 | M10: =ROUND(D10+F10+G10+(H10/3*3),2) -> 366799.89
A11: HLA noteikšana transplantācijas pakalpojumiem (AP129) | B11: 103178 | C11: 25794 | D11: 15563.4 | E11: =D11-C11 -> -10230.6 | F11: ='2024_fin_prognoze'!$D11*'2022_2023_veiktais_darbs'!$F$13 -> 13929.243 | G11: =$D11*'2022_2023_veiktais_darbs'!$F$16 -> 13929.243 | H11: =$D11*'2022_2023_veiktais_darbs'!$F$19 -> 13929.243 | I11: =D11+F11+G11+H11 -> 57351.129 | J11: =I11-B11 -> -45826.871 | K11: =D11+(F11/3*2) -> 24849.562 | L11: =(F11/3*1)+G11+H11 -> 32501.567 | M11: =ROUND(D11+F11+G11+(H11/3*3),2) -> 57351.13
A12: Laboratoriskie izmeklējumi pacientiem ar ļaundabīgo audzēju (AP134) | B12: 2844619 | C12: 753190.25 | D12: 999461.51 | E12: =D12-C12 -> 246271.26 | F12: ='2024_fin_prognoze'!$D12*'2022_2023_veiktais_darbs'!$F$13 -> 894518.05 | G12: =$D12*'2022_2023_veiktais_darbs'!$F$16 -> 894518.05 | H12: =$D12*'2022_2023_veiktais_darbs'!$F$19 -> 894518.05 | I12: =D12+F12+G12+H12 -> 3683015.7 | J12: =I12-B12 -> 838396.66 | K12: =D12+(F12/3*2) -> 1595806.9 | L12: =(F12/3*1)+G12+H12 -> 2087208.8 | M12: =ROUND(D12+F12+G12+(H12/3*3),2) -> 3683015.7
A13: Laboratorijas pakalpojumi uzņemšanas nodaļā (AP136) | B13: 2540456 | C13: 635188.25 | D13: 831325.5 | E13: =D13-C13 -> 196137.25 | F13: ='2024_fin_prognoze'!$D13*'2022_2023_veiktais_darbs'!$F$13 -> 744036.32 | G13: =$D13*'2022_2023_veiktais_darbs'!$F$16 -> 744036.32 | H13: =$D13*'2022_2023_veiktais_darbs'!$F$19 -> 744036.32 | I13: =D13+F13+G13+H13 -> 3063434.5 | J13: =I13-B13 -> 522978.47 | K13: =D13+(F13/3*2) -> 1327349.7 | L13: =(F13/3*1)+G13+H13 -> 1736084.8 | M13: =ROUND(D13+F13+G13+(H13/3*3),2) -> 3063434.5
A14: Reto slimību diagnostikas pieejamībai (AP133) | B14: 1102639 | C14: 157392 | D14: 235289.69 | E14: =D14-C14 -> 77897.69 | F14: ='2024_fin_prognoze'!$D14*'2022_2023_veiktais_darbs'!$F$13 -> 210584.27 | G14: =$D14*'2022_2023_veiktais_darbs'!$F$16 -> 210584.27 | H14: =$D14*'2022_2023_veiktais_darbs'!$F$19 -> 210584.27 | I14: =D14+F14+G14+H14 -> 867042.51 | J14: =I14-B14 -> -235596.49 | K14: =D14+(F14/3*2) -> 375679.21 | L14: =(F14/3*1)+G14+H14 -> 491363.3 | M14: =ROUND(D14+F14+G14+(H14/3*3),2) -> 867042.51
A15: References laboratorijas pakalpojumi (AP71) | B15: 4205701 | C15: 1051425 | D15: 1049079.5 | E15: =D15-C15 -> -2345.51 | F15: ='2024_fin_prognoze'!$D15*'2022_2023_veiktais_darbs'!$F$13 -> 938926.14 | G15: =$D15*'2022_2023_veiktais_darbs'!$F$16 -> 938926.14 | H15: =$D15*'2022_2023_veiktais_darbs'!$F$19 -> 938926.14 | I15: =D15+F15+G15+H15 -> 3865857.9 | J15: =I15-B15 -> -339843.08 | K15: =D15+(F15/3*2) -> 1675030.3 | L15: =(F15/3*1)+G15+H15 -> 2190827.7 | M15: =ROUND(D15+F15+G15+(H15/3*3),2) -> 3865857.9
A16: Specializētas pārtikas nodrošināšana | B16: 146250 | M16: =B16 -> 146250
A17: ""Profilakses pasākumu un veselības aprūpes pakalpojumu uzlabošanas plāna alkoholisko dzērienu un narkotisko vielu lietošanas izplatības mazināšanas jomā 2023.-2025.gadam" ietvaros atkarību konsultatīvā tālruņa izveide, narkoloģiskās ārstēšanas pakalpojuma groza pārskatīšana un veselības aprūpes pakalpojumu pieejamības un kvalitātes uzlabošana" * | B17: 66480 | M17: =B17 -> 66480
A18: "Laboratorijas pakalpojumi onkoloģijas pacientiem nodrošinot savlaicīgu diagnostiku * | B18: 159526 | M18: =B18 -> 159526
A19: "Veselības aprūpes pakalpojumu pieejamība pēc onkoloģijas diagnozes noteikšanas (dinamiskā novērošana)" * | B19: 16547 | M19: =B19 -> 16547
A20: "Apvienotās laboratorijas audu saderības un imūnģenētikas jomas attīstība" * | B20: 551683 | M20: =B20 -> 551683
A21: "Reproduktīvā materiāla saglabāšana pacientiem pirms ķīmijterapijas procedūrām, nodrošinot reproduktīvā materiāla uzglabāšanu un sieviešu kontracepcija" * | B21: 8245 | M21: =B21 -> 8245
A22: RESURSI | B22: =SUM(B23:B23) -> 52001578
A23: Apakšprogramma 33.15.00 "Laboratorisko izmeklējumu nodrošināšana ambulatorajā aprūpē" | B23: 52001578
A26: * Papildus finansējums 2024. gadam un turpmāk no budžeta resora “74.Gadskārtējā valsts budžeta izpildes procesā pārdalāmais finansējums” programmas 20.00.00 “Veselības aprūpes pasākumu īstenošana” jaunu pasākumu īstenošanai | K26: Prognozētais izlietojums janvāris - maijs % no gada kopējā | L26: Prognozētais izlietojums jūnijs - decembris % no gada kopējā
K27: =K7/I7 -> 0.4332881 | L27: =L7/I7 -> 0.5667119
L29: Uzņemšanas nodaļas % no kopējā finansējuma jūnijs - decembris, kam tarifs netiek samazināts
L31: =L13/L7 -> 0.047588429

Sheet 2024.g.-2023.g.
F1: 1.3. Pielikums Informatīvajam ziņojumam par valsts apmaksāto laboratorisko izmeklējumu nodrošināšanu
A3: Indikatīvi prognozētais laboratorisko izmeklējumu apjoma pieaugums 2024. un 2025. gadā pret iepriekšējo gadu
B5: Plānotais finansējums 2024.gadam apakšprogrammā 33.15.00 (uz 10.05.2024), euro | C5: Indikatīvā prognoze 2024. gadam janvāris - decembris veikatjam darbam KOPĀ, euro | D5: 2024. gadam piešķirts no budžeta resora “74.Gadskārtējā valsts budžeta izpildes procesā pārdalāmais finansējums” 2024. gada darba samaksas pieaugumam, euro | E5: Indikatīvā prognoze 2024.gada faktiski veiktajam darbam bez darba samaksai piešķirtā finansējuma, euro | F5: Faktiskā izpilde 2023. gads, euro | G5: 2024. gada prognozes/2023. gada starpība, euro | H5: 2024. gada apjoma pieaugums pret 2023. gadu, neņemot vērā 2024.gadam papildus piešķirto finansējumu, euro | I5: Uzņemšanas nodaļas % no kopējā finansējuma, kam tarifs netiek samazināts, % | J5: 2025. gada plānotais apjoma pieaugums pret 2024. gadu, %
A7: Līdzekļu sadalījums | B7: =SUM(B8:B22) -> 52001578 | C7: =SUM(C8:C15) -> 64373515 | D7: 1375604 | E7: =SUM(E8:E15) -> 62997911 | F7: =SUM(F8:F15) -> 57285336 | G7: =SUM(G8:G15) -> 7088178.8 | H7: =E7/F7 -> 1.0997214 | J7: 1.068
A8: Laboratorijas pakalpojumi (AP53) | B8: ='2024_fin_prognoze'!B8 -> 37204074 | C8: ='2024_fin_prognoze'!I8 -> 48603136 | D8: =ROUND(B8/$B$26*$D$7,2) -> 1002452.9 | E8: =C8-D8 -> 47600683 | F8: 46509552 | G8: =C8-F8 -> 2093584.2
A9: Histoloģiskie izmeklējumi (AP52) | B9: ='2024_fin_prognoze'!B9 -> 2799280 | C9: ='2024_fin_prognoze'!I9 -> 3866877.2 | D9: =ROUND(B9/$B$26*$D$7,2) -> 75425.78 | E9: =C9-D9 -> 3791451.4 | F9: 3591424 | G9: =C9-F9 -> 275453.23
A10: Mutāciju noteikšana audzēju šūnās (AP68) | B10: ='2024_fin_prognoze'!B10 -> 252900 | C10: ='2024_fin_prognoze'!I10 -> 366799.89 | D10: =ROUND(B10/$B$26*$D$7,2) -> 6814.32 | E10: =C10-D10 -> 359985.57 | F10: 339942 | G10: =C10-F10 -> 26857.888
A11: HLA noteikšana transplantācijas pakalpojumiem (AP129) | B11: ='2024_fin_prognoze'!B11 -> 103178 | C11: ='2024_fin_prognoze'!I11 -> 57351.129 | D11: =ROUND(B11/$B$26*$D$7,2) -> 2780.1 | E11: =C11-D11 -> 54571.029 | F11: 138000 | G11: =C11-F11 -> -80648.871
A12: Laboratoriskie izmeklējumi pacientiem ar ļaundabīgo audzēju (AP134) | B12: ='2024_fin_prognoze'!B12 -> 2844619 | C12: ='2024_fin_prognoze'!I12 -> 3683015.7 | D12: =ROUND(B12/$B$26*$D$7,2) -> 76647.43 | E12: =C12-D12 -> 3606368.2 | F12: 2534915.2 | G12: =C12-F12 -> 1148100.5
A13: Laboratorijas pakalpojumi uzņemšanas nodaļā (AP136) | B13: ='2024_fin_prognoze'!B13 -> 2540456 | C13: ='2024_fin_prognoze'!I13 -> 3063434.5 | D13: =ROUND(B13/$B$26*$D$7,2) -> 68451.84 | E13: =C13-D13 -> 2994982.6 | G13: =C13-F13 -> 3063434.5 | I13: =E13/E7 -> 0.047540983
A14: Reto slimību diagnostikas pieejamībai (AP133) | B14: ='2024_fin_prognoze'!B14 -> 1102639 | C14: ='2024_fin_prognoze'!I14 -> 867042.51 | D14: =ROUND(B14/$B$26*$D$7,2) -> 29710.28 | E14: =C14-D14 -> 837332.23 | F14: 590877 | G14: =C14-F14 -> 276165.51
A15: References laboratorijas pakalpojumi (AP71) | B15: ='2024_fin_prognoze'!B15 -> 4205701 | C15: ='2024_fin_prognoze'!I15 -> 3865857.9 | D15: =ROUND(B15/$B$26*$D$7,2) -> 113321.38 | E15: =C15-D15 -> 3752536.5 | F15: 3580626 | G15: =C15-F15 -> 285231.92
A16: References laboratorijas pakalpojumi (organizatriski metodiskais darbs) | G16: 15404922
A17: Specializētas pārtikas nodrošināšana | B17: ='2024_fin_prognoze'!B16 -> 146250
A18: ""Profilakses pasākumu un veselības aprūpes pakalpojumu uzlabošanas plāna alkoholisko dzērienu un narkotisko vielu lietošanas izplatības mazināšanas jomā 2023.-2025.gadam" ietvaros atkarību konsultatīvā tālruņa izveide, narkoloģiskās ārstēšanas pakalpojuma groza pārskatīšana un veselības aprūpes pakalpojumu pieejamības un kvalitātes uzlabošana" | B18: ='2024_fin_prognoze'!B17 -> 66480
A19: "Laboratorijas pakalpojumi onkoloģijas pacientiem nodrošinot savlaicīgu diagnostiku | B19: ='2024_fin_prognoze'!B18 -> 159526
A20: "Veselības aprūpes pakalpojumu pieejamība pēc onkoloģijas diagnozes noteikšanas (dinamiskā novērošana)" | B20: ='2024_fin_prognoze'!B19 -> 16547
A21: "Apvienotās laboratorijas audu saderības un imūnģenētikas jomas attīstība" | B21: ='2024_fin_prognoze'!B20 -> 551683
A22: "Reproduktīvā materiāla saglabāšana pacientiem pirms ķīmijterapijas procedūrām, nodrošinot reproduktīvā materiāla uzglabāšanu un sieviešu kontracepcija" | B22: ='2024_fin_prognoze'!B21 -> 8245
A23: RESURSI | B23: =SUM(B24:B24) -> 52001578
A24: Apakšprogramma 33.15.00 "Laboratorisko izmeklējumu nodrošināšana ambulatorajā aprūpē" | B24: 52001578
A26: Plānotais finansējums 2024. gadam bez PP | B26: =SUM(B8:B15) -> 51052847

Sheet Ietaupījums_2024_2025
I1: 1.4. Pielikums Informatīvajam ziņojumam par valsts apmaksāto laboratorisko izmeklējumu nodrošināšanu
A3: Finansējuma ietaupījums laboratorijas pakalpojumu nodrošināšanai atbilstoši plānotajam tarifu samazinājumam 2024., 2025. gadā un turpmāk ik gadu
A5: Manipulācijas kods | B5: Manipulācijas nosaukums | C5: Faktiski veiktais manipulāciju skaits 2023. gadā | D5: Esošais NVD tarifs (uz 01.03.2024), euro | E5: Jaunais NVD tarifs (PAN aprēķinātais), euro | F5: Kopējais finansējums manipulāciju nodrošināšanai 2023. gadā, euro | G5: Prognozētais manipulāciju skaits 2024. gadā | H5: Prognozētais manipulāciju skaits 2024. gadā uzņemšanas nodaļās | I5: Prognozētais manipulāciju skaits 2024. gadā, kam būtu jāsamazina tarifs | J5: Prognozējamais ietaupījums visam 2024. gadam no tarifu samazināsānas, euro | K5: Starpība, ņemot vērā, ka pēc MK maksājam pakalpojumus ar 0.9 koeficientu, euro* | L5: Prognozētais manipulāciju skaits 2024. gada jūnijs - decembris | M5: Prognozētais manipulāciju skaits 2024. gadā jūnijs - decembris uzņemšanas nodaļās | N5: Prognozētais manipulāciju skaits 2024. gada jūnijs - decembris, kam tiktu samazināts tarifs | O5: Prognozējamais ietaupījums 2024. gada jūnijs - decembris no tarifu samazināsānas, euro | P5: Starpība, ņemot vērā, ka pēc MK maksājam pakalpojumus ar 0.9 koeficientu, euro* | Q5: Prognozētais manipulāciju skaits 2025. gads | R5: Prognozētais manipulāciju skaits 2025. gadā uzņemšanas nodaļās | S5: Prognozētais manipulāciju skaits 2025. gadā, kam tiktu samazināts tarifs | T5: Prognozējamais ietaupījums 2025. gads - decembris no tarifu samazināsānas, euro | U5: Starpība, ņemot vērā, ka pēc MK maksājam pakalpojumus ar 0.9 koeficientu, euro*
A6: 40042 | B6: Pilna asins aina (hemoglobīns, eritrocīti, leikocīti, trombocīti, hematokrīts, leikocītu formula (vismaz neitrofīli, eozinofīli, bazofīli, limfocīti, monocīti)). Papildus nenorādīt manipulācijas 40010, 40014 | C6: 1024457 | D6: 4.77 | E6: 3.93 | F6: =ROUND(C6*D6,2) -> 4886659.9 | G6: =ROUND(C6/$C$30*$G$30,0) -> 1126617 | H6: =ROUND(G6*'2024.g.-2023.g.'!$I$13,0) -> 53560 | I6: =G6-H6 -> 1073057 | J6: =ROUND((D6*I6)-(E6*I6),2) -> 901367.88 | K6: =ROUND(J6*0.9,2) -> 811231.09 | L6: =ROUNDUP(G6/$G$30*$L$30,0) -> 638468 | M6: =ROUND(L6*'2024_fin_prognoze'!$L$31,0) -> 30384 | N6: =L6-M6 -> 608084 | O6: =ROUND((D6*N6)-(E6*N6),2) -> 510790.56 | P6: =ROUND(O6*0.9,2) -> 459711.5 | Q6: =ROUND(G6/$G$30*$Q$30,0) -> 1203227 | R6: =ROUND(Q6*'2024.g.-2023.g.'!$I$13,0) -> 57203 | S6: =Q6-R6 -> 1146024 | T6: =ROUND((S6*D6)-(S6*E6),2) -> 962660.16 | U6: =ROUND(T6*0.9,2) -> 866394.14
A7: 40086 | B7: Protrombīns, protrombīna komplekss un INR | C7: 232386 | D7: 2.79 | E7: 1.87 | F7: =ROUND(C7*D7,2) -> 648356.94 | G7: =ROUND(C7/$C$30*$G$30,0) -> 255560 | H7: =ROUND(G7*'2024.g.-2023.g.'!$I$13,0) -> 12150 | I7: =G7-H7 -> 243410 | J7: =ROUND((D7*I7)-(E7*I7),2) -> 223937.2 | K7: =ROUND(J7*0.9,2) -> 201543.48 | L7: =ROUND(G7/$G$30*$L$30,0) -> 144829 | M7: =ROUND(L7*'2024_fin_prognoze'!$L$31,0) -> 6892 | N7: =L7-M7 -> 137937 | O7: =ROUND((D7*N7)-(E7*N7),2) -> 126902.04 | P7: =ROUND(O7*0.9,2) -> 114211.84 | Q7: =ROUND(G7/$G$30*$Q$30,0) -> 272938 | R7: =ROUND(Q7*'2024.g.-2023.g.'!$I$13,0) -> 12976 | S7: =Q7-R7 -> 259962 | T7: =ROUND((S7*D7)-(S7*E7),2) -> 239165.04 | U7: =ROUND(T7*0.9,2) -> 215248.54
A8: 40087 | B8: Aktivētais parciālais tromboplastīna laiks (APTL) | C8: 164408 | D8: 3.23 | E8: 2.23 | F8: =ROUND(C8*D8,2) -> 531037.84 | G8: =ROUND(C8/$C$30*$G$30,0) -> 180803 | H8: =ROUND(G8*'2024.g.-2023.g.'!$I$13,0) -> 8596 | I8: =G8-H8 -> 172207 | J8: =ROUND((D8*I8)-(E8*I8),2) -> 172207 | K8: =ROUND(J8*0.9,2) -> 154986.3 | L8: =ROUND(G8/$G$30*$L$30,0) -> 102463 | M8: =ROUND(L8*'2024_fin_prognoze'!$L$31,0) -> 4876 | N8: =L8-M8 -> 97587 | O8: =ROUND((D8*N8)-(E8*N8),2) -> 97587 | P8: =ROUND(O8*0.9,2) -> 87828.3 | Q8: =ROUND(G8/$G$30*$Q$30,0) -> 193098 | R8: =ROUND(Q8*'2024.g.-2023.g.'!$I$13,0) -> 9180 | S8: =Q8-R8 -> 183918 | T8: =ROUND((S8*D8)-(S8*E8),2) -> 183918 | U8: =ROUND(T8*0.9,2) -> 165526.2
A9: 40123 | B9: D-dimēri (kvantitatīvi) | C9: 125125 | D9: 8.39 | E9: 6.53 | F9: =ROUND(C9*D9,2) -> 1049798.8 | G9: =ROUND(C9/$C$30*$G$30,0) -> 137603 | H9: =ROUND(G9*'2024.g.-2023.g.'!$I$13,0) -> 6542 | I9: =G9-H9 -> 131061 | J9: =ROUND((D9*I9)-(E9*I9),2) -> 243773.46 | K9: =ROUND(J9*0.9,2) -> 219396.11 | L9: =ROUND(G9/$G$30*$L$30,0) -> 77981 | M9: =ROUND(L9*'2024_fin_prognoze'!$L$31,0) -> 3711 | N9: =L9-M9 -> 74270 | O9: =ROUND((D9*N9)-(E9*N9),2) -> 138142.2 | P9: =ROUND(O9*0.9,2) -> 124327.98 | Q9: =ROUND(G9/$G$30*$Q$30,0) -> 146960 | R9: =ROUND(Q9*'2024.g.-2023.g.'!$I$13,0) -> 6987 | S9: =Q9-R9 -> 139973 | T9: =ROUND((S9*D9)-(S9*E9),2) -> 260349.78 | U9: =ROUND(T9*0.9,2) -> 234314.8
A10: 41001 | B10: Kopējais olbaltums | C10: 144834 | D10: 1.79 | E10: 1.2 | F10: =ROUND(C10*D10,2) -> 259252.86 | G10: =ROUND(C10/$C$30*$G$30,0) -> 159277 | H10: =ROUND(G10*'2024.g.-2023.g.'!$I$13,0) -> 7572 | I10: =G10-H10 -> 151705 | J10: =ROUND((D10*I10)-(E10*I10),2) -> 89505.95 | K10: =ROUND(J10*0.9,2) -> 80555.36 | L10: =ROUND(G10/$G$30*$L$30,0) -> 90264 | M10: =ROUND(L10*'2024_fin_prognoze'!$L$31,0) -> 4296 | N10: =L10-M10 -> 85968 | O10: =ROUND((D10*N10)-(E10*N10),2) -> 50721.12 | P10: =ROUND(O10*0.9,2) -> 45649.01 | Q10: =ROUND(G10/$G$30*$Q$30,0) -> 170108 | R10: =ROUND(Q10*'2024.g.-2023.g.'!$I$13,0) -> 8087 | S10: =Q10-R10 -> 162021 | T10: =ROUND((S10*D10)-(S10*E10),2) -> 95592.39 | U10: =ROUND(T10*0.9,2) -> 86033.15
A11: 41004 | B11: Urīnviela | C11: 429029 | D11: 2.2 | E11: 1.45 | F11: =ROUND(C11*D11,2) -> 943863.8 | G11: =ROUND(C11/$C$30*$G$30,0) -> 471812 | H11: =ROUND(G11*'2024.g.-2023.g.'!$I$13,0) -> 22430 | I11: =G11-H11 -> 449382 | J11: =ROUND((D11*I11)-(E11*I11),2) -> 337036.5 | K11: =ROUND(J11*0.9,2) -> 303332.85 | L11: =ROUND(G11/$G$30*$L$30,0) -> 267381 | M11: =ROUND(L11*'2024_fin_prognoze'!$L$31,0) -> 12724 | N11: =L11-M11 -> 254657 | O11: =ROUND((D11*N11)-(E11*N11),2) -> 190992.75 | P11: =ROUND(O11*0.9,2) -> 171893.48 | Q11: =ROUND(G11/$G$30*$Q$30,0) -> 503895 | R11: =ROUND(Q11*'2024.g.-2023.g.'!$I$13,0) -> 23956 | S11: =Q11-R11 -> 479939 | T11: =ROUND((S11*D11)-(S11*E11),2) -> 359954.25 | U11: =ROUND(T11*0.9,2) -> 323958.83
A12: 41005 | B12: Urīnskābe | C12: 432729 | D12: 1.98 | E12: 1.38 | F12: =ROUND(C12*D12,2) -> 856803.42 | G12: =ROUND(C12/$C$30*$G$30,0) -> 475881 | H12: =ROUND(G12*'2024.g.-2023.g.'!$I$13,0) -> 22624 | I12: =G12-H12 -> 453257 | J12: =ROUND((D12*I12)-(E12*I12),2) -> 271954.2 | K12: =ROUND(J12*0.9,2) -> 244758.78 | L12: =ROUND(G12/$G$30*$L$30,0) -> 269687 | M12: =ROUND(L12*'2024_fin_prognoze'!$L$31,0) -> 12834 | N12: =L12-M12 -> 256853 | O12: =ROUND((D12*N12)-(E12*N12),2) -> 154111.8 | P12: =ROUND(O12*0.9,2) -> 138700.62 | Q12: =ROUNDDOWN(G12/$G$30*$Q$30,0) -> 508240 | R12: =ROUND(Q12*'2024.g.-2023.g.'!$I$13,0) -> 24162 | S12: =Q12-R12 -> 484078 | T12: =ROUND((S12*D12)-(S12*E12),2) -> 290446.8 | U12: =ROUND(T12*0.9,2) -> 261402.12
A13: 41026 | B13: Laktātdehidrogenāze | C13: 80071 | D13: 1.42 | E13: 1.3 | F13: =ROUND(C13*D13,2) -> 113700.82 | G13: =ROUND(C13/$C$30*$G$30,0) -> 88056 | H13: =ROUND(G13*'2024.g.-2023.g.'!$I$13,0) -> 4186 | I13: =G13-H13 -> 83870 | J13: =ROUND((D13*I13)-(E13*I13),2) -> 10064.4 | K13: =ROUND(J13*0.9,2) -> 9057.96 | L13: =ROUND(G13/$G$30*$L$30,0) -> 49902 | M13: =ROUND(L13*'2024_fin_prognoze'!$L$31,0) -> 2375 | N13: =L13-M13 -> 47527 | O13: =ROUND((D13*N13)-(E13*N13),2) -> 5703.24 | P13: =ROUND(O13*0.9,2) -> 5132.92 | Q13: =ROUND(G13/$G$30*$Q$30,0) -> 94044 | R13: =ROUND(Q13*'2024.g.-2023.g.'!$I$13,0) -> 4471 | S13: =Q13-R13 -> 89573 | T13: =ROUND((S13*D13)-(S13*E13),2) -> 10748.76 | U13: =ROUND(T13*0.9,2) -> 9673.88
A14: 41027 | B14: Lipāze | C14: 108492 | D14: 3.53 | E14: 2.7 | F14: =ROUND(C14*D14,2) -> 382976.76 | G14: =ROUND(C14/$C$30*$G$30,0) -> 119311 | H14: =ROUND(G14*'2024.g.-2023.g.'!$I$13,0) -> 5672 | I14: =G14-H14 -> 113639 | J14: =ROUND((D14*I14)-(E14*I14),2) -> 94320.37 | K14: =ROUND(J14*0.9,2) -> 84888.33 | L14: =ROUND(G14/$G$30*$L$30,0) -> 67615 | M14: =ROUND(L14*'2024_fin_prognoze'!$L$31,0) -> 3218 | N14: =L14-M14 -> 64397 | O14: =ROUND((D14*N14)-(E14*N14),2) -> 53449.51 | P14: =ROUND(O14*0.9,2) -> 48104.56 | Q14: =ROUND(G14/$G$30*$Q$30,0) -> 127424 | R14: =ROUND(Q14*'2024.g.-2023.g.'!$I$13,0) -> 6058 | S14: =Q14-R14 -> 121366 | T14: =ROUND((S14*D14)-(S14*E14),2) -> 100733.78 | U14: =ROUND(T14*0.9,2) -> 90660.4
A15: 41046 | B15: Triglicerīdi | C15: 442727 | D15: 2.27 | E15: 1.83 | F15: =ROUND(C15*D15,2) -> 1004990.3 | G15: =ROUND(C15/$C$30*$G$30,0) -> 486876 | H15: =ROUND(G15*'2024.g.-2023.g.'!$I$13,0) -> 23147 | I15: =G15-H15 -> 463729 | J15: =ROUND((D15*I15)-(E15*I15),2) -> 204040.76 | K15: =ROUND(J15*0.9,2) -> 183636.68 | L15: =ROUND(G15/$G$30*$L$30,0) -> 275918 | M15: =ROUND(L15*'2024_fin_prognoze'!$L$31,0) -> 13131 | N15: =L15-M15 -> 262787 | O15: =ROUND((D15*N15)-(E15*N15),2) -> 115626.28 | P15: =ROUND(O15*0.9,2) -> 104063.65 | Q15: =ROUND(G15/$G$30*$Q$30,0) -> 519984 | R15: =ROUND(Q15*'2024.g.-2023.g.'!$I$13,0) -> 24721 | S15: =Q15-R15 -> 495263 | T15: =ROUND((S15*D15)-(S15*E15),2) -> 217915.72 | U15: =ROUND(T15*0.9,2) -> 196124.15
A16: 41047 | B16: ABL holesterīns (tiešā metode) | C16: 378431 | D16: 3.63 | E16: 1.88 | F16: =ROUND(C16*D16,2) -> 1373704.5 | G16: =ROUND(C16/$C$30*$G$30,0) -> 416169 | H16: =ROUND(G16*'2024.g.-2023.g.'!$I$13,0) -> 19785 | I16: =G16-H16 -> 396384 | J16: =ROUND((D16*I16)-(E16*I16),2) -> 693672 | K16: =ROUND(J16*0.9,2) -> 624304.8 | L16: =ROUND(G16/$G$30*$L$30,0) -> 235848 | M16: =ROUND(L16*'2024_fin_prognoze'!$L$31,0) -> 11224 | N16: =L16-M16 -> 224624 | O16: =ROUND((D16*N16)-(E16*N16),2) -> 393092 | P16: =ROUND(O16*0.9,2) -> 353782.8 | Q16: =ROUND(G16/$G$30*$Q$30,0) -> 444468 | R16: =ROUND(Q16*'2024.g.-2023.g.'!$I$13,0) -> 21130 | S16: =Q16-R16 -> 423338 | T16: =ROUND((S16*D16)-(S16*E16),2) -> 740841.5 | U16: =ROUND(T16*0.9,2) -> 666757.35
A17: 41052 | B17: Bilirubīns, frakcijas | C17: 573805 | D17: 1.78 | E17: 1.13 | F17: =ROUND(C17*D17,2) -> 1021372.9 | G17: =ROUND(C17/$C$30*$G$30,0) -> 631026 | H17: =ROUND(G17*'2024.g.-2023.g.'!$I$13,0) -> 30000 | I17: =G17-H17 -> 601026 | J17: =ROUND((D17*I17)-(E17*I17),2) -> 390666.9 | K17: =ROUND(J17*0.9,2) -> 351600.21 | L17: =ROUND(G17/$G$30*$L$30,0) -> 357610 | M17: =ROUND(L17*'2024_fin_prognoze'!$L$31,0) -> 17018 | N17: =L17-M17 -> 340592 | O17: =ROUND((D17*N17)-(E17*N17),2) -> 221384.8 | P17: =ROUND(O17*0.9,2) -> 199246.32 | Q17: =ROUND(G17/$G$30*$Q$30,0) -> 673936 | R17: =ROUND(Q17*'2024.g.-2023.g.'!$I$13,0) -> 32040 | S17: =Q17-R17 -> 641896 | T17: =ROUND((S17*D17)-(S17*E17),2) -> 417232.4 | U17: =ROUND(T17*0.9,2) -> 375509.16
A18: 41057 | B18: Kopējais holesterīna līmenis asinīskoncentrācija, lielāka par 5 mmol/L | C18: 317152 | D18: 1.7 | E18: 1.38 | F18: =ROUND(C18*D18,2) -> 539158.4 | G18: =ROUND(C18/$C$30*$G$30,0) -> 348779 | H18: =ROUND(G18*'2024.g.-2023.g.'!$I$13,0) -> 16581 | I18: =G18-H18 -> 332198 | J18: =ROUND((D18*I18)-(E18*I18),2) -> 106303.36 | K18: =ROUND(J18*0.9,2) -> 95673.02 | L18: =ROUND(G18/$G$30*$L$30,0) -> 197657 | M18: =ROUND(L18*'2024_fin_prognoze'!$L$31,0) -> 9406 | N18: =L18-M18 -> 188251 | O18: =ROUND((D18*N18)-(E18*N18),2) -> 60240.32 | P18: =ROUND(O18*0.9,2) -> 54216.29 | Q18: =ROUND(G18/$G$30*$Q$30,0) -> 372496 | R18: =ROUND(Q18*'2024.g.-2023.g.'!$I$13,0) -> 17709 | S18: =Q18-R18 -> 354787 | T18: =ROUND((S18*D18)-(S18*E18),2) -> 113531.84 | U18: =ROUND(T18*0.9,2) -> 102178.66
A19: 41058 - 41060 | B19: ZBL holesterīna līmenis asinīs | C19: 194632 | D19: 3.95 | E19: 2.42 | F19: =ROUND(C19*D19,2) -> 768796.4 | G19: =ROUND(C19/$C$30*$G$30,0) -> 214041 | H19: =ROUND(G19*'2024.g.-2023.g.'!$I$13,0) -> 10176 | I19: =G19-H19 -> 203865 | J19: =ROUND((D19*I19)-(E19*I19),2) -> 311913.45 | K19: =ROUND(J19*0.9,2) -> 280722.11 | L19: =ROUND(G19/$G$30*$L$30,0) -> 121300 | M19: =ROUND(L19*'2024_fin_prognoze'!$L$31,0) -> 5772 | N19: =L19-M19 -> 115528 | O19: =ROUND((D19*N19)-(E19*N19),2) -> 176757.84 | P19: =ROUND(O19*0.9,2) -> 159082.06 | Q19: =ROUND(G19/$G$30*$Q$30,0) -> 228596 | R19: =ROUND(Q19*'2024.g.-2023.g.'!$I$13,0) -> 10868 | S19: =Q19-R19 -> 217728 | T19: =ROUND((S19*D19)-(S19*E19),2) -> 333123.84 | U19: =ROUND(T19*0.9,2) -> 299811.46
A20: 41069 | B20: Fosfors | C20: 77864 | D20: 1.79 | E20: 1.33 | F20: =ROUND(C20*D20,2) -> 139376.56 | G20: =ROUND(C20/$C$30*$G$30,0) -> 85629 | H20: =ROUND(G20*'2024.g.-2023.g.'!$I$13,0) -> 4071 | I20: =G20-H20 -> 81558 | J20: =ROUND((D20*I20)-(E20*I20),2) -> 37516.68 | K20: =ROUND(J20*0.9,2) -> 33765.01 | L20: =ROUND(G20/$G$30*$L$30,0) -> 48527 | M20: =ROUND(L20*'2024_fin_prognoze'!$L$31,0) -> 2309 | N20: =L20-M20 -> 46218 | O20: =ROUND((D20*N20)-(E20*N20),2) -> 21260.28 | P20: =ROUND(O20*0.9,2) -> 19134.25 | Q20: =ROUND(G20/$G$30*$Q$30,0) -> 91452 | R20: =ROUND(Q20*'2024.g.-2023.g.'!$I$13,0) -> 4348 | S20: =Q20-R20 -> 87104 | T20: =ROUND((S20*D20)-(S20*E20),2) -> 40067.84 | U20: =ROUND(T20*0.9,2) -> 36061.06
A21: 41095 | B21: Glikoze asinīs | C21: 977766 | D21: 1.85 | E21: 1.15 | F21: =ROUND(C21*D21,2) -> 1808867.1 | G21: =ROUND(C21/$C$30*$G$30,0) -> 1075270 | H21: =ROUND(G21*'2024.g.-2023.g.'!$I$13,0) -> 51119 | I21: =G21-H21 -> 1024151 | J21: =ROUND((D21*I21)-(E21*I21),2) -> 716905.7 | K21: =ROUND(J21*0.9,2) -> 645215.13 | L21: =ROUNDUP(G21/$G$30*$L$30,0) -> 609369 | M21: =ROUND(L21*'2024_fin_prognoze'!$L$31,0) -> 28999 | N21: =L21-M21 -> 580370 | O21: =ROUND((D21*N21)-(E21*N21),2) -> 406259 | P21: =ROUND(O21*0.9,2) -> 365633.1 | Q21: =ROUND(G21/$G$30*$Q$30,0) -> 1148388 | R21: =ROUND(Q21*'2024.g.-2023.g.'!$I$13,0) -> 54595 | S21: =Q21-R21 -> 1093793 | T21: =ROUND((S21*D21)-(S21*E21),2) -> 765655.1 | U21: =ROUND(T21*0.9,2) -> 689089.59
A22: 41103 - 41105 | B22: Glikohemoglobīns | C22: 86208 | D22: 6.22 | E22: 5 | F22: =ROUND(C22*D22,2) -> 536213.76 | G22: =ROUND(C22/$C$30*$G$30,0) -> 94805 | H22: =ROUND(G22*'2024.g.-2023.g.'!$I$13,0) -> 4507 | I22: =G22-H22 -> 90298 | J22: =ROUND((D22*I22)-(E22*I22),2) -> 110163.56 | K22: =ROUND(J22*0.9,2) -> 99147.2 | L22: =ROUND(G22/$G$30*$L$30,0) -> 53727 | M22: =ROUND(L22*'2024_fin_prognoze'!$L$31,0) -> 2557 | N22: =L22-M22 -> 51170 | O22: =ROUND((D22*N22)-(E22*N22),2) -> 62427.4 | P22: =ROUND(O22*0.9,2) -> 56184.66 | Q22: =ROUND(G22/$G$30*$Q$30,0) -> 101252 | R22: =ROUND(Q22*'2024.g.-2023.g.'!$I$13,0) -> 4814 | S22: =Q22-R22 -> 96438 | T22: =ROUND((S22*D22)-(S22*E22),2) -> 117654.36 | U22: =ROUND(T22*0.9,2) -> 105888.92
A23: 41124 | B23: Feritīns | C23: 308169 | D23: 8.05 | E23: 5.97 | F23: =ROUND(C23*D23,2) -> 2480760.5 | G23: =ROUND(C23/$C$30*$G$30,0) -> 338900 | H23: =ROUND(G23*'2024.g.-2023.g.'!$I$13,0) -> 16112 | I23: =G23-H23 -> 322788 | J23: =ROUND((D23*I23)-(E23*I23),2) -> 671399.04 | K23: =ROUND(J23*0.9,2) -> 604259.14 | L23: =ROUND(G23/$G$30*$L$30,0) -> 192059 | M23: =ROUND(L23*'2024_fin_prognoze'!$L$31,0) -> 9140 | N23: =L23-M23 -> 182919 | O23: =ROUND((D23*N23)-(E23*N23),2) -> 380471.52 | P23: =ROUND(O23*0.9,2) -> 342424.37 | Q23: =ROUND(G23/$G$30*$Q$30,0) -> 361945 | R23: =ROUND(Q23*'2024.g.-2023.g.'!$I$13,0) -> 17207 | S23: =Q23-R23 -> 344738 | T23: =ROUND((S23*D23)-(S23*E23),2) -> 717055.04 | U23: =ROUND(T23*0.9,2) -> 645349.54
A24: 41127 | B24: CRO (kvantitatīvi) | C24: 729538 | D24: 2.91 | E24: 2.05 | F24: =ROUND(C24*D24,2) -> 2122955.6 | G24: =ROUNDDOWN(C24/$C$30*$G$30,0) -> 802288 | H24: =ROUND(G24*'2024.g.-2023.g.'!$I$13,0) -> 38142 | I24: =G24-H24 -> 764146 | J24: =ROUND((D24*I24)-(E24*I24),2) -> 657165.56 | K24: =ROUND(J24*0.9,2) -> 591449 | L24: =ROUND(G24/$G$30*$L$30,0) -> 454666 | M24: =ROUND(L24*'2024_fin_prognoze'!$L$31,0) -> 21637 | N24: =L24-M24 -> 433029 | O24: =ROUND((D24*N24)-(E24*N24),2) -> 372404.94 | P24: =ROUND(O24*0.9,2) -> 335164.45 | Q24: =ROUNDDOWN(G24/$G$30*$Q$30,0) -> 856843 | R24: =ROUND(Q24*'2024.g.-2023.g.'!$I$13,0) -> 40735 | S24: =Q24-R24 -> 816108 | T24: =ROUND((S24*D24)-(S24*E24),2) -> 701852.88 | U24: =ROUND(T24*0.9,2) -> 631667.59
A25: 41128 | B25: Reimatoīdais faktors (kvantitatīvi) | C25: 107234 | D25: 2.69 | E25: 2.05 | F25: =ROUND(C25*D25,2) -> 288459.46 | G25: =ROUND(C25/$C$30*$G$30,0) -> 117928 | H25: =ROUND(G25*'2024.g.-2023.g.'!$I$13,0) -> 5606 | I25: =G25-H25 -> 112322 | J25: =ROUND((D25*I25)-(E25*I25),2) -> 71886.08 | K25: =ROUND(J25*0.9,2) -> 64697.47 | L25: =ROUND(G25/$G$30*$L$30,0) -> 66831 | M25: =ROUND(L25*'2024_fin_prognoze'!$L$31,0) -> 3180 | N25: =L25-M25 -> 63651 | O25: =ROUND((D25*N25)-(E25*N25),2) -> 40736.64 | P25: =ROUND(O25*0.9,2) -> 36662.98 | Q25: =ROUND(G25/$G$30*$Q$30,0) -> 125947 | R25: =ROUND(Q25*'2024.g.-2023.g.'!$I$13,0) -> 5988 | S25: =Q25-R25 -> 119959 | T25: =ROUND((S25*D25)-(S25*E25),2) -> 76773.76 | U25: =ROUND(T25*0.9,2) -> 69096.38
A26: 41142 | B26: Tireotropais hormons (TSH) | C26: 671980 | D26: 5.69 | E26: 4.57 | F26: =ROUND(C26*D26,2) -> 3823566.2 | G26: =ROUND(C26/$C$30*$G$30,0) -> 738991 | H26: =ROUND(G26*'2024.g.-2023.g.'!$I$13,0) -> 35132 | I26: =G26-H26 -> 703859 | J26: =ROUND((D26*I26)-(E26*I26),2) -> 788322.08 | K26: =ROUND(J26*0.9,2) -> 709489.87 | L26: =ROUNDUP(G26/$G$30*$L$30,0) -> 418796 | M26: =ROUND(L26*'2024_fin_prognoze'!$L$31,0) -> 19930 | N26: =L26-M26 -> 398866 | O26: =ROUND((D26*N26)-(E26*N26),2) -> 446729.92 | P26: =ROUND(O26*0.9,2) -> 402056.93 | Q26: =ROUND(G26/$G$30*$Q$30,0) -> 789242 | R26: =ROUND(Q26*'2024.g.-2023.g.'!$I$13,0) -> 37521 | S26: =Q26-R26 -> 751721 | T26: =ROUND((S26*D26)-(S26*E26),2) -> 841927.52 | U26: =ROUND(T26*0.9,2) -> 757734.77
A27: 41200 | B27: Vitamīns B 12 | C27: 117898 | D27: 9.64 | E27: 7.33 | F27: =ROUND(C27*D27,2) -> 1136536.7 | G27: =ROUND(C27/$C$30*$G$30,0) -> 129655 | H27: =ROUND(G27*'2024.g.-2023.g.'!$I$13,0) -> 6164 | I27: =G27-H27 -> 123491 | J27: =ROUND((D27*I27)-(E27*I27),2) -> 285264.21 | K27: =ROUND(J27*0.9,2) -> 256737.79 | L27: =ROUND(G27/$G$30*$L$30,0) -> 73477 | M27: =ROUND(L27*'2024_fin_prognoze'!$L$31,0) -> 3497 | N27: =L27-M27 -> 69980 | O27: =ROUND((D27*N27)-(E27*N27),2) -> 161653.8 | P27: =ROUND(O27*0.9,2) -> 145488.42 | Q27: =ROUND(G27/$G$30*$Q$30,0) -> 138472 | R27: =ROUND(Q27*'2024.g.-2023.g.'!$I$13,0) -> 6583 | S27: =Q27-R27 -> 131889 | T27: =ROUND((S27*D27)-(S27*E27),2) -> 304663.59 | U27: =ROUND(T27*0.9,2) -> 274197.23
A28: 41309 | B28: Anti-HCV | C28: 85686 | D28: 10.69 | E28: 7.2 | F28: =ROUND(C28*D28,2) -> 915983.34 | G28: =ROUND(C28/$C$30*$G$30,0) -> 94231 | H28: =ROUND(G28*'2024.g.-2023.g.'!$I$13,0) -> 4480 | I28: =G28-H28 -> 89751 | J28: =ROUND((D28*I28)-(E28*I28),2) -> 313230.99 | K28: =ROUND(J28*0.9,2) -> 281907.89 | L28: =ROUND(G28/$G$30*$L$30,0) -> 53402 | M28: =ROUND(L28*'2024_fin_prognoze'!$L$31,0) -> 2541 | N28: =L28-M28 -> 50861 | O28: =ROUND((D28*N28)-(E28*N28),2) -> 177504.89 | P28: =ROUND(O28*0.9,2) -> 159754.4 | Q28: =ROUND(G28/$G$30*$Q$30,0) -> 100639 | R28: =ROUND(Q28*'2024.g.-2023.g.'!$I$13,0) -> 4784 | S28: =Q28-R28 -> 95855 | T28: =ROUND((S28*D28)-(S28*E28),2) -> 334533.95 | U28: =ROUND(T28*0.9,2) -> 301080.56
A29: 46157 | B29: PSA, brīvais prostatas specifiskais antigēns | C29: 4678 | D29: 13.02 | E29: 10 | F29: =ROUND(C29*D29,2) -> 60907.56 | G29: =ROUND(C29/$C$30*$G$30,0) -> 5144 | H29: =ROUND(G29*'2024.g.-2023.g.'!$I$13,0) -> 245 | I29: =G29-H29 -> 4899 | J29: =ROUND((D29*I29)-(E29*I29),2) -> 14794.98 | K29: =ROUND(J29*0.9,2) -> 13315.48 | L29: =ROUND(G29/$G$30*$L$30,0) -> 2915 | M29: =ROUND(L29*'2024_fin_prognoze'!$L$31,0) -> 139 | N29: =L29-M29 -> 2776 | O29: =ROUND((D29*N29)-(E29*N29),2) -> 8383.52 | P29: =ROUND(O29*0.9,2) -> 7545.17 | Q29: =ROUND(G29/$G$30*$Q$30,0) -> 5494 | R29: =ROUND(Q29*'2024.g.-2023.g.'!$I$13,0) -> 261 | S29: =Q29-R29 -> 5233 | T29: =ROUND((S29*D29)-(S29*E29),2) -> 15803.66 | U29: =ROUND(T29*0.9,2) -> 14223.29
B30: KOPĀ | C30: =SUM(C6:C29) -> 7815299 | F30: =ROUND(SUM(F6:F29),0) -> 27694100 | G30: =ROUNDUP(C30*'2024.g.-2023.g.'!H7,0) -> 8594652 | H30: =SUM(H6:H29) -> 408599 | I30: =SUM(I6:I29) -> 8186053 | J30: =SUM(J6:J29) -> 7717412.3 | K30: =SUM(K6:K29) -> 6945671.1 | L30: =ROUND(G30*'2024_fin_prognoze'!L27,0) -> 4870692 | M30: =SUM(M6:M29) -> 231790 | N30: =SUM(N6:N29) -> 4638902 | O30: =SUM(O6:O29) -> 4373333.4 | P30: =SUM(P6:P29) -> 3936000.1 | Q30: =ROUND(G30*'2024.g.-2023.g.'!J7,0) -> 9179088 | R30: =SUM(R6:R29) -> 436384 | S30: =SUM(S6:S29) -> 8742704 | T30: =SUM(T6:T29) -> 8242202 | U30: =SUM(U6:U29) -> 7417981.8
B31: * Novērtējums ir indikatīvs un var mainīties atbilstoši faktikajai izpildei
B33: Aprēķina metode
B34: Tiek pārskatīti biežākie tarifi manipulāciju sarakstā, ņemot vērā trīs zemāko ārstniecības iestāžu maksas cenrādi, aprēķinot vidējo no tiem, kā arī pielietojot 0.9 koeficientu pēc esošajiem MK555:
B35: 1.Analizēti manipulāciju tarifi un salīdiznāti ar maksas cenrādi, aprēķinināti jaunie tarifi atbilstoši MK 555 noteikumos noteiktajai formulai
B36: 2. Ņemta statistika par veikto izmeklējumu skaitu 2023. gadā, attiecīgi 2024. un 2025. gadā palielinot par plānoto apjoma pieaugumu
B37: 3.Aprēķinā tarifi tiek apmaksāti ar 0.9 koeficientu atbilstoši MK555
