Workbook

Sheet marts
A1: PRECIZĒTAIS pārskata par sabiedriskā transporta pakalpojumos radītajiem izdevumiem un zaudējumiem sakarā ar noteiktajiem ierobežojumiem
A2: Periods | C2: Vienības | D2: Autobusi | E2: Minibusi (ekspresbusi) | F2: Tramvaji | G2: Trolejbusi
A3: 1.SADAĻA | B3: KOPSUMMA ((N - P) x Izm) | D3: =(D10-D9)*D13 -> 0 | E3: =(E10-E9)*E13 -> 0 | F3: =(F10-F9)*F13 -> 0 | G3: =(G10-G9)*G13 -> 0
A4: 09.03.2021.- 31.03.2021. | B4: Iesaistīto transportlīdzekļu vienības | C4: skaits | D4: 13
B5: (S) Plānotais reisu skaits | D5: 3390
B6: (R) Faktiskais reisu skaits (S + RP-RA) | D6: =D5+D7-D8 -> 3390 | E6: =E5+E7-E8 -> 0 | F6: =F5+F7-F8 -> 0 | G6: =G5+G7-G8 -> 0
B7: to starpā papildu reisi (RP)
B8: to starpā atceltie reisi (RA)
B9: (P) Plānotais nobraukums | C9: km | D9: 36749
B10: (N) Faktiskais nobraukums (P + NP-NA) | D10: =D9+D12-D11 -> 36749 | E10: =E9+E11-E12 -> 0 | F10: =F9+F11-F12 -> 0 | G10: =G9+G11-G12 -> 0 | H10: =atskaites_jedox!AB8 -> #NAME?
B11: to starpā papildu reisos veiktais nobraukums (NP)
B12: to starpā atcelto reisu nobraukums (NA)
A13: 01.03.2021.-31.03.2021. | B13: (Izm) 1 km pašizmaksa | C13: EUR/km | D13: 1.3302 | H13: =atskaites_jedox!AC8 -> #NAME?
A14: 2.SADAĻA | B14: KOPSUMMA (1 vienības cenas reizinājums ar preču/pakalpojumu skaitu; summa ( K x Z)) | D14: =SUM(D16*D25,D17*D26,D18*D27,D21*D30,D22*D31,D23*D32, D19*D28, D20*D29) -> 477.754 | E14: =SUM(E16*E25,E17*E26,E18*E27,E21*E30,E22*E31,E23*E32) -> 0 | F14: =SUM(F16*F25,F17*F26,F18*F27,F21*F30,F22*F31,F23*F32) -> 0 | G14: =SUM(G16*G25,G17*G26,G18*G27,G21*G30,G22*G31,G23*G32) -> 0
A15: 09.03.2021.- 31.03.2021. | B15: (Z) Pakalpojumi, pasākumi un materiāli Covid-19 pandēmijas ierobežošanai | C15: skaits (jānorāda atbilstoša mērvienība gab., litri, reižu skaits, darba stundas u.c.)
B16: Dezinfekcijas līdzekļi (gab) | D16: 13
B17: Sejas maskas (gab) | D17: 40
B18: Sociālā distancēšanās sabiedriskā transportā
B19: to starpā uzlīmes (gab) | D19: 26
B20: to starpā norobežojošā lenta (gab) | D20: 13
B21: Transportlīdzekļu dezinfekcija (reizes) | D21: 241
B22: Transportlīdzekļu papildu mazgāšana
B23: Citi izdevumi (norādīt kādi)
B24: (K) Faktiskās izmaksas Covid-19 pandēmijas ierobežošanai, t.sk. | C24: EUR/vien bez PVN
B25: Dezinfekcijas līdzekļi | D25: 4.12
B26: Sejas maskas | D26: 1.25
B27: Sociālā distancēšanās sabiedriskā transportā
B28: to starpā uzlīmes | D28: 0.38
B29: to starpā norobežojošā lenta | D29: 1.44
B30: Transportlīdzekļu dezinfekcija, to starpā darba spēka izmaksas | D30: 1.434
B31: Transportlīdzekļu papildu mazgāšana, to starpā darba spēka izmaksas
B32: Citi izdevumi (norādīt kādi)
A33: 3.SADAĻA | B33: KOPSUMMA ((C/D-A/N) x N) | D33: =((D36/D37)-(D34/D35))*D35 -> 8983.5622 | E33: =((E36/E37)-(E35/#REF!))*#REF! -> #DIV/0! | F33: =((F36/F37)-(F34/F35))*F35 -> #DIV/0! | G33: =((G36/G37)-(G34/G35))*G35 -> #DIV/0!
A34: 09.03.2021.-31.03.2021. | B34: (A) No pasažieriem, t.sk., personām, kurām noteikti pašvaldības noteiktie braukšanas maksas atvieglojumi, saņemtie ieņēmumi par sniegto sabiedriskā transporta pakalpojumu | C34: EUR bez PVN | D34: 12084.55 | H34: =atskaites_jedox!AA8 -> #NAME?
B35: (N) Faktiskais nobraukums | C35: km | D35: 36749 | H35: =atskaites_jedox!AB8 -> #NAME? | I35: =D35=D10 -> TRUE
A36: 09.03.2019.-31.03.2019. | B36: (C) No pasažieriem, t.sk., personām, kurām noteikti pašvaldības noteiktie braukšanas maksas atvieglojumi, saņemtie ieņēmumi par sniegto sabiedriskā transporta pakalpojumu | C36: EUR bez PVN | D36: 20280.86 | H36: =atskaites_jedox!C8 -> #NAME?
B37: (D) Faktiskais nobraukums | C37: km | D37: 35375.8 | H37: =atskaites_jedox!D8 -> #NAME?
B40: Pašvaldības atbildīgās personas vārds, uzvārds, kontaktinformācija un paraksts (ja dokuments nav parakstīts ar elektroniski)
A43: Informāciju aizpilda katra pašvaldība par pārvadājumu veidiem, kādi ir noteikti attiecīgā pilsētā
A44: Tabulā iekļauj norādītajā laika periodā radušās pamatotās izmaksas, kas attiecināmas uz sabiedriskā transporta pakalpojuma izpildē noteiktajiem drošības pasākumiem Covid-19 infekcijas izplatības ierobežošanai.
...

Sheet aprīlis
A1: PRECIZĒTAIS pārskats par sabiedriskā transporta pakalpojumos radītajiem izdevumiem un zaudējumiem sakarā ar noteiktajiem ierobežojumiem
A2: Periods | C2: Vienības | D2: Autobusi | E2: Minibusi (ekspresbusi) | F2: Tramvaji | G2: Trolejbusi
A3: 1.SADAĻA | B3: KOPSUMMA ((N - P) x Izm) | D3: =(D10-D9)*D13 -> -13.31428 | E3: =(E10-E9)*E13 -> 0 | F3: =(F10-F9)*F13 -> 0 | G3: =(G10-G9)*G13 -> 0
A4: 01.04.2021.-30.04.2021. | B4: Iesaistīto transportlīdzekļu vienības | C4: skaits | D4: 14
B5: (S) Plānotais reisu skaits | D5: 4265
B6: (R) Faktiskais reisu skaits (S + RP-RA) | D6: =D5+D7-D8 -> 4264 | E6: =E5+E7-E8 -> 0 | F6: =F5+F7-F8 -> 0 | G6: =G5+G7-G8 -> 0
B7: to starpā papildu reisi (RP)
B8: to starpā atceltie reisi (RA) | D8: 1
B9: (P) Plānotais nobraukums | C9: km | D9: 46285.2
B10: (N) Faktiskais nobraukums (P + NP-NA) | D10: =D9+D11-D12 -> 46275.4 | E10: =E9+E11-E12 -> 0 | F10: =F9+F11-F12 -> 0 | G10: =G9+G11-G12 -> 0 | H10: =atskaites_jedox!AE8 -> #NAME?
B11: to starpā papildu reisos veiktais nobraukums (NP)
B12: to starpā atcelto reisu nobraukums (NA) | D12: 9.8
A13: 01.04.2021.-30.04.2021. | B13: (Izm) 1 km pašizmaksa | C13: EUR/km | D13: 1.3586 | H13: =atskaites_jedox!AF8 -> #NAME?
A14: 2.SADAĻA | B14: KOPSUMMA (1 vienības cenas reizinājums ar preču/pakalpojumu skaitu; summa ( K x Z)) | D14: =SUM(D16*D25,D17*D26,D18*D27,D21*D30,D22*D31,D23*D32, D19*D28, D20*D29) -> 519.512 | E14: =SUM(E16*E25,E17*E26,E18*E27,E21*E30,E22*E31,E23*E32) -> 0 | F14: =SUM(F16*F25,F17*F26,F18*F27,F21*F30,F22*F31,F23*F32) -> 0 | G14: =SUM(G16*G25,G17*G26,G18*G27,G21*G30,G22*G31,G23*G32) -> 0
A15: 01.04.2021.-30.04.2021. | B15: (Z) Pakalpojumi, pasākumi un materiāli Covid-19 pandēmijas ierobežošanai | C15: skaits (jānorāda atbilstoša mērvienība gab., litri, reižu skaits, darba stundas u.c.)
B16: Dezinfekcijas līdzekļi (gab) | D16: 14
B17: Sejas maskas (gab)
B18: Sociālā distancēšanās sabiedriskā transportā
B19: to starpā uzlīmes (gab)
B20: to starpā norobežojošā lenta (gab) | D20: 14
B21: Transportlīdzekļu dezinfekcija (reizes) | D21: 308
B22: Transportlīdzekļu papildu mazgāšana
B23: Citi izdevumi (norādīt kādi)
B24: (K) Faktiskās izmaksas Covid-19 pandēmijas ierobežošanai, t.sk. | C24: EUR/vien bez PVN
B25: Dezinfekcijas līdzekļi | D25: 4.12
B26: Sejas maskas | D26: 1.25
B27: Sociālā distancēšanās sabiedriskā transportā
B28: to starpā uzlīmes | D28: 0.38
B29: to starpā norobežojošā lenta | D29: 1.44
B30: Transportlīdzekļu dezinfekcija, to starpā darba spēka izmaksas | D30: 1.434
B31: Transportlīdzekļu papildu mazgāšana, to starpā darba spēka izmaksas
B32: Citi izdevumi (norādīt kādi)
A33: 3.SADAĻA | B33: KOPSUMMA ((C/D-A/N) x N) | D33: =((D36/D37)-(D34/D35))*D35 -> 8234.9019 | E33: =((E36/E37)-(E35/#REF!))*#REF! -> #DIV/0! | F33: =((F36/F37)-(F34/F35))*F35 -> #DIV/0! | G33: =((G36/G37)-(G34/G35))*G35 -> #DIV/0!
A34: 01.04.2021.-30.04.2021. | B34: (A) No pasažieriem, t.sk., personām, kurām noteikti pašvaldības noteiktie braukšanas maksas atvieglojumi, saņemtie ieņēmumi par sniegto sabiedriskā transporta pakalpojumu | C34: EUR bez PVN | D34: 12405.6 | H34: =atskaites_jedox!AD8 -> #NAME?
B35: (N) Faktiskais nobraukums | C35: km | D35: 46275.4 | H35: =atskaites_jedox!AE8 -> #NAME? | I35: =D35=D10 -> TRUE
A36: 01.04.2019.-30.04.2019. | B36: (C) No pasažieriem, t.sk., personām, kurām noteikti pašvaldības noteiktie braukšanas maksas atvieglojumi, saņemtie ieņēmumi par sniegto sabiedriskā transporta pakalpojumu | C36: EUR bez PVN | D36: 20720.61 | H36: =atskaites_jedox!F8 -> #NAME?
B37: (D) Faktiskais nobraukums | C37: km | D37: 46455 | H37: =atskaites_jedox!G8 -> #NAME?
A38: .
B40: Pašvaldības atbildīgās personas vārds, uzvārds, kontaktinformācija un paraksts (ja dokuments nav parakstīts ar elektroniski)
A43: Informāciju aizpilda katra pašvaldība par pārvadājumu veidiem, kādi ir noteikti attiecīgā pilsētā
...

Sheet maijs
A1: PRECIZĒTAIS pārskats par sabiedriskā transporta pakalpojumos radītajiem izdevumiem un zaudējumiem sakarā ar noteiktajiem ierobežojumiem
A2: Periods | C2: Vienības | D2: Autobusi | E2: Minibusi (ekspresbusi) | F2: Tramvaji | G2: Trolejbusi
A3: 1.SADAĻA | B3: KOPSUMMA ((N - P) x Izm) | D3: =(D10-D9)*D13 -> 0 | E3: =(E10-E9)*E13 -> 0 | F3: =(F10-F9)*F13 -> 0 | G3: =(G10-G9)*G13 -> 0
A4: 01.05.2021.-31.05.2021. | B4: Iesaistīto transportlīdzekļu vienības | C4: skaits | D4: 13
B5: (S) Plānotais reisu skaits | D5: 4478
B6: (R) Faktiskais reisu skaits (S + RP-RA) | D6: =D5+D7-D8 -> 4478 | E6: =E5+E7-E8 -> 0 | F6: =F5+F7-F8 -> 0 | G6: =G5+G7-G8 -> 0
B7: to starpā papildu reisi (RP)
B8: to starpā atceltie reisi (RA)
B9: (P) Plānotais nobraukums | C9: km | D9: 47538
B10: (N) Faktiskais nobraukums (P + NP-NA) | D10: =D9+D11-D12 -> 47538 | E10: =E9+E11-E12 -> 0 | F10: =F9+F11-F12 -> 0 | G10: =G9+G11-G12 -> 0 | H10: =atskaites_jedox!AH8 -> #NAME?
B11: to starpā papildu reisos veiktais nobraukums (NP)
B12: to starpā atcelto reisu nobraukums (NA)
A13: 01.05.2021.-31.05.2021. | B13: (Izm) 1 km pašizmaksa | C13: EUR/km | D13: 1.393 | H13: =atskaites_jedox!AI8 -> #NAME?
A14: 2.SADAĻA | B14: KOPSUMMA (1 vienības cenas reizinājums ar preču/pakalpojumu skaitu; summa ( K x Z)) | D14: =SUM(D16*D25,D17*D26,D18*D27,D21*D30,D22*D31,D23*D32, D19*D28, D20*D29) -> 528.292 | E14: =SUM(E16*E25,E17*E26,E18*E27,E21*E30,E22*E31,E23*E32) -> 0 | F14: =SUM(F16*F25,F17*F26,F18*F27,F21*F30,F22*F31,F23*F32) -> 0 | G14: =SUM(G16*G25,G17*G26,G18*G27,G21*G30,G22*G31,G23*G32) -> 0
A15: 01.05.2021.-31.05.2021 | B15: (Z) Pakalpojumi, pasākumi un materiāli Covid-19 pandēmijas ierobežošanai | C15: skaits (jānorāda atbilstoša mērvienība gab., litri, reižu skaits, darba stundas u.c.)
B16: Dezinfekcijas līdzekļi (gab) | D16: 13
B17: Sejas maskas (gab)
B18: Sociālā distancēšanās sabiedriskā transportā
B19: to starpā uzlīmes (gab)
B20: to starpā norobežojošā lenta (gab) | D20: 13
B21: Transportlīdzekļu dezinfekcija (reizes) | D21: 318
B22: Transportlīdzekļu papildu mazgāšana
B23: Citi izdevumi (norādīt kādi)
B24: (K) Faktiskās izmaksas Covid-19 pandēmijas ierobežošanai, t.sk. | C24: EUR/vien bez PVN
B25: Dezinfekcijas līdzekļi | D25: 4.12
B26: Sejas maskas | D26: 1.25
B27: Sociālā distancēšanās sabiedriskā transportā
B28: to starpā uzlīmes
B29: to starpā norobežojošā lenta | D29: 1.44
B30: Transportlīdzekļu dezinfekcija, to starpā darba spēka izmaksas | D30: 1.434
B31: Transportlīdzekļu papildu mazgāšana, to starpā darba spēka izmaksas
B32: Citi izdevumi (norādīt kādi)
A33: 3.SADAĻA | B33: KOPSUMMA ((C/D-A/N) x N) | D33: =((D36/D37)-(D34/D35))*D35 -> 7553.3295 | E33: =((E36/E37)-(E35/#REF!))*#REF! -> #DIV/0! | F33: =((F36/F37)-(F34/F35))*F35 -> #DIV/0! | G33: =((G36/G37)-(G34/G35))*G35 -> #DIV/0!
A34: 01.05.2021.-31.05.2021. | B34: (A) No pasažieriem, t.sk., personām, kurām noteikti pašvaldības noteiktie braukšanas maksas atvieglojumi, saņemtie ieņēmumi par sniegto sabiedriskā transporta pakalpojumu | C34: EUR bez PVN | D34: 12195.51 | H34: =atskaites_jedox!AG8 -> #NAME?
B35: (N) Faktiskais nobraukums | C35: km | D35: 47538 | H35: =atskaites_jedox!AH8 -> #NAME?
A36: 01.05.2019.-31.05.2019. | B36: (C) No pasažieriem, t.sk., personām, kurām noteikti pašvaldības noteiktie braukšanas maksas atvieglojumi, saņemtie ieņēmumi par sniegto sabiedriskā transporta pakalpojumu | C36: EUR bez PVN | D36: 20025.85 | H36: =atskaites_jedox!I8 -> #NAME?
B37: (D) Faktiskais nobraukums | C37: km | D37: 48204.8 | H37: =atskaites_jedox!J8 -> #NAME?
A38: .
B40: Pašvaldības atbildīgās personas vārds, uzvārds, kontaktinformācija un paraksts (ja dokuments nav parakstīts ar elektroniski)
A43: Informāciju aizpilda katra pašvaldība par pārvadājumu veidiem, kādi ir noteikti attiecīgā pilsētā
...

Sheet jūnijs
A1: Pārskats par sabiedriskā transporta pakalpojumos radītajiem izdevumiem un zaudējumiem sakarā ar noteiktajiem ierobežojumiem
A2: Periods | C2: Vienības | D2: Autobusi | E2: Minibusi (ekspresbusi) | F2: Tramvaji | G2: Trolejbusi
A3: 1.SADAĻA | B3: KOPSUMMA ((N - P) x Izm) | D3: =(D10-D9)*D13 -> 0 | E3: =(E10-E9)*E13 -> 0 | F3: =(F10-F9)*F13 -> 0 | G3: =(G10-G9)*G13 -> 0
A4: 01.06.2021.-30.06.2021. | B4: Iesaistīto transportlīdzekļu vienības | C4: skaits | D4: 12
B5: (S) Plānotais reisu skaits | D5: 4140
B6: (R) Faktiskais reisu skaits (S + RP-RA) | D6: =D5+D7-D8 -> 4140 | E6: =E5+E7-E8 -> 0 | F6: =F5+F7-F8 -> 0 | G6: =G5+G7-G8 -> 0
B7: to starpā papildu reisi (RP)
B8: to starpā atceltie reisi (RA)
B9: (P) Plānotais nobraukums | C9: km | D9: 44979
B10: (N) Faktiskais nobraukums (P + NP-NA) | D10: =D9+D11-D12 -> 44979 | E10: =E9+E11-E12 -> 0 | F10: =F9+F11-F12 -> 0 | G10: =G9+G11-G12 -> 0 | H10: =atskaites_jedox!AK8 -> #NAME?
B11: to starpā papildu reisos veiktais nobraukums (NP)
B12: to starpā atcelto reisu nobraukums (NA)
A13: 01.06.2021.-30.06.2021. | B13: (Izm) 1 km pašizmaksa | C13: EUR/km | D13: 1.4311 | H13: =atskaites_jedox!AL8 -> #NAME?
A14: 2.SADAĻA | B14: KOPSUMMA (1 vienības cenas reizinājums ar preču/pakalpojumu skaitu; summa ( K x Z)) | D14: =SUM(D16*D25,D17*D26,D18*D27,D21*D30,D22*D31,D23*D32, D19*D28, D20*D29) -> 508.392 | E14: =SUM(E16*E25,E17*E26,E18*E27,E21*E30,E22*E31,E23*E32) -> 0 | F14: =SUM(F16*F25,F17*F26,F18*F27,F21*F30,F22*F31,F23*F32) -> 0 | G14: =SUM(G16*G25,G17*G26,G18*G27,G21*G30,G22*G31,G23*G32) -> 0
A15: 01.06.2021.-30.06.2021. | B15: (Z) Pakalpojumi, pasākumi un materiāli Covid-19 pandēmijas ierobežošanai | C15: skaits (jānorāda atbilstoša mērvienība gab., litri, reižu skaits, darba stundas u.c.)
B16: Dezinfekcijas līdzekļi (gab) | D16: 12
B17: Sejas maskas (gab)
B18: Sociālā distancēšanās sabiedriskā transportā
B19: to starpā uzlīmes (gab)
B20: to starpā norobežojošā lenta (gab) | D20: 12
B21: Transportlīdzekļu dezinfekcija (reizes) | D21: 308
B22: Transportlīdzekļu papildu mazgāšana
B23: Citi izdevumi (norādīt kādi)
B24: (K) Faktiskās izmaksas Covid-19 pandēmijas ierobežošanai, t.sk. | C24: EUR/vien bez PVN
B25: Dezinfekcijas līdzekļi | D25: 4.12
B26: Sejas maskas | D26: 1.25
B27: Sociālā distancēšanās sabiedriskā transportā
B28: to starpā uzlīmes
B29: to starpā norobežojošā lenta | D29: 1.44
B30: Transportlīdzekļu dezinfekcija, to starpā darba spēka izmaksas | D30: 1.434
B31: Transportlīdzekļu papildu mazgāšana, to starpā darba spēka izmaksas
B32: Citi izdevumi (norādīt kādi)
A33: 3.SADAĻA | B33: KOPSUMMA ((C/D-A/N) x N) | D33: =((D36/D37)-(D34/D35))*D35 -> 9210.168 | E33: =((E36/E37)-(E35/#REF!))*#REF! -> #DIV/0! | F33: =((F36/F37)-(F34/F35))*F35 -> #DIV/0! | G33: =((G36/G37)-(G34/G35))*G35 -> #DIV/0!
A34: 01.06.2021.-30.06.2021. | B34: (A) No pasažieriem, t.sk., personām, kurām noteikti pašvaldības noteiktie braukšanas maksas atvieglojumi, saņemtie ieņēmumi par sniegto sabiedriskā transporta pakalpojumu | C34: EUR bez PVN | D34: 8217.68 | H34: =atskaites_jedox!AJ8 -> #NAME?
B35: (N) Faktiskais nobraukums | C35: km | D35: 44979 | H35: =atskaites_jedox!AK8 -> #NAME? | J35: =D35=D10 -> TRUE
A36: 01.06.2019.-30.06.2019. | B36: (C) No pasažieriem, t.sk., personām, kurām noteikti pašvaldības noteiktie braukšanas maksas atvieglojumi, saņemtie ieņēmumi par sniegto sabiedriskā transporta pakalpojumu | C36: EUR bez PVN | D36: 17160.38 | H36: =atskaites_jedox!L8 -> #NAME?
B37: (D) Faktiskais nobraukums | C37: km | D37: 44288.7 | H37: =atskaites_jedox!M8 -> #NAME?
A38: .
B40: Pašvaldības atbildīgās personas vārds, uzvārds, kontaktinformācija un paraksts (ja dokuments nav parakstīts ar elektroniski)
A43: Informāciju aizpilda katra pašvaldība par pārvadājumu veidiem, kādi ir noteikti attiecīgā pilsētā
...

Sheet Pivot_apkopojums
A3: Sum of Vērtība | B3: Column Labels
A4: Row Labels | B4: 09.03.2021.- 31.03.2021. | C4: Aprīlis | D4: Maijs | E4: Jūnijs | F4: Grand Total
A5: 1. Faktiskie izdevumi, kas radušies saistībā ar reisu atcelšanu vai papild reisu nodrošināšanu - KOPSUMMA ((N - P) x Izm) | B5: 0 | C5: -13.31428 | D5: 0 | E5: 0 | F5: -13.31428
A6: 2. Kopējie izdevumi par Covid-19 infekcijas ierobežošanas pasākumiem - KOPSUMMA (1 vienības cenas reizinājums ar preču/pakalpojumu skaitu; summa ( K x Z)) | B6: 477.754 | C6: 519.512 | D6: 528.292 | E6: 508.392 | F6: 2033.95
A7: 3. Kopējā ietekme uz ieņēmumu apgrozījumu - KOPSUMMA ((C/D-A/N) x N) | B7: 8983.5622 | C7: 8234.9019 | D7: 7553.3295 | E7: 9210.168 | F7: 33981.962
A8: Grand Total | B8: 9461.3162 | C8: 8741.0996 | D8: 8081.6215 | E8: 9718.56 | F8: 36002.597

Sheet PIVOT
B1: Pārskats par sabiedriskā transporta pakalpojumos radītajiem izdevumiem un zaudējumiem sakarā ar noteiktajiem ierobežojumiem
B5: Rādītājs | C5: Vienības | D5: Vērtība | E5: Pārvadājumu veids | F5: Pilsēta | G5: Periods
B6: 1. Faktiskie izdevumi, kas radušies saistībā ar reisu atcelšanu vai papild reisu nodrošināšanu - KOPSUMMA ((N - P) x Izm) | D6: 0 | E6: Autobuss | F6: Valmiera | G6: 09.03.2021.- 31.03.2021.
B7: Iesaistīto transportlīdzekļu vienības | C7: skaits | D7: 13 | E7: Autobuss | F7: Valmiera | G7: 09.03.2021.- 31.03.2021.
B8: (S) Plānotais reisu skaits | C8: skaits | D8: 3390 | E8: Autobuss | F8: Valmiera | G8: 09.03.2021.- 31.03.2021.
B9: (R) Faktiskais reisu skaits (S + RP-RA) | C9: skaits | D9: 3390 | E9: Autobuss | F9: Valmiera | G9: 09.03.2021.- 31.03.2021.
B10: to starpā papildu reisi (RP) | C10: skaits | E10: Autobuss | F10: Valmiera | G10: 09.03.2021.- 31.03.2021.
B11: to starpā atceltie reisi (RA) | C11: skaits | E11: Autobuss | F11: Valmiera | G11: 09.03.2021.- 31.03.2021.
B12: (P) Plānotais nobraukums | C12: km | D12: 36749 | E12: Autobuss | F12: Valmiera | G12: 09.03.2021.- 31.03.2021.
B13: (N) Faktiskais nobraukums (P + NP-NA) | C13: km | D13: 36749 | E13: Autobuss | F13: Valmiera | G13: 09.03.2021.- 31.03.2021.
B14: to starpā papildu reisos veiktais nobraukums (NP) | C14: km | E14: Autobuss | F14: Valmiera | G14: 09.03.2021.- 31.03.2021.
B15: to starpā atcelto reisu nobraukums (NA) | C15: km | E15: Autobuss | F15: Valmiera | G15: 09.03.2021.- 31.03.2021.
B16: (Izm) 1 km pašizmaksa | C16: EUR/km | D16: 1.3302 | E16: Autobuss | F16: Valmiera | G16: 09.03.2021.- 31.03.2021.
B17: 2. Kopējie izdevumi par Covid-19 infekcijas ierobežošanas pasākumiem - KOPSUMMA (1 vienības cenas reizinājums ar preču/pakalpojumu skaitu; summa ( K x Z)) | D17: 477.754 | E17: Autobuss | F17: Valmiera | G17: 09.03.2021.- 31.03.2021.
B18: (Z) Pakalpojumi, pasākumi un materiāli Covid-19 pandēmijas ierobežošanai | C18: skaits (jānorāda atbilstoša mērvienība gab., litri, reižu skaits, darba stundas u.c.) | E18: Autobuss | F18: Valmiera | G18: 09.03.2021.- 31.03.2021.
B19: Dezinfekcijas līdzekļi (gab) | C19: skaits (jānorāda atbilstoša mērvienība gab., litri, reižu skaits, darba stundas u.c.) | D19: 13 | E19: Autobuss | F19: Valmiera | G19: 09.03.2021.- 31.03.2021.
B20: Sejas maskas (gab) | C20: skaits (jānorāda atbilstoša mērvienība gab., litri, reižu skaits, darba stundas u.c.) | D20: 40 | E20: Autobuss | F20: Valmiera | G20: 09.03.2021.- 31.03.2021.
B21: Sociālā distancēšanās sabiedriskā transportā | C21: skaits (jānorāda atbilstoša mērvienība gab., litri, reižu skaits, darba stundas u.c.) | E21: Autobuss | F21: Valmiera | G21: 09.03.2021.- 31.03.2021.
B22: to starpā uzlīmes (gab) | C22: skaits (jānorāda atbilstoša mērvienība gab., litri, reižu skaits, darba stundas u.c.) | D22: 26 | E22: Autobuss | F22: Valmiera | G22: 09.03.2021.- 31.03.2021.
B23: to starpā norobežojošā lenta (gab) | C23: skaits (jānorāda atbilstoša mērvienība gab., litri, reižu skaits, darba stundas u.c.) | D23: 13 | E23: Autobuss | F23: Valmiera | G23: 09.03.2021.- 31.03.2021.
B24: Transportlīdzekļu dezinfekcija (reizes) | C24: skaits (jānorāda atbilstoša mērvienība gab., litri, reižu skaits, darba stundas u.c.) | D24: 241 | E24: Autobuss | F24: Valmiera | G24: 09.03.2021.- 31.03.2021.
B25: Transportlīdzekļu papildu mazgāšana | C25: skaits (jānorāda atbilstoša mērvienība gab., litri, reižu skaits, darba stundas u.c.) | E25: Autobuss | F25: Valmiera | G25: 09.03.2021.- 31.03.2021.
B26: Citi izdevumi (norādīt kādi) | C26: skaits (jānorāda atbilstoša mērvienība gab., litri, reižu skaits, darba stundas u.c.) | E26: Autobuss | F26: Valmiera | G26: 09.03.2021.- 31.03.2021.
B27: (K) Faktiskās izmaksas Covid-19 pandēmijas ierobežošanai, t.sk. | C27: EUR/vien bez PVN | E27: Autobuss | F27: Valmiera | G27: 09.03.2021.- 31.03.2021.
B28: Dezinfekcijas līdzekļi | C28: EUR/vien bez PVN | D28: 4.12 | E28: Autobuss | F28: Valmiera | G28: 09.03.2021.- 31.03.2021.
B29: Sejas maskas | C29: EUR/vien bez PVN | D29: 1.25 | E29: Autobuss | F29: Valmiera | G29: 09.03.2021.- 31.03.2021.
B30: Sociālā distancēšanās sabiedriskā transportā | C30: EUR/vien bez PVN | E30: Autobuss | F30: Valmiera | G30: 09.03.2021.- 31.03.2021.
B31: to starpā uzlīmes | C31: EUR/vien bez PVN | D31: 0.38 | E31: Autobuss | F31: Valmiera | G31: 09.03.2021.- 31.03.2021.
B32: to starpā norobežojošā lenta | C32: EUR/vien bez PVN | D32: 1.44 | E32: Autobuss | F32: Valmiera | G32: 09.03.2021.- 31.03.2021.
B33: Transportlīdzekļu dezinfekcija, to starpā darba spēka izmaksas | C33: EUR/vien bez PVN | D33: 1.434 | E33: Autobuss | F33: Valmiera | G33: 09.03.2021.- 31.03.2021.
B34: Transportlīdzekļu papildu mazgāšana, to starpā darba spēka izmaksas | C34: EUR/vien bez PVN | E34: Autobuss | F34: Valmiera | G34: 09.03.2021.- 31.03.2021.
B35: Citi izdevumi (norādīt kādi) | C35: EUR/vien bez PVN | E35: Autobuss | F35: Valmiera | G35: 09.03.2021.- 31.03.2021.
B36: 3. Kopējā ietekme uz ieņēmumu apgrozījumu - KOPSUMMA ((C/D-A/N) x N) | D36: 8983.5622 | E36: Autobuss | F36: Valmiera | G36: 09.03.2021.- 31.03.2021.
B37: (A) No pasažieriem, t.sk., personām, kurām noteikti pašvaldības noteiktie braukšanas maksas atvieglojumi, saņemtie ieņēmumi par sniegto sabiedriskā transporta pakalpojumu - 09.03.2021.-31.03.2021. | C37: EUR bez PVN | D37: 12084.55 | E37: Autobuss | F37: Valmiera | G37: 09.03.2021.- 31.03.2021.
B38: (N) Faktiskais nobraukums - 09.03.2021.-31.03.2021. | C38: km | D38: 36749 | E38: Autobuss | F38: Valmiera | G38: 09.03.2021.- 31.03.2021.
B39: (C) No pasažieriem, t.sk., personām, kurām noteikti pašvaldības noteiktie braukšanas maksas atvieglojumi, saņemtie ieņēmumi par sniegto sabiedriskā transporta pakalpojumu - 09.03.2019.-31.03.2019. | C39: EUR bez PVN | D39: 20280.86 | E39: Autobuss | F39: Valmiera | G39: 09.03.2021.- 31.03.2021.
B40: (D) Faktiskais nobraukums - 09.03.2019.-31.03.2019. | C40: km | D40: 35375.8 | E40: Autobuss | F40: Valmiera | G40: 09.03.2021.- 31.03.2021.
B41: 1. Faktiskie izdevumi, kas radušies saistībā ar reisu atcelšanu vai papild reisu nodrošināšanu - KOPSUMMA ((N - P) x Izm) | D41: -13.31428 | E41: Autobuss | F41: Valmiera | G41: Aprīlis
B42: Iesaistīto transportlīdzekļu vienības | C42: skaits | D42: 14 | E42: Autobuss | F42: Valmiera | G42: Aprīlis
B43: (S) Plānotais reisu skaits | C43: skaits | D43: 4265 | E43: Autobuss | F43: Valmiera | G43: Aprīlis
...

Sheet atskaites_jedox
B2: servers_ATD/STIFSS | D2: =_xll.PALO.VIEW.DIMNAME($B$2,$B$3,0,0) -> #NAME? | E2: =_xll.PALO.VIEW.DIMNAME($B$2,$B$3,0,1) -> #NAME? | F2: =_xll.PALO.VIEW.DIMNAME($B$2,$B$3,0,2) -> #NAME? | G2: =_xll.PALO.VIEW.DIMNAME($B$2,$B$3,0,3) -> #NAME? | H2: =_xll.PALO.VIEW.DIMNAME($B$2,$B$3,0,4) -> #NAME? | I2: =_xll.PALO.VIEW.DIMNAME($B$2,$B$3,0,5) -> #NAME? | J2: =_xll.PALO.VIEW.DIMNAME($B$2,$B$3,0,6) -> #NAME?
B3: =_xll.PALO.CUBE($B$2,"PnL_") -> #NAME? | D3: =_xll.PALO.ENAME($B$2,$B$3,0,0,0) -> #NAME? | E3: =_xll.PALO.ENAME($B$2,$B$3,0,1,0) -> #NAME? | F3: =_xll.PALO.ENAME($B$2,$B$3,0,2,0) -> #NAME? | G3: =_xll.PALO.ENAME($B$2,$B$3,0,3,0) -> #NAME? | H3: =_xll.PALO.ENAME($B$2,$B$3,0,4,0) -> #NAME? | I3: =_xll.PALO.ENAME($B$2,$B$3,0,5,0) -> #NAME? | J3: =_xll.PALO.ENAME($B$2,$B$3,0,6,0) -> #NAME?
B4: [Edit View]
B5: [Swap]
C6: =_xll.PALO.ENAME($B$2,$B$3,2,0,0) -> #NAME? | D6: =_xll.PALO.ENAME($B$2,$B$3,2,0,1) -> #NAME? | E6: =_xll.PALO.ENAME($B$2,$B$3,2,0,2) -> #NAME? | F6: =_xll.PALO.ENAME($B$2,$B$3,2,0,3) -> #NAME? | G6: =_xll.PALO.ENAME($B$2,$B$3,2,0,4) -> #NAME? | H6: =_xll.PALO.ENAME($B$2,$B$3,2,0,5) -> #NAME? | I6: =_xll.PALO.ENAME($B$2,$B$3,2,0,6) -> #NAME? | J6: =_xll.PALO.ENAME($B$2,$B$3,2,0,7) -> #NAME? | K6: =_xll.PALO.ENAME($B$2,$B$3,2,0,8) -> #NAME? | L6: =_xll.PALO.ENAME($B$2,$B$3,2,0,9) -> #NAME? | M6: =_xll.PALO.ENAME($B$2,$B$3,2,0,10) -> #NAME? | N6: =_xll.PALO.ENAME($B$2,$B$3,2,0,11) -> #NAME? | O6: =_xll.PALO.ENAME($B$2,$B$3,2,0,12) -> #NAME? | P6: =_xll.PALO.ENAME($B$2,$B$3,2,0,13) -> #NAME? | Q6: =_xll.PALO.ENAME($B$2,$B$3,2,0,14) -> #NAME? | R6: =_xll.PALO.ENAME($B$2,$B$3,2,0,15) -> #NAME? | S6: =_xll.PALO.ENAME($B$2,$B$3,2,0,16) -> #NAME? | T6: =_xll.PALO.ENAME($B$2,$B$3,2,0,17) -> #NAME? | U6: =_xll.PALO.ENAME($B$2,$B$3,2,0,18) -> #NAME? | V6: =_xll.PALO.ENAME($B$2,$B$3,2,0,19) -> #NAME? | W6: =_xll.PALO.ENAME($B$2,$B$3,2,0,20) -> #NAME? | X6: =_xll.PALO.ENAME($B$2,$B$3,2,0,21) -> #NAME? | Y6: =_xll.PALO.ENAME($B$2,$B$3,2,0,22) -> #NAME? | Z6: =_xll.PALO.ENAME($B$2,$B$3,2,0,23) -> #NAME? | AA6: =_xll.PALO.ENAME($B$2,$B$3,2,0,24) -> #NAME? | AB6: =_xll.PALO.ENAME($B$2,$B$3,2,0,25) -> #NAME? | AC6: =_xll.PALO.ENAME($B$2,$B$3,2,0,26) -> #NAME? | AD6: =_xll.PALO.ENAME($B$2,$B$3,2,0,27) -> #NAME? | AE6: =_xll.PALO.ENAME($B$2,$B$3,2,0,28) -> #NAME? | AF6: =_xll.PALO.ENAME($B$2,$B$3,2,0,29) -> #NAME? | AG6: =_xll.PALO.ENAME($B$2,$B$3,2,0,30) -> #NAME? | AH6: =_xll.PALO.ENAME($B$2,$B$3,2,0,31) -> #NAME? | AI6: =_xll.PALO.ENAME($B$2,$B$3,2,0,32) -> #NAME? | AJ6: =_xll.PALO.ENAME($B$2,$B$3,2,0,33) -> #NAME? | AK6: =_xll.PALO.ENAME($B$2,$B$3,2,0,34) -> #NAME? | AL6: =_xll.PALO.ENAME($B$2,$B$3,2,0,35) -> #NAME?
C7: =_xll.PALO.ENAME($B$2,$B$3,2,1,0) -> #NAME? | D7: =_xll.PALO.ENAME($B$2,$B$3,2,1,1) -> #NAME? | E7: =_xll.PALO.ENAME($B$2,$B$3,2,1,2) -> #NAME? | F7: =_xll.PALO.ENAME($B$2,$B$3,2,1,3) -> #NAME? | G7: =_xll.PALO.ENAME($B$2,$B$3,2,1,4) -> #NAME? | H7: =_xll.PALO.ENAME($B$2,$B$3,2,1,5) -> #NAME? | I7: =_xll.PALO.ENAME($B$2,$B$3,2,1,6) -> #NAME? | J7: =_xll.PALO.ENAME($B$2,$B$3,2,1,7) -> #NAME? | K7: =_xll.PALO.ENAME($B$2,$B$3,2,1,8) -> #NAME? | L7: =_xll.PALO.ENAME($B$2,$B$3,2,1,9) -> #NAME? | M7: =_xll.PALO.ENAME($B$2,$B$3,2,1,10) -> #NAME? | N7: =_xll.PALO.ENAME($B$2,$B$3,2,1,11) -> #NAME? | O7: =_xll.PALO.ENAME($B$2,$B$3,2,1,12) -> #NAME? | P7: =_xll.PALO.ENAME($B$2,$B$3,2,1,13) -> #NAME? | Q7: =_xll.PALO.ENAME($B$2,$B$3,2,1,14) -> #NAME? | R7: =_xll.PALO.ENAME($B$2,$B$3,2,1,15) -> #NAME? | S7: =_xll.PALO.ENAME($B$2,$B$3,2,1,16) -> #NAME? | T7: =_xll.PALO.ENAME($B$2,$B$3,2,1,17) -> #NAME? | U7: =_xll.PALO.ENAME($B$2,$B$3,2,1,18) -> #NAME? | V7: =_xll.PALO.ENAME($B$2,$B$3,2,1,19) -> #NAME? | W7: =_xll.PALO.ENAME($B$2,$B$3,2,1,20) -> #NAME? | X7: =_xll.PALO.ENAME($B$2,$B$3,2,1,21) -> #NAME? | Y7: =_xll.PALO.ENAME($B$2,$B$3,2,1,22) -> #NAME? | Z7: =_xll.PALO.ENAME($B$2,$B$3,2,1,23) -> #NAME? | AA7: =_xll.PALO.ENAME($B$2,$B$3,2,1,24) -> #NAME? | AB7: =_xll.PALO.ENAME($B$2,$B$3,2,1,25) -> #NAME? | AC7: =_xll.PALO.ENAME($B$2,$B$3,2,1,26) -> #NAME? | AD7: =_xll.PALO.ENAME($B$2,$B$3,2,1,27) -> #NAME? | AE7: =_xll.PALO.ENAME($B$2,$B$3,2,1,28) -> #NAME? | AF7: =_xll.PALO.ENAME($B$2,$B$3,2,1,29) -> #NAME? | AG7: =_xll.PALO.ENAME($B$2,$B$3,2,1,30) -> #NAME? | AH7: =_xll.PALO.ENAME($B$2,$B$3,2,1,31) -> #NAME? | AI7: =_xll.PALO.ENAME($B$2,$B$3,2,1,32) -> #NAME? | AJ7: =_xll.PALO.ENAME($B$2,$B$3,2,1,33) -> #NAME? | AK7: =_xll.PALO.ENAME($B$2,$B$3,2,1,34) -> #NAME? | AL7: =_xll.PALO.ENAME($B$2,$B$3,2,1,35) -> #NAME?
B8: =_xll.PALO.ENAME($B$2,$B$3,1,0,0) -> #NAME? | C8: =_xll.PALO.DATA($B$2,$B$3,_xll.PALO.EL("Time",C$6),_xll.PALO.EL("Partner",$B8),_xll.PALO.EL($D$2,$D$3),_xll.PALO.EL($E$2,$E$3),_xll.PALO.EL($F$2,$F$3),_xll.PALO.EL($G$2,$G$3),_xll.PALO.EL($H$2,$H$3),_xll.PALO.EL($I$2,$I$3),_xll.PALO.EL($J$2,$J$3),_xll.PALO.EL("Position",C$7)) -> #NAME? | D8: =_xll.PALO.DATA($B$2,$B$3,_xll.PALO.EL("Time",D$6),_xll.PALO.EL("Partner",$B8),_xll.PALO.EL($D$2,$D$3),_xll.PALO.EL($E$2,$E$3),_xll.PALO.EL($F$2,$F$3),_xll.PALO.EL($G$2,$G$3),_xll.PALO.EL($H$2,$H$3),_xll.PALO.EL($I$2,$I$3),_xll.PALO.EL($J$2,$J$3),_xll.PALO.EL("Position",D$7)) -> #NAME? | E8: =_xll.PALO.DATA($B$2,$B$3,_xll.PALO.EL("Time",E$6),_xll.PALO.EL("Partner",$B8),_xll.PALO.EL($D$2,$D$3),_xll.PALO.EL($E$2,$E$3),_xll.PALO.EL($F$2,$F$3),_xll.PALO.EL($G$2,$G$3),_xll.PALO.EL($H$2,$H$3),_xll.PALO.EL($I$2,$I$3),_xll.PALO.EL($J$2,$J$3),_xll.PALO.EL("Position",E$7)) -> #NAME? | F8: =_xll.PALO.DATA($B$2,$B$3,_xll.PALO.EL("Time",F$6),_xll.PALO.EL("Partner",$B8),_xll.PALO.EL($D$2,$D$3),_xll.PALO.EL($E$2,$E$3),_xll.PALO.EL($F$2,$F$3),_xll.PALO.EL($G$2,$G$3),_xll.PALO.EL($H$2,$H$3),_xll.PALO.EL($I$2,$I$3),_xll.PALO.EL($J$2,$J$3),_xll.PALO.EL("Position",F$7)) -> #NAME? | G8: =_xll.PALO.DATA($B$2,$B$3,_xll.PALO.EL("Time",G$6),_xll.PALO.EL("Partner",$B8),_xll.PALO.EL($D$2,$D$3),_xll.PALO.EL($E$2,$E$3),_xll.PALO.EL($F$2,$F$3),_xll.PALO.EL($G$2,$G$3),_xll.PALO.EL($H$2,$H$3),_xll.PALO.EL($I$2,$I$3),_xll.PALO.EL($J$2,$J$3),_xll.PALO.EL("Position",G$7)) -> #NAME? | H8: =_xll.PALO.DATA($B$2,$B$3,_xll.PALO.EL("Time",H$6),_xll.PALO.EL("Partner",$B8),_xll.PALO.EL($D$2,$D$3),_xll.PALO.EL($E$2,$E$3),_xll.PALO.EL($F$2,$F$3),_xll.PALO.EL($G$2,$G$3),_xll.PALO.EL($H$2,$H$3),_xll.PALO.EL($I$2,$I$3),_xll.PALO.EL($J$2,$J$3),_xll.PALO.EL("Position",H$7)) -> #NAME? | I8: =_xll.PALO.DATA($B$2,$B$3,_xll.PALO.EL("Time",I$6),_xll.PALO.EL("Partner",$B8),_xll.PALO.EL($D$2,$D$3),_xll.PALO.EL($E$2,$E$3),_xll.PALO.EL($F$2,$F$3),_xll.PALO.EL($G$2,$G$3),_xll.PALO.EL($H$2,$H$3),_xll.PALO.EL($I$2,$I$3),_xll.PALO.EL($J$2,$J$3),_xll.PALO.EL("Position",I$7)) -> #NAME? | J8: =_xll.PALO.DATA($B$2,$B$3,_xll.PALO.EL("Time",J$6),_xll.PALO.EL("Partner",$B8),_xll.PALO.EL($D$2,$D$3),_xll.PALO.EL($E$2,$E$3),_xll.PALO.EL($F$2,$F$3),_xll.PALO.EL($G$2,$G$3),_xll.PALO.EL($H$2,$H$3),_xll.PALO.EL($I$2,$I$3),_xll.PALO.EL($J$2,$J$3),_xll.PALO.EL("Position",J$7)) -> #NAME? | ... AL8: =_xll.PALO.DATA($B$2,$B$3,_xll.PALO.EL("Time",AL$6),_xll.PALO.EL("Partner",$B8),_xll.PALO.EL($D$2,$D$3),_xll.PALO.EL($E$2,$E$3),_xll.PALO.EL($F$2,$F$3),_xll.PALO.EL($G$2,$G$3),_xll.PALO.EL($H$2,$H$3),_xll.PALO.EL($I$2,$I$3),_xll.PALO.EL($J$2,$J$3),_xll.PALO.EL("Position",AL$7)) -> #NAME?
