Workbook

Sheet marts
A1: PRECIZĒTAIS pārskata par sabiedriskā transporta pakalpojumos radītajiem izdevumiem un zaudējumiem sakarā ar noteiktajiem ierobežojumiem
A2: Periods | C2: Vienības | D2: Autobusi | E2: Minibusi (ekspresbusi) | F2: Tramvaji | G2: Trolejbusi
A3: 1.SADAĻA | B3: KOPSUMMA ((N - P) x Izm) | D3: =(D10-D9)*D13 -> 0 | E3: =(E10-E9)*E13 -> 0 | F3: =(F10-F9)*F13 -> 0 | G3: =(G10-G9)*G13 -> 0
A4: 09.03.2021.- 31.03.2021. | B4: Iesaistīto transportlīdzekļu vienības | C4: skaits | D4: 13
B5: (S) Plānotais reisu skaits | D5: 3390
B6: (R) Faktiskais reisu skaits (S + RP-RA) | D6: =D5+D7-D8 -> 3390 | E6: =E5+E7-E8 -> 0 | F6: =F5+F7-F8 -> 0 | G6: =G5+G7-G8 -> 0
B7: to starpā papildu reisi (RP)
B8: to starpā atceltie reisi (RA)
B9: (P) Plānotais nobraukums | C9: km | D9: 36749
B10: (N) Faktiskais nobraukums (P + NP-NA) | D10: =D9+D12-D11 -> 36749 | E10: =E9+E11-E12 -> 0 | F10: =F9+F11-F12 -> 0 | G10: =G9+G11-G12 -> 0 | H10: =atskaites_jedox!AB8 -> #NAME?
B11: to starpā papildu reisos veiktais nobraukums (NP)
B12: to starpā atcelto reisu nobraukums (NA)
A13: 01.03.2021.-31.03.2021. | B13: (Izm) 1 km pašizmaksa | C13: EUR/km | D13: 1.3302 | H13: =atskaites_jedox!AC8 -> #NAME?
A14: 2.SADAĻA | B14: KOPSUMMA (1 vienības cenas reizinājums ar preču/pakalpojumu skaitu; summa ( K x Z)) | D14: =SUM(D16*D25,D17*D26,D18*D27,D21*D30,D22*D31,D23*D32, D19*D28, D20*D29) -> 477.754 | E14: =SUM(E16*E25,E17*E26,E18*E27,E21*E30,E22*E31,E23*E32) -> 0 | F14: =SUM(F16*F25,F17*F26,F18*F27,F21*F30,F22*F31,F23*F32) -> 0 | G14: =SUM(G16*G25,G17*G26,G18*G27,G21*G30,G22*G31,G23*G32) -> 0
A15: 09.03.2021.- 31.03.2021. | B15: (Z) Pakalpojumi, pasākumi un materiāli Covid-19 pandēmijas ierobežošanai | C15: skaits (jānorāda atbilstoša mērvienība gab., litri, reižu skaits, darba stundas u.c.)
B16: Dezinfekcijas līdzekļi (gab) | D16: 13
B17: Sejas maskas (gab) | D17: 40
B18: Sociālā distancēšanās sabiedriskā transportā
B19: to starpā uzlīmes (gab) | D19: 26
B20: to starpā norobežojošā lenta (gab) | D20: 13
B21: Transportlīdzekļu dezinfekcija (reizes) | D21: 241
B22: Transportlīdzekļu papildu mazgāšana
B23: Citi izdevumi (norādīt kādi)
B24: (K) Faktiskās izmaksas Covid-19 pandēmijas ierobežošanai, t.sk. | C24: EUR/vien bez PVN
B25: Dezinfekcijas līdzekļi | D25: 4.12
B26: Sejas maskas | D26: 1.25
B27: Sociālā distancēšanās sabiedriskā transportā
B28: to starpā uzlīmes | D28: 0.38
B29: to starpā norobežojošā lenta | D29: 1.44
B30: Transportlīdzekļu dezinfekcija, to starpā darba spēka izmaksas | D30: 1.434
B31: Transportlīdzekļu papildu mazgāšana, to starpā darba spēka izmaksas
B32: Citi izdevumi (norādīt kādi)
A33: 3.SADAĻA | B33: KOPSUMMA ((C/D-A/N) x N) | D33: =((D36/D37)-(D34/D35))*D35 -> 8983.5622 | E33: =((E36/E37)-(E35/#REF!))*#REF! -> #DIV/0! | F33: =((F36/F37)-(F34/F35))*F35 -> #DIV/0! | G33: =((G36/G37)-(G34/G35))*G35 -> #DIV/0!
A34: 09.03.2021.-31.03.2021. | B34: (A) No pasažieriem, t.sk., personām, kurām noteikti pašvaldības noteiktie braukšanas maksas atvieglojumi, saņemtie ieņēmumi par sniegto sabiedriskā transporta pakalpojumu | C34: EUR bez PVN | D34: 12084.55 | H34: =atskaites_jedox!AA8 -> #NAME?
B35: (N) Faktiskais nobraukums | C35: km | D35: 36749 | H35: =atskaites_jedox!AB8 -> #NAME? | I35: =D35=D10 -> TRUE
A36: 09.03.2019.-31.03.2019. | B36: (C) No pasažieriem, t.sk., personām, kurām noteikti pašvaldības noteiktie braukšanas maksas atvieglojumi, saņemtie ieņēmumi par sniegto sabiedriskā transporta pakalpojumu | C36: EUR bez PVN | D36: 20280.86 | H36: =atskaites_jedox!C8 -> #NAME?
B37: (D) Faktiskais nobraukums | C37: km | D37: 35375.8 | H37: =atskaites_jedox!D8 -> #NAME?
B40: Pašvaldības atbildīgās personas vārds, uzvārds, kontaktinformācija un paraksts (ja dokuments nav parakstīts ar elektroniski)
A43: Informāciju aizpilda katra pašvaldība par pārvadājumu veidiem, kādi ir noteikti attiecīgā pilsētā
A44: Tabulā iekļauj norādītajā laika periodā radušās pamatotās izmaksas, kas attiecināmas uz sabiedriskā transporta pakalpojuma izpildē noteiktajiem drošības pasākumiem Covid-19 infekcijas izplatības ierobežošanai.
A45: Pašvaldībai ir pienākums pārliecināties par izmaksu pamatotību, to apjomu vai attiecināto apmēru.
A46: 1.SADAĻĀ tiek aprēķināti faktiskie izdevumi, kas radušies saistībā ar atcelto reisu vai/un papildu reisu nodrošināšanu sakarā ar pakalpojuma apjoma ierobežošanu un 50% pasažieru piepildījuma noteikšanu
A47: 2.SADAĻĀ nosakāmi kopējie izdevumi par Covid-19 infekcijas ierobežošanas pasākumiem, kas izpildāmi atbilstoši MK 09.06.2020. noteikumiem Nr.360; MK 06.11.2020. rīkojumam Nr.655
A48: 3.SADAĻĀ nosakāma kopējā ietekme uz ieņēmumu apgrozījumu, ko radījusi Covid-19 infekcijas apkarošanā radītā iedzīvotāju mobilitātes ierobežošana, pakalpojuma apjoma ierobežošana, kā arī citi ārkārtējās situācijas laikā un pēc tās noteiktie ierobežojumi atsevišķām nozarēm
A50: Paskaidrojumi
A51: 1 km pašizmaksa - atbilstoši MK 28.07.2015. noteikumu Nr.435 3.pielikumā norādītās izmaksas, izņemot šajā tabulā 2.sadaļas izmaksas par Covid-19 pandēmijas ierobežošanas pasākumiem, dalītas ar faktisko nobraukumu
A52: Dezinfekcijas līdzekļi - roku higiēnai šķidrās ziepes un roku susināšanas līdzekļi vai spirtu saturoši roku dezinfekcijas līdzekļi (kas satur vismaz 70 % etanola) - MK noteikumu Nr.360 7.1.punkts
A53: Sejas maskas - sabiedriskajā transportlīdzeklī, ar kuru veic pasažieru komercpārvadājumus, transportlīdzekļa vadītāji, kuri nav atdalīti ar fizisku barjeru no pasažieriem, kā arī pasažieri, lieto mutes un deguna aizsegus - MK noteikumu Nr.360 6.3.1punkts
A54: Sociālā distancēšanās sabiedriskā transportā - sabiedriskā transporta pārvadātājam organizēt iekāpšanu un izkāpšanu tā, lai pasažieru skaits transportīdzeklī nepārsniedz 50 % no tā ietilpības. Ja transportlīdzeklī tā specifikas dēļ nav iespējams kontrolēt pasažieru iekāpšanu un izkāpšanu, transportlīdzeklī tiek marķētas sēdvietas, nodrošinot distancēšanās prasību ievērošanu - MK rīkojuma Nr.655 5.42.punkts. Ar minētajām izmaksām saprot sēdvietu marķēšanu, dažādu tam nepieciešamo materiālu izmaksas, piktogrammu vai informācijas izvietošanu.
A55: Transportlīdzekļu dezinfekcija - regulāra saimnieciskā vai publiskā pakalpojuma nodrošināšanai izmantotā transportlīdzekļa salona un kabīnes virsmu dezinfekcija - MK noteikumu Nr.360 7.5.punkts
... A58: No pasažieriem, t.sk., personām, kurām noteikti pašvaldības noteiktie braukšanas maksas atvieglojumi, saņemtie ieņēmumi - norāda ieņēmumi no pārdotajām biļetēm un abonementa biļetēm, kurus pārvadātājs saņem no pasažiera. Norāda arī ieņēmumu daļu, ko maksā pasažieris, ja tam pašvaldība ir noteikusi braukšanas maksas atvieglojumus.

Sheet aprīlis
A1: PRECIZĒTAIS pārskats par sabiedriskā transporta pakalpojumos radītajiem izdevumiem un zaudējumiem sakarā ar noteiktajiem ierobežojumiem
A2: Periods | C2: Vienības | D2: Autobusi | E2: Minibusi (ekspresbusi) | F2: Tramvaji | G2: Trolejbusi
A3: 1.SADAĻA | B3: KOPSUMMA ((N - P) x Izm) | D3: =(D10-D9)*D13 -> -13.31428 | E3: =(E10-E9)*E13 -> 0 | F3: =(F10-F9)*F13 -> 0 | G3: =(G10-G9)*G13 -> 0
A4: 01.04.2021.-30.04.2021. | B4: Iesaistīto transportlīdzekļu vienības | C4: skaits | D4: 14
B5: (S) Plānotais reisu skaits | D5: 4265
B6: (R) Faktiskais reisu skaits (S + RP-RA) | D6: =D5+D7-D8 -> 4264 | E6: =E5+E7-E8 -> 0 | F6: =F5+F7-F8 -> 0 | G6: =G5+G7-G8 -> 0
B7: to starpā papildu reisi (RP)
B8: to starpā atceltie reisi (RA) | D8: 1
B9: (P) Plānotais nobraukums | C9: km | D9: 46285.2
B10: (N) Faktiskais nobraukums (P + NP-NA) | D10: =D9+D11-D12 -> 46275.4 | E10: =E9+E11-E12 -> 0 | F10: =F9+F11-F12 -> 0 | G10: =G9+G11-G12 -> 0 | H10: =atskaites_jedox!AE8 -> #NAME?
B11: to starpā papildu reisos veiktais nobraukums (NP)
B12: to starpā atcelto reisu nobraukums (NA) | D12: 9.8
A13: 01.04.2021.-30.04.2021. | B13: (Izm) 1 km pašizmaksa | C13: EUR/km | D13: 1.3586 | H13: =atskaites_jedox!AF8 -> #NAME?
A14: 2.SADAĻA | B14: KOPSUMMA (1 vienības cenas reizinājums ar preču/pakalpojumu skaitu; summa ( K x Z)) | D14: =SUM(D16*D25,D17*D26,D18*D27,D21*D30,D22*D31,D23*D32, D19*D28, D20*D29) -> 519.512 | E14: =SUM(E16*E25,E17*E26,E18*E27,E21*E30,E22*E31,E23*E32) -> 0 | F14: =SUM(F16*F25,F17*F26,F18*F27,F21*F30,F22*F31,F23*F32) -> 0 | G14: =SUM(G16*G25,G17*G26,G18*G27,G21*G30,G22*G31,G23*G32) -> 0
A15: 01.04.2021.-30.04.2021. | B15: (Z) Pakalpojumi, pasākumi un materiāli Covid-19 pandēmijas ierobežošanai | C15: skaits (jānorāda atbilstoša mērvienība gab., litri, reižu skaits, darba stundas u.c.)
B16: Dezinfekcijas līdzekļi (gab) | D16: 14
B17: Sejas maskas (gab)
B18: Sociālā distancēšanās sabiedriskā transportā
B19: to starpā uzlīmes (gab)
B20: to starpā norobežojošā lenta (gab) | D20: 14
B21: Transportlīdzekļu dezinfekcija (reizes) | D21: 308
B22: Transportlīdzekļu papildu mazgāšana
B23: Citi izdevumi (norādīt kādi)
B24: (K) Faktiskās izmaksas Covid-19 pandēmijas ierobežošanai, t.sk. | C24: EUR/vien bez PVN
B25: Dezinfekcijas līdzekļi | D25: 4.12
B26: Sejas maskas | D26: 1.25
B27: Sociālā distancēšanās sabiedriskā transportā
B28: to starpā uzlīmes | D28: 0.38
B29: to starpā norobežojošā lenta | D29: 1.44
B30: Transportlīdzekļu dezinfekcija, to starpā darba spēka izmaksas | D30: 1.434
B31: Transportlīdzekļu papildu mazgāšana, to starpā darba spēka izmaksas
B32: Citi izdevumi (norādīt kādi)
A33: 3.SADAĻA | B33: KOPSUMMA ((C/D-A/N) x N) | D33: =((D36/D37)-(D34/D35))*D35 -> 8234.9019 | E33: =((E36/E37)-(E35/#REF!))*#REF! -> #DIV/0! | F33: =((F36/F37)-(F34/F35))*F35 -> #DIV/0! | G33: =((G36/G37)-(G34/G35))*G35 -> #DIV/0!
A34: 01.04.2021.-30.04.2021. | B34: (A) No pasažieriem, t.sk., personām, kurām noteikti pašvaldības noteiktie braukšanas maksas atvieglojumi, saņemtie ieņēmumi par sniegto sabiedriskā transporta pakalpojumu | C34: EUR bez PVN | D34: 12405.6 | H34: =atskaites_jedox!AD8 -> #NAME?
B35: (N) Faktiskais nobraukums | C35: km | D35: 46275.4 | H35: =atskaites_jedox!AE8 -> #NAME? | I35: =D35=D10 -> TRUE
A36: 01.04.2019.-30.04.2019. | B36: (C) No pasažieriem, t.sk., personām, kurām noteikti pašvaldības noteiktie braukšanas maksas atvieglojumi, saņemtie ieņēmumi par sniegto sabiedriskā transporta pakalpojumu | C36: EUR bez PVN | D36: 20720.61 | H36: =atskaites_jedox!F8 -> #NAME?
B37: (D) Faktiskais nobraukums | C37: km | D37: 46455 | H37: =atskaites_jedox!G8 -> #NAME?
A38: .
B40: Pašvaldības atbildīgās personas vārds, uzvārds, kontaktinformācija un paraksts (ja dokuments nav parakstīts ar elektroniski)
A43: Informāciju aizpilda katra pašvaldība par pārvadājumu veidiem, kādi ir noteikti attiecīgā pilsētā
A44: Tabulā iekļauj norādītajā laika periodā radušās pamatotās izmaksas, kas attiecināmas uz sabiedriskā transporta pakalpojuma izpildē noteiktajiem drošības pasākumiem Covid-19 infekcijas izplatības ierobežošanai.
A45: Pašvaldībai ir pienākums pārliecināties par izmaksu pamatotību, to apjomu vai attiecināto apmēru.
A46: 1.SADAĻĀ tiek aprēķināti faktiskie izdevumi, kas radušies saistībā ar atcelto reisu vai/un papildu reisu nodrošināšanu sakarā ar pakalpojuma apjoma ierobežošanu un 50% pasažieru piepildījuma noteikšanu
A47: 2.SADAĻĀ nosakāmi kopējie izdevumi par Covid-19 infekcijas ierobežošanas pasākumiem, kas izpildāmi atbilstoši MK 09.06.2020. noteikumiem Nr.360; MK 06.11.2020. rīkojumam Nr.655
A48: 3.SADAĻĀ nosakāma kopējā ietekme uz ieņēmumu apgrozījumu, ko radījusi Covid-19 infekcijas apkarošanā radītā iedzīvotāju mobilitātes ierobežošana, pakalpojuma apjoma ierobežošana, kā arī citi ārkārtējās situācijas laikā un pēc tās noteiktie ierobežojumi atsevišķām nozarēm
A50: Paskaidrojumi
A51: 1 km pašizmaksa - atbilstoši MK 28.07.2015. noteikumu Nr.435 3.pielikumā norādītās izmaksas, izņemot šajā tabulā 2.sadaļas izmaksas par Covid-19 pandēmijas ierobežošanas pasākumiem, dalītas ar faktisko nobraukumu
A52: Dezinfekcijas līdzekļi - roku higiēnai šķidrās ziepes un roku susināšanas līdzekļi vai spirtu saturoši roku dezinfekcijas līdzekļi (kas satur vismaz 70 % etanola) - MK noteikumu Nr.360 7.1.punkts
A53: Sejas maskas - sabiedriskajā transportlīdzeklī, ar kuru veic pasažieru komercpārvadājumus, transportlīdzekļa vadītāji, kuri nav atdalīti ar fizisku barjeru no pasažieriem, kā arī pasažieri, lieto mutes un deguna aizsegus - MK noteikumu Nr.360 6.3.1punkts
A54: Sociālā distancēšanās sabiedriskā transportā - sabiedriskā transporta pārvadātājam organizēt iekāpšanu un izkāpšanu tā, lai pasažieru skaits transportīdzeklī nepārsniedz 50 % no tā ietilpības. Ja transportlīdzeklī tā specifikas dēļ nav iespējams kontrolēt pasažieru iekāpšanu un izkāpšanu, transportlīdzeklī tiek marķētas sēdvietas, nodrošinot distancēšanās prasību ievērošanu - MK rīkojuma Nr.655 5.42.punkts. Ar minētajām izmaksām saprot sēdvietu marķēšanu, dažādu tam nepieciešamo materiālu izmaksas, piktogrammu vai informācijas izvietošanu.
A55: Transportlīdzekļu dezinfekcija - regulāra saimnieciskā vai publiskā pakalpojuma nodrošināšanai izmantotā transportlīdzekļa salona un kabīnes virsmu dezinfekcija - MK noteikumu Nr.360 7.5.punkts
... A58: No pasažieriem, t.sk., personām, kurām noteikti pašvaldības noteiktie braukšanas maksas atvieglojumi, saņemtie ieņēmumi - norāda ieņēmumi no pārdotajām biļetēm un abonementa biļetēm, kurus pārvadātājs saņem no pasažiera. Norāda arī ieņēmumu daļu, ko maksā pasažieris, ja tam pašvaldība ir noteikusi braukšanas maksas atvieglojumus.

Sheet maijs
A1: PRECIZĒTAIS pārskats par sabiedriskā transporta pakalpojumos radītajiem izdevumiem un zaudējumiem sakarā ar noteiktajiem ierobežojumiem
A2: Periods | C2: Vienības | D2: Autobusi | E2: Minibusi (ekspresbusi) | F2: Tramvaji | G2: Trolejbusi
A3: 1.SADAĻA | B3: KOPSUMMA ((N - P) x Izm) | D3: =(D10-D9)*D13 -> 0 | E3: =(E10-E9)*E13 -> 0 | F3: =(F10-F9)*F13 -> 0 | G3: =(G10-G9)*G13 -> 0
A4: 01.05.2021.-31.05.2021. | B4: Iesaistīto transportlīdzekļu vienības | C4: skaits | D4: 13
B5: (S) Plānotais reisu skaits | D5: 4478
B6: (R) Faktiskais reisu skaits (S + RP-RA) | D6: =D5+D7-D8 -> 4478 | E6: =E5+E7-E8 -> 0 | F6: =F5+F7-F8 -> 0 | G6: =G5+G7-G8 -> 0
B7: to starpā papildu reisi (RP)
B8: to starpā atceltie reisi (RA)
B9: (P) Plānotais nobraukums | C9: km | D9: 47538
B10: (N) Faktiskais nobraukums (P + NP-NA) | D10: =D9+D11-D12 -> 47538 | E10: =E9+E11-E12 -> 0 | F10: =F9+F11-F12 -> 0 | G10: =G9+G11-G12 -> 0 | H10: =atskaites_jedox!AH8 -> #NAME?
B11: to starpā papildu reisos veiktais nobraukums (NP)
B12: to starpā atcelto reisu nobraukums (NA)
A13: 01.05.2021.-31.05.2021. | B13: (Izm) 1 km pašizmaksa | C13: EUR/km | D13: 1.393 | H13: =atskaites_jedox!AI8 -> #NAME?
A14: 2.SADAĻA | B14: KOPSUMMA (1 vienības cenas reizinājums ar preču/pakalpojumu skaitu; summa ( K x Z)) | D14: =SUM(D16*D25,D17*D26,D18*D27,D21*D30,D22*D31,D23*D32, D19*D28, D20*D29) -> 528.292 | E14: =SUM(E16*E25,E17*E26,E18*E27,E21*E30,E22*E31,E23*E32) -> 0 | F14: =SUM(F16*F25,F17*F26,F18*F27,F21*F30,F22*F31,F23*F32) -> 0 | G14: =SUM(G16*G25,G17*G26,G18*G27,G21*G30,G22*G31,G23*G32) -> 0
A15: 01.05.2021.-31.05.2021 | B15: (Z) Pakalpojumi, pasākumi un materiāli Covid-19 pandēmijas ierobežošanai | C15: skaits (jānorāda atbilstoša mērvienība gab., litri, reižu skaits, darba stundas u.c.)
B16: Dezinfekcijas līdzekļi (gab) | D16: 13
B17: Sejas maskas (gab)
B18: Sociālā distancēšanās sabiedriskā transportā
B19: to starpā uzlīmes (gab)
B20: to starpā norobežojošā lenta (gab) | D20: 13
B21: Transportlīdzekļu dezinfekcija (reizes) | D21: 318
B22: Transportlīdzekļu papildu mazgāšana
B23: Citi izdevumi (norādīt kādi)
B24: (K) Faktiskās izmaksas Covid-19 pandēmijas ierobežošanai, t.sk. | C24: EUR/vien bez PVN
B25: Dezinfekcijas līdzekļi | D25: 4.12
B26: Sejas maskas | D26: 1.25
B27: Sociālā distancēšanās sabiedriskā transportā
B28: to starpā uzlīmes
B29: to starpā norobežojošā lenta | D29: 1.44
B30: Transportlīdzekļu dezinfekcija, to starpā darba spēka izmaksas | D30: 1.434
B31: Transportlīdzekļu papildu mazgāšana, to starpā darba spēka izmaksas
B32: Citi izdevumi (norādīt kādi)
A33: 3.SADAĻA | B33: KOPSUMMA ((C/D-A/N) x N) | D33: =((D36/D37)-(D34/D35))*D35 -> 7553.3295 | E33: =((E36/E37)-(E35/#REF!))*#REF! -> #DIV/0! | F33: =((F36/F37)-(F34/F35))*F35 -> #DIV/0! | G33: =((G36/G37)-(G34/G35))*G35 -> #DIV/0!
A34: 01.05.2021.-31.05.2021. | B34: (A) No pasažieriem, t.sk., personām, kurām noteikti pašvaldības noteiktie braukšanas maksas atvieglojumi, saņemtie ieņēmumi par sniegto sabiedriskā transporta pakalpojumu | C34: EUR bez PVN | D34: 12195.51 | H34: =atskaites_jedox!AG8 -> #NAME?
B35: (N) Faktiskais nobraukums | C35: km | D35: 47538 | H35: =atskaites_jedox!AH8 -> #NAME?
A36: 01.05.2019.-31.05.2019. | B36: (C) No pasažieriem, t.sk., personām, kurām noteikti pašvaldības noteiktie braukšanas maksas atvieglojumi, saņemtie ieņēmumi par sniegto sabiedriskā transporta pakalpojumu | C36: EUR bez PVN | D36: 20025.85 | H36: =atskaites_jedox!I8 -> #NAME?
B37: (D) Faktiskais nobraukums | C37: km | D37: 48204.8 | H37: =atskaites_jedox!J8 -> #NAME?
A38: .
B40: Pašvaldības atbildīgās personas vārds, uzvārds, kontaktinformācija un paraksts (ja dokuments nav parakstīts ar elektroniski)
A43: Informāciju aizpilda katra pašvaldība par pārvadājumu veidiem, kādi ir noteikti attiecīgā pilsētā
A44: Tabulā iekļauj norādītajā laika periodā radušās pamatotās izmaksas, kas attiecināmas uz sabiedriskā transporta pakalpojuma izpildē noteiktajiem drošības pasākumiem Covid-19 infekcijas izplatības ierobežošanai.
A45: Pašvaldībai ir pienākums pārliecināties par izmaksu pamatotību, to apjomu vai attiecināto apmēru.
A46: 1.SADAĻĀ tiek aprēķināti faktiskie izdevumi, kas radušies saistībā ar atcelto reisu vai/un papildu reisu nodrošināšanu sakarā ar pakalpojuma apjoma ierobežošanu un 50% pasažieru piepildījuma noteikšanu
A47: 2.SADAĻĀ nosakāmi kopējie izdevumi par Covid-19 infekcijas ierobežošanas pasākumiem, kas izpildāmi atbilstoši MK 09.06.2020. noteikumiem Nr.360; MK 06.11.2020. rīkojumam Nr.655
A48: 3.SADAĻĀ nosakāma kopējā ietekme uz ieņēmumu apgrozījumu, ko radījusi Covid-19 infekcijas apkarošanā radītā iedzīvotāju mobilitātes ierobežošana, pakalpojuma apjoma ierobežošana, kā arī citi ārkārtējās situācijas laikā un pēc tās noteiktie ierobežojumi atsevišķām nozarēm
A50: Paskaidrojumi
A51: 1 km pašizmaksa - atbilstoši MK 28.07.2015. noteikumu Nr.435 3.pielikumā norādītās izmaksas, izņemot šajā tabulā 2.sadaļas izmaksas par Covid-19 pandēmijas ierobežošanas pasākumiem, dalītas ar faktisko nobraukumu
A52: Dezinfekcijas līdzekļi - roku higiēnai šķidrās ziepes un roku susināšanas līdzekļi vai spirtu saturoši roku dezinfekcijas līdzekļi (kas satur vismaz 70 % etanola) - MK noteikumu Nr.360 7.1.punkts
A53: Sejas maskas - sabiedriskajā transportlīdzeklī, ar kuru veic pasažieru komercpārvadājumus, transportlīdzekļa vadītāji, kuri nav atdalīti ar fizisku barjeru no pasažieriem, kā arī pasažieri, lieto mutes un deguna aizsegus - MK noteikumu Nr.360 6.3.1punkts
A54: Sociālā distancēšanās sabiedriskā transportā - sabiedriskā transporta pārvadātājam organizēt iekāpšanu un izkāpšanu tā, lai pasažieru skaits transportīdzeklī nepārsniedz 50 % no tā ietilpības. Ja transportlīdzeklī tā specifikas dēļ nav iespējams kontrolēt pasažieru iekāpšanu un izkāpšanu, transportlīdzeklī tiek marķētas sēdvietas, nodrošinot distancēšanās prasību ievērošanu - MK rīkojuma Nr.655 5.42.punkts. Ar minētajām izmaksām saprot sēdvietu marķēšanu, dažādu tam nepieciešamo materiālu izmaksas, piktogrammu vai informācijas izvietošanu.
A55: Transportlīdzekļu dezinfekcija - regulāra saimnieciskā vai publiskā pakalpojuma nodrošināšanai izmantotā transportlīdzekļa salona un kabīnes virsmu dezinfekcija - MK noteikumu Nr.360 7.5.punkts
... A58: No pasažieriem, t.sk., personām, kurām noteikti pašvaldības noteiktie braukšanas maksas atvieglojumi, saņemtie ieņēmumi - norāda ieņēmumi no pārdotajām biļetēm un abonementa biļetēm, kurus pārvadātājs saņem no pasažiera. Norāda arī ieņēmumu daļu, ko maksā pasažieris, ja tam pašvaldība ir noteikusi braukšanas maksas atvieglojumus.

Sheet jūnijs
A1: Pārskats par sabiedriskā transporta pakalpojumos radītajiem izdevumiem un zaudējumiem sakarā ar noteiktajiem ierobežojumiem
A2: Periods | C2: Vienības | D2: Autobusi | E2: Minibusi (ekspresbusi) | F2: Tramvaji | G2: Trolejbusi
A3: 1.SADAĻA | B3: KOPSUMMA ((N - P) x Izm) | D3: =(D10-D9)*D13 -> 0 | E3: =(E10-E9)*E13 -> 0 | F3: =(F10-F9)*F13 -> 0 | G3: =(G10-G9)*G13 -> 0
A4: 01.06.2021.-30.06.2021. | B4: Iesaistīto transportlīdzekļu vienības | C4: skaits | D4: 12
B5: (S) Plānotais reisu skaits | D5: 4140
B6: (R) Faktiskais reisu skaits (S + RP-RA) | D6: =D5+D7-D8 -> 4140 | E6: =E5+E7-E8 -> 0 | F6: =F5+F7-F8 -> 0 | G6: =G5+G7-G8 -> 0
B7: to starpā papildu reisi (RP)
B8: to starpā atceltie reisi (RA)
B9: (P) Plānotais nobraukums | C9: km | D9: 44979
B10: (N) Faktiskais nobraukums (P + NP-NA) | D10: =D9+D11-D12 -> 44979 | E10: =E9+E11-E12 -> 0 | F10: =F9+F11-F12 -> 0 | G10: =G9+G11-G12 -> 0 | H10: =atskaites_jedox!AK8 -> #NAME?
B11: to starpā papildu reisos veiktais nobraukums (NP)
B12: to starpā atcelto reisu nobraukums (NA)
A13: 01.06.2021.-30.06.2021. | B13: (Izm) 1 km pašizmaksa | C13: EUR/km | D13: 1.4311 | H13: =atskaites_jedox!AL8 -> #NAME?
A14: 2.SADAĻA | B14: KOPSUMMA (1 vienības cenas reizinājums ar preču/pakalpojumu skaitu; summa ( K x Z)) | D14: =SUM(D16*D25,D17*D26,D18*D27,D21*D30,D22*D31,D23*D32, D19*D28, D20*D29) -> 508.392 | E14: =SUM(E16*E25,E17*E26,E18*E27,E21*E30,E22*E31,E23*E32) -> 0 | F14: =SUM(F16*F25,F17*F26,F18*F27,F21*F30,F22*F31,F23*F32) -> 0 | G14: =SUM(G16*G25,G17*G26,G18*G27,G21*G30,G22*G31,G23*G32) -> 0
A15: 01.06.2021.-30.06.2021. | B15: (Z) Pakalpojumi, pasākumi un materiāli Covid-19 pandēmijas ierobežošanai | C15: skaits (jānorāda atbilstoša mērvienība gab., litri, reižu skaits, darba stundas u.c.)
B16: Dezinfekcijas līdzekļi (gab) | D16: 12
B17: Sejas maskas (gab)
B18: Sociālā distancēšanās sabiedriskā transportā
B19: to starpā uzlīmes (gab)
B20: to starpā norobežojošā lenta (gab) | D20: 12
B21: Transportlīdzekļu dezinfekcija (reizes) | D21: 308
B22: Transportlīdzekļu papildu mazgāšana
B23: Citi izdevumi (norādīt kādi)
B24: (K) Faktiskās izmaksas Covid-19 pandēmijas ierobežošanai, t.sk. | C24: EUR/vien bez PVN
B25: Dezinfekcijas līdzekļi | D25: 4.12
B26: Sejas maskas | D26: 1.25
B27: Sociālā distancēšanās sabiedriskā transportā
B28: to starpā uzlīmes
B29: to starpā norobežojošā lenta | D29: 1.44
B30: Transportlīdzekļu dezinfekcija, to starpā darba spēka izmaksas | D30: 1.434
B31: Transportlīdzekļu papildu mazgāšana, to starpā darba spēka izmaksas
B32: Citi izdevumi (norādīt kādi)
A33: 3.SADAĻA | B33: KOPSUMMA ((C/D-A/N) x N) | D33: =((D36/D37)-(D34/D35))*D35 -> 9210.168 | E33: =((E36/E37)-(E35/#REF!))*#REF! -> #DIV/0! | F33: =((F36/F37)-(F34/F35))*F35 -> #DIV/0! | G33: =((G36/G37)-(G34/G35))*G35 -> #DIV/0!
A34: 01.06.2021.-30.06.2021. | B34: (A) No pasažieriem, t.sk., personām, kurām noteikti pašvaldības noteiktie braukšanas maksas atvieglojumi, saņemtie ieņēmumi par sniegto sabiedriskā transporta pakalpojumu | C34: EUR bez PVN | D34: 8217.68 | H34: =atskaites_jedox!AJ8 -> #NAME?
B35: (N) Faktiskais nobraukums | C35: km | D35: 44979 | H35: =atskaites_jedox!AK8 -> #NAME? | J35: =D35=D10 -> TRUE
A36: 01.06.2019.-30.06.2019. | B36: (C) No pasažieriem, t.sk., personām, kurām noteikti pašvaldības noteiktie braukšanas maksas atvieglojumi, saņemtie ieņēmumi par sniegto sabiedriskā transporta pakalpojumu | C36: EUR bez PVN | D36: 17160.38 | H36: =atskaites_jedox!L8 -> #NAME?
B37: (D) Faktiskais nobraukums | C37: km | D37: 44288.7 | H37: =atskaites_jedox!M8 -> #NAME?
A38: .
B40: Pašvaldības atbildīgās personas vārds, uzvārds, kontaktinformācija un paraksts (ja dokuments nav parakstīts ar elektroniski)
A43: Informāciju aizpilda katra pašvaldība par pārvadājumu veidiem, kādi ir noteikti attiecīgā pilsētā
A44: Tabulā iekļauj norādītajā laika periodā radušās pamatotās izmaksas, kas attiecināmas uz sabiedriskā transporta pakalpojuma izpildē noteiktajiem drošības pasākumiem Covid-19 infekcijas izplatības ierobežošanai.
A45: Pašvaldībai ir pienākums pārliecināties par izmaksu pamatotību, to apjomu vai attiecināto apmēru.
A46: 1.SADAĻĀ tiek aprēķināti faktiskie izdevumi, kas radušies saistībā ar atcelto reisu vai/un papildu reisu nodrošināšanu sakarā ar pakalpojuma apjoma ierobežošanu un 50% pasažieru piepildījuma noteikšanu
A47: 2.SADAĻĀ nosakāmi kopējie izdevumi par Covid-19 infekcijas ierobežošanas pasākumiem, kas izpildāmi atbilstoši MK 09.06.2020. noteikumiem Nr.360; MK 06.11.2020. rīkojumam Nr.655
A48: 3.SADAĻĀ nosakāma kopējā ietekme uz ieņēmumu apgrozījumu, ko radījusi Covid-19 infekcijas apkarošanā radītā iedzīvotāju mobilitātes ierobežošana, pakalpojuma apjoma ierobežošana, kā arī citi ārkārtējās situācijas laikā un pēc tās noteiktie ierobežojumi atsevišķām nozarēm
A50: Paskaidrojumi
A51: 1 km pašizmaksa - atbilstoši MK 28.07.2015. noteikumu Nr.435 3.pielikumā norādītās izmaksas, izņemot šajā tabulā 2.sadaļas izmaksas par Covid-19 pandēmijas ierobežošanas pasākumiem, dalītas ar faktisko nobraukumu
A52: Dezinfekcijas līdzekļi - roku higiēnai šķidrās ziepes un roku susināšanas līdzekļi vai spirtu saturoši roku dezinfekcijas līdzekļi (kas satur vismaz 70 % etanola) - MK noteikumu Nr.360 7.1.punkts
A53: Sejas maskas - sabiedriskajā transportlīdzeklī, ar kuru veic pasažieru komercpārvadājumus, transportlīdzekļa vadītāji, kuri nav atdalīti ar fizisku barjeru no pasažieriem, kā arī pasažieri, lieto mutes un deguna aizsegus - MK noteikumu Nr.360 6.3.1punkts
A54: Sociālā distancēšanās sabiedriskā transportā - sabiedriskā transporta pārvadātājam organizēt iekāpšanu un izkāpšanu tā, lai pasažieru skaits transportīdzeklī nepārsniedz 50 % no tā ietilpības. Ja transportlīdzeklī tā specifikas dēļ nav iespējams kontrolēt pasažieru iekāpšanu un izkāpšanu, transportlīdzeklī tiek marķētas sēdvietas, nodrošinot distancēšanās prasību ievērošanu - MK rīkojuma Nr.655 5.42.punkts. Ar minētajām izmaksām saprot sēdvietu marķēšanu, dažādu tam nepieciešamo materiālu izmaksas, piktogrammu vai informācijas izvietošanu.
A55: Transportlīdzekļu dezinfekcija - regulāra saimnieciskā vai publiskā pakalpojuma nodrošināšanai izmantotā transportlīdzekļa salona un kabīnes virsmu dezinfekcija - MK noteikumu Nr.360 7.5.punkts
... A58: No pasažieriem, t.sk., personām, kurām noteikti pašvaldības noteiktie braukšanas maksas atvieglojumi, saņemtie ieņēmumi - norāda ieņēmumi no pārdotajām biļetēm un abonementa biļetēm, kurus pārvadātājs saņem no pasažiera. Norāda arī ieņēmumu daļu, ko maksā pasažieris, ja tam pašvaldība ir noteikusi braukšanas maksas atvieglojumus.

Sheet Pivot_apkopojums
A3: Sum of Vērtība | B3: Column Labels
A4: Row Labels | B4: 09.03.2021.- 31.03.2021. | C4: Aprīlis | D4: Maijs | E4: Jūnijs | F4: Grand Total
A5: 1. Faktiskie izdevumi, kas radušies saistībā ar reisu atcelšanu vai papild reisu nodrošināšanu - KOPSUMMA ((N - P) x Izm) | B5: 0 | C5: -13.31428 | D5: 0 | E5: 0 | F5: -13.31428
A6: 2. Kopējie izdevumi par Covid-19 infekcijas ierobežošanas pasākumiem - KOPSUMMA (1 vienības cenas reizinājums ar preču/pakalpojumu skaitu; summa ( K x Z)) | B6: 477.754 | C6: 519.512 | D6: 528.292 | E6: 508.392 | F6: 2033.95
A7: 3. Kopējā ietekme uz ieņēmumu apgrozījumu - KOPSUMMA ((C/D-A/N) x N) | B7: 8983.5622 | C7: 8234.9019 | D7: 7553.3295 | E7: 9210.168 | F7: 33981.962
A8: Grand Total | B8: 9461.3162 | C8: 8741.0996 | D8: 8081.6215 | E8: 9718.56 | F8: 36002.597

Sheet PIVOT
B1: Pārskats par sabiedriskā transporta pakalpojumos radītajiem izdevumiem un zaudējumiem sakarā ar noteiktajiem ierobežojumiem
B5: Rādītājs | C5: Vienības | D5: Vērtība | E5: Pārvadājumu veids | F5: Pilsēta | G5: Periods
B6: 1. Faktiskie izdevumi, kas radušies saistībā ar reisu atcelšanu vai papild reisu nodrošināšanu - KOPSUMMA ((N - P) x Izm) | D6: 0 | E6: Autobuss | F6: Valmiera | G6: 09.03.2021.- 31.03.2021.
B7: Iesaistīto transportlīdzekļu vienības | C7: skaits | D7: 13 | E7: Autobuss | F7: Valmiera | G7: 09.03.2021.- 31.03.2021.
B8: (S) Plānotais reisu skaits | C8: skaits | D8: 3390 | E8: Autobuss | F8: Valmiera | G8: 09.03.2021.- 31.03.2021.
B9: (R) Faktiskais reisu skaits (S + RP-RA) | C9: skaits | D9: 3390 | E9: Autobuss | F9: Valmiera | G9: 09.03.2021.- 31.03.2021.
B10: to starpā papildu reisi (RP) | C10: skaits | E10: Autobuss | F10: Valmiera | G10: 09.03.2021.- 31.03.2021.
B11: to starpā atceltie reisi (RA) | C11: skaits | E11: Autobuss | F11: Valmiera | G11: 09.03.2021.- 31.03.2021.
B12: (P) Plānotais nobraukums | C12: km | D12: 36749 | E12: Autobuss | F12: Valmiera | G12: 09.03.2021.- 31.03.2021.
B13: (N) Faktiskais nobraukums (P + NP-NA) | C13: km | D13: 36749 | E13: Autobuss | F13: Valmiera | G13: 09.03.2021.- 31.03.2021.
B14: to starpā papildu reisos veiktais nobraukums (NP) | C14: km | E14: Autobuss | F14: Valmiera | G14: 09.03.2021.- 31.03.2021.
B15: to starpā atcelto reisu nobraukums (NA) | C15: km | E15: Autobuss | F15: Valmiera | G15: 09.03.2021.- 31.03.2021.
B16: (Izm) 1 km pašizmaksa | C16: EUR/km | D16: 1.3302 | E16: Autobuss | F16: Valmiera | G16: 09.03.2021.- 31.03.2021.
B17: 2. Kopējie izdevumi par Covid-19 infekcijas ierobežošanas pasākumiem - KOPSUMMA (1 vienības cenas reizinājums ar preču/pakalpojumu skaitu; summa ( K x Z)) | D17: 477.754 | E17: Autobuss | F17: Valmiera | G17: 09.03.2021.- 31.03.2021.
B18: (Z) Pakalpojumi, pasākumi un materiāli Covid-19 pandēmijas ierobežošanai | C18: skaits (jānorāda atbilstoša mērvienība gab., litri, reižu skaits, darba stundas u.c.) | E18: Autobuss | F18: Valmiera | G18: 09.03.2021.- 31.03.2021.
B19: Dezinfekcijas līdzekļi (gab) | C19: skaits (jānorāda atbilstoša mērvienība gab., litri, reižu skaits, darba stundas u.c.) | D19: 13 | E19: Autobuss | F19: Valmiera | G19: 09.03.2021.- 31.03.2021.
B20: Sejas maskas (gab) | C20: skaits (jānorāda atbilstoša mērvienība gab., litri, reižu skaits, darba stundas u.c.) | D20: 40 | E20: Autobuss | F20: Valmiera | G20: 09.03.2021.- 31.03.2021.
B21: Sociālā distancēšanās sabiedriskā transportā | C21: skaits (jānorāda atbilstoša mērvienība gab., litri, reižu skaits, darba stundas u.c.) | E21: Autobuss | F21: Valmiera | G21: 09.03.2021.- 31.03.2021.
B22: to starpā uzlīmes (gab) | C22: skaits (jānorāda atbilstoša mērvienība gab., litri, reižu skaits, darba stundas u.c.) | D22: 26 | E22: Autobuss | F22: Valmiera | G22: 09.03.2021.- 31.03.2021.
B23: to starpā norobežojošā lenta (gab) | C23: skaits (jānorāda atbilstoša mērvienība gab., litri, reižu skaits, darba stundas u.c.) | D23: 13 | E23: Autobuss | F23: Valmiera | G23: 09.03.2021.- 31.03.2021.
B24: Transportlīdzekļu dezinfekcija (reizes) | C24: skaits (jānorāda atbilstoša mērvienība gab., litri, reižu skaits, darba stundas u.c.) | D24: 241 | E24: Autobuss | F24: Valmiera | G24: 09.03.2021.- 31.03.2021.
B25: Transportlīdzekļu papildu mazgāšana | C25: skaits (jānorāda atbilstoša mērvienība gab., litri, reižu skaits, darba stundas u.c.) | E25: Autobuss | F25: Valmiera | G25: 09.03.2021.- 31.03.2021.
B26: Citi izdevumi (norādīt kādi) | C26: skaits (jānorāda atbilstoša mērvienība gab., litri, reižu skaits, darba stundas u.c.) | E26: Autobuss | F26: Valmiera | G26: 09.03.2021.- 31.03.2021.
B27: (K) Faktiskās izmaksas Covid-19 pandēmijas ierobežošanai, t.sk. | C27: EUR/vien bez PVN | E27: Autobuss | F27: Valmiera | G27: 09.03.2021.- 31.03.2021.
B28: Dezinfekcijas līdzekļi | C28: EUR/vien bez PVN | D28: 4.12 | E28: Autobuss | F28: Valmiera | G28: 09.03.2021.- 31.03.2021.
B29: Sejas maskas | C29: EUR/vien bez PVN | D29: 1.25 | E29: Autobuss | F29: Valmiera | G29: 09.03.2021.- 31.03.2021.
B30: Sociālā distancēšanās sabiedriskā transportā | C30: EUR/vien bez PVN | E30: Autobuss | F30: Valmiera | G30: 09.03.2021.- 31.03.2021.
B31: to starpā uzlīmes | C31: EUR/vien bez PVN | D31: 0.38 | E31: Autobuss | F31: Valmiera | G31: 09.03.2021.- 31.03.2021.
B32: to starpā norobežojošā lenta | C32: EUR/vien bez PVN | D32: 1.44 | E32: Autobuss | F32: Valmiera | G32: 09.03.2021.- 31.03.2021.
B33: Transportlīdzekļu dezinfekcija, to starpā darba spēka izmaksas | C33: EUR/vien bez PVN | D33: 1.434 | E33: Autobuss | F33: Valmiera | G33: 09.03.2021.- 31.03.2021.
B34: Transportlīdzekļu papildu mazgāšana, to starpā darba spēka izmaksas | C34: EUR/vien bez PVN | E34: Autobuss | F34: Valmiera | G34: 09.03.2021.- 31.03.2021.
B35: Citi izdevumi (norādīt kādi) | C35: EUR/vien bez PVN | E35: Autobuss | F35: Valmiera | G35: 09.03.2021.- 31.03.2021.
B36: 3. Kopējā ietekme uz ieņēmumu apgrozījumu - KOPSUMMA ((C/D-A/N) x N) | D36: 8983.5622 | E36: Autobuss | F36: Valmiera | G36: 09.03.2021.- 31.03.2021.
B37: (A) No pasažieriem, t.sk., personām, kurām noteikti pašvaldības noteiktie braukšanas maksas atvieglojumi, saņemtie ieņēmumi par sniegto sabiedriskā transporta pakalpojumu - 09.03.2021.-31.03.2021. | C37: EUR bez PVN | D37: 12084.55 | E37: Autobuss | F37: Valmiera | G37: 09.03.2021.- 31.03.2021.
B38: (N) Faktiskais nobraukums - 09.03.2021.-31.03.2021. | C38: km | D38: 36749 | E38: Autobuss | F38: Valmiera | G38: 09.03.2021.- 31.03.2021.
B39: (C) No pasažieriem, t.sk., personām, kurām noteikti pašvaldības noteiktie braukšanas maksas atvieglojumi, saņemtie ieņēmumi par sniegto sabiedriskā transporta pakalpojumu - 09.03.2019.-31.03.2019. | C39: EUR bez PVN | D39: 20280.86 | E39: Autobuss | F39: Valmiera | G39: 09.03.2021.- 31.03.2021.
B40: (D) Faktiskais nobraukums - 09.03.2019.-31.03.2019. | C40: km | D40: 35375.8 | E40: Autobuss | F40: Valmiera | G40: 09.03.2021.- 31.03.2021.
B41: 1. Faktiskie izdevumi, kas radušies saistībā ar reisu atcelšanu vai papild reisu nodrošināšanu - KOPSUMMA ((N - P) x Izm) | D41: -13.31428 | E41: Autobuss | F41: Valmiera | G41: Aprīlis
B42: Iesaistīto transportlīdzekļu vienības | C42: skaits | D42: 14 | E42: Autobuss | F42: Valmiera | G42: Aprīlis
B43: (S) Plānotais reisu skaits | C43: skaits | D43: 4265 | E43: Autobuss | F43: Valmiera | G43: Aprīlis
B44: (R) Faktiskais reisu skaits (S + RP-RA) | C44: skaits | D44: 4264 | E44: Autobuss | F44: Valmiera | G44: Aprīlis
B45: to starpā papildu reisi (RP) | C45: skaits | E45: Autobuss | F45: Valmiera | G45: Aprīlis
B46: to starpā atceltie reisi (RA) | C46: skaits | D46: 1 | E46: Autobuss | F46: Valmiera | G46: Aprīlis
B47: (P) Plānotais nobraukums | C47: km | D47: 46285.2 | E47: Autobuss | F47: Valmiera | G47: Aprīlis
B48: (N) Faktiskais nobraukums (P + NP-NA) | C48: km | D48: 46275.4 | E48: Autobuss | F48: Valmiera | G48: Aprīlis
B49: to starpā papildu reisos veiktais nobraukums (NP) | C49: km | E49: Autobuss | F49: Valmiera | G49: Aprīlis
B50: to starpā atcelto reisu nobraukums (NA) | C50: km | D50: 9.8 | E50: Autobuss | F50: Valmiera | G50: Aprīlis
B51: (Izm) 1 km pašizmaksa | C51: EUR/km | D51: 1.3586 | E51: Autobuss | F51: Valmiera | G51: Aprīlis
B52: 2. Kopējie izdevumi par Covid-19 infekcijas ierobežošanas pasākumiem - KOPSUMMA (1 vienības cenas reizinājums ar preču/pakalpojumu skaitu; summa ( K x Z)) | D52: 519.512 | E52: Autobuss | F52: Valmiera | G52: Aprīlis
B53: (Z) Pakalpojumi, pasākumi un materiāli Covid-19 pandēmijas ierobežošanai | C53: skaits (jānorāda atbilstoša mērvienība gab., litri, reižu skaits, darba stundas u.c.) | E53: Autobuss | F53: Valmiera | G53: Aprīlis
B54: Dezinfekcijas līdzekļi (gab) | C54: skaits (jānorāda atbilstoša mērvienība gab., litri, reižu skaits, darba stundas u.c.) | D54: 14 | E54: Autobuss | F54: Valmiera | G54: Aprīlis
B55: Sejas maskas (gab) | C55: skaits (jānorāda atbilstoša mērvienība gab., litri, reižu skaits, darba stundas u.c.) | E55: Autobuss | F55: Valmiera | G55: Aprīlis
B56: Sociālā distancēšanās sabiedriskā transportā | C56: skaits (jānorāda atbilstoša mērvienība gab., litri, reižu skaits, darba stundas u.c.) | E56: Autobuss | F56: Valmiera | G56: Aprīlis
B57: to starpā uzlīmes (gab) | C57: skaits (jānorāda atbilstoša mērvienība gab., litri, reižu skaits, darba stundas u.c.) | E57: Autobuss | F57: Valmiera | G57: Aprīlis
B58: to starpā norobežojošā lenta (gab) | C58: skaits (jānorāda atbilstoša mērvienība gab., litri, reižu skaits, darba stundas u.c.) | D58: 14 | E58: Autobuss | F58: Valmiera | G58: Aprīlis
B59: Transportlīdzekļu dezinfekcija (reizes) | C59: skaits (jānorāda atbilstoša mērvienība gab., litri, reižu skaits, darba stundas u.c.) | D59: 308 | E59: Autobuss | F59: Valmiera | G59: Aprīlis
B60: Transportlīdzekļu papildu mazgāšana | C60: skaits (jānorāda atbilstoša mērvienība gab., litri, reižu skaits, darba stundas u.c.) | E60: Autobuss | F60: Valmiera | G60: Aprīlis
B61: Citi izdevumi (norādīt kādi) | C61: skaits (jānorāda atbilstoša mērvienība gab., litri, reižu skaits, darba stundas u.c.) | E61: Autobuss | F61: Valmiera | G61: Aprīlis
B62: (K) Faktiskās izmaksas Covid-19 pandēmijas ierobežošanai, t.sk. | C62: EUR/vien bez PVN | E62: Autobuss | F62: Valmiera | G62: Aprīlis
B63: Dezinfekcijas līdzekļi | C63: EUR/vien bez PVN | D63: 4.12 | E63: Autobuss | F63: Valmiera | G63: Aprīlis
B64: Sejas maskas | C64: EUR/vien bez PVN | D64: 1.25 | E64: Autobuss | F64: Valmiera | G64: Aprīlis
B65: Sociālā distancēšanās sabiedriskā transportā | C65: EUR/vien bez PVN | E65: Autobuss | F65: Valmiera | G65: Aprīlis
B66: to starpā uzlīmes | C66: EUR/vien bez PVN | D66: 0.38 | E66: Autobuss | F66: Valmiera | G66: Aprīlis
B67: to starpā norobežojošā lenta | C67: EUR/vien bez PVN | D67: 1.44 | E67: Autobuss | F67: Valmiera | G67: Aprīlis
B68: Transportlīdzekļu dezinfekcija, to starpā darba spēka izmaksas | C68: EUR/vien bez PVN | D68: 1.434 | E68: Autobuss | F68: Valmiera | G68: Aprīlis
B69: Transportlīdzekļu papildu mazgāšana, to starpā darba spēka izmaksas | C69: EUR/vien bez PVN | E69: Autobuss | F69: Valmiera | G69: Aprīlis
B70: Citi izdevumi (norādīt kādi) | C70: EUR/vien bez PVN | E70: Autobuss | F70: Valmiera | G70: Aprīlis
B71: 3. Kopējā ietekme uz ieņēmumu apgrozījumu - KOPSUMMA ((C/D-A/N) x N) | D71: 8234.9019 | E71: Autobuss | F71: Valmiera | G71: Aprīlis
B72: (A) No pasažieriem, t.sk., personām, kurām noteikti pašvaldības noteiktie braukšanas maksas atvieglojumi, saņemtie ieņēmumi par sniegto sabiedriskā transporta pakalpojumu - 01.04.2021.-30.04.2021. | C72: EUR bez PVN | D72: 12405.6 | E72: Autobuss | F72: Valmiera | G72: Aprīlis
B73: (N) Faktiskais nobraukums - 01.04.2021.-30.04.2021. | C73: km | D73: 46275.4 | E73: Autobuss | F73: Valmiera | G73: Aprīlis
B74: (C) No pasažieriem, t.sk., personām, kurām noteikti pašvaldības noteiktie braukšanas maksas atvieglojumi, saņemtie ieņēmumi par sniegto sabiedriskā transporta pakalpojumu - 01.04.2019.-30.04.2019. | C74: EUR bez PVN | D74: 20720.61 | E74: Autobuss | F74: Valmiera | G74: Aprīlis
B75: (D) Faktiskais nobraukums - 01.04.2019.-30.04.2019. | C75: km | D75: 46455 | E75: Autobuss | F75: Valmiera | G75: Aprīlis
B76: 1. Faktiskie izdevumi, kas radušies saistībā ar reisu atcelšanu vai papild reisu nodrošināšanu - KOPSUMMA ((N - P) x Izm) | D76: 0 | E76: Autobuss | F76: Valmiera | G76: Maijs
B77: Iesaistīto transportlīdzekļu vienības | C77: skaits | D77: 13 | E77: Autobuss | F77: Valmiera | G77: Maijs
B78: (S) Plānotais reisu skaits | C78: skaits | D78: 4478 | E78: Autobuss | F78: Valmiera | G78: Maijs
B79: (R) Faktiskais reisu skaits (S + RP-RA) | C79: skaits | D79: 4478 | E79: Autobuss | F79: Valmiera | G79: Maijs
B80: to starpā papildu reisi (RP) | C80: skaits | E80: Autobuss | F80: Valmiera | G80: Maijs
B81: to starpā atceltie reisi (RA) | C81: skaits | E81: Autobuss | F81: Valmiera | G81: Maijs
B82: (P) Plānotais nobraukums | C82: km | D82: 47538 | E82: Autobuss | F82: Valmiera | G82: Maijs
B83: (N) Faktiskais nobraukums (P + NP-NA) | C83: km | D83: 47538 | E83: Autobuss | F83: Valmiera | G83: Maijs
B84: to starpā papildu reisos veiktais nobraukums (NP) | C84: km | E84: Autobuss | F84: Valmiera | G84: Maijs
B85: to starpā atcelto reisu nobraukums (NA) | C85: km | E85: Autobuss | F85: Valmiera | G85: Maijs
B86: (Izm) 1 km pašizmaksa | C86: EUR/km | D86: 1.393 | E86: Autobuss | F86: Valmiera | G86: Maijs
B87: 2. Kopējie izdevumi par Covid-19 infekcijas ierobežošanas pasākumiem - KOPSUMMA (1 vienības cenas reizinājums ar preču/pakalpojumu skaitu; summa ( K x Z)) | D87: 528.292 | E87: Autobuss | F87: Valmiera | G87: Maijs
B88: (Z) Pakalpojumi, pasākumi un materiāli Covid-19 pandēmijas ierobežošanai | C88: skaits (jānorāda atbilstoša mērvienība gab., litri, reižu skaits, darba stundas u.c.) | E88: Autobuss | F88: Valmiera | G88: Maijs
B89: Dezinfekcijas līdzekļi (gab) | C89: skaits (jānorāda atbilstoša mērvienība gab., litri, reižu skaits, darba stundas u.c.) | D89: 13 | E89: Autobuss | F89: Valmiera | G89: Maijs
B90: Sejas maskas (gab) | C90: skaits (jānorāda atbilstoša mērvienība gab., litri, reižu skaits, darba stundas u.c.) | E90: Autobuss | F90: Valmiera | G90: Maijs
B91: Sociālā distancēšanās sabiedriskā transportā | C91: skaits (jānorāda atbilstoša mērvienība gab., litri, reižu skaits, darba stundas u.c.) | E91: Autobuss | F91: Valmiera | G91: Maijs
B92: to starpā uzlīmes (gab) | C92: skaits (jānorāda atbilstoša mērvienība gab., litri, reižu skaits, darba stundas u.c.) | E92: Autobuss | F92: Valmiera | G92: Maijs
B93: to starpā norobežojošā lenta (gab) | C93: skaits (jānorāda atbilstoša mērvienība gab., litri, reižu skaits, darba stundas u.c.) | D93: 13 | E93: Autobuss | F93: Valmiera | G93: Maijs
B94: Transportlīdzekļu dezinfekcija (reizes) | C94: skaits (jānorāda atbilstoša mērvienība gab., litri, reižu skaits, darba stundas u.c.) | D94: 318 | E94: Autobuss | F94: Valmiera | G94: Maijs
B95: Transportlīdzekļu papildu mazgāšana | C95: skaits (jānorāda atbilstoša mērvienība gab., litri, reižu skaits, darba stundas u.c.) | E95: Autobuss | F95: Valmiera | G95: Maijs
B96: Citi izdevumi (norādīt kādi) | C96: skaits (jānorāda atbilstoša mērvienība gab., litri, reižu skaits, darba stundas u.c.) | E96: Autobuss | F96: Valmiera | G96: Maijs
B97: (K) Faktiskās izmaksas Covid-19 pandēmijas ierobežošanai, t.sk. | C97: EUR/vien bez PVN | E97: Autobuss | F97: Valmiera | G97: Maijs
B98: Dezinfekcijas līdzekļi | C98: EUR/vien bez PVN | D98: 4.12 | E98: Autobuss | F98: Valmiera | G98: Maijs
B99: Sejas maskas | C99: EUR/vien bez PVN | D99: 1.25 | E99: Autobuss | F99: Valmiera | G99: Maijs
B100: Sociālā distancēšanās sabiedriskā transportā | C100: EUR/vien bez PVN | E100: Autobuss | F100: Valmiera | G100: Maijs
B101: to starpā uzlīmes | C101: EUR/vien bez PVN | E101: Autobuss | F101: Valmiera | G101: Maijs
B102: to starpā norobežojošā lenta | C102: EUR/vien bez PVN | D102: 1.44 | E102: Autobuss | F102: Valmiera | G102: Maijs
B103: Transportlīdzekļu dezinfekcija, to starpā darba spēka izmaksas | C103: EUR/vien bez PVN | D103: 1.434 | E103: Autobuss | F103: Valmiera | G103: Maijs
...

Sheet atskaites_jedox
B2: servers_ATD/STIFSS | D2: =_xll.PALO.VIEW.DIMNAME($B$2,$B$3,0,0) -> #NAME? | E2: =_xll.PALO.VIEW.DIMNAME($B$2,$B$3,0,1) -> #NAME? | F2: =_xll.PALO.VIEW.DIMNAME($B$2,$B$3,0,2) -> #NAME? | G2: =_xll.PALO.VIEW.DIMNAME($B$2,$B$3,0,3) -> #NAME? | H2: =_xll.PALO.VIEW.DIMNAME($B$2,$B$3,0,4) -> #NAME? | I2: =_xll.PALO.VIEW.DIMNAME($B$2,$B$3,0,5) -> #NAME? | J2: =_xll.PALO.VIEW.DIMNAME($B$2,$B$3,0,6) -> #NAME?
B3: =_xll.PALO.CUBE($B$2,"PnL_") -> #NAME? | D3: =_xll.PALO.ENAME($B$2,$B$3,0,0,0) -> #NAME? | E3: =_xll.PALO.ENAME($B$2,$B$3,0,1,0) -> #NAME? | F3: =_xll.PALO.ENAME($B$2,$B$3,0,2,0) -> #NAME? | G3: =_xll.PALO.ENAME($B$2,$B$3,0,3,0) -> #NAME? | H3: =_xll.PALO.ENAME($B$2,$B$3,0,4,0) -> #NAME? | I3: =_xll.PALO.ENAME($B$2,$B$3,0,5,0) -> #NAME? | J3: =_xll.PALO.ENAME($B$2,$B$3,0,6,0) -> #NAME?
B4: [Edit View]
B5: [Swap]
C6: =_xll.PALO.ENAME($B$2,$B$3,2,0,0) -> #NAME? | D6: =_xll.PALO.ENAME($B$2,$B$3,2,0,1) -> #NAME? | E6: =_xll.PALO.ENAME($B$2,$B$3,2,0,2) -> #NAME? | F6: =_xll.PALO.ENAME($B$2,$B$3,2,0,3) -> #NAME? | G6: =_xll.PALO.ENAME($B$2,$B$3,2,0,4) -> #NAME? | H6: =_xll.PALO.ENAME($B$2,$B$3,2,0,5) -> #NAME? | I6: =_xll.PALO.ENAME($B$2,$B$3,2,0,6) -> #NAME? | J6: =_xll.PALO.ENAME($B$2,$B$3,2,0,7) -> #NAME? | K6: =_xll.PALO.ENAME($B$2,$B$3,2,0,8) -> #NAME? | L6: =_xll.PALO.ENAME($B$2,$B$3,2,0,9) -> #NAME? | M6: =_xll.PALO.ENAME($B$2,$B$3,2,0,10) -> #NAME? | N6: =_xll.PALO.ENAME($B$2,$B$3,2,0,11) -> #NAME? | O6: =_xll.PALO.ENAME($B$2,$B$3,2,0,12) -> #NAME? | P6: =_xll.PALO.ENAME($B$2,$B$3,2,0,13) -> #NAME? | Q6: =_xll.PALO.ENAME($B$2,$B$3,2,0,14) -> #NAME? | R6: =_xll.PALO.ENAME($B$2,$B$3,2,0,15) -> #NAME? | S6: =_xll.PALO.ENAME($B$2,$B$3,2,0,16) -> #NAME? | T6: =_xll.PALO.ENAME($B$2,$B$3,2,0,17) -> #NAME? | U6: =_xll.PALO.ENAME($B$2,$B$3,2,0,18) -> #NAME? | V6: =_xll.PALO.ENAME($B$2,$B$3,2,0,19) -> #NAME? | W6: =_xll.PALO.ENAME($B$2,$B$3,2,0,20) -> #NAME? | X6: =_xll.PALO.ENAME($B$2,$B$3,2,0,21) -> #NAME? | Y6: =_xll.PALO.ENAME($B$2,$B$3,2,0,22) -> #NAME? | Z6: =_xll.PALO.ENAME($B$2,$B$3,2,0,23) -> #NAME? | AA6: =_xll.PALO.ENAME($B$2,$B$3,2,0,24) -> #NAME? | AB6: =_xll.PALO.ENAME($B$2,$B$3,2,0,25) -> #NAME? | AC6: =_xll.PALO.ENAME($B$2,$B$3,2,0,26) -> #NAME? | AD6: =_xll.PALO.ENAME($B$2,$B$3,2,0,27) -> #NAME? | AE6: =_xll.PALO.ENAME($B$2,$B$3,2,0,28) -> #NAME? | AF6: =_xll.PALO.ENAME($B$2,$B$3,2,0,29) -> #NAME? | AG6: =_xll.PALO.ENAME($B$2,$B$3,2,0,30) -> #NAME? | AH6: =_xll.PALO.ENAME($B$2,$B$3,2,0,31) -> #NAME? | AI6: =_xll.PALO.ENAME($B$2,$B$3,2,0,32) -> #NAME? | AJ6: =_xll.PALO.ENAME($B$2,$B$3,2,0,33) -> #NAME? | AK6: =_xll.PALO.ENAME($B$2,$B$3,2,0,34) -> #NAME? | AL6: =_xll.PALO.ENAME($B$2,$B$3,2,0,35) -> #NAME?
C7: =_xll.PALO.ENAME($B$2,$B$3,2,1,0) -> #NAME? | D7: =_xll.PALO.ENAME($B$2,$B$3,2,1,1) -> #NAME? | E7: =_xll.PALO.ENAME($B$2,$B$3,2,1,2) -> #NAME? | F7: =_xll.PALO.ENAME($B$2,$B$3,2,1,3) -> #NAME? | G7: =_xll.PALO.ENAME($B$2,$B$3,2,1,4) -> #NAME? | H7: =_xll.PALO.ENAME($B$2,$B$3,2,1,5) -> #NAME? | I7: =_xll.PALO.ENAME($B$2,$B$3,2,1,6) -> #NAME? | J7: =_xll.PALO.ENAME($B$2,$B$3,2,1,7) -> #NAME? | K7: =_xll.PALO.ENAME($B$2,$B$3,2,1,8) -> #NAME? | L7: =_xll.PALO.ENAME($B$2,$B$3,2,1,9) -> #NAME? | M7: =_xll.PALO.ENAME($B$2,$B$3,2,1,10) -> #NAME? | N7: =_xll.PALO.ENAME($B$2,$B$3,2,1,11) -> #NAME? | O7: =_xll.PALO.ENAME($B$2,$B$3,2,1,12) -> #NAME? | P7: =_xll.PALO.ENAME($B$2,$B$3,2,1,13) -> #NAME? | Q7: =_xll.PALO.ENAME($B$2,$B$3,2,1,14) -> #NAME? | R7: =_xll.PALO.ENAME($B$2,$B$3,2,1,15) -> #NAME? | S7: =_xll.PALO.ENAME($B$2,$B$3,2,1,16) -> #NAME? | T7: =_xll.PALO.ENAME($B$2,$B$3,2,1,17) -> #NAME? | U7: =_xll.PALO.ENAME($B$2,$B$3,2,1,18) -> #NAME? | V7: =_xll.PALO.ENAME($B$2,$B$3,2,1,19) -> #NAME? | W7: =_xll.PALO.ENAME($B$2,$B$3,2,1,20) -> #NAME? | X7: =_xll.PALO.ENAME($B$2,$B$3,2,1,21) -> #NAME? | Y7: =_xll.PALO.ENAME($B$2,$B$3,2,1,22) -> #NAME? | Z7: =_xll.PALO.ENAME($B$2,$B$3,2,1,23) -> #NAME? | AA7: =_xll.PALO.ENAME($B$2,$B$3,2,1,24) -> #NAME? | AB7: =_xll.PALO.ENAME($B$2,$B$3,2,1,25) -> #NAME? | AC7: =_xll.PALO.ENAME($B$2,$B$3,2,1,26) -> #NAME? | AD7: =_xll.PALO.ENAME($B$2,$B$3,2,1,27) -> #NAME? | AE7: =_xll.PALO.ENAME($B$2,$B$3,2,1,28) -> #NAME? | AF7: =_xll.PALO.ENAME($B$2,$B$3,2,1,29) -> #NAME? | AG7: =_xll.PALO.ENAME($B$2,$B$3,2,1,30) -> #NAME? | AH7: =_xll.PALO.ENAME($B$2,$B$3,2,1,31) -> #NAME? | AI7: =_xll.PALO.ENAME($B$2,$B$3,2,1,32) -> #NAME? | AJ7: =_xll.PALO.ENAME($B$2,$B$3,2,1,33) -> #NAME? | AK7: =_xll.PALO.ENAME($B$2,$B$3,2,1,34) -> #NAME? | AL7: =_xll.PALO.ENAME($B$2,$B$3,2,1,35) -> #NAME?
B8: =_xll.PALO.ENAME($B$2,$B$3,1,0,0) -> #NAME? | C8: =_xll.PALO.DATA($B$2,$B$3,_xll.PALO.EL("Time",C$6),_xll.PALO.EL("Partner",$B8),_xll.PALO.EL($D$2,$D$3),_xll.PALO.EL($E$2,$E$3),_xll.PALO.EL($F$2,$F$3),_xll.PALO.EL($G$2,$G$3),_xll.PALO.EL($H$2,$H$3),_xll.PALO.EL($I$2,$I$3),_xll.PALO.EL($J$2,$J$3),_xll.PALO.EL("Position",C$7)) -> #NAME? | D8: =_xll.PALO.DATA($B$2,$B$3,_xll.PALO.EL("Time",D$6),_xll.PALO.EL("Partner",$B8),_xll.PALO.EL($D$2,$D$3),_xll.PALO.EL($E$2,$E$3),_xll.PALO.EL($F$2,$F$3),_xll.PALO.EL($G$2,$G$3),_xll.PALO.EL($H$2,$H$3),_xll.PALO.EL($I$2,$I$3),_xll.PALO.EL($J$2,$J$3),_xll.PALO.EL("Position",D$7)) -> #NAME? | E8: =_xll.PALO.DATA($B$2,$B$3,_xll.PALO.EL("Time",E$6),_xll.PALO.EL("Partner",$B8),_xll.PALO.EL($D$2,$D$3),_xll.PALO.EL($E$2,$E$3),_xll.PALO.EL($F$2,$F$3),_xll.PALO.EL($G$2,$G$3),_xll.PALO.EL($H$2,$H$3),_xll.PALO.EL($I$2,$I$3),_xll.PALO.EL($J$2,$J$3),_xll.PALO.EL("Position",E$7)) -> #NAME? | F8: =_xll.PALO.DATA($B$2,$B$3,_xll.PALO.EL("Time",F$6),_xll.PALO.EL("Partner",$B8),_xll.PALO.EL($D$2,$D$3),_xll.PALO.EL($E$2,$E$3),_xll.PALO.EL($F$2,$F$3),_xll.PALO.EL($G$2,$G$3),_xll.PALO.EL($H$2,$H$3),_xll.PALO.EL($I$2,$I$3),_xll.PALO.EL($J$2,$J$3),_xll.PALO.EL("Position",F$7)) -> #NAME? | G8: =_xll.PALO.DATA($B$2,$B$3,_xll.PALO.EL("Time",G$6),_xll.PALO.EL("Partner",$B8),_xll.PALO.EL($D$2,$D$3),_xll.PALO.EL($E$2,$E$3),_xll.PALO.EL($F$2,$F$3),_xll.PALO.EL($G$2,$G$3),_xll.PALO.EL($H$2,$H$3),_xll.PALO.EL($I$2,$I$3),_xll.PALO.EL($J$2,$J$3),_xll.PALO.EL("Position",G$7)) -> #NAME? | H8: =_xll.PALO.DATA($B$2,$B$3,_xll.PALO.EL("Time",H$6),_xll.PALO.EL("Partner",$B8),_xll.PALO.EL($D$2,$D$3),_xll.PALO.EL($E$2,$E$3),_xll.PALO.EL($F$2,$F$3),_xll.PALO.EL($G$2,$G$3),_xll.PALO.EL($H$2,$H$3),_xll.PALO.EL($I$2,$I$3),_xll.PALO.EL($J$2,$J$3),_xll.PALO.EL("Position",H$7)) -> #NAME? | I8: =_xll.PALO.DATA($B$2,$B$3,_xll.PALO.EL("Time",I$6),_xll.PALO.EL("Partner",$B8),_xll.PALO.EL($D$2,$D$3),_xll.PALO.EL($E$2,$E$3),_xll.PALO.EL($F$2,$F$3),_xll.PALO.EL($G$2,$G$3),_xll.PALO.EL($H$2,$H$3),_xll.PALO.EL($I$2,$I$3),_xll.PALO.EL($J$2,$J$3),_xll.PALO.EL("Position",I$7)) -> #NAME? | J8: =_xll.PALO.DATA($B$2,$B$3,_xll.PALO.EL("Time",J$6),_xll.PALO.EL("Partner",$B8),_xll.PALO.EL($D$2,$D$3),_xll.PALO.EL($E$2,$E$3),_xll.PALO.EL($F$2,$F$3),_xll.PALO.EL($G$2,$G$3),_xll.PALO.EL($H$2,$H$3),_xll.PALO.EL($I$2,$I$3),_xll.PALO.EL($J$2,$J$3),_xll.PALO.EL("Position",J$7)) -> #NAME? | ... AL8: =_xll.PALO.DATA($B$2,$B$3,_xll.PALO.EL("Time",AL$6),_xll.PALO.EL("Partner",$B8),_xll.PALO.EL($D$2,$D$3),_xll.PALO.EL($E$2,$E$3),_xll.PALO.EL($F$2,$F$3),_xll.PALO.EL($G$2,$G$3),_xll.PALO.EL($H$2,$H$3),_xll.PALO.EL($I$2,$I$3),_xll.PALO.EL($J$2,$J$3),_xll.PALO.EL("Position",AL$7)) -> #NAME?
