Workbook

Sheet parskats par avotiem
A1: Pārskats par 20. Baltijas valstu studentu dziesmu un deju svētku "Gaudeamus" rīkošanas izmaksām un priekšlikumiem avotiem
A3: Budžeta programma / apakšprogramma | B3: Īss paskaidrojums | C3: 2026.g. finansējums, euro
A4: KOPĀ | C4: =C5+C7 -> 880000
A5: No rezervētā finansējuma budžeta resora "74. Gadskārtējā valsts budžeta izpildes procesā pārdalāmais finansējums" programmā 23.00.00 "Valsts atbalsta programmas un citi valsts nozīmes pasākumi" | B5: Atbilstoši likuma “Par valsts budžetu 2026. gadam un budžeta ietvaru 2026., 2027. un 2028. gadam” 72. panta pirmā daļai | C5: 430000
A7: No IZM budžeta, t.sk.: | C7: =C8+C9 -> 450000
A8: Veicot pārdali no 01.07.00 "Dotācija brīvpusdienu nodrošināšanai 1.,2.,3. un 4. klases izglītojamiem" | B8: Ekonomiju no brīvpusdienām sakarā ar izglītojamo skaita samazināšanos. Plānots segt Gaudeamus tāmē paredzētās uzturēšanas izmaksas par dalībnieku ēdināšanu, izmitināšanu, telpu nomu (ēdināšanai, izmitināšanai), apsardzes pakalpojumiem, sanmezglu un sakopšanas pakalpojumiem. | C8: =C19 -> 286753.91
A9: Veicot pārdali no 74.resora programmas 01.00.00 "Apropriācijas rezerve" | B9: Pārskatot un precizējot Apropriācijas rezerves pieprasījumā iekļautos pasākumus | C9: =450000-C8 -> 163246.09
A11: *Operatīvo dienestu (citu ministriju) faktiskie izdevumi tiks apkopoti pēc Svētkiem, un pēc to norises tiks sagatavots pieprasījums par finanšu līdzekļu piešķiršanu no valsts budžeta programmas "Līdzekļi neparedzētiem gadījumiem".
C18: =C19-450000 -> -163246.09
C19: =SUM(C20:C29) -> 286753.91
B20: Ēdināšanas pakalpojumi | C20: ='11_Organiztoriski izdevumi'!F51+'11_Organiztoriski izdevumi'!F52 -> 131268.19
B21: Dalībnieku izmitināšanas izmaksas | C21: ='12_Dalībnieku izmitināšana'!F24 -> 64217.4
B22: Telpu noma (izmitināšana, ēdināšana) | C22: ='14_Telpu nomas'!F11+'14_Telpu nomas'!F12 -> 51606.5
B23: Ēdināšanas koordinators | C23: ='11_Organiztoriski izdevumi'!F36 -> 2000
B24: Izmitināšanas koordinātors | C24: ='13_Speciālisti'!F18 -> 5600
B25: Projekta vadītājs Kongresu nams (ēdināšana) | C25: ='11_Organiztoriski izdevumi'!F48 -> 2667
B26: Papildus atkritumu tvertnes | C26: ='08_Dalībnieku balle'!F20 -> 800
B27: Apsardzes pakalpojumi | C27: ='03_Dailes teātris'!F29+'04_Doma baznīca'!F26+'05_Vērmanes dārzs'!F28+'06_Svētku gājiens'!F24+'07_Kopmēģinājumu izmaksas'!F21+'08_Dalībnieku balle'!F21+'10_Noslēguma koncerts'!F48 -> 14251.78
B28: Norises vietas atbildīgais (dalībnieku balle) | C28: ='08_Dalībnieku balle'!F22 -> 4000
B29: Uzkopšana, sanmezgli, biotualetes | C29: ='05_Vērmanes dārzs'!F26+'05_Vērmanes dārzs'!F27+'06_Svētku gājiens'!F22+'06_Svētku gājiens'!F23+'08_Dalībnieku balle'!F23+'10_Noslēguma koncerts'!F50+'10_Noslēguma koncerts'!F52 -> 10343.04

Sheet Kopējās pasākumu izmaksas
A1: XX Baltijas valstu studentu dziesmu un deju svētki RĪGA - 2026
A3: Tāmes nr. | B3: Nosaukums | C3: Norises vieta | D3: Kopējās izmaksas
A4: 1 | B4: Atklāšanas koncerts | C4: Latvija Universitātes Lielā Aula | D4: ='01_Atklāšanas koncerts LU'!F37 -> 29270
A5: 2 | B5: Zāļu tirgus koncerts | C5: Doma laukums, Zāļu tirgus | D5: ='02_Zāļu tirgus'!F12 -> 1210
A6: 3 | B6: Tautas deju ansambļu koncerts | C6: Dailes teātris | D6: ='03_Dailes teātris'!F31 -> 23640.9
A7: 4 | B7: Garīgās mūzikas koncerts | C7: Rīgas Doms | D7: ='04_Doma baznīca'!F28 -> 10870.44
A8: 5 | B8: Pūtēju orķestru koncerts | C8: Vērmanes dārzs | D8: ='05_Vērmanes dārzs'!F30 -> 31375.78
A9: 6 | B9: Svētku gājiens | C9: Doma laukums - Brīvības piemineklis | D9: ='06_Svētku gājiens'!F26 -> 17786.04
A10: 7 | B10: Kopmēģinājumu izmaksas | C10: LU un Xiomi arena | D10: ='07_Kopmēģinājumu izmaksas'!F26 -> 12255.33
A11: 8 | B11: Dalībnieku balle | C11: Ķīpsalas halle | D11: ='08_Dalībnieku balle'!F25 -> 27251.96
A12: 9 | B12: Folkloras kopu koncerts | C12: Latvija Universitātes Lielā Aula | D12: ='09_Folkloras kopu koncerts'!F15 -> 2917.8
A13: 10 | B13: Noslēguma koncerts | C13: Brīvības laukums | D13: ='10_Noslēguma koncerts'!F54 -> 221051.39
A14: 11 | B14: Organizatoriskie izdevumi | D14: ='11_Organiztoriski izdevumi'!F56 -> 273635.46
A15: 12 | B15: Dalībnieku izmitināšanas izmaksas | C15: Ķīpsalas halle | D15: ='12_Dalībnieku izmitināšana'!F24 -> 64217.4
A16: 13 | B16: Citu piesaistīto speciālistu izmaksas | D16: ='13_Speciālisti'!F21 -> 89379
A17: 14 | B17: Telpu nomas | C17: Dažādas norises vietas | D17: ='14_Telpu nomas'!F13 -> 75138.5
A18: Kopējās izmaksas | D18: =SUM(D4:D17) -> 880000

Sheet 01_Atklāšanas koncerts LU
A1: XX Baltijas valstu studentu dziesmu un deju svētki RĪGA - 2026
A3: TĀME NR.1
A4: ATKLĀŠANAS KONCERTS
A5: Norises vieta | C5: Latvijas Universitātes Lielā Aula
A6: Norises laiks | C6: 2026. gada 19. jūnijs, plkst. 17.00
A7: Dalībnieku skaits | C7: 150
A9: N.p.k. | B9: Pozīcija | C9: Vienība | D9: Cena | E9: Skaits | F9: Kopsumma
A10: 1 | B10: Tehniskais nodrošinājums
A11: 46023 | B11: Gaismas aparatūras noma un apkalpošana | C11: kompl. | D11: =3025+750 -> 3775 | E11: 1 | F11: =E11*D11 -> 3775
A12: 46054 | B12: Skaņas aparatūras noma un apkalpošana | C12: kompl. | D12: 726 | E12: 1 | F12: =E12*D12 -> 726
A13: 46082 | B13: Orķestra krēslu noma 40 krēsli, pultis | C13: kompl. | D13: 385 | E13: 1 | F13: =E13*D13 -> 385
A14: 46113 | B14: Instrumentu noma | C14: kompl. | D14: 600 | E14: 1 | F14: =E14*D14 -> 600
A15: 46143 | B15: Transporta pakalpojumi | C15: vien. | D15: 400 | E15: 1 | F15: =E15*D15 -> 400
A17: 2 | B17: Mākslinieciskais nodrošinājums
A18: 2 | B18: Orķestra diriģents | C18: pers. | D18: 1334 | E18: 1 | F18: =E18*D18 -> 1334
A19: 33 | B19: Mākslinieciskais vadītājs | C19: pers. | D19: 1334 | E19: 1 | F19: =E19*D19 -> 1334
A20: 62 | B20: Virsdiriģentu honorāri - 5 diriģenti | C20: pers. | D20: 334 | E20: 5 | F20: =E20*D20 -> 1670
A21: 93 | B21: Scenogrāfs | C21: pers. | D21: 467 | E21: 1 | F21: =E21*D21 -> 467
A22: 123 | B22: Skaņdarbu aranžija | C22: pers. | D22: 800 | E22: 1 | F22: =E22*D22 -> 800
A23: 154 | B23: Solisti | C23: pers. | D23: 467 | E23: 2 | F23: =E23*D23 -> 934
A24: 184 | B24: Instrumentālisti | C24: pers. | D24: 440.2 | E24: 5 | F24: =E24*D24 -> 2201
A25: 215 | B25: Papildus orķestra mūziķi | C25: pers. | D25: 470 | E25: 3 | F25: =E25*D25 -> 1410
A26: 246 | B26: Pasākuma vadītāji | C26: pers. | D26: 800 | E26: 2 | F26: =E26*D26 -> 1600
A27: 276 | B27: Orķestra nošu sagatavošana | C27: pers. | D27: 450 | E27: 1 | F27: =E27*D27 -> 450
A29: 3 | B29: Citas ar pasākumu organizēšanu saistītās izmaksas
A30: 46025 | B30: Tulkošanas pakalpojumi | C30: pers. | D30: 181.5 | E30: 1 | F30: =E30*D30 -> 181.5
A31: 46056 | B31: Klavieru skaņotājs | C31: pers. | D31: 127.5 | E31: 1 | F31: =E31*D31 -> 127.5
A32: 3.3. | B32: Bezmaksas ieejas ielūgumu sistēmas nodrošināšana | C32: kompl. | D32: =180*1.21 -> 217.8 | E32: 1 | F32: =E32*D32 -> 217.8
A33: 46115 | B33: Vizuālais noformējums | C33: kompl. | D33: 2342.2 | E33: 1 | F33: =E33*D33 -> 2342.2
A34: 46145 | B34: Gaudeamus krūšu rozete iepakojumā | C34: kompl. | D34: 114.95 | E34: 60 | F34: =E34*D34 -> 6897
A35: 46237 | B35: Tehniskie darbinieki | C35: cilv. | D35: 334 | E35: 2 | F35: =E35*D35 -> 668
A36: 46268 | B36: Citi izdevumi | C36: vien. | D36: 750 | E36: 1 | F36: =E36*D36 -> 750
E37: KOPĀ | F37: =SUM(F11:F36) -> 29270

Sheet 02_Zāļu tirgus
A1: XX Baltijas valstu studentu dziesmu un deju svētki RĪGA - 2026
A3: TĀME NR.2
A4: ZĀĻU TIRGUS KONCERTS - Rīgas Domes organziētājā pasākumā
A5: Norises vieta | C5: Doma Laukums "Zāļu tirgus"
A6: Norises laiks | C6: 2026. gada 19. jūnijs no plkst. 14.00-17.00
A7: Dalībnieku skaits | C7: 350
A9: N.p.k. | B9: Pozīcija | C9: Vienība | D9: Cena | E9: Skaits | F9: Kopsumma
A10: 1 | B10: Citas ar pasākumu organizēšanu saistītās izmaksas
A11: 46023 | B11: Papildus tehniskais nodrošinājums | C11: vien. | D11: 1210 | E11: 1 | F11: =D11*E11 -> 1210
E12: KOPĀ | F12: =SUM(F10:F11) -> 1210

Sheet 03_Dailes teātris
A1: XX Baltijas valstu studentu dziesmu un deju svētki RĪGA - 2026
A3: TĀME NR.3
A4: Pasākums nosaukums | C4: Tautas deju ansambļu koncerts
A5: Norises vieta | C5: Dailes teātris
A6: Norises laiks | C6: 19. jūnijs plkst. 20.00
A7: Dalībnieku skaits | C7: 450
A9: N.p.k. | B9: Pozīcija | C9: Vienība | D9: Cena | E9: Skaits | F9: Kopsumma
A10: 1 | B10: Tehniskais nodrošinājums
A11: 46023 | B11: Tehniskais nodrošinājums un personāls Dailes teātris | C11: kompl. | D11: 6452.35 | E11: 1 | F11: =E11*D11 -> 6452.35
A12: 46054 | B12: Vizuālais noformējums | C12: kompl. | D12: 605 | E12: 1 | F12: =E12*D12 -> 605
A13: 46082 | B13: Mēģinājuma nodrošinājums | C13: kompl. | D13: 242 | E13: 1 | F13: =E13*D13 -> 242
A15: 2 | B15: Mākslinieciskais nodrošinājums
A16: 2 | B16: Koncerta režisors | C16: cilv. | D16: 2667 | E16: 1 | F16: =E16*D16 -> 2667
A17: 33 | B17: Muzikālais vadītājs | C17: cilv. | D17: 2000 | E17: 1 | F17: =E17*D17 -> 2000
A18: 62 | B18: Scenārists | C18: cilv. | D18: 934 | E18: 1 | F18: =E18*D18 -> 934
A19: 93 | B19: Video mākslinieks | C19: cilv. | D19: 2000 | E19: 1 | F19: =E19*D19 -> 2000
A20: 123 | B20: Gaismu mākslinieks | C20: cilv. | D20: 934 | E20: 1 | F20: =E20*D20 -> 934
A21: 154 | B21: Skaņu režisors | C21: cilv. | D21: 800 | E21: 1 | F21: =E21*D21 -> 800
A22: 184 | B22: Video projekciju operators | C22: cilv. | D22: 800 | E22: 1 | F22: =E22*D22 -> 800
A23: 215 | B23: Izrāžu vadītājs | C23: cilv. | D23: 667 | E23: 1 | F23: =E23*D23 -> 667
A24: 246 | B24: Pasākuma vadītāji | C24: cilv. | D24: 934 | E24: 2 | F24: =E24*D24 -> 1868
A25: 276 | B25: Deju koordinators | C25: cilv. | D25: 1000 | E25: 1 | F25: =E25*D25 -> 1000
A27: 3 | B27: Citas ar pasākumu organizēšanu saistītās izmaksas
A28: 46025 | B28: Bezmaksas ieejas ielūgumu sistēmas nodrošināšana | C28: kompl. | D28: =255*1.21 -> 308.55 | E28: 1 | F28: =E28*D28 -> 308.55
A29: 46056 | B29: Apsardze | C29: cilv. | D29: 363 | E29: 1 | F29: =E29*D29 -> 363
A30: 3.3. | B30: Citi izdevumi | C30: vien. | D30: 2000 | E30: 1 | F30: =E30*D30 -> 2000
E31: KOPĀ | F31: =SUM(F11:F30) -> 23640.9

Sheet 04_Doma baznīca
A1: XX Baltijas valstu studentu dziesmu un deju svētki RĪGA - 2026
A3: TĀME NR.4
A4: Pasākums nosaukums | C4: Garīgās mūzikas koncerts
A5: Norises vieta | C5: Rīgas DOMS
A6: Norises laiks | C6: 20. jūnijs plkst. 20.00
A7: Dalībnieku skaits | C7: 300
A9: N.p.k. | B9: Pozīcija | C9: Vienība | D9: Cena | E9: Skaits | F9: Kopsumma
A10: 1 | B10: Tehniskais nodrošinājums
A11: 46023 | B11: Gaismas aparatūras noma un apkalpošana | C11: kompl. | D11: 3025 | E11: 1 | F11: =D11*E11 -> 3025
A12: 46054 | B12: Krēsli, pultis 8 krēsli/8 pultis | C12: kompl. | D12: 60 | E12: 1 | F12: =D12*E12 -> 60
A13: 46082 | B13: Sitamo instrumentu noma | C13: kompl. | D13: 250 | E13: 1 | F13: =D13*E13 -> 250
A14: 46113 | B14: Klavieru skaņošana | C14: vien. | D14: 242 | E14: 1 | F14: =D14*E14 -> 242
A15: 46143 | B15: Transporta pakalpojumi | C15: kompl. | D15: 250 | E15: 1 | F15: =D15*E15 -> 250
A17: 2 | B17: Mākslinieciskais nodrošinājums
A18: 2 | B18: Mākslinieciskais vadītājs | C18: cilv. | D18: 667 | E18: 1 | F18: =E18*D18 -> 667
A19: 33 | B19: Diriģentu honorāri | C19: cilv. | D19: 334 | E19: 3 | F19: =E19*D19 -> 1002
A20: 62 | B20: Ērģelnieka honorārs | C20: cilv. | D20: 667 | E20: 1 | F20: =E20*D20 -> 667
A21: 93 | B21: Ērģelnieka asistents | C21: cilv. | D21: 134 | E21: 1 | F21: =E21*D21 -> 134
A22: 123 | B22: Instrumentālisti | C22: cilv. | D22: 292.74 | E22: 9 | F22: =E22*D22 -> 2634.66
A24: 3 | B24: Citas ar pasākumu organizēšanu saistītās izmaksas
A25: 46025 | B25: Bezmaksas ieejas ielūgumu sistēmas nodrošināšana | C25: kompl. | D25: =300*1.21 -> 363 | E25: 1 | F25: =E25*D25 -> 363
A26: 3.2. | B26: Apsardze | C26: cilv. | D26: 214.78 | E26: 1 | F26: =E26*D26 -> 214.78
A27: 3.3. | B27: Citi tehniskie izdevumi | C27: kompl. | D27: 1361 | E27: 1 | F27: =E27*D27 -> 1361
E28: KOPĀ | F28: =SUM(F11:F27) -> 10870.44

Sheet 05_Vērmanes dārzs
A1: XX Baltijas valstu studentu dziesmu un deju svētki RĪGA - 2026
A3: TĀME NR.5
A4: Pasākums nosaukums | C4: Pūtēju orķestu koncerts
A5: Norises vieta | C5: Vērmanes dārzs
A6: Norises laiks | C6: 20. jūnijs plkst. 11.00
A7: Dalībnieku skaits | C7: 350
A9: N.p.k. | B9: Pozīcija | C9: Vienība | D9: Cena | E9: Skaits | F9: Kopsumma
A10: 1 | B10: Tehniskais nodrošinājums
A11: 46023 | B11: Jumta segums virs skatuves daļas, skaņas nodrošinājums | C11: kompl. | D11: 14800 | E11: 1 | F11: =D11*E11 -> 14800
A12: 46054 | B12: Gaismas aparatūras noma un apkalpošana | C12: kompl. | D12: 3500 | E12: 1 | F12: =D12*E12 -> 3500
A13: 46082 | B13: Orķestrim atbilstoši krēsli | C13: kompl. | D13: 338 | E13: 1 | F13: =D13*E13 -> 338
A14: 46113 | B14: Instrumentu noma - bungu komplekts, zvaniņi, ksilafons, marša bunga | C14: kompl. | D14: =310*1.21 -> 375.1 | E14: 1 | F14: =D14*E14 -> 375.1
A15: 46143 | B15: Transporta izdevumi - krēsliem, pultīm, instrumentiem | C15: kompl. | D15: 300 | E15: 1 | F15: =D15*E15 -> 300
A16: 46174 | B16: Svētku "Gaudeamus" simbolikas izvietošana uz skatuves | C16: kompl. | D16: =1500*1.21 -> 1815 | E16: 1 | F16: =D16*E16 -> 1815
A17: 46204 | B17: Skatuves strādnieki - 2 cilvēki | C17: kompl. | D17: =800*1.21 -> 968 | E17: 1 | F17: =D17*E17 -> 968
A19: 2 | B19: Mākslinieciskais nodrošinājums
A20: 2 | B20: Māklinieciskais vadītājs | C20: cilv. | D20: 667 | E20: 1 | F20: =D20*E20 -> 667
A21: 33 | B21: Koncerta moderators | C21: cilv. | D21: 600 | E21: 1 | F21: =D21*E21 -> 600
A23: 3 | B23: Citas ar pasākumu organizēšanu saistītās izmaksas
A24: 46025 | B24: Telts dalībnieku instrumentu uzglabāšanai | C24: kompl. | D24: 1452 | E24: 1 | F24: =D24*E24 -> 1452
A25: 46056 | B25: Elektrības pieslēgums. Sadales skapji, kabeļu aizsargi (tiltiņi) gājēju zonās | C25: kompl. | D25: 1815 | E25: 1 | F25: =D25*E25 -> 1815
A26: 46084 | B26: Sanmezgli | C26: kompl. | D26: 1200 | E26: 1 | F26: =D26*E26 -> 1200
A27: 46115 | B27: Sakopšana - RD saskaņojumiem | C27: kompl. | D27: 1000 | E27: 1 | F27: =D27*E27 -> 1000
A28: 46176 | B28: Apsardzes pakalpojumi | C28: kompl. | D28: 872 | E28: 1 | F28: =D28*E28 -> 872
A29: 46206 | B29: Citi tehiskie izdevumi | C29: kompl. | D29: 1673.68 | E29: 1 | F29: =D29*E29 -> 1673.68
E30: KOPĀ | F30: =SUM(F10:F29) -> 31375.78

Sheet 06_Svētku gājiens
B1: XX Baltijas valstu studentu dziesmu un deju svētki RĪGA - 2026
A3: TĀME NR. 6
A4: Pasākums nosaukums | C4: Svētku gājiens
A5: Norises vieta | C5: Doma laukums - Brīvības piemineklis
A6: Norises laiks | C6: 21. jūnijs
A7: Dalībnieku skaits | C7: 4700
A9: N.p.k. | B9: Pozīcija | C9: Vienība | D9: Cena | E9: Skaits | F9: Kopsumma
A10: 1 | B10: Tehniskais nodrošinājums
A11: 46023 | B11: Nosaukumu plāksnes ar kātu - ražošana un druka | C11: kompl. | D11: 1452 | E11: 1 | F11: =D11*E11 -> 1452
A12: 46054 | B12: Norobežojošās barjeras | C12: kompl. | D12: 985 | E12: 1 | F12: =D12*E12 -> 985
A13: 46082 | B13: Dekoratīvie elementi - pagrieziena punktu noformējums | C13: kompl. | D13: 400 | E13: 1 | F13: =D13*E13 -> 400
A15: 2 | B15: Mākslinieciskais nodrošinājums
A16: 2.1. | B16: Gājiena režisors | C16: cilv. | D16: 2334 | E16: 1 | F16: =D16*E16 -> 2334
A17: 2.2. | B17: Gājiena režisora asistents | C17: cilv. | D17: 1167 | E17: 1 | F17: =D17*E17 -> 1167
A18: 62 | B18: Apmācīti asistenti - 14 cilvēki | C18: cilv. | D18: 231 | E18: 14 | F18: =D18*E18 -> 3234
A20: 3 | B20: Citas ar pasākumu organizēšanu saistītās izmaksas
A21: 46025 | B21: Rācijas | C21: kompl. | D21: 175 | E21: 1 | F21: =D21*E21 -> 175
A22: 46056 | B22: Sanmezgli | C22: kompl. | D22: 1239.04 | E22: 1 | F22: 1239.04
A23: 46084 | B23: Sakopšana - RD saskaņojumiem | C23: kompl. | D23: 2500 | E23: 1 | F23: =D23*E23 -> 2500
A24: 46115 | B24: Apsardzes pakalpojumi | C24: kompl. | D24: 1500 | E24: 1 | F24: =D24*E24 -> 1500
A25: 46145 | B25: Citi tehniskie izdevumi | C25: kompl. | D25: 2800 | E25: 1 | F25: =D25*E25 -> 2800
E26: KOPĀ | F26: =SUM(F11:F25) -> 17786.04

Sheet 07_Kopmēģinājumu izmaksas
B1: XX Baltijas valstu studentu dziesmu un deju svētki RĪGA - 2026
A3: TĀME NR. 7
A5: Pasākums nosaukums | C5: Kopmēģinājumu izmaksas
A6: Norises vieta | C6: LU aula un Xiomi arēna
A7: Norises laiks | C7: 28.04. un 07.06
A8: Dalībnieku skaits | C8: 1858 (koris 900, pūtēji - 90, dejotāji - 868)
A10: N.p.k. | B10: Pozīcija | C10: Vienība | D10: Cena | E10: Skaits | F10: Kopsumma
A11: 1 | B11: Tehniskais nodrošinājums
A12: 46023 | B12: Skaņas aparatūras noma un apkalpošana | C12: kompl. | D12: 4235 | E12: 1 | F12: =D12*E12 -> 4235
A13: 46054 | B13: Deju laukuma marķēšana, norādes | C13: kompl. | D13: 2293 | E13: 1 | F13: =D13*E13 -> 2293
A14: 46082 | B14: Skaņas aparatūras noma un apkalpošana LU | C14: kompl. | D14: 250 | E14: 1 | F14: =D14*E14 -> 250
A16: 2 | B16: Mākslinieciskais nodrošinājums
A17: 2.1. | B17: Deju koncertmeistars | C17: cilv. | D17: 400 | E17: 1 | F17: =D17*E17 -> 400
A18: 2.2. | B18: Koncertmeistars | C18: cilv. | D18: 734 | E18: 1 | F18: =D18*E18 -> 734
A20: 3 | B20: Citas ar pasākumu organizēšanu saistītās izmaksas
A21: 46025 | B21: Apsardzes pakalpojumi | C21: kompl. | D21: 1452 | E21: 1 | F21: =D21*E21 -> 1452
A22: 46056 | B22: Norises vietas atbildīgais | C22: kompl. | D22: 800 | E22: 1 | F22: =D22*E22 -> 800
A23: 46084 | B23: Cienasts EE un LT diriģentiem Xiomi Arēna | C23: kompl. | D23: 484 | E23: 1 | F23: =D23*E23 -> 484
A24: 46115 | B24: Cienasts EE un LT diriģentiem LU | C24: kompl. | D24: 138 | E24: 1 | F24: =D24*E24 -> 138
A25: 46145 | B25: Citas izmaksas | C25: kompl. | D25: =968+501.33 -> 1469.33 | E25: 1 | F25: =D25*E25 -> 1469.33
E26: KOPĀ | F26: =SUM(F12:F25) -> 12255.33

Sheet 08_Dalībnieku balle
A1: XX Baltijas valstu studentu dziesmu un deju svētki RĪGA - 2026
A3: TĀME NR. 8
A4: Pasākums nosaukums | C4: Dalībnieku balle
A5: Norises vieta | C5: Ķīpsalas halle
A6: Norises laiks | C6: 20. jūnijs plkst.22.00-2.00
A7: Dalībnieku skaits | C7: 4700
A9: N.p.k. | B9: Pozīcija | C9: Vienība | D9: Cena | E9: Skaits | F9: Kopsumma
A10: 1 | B10: Tehniskais nodrošinājums
A11: 1.1. | B11: Gaismas, skaņas, podestūras noma un tās apkalpošana | C11: kompl. | D11: 3240.96 | E11: 1 | F11: =D11*E11 -> 3240.96
A12: 1.2. | B12: Galdi, soli | C12: kompl. | D12: 3500 | E12: 1 | F12: =D12*E12 -> 3500
A13: 1.3. | B13: Scenogrāfiskie risinājumi | C13: kompl. | D13: 4000 | E13: 1 | F13: =D13*E13 -> 4000
A15: 2 | B15: Mākslinieciskais nodrošinājums
A16: 2 | B16: DJ no LT/EE/LV | C16: cilv. | D16: 1067 | E16: 3 | F16: =D16*E16 -> 3201
A17: 33 | B17: Scenogrāfs | C17: cilv. | D17: 2000 | E17: 1 | F17: =D17*E17 -> 2000
A19: 3 | B19: Citas ar pasākumu organizēšanu saistītās izmaksas
A20: 46025 | B20: Papildus atkritumu tvertnes | C20: kompl. | D20: 800 | E20: 1 | F20: =D20*E20 -> 800
A21: 46056 | B21: Apsardzes pakalpojumi | C21: kompl. | D21: 3800 | E21: 1 | F21: =D21*E21 -> 3800
A22: 46084 | B22: Norises vietas atbildīgais | C22: kompl. | D22: 4000 | E22: 1 | F22: =D22*E22 -> 4000
A23: 46115 | B23: Uzkopšana pēc pasākuma | C23: kompl. | D23: 1500 | E23: 1 | F23: =D23*E23 -> 1500
A24: 46145 | B24: Citas izmaksas | C24: kompl. | D24: 1210 | E24: 1 | F24: =D24*E24 -> 1210
E25: KOPĀ | F25: =SUM(F11:F24) -> 27251.96

Sheet 09_Folkloras kopu koncerts
B1: XX Baltijas valstu studentu dziesmu un deju svētki RĪGA - 2026
A3: TĀME NR. 9
A4: Pasākums nosaukums | C4: Lietuvas tautas mūzikas koncerts
A5: Norises vieta | C5: LU Aula
A6: Norises laiks | C6: 20. jūnijs plkst. 18.30
A7: Dalībnieku skaits | C7: 250
A8: N.p.k. | B8: Pozīcija | C8: Vienība | D8: Cena | E8: Skaits | F8: Kopsumma
A9: 1 | B9: Tehniskais nodrošinājums
A10: 1.1. | B10: Gaismas aparatūra un tās apkalpošana | C10: kompl. | D10: 1200 | E10: 1 | F10: =D10*E10 -> 1200
A11: 1.2. | B11: Skaņas aparatūra un tās apkalpošana | C11: kompl. | D11: 1500 | E11: 1 | F11: =D11*E11 -> 1500
A13: 2 | B13: Citas ar pasākumu organizēšanu saistītās izmaksas
A14: 46024 | B14: Bezmaksas ielūgumu sistēmas nodrošināsana | C14: vien. | D14: 217.8 | E14: 1 | F14: =D14*E14 -> 217.8
E15: KOPĀ | F15: =SUM(F1:F14) -> 2917.8

Sheet 10_Noslēguma koncerts
A1: XX Baltijas valstu studentu dziesmu un deju svētki RĪGA - 2026
A3: TĀME NR. 10
A4: Pasākums nosaukums | C4: Noslēguma koncerts "Līdz bezgalībai"
A5: Norises vieta | C5: Brīvības laukums
A6: Norises laiks | C6: 21. jūnijs plkst. 17.00
A7: Dalībnieku skaits | C7: 4700
A8: N.p.k. | B8: Pozīcija | C8: Vienība | D8: Cena | E8: Skaits | F8: Kopsumma
A9: 1 | B9: Tehniskais nodrošinājums
A10: 46023 | B10: Kora tribīnes (pakāpieni) atbilstošam dalībnieku skaitam | C10: kompl. | D10: 73412 | E10: 1 | F10: =E10*D10 -> 73412
A11: 46054 | B11: Deju laukuma marķēšana un sagatavošana uz asfalta seguma | C11: kompl. | D11: 5445 | E11: 1 | F11: =E11*D11 -> 5445
A12: 46082 | B12: Diriģenta tribīnes noma | C12: kompl. | D12: 1815 | E12: 1 | F12: =E12*D12 -> 1815
A13: 46113 | B13: Apskaņošanas aparatūras noma un apkalpošana | C13: kompl. | D13: 9075 | E13: 1 | F13: =E13*D13 -> 9075
A14: 46143 | B14: Skaņu režisors | C14: cilv. | D14: 1331 | E14: 1 | F14: =E14*D14 -> 1331
A15: 46174 | B15: Gaismas aparatūras noma un apkalpošana | C15: kompl. | D15: 12500 | E15: 1 | F15: =E15*D15 -> 12500
A16: 46204 | B16: Svētkiem vienoti scenogrāfiskie elementi | C16: kompl. | D16: 4840 | E16: 1 | F16: =E16*D16 -> 4840
A17: 46235 | B17: Scenogrāfijas elementu izgatavošana | C17: kompl. | D17: =9000 -> 9000 | E17: 1 | F17: =E17*D17 -> 9000
A18: 46266 | B18: Skatītāju krēslu noma un transports | C18: kompl. | D18: 726 | E18: 1 | F18: =E18*D18 -> 726
A19: 46296 | B19: Traktortehnikas noma | C19: kompl. | D19: 3630 | E19: 1 | F19: =E19*D19 -> 3630
A20: 46327 | B20: Tehniskie darbinieki | C20: kompl. | D20: 6000 | E20: 1 | F20: =E20*D20 -> 6000
A21: 46357 | B21: Tehniskās drošības eksperti | C21: kompl. | D21: 6523.95 | E21: 1 | F21: =E21*D21 -> 6523.95
A22: 1.13. | B22: Rekvizīti | C22: kompl. | D22: 1800 | E22: 1 | F22: =E22*D22 -> 1800
A23: 1.14. | B23: Sēdvietu noformējums | C23: kompl. | D23: 800 | E23: 1 | F23: =E23*D23 -> 800
A24: 1.15. | B24: Lieljaudas klusie dīzeļģeneratori | C24: kompl. | D24: 4235 | E24: 1 | F24: =E24*D24 -> 4235
A25: 1.16. | B25: Instrumentu noma un tranpsorts, nošu pultis | C25: kompl. | D25: 2400 | E25: 1 | F25: 2400
A26: 1.17. | B26: Palīgmateriāli teritorijas marķēšanai un labiekārtošanai | C26: kompl. | D26: 2117.5 | E26: 1 | F26: =E26*D26 -> 2117.5
A27: 1.18. | B27: Citi tehniskie risinājumi | C27: kompl. | D27: 4840 | E27: 1 | F27: =E27*D27 -> 4840
A29: 2 | B29: Mākslinieciskais nodrošinājums
A30: 2 | B30: Koncerta režisors, tekstu autors | C30: cilv. | D30: 4000 | E30: 1 | F30: =D30*E30 -> 4000
A31: 33 | B31: Virsdiriģentu honorāri | C31: cilv. | D31: 733.6 | E31: 10 | F31: =D31*E31 -> 7336
A32: 62 | B32: Deju nozares mākslinieciskā vadība | C32: cilv. | D32: 4000 | E32: 1 | F32: =D32*E32 -> 4000
A33: 93 | B33: Virsvadītāju honorāri | C33: cilv. | D33: 2000 | E33: 3 | F33: =D33*E33 -> 6000
A34: 123 | B34: Deju laukuma asistenti - 3 cilvēki | C34: cilv. | D34: 800 | E34: 3 | F34: =D34*E34 -> 2400
A35: 154 | B35: Koru horeogrāfs | C35: cilv. | D35: 800 | E35: 1 | F35: =D35*E35 -> 800
A36: 184 | B36: Scenogrāfs | C36: cilv. | D36: 6000 | E36: 1 | F36: =D36*E36 -> 6000
A37: 215 | B37: Solisti | C37: cilv. | D37: 556 | E37: 6 | F37: =D37*E37 -> 3336
A38: 246 | B38: Pavadošā sastāva mūziķi | C38: cilv. | D38: 1232.68 | E38: 8 | F38: =D38*E38 -> 9861.44
A39: 276 | B39: Koncertmeistars | C39: cilv. | D39: 467 | E39: 1 | F39: =D39*E39 -> 467
A40: 307 | B40: Pasākuma vadītāji | C40: cilv. | D40: 667 | E40: 3 | F40: =D40*E40 -> 2001
A41: 337 | B41: Intermēdiju materiāla sagatovošana | C41: cilv. | D41: 800 | E41: 1 | F41: =D41*E41 -> 800
A42: 2.13. | B42: Studijas ieraksts, montāža intermēdijas | C42: cilv. | D42: 544.5 | E42: 1 | F42: =D42*E42 -> 544.5
...

Sheet 11_Organiztoriski izdevumi
A1: XX Baltijas valstu studentu dziesmu un deju svētki RĪGA - 2026
A3: TĀME NR. 11
A4: N.p.k. | B4: Pozīcija | C4: Vienība | D4: Cena | E4: Skaits | F4: Kopsumma
A5: 1 | B5: Tehniskais nodrošinājums
B6: ORGANIZATORISKAIS UN REPREZENTĀCIJAS nodrošinājums
A7: 1 | B7: Komunikācijas un reprezentācijas materiāli
A8: 46023 | B8: Svētku katalogs - satura sagatavošana, maketēšana (korektūra, arī svešvalodās) | C8: gab. | D8: 7000 | E8: 1 | F8: =D8*E8 -> 7000
A9: 46054 | B9: Svētku katalogs - druka | C9: gab. | D9: 1.956 | E9: 5000 | F9: =D9*E9 -> 9780
A10: 46082 | B10: Dalībnieku nozīmītes | C10: gab. | D10: 0.42 | E10: 5000 | F10: =D10*E10 -> 2100
A11: 46113 | B11: Krūšu piespraudes | C11: gab. | D11: =F11/E11 -> 2.19 | E11: 300 | F11: 657
A12: 46143 | B12: Baneri | C12: kompl | D12: =F12/E12 -> 650 | E12: 1 | F12: 650
A13: 46174 | B13: Rīgas pilsētas vides reklāmas izvietošana | C13: gab. | D13: =F13/E13 -> 1900 | E13: 1 | F13: 1900
A14: 46204 | B14: Dalīnieku somiņas | C14: gab. | D14: 1.61 | E14: 5000 | F14: =D14*E14 -> 8050
A15: 46235 | B15: Programmas Deju koncertam un Rīgas Doma koncertam | C15: kompl | D15: 700 | E15: 1 | F15: 700
A16: 46266 | B16: Aproču maketēšana un druka visiem dalībniekiem, darbiniekiem | C16: kompl | D16: 0.64 | E16: 5000 | F16: =D16*E16 -> 3200
A17: 46296 | B17: Vienotu formu/apģērba izgatavošana | C17: kompl | D17: 8.74 | E17: 250 | F17: =D17*E17 -> 2185
A19: 2 | B19: Papildus piesaistītie speciālisti un pakalpojumi
A20: 46024 | B20: Foto un video dienests | C20: vien. | D20: =F20/E20 -> 2500 | E20: 2 | F20: 5000
A21: 46055 | B21: Info centra izveide | C21: vien. | D21: =F21/E21 -> 605 | E21: 1 | F21: 605
A22: 46083 | B22: Dalībnieku reģistrācijas sistēma | C22: vien. | D22: =F22/E22 -> 1815 | E22: 1 | F22: 1815
A23: 46114 | B23: Nošu materiāla sagatavošana - Musica Baltica | C23: kompl. | D23: =F23/E23 -> 3630 | E23: 1 | F23: 3630
A24: 46144 | B24: AKKA/LAA un LAIPA Licences maksa | C24: vien. | D24: =F24/E24 -> 2286 | E24: 1 | F24: 2286
A25: 46175 | B25: Juridiskie pakalpojumi | C25: komp. | D25: =F25/E25 -> 1200 | E25: 1 | F25: 1200
A26: 46205 | B26: Komandējumi uz EE un LT | C26: vien. | D26: =F26/E26 -> 445 | E26: 4 | F26: 1780
A28: 3 | B28: Oficiālo pasākumu izmaksas
A29: 46025 | B29: Oficiālā pieņemšana pēc Atklāšanas koncerta LU (150 personas ) | C29: kompl. | D29: 4700.85 | E29: 1 | F29: =D29 -> 4700.85
A30: 3.2. | B30: Kolektīvu vadītāju pieņemšana (200 personas) | C30: kompl. | D30: 6000 | E30: 1 | F30: =D30 -> 6000
A31: 3..3. | B31: Pateicības pasākums (150 personas) | C31: kompl. | D31: 6000 | E31: 1 | F31: =D31 -> 6000
A32: 3.2. | B32: Tehniskais nodoršinājums pieņemšanās | C32: kompl. | D32: 3203.76 | E32: 1 | F32: =D32 -> 3203.76
A34: 4 | B34: Iesaistītie cilvēkresursi
A35: 46026 | B35: Tehniskais personāls dažādās norises vietās | C35: cilv. | D35: 4840 | E35: 1 | F35: 4840
A36: 46057 | B36: Ēdināšanas koordinators | C36: cilv. | D36: 2000 | E36: 1 | F36: =E36*D36 -> 2000
A37: 46085 | B37: Transporta koordinātors AAL | C37: cilv. | D37: 4000 | E37: 1 | F37: =E37*D37 -> 4000
A38: 46116 | B38: Brīvprātīgo vadītājs un 3 asistenti | C38: cilv. | D38: 2334 | E38: 1 | F38: =E38*D38 -> 2334
A39: 46146 | B39: Komunikāciju speciālista assitents | C39: cilv. | D39: =750*1.33333 -> 999.9975 | E39: 1 | F39: =D39 -> 999.9975
A40: 46177 | B40: Projekta vadītājs Zāļu tirgus un asistents | C40: cilv. | D40: 866.67 | E40: 1 | F40: =E40*D40 -> 866.67
A41: 46207 | B41: Projekta vadītājs Atklāšanas koncerts un asistents | C41: cilv. | D41: 1066.66 | E41: 1 | F41: =E41*D41 -> 1066.66
A42: 46238 | B42: Norises vietas atbildīgais (Lietuvas tautas mūzikas koncerts) | C42: cilv. | D42: 667 | E42: 1 | F42: =D42*E42 -> 667
A43: 46269 | B43: Projekta vadītājs Deju koncerts un asistents | C43: cilv. | D43: 2000 | E43: 1 | F43: =D43*E43 -> 2000
A44: 46299 | B44: Projekta vadītājs Pūtēju koncerts un asistents | C44: cilv. | D44: 1133.33 | E44: 1 | F44: =D44*E44 -> 1133.33
...

Sheet 12_Dalībnieku izmitināšana
A1: XX Baltijas valstu studentu dziesmu un deju svētki RĪGA - 2026
A3: TĀME NR. 12
A4: N.p.k. | B4: Pozīcija | C4: Vienība | D4: Cena | E4: Skaits | F4: Kopsumma
B5: Ķīpsalas izmaksas
A6: 1 | B6: Tehniskais nodrošinājums
A7: 1.1. | B7: Mīkstais segums un transports | C7: kompl. | D7: 15173.4 | E7: 1 | F7: 15173.4
A8: 1.2. | B8: Seguma ieklāšana - 18 cilvēki - 20 h darba | C8: kompl. | D8: 10200 | E8: 1 | F8: 10200
A9: 1.3. | B9: Palīgmateriāli (abpusējā līmlente, papīra līmlenta, nazīši u.c.) | C9: kompl. | D9: 1331 | E9: 1 | F9: 1331
A10: 1.4. | B10: Celtniecības žogi, transports | C10: kompl. | D10: 2180 | E10: 1 | F10: 2180
A11: 1.5. | B11: Celtniecības žogu montāža | C11: kompl. | D11: 1210 | E11: 1 | F11: 1210
A12: 1.6. | B12: Traktortehnika (fork - lift noma) | C12: kompl. | D12: 726 | E12: 1 | F12: 726
A13: 1.7. | B13: Papildus atkritumu tvertnes un atkritumu maisi, depozītu kastes | C13: kompl. | D13: 726 | E13: 1 | F13: 726
A14: 1.8. | B14: Mobilo ierīču lādēšanas sistēmas noma | C14: kompl. | D14: 1815 | E14: 1 | F14: 1815
A15: 1.9. | B15: Montāžas materiāli, plēve, savilcēji | C15: kompl. | D15: 790 | E15: 1 | F15: 790
A16: 1.10. | B16: Norāžu druka, izgatavošana | C16: kompl. | D16: 560 | E16: 1 | F16: 560
A17: 1.11. | B17: Pagarinātāji | C17: kompl. | D17: 726 | E17: 1 | F17: 726
A18: 1.12. | B18: Nakts apgaismojums | C18: kompl. | D18: 2500 | E18: 1 | F18: 2500
... A22: 1.16. | B22: Uzkopšana | C22: kompl. | D22: 1800 | E22: 1 | F22: 1800
A23: 1.1. | B23: Dalībnieku izmitināšana citās norises vietās | C23: kompl. | D23: 14330 | E23: 1 | F23: =D23 -> 14330
A24: KOPĀ | F24: =SUM(F7:F23) -> 64217.4

Sheet 13_Speciālisti
B1: XX Baltijas valstu studentu dziesmu un deju svētki RĪGA - 2026
A3: TĀME NR. 13
A4: N.p.k. | B4: Pozīcija | C4: Vienība | D4: Cena | E4: Skaits | F4: Kopsumma
A5: Pasākums nosaukums | C5: Citu piesaistīto speciālistu izmkasas
A6: 1 | B6: Citas ar pasākumu organizēšanu saistītās izmaksas
A7: 1.1. | B7: Virsproducents | C7: cilv. | D7: 9800 | E7: 1 | F7: =D7 -> 9800
A8: 1.2. | B8: Projekta vadītājs | C8: cilv. | D8: 9800 | E8: 1 | F8: =D8 -> 9800
A9: 1.3. | B9: Deju nozares mākslinieciskais vadītājs | C9: cilv. | D9: 2667 | E9: 1 | F9: =D9 -> 2667
A10: 1.4. | B10: Mākslinieciskais vadītājas | C10: cilv. | D10: 6667 | E10: 1 | F10: =D10 -> 6667
A11: 1.5. | B11: Pūtēju orķestru nozares mākslinieciskais vadītājs | C11: cilv. | D11: 1334 | E11: 1 | F11: =D11 -> 1334
A12: 1.6. | B12: Koncepcijas autors, noslēguma koncerta režisors | C12: cilv. | D12: 8000 | E12: 1 | F12: =D12 -> 8000
A13: 1.7. | B13: Atklāšanas koncerta režisors | C13: cilv. | D13: 1334 | E13: 1 | F13: =D13 -> 1334
A14: 1.8. | B14: Kominkāciju speciālists | C14: cilv. | D14: 8000 | E14: 1 | F14: =D14 -> 8000
A15: 1.9. | B15: Tehniskais direktors | C15: cilv. | D15: 9000 | E15: 1 | F15: =D15 -> 9000
A16: 1.10. | B16: Ārējās komunikācijas speciālists | C16: cilv. | D16: 6000 | E16: 1 | F16: =D16 -> 6000
A17: 1.11. | B17: Koru koordinātors | C17: cilv. | D17: 2667 | E17: 1 | F17: =D17 -> 2667
A18: 1.12. | B18: Izmitināšanas koordinātors | C18: cilv. | D18: 5600 | E18: 1 | F18: =D18 -> 5600
A19: 1.13. | B19: Drošības eksperts | C19: cilv. | D19: 8000 | E19: 1 | F19: =D19 -> 8000
A20: 1.14. | B20: Piemaksas LU KC darbiniekiem | C20: cilv. | D20: 1313.75 | E20: 8 | F20: =E20*D20 -> 10510
A21: KOPĀ | F21: =SUM(F7:F20) -> 89379

Sheet 14_Telpu nomas
A1: XX Baltijas valstu studentu dziesmu un deju svētki RĪGA - 2026
A3: TĀME NR. 14
A4: N.p.k. | B4: Pozīcija | C4: Vienība | D4: Cena | E4: Skaits | F4: Kopsumma
A5: Pasākums nosaukums | C5: Telpu nomas
A6: 1 | B6: Pasākuma norišu vietu telpu nomu izmaksas
A7: 1.1. | B7: Latvijas Universitātes Lielā Aula (resursu nodrošinājums) | C7: kompl. | D7: 3900 | E7: 1 | F7: =D7 -> 3900
A8: 1.2. | B8: Rīgas Doma baznīca | C8: kompl. | D8: 932 | E8: 1 | F8: =D8 -> 932
A9: 1.3. | B9: Xiomi arēna - kopmēģinājumam | C9: kompl. | D9: 3700 | E9: 1 | F9: =D9 -> 3700
A10: 1.4. | B10: Dailes teātris | C10: kompl. | D10: 15000 | E10: 1 | F10: =D10 -> 15000
A11: 1.5. | B11: Ķīpsalas izstāžu centrs | C11: kompl. | D11: 44528 | E11: 1 | F11: =D11 -> 44528
A12: 1.6. | B12: Kongresu nams - dalībnieku ēdināšanai | C12: kompl. | D12: 7078.5 | E12: 1 | F12: =D12 -> 7078.5
A13: KOPĀ | F13: =SUM(F7:F12) -> 75138.5
