Workbook
Name T13l6: [8]ATSKAITE!#REF!

Sheet priekšlikumi_teksta_daļai
B1: Ministriju un citu centrālo valsts iestāžu priekšlikumi
B2: likumprojekta "Par valsts budžetu 2026. gadam un budžeta ietvaru 2026., 2027. un 2028. gadam" izskatīšanai Saeimā otrajā lasījumā
D4: Priekšlikums MK atzinumam
B5: Pieņemts pirmajā lasījumā | C5: Priekšlikumi 2.lasījumam
B7: Par likumprojekta "Par valsts budžetu 2026. gadam un budžeta ietvaru 2026., 2027. un 2028. gadam" teksta daļu:
B9: 13. Finanšu ministrija
A10: =1 -> 1 | B10: 14. pants. (1) Ikgadējais pašvaldību kopējais aizņēmumu pieļaujamais palielinājums 2026., 2027. un 2028. gadā 168 138 258 euro. Sagatavojot likumu par valsts budžetu 2027. gadam un budžeta ietvaru 2027., 2028. un 2029. gadam, ikgadējais aizņēmumu pieļaujamais palielinājums tiek precizēts. | C10: Izteikt likumprojekta 14. panta pirmo daļu šādā redakcijā: "14. pants. (1) Ikgadējais pašvaldību kopējais aizņēmumu pieļaujamais palielinājums 2026., 2027. un 2028. gadā 168 138 258 euro. Sagatavojot likumprojektu par valsts budžetu 2027. gadam un budžeta ietvaru 2027., 2028., 2029. un 2030. gadam, ikgadējais aizņēmumu pieļaujamais palielinājums tiek precizēts." | D10: Atbalstīt
B11: Saskaņā ar valsts budžeta likumprojektu paketē iekļauto Grozījumu Fiskālās disciplīnas likumā pārejas noteikumiem paredzēts, ka valsts budžeta likumu četriem gadiem sagatavo, sākot ar likumprojektu "Par valsts budžetu 2027. gadam un budžeta ietvaru 2027., 2028., 2029. un 2030. gadam".
B13: 16. Zemkopības ministrija
A14: =A10+1 -> 2 | B14: 22.pants. Noteikt, ka akciju sabiedrība "Latvijas valsts meži" ieskaita valsts pamatbudžeta ieņēmumos dividenžu maksājumu 2026. gadā (par 2025. pārskata gadu) ne mazāk kā 143 895 556 euro, 2027. gadā (par 2026. pārskata gadu) ne mazāk kā 123 335 754 euro un 2028. gadā (par 2027. pārskata gadu) ne mazāk kā 123 335 754 euro, uzņēmumu ienākuma nodokli aprēķinot un nomaksājot uzņēmumu ienākuma nodokli regulējošos normatīvajos aktos noteiktajā kārtībā. | C14: Izteikt likumprojekta 22. pantu šādā redakcijā: "22. pants. Noteikt, ka akciju sabiedrība "Latvijas valsts meži" ieskaita valsts pamatbudžeta ieņēmumos dividenžu maksājumu 2026. gadā (par 2025. pārskata gadu) ne mazāk kā 155 948 000 euro, 2027. gadā (par 2026. pārskata gadu) ne mazāk kā 123 335 754 euro un 2028. gadā (par 2027. pārskata gadu) ne mazāk kā 123 335 754 euro, uzņēmumu ienākuma nodokli aprēķinot un nomaksājot uzņēmumu ienākuma nodokli regulējošos normatīvajos aktos noteiktajā kārtībā." | D14: Atbalstīt
B15: Saskaņā ar Zemkopības ministrijas 06.11.2025. vēstuli Nr.3.3-3e/1909/2025 "Par AS "Latvijas valsts meži" dividendēm" ir iespējams palielināt ieņēmumu prognozi no AS "Latvijas valsts meži" maksājumam par valsts kapitāla izmantošanu 2026.gadā 12 052 444 euro apmērā.
B17: 13. Finanšu ministrija
A18: =A14+1 -> 3 | B18: 27. pants. Vispārējās valdības sektorā iekļautajām kapitālsabiedrībām ir tiesības neveikt maksājumus par valsts kapitāla izmantošanu, ar nosacījumu, ka dividendēs izmaksājamā peļņas daļa tiek novirzīta šo kapitālsabiedrību iepriekš uzņemto finanšu saistību segšanai (finansēšanas darījums). | C18: Izteikt likumprojekta 27. pantu šādā redakcijā: "27. pants. Vispārējās valdības sektorā iekļautajām kapitālsabiedrībām ir tiesības neveikt maksājumus par valsts kapitāla izmantošanu, ar nosacījumu, ka dividendēs izmaksājamā peļņas daļa tiek novirzīta šo kapitālsabiedrību iepriekš uzņemto finanšu saistību segšanai (finansēšanas darījums), ja ir pieņemts attiecīgs Ministru kabineta lēmums." | D18: Atbalstīt
B19: Lai nodrošinātu tiesisko skaidrību par panta piemērošanas kārtību, papildināt 27.pantu ar nosacījumu, ka tiesības neveikt maksājumus par valsts kapitāla izmantošanu ir gadījumā, ja tiek pieņemts attiecīgs Ministru kabineta lēmums.
B21: 13. Finanšu ministrija
A22: =A18+1 -> 4 | C22: Papildināt likumprojekta I nodaļu ar jaunu pantu šādā redakcijā, mainot turpmāko numerāciju: "xx. pants. No 2026. gada 1. janvāra līdz 2028. gada 31. decembrim par speciālās ekonomiskās zonas pārvaldes vai brīvostas īpašumā vai valdījumā esošo nekustamo īpašumu, kurš atrodas speciālās ekonomiskās zonas vai brīvostas teritorijā un kuru speciālās ekonomiskās zonas vai brīvostas pārvalde nodevusi zonas kapitālsabiedrībai vai licencētai kapitālsabiedrībai lietošanā, nekustamā īpašuma nodokli maksā attiecīgā nekustamā īpašuma lietotājs (nomnieks). Šī panta piemērošanai termini “zonas kapitālsabiedrība” un “licencēta kapitālsabiedrība” tiek lietoti likuma “Par nodokļu piemērošanu brīvostās un speciālajās ekonomiskajās zonās” izpratnē." | D22: Atbalstīt
B23: Normatīvais regulējums izstrādāts, lai speciālās ekonomiskās zonas vai brīvostas teritorijā esoša zonas kapitālsabiedrība vai licencēta kapitālsabiedrība (likuma “Par nodokļu piemērošanu brīvostās un speciālajās ekonomiskajās zonās” izpratnē) varētu efektīvi piemērot likumā “Par nodokļu piemērošanu brīvostās un speciālajās ekonomiskajās zonās” noteikto nekustamā īpašuma nodokļa atlaidi.
B25: 15. Izglītības un zinātnes ministrija
A26: =A22+1 -> 5 | B26: 32. pants. (1) Apstiprināt mērķdotāciju apjomu pašvaldībām 676 285 740 euro apmērā, tajā skaitā: | C26: Izteikt likumprojekta 32.panta pirmās daļas 1., 2. un 3.punktu šādā redakcijā: "32. pants. (1) Apstiprināt mērķdotāciju apjomu pašvaldībām 674 543 716 euro apmērā, tai skaitā: | D26: Atbalstīt
B27: 1) pašvaldību pamata un vispārējās vidējās izglītības iestāžu, pašvaldību speciālās izglītības iestāžu, pašvaldību profesionālās izglītības iestāžu un daļējai interešu izglītības programmu pedagogu darba samaksai un valsts sociālās apdrošināšanas obligātajām iemaksām 527 435 015 euro apmērā saskaņā ar šā likuma 6. un 7. pielikumu; | C27: 1) pašvaldību pamata un vispārējās vidējās izglītības iestāžu, pašvaldību speciālās izglītības iestāžu, pašvaldību profesionālās izglītības iestāžu un daļējai interešu izglītības programmu pedagogu darba samaksai un valsts sociālās apdrošināšanas obligātajām iemaksām 528 475 275 euro apmērā saskaņā ar 6. un 7. pielikumu;
B28: 2) pašvaldību speciālo pirmsskolas izglītības grupu pedagogu darba samaksai un valsts sociālās apdrošināšanas obligātajām iemaksām, speciālajām izglītības iestādēm, kas nodrošina internāta pakalpojumus, 73 959 529 euro apmērā saskaņā ar šā likuma 8. pielikumu; | C28: 2) pašvaldību speciālo pirmsskolas izglītības grupu pedagogu darba samaksai un valsts sociālās apdrošināšanas obligātajām iemaksām, speciālajām izglītības iestādēm, kas nodrošina internāta pakalpojumus, 73 627 777 euro apmērā saskaņā ar 8. pielikumu;
B29: 3) pašvaldību izglītības iestādēs bērnu no piecu gadu vecuma izglītošanā nodarbināto pedagogu darba samaksai un valsts sociālās apdrošināšanas obligātajām iemaksām 72 828 648 euro apmērā saskaņā ar šā likuma 9. pielikumu; | C29: 3) pašvaldību izglītības iestādēs bērnu no piecu gadu vecuma izglītošanā nodarbināto pedagogu darba samaksai un valsts sociālās apdrošināšanas obligātajām iemaksām 70 378 116 euro apmērā saskaņā ar 9. pielikumu;"
B30: Priekšlikums paredz precizēt finansējuma apmēru, lai nodrošinātu pedagogu darba samaksu 2026. gadā un turpmāk, ņemot vērā izglītojamo skaita un struktūras uz 2025. gada 1. septembri izmaiņu ietekmi (neieskaitot Ukrainas civiliedzīvotājus) (MK 30.09.2025. prot. Nr. 40, 18. §, 3.1., 3.2., 3.3., 3.4. un 3.6. apakšpunkts), veikta finansējuma pārdale no budžeta resora "62. Mērķdotācijas pašvaldībām" programmām uz Izglītības un zinātnes ministrijas budžeta apakšprogrammām 01.05.00 "Dotācija privātajām mācību iestādēm", 01.08.00 "Vispārējās izglītības atbalsta pasākumi" un 02.01.00. "Profesionālās izglītības programmu īstenošana", kā arī starp budžeta resora "62. Mērķdotācijas pašvaldībām" programmām.
B32: 15. Izglītības un zinātnes ministrija
A33: =A26+1 -> 6 | B33: 38. pants, pirmā daļa, 2.punkts | C33: Izteikt likumprojekta 38. panta pirmās daļas 2.punktu šādā redakcijā: | D33: Neatbalstīt
B34: 2) Eiropas Atveseļošanas fonda finansēto projektu īstenošanai, tajā skaitā kapitālsabiedrību pamatkapitāla palielināšanai, ar aizņēmuma apmēru, kas ne vairāk kā par 10 procentiem pārsniedz projekta Eiropas Atveseļošanas fonda finansējuma kopsummu projekta saskaņotajām izmaksām un aktivitātēm, un pievienotās vērtības nodokļa izmaksām atbilstoši šā likuma 14. panta otrajā daļā minētajiem nosacījumiem; | C34: 2) Eiropas Atveseļošanas fonda finansēto projektu īstenošanai, tajā skaitā kapitālsabiedrību pamatkapitāla palielināšanai, ar aizņēmuma apmēru, kas ne vairāk kā par 50 procentiem pārsniedz projekta Eiropas Atveseļošanas fonda finansējuma kopsummu projekta saskaņotajām izmaksām un aktivitātēm, un pievienotās vērtības nodokļa izmaksām atbilstoši šā likuma 14. panta otrajā daļā minētajiem nosacījumiem;
B36: 12. Ekonomikas ministrija
A37: =A33+1 -> 7 | B37: 57. pants. (1) Jauno ārvalstu filmu uzņemšanai Latvijā finanšu ministram ir tiesības palielināt 2026. gada apropriāciju Ekonomikas ministrijai izdevumiem un palielināt valsts budžeta likumā Ekonomikas ministrijai noteiktos valsts budžeta ilgtermiņa saistību maksimāli pieļaujamos apjomus 2027. un 2028. gadam līdzfinansējuma nodrošināšanai, ja pēc ekonomikas ministra ierosinājuma ir pieņemts attiecīgs Ministru kabineta lēmums un Saeimas Budžeta un finanšu (nodokļu) komisija piecu darba dienu laikā no attiecīgās informācijas saņemšanas dienas ir to izskatījusi un nav iebildusi pret apropriācijas un valsts budžeta ilgtermiņa saistību maksimāli pieļaujamo apjomu palielinājumu. (2) Šā panta pirmajā daļā minētā līdzfinansējuma apjoms nepārsniedz 30 procentus no jauno ārvalstu filmu projekta kopējām attiecināmajām izmaksām. | C37: Izteikt likumprojekta 57. pantu šādā redakcijā: "57. pants. (1) Ārvalstu filmu uzņemšanai Latvijā finanšu ministram ir tiesības palielināt 2026. gada apropriāciju Ekonomikas ministrijai izdevumiem un palielināt valsts budžeta likumā Ekonomikas ministrijai noteiktos valsts budžeta ilgtermiņa saistību maksimāli pieļaujamos apjomus 2027. un 2028. gadam līdzfinansējuma nodrošināšanai, ja pēc ekonomikas ministra ierosinājuma ir pieņemts attiecīgs Ministru kabineta lēmums un Saeimas Budžeta un finanšu (nodokļu) komisija piecu darba dienu laikā no attiecīgās informācijas saņemšanas dienas ir to izskatījusi un nav iebildusi pret apropriācijas un valsts budžeta ilgtermiņa saistību maksimāli pieļaujamo apjomu palielinājumu. (2) Līdzfinansējuma apjoms nepārsniedz 30 procentus no ārvalstu filmu projekta kopējām attiecināmajām izmaksām." | D37: Neatbalstīt
B38: Svītrot vārdu “jauno” ar mērķi izvairīties no situācijām, kad viena daudzsēriju vai daudzsezonu projekta, kā arī viena TV šova sezonas atsevišķas daļas netiktu uztvertas par “jaunu ārvalstu filmu”. Balstoties uz LIAA pieredzi ārvalstu filmu projektu atbalsta administrēšanā, norādāms, ka filmu projekti tiek plānoti pa posmiem, un finansējums katrai sezonai vai sērijai tiek apstiprināts atsevišķi, kas nozīmē, ka kādas filmas jeb projekta vienas sērijas filmēšana Latvijā nenodrošina šāda līdzvērtīga projekta īstenošanu Latvijā nākamā budžeta periodā. Atbalsta mērķis ir ārvalstu filmu projektu piesaiste Latvijā, veicinot nozares izaugsmi, starptautisko atpazīstamību un budžeta ieņēmumus, neatkarīgi no projekta formāta vai ražošanas cikla posma.
B40: 12. Ekonomikas ministrija
A41: =A37+1 -> 8 | B41: 58. pants. (1) Jauna dižpasākuma Latvijā organizēšanas līdzfinansējumam finanšu ministram ir tiesības palielināt 2026. gada apropriāciju Ekonomikas ministrijai izdevumiem un palielināt valsts budžeta likumā Ekonomikas ministrijai noteiktos valsts budžeta ilgtermiņa saistību maksimāli pieļaujamos apjomus 2027. un 2028. gadam, ja pēc ekonomikas ministra ierosinājuma ir pieņemts attiecīgs Ministru kabineta lēmums un Saeimas Budžeta un finanšu (nodokļu) komisija piecu darba dienu laikā no attiecīgās informācijas saņemšanas dienas ir to izskatījusi un nav iebildusi pret apropriācijas un valsts budžeta ilgtermiņa saistību maksimāli pieļaujamo apjomu palielinājumu. (2) Šā panta pirmajā daļā minētā līdzfinansējuma apjoms nepārsniedz 30 procentus no jauno dižpasākumu organizēšanas attiecināmajām izmaksām. (3) Dižpasākums šā panta izpratnē ir starptautiska mēroga pasākums, kuru organizē, deleģē vai kura sadarbības partneris ir pasaules vai Eiropas mēroga organizācija un kurš rada būtisku ietekmi uz Latvijas tautsaimniecību, piesaistot vismaz 5 000 ārvalstu apmeklētāju un dalībnieku, kas Latvijas tūristu mītnēs vai īstermiņa īres mītnēs pavada vismaz divas naktis. | C41: Izteikt likumprojekta 58. pantu šādā redakcijā: "58. pants. (1) Dižpasākuma Latvijā organizēšanas līdzfinansējumam finanšu ministram ir tiesības palielināt 2026. gada apropriāciju Ekonomikas ministrijai izdevumiem un palielināt valsts budžeta likumā Ekonomikas ministrijai noteiktos valsts budžeta ilgtermiņa saistību maksimāli pieļaujamos apjomus 2027. un 2028. gadam, ja pēc ekonomikas ministra ierosinājuma ir pieņemts attiecīgs Ministru kabineta lēmums un Saeimas Budžeta un finanšu (nodokļu) komisija piecu darba dienu laikā no attiecīgās informācijas saņemšanas dienas ir to izskatījusi un nav iebildusi pret apropriācijas un valsts budžeta ilgtermiņa saistību maksimāli pieļaujamo apjomu palielinājumu. (2) Līdzfinansējuma apjoms nepārsniedz 30 procentus no dižpasākumu organizēšanas attiecināmajām izmaksām vai nepārsniedz 50 procentus, ja tas rada ietekmi uz Latvijas tautsaimniecību vismaz 6 000 000 euro apmērā. (3) Dižpasākums šā panta izpratnē ir starptautiska mēroga pasākums, kas Latvijā vēl nav noticis, vai tā norises vieta mainās starp valstīm, kuru īsteno vai kura sadarbības partneris ir pasaules vai Eiropas mēroga organizācija vai īstenotājam ir pieredze starptautisku pasākumu organizēšanā, un kurš rada būtisku ietekmi uz Latvijas tautsaimniecību, piesaistot vismaz 5 000 ārvalstu apmeklētāju un dalībnieku naktis (dižpasākumiem Rīgas valstspilsētas pašvaldības administratīvajā teritorijā - vismaz 10 000 ārvalstu apmeklētāju un dalībnieku naktis) Latvijas tūristu mītnēs." | D41: Neatbalstīt
B42: Izglītības, kultūras un zinātnes komisijas Sporta apakškomisijas šī gada 30. septembra sēdē, kurā piedalījās Ekonomikas ministrijas (turpmāk - EM), Izglītības un zinātnes ministrijas (turpmāk - IZM), Finanšu ministrijas (turpmāk - FM), LIAA, Latvijas Sporta federāciju padomes (turpmāk – LSFP), kā arī citi sporta nozares pārstāvji, tika analizēta dižpasākumu programmas piemērošanas pieredze. Lai nodrošinātu apakškomisijas uzdotā uzdevuma izpildi, kā arī atbilstoši LSFP šī gada 19. augusta iesniegumā Nr. 6-25/81 “Par “Dižpasākumu” atbalsta regulējumu” pausto, atsaucoties uz EM šī gada 23. septembra vēstulē Nr. 3.3-4/2025/5594N IZM un FM paustajiem argumentiem un datiem: [1] Kritērija “vismaz 5 000 ārvalstu apmeklētāju un dalībnieku, kas Latvijas tūristu mītnēs vai īstermiņa īres mītnēs pavada vismaz divas naktis” vietā noteikt elastīgāku kritēriju: “vismaz 5 000 ārvalstu apmeklētāju un dalībnieku naktis Latvijas tūristu mītnēs (dižpasākumiem Rīgas valstspilsētas pašvaldības administratīvajā teritorijā - vismaz 10 000 ārvalstu apmeklētāju un dalībnieku naktis)”: - kritērijs “naktis” nodrošina salīdzinošu ekonomisko ietekmi; ilgāki pasākumi ar mazāku dalībnieku skaitu (piemēram, 2000 ārvalstu viesi uz vismaz 5 naktīm) rada stabilu noslodzi viesnīcām un ēdināšanai ilgākā laika posmā, kas īpaši svarīgi reģionos ar zemāku sezonālo pieprasījumu un mazākām izmitināšanas kapacitātēm. [2] Izslēgt prasību, ka dižpasākums ir "tikai jauns” (attiecīgi Ministru kabineta 2025. gada 11. februāra noteikumos Nr.99 "Kārtība, kādā lieliem, nozīmīgiem publiskiem pasākumiem un ārvalstu filmu uzņemšanai Latvijā tiek piešķirts valsts budžeta līdzfinansējums" noteikts: ne biežāk kā reizi četros gados vai ja plānotie ieņēmumi un izdevumi vismaz 3 reizes pārsniedz iepriekšējā dižpasākuma ieņēmumu un izdevumu apjomu), nosakot – atbalstu var saņemt gan jauni pasākumi (tādi, kas Latvijā vēl nav notikuši), gan arī pasākumi, kas ir daļa no pasākumu sērijas vai posmiem vairākās valstīs, un Latvijā tiek rīkots kā konkrēts čempionāta vai pasākuma posms. Šādi pasākumi nav garantēti ik gadu, jo tie norisinās dažādās valstīs un, ja netiek nenodrošināta iespēja tos rīkot vairākus gadus pēc kārtas, nav garantijas, ka pasākuma organizatori izvēlēsies Latviju kā norises vietu. [3] Saglabāt principu, ka līdzfinansējums nepārsniedz 30% no attiecināmajām izmaksām, kā arī papildus noteikt augstāku intensitāti - līdz 50% no attiecināmajām izmaksām, ja pasākuma ekonomiskā ietekme uz Latvijas tautsaimniecību ir vismaz 6 milj. euro apmērā.
B44: 13. Finanšu ministrija
A45: =A41+1 -> 9 | B45: 69. panta pirmā daļa (1) Noteikt, ka budžeta resora "74. Gadskārtējā valsts budžeta izpildes procesā pārdalāmais finansējums" programmā 23.00.00 "Valsts atbalsta programmas un citi valsts nozīmes pasākumi" noteikto apropriāciju 26 327 677 euro apmērā, tajā skaitā 24 497 677 euro apmērā valsts publiskās lietošanas dzelzceļa infrastruktūras pārvaldītāja (valsts akciju sabiedrības "Latvijas dzelzceļš") finanšu līdzsvara par 2025. gadu nodrošināšanai, 1 400 000 euro apmērā Rail Baltica projekta Latvijā ieviešanas izvērtējuma veikšanai, kā arī vienota dzelzceļa infrastruktūras pārvaldības modeļa izstrādei, 430 000 euro apmērā 20. Baltijas valstu studentu dziesmu un deju svētku "Gaudeamus" rīkošanai, finanšu ministrs pārdala ministrijai vai citai centrālajai valsts iestādei, ja ir pieņemts attiecīgs Ministru kabineta lēmums un Saeimas Budžeta un finanšu (nodokļu) komisija piecu darba dienu laikā no attiecīgās informācijas saņemšanas dienas ir to izskatījusi un nav iebildusi pret apropriācijas pārdali. | C45: Izteikt likumprojekta 69. panta pirmo daļu šādā redakcijā: "(1) Noteikt, ka budžeta resora "74. Gadskārtējā valsts budžeta izpildes procesā pārdalāmais finansējums" programmā 23.00.00 "Valsts atbalsta programmas un citi valsts nozīmes pasākumi" noteikto apropriāciju 32 127 677 euro apmērā, tajā skaitā 24 497 677 euro apmērā valsts publiskās lietošanas dzelzceļa infrastruktūras pārvaldītāja (valsts akciju sabiedrības "Latvijas dzelzceļš") finanšu līdzsvara par 2025. gadu nodrošināšanai, 1 400 000 euro apmērā Rail Baltica projekta Latvijā ieviešanas izvērtējuma veikšanai, kā arī vienota dzelzceļa infrastruktūras pārvaldības modeļa izstrādei, 430 000 euro apmērā 20. Baltijas valstu studentu dziesmu un deju svētku "Gaudeamus" rīkošanai, 1 800 000 euro apmērā vardarbībā cietušo atbalstam un drošības pasākumu īstenošanai, 4 000 000 euro aizsargāto eletroenerģijas lietotāju atbalstam, finanšu ministrs pārdala ministrijai vai citai centrālajai valsts iestādei, ja ir pieņemts attiecīgs Ministru kabineta lēmums un Saeimas Budžeta un finanšu (nodokļu) komisija piecu darba dienu laikā no attiecīgās informācijas saņemšanas dienas ir to izskatījusi un nav iebildusi pret apropriācijas pārdali." | D45: Atbalstīt
B46: Vardarbībā cietušo atbalstam un drošības pasākumu īstenošanai paredzēt papildu 1 800 000 euro 2026.gadam 74.resora programmā 23.00.00 "Valsts atbalsta programmas un citi valsts nozīmes pasākumi", kas tiek pārdalīts attiecīgaijai ministrijai (VM, IZM un IeM) atbilstoši MK lēmumam un Saeimas Budžeta un finanšu (nodokļu) komisijas saskaņojumam. Aizsargāto eletroenerģijas lietotāju atbalstam paredzēt papildu 4 000 000 euro 2026.gadam 74.resora programmā 23.00.00 "Valsts atbalsta programmas un citi valsts nozīmes pasākumi", kas tiek Klimata un enerģētikas ministrijai atbilstoši MK lēmumam un Saeimas Budžeta un finanšu (nodokļu) komisijas saskaņojumam.
B48: 13. Finanšu ministrija
A49: =A45+1 -> 10 | B49: 71. pants. Finanšu ministram ir tiesības ministrijām un citām centrālajām valsts iestādēm līdz 2026. gada 30. septembrim nepārdalīto šā likuma 61., 62., 63., 64., 65., 67., 68., un 69. pantā (ievērojot panta otrās daļas nosacījumu) minētajās budžeta resora “74. Gadskārtējā valsts budžeta izpildes procesā pārdalāmais finansējums” programmās, kā arī programmā 01.00.00 "Apropriācijas rezerve" noteikto apropriāciju pārdalīt uz programmu 02.00.00 "Līdzekļi neparedzētiem gadījumiem". | C49: Izslēgt no 71. panta skaitli "64." | D49: Atbalstīt
B50: Priekšlikums paredz precizēt to programmu sarakstu, no kurām līdz 2026. gada 30. septembrim nepārdalīto apropriāciju finanšu ministram ir tiesības pārdalīt uz programmu 02.00.00 "Līdzekļi neparedzētiem gadījumiem", no saraksta izslēdzot programmu 12.00.00 "Finansējums veselības jomas pasākumiem Covid-19 infekcijas izplatības ierobežošanai" (Covid pasākumi ir atzīti kā vienreizēji).
B52: 14. Iekšlietu ministrija
A53: =A49+1 -> 11 | B53: 71. pants. Finanšu ministram ir tiesības ministrijām un citām centrālajām valsts iestādēm līdz 2026. gada 30. septembrim nepārdalīto šā likuma 61., 62., 63., 64., 65., 67., 68., un 69. pantā (ievērojot panta otrās daļas nosacījumu) minētajās budžeta resora “74. Gadskārtējā valsts budžeta izpildes procesā pārdalāmais finansējums” programmās, kā arī programmā 01.00.00 "Apropriācijas rezerve" noteikto apropriāciju pārdalīt uz programmu 02.00.00 "Līdzekļi neparedzētiem gadījumiem". | C53: Izslēgt no 71. panta skaitļus "65." un "68." | D53: Atbalstīt
...

Sheet AiM
C1: Pieņemts pirmajā lasījumā | D1: Priekšlikums par izmaiņām | F1: Pieņemts pirmajā lasījumā | G1: Priekšlikums par izmaiņām | H1: Priekšlikums MK atzinumam
B3: Par likumprojekta "Par valsts budžetu 2026. gadam un budžeta ietvaru 2026., 2027. un 2028. gadam" skaitlisko daļu:
B5: Sadalījumā pa budžeta resoriem
B7: 10. Aizsardzības ministrija
A9: =1 -> 1 | B9: 10.Aizsardzības ministrija | H9: Atbalstīt
B10: 4.pielikums
B11: 33.00.00 Aizsardzības īpašumu pārvaldīšana
B12: Resursi izdevumu segšanai | C12: =+C13+C14 -> 184229450
B13: Ieņēmumi no maksas pakalpojumiem un citi pašu ieņēmumi – kopā | C13: 6510254
B14: Dotācija no vispārējiem ieņēmumiem | C14: =+C15 -> 177719196
B15: Vispārējā kārtībā sadalāmā dotācija no vispārējiem ieņēmumiem | C15: 177719196
B16: Izdevumi – kopā | C16: =+C17+C27 -> 184229450 | D16: =+D17+D27 -> 0
B17: Uzturēšanas izdevumi | C17: =+C18+C21+C23 -> 49666518 | D17: =+D18+D21+D23 -> 460000
B18: Kārtējie izdevumi | C18: =+C20+C19 -> 49548452 | D18: =+D20 -> 0
B19: Atlīdzība | C19: 10872008
B20: Preces un pakalpojumi | C20: 38676444
B21: Subsīdijas, dotācijas, sociālie maksājumi un kompensācijas | C21: =+C22 -> 0 | D21: =+D22 -> 460000
B22: Subsīdijas un dotācijas | D22: 460000
B23: Transferti viena budžeta veida ietvaros un uzturēšanas izdevumu transferti starp budžeta veidiem | C23: =+C24 -> 118066 | D23: =+D24 -> 0
B24: Valsts budžeta transferti un uzturēšanas izdevumu transferti | C24: =+C25 -> 118066
B25: Valsts budžeta transferti no valsts pamatbudžeta uz valsts pamatbudžetu | C25: =+C26 -> 118066
B26: Valsts budžeta transferti no valsts pamatbudžeta dotācijas no vispārējiem ieņēmumiem uz valsts pamatbudžetu | C26: 118066
B27: Kapitālie izdevumi | C27: =+C28 -> 134562932 | D27: =+D28 -> -460000
B28: Pamatkapitāla veidošana | C28: 134562932 | D28: -460000
B29: 10.Aizsardzības ministrija
B30: 3.pielikums
B31: I. Valsts pamatfunkciju īstenošana
B32: 2027.gads
B33: Resursi izdevumu segšanai | C33: =+C34+C35 -> 142544254
B34: Ieņēmumi no maksas pakalpojumiem un citi pašu ieņēmumi – kopā | C34: 6510254
B35: Dotācija no vispārējiem ieņēmumiem | C35: =+C36 -> 136034000
B36: Vispārējā kārtībā sadalāmā dotācija no vispārējiem ieņēmumiem | C36: 136034000
B37: Izdevumi – kopā | C37: =+C38+C44 -> 142544254 | D37: =+D38+D44 -> 0
B38: Uzturēšanas izdevumi | C38: =+C39+C42 -> 48992145 | D38: =+D39+D42 -> 760000
B39: Kārtējie izdevumi | C39: =+C41+C40 -> 48992145 | D39: =+D41 -> 0
B40: Atlīdzība | C40: 10197635
B41: Preces un pakalpojumi | C41: 38794510
B42: Subsīdijas, dotācijas, sociālie maksājumi un kompensācijas | C42: =+C43 -> 0 | D42: 760000
B43: Subsīdijas un dotācijas | D43: 760000
B44: Kapitālie izdevumi | C44: =+C45 -> 93552109 | D44: =+D45 -> -760000
...

Sheet ĀM
C1: Pieņemts pirmajā lasījumā | D1: Priekšlikums par izmaiņām | F1: Pieņemts pirmajā lasījumā | G1: Priekšlikums par izmaiņām | H1: Priekšlikums MK atzinumam
B3: 11. Ārlietu ministrija
A5: =AiM!A126+1 -> 5 | B5: 74. Gadskārtējā valsts budžeta izpildes procesā pārdalāmais finansējums | E5: 03. Ministru kabinets | H5: Atbalstīt
B6: 4.pielikums | E6: 4.pielikums
B7: 04.00.00 Latvijas prezidentūras Eiropas Savienības Padomē nodrošināšana | E7: 96.00.00 Latvijas prezidentūras Eiropas Savienības Padomē nodrošināšana
B8: Resursi izdevumu segšanai | C8: 9575070 | D8: -2775901 | E8: Resursi izdevumu segšanai | G8: 62791
B9: Dotācija no vispārējiem ieņēmumiem | C9: 9575070 | D9: -2775901 | E9: Dotācija no vispārējiem ieņēmumiem | G9: 62791
B10: Vispārējā kārtībā sadalāmā dotācija no vispārējiem ieņēmumiem | C10: 9575070 | D10: -2775901 | E10: Vispārējā kārtībā sadalāmā dotācija no vispārējiem ieņēmumiem | G10: 62791
B11: Izdevumi - kopā | C11: 9575070 | D11: -2775901 | E11: Izdevumi - kopā | G11: 62791
B12: Uzturēšanas izdevumi | C12: 9575070 | D12: -2775901 | E12: Uzturēšanas izdevumi | G12: 62791
B13: Subsīdijas, dotācijas, sociālie maksājumi un kompensācijas | C13: 9575070 | D13: -2775901 | E13: Kārtējie izdevumi | G13: 62791
B14: Subsīdijas un dotācijas | C14: 9575070 | D14: -2775901 | E14: Atlīdzība | G14: 62791
E15: 11. Ārlietu ministrija
E16: 4.pielikums
E17: 96.01.00 Latvijas prezidentūras Eiropas Savienības Padomē sekretariāta darbības nodrošināšana
E18: Resursi izdevumu segšanai | F18: 124930 | G18: 1437076
E19: Dotācija no vispārējiem ieņēmumiem | F19: 124930 | G19: 1437076
E20: Vispārējā kārtībā sadalāmā dotācija no vispārējiem ieņēmumiem | F20: 124930 | G20: 1437076
E21: Izdevumi - kopā | F21: 124930 | G21: 1437076
E22: Uzturēšanas izdevumi | F22: 124930 | G22: 1401022
E23: Kārtējie izdevumi | F23: 124930 | G23: 1401022
E24: Atlīdzība | F24: 0 | G24: 1230354
E25: Preces un pakalpojumi | F25: 124930 | G25: =161758+8910 -> 170668
E26: Kapitālie izdevumi | F26: 0 | G26: 36054
E27: Pamatkapitāla veidošana | F27: 0 | G27: 36054
E28: 96.03.00 Latvijas prezidentūras Eiropas Savienības Padomē nodrošināšana (ministrijas pasākumi)
E29: Resursi izdevumu segšanai | G29: 380953
E30: Dotācija no vispārējiem ieņēmumiem | G30: 380953
E31: Vispārējā kārtībā sadalāmā dotācija no vispārējiem ieņēmumiem | G31: 380953
E32: Izdevumi - kopā | G32: 380953
E33: Uzturēšanas izdevumi | G33: 353303
E34: Kārtējie izdevumi | G34: 353303
E35: Atlīdzība | G35: 264341
E36: Preces un pakalpojumi | G36: 88962
E37: Kapitālie izdevumi | G37: 27650
E38: Pamatkapitāla veidošana | G38: 27650
E39: 12. Ekonomikas ministrija
E40: 4.pielikums
E41: 96.00.00 Latvijas prezidentūras Eiropas Savienības Padomē nodrošināšana
E42: Resursi izdevumu segšanai | G42: 188889
...

Sheet EM
C1: Pieņemts pirmajā lasījumā | D1: Priekšlikums par izmaiņām | F1: Pieņemts pirmajā lasījumā | G1: Priekšlikums par izmaiņām | H1: Priekšlikums MK atzinumam
B3: 12. Ekonomikas ministrija
A5: =ĀM!A346+1 -> 8 | B5: 12. Ekonomikas ministrija | E5: 74. Gadskārtējā valsts budžeta izpildes procesā pārdalāmais finansējums | H5: Atbalstīt
B6: 4.pielikums | E6: 4.pielikums
B7: 26.04.00 "Atbilstības novērtēšana un kvalitātes nodrošināšana" | E7: 02.00.00 “Līdzekļi neparedzētiem gadījumiem”
B8: Resursi izdevumu segšanai | C8: =C9 -> 344727 | D8: =D9 -> -111300 | E8: Resursi izdevumu segšanai | F8: =F9 -> 88708281 | G8: =G9 -> 111300
B9: Dotācija no vispārējiem ieņēmumiem | C9: =C10 -> 344727 | D9: =D10 -> -111300 | E9: Dotācija no vispārējiem ieņēmumiem | F9: =F10 -> 88708281 | G9: =G10 -> 111300
B10: Vispārējā kārtībā sadalāmā dotācija no vispārējiem ieņēmumiem | C10: 344727 | D10: -111300 | E10: Vispārējā kārtībā sadalāmā dotācija no vispārējiem ieņēmumiem | F10: 88708281 | G10: 111300
B11: Izdevumi – kopā | C11: =C12 -> 344727 | D11: =D12 -> -111300 | E11: Izdevumi – kopā | F11: =F12 -> 88708281 | G11: =G12 -> 111300
B12: Uzturēšanas izdevumi | C12: =C13+C15 -> 344727 | D12: =D13+D15 -> -111300 | E12: Uzturēšanas izdevumi | F12: =F13 -> 88708281 | G12: =G13 -> 111300
B13: Subsīdijas, dotācijas, sociālie maksājumi un kompensācijas | C13: =C14 -> 321917 | D13: =D14 -> -111300 | E13: Subsīdijas, dotācijas, sociālie maksājumi un kompensācijas | F13: =F14 -> 88708281 | G13: =G14 -> 111300
B14: Subsīdijas un dotācijas | C14: 321917 | D14: -111300 | E14: Subsīdijas un dotācijas | F14: 88708281 | G14: 111300
B15: Transferti viena budžeta veida ietvaros un uzturēšanas izdevumu transferti starp budžeta veidiem | C15: =C16 -> 22810 | D15: =D16 -> 0
B16: Pārējie valsts budžeta uzturēšanas izdevumu transferti citiem budžetiem | C16: =C17 -> 22810 | D16: =D17 -> 0
B17: Pārējie valsts budžeta uzturēšanas izdevumu transferti valsts budžeta daļēji finansētām atvasinātām publiskām personām un budžeta nefinansētām iestādēm | C17: 22810
B18: 12.Ekonomikas ministrija | E18: 74. Gadskārtējā valsts budžeta izpildes procesā pārdalāmais finansējums
B19: 3.pielikums | E19: 3.pielikums
B20: I. Valsts pamatfunkciju īstenošana | E20: I. Valsts pamatfunkciju īstenošana
B21: 2027.gads | E21: 2027.gads
B22: Resursi izdevumu segšanai | C22: =C23+C24+C29 -> 95848750 | D22: =D29 -> -111300 | E22: Resursi izdevumu segšanai | F22: =F23 -> 841606476 | G22: =G23 -> 111300
B23: Ieņēmumi no maksas pakalpojumiem un citi pašu ieņēmumi – kopā | C23: 1724725 | E23: Dotācija no vispārējiem ieņēmumiem | F23: =F24 -> 841606476 | G23: =G24 -> 111300
B24: Transferti | C24: =C25 -> 0 | E24: Vispārējā kārtībā sadalāmā dotācija no vispārējiem ieņēmumiem | F24: 841606476 | G24: 111300
B25: Valsts budžeta transferti | C25: =C26 -> 0 | E25: Izdevumi – kopā | F25: =F26 -> 841606476 | G25: =G26 -> 111300
B26: Valsts pamatbudžeta savstarpējie transferti | C26: =C27 -> 0 | E26: Uzturēšanas izdevumi | F26: =F27 -> 841606476 | G26: =G27 -> 111300
B27: Valsts pamatbudžeta iestāžu saņemtie transferti no valsts pamatbudžeta | C27: =C28 -> 0 | E27: Subsīdijas, dotācijas, sociālie maksājumi un kompensācijas | F27: =F28 -> 841606476 | G27: =G28 -> 111300
B28: Valsts pamatbudžeta iestāžu saņemtie transferti no valsts pamatbudžeta dotācijas no vispārējiem ieņēmumiem | E28: Subsīdijas un dotācijas | F28: 841606476 | G28: 111300
B29: Dotācija no vispārējiem ieņēmumiem | C29: =C30 -> 94124025 | D29: =D30 -> -111300
B30: Vispārējā kārtībā sadalāmā dotācija no vispārējiem ieņēmumiem | C30: 94124025 | D30: -111300
B31: Izdevumi – kopā | C31: =C32+C47 -> 95956350 | D31: =D32 -> -111300
B32: Uzturēšanas izdevumi | C32: =C33+C36+C38+C40 -> 93459746 | D32: =D36 -> -111300
B33: Kārtējie izdevumi | C33: =C34+C35 -> 54725457
B34: Atlīdzība | C34: 36714929
B35: Preces un pakalpojumi | C35: 18010528
B36: Subsīdijas, dotācijas, sociālie maksājumi un kompensācijas | C36: =C37 -> 36727768 | D36: =D37 -> -111300
B37: Subsīdijas un dotācijas | C37: 36727768 | D37: -111300
B38: Kārtējie maksājumi Eiropas Savienības budžetā un starptautiskā sadarbība | C38: =C39 -> 185683
B39: Starptautiskā sadarbība | C39: 185683
B40: Transferti viena budžeta veida ietvaros un uzturēšanas izdevumu transferti starp budžeta veidiem | C40: =C41+C45 -> 1820838
B41: Valsts budžeta transferti un uzturēšanas izdevumu transferti | C41: =C42+C43 -> 1787328
B42: Valsts budžeta uzturēšanas izdevumu transferti no valsts pamatbudžeta uz valsts speciālo budžetu | C42: 23328
...

Sheet FM
C1: Pieņemts pirmajā lasījumā | D1: Priekšlikums par izmaiņām | F1: Pieņemts pirmajā lasījumā | G1: Priekšlikums par izmaiņām | H1: Priekšlikums MK atzinumam
B3: 13. Finanšu ministrija
A5: =EM!A5+1 -> 9 | B5: 74. Gadskārtējā valsts budžeta izpildes procesā pārdalāmais finansējums | E5: 13. Finanšu ministrija | H5: Atbalstīt
B6: 4. pielikums | E6: 4. pielikums
B7: 18.00.00 "Finansējums valsts drošības stiprināšanas pasākumiem" | E7: 38.01.00 "Eiropas Savienības pirmsstrukturālo, strukturālo un citu finanšu instrumentu koordinācija"
B8: Resursi izdevumu segšanai | C8: 243093314 | D8: -35000 | E8: Resursi izdevumu segšanai | F8: 1490379 | G8: 35000
B9: Dotācija no vispārējiem ieņēmumiem | C9: 243093314 | D9: -35000 | E9: Dotācija no vispārējiem ieņēmumiem | F9: 1490379 | G9: =G8 -> 35000
B10: Vispārējā kārtībā sadalāmā dotācija no vispārējiem ieņēmumiem | C10: 243093314 | D10: -35000 | E10: Vispārējā kārtībā sadalāmā dotācija no vispārējiem ieņēmumiem | F10: 1490379 | G10: =G9 -> 35000
B11: Izdevumi – kopā | C11: 243093314 | D11: -35000 | E11: Izdevumi – kopā | F11: 1490379 | G11: =G8 -> 35000
B12: Subsīdijas, dotācijas, sociālie maksājumi un kompensācijas | C12: 243093314 | D12: -35000 | E12: Uzturēšanas izdevumi | F12: 1470379 | G12: 35000
B13: Subsīdijas un dotācijas | C13: 243093314 | D13: -35000 | E13: Kārtējie izdevumi | F13: 1470379 | G13: 35000
E14: Atlīdzība | F14: 1229354 | G14: 9500
E15: Preces un pakalpojumi | F15: 241025 | G15: 25500
B16: Saskaņā ar Ministru kabineta 2025. gada 16. oktobra rīkojuma Nr.675 (prot.Nr.43 49.§) 4. punktu veikta finansējuma pārdale no 74. resora "Gadskārtējā valsts budžeta izpildes procesā pārdalāmais finansējums" budžeta programmas 18.00.00 "Finansējums valsts drošības stiprināšanas pasākumiem" 2026. gadā 35 000 euro apmērā uz Finanšu ministrijas budžeta apakšprogrammu 38.01.00 "Eiropas Savienības pirmsstrukturālo, strukturālo un citu finanšu instrumentu koordinācija" Centrālajai finanšu un līgumu aģentūrai iesaistei NATO projektā militārās slimnīcas atjaunošanai Ukrainā
A18: =A5+1 -> 10 | B18: 13. Finanšu ministrija | E18: 74. Gadskārtējā valsts budžeta izpildes procesā pārdalāmais finansējums | H18: Atbalstīt
B19: 4.pielikums | E19: 4.pielikums
B20: 31.02.00 "Valsts parāda vadība" | E20: 23.00.00 Valsts atbalsta programmas un citi valsts nozīmes pasākumi
B21: Resursi izdevumu segšanai | C21: 587604862 | D21: -1800000 | E21: Resursi izdevumu segšanai | F21: 26327677 | G21: =G22 -> 1800000
B22: Dotācija no vispārējiem ieņēmumiem | C22: 587604862 | D22: -1800000 | E22: Dotācija no vispārējiem ieņēmumiem | F22: 26327677 | G22: =G23 -> 1800000
B23: Vispārējā kārtībā sadalāmā dotācija no vispārējiem ieņēmumiem | C23: 587604862 | D23: -1800000 | E23: Vispārējā kārtībā sadalāmā dotācija no vispārējiem ieņēmumiem | F23: 26327677 | G23: =G24 -> 1800000
B24: Izdevumi – kopā | C24: 587604862 | D24: -1800000 | E24: Izdevumi – kopā | F24: 26327677 | G24: =G25 -> 1800000
B25: Uzturēšanas izdevumi | C25: 587604862 | D25: -1800000 | E25: Uzturēšanas izdevumi | F25: 26327677 | G25: =G26 -> 1800000
B26: Procentu izdevumi | C26: 583997248 | D26: -1800000 | E26: Subsīdijas, dotācijas, sociālie maksājumi un kompensācijas | F26: 26327677 | G26: =G27 -> 1800000
E27: Subsīdijas un dotācijas | F27: 26327677 | G27: 1800000
B28: Vardarbībā cietušo atbalstam un drošības pasākumu īstenošanai paredzēt papildu 1 800 000 euro 74.resora programmā 23.00.00 "Valsts atbalsta programmas un citi valsts nozīmes pasākumi", kas tiek pārdalīts attiecīgaijai ministrijai (VM, IZM un IeM) atbilstoši MK lēmumam un Saeimas Budžeta un finanšu (nodokļu) komisijas saskaņojumam.
A30: =A18+1 -> 11 | B30: Valsts budžeta ieņēmumi | E30: 13. Finanšu ministrija | H30: Atbalstīt
B31: 2.pielikums | E31: 3.pielikums
B32: I. Valsts pamatbudžeta ieņēmumi | E32: 2027.gads
B33: 2027.gads | E33: Resursi izdevumu segšanai | F33: 1291802177 | G33: -2900000
B34: Uzņēmumu ienākuma nodoklis | C34: 715692750 | D34: -2900000 | E34: Dotācija no vispārējiem ieņēmumiem | F34: 1289920323 | G34: -2900000
E35: Vispārējā kārtībā sadalāmā dotācija no vispārējiem ieņēmumiem | F35: 1289920323 | G35: -2900000
E36: Izdevumi – kopā | F36: 1287707357 | G36: -2900000
E37: Uzturēšanas izdevumi | F37: 1278545593 | G37: -2900000
E38: Procentu izdevumi | F38: 643028885 | G38: -2900000
B39: Priekšlikums grozījumiem Uzņēmumu ienākuma nodokļa likumā Izslēgt 1. lasījumā atbalstītā likumprojekta 5. pantu. Regulējuma, kas paredz veicināt piekļuvi alternatīviem finansējuma avotiem un finansējuma izmaksu samazināšana, piemērošanas uzsākšanu ar 2026.gadu (tika paredzēts ar 2028.gadu). Līdzekļu ietaupījums FM apakšprogrammā 31.02.00 “Valsts parāda vadība” 2026. - 2028. gadā izveidojies, jo aizņemšanās pasākumi finanšu tirgos 2025. gada 2. pusgadā tika īstenoti ar zemākām procentu likmēm, nekā sākotnēji tika prognozēts, t.sk. š.g. septembrī starptautiskajos finanšu tirgos emitētas 10 gadu obligācijas 1,250 mljrd. EUR apmērā, regulāri veiktas apgrozībā esošo Latvijas obligāciju papildu laidienu izsoles š.g. septembrī – oktobrī 200 milj. EUR apmērā ar dzēšanas termiņiem 2029.-2031. gadā. Aizņemšanās darījumi veikti ar izdevīgiem nosacījumiem, izvēloties labvēlīgu aizņemšanās brīdi un uzturot elastību aizņēmumu nosacījumu izvēlē.

Sheet IeM
C1: Pieņemts pirmajā lasījumā | D1: Priekšlikums par izmaiņām | F1: Pieņemts pirmajā lasījumā | G1: Priekšlikums par izmaiņām | H1: Priekšlikums MK atzinumam
B3: 14. Iekšlietu ministrija
A5: =FM!A30+1 -> 12 | B5: 14. Iekšlietu ministrija | E5: 14. Iekšlietu ministrija | H5: Atbalstīt
B6: 4.pielikums | E6: 4.pielikums
B7: 06.01.00 “Valsts policija” | E7: 40.01.00 “Administrēšana”
B8: Resursi izdevumu segšanai | C8: 243576957 | D8: =D9+D10 -> -34215 | E8: Resursi izdevumu segšanai | F8: 6965605 | G8: =G9 -> 34215
B9: Ieņēmumi no maksas pakalpojumiem un citi pašu ieņēmumi – kopā | C9: 1260130 | E9: Dotācija no vispārējiem ieņēmumiem | F9: 6965605 | G9: =G10 -> 34215
B10: Dotācija no vispārējiem ieņēmumiem | C10: 242316827 | D10: =D11 -> -34215 | E10: Vispārējā kārtībā sadalāmā dotācija no vispārējiem ieņēmumiem | F10: 6965605 | G10: 34215
B11: Vispārējā kārtībā sadalāmā dotācija no vispārējiem ieņēmumiem | C11: 242316827 | D11: -34215 | E11: Izdevumi – kopā | F11: 6965605 | G11: =G12 -> 34215
B12: Izdevumi – kopā | C12: 243576957 | D12: =D13+D25 -> -34215 | E12: Uzturēšanas izdevumi | F12: 6965605 | G12: =G13 -> 34215
B13: Uzturēšanas izdevumi | C13: 241030729 | D13: =D14 -> -34215 | E13: Kārtējie izdevumi | F13: 6965605 | G13: =G14+G15 -> 34215
B14: Kārtējie izdevumi | C14: 237433710 | D14: =D15+D16 -> -34215 | E14: Atlīdzība | F14: 6909949 | G14: 34215
B15: Atlīdzība | C15: 203455403 | D15: -34215 | E15: Preces un pakalpojumi | F15: 55656
B16: Preces un pakalpojumi | C16: 33978307
B17: Subsīdijas, dotācijas, sociālie maksājumi un kompensācijas | C17: 3482918
B18: Subsīdijas un dotācijas | C18: 3440918
B19: Sociāla rakstura maksājumi un kompensācijas | C19: 42000
B20: Kārtējie maksājumi Eiropas Savienības budžetā un starptautiskā sadarbība | C20: 106325
B21: Starptautiskā sadarbība | C21: 106325
B22: Transferti viena budžeta veida ietvaros un uzturēšanas izdevumu transferti starp budžeta veidiem | C22: 7776
B23: Valsts budžeta transferti un uzturēšanas izdevumu transferti | C23: 7776
B24: Valsts budžeta uzturēšanas izdevumu transferti no valsts pamatbudžeta uz valsts speciālo budžetu | C24: 7776
B25: Kapitālie izdevumi | C25: 2546228
B26: Pamatkapitāla veidošana | C26: 2546228
B27: Saskaņā ar starp Valsts policiju un Nodrošinājuma valsts aģentūru 2025. gada 26. septembrī noslēgto Vienošanos Nr. IeM_NVA_2025/24-Līg(2696) veikta finansējuma pārdale no budžeta apakšprogrammas 06.01.00 “Valsts policija” uz budžeta apakšprogrammu 40.01.00 “Administrēšana” 2026.gadā un turpmāk ik gadu 34 215 euro, lai nodrošinātu drošības pārvaldnieka amata vietas ieviešanu Nodrošinājuma valsts aģentūras kritiskās infrastruktūras objektā Ezermalas ielā 10, Rīgā. Izmaiņas netiek atspoguļotas likumprojekta "Par valsts budžetu 2025. gadam un budžeta ietvaru 2025., 2026. un 2027. gadam" 3.pielikumā "Valsts pamatbudžeta un valsts speciālā budžeta kopsavilkums", jo 2027. gadā un turpmāk ik gadu izdevumu pārdale tiek veikta starp budžeta apakšprogrammām, nemainot izdevumus atbilstoši ekonomiskās klasifikācijas kodiem.
A29: =A5+1 -> 13 | B29: 74. Gadskārtējā valsts budžeta izpildes procesā pārdalāmais finansējums | E29: 14. Iekšlietu ministrija | H29: Atbalstīt
B30: 4.pielikums | E30: 4.pielikums
B31: 01.00.00 "Apropriācijas rezerve" | E31: 02.03.00 “Vienotās sakaru un informācijas sistēmu uzturēšana un vadība”
B32: Resursi izdevumu segšanai | C32: 4901865 | D32: =D33 -> -60384 | E32: Resursi izdevumu segšanai | F32: 20195919 | G32: =G34 -> 60384
B33: Dotācija no vispārējiem ieņēmumiem | C33: 4901865 | D33: =D34 -> -60384 | E33: Ieņēmumi no maksas pakalpojumiem un citi pašu ieņēmumi – kopā | F33: 728818
B34: Vispārējā kārtībā sadalāmā dotācija no vispārējiem ieņēmumiem | C34: 4901865 | D34: -60384 | E34: Dotācija no vispārējiem ieņēmumiem | F34: 19467101 | G34: =G35 -> 60384
B35: Izdevumi – kopā | C35: 4901865 | D35: =D36 -> -60384 | E35: Vispārējā kārtībā sadalāmā dotācija no vispārējiem ieņēmumiem | F35: 19467101 | G35: 60384
B36: Uzturēšanas izdevumi | C36: 4901865 | D36: =D37 -> -60384 | E36: Izdevumi – kopā | F36: 20195919 | G36: =G37 -> 60384
B37: Subsīdijas, dotācijas, sociālie maksājumi un kompensācijas | C37: 4901865 | D37: =D38 -> -60384 | E37: Uzturēšanas izdevumi | F37: 18661501 | G37: =G38 -> 60384
B38: Subsīdijas un dotācijas | C38: 4901865 | D38: -60384 | E38: Kārtējie izdevumi | F38: 18661501 | G38: =G39+G40 -> 60384
E39: Atlīdzība | F39: 9294025
E40: Preces un pakalpojumi | F40: 9367476 | G40: 60384
E41: Kapitālie izdevumi | F41: 1534418
E42: Pamatkapitāla veidošana | F42: 1534418
B43: 74. Gadskārtējā valsts budžeta izpildes procesā pārdalāmais finansējums | E43: 14. Iekšlietu ministrija
...

Sheet IZM
C1: Pieņemts pirmajā lasījumā | D1: Priekšlikums par izmaiņām | F1: Pieņemts pirmajā lasījumā | G1: Priekšlikums par izmaiņām | H1: Priekšlikums MK atzinumam
B3: 15. Izglītības un zinātnes ministrija
A5: =IeM!A677+1 -> 24 | B5: 74. Gadskārtējā valsts budžeta izpildes procesā pārdalāmais finansējums | E5: 15. Izglītības un zinātnes ministrija | H5: Atbalstīt
B6: 4.pielikums | E6: 4.pielikums
B7: 09.00.00 "Valsts nozīmes reformas īstenošanai" | E7: 03.01.00. "Augstākās izglītības programmu nodrošināšana"
B8: Resursi izdevumu segšanai | C8: 10000000 | D8: -10000000 | E8: Resursi izdevumu segšanai | F8: 96426041 | G8: 10000000
B9: Dotācija no vispārējiem ieņēmumiem | C9: 10000000 | D9: -10000000 | E9: Dotācija no vispārējiem ieņēmumiem | F9: 96171741 | G9: 10000000
B10: Vispārējā kārtībā sadalāmā dotācija no vispārējiem ieņēmumiem | C10: 10000000 | D10: -10000000 | E10: Vispārējā kārtībā sadalāmā dotācija no vispārējiem ieņēmumiem | F10: 96171741 | G10: 10000000
B11: Izdevumi – kopā | C11: 10000000 | D11: -10000000 | E11: Izdevumi – kopā | F11: 96477305 | G11: 10000000
B12: Uzturēšanas izdevumi | C12: 10000000 | D12: -10000000 | E12: Uzturēšanas izdevumi | F12: 96393207 | G12: 10000000
B13: Subsīdijas, dotācijas un sociālie pabalsti | C13: 10000000 | D13: -10000000 | E13: Transferti viena budžeta veida ietvaros un uzturēšanas izdevumu transferti starp budžeta veidiem | F13: 92569322 | G13: 10000000
B14: Subsīdijas un dotācijas | C14: 10000000 | D14: -10000000 | E14: Pārējie valsts budžeta uzturēšanas izdevumu transferti citiem budžetiem | F14: 92502079 | G14: 10000000
E15: Pārējie valsts budžeta uzturēšanas izdevumu transferti valsts budžeta daļēji finansētām atvasinātām publiskām personām un budžeta nefinansētām iestādēm | F15: 92502079 | G15: 10000000
B16: 3.pielikums | E16: 3.pielikums
B17: I. Valsts pamatfunkciju īstenošana | E17: I. Valsts pamatfunkciju īstenošana
B18: 2027. gads | E18: 2027. gads
B19: Resursi izdevumu segšanai | C19: 841606476 | D19: -10000000 | E19: Resursi izdevumu segšanai | F19: 474226662 | G19: 10000000
B20: Dotācija no vispārējiem ieņēmumiem | C20: 841606476 | D20: -10000000 | E20: Dotācija no vispārējiem ieņēmumiem | F20: 464989622 | G20: 10000000
B21: Vispārējā kārtībā sadalāmā dotācija no vispārējiem ieņēmumiem | C21: 841606476 | D21: -10000000 | E21: Vispārējā kārtībā sadalāmā dotācija no vispārējiem ieņēmumiem | F21: 464989622 | G21: 10000000
B22: Izdevumi – kopā | C22: 841606476 | D22: -10000000 | E22: Izdevumi – kopā | F22: 473609932 | G22: 10000000
B23: Uzturēšanas izdevumi | C23: 841606476 | D23: -10000000 | E23: Uzturēšanas izdevumi | F23: 466911083 | G23: 10000000
B24: Subsīdijas, dotācijas un sociālie pabalsti | C24: 841606476 | D24: -10000000 | E24: Transferti viena budžeta veida ietvaros un uzturēšanas izdevumu transferti starp budžeta veidiem | F24: 267186522 | G24: 10000000
B25: Subsīdijas un dotācijas | C25: 841606476 | D25: -10000000 | E25: Pārējie valsts budžeta uzturēšanas izdevumu transferti citiem budžetiem | F25: 267030942 | G25: 10000000
E26: Pārējie valsts budžeta uzturēšanas izdevumu transferti valsts budžeta daļēji finansētām atvasinātām publiskām personām un budžeta nefinansētām iestādēm | F26: 210491003 | G26: 10000000
B27: 2028. gads | E27: 2028. gads
B28: Resursi izdevumu segšanai | C28: 890165818 | D28: -10000000 | E28: Resursi izdevumu segšanai | F28: 472836384 | G28: 10000000
B29: Dotācija no vispārējiem ieņēmumiem | C29: 890165818 | D29: -10000000 | E29: Dotācija no vispārējiem ieņēmumiem | F29: 465363344 | G29: 10000000
B30: Vispārējā kārtībā sadalāmā dotācija no vispārējiem ieņēmumiem | C30: 890165818 | D30: -10000000 | E30: Vispārējā kārtībā sadalāmā dotācija no vispārējiem ieņēmumiem | F30: 465363344 | G30: 10000000
B31: Izdevumi – kopā | C31: 890165818 | D31: -10000000 | E31: Izdevumi – kopā | F31: 472219654 | G31: 10000000
B32: Uzturēšanas izdevumi | C32: 890165818 | D32: -10000000 | E32: Uzturēšanas izdevumi | F32: 465520805 | G32: 10000000
B33: Subsīdijas, dotācijas un sociālie pabalsti | C33: 890165818 | D33: -10000000 | E33: Transferti viena budžeta veida ietvaros un uzturēšanas izdevumu transferti starp budžeta veidiem | F33: 265482648 | G33: 10000000
B34: Subsīdijas un dotācijas | C34: 890165818 | D34: -10000000 | E34: Pārējie valsts budžeta uzturēšanas izdevumu transferti citiem budžetiem | F34: 265412813 | G34: 10000000
E35: Pārējie valsts budžeta uzturēšanas izdevumu transferti valsts budžeta daļēji finansētām atvasinātām publiskām personām un budžeta nefinansētām iestādēm | F35: 208783163 | G35: 10000000
B36: Lai nodrošinātu finansējumu augstākās izglītības institucionālā finansējuma turpināšanai 2026. gadā un turpmāk ik gadus, ņemot vērā augstākās izglītības institucionālā finansējuma izmēģinājumprojekta rezultātus un saskaņā ar informatīvo ziņojumu "Informatīvais ziņojums “Par augstākās izglītības institucionālās finansēšanas izmēģinājumprojektu”" (25-TA-1343).
A38: =A5+1 -> 25 | B38: 15. Izglītības un zinātnes ministrija | E38: 15. Izglītības un zinātnes ministrija | H38: Atbalstīt
B39: 4.pielikums | E39: 4.pielikums
B40: 01.05.00. "Dotācija privātajām mācību iestādēm" | E40: 01.05.00. "Dotācija privātajām mācību iestādēm"
B41: Resursi izdevumu segšanai | C41: 31683113 | D41: -18477 | E41: Resursi izdevumu segšanai | F41: 31683113 | G41: 18477
B42: Dotācija no vispārējiem ieņēmumiem | C42: 31683113 | D42: -18477 | E42: Dotācija no vispārējiem ieņēmumiem | F42: 31683113 | G42: 18477
B43: Vispārējā kārtībā sadalāmā dotācija no vispārējiem ieņēmumiem | C43: 31683113 | D43: -18477 | E43: Vispārējā kārtībā sadalāmā dotācija no vispārējiem ieņēmumiem | F43: 31683113 | G43: 18477
...

Sheet ZM
C1: Pieņemts pirmajā lasījumā | D1: Priekšlikums par izmaiņām | F1: Pieņemts pirmajā lasījumā | G1: Priekšlikums par izmaiņām | H1: Priekšlikums MK atzinumam
B3: 16. Zemkopības ministrija
A5: =IZM!A232+1 -> 33 | B5: 16.Zemkopības ministrija | E5: 16.Zemkopības ministrija | H5: Atbalstīt
B6: 4.pielikums | E6: 4.pielikums
B7: 64.10.00 Izdevumi Eiropas Lauksaimniecības garantiju fonda (ELGF) projektu un pasākumu īstenošanai (2023-2027) | C7: ` | E7: 21.01.00 Valsts atbalsts lauksaimniecības un lauku attīstībai | F7: `
B8: Resursi izdevumu segšanai | C8: =C9 -> 360400725 | D8: =D9 -> -1860327 | E8: Resursi izdevumu segšanai | F8: =F9 -> 53993313 | G8: =G9 -> 1860327
B9: Dotācija no vispārējiem ieņēmumiem | C9: =C10 -> 360400725 | D9: =D10 -> -1860327 | E9: Dotācija no vispārējiem ieņēmumiem | F9: =F10 -> 53993313 | G9: =G10 -> 1860327
B10: Vispārējā kārtībā sadalāmā dotācija no vispārējiem ieņēmumiem | C10: 360400725 | D10: -1860327 | E10: Vispārējā kārtībā sadalāmā dotācija no vispārējiem ieņēmumiem | F10: 53993313 | G10: 1860327
B11: Izdevumi – kopā | C11: =C12 -> 360400725 | D11: =D12 -> -1860327 | E11: Izdevumi – kopā | F11: =F12 -> 53993313 | G11: =G12 -> 1860327
B12: Uzturēšanas izdevumi | C12: =C13+C15 -> 360400725 | D12: =D13+D15 -> -1860327 | E12: Uzturēšanas izdevumi | F12: =F13 -> 53993313 | G12: =G13 -> 1860327
B13: Subsīdijas, dotācijas, sociālie maksājumi un kompensācijas | C13: =C14 -> 360075725 | D13: =D14 -> -1860327 | E13: Subsīdijas, dotācijas, sociālie maksājumi un kompensācijas | F13: =F14 -> 53993313 | G13: =G14 -> 1860327
B14: Subsīdijas un dotācijas | C14: 360075725 | D14: -1860327 | E14: Subsīdijas un dotācijas | F14: 53993313 | G14: 1860327
B15: Transferti viena budžeta veida ietvaros un uzturēšanas izdevumu transferti starp budžeta veidiem | C15: =C16 -> 325000
B16: Valsts budžeta uzturēšanas izdevumu transferti citiem budžetiem Eiropas Savienības politiku instrumentu un pārējās ārvalstu finanšu palīdzības līdzfinansētajiem projektiem (pasākumiem) | C16: =C17+C18 -> 325000
B17: Valsts budžeta uzturēšanas izdevumu transferti pašvaldībām Eiropas Savienības politiku instrumentu un pārējās ārvalstu finanšu palīdzības līdzfinansētajiem projektiem (pasākumiem) | C17: 120000
B18: Valsts budžeta uzturēšanas izdevumu transferti valsts budžeta daļēji finansētām atvasinātām publiskām personām un budžeta nefinansētām iestādēm Eiropas Savienības politiku instrumentu un pārējās ārvalstu finanšu palīdzības līdzfinansētiem projektiem (pasākumiem) | C18: 205000
B19: 16.Zemkopības ministrija
B20: 11.pielikums
B21: 64.10.00 Izdevumi Eiropas Lauksaimniecības garantiju fonda (ELGF) projektu un pasākumu īstenošanai (2023-2027) | C21: `
B22: 0101050000 - Eiropas Lauksaimniecības garantiju fonds
B23: 2026. gads
B24: Resursi izdevumu segšanai | C24: =C25 -> 360400725 | D24: =D25 -> -1860327
B25: Dotācija no vispārējiem ieņēmumiem | C25: =C26 -> 360400725 | D25: =D26 -> -1860327
B26: Vispārējā kārtībā sadalāmā dotācija no vispārējiem ieņēmumiem | C26: 360400725 | D26: -1860327
B27: Izdevumi – kopā | C27: =C28 -> 360400725 | D27: =D28 -> -1860327
B28: Uzturēšanas izdevumi | C28: =C29+C31 -> 360400725 | D28: =D29+D31 -> -1860327
B29: Subsīdijas, dotācijas, sociālie maksājumi un kompensācijas | C29: =C30 -> 360075725 | D29: =D30 -> -1860327
B30: Subsīdijas un dotācijas | C30: 360075725 | D30: -1860327
B31: Transferti viena budžeta veida ietvaros un uzturēšanas izdevumu transferti starp budžeta veidiem | C31: =C32 -> 325000
B32: Valsts budžeta uzturēšanas izdevumu transferti citiem budžetiem Eiropas Savienības politiku instrumentu un pārējās ārvalstu finanšu palīdzības līdzfinansētajiem projektiem (pasākumiem) | C32: =C33+C34 -> 325000
B33: Valsts budžeta uzturēšanas izdevumu transferti pašvaldībām Eiropas Savienības politiku instrumentu un pārējās ārvalstu finanšu palīdzības līdzfinansētajiem projektiem (pasākumiem) | C33: 120000
B34: Valsts budžeta uzturēšanas izdevumu transferti valsts budžeta daļēji finansētām atvasinātām publiskām personām un budžeta nefinansētām iestādēm Eiropas Savienības politiku instrumentu un pārējās ārvalstu finanšu palīdzības līdzfinansētiem projektiem (pasākumiem) | C34: 205000
B35: Ar Ministru kabineta 2025. gada 22. septembra sēdes protokola Nr. 38 1. § 2. punktu tika piešķirts finansējums prioritārajam pasākumam “Atbalsts lauksaimniekiem” 59 275 327 euro apmērā 2026. gadam, tajā skaitā budžeta apakšprogrammā 64.10.00 “Izdevumi Eiropas Lauksaimniecības garantiju fonda (ELGF) projektu un pasākumu īstenošanai (2023–2027)” – 3 860 327 euro, kas atbalsta programmai “Piens un augļi skolai”, kuras īstenošanai papildu līdzfinansējums no valsts budžeta tika piešķirts arī 2025. gadā. Ņemot vērā, ka 2025. gadā minētajā atbalsta programmā faktiskās izmaksas bija mazākas par plānoto, Zemkopības ministrija ir konstatējusi, ka nepieciešamais finansējums 2026. gadā samazināms par 1 860 327 euro, šo summu novirzot uz valsts budžeta apakšprogrammu 21.01.00 “Valsts atbalsts lauksaimniecības un lauku attīstībai”, lai nodrošinātu lauksaimniecībā izmantojamiem zinātnes pētījumiem un lauksaimniecības zinātnisko institūciju materiāli tehniskās bāzes un ciltsdarba maksājumiem 2026. gadā nepieciešamo finansējumu.
A37: =A5+1 -> 34 | B37: Valsts budžeta ieņēmumi | E37: 16. Zemkopības ministrija | H37: Neatbalstīt
B38: 2.pielikums | E38: 4.pielikums
B39: 2026. gads | E39: 2026. gads
B40: Valsts pamatbudžeta ieņēmumi | E40: 20.01.00 Pārtikas nekaitīguma un dzīvnieku veselības valsts uzraudzība un kontrole | F40: `
B41: Ieņēmumi no akcīzes nodokļa izmaiņām | D41: 1400000 | E41: Resursi izdevumu segšanai | F41: =F42+F44 -> 16371670 | G41: =SUM(G44:G44) -> 1400000
E42: Ieņēmumi no maksas pakalpojumiem un citi pašu ieņēmumi – kopā | F42: 6444372
E43: Dotācija no vispārējiem ieņēmumiem | F43: =F44 -> 9927298 | G43: =G44 -> 1400000
...

Sheet SM
C1: Pieņemts pirmajā lasījumā | D1: Priekšlikums par izmaiņām | F1: Pieņemts pirmajā lasījumā | G1: Priekšlikums par izmaiņām | H1: Priekšlikums MK atzinumam
B3: 17. Satiksmes ministrija
A5: =ZM!A172+1 -> 37 | B5: Valsts budžeta ieņēmumi | E5: 17. Satiksmes ministrija | H5: Atbalstīt
B6: 2.pielikums | E6: 4.pielikums
B7: Valsts pamatbudžeta ieņēmumi | E7: 49.00.00 Rail Baltica projekta pārvaldības funkcijas nodrošināšana
B8: 2026.gads | E8: Resursi izdevumu segšanai | F8: 4807506 | G8: 8000000
B9: Ieņēmumi no dividendēm (ieņēmumi no valsts (pašvaldību) kapitāla izmantošanas) | C9: 341141400 | D9: 8000000 | E9: Dotācija no vispārējiem ieņēmumiem | F9: 4807506 | G9: 8000000
E10: Vispārējā kārtībā sadalāmā dotācija no vispārējiem ieņēmumiem | F10: 4807506 | G10: 8000000
E11: Izdevumi – kopā | F11: 4807506 | G11: 8000000
E12: Uzturēšanas izdevumi | F12: 1496084 | G12: 8000000
E13: Kārtējie izdevumi | F13: 911715 | G13: 0
E14: Atlīdzība | F14: 911715 | G14: 0
E15: Subsīdijas, dotācijas, sociālie maksājumi un kompensācijas | F15: 584369 | G15: 8000000
E16: Subsīdijas un dotācijas | F16: 584369 | G16: 8000000
E17: Kapitālie izdevumi | F17: 3311422 | G17: 0
E18: Pamatkapitāla veidošana | F18: 3311422 | G18: 0
B19: Saskaņā ar Zemkopības ministrijas 06.11.2025. vēstuli Nr.3.3-3e/1909/2025 "Par AS "Latvijas valsts meži" dividendēm" ir iespējams palielināt ieņēmumu prognozi no AS "Latvijas valsts meži" maksājumam par valsts kapitāla izmantošanu 2026.gadā un attiecīgi palielināt finansējumu Satiksmes ministrijas budžeta programmā 49.00.00 "Rail Baltica projekta pārvaldības funkcijas nodrošināšana" 8 000 000 euro apmērā 2026.gadam, lai nodrošinātu Rail Baltica projekta pamattrases pārprojektēšanu, īstenojot sarežģītus infrastruktūras projektus atbilstoši Eiropas Savienības ilgtermiņa mērķiem. Šāda rīcība apliecina, ka Latvija ir gatava īstenot Rail Baltica projekta turpmākās kārtas, pieprasot Eiropas Savienības fondu finansējumu arī nākamajā Eiropas infrastruktūras savienošanas instrumenta (EISI) plānošanas periodā.

Sheet LM
C1: Pieņemts pirmajā lasījumā | D1: Priekšlikums par izmaiņām | F1: Pieņemts pirmajā lasījumā | G1: Priekšlikums par izmaiņām | H1: Priekšlikums MK atzinumam
B3: 18. Labklājības ministrija
A5: =SM!A5+1 -> 38 | B5: 18. Labklājības ministrija | E5: 18. Labklājības ministrija | H5: Atbalstīt
B6: 4.pielikums | E6: 4.pielikums
B7: 20.01.00 Valsts sociālie pabalsti | E7: 05.01.00 Sociālās rehabilitācijas valsts programmas | F7: `
B8: Resursi izdevumu segšanai | C8: 505237978 | D8: =D9 -> -18962 | E8: Resursi izdevumu segšanai | F8: =F9 -> 158836810 | G8: =G9 -> 18962
B9: Dotācija no vispārējiem ieņēmumiem | C9: 505237978 | D9: =D10 -> -18962 | E9: Dotācija no vispārējiem ieņēmumiem | F9: =F10 -> 158836810 | G9: =G10 -> 18962
B10: Vispārējā kārtībā sadalāmā dotācija no vispārējiem ieņēmumiem | C10: 505237978 | D10: =-18962 -> -18962 | E10: Vispārējā kārtībā sadalāmā dotācija no vispārējiem ieņēmumiem | F10: =F11 -> 158836810 | G10: =G11 -> 18962
B11: Izdevumi – kopā | C11: 505237978 | D11: =D12 -> -18962 | E11: Izdevumi - kopā | F11: =F12 -> 158836810 | G11: =G12 -> 18962
B12: Uzturēšanas izdevumi | C12: 505088301 | D12: =D13 -> -18962 | E12: Uzturēšanas izdevumi | F12: =F13+F15+F17 -> 158836810 | G12: =G13+G15+G17 -> 18962
B13: Subsīdijas, dotācijas, sociālie maksājumi un kompensācijas | C13: 503362116 | D13: =D14 -> -18962 | E13: Kārtējie izdevumi | F13: =F14 -> 64233
B14: Sociāla rakstura maksājumi un kompensācijas | C14: 503362116 | D14: =-18962 -> -18962 | E14: Preces un pakalpojumi | F14: 64233
B15: Transferti viena budžeta veida ietvaros un uzturēšanas izdevumu transferti starp budžeta veidiem | C15: 1726185 | E15: Subsīdijas, dotācijas, sociālie maksājumi un kompensācijas | F15: =F16 -> 45710482 | G15: =G16 -> 18962
B16: Valsts budžeta transferti un uzturēšanas izdevumu transferti | C16: 1726185 | E16: Subsīdijas un dotācijas | F16: 45710482 | G16: 18962
B17: Valsts budžeta uzturēšanas izdevumu transferti no valsts pamatbudžeta uz valsts speciālo budžetu | C17: 1726185 | E17: Transferti viena budžeta veida ietvaros un uzturēšanas izdevumu transferti starp budžeta veidiem | F17: =F18 -> 113062095
B18: Kapitālie izdevumi | C18: 149677 | E18: Pārējie valsts budžeta uzturēšanas izdevumu transferti citiem budžetiem | F18: =F19 -> 113062095
B19: Kapitālo izdevumu transferti | C19: 149677 | E19: Pārējie valsts budžeta uzturēšanas izdevumu transferti pašvaldībām | F19: 113062095
B20: Valsts budžeta kapitālo izdevumu transferti | C20: 149677
B21: Valsts budžeta kapitālo izdevumu transferti no valsts pamatbudžeta uz valsts speciālo budžetu | C21: 149677
B22: 18. Labklājības ministrija (pamatbudžets)
B23: 3.pielikums
B24: I. Valsts pamatfunkciju īstenošana
B25: 2027.gads
B26: Resursi izdevumu segšanai | C26: =C27+C28+C34 -> 1361430810 | D26: =D34 -> 0
B27: Ieņēmumi no maksas pakalpojumiem un citi pašu ieņēmumi – kopā | C27: 11054284
B28: Transferti | C28: =C29 -> 337231
B29: Valsts budžeta transferti | C29: =C30+C33 -> 337231
B30: Valsts pamatbudžeta savstarpējie transferti | C30: =C31 -> 297231
B31: Valsts pamatbudžeta iestāžu saņemtie transferti no valsts pamatbudžeta | C31: =C32 -> 297231
B32: Valsts pamatbudžeta iestāžu saņemtie transferti no valsts pamatbudžeta dotācijas no vispārējiem ieņēmumiem | C32: 297231
B33: Valsts pamatbudžetā saņemtie transferti no valsts speciālā budžeta | C33: 40000
B34: Dotācija no vispārējiem ieņēmumiem | C34: =C35 -> 1350039295 | D34: =D35 -> 0
B35: Vispārējā kārtībā sadalāmā dotācija no vispārējiem ieņēmumiem | C35: 1350039295
B36: Izdevumi – kopā | C36: =C37+C51 -> 1361430810 | D36: =D37+D51 -> 0
B37: Uzturēšanas izdevumi | C37: =C38+C41+C44+C46 -> 1359822244 | D37: =D38+D41+D44+D46 -> 0
B38: Kārtējie izdevumi | C38: =C39+C40 -> 104422236
B39: Atlīdzība | C39: 82638547
B40: Preces un pakalpojumi | C40: 21783689
B41: Subsīdijas, dotācijas, sociālie maksājumi un kompensācijas | C41: =C42+C43 -> 702264301 | D41: =D42+D43 -> -605216
B42: Subsīdijas un dotācijas | C42: 53645883 | D42: =762380+18962 -> 781342
...

Sheet TM
C1: Pieņemts pirmajā lasījumā | D1: Priekšlikums par izmaiņām | F1: Pieņemts pirmajā lasījumā | G1: Priekšlikums par izmaiņām | H1: Priekšlikums MK atzinumam
B3: 19. Tieslietu ministrija
A5: =LM!A173+1 -> 41 | B5: 19. Tieslietu ministrija | E5: 19. Tieslietu ministrija | H5: Atbalstīt
B6: 4.pielikums | E6: 4.pielikums
B7: 03.02.00 "Apgabaltiesas un rajonu (pilsētu) tiesas" | E7: 03.01.00 "Tiesu administrēšana"
B8: 2026.gads | E8: 2026.gads
B9: Resursi izdevumu segšanai | C9: =C10+C11 -> 96189879 | D9: -70000 | E9: Resursi izdevumu segšanai | F9: =F10+F11 -> 7042344 | G9: 70000
B10: Ieņēmumi no maksas pakalpojumiem un citi pašu ieņēmumi | C10: 178864 | E10: Ieņēmumi no maksas pakalpojumiem un citi pašu ieņēmumi | F10: 2673240
B11: Dotācija no vispārējiem ieņēmumiem | C11: 96011015 | D11: -70000 | E11: Dotācija no vispārējiem ieņēmumiem | F11: 4369104 | G11: 70000
B12: Vispārējā kārtībā sadalāmā dotācija no vispārējiem ieņēmumiem | C12: 96011015 | D12: -70000 | E12: Vispārējā kārtībā sadalāmā dotācija no vispārējiem ieņēmumiem | F12: 4369104 | G12: 70000
B13: Izdevumi – kopā | C13: =C14+C20 -> 96338674 | D13: -70000 | E13: Izdevumi – kopā | F13: =F14+F20 -> 7100596 | G13: 70000
B14: Uzturēšanas izdevumi | C14: =C15 -> 94475199 | D14: -70000 | E14: Uzturēšanas izdevumi | F14: =F15 -> 7066639 | G14: 70000
