Workbook
Name T13l6: [8]ATSKAITE!#REF!

Sheet priekšlikumi_teksta_daļai
B1: Ministriju un citu centrālo valsts iestāžu priekšlikumi
B2: likumprojekta "Par valsts budžetu 2026. gadam un budžeta ietvaru 2026., 2027. un 2028. gadam" izskatīšanai Saeimā otrajā lasījumā
D4: Priekšlikums MK atzinumam
B5: Pieņemts pirmajā lasījumā | C5: Priekšlikumi 2.lasījumam
B7: Par likumprojekta "Par valsts budžetu 2026. gadam un budžeta ietvaru 2026., 2027. un 2028. gadam" teksta daļu:
B9: 13. Finanšu ministrija
A10: =1 -> 1 | B10: 14. pants. (1) Ikgadējais pašvaldību kopējais aizņēmumu pieļaujamais palielinājums 2026., 2027. un 2028. gadā 168 138 258 euro. Sagatavojot likumu par valsts budžetu 2027. gadam un budžeta ietvaru 2027., 2028. un 2029. gadam, ikgadējais aizņēmumu pieļaujamais palielinājums tiek precizēts. | C10: Izteikt likumprojekta 14. panta pirmo daļu šādā redakcijā: "14. pants. (1) Ikgadējais pašvaldību kopējais aizņēmumu pieļaujamais palielinājums 2026., 2027. un 2028. gadā 168 138 258 euro. Sagatavojot likumprojektu par valsts budžetu 2027. gadam un budžeta ietvaru 2027., 2028., 2029. un 2030. gadam, ikgadējais aizņēmumu pieļaujamais palielinājums tiek precizēts." | D10: Atbalstīt
B11: Saskaņā ar valsts budžeta likumprojektu paketē iekļauto Grozījumu Fiskālās disciplīnas likumā pārejas noteikumiem paredzēts, ka valsts budžeta likumu četriem gadiem sagatavo, sākot ar likumprojektu "Par valsts budžetu 2027. gadam un budžeta ietvaru 2027., 2028., 2029. un 2030. gadam".
B13: 16. Zemkopības ministrija
A14: =A10+1 -> 2 | B14: 22.pants. Noteikt, ka akciju sabiedrība "Latvijas valsts meži" ieskaita valsts pamatbudžeta ieņēmumos dividenžu maksājumu 2026. gadā (par 2025. pārskata gadu) ne mazāk kā 143 895 556 euro, 2027. gadā (par 2026. pārskata gadu) ne mazāk kā 123 335 754 euro un 2028. gadā (par 2027. pārskata gadu) ne mazāk kā 123 335 754 euro, uzņēmumu ienākuma nodokli aprēķinot un nomaksājot uzņēmumu ienākuma nodokli regulējošos normatīvajos aktos noteiktajā kārtībā. | C14: Izteikt likumprojekta 22. pantu šādā redakcijā: "22. pants. Noteikt, ka akciju sabiedrība "Latvijas valsts meži" ieskaita valsts pamatbudžeta ieņēmumos dividenžu maksājumu 2026. gadā (par 2025. pārskata gadu) ne mazāk kā 155 948 000 euro, 2027. gadā (par 2026. pārskata gadu) ne mazāk kā 123 335 754 euro un 2028. gadā (par 2027. pārskata gadu) ne mazāk kā 123 335 754 euro, uzņēmumu ienākuma nodokli aprēķinot un nomaksājot uzņēmumu ienākuma nodokli regulējošos normatīvajos aktos noteiktajā kārtībā." | D14: Atbalstīt
B15: Saskaņā ar Zemkopības ministrijas 06.11.2025. vēstuli Nr.3.3-3e/1909/2025 "Par AS "Latvijas valsts meži" dividendēm" ir iespējams palielināt ieņēmumu prognozi no AS "Latvijas valsts meži" maksājumam par valsts kapitāla izmantošanu 2026.gadā 12 052 444 euro apmērā.
B17: 13. Finanšu ministrija
A18: =A14+1 -> 3 | B18: 27. pants. Vispārējās valdības sektorā iekļautajām kapitālsabiedrībām ir tiesības neveikt maksājumus par valsts kapitāla izmantošanu, ar nosacījumu, ka dividendēs izmaksājamā peļņas daļa tiek novirzīta šo kapitālsabiedrību iepriekš uzņemto finanšu saistību segšanai (finansēšanas darījums). | C18: Izteikt likumprojekta 27. pantu šādā redakcijā: "27. pants. Vispārējās valdības sektorā iekļautajām kapitālsabiedrībām ir tiesības neveikt maksājumus par valsts kapitāla izmantošanu, ar nosacījumu, ka dividendēs izmaksājamā peļņas daļa tiek novirzīta šo kapitālsabiedrību iepriekš uzņemto finanšu saistību segšanai (finansēšanas darījums), ja ir pieņemts attiecīgs Ministru kabineta lēmums." | D18: Atbalstīt
B19: Lai nodrošinātu tiesisko skaidrību par panta piemērošanas kārtību, papildināt 27.pantu ar nosacījumu, ka tiesības neveikt maksājumus par valsts kapitāla izmantošanu ir gadījumā, ja tiek pieņemts attiecīgs Ministru kabineta lēmums.
B21: 13. Finanšu ministrija
A22: =A18+1 -> 4 | C22: Papildināt likumprojekta I nodaļu ar jaunu pantu šādā redakcijā, mainot turpmāko numerāciju: "xx. pants. No 2026. gada 1. janvāra līdz 2028. gada 31. decembrim par speciālās ekonomiskās zonas pārvaldes vai brīvostas īpašumā vai valdījumā esošo nekustamo īpašumu, kurš atrodas speciālās ekonomiskās zonas vai brīvostas teritorijā un kuru speciālās ekonomiskās zonas vai brīvostas pārvalde nodevusi zonas kapitālsabiedrībai vai licencētai kapitālsabiedrībai lietošanā, nekustamā īpašuma nodokli maksā attiecīgā nekustamā īpašuma lietotājs (nomnieks). Šī panta piemērošanai termini “zonas kapitālsabiedrība” un “licencēta kapitālsabiedrība” tiek lietoti likuma “Par nodokļu piemērošanu brīvostās un speciālajās ekonomiskajās zonās” izpratnē." | D22: Atbalstīt
B23: Normatīvais regulējums izstrādāts, lai speciālās ekonomiskās zonas vai brīvostas teritorijā esoša zonas kapitālsabiedrība vai licencēta kapitālsabiedrība (likuma “Par nodokļu piemērošanu brīvostās un speciālajās ekonomiskajās zonās” izpratnē) varētu efektīvi piemērot likumā “Par nodokļu piemērošanu brīvostās un speciālajās ekonomiskajās zonās” noteikto nekustamā īpašuma nodokļa atlaidi.
B25: 15. Izglītības un zinātnes ministrija
A26: =A22+1 -> 5 | B26: 32. pants. (1) Apstiprināt mērķdotāciju apjomu pašvaldībām 676 285 740 euro apmērā, tajā skaitā: | C26: Izteikt likumprojekta 32.panta pirmās daļas 1., 2. un 3.punktu šādā redakcijā: "32. pants. (1) Apstiprināt mērķdotāciju apjomu pašvaldībām 674 543 716 euro apmērā, tai skaitā: | D26: Atbalstīt
B27: 1) pašvaldību pamata un vispārējās vidējās izglītības iestāžu, pašvaldību speciālās izglītības iestāžu, pašvaldību profesionālās izglītības iestāžu un daļējai interešu izglītības programmu pedagogu darba samaksai un valsts sociālās apdrošināšanas obligātajām iemaksām 527 435 015 euro apmērā saskaņā ar šā likuma 6. un 7. pielikumu; | C27: 1) pašvaldību pamata un vispārējās vidējās izglītības iestāžu, pašvaldību speciālās izglītības iestāžu, pašvaldību profesionālās izglītības iestāžu un daļējai interešu izglītības programmu pedagogu darba samaksai un valsts sociālās apdrošināšanas obligātajām iemaksām 528 475 275 euro apmērā saskaņā ar 6. un 7. pielikumu;
B28: 2) pašvaldību speciālo pirmsskolas izglītības grupu pedagogu darba samaksai un valsts sociālās apdrošināšanas obligātajām iemaksām, speciālajām izglītības iestādēm, kas nodrošina internāta pakalpojumus, 73 959 529 euro apmērā saskaņā ar šā likuma 8. pielikumu; | C28: 2) pašvaldību speciālo pirmsskolas izglītības grupu pedagogu darba samaksai un valsts sociālās apdrošināšanas obligātajām iemaksām, speciālajām izglītības iestādēm, kas nodrošina internāta pakalpojumus, 73 627 777 euro apmērā saskaņā ar 8. pielikumu;
B29: 3) pašvaldību izglītības iestādēs bērnu no piecu gadu vecuma izglītošanā nodarbināto pedagogu darba samaksai un valsts sociālās apdrošināšanas obligātajām iemaksām 72 828 648 euro apmērā saskaņā ar šā likuma 9. pielikumu; | C29: 3) pašvaldību izglītības iestādēs bērnu no piecu gadu vecuma izglītošanā nodarbināto pedagogu darba samaksai un valsts sociālās apdrošināšanas obligātajām iemaksām 70 378 116 euro apmērā saskaņā ar 9. pielikumu;"
B30: Priekšlikums paredz precizēt finansējuma apmēru, lai nodrošinātu pedagogu darba samaksu 2026. gadā un turpmāk, ņemot vērā izglītojamo skaita un struktūras uz 2025. gada 1. septembri izmaiņu ietekmi (neieskaitot Ukrainas civiliedzīvotājus) (MK 30.09.2025. prot. Nr. 40, 18. §, 3.1., 3.2., 3.3., 3.4. un 3.6. apakšpunkts), veikta finansējuma pārdale no budžeta resora "62. Mērķdotācijas pašvaldībām" programmām uz Izglītības un zinātnes ministrijas budžeta apakšprogrammām 01.05.00 "Dotācija privātajām mācību iestādēm", 01.08.00 "Vispārējās izglītības atbalsta pasākumi" un 02.01.00. "Profesionālās izglītības programmu īstenošana", kā arī starp budžeta resora "62. Mērķdotācijas pašvaldībām" programmām.
B32: 15. Izglītības un zinātnes ministrija
A33: =A26+1 -> 6 | B33: 38. pants, pirmā daļa, 2.punkts | C33: Izteikt likumprojekta 38. panta pirmās daļas 2.punktu šādā redakcijā: | D33: Neatbalstīt
B34: 2) Eiropas Atveseļošanas fonda finansēto projektu īstenošanai, tajā skaitā kapitālsabiedrību pamatkapitāla palielināšanai, ar aizņēmuma apmēru, kas ne vairāk kā par 10 procentiem pārsniedz projekta Eiropas Atveseļošanas fonda finansējuma kopsummu projekta saskaņotajām izmaksām un aktivitātēm, un pievienotās vērtības nodokļa izmaksām atbilstoši šā likuma 14. panta otrajā daļā minētajiem nosacījumiem; | C34: 2) Eiropas Atveseļošanas fonda finansēto projektu īstenošanai, tajā skaitā kapitālsabiedrību pamatkapitāla palielināšanai, ar aizņēmuma apmēru, kas ne vairāk kā par 50 procentiem pārsniedz projekta Eiropas Atveseļošanas fonda finansējuma kopsummu projekta saskaņotajām izmaksām un aktivitātēm, un pievienotās vērtības nodokļa izmaksām atbilstoši šā likuma 14. panta otrajā daļā minētajiem nosacījumiem;
B36: 12. Ekonomikas ministrija
A37: =A33+1 -> 7 | B37: 57. pants. (1) Jauno ārvalstu filmu uzņemšanai Latvijā finanšu ministram ir tiesības palielināt 2026. gada apropriāciju Ekonomikas ministrijai izdevumiem un palielināt valsts budžeta likumā Ekonomikas ministrijai noteiktos valsts budžeta ilgtermiņa saistību maksimāli pieļaujamos apjomus 2027. un 2028. gadam līdzfinansējuma nodrošināšanai, ja pēc ekonomikas ministra ierosinājuma ir pieņemts attiecīgs Ministru kabineta lēmums un Saeimas Budžeta un finanšu (nodokļu) komisija piecu darba dienu laikā no attiecīgās informācijas saņemšanas dienas ir to izskatījusi un nav iebildusi pret apropriācijas un valsts budžeta ilgtermiņa saistību maksimāli pieļaujamo apjomu palielinājumu. (2) Šā panta pirmajā daļā minētā līdzfinansējuma apjoms nepārsniedz 30 procentus no jauno ārvalstu filmu projekta kopējām attiecināmajām izmaksām. | C37: Izteikt likumprojekta 57. pantu šādā redakcijā: "57. pants. (1) Ārvalstu filmu uzņemšanai Latvijā finanšu ministram ir tiesības palielināt 2026. gada apropriāciju Ekonomikas ministrijai izdevumiem un palielināt valsts budžeta likumā Ekonomikas ministrijai noteiktos valsts budžeta ilgtermiņa saistību maksimāli pieļaujamos apjomus 2027. un 2028. gadam līdzfinansējuma nodrošināšanai, ja pēc ekonomikas ministra ierosinājuma ir pieņemts attiecīgs Ministru kabineta lēmums un Saeimas Budžeta un finanšu (nodokļu) komisija piecu darba dienu laikā no attiecīgās informācijas saņemšanas dienas ir to izskatījusi un nav iebildusi pret apropriācijas un valsts budžeta ilgtermiņa saistību maksimāli pieļaujamo apjomu palielinājumu. (2) Līdzfinansējuma apjoms nepārsniedz 30 procentus no ārvalstu filmu projekta kopējām attiecināmajām izmaksām." | D37: Neatbalstīt
B38: Svītrot vārdu “jauno” ar mērķi izvairīties no situācijām, kad viena daudzsēriju vai daudzsezonu projekta, kā arī viena TV šova sezonas atsevišķas daļas netiktu uztvertas par “jaunu ārvalstu filmu”. Balstoties uz LIAA pieredzi ārvalstu filmu projektu atbalsta administrēšanā, norādāms, ka filmu projekti tiek plānoti pa posmiem, un finansējums katrai sezonai vai sērijai tiek apstiprināts atsevišķi, kas nozīmē, ka kādas filmas jeb projekta vienas sērijas filmēšana Latvijā nenodrošina šāda līdzvērtīga projekta īstenošanu Latvijā nākamā budžeta periodā. Atbalsta mērķis ir ārvalstu filmu projektu piesaiste Latvijā, veicinot nozares izaugsmi, starptautisko atpazīstamību un budžeta ieņēmumus, neatkarīgi no projekta formāta vai ražošanas cikla posma.
B40: 12. Ekonomikas ministrija
A41: =A37+1 -> 8 | B41: 58. pants. (1) Jauna dižpasākuma Latvijā organizēšanas līdzfinansējumam finanšu ministram ir tiesības palielināt 2026. gada apropriāciju Ekonomikas ministrijai izdevumiem un palielināt valsts budžeta likumā Ekonomikas ministrijai noteiktos valsts budžeta ilgtermiņa saistību maksimāli pieļaujamos apjomus 2027. un 2028. gadam, ja pēc ekonomikas ministra ierosinājuma ir pieņemts attiecīgs Ministru kabineta lēmums un Saeimas Budžeta un finanšu (nodokļu) komisija piecu darba dienu laikā no attiecīgās informācijas saņemšanas dienas ir to izskatījusi un nav iebildusi pret apropriācijas un valsts budžeta ilgtermiņa saistību maksimāli pieļaujamo apjomu palielinājumu. (2) Šā panta pirmajā daļā minētā līdzfinansējuma apjoms nepārsniedz 30 procentus no jauno dižpasākumu organizēšanas attiecināmajām izmaksām. (3) Dižpasākums šā panta izpratnē ir starptautiska mēroga pasākums, kuru organizē, deleģē vai kura sadarbības partneris ir pasaules vai Eiropas mēroga organizācija un kurš rada būtisku ietekmi uz Latvijas tautsaimniecību, piesaistot vismaz 5 000 ārvalstu apmeklētāju un dalībnieku, kas Latvijas tūristu mītnēs vai īstermiņa īres mītnēs pavada vismaz divas naktis. | C41: Izteikt likumprojekta 58. pantu šādā redakcijā: "58. pants. (1) Dižpasākuma Latvijā organizēšanas līdzfinansējumam finanšu ministram ir tiesības palielināt 2026. gada apropriāciju Ekonomikas ministrijai izdevumiem un palielināt valsts budžeta likumā Ekonomikas ministrijai noteiktos valsts budžeta ilgtermiņa saistību maksimāli pieļaujamos apjomus 2027. un 2028. gadam, ja pēc ekonomikas ministra ierosinājuma ir pieņemts attiecīgs Ministru kabineta lēmums un Saeimas Budžeta un finanšu (nodokļu) komisija piecu darba dienu laikā no attiecīgās informācijas saņemšanas dienas ir to izskatījusi un nav iebildusi pret apropriācijas un valsts budžeta ilgtermiņa saistību maksimāli pieļaujamo apjomu palielinājumu. (2) Līdzfinansējuma apjoms nepārsniedz 30 procentus no dižpasākumu organizēšanas attiecināmajām izmaksām vai nepārsniedz 50 procentus, ja tas rada ietekmi uz Latvijas tautsaimniecību vismaz 6 000 000 euro apmērā. (3) Dižpasākums šā panta izpratnē ir starptautiska mēroga pasākums, kas Latvijā vēl nav noticis, vai tā norises vieta mainās starp valstīm, kuru īsteno vai kura sadarbības partneris ir pasaules vai Eiropas mēroga organizācija vai īstenotājam ir pieredze starptautisku pasākumu organizēšanā, un kurš rada būtisku ietekmi uz Latvijas tautsaimniecību, piesaistot vismaz 5 000 ārvalstu apmeklētāju un dalībnieku naktis (dižpasākumiem Rīgas valstspilsētas pašvaldības administratīvajā teritorijā - vismaz 10 000 ārvalstu apmeklētāju un dalībnieku naktis) Latvijas tūristu mītnēs." | D41: Neatbalstīt
B42: Izglītības, kultūras un zinātnes komisijas Sporta apakškomisijas šī gada 30. septembra sēdē, kurā piedalījās Ekonomikas ministrijas (turpmāk - EM), Izglītības un zinātnes ministrijas (turpmāk - IZM), Finanšu ministrijas (turpmāk - FM), LIAA, Latvijas Sporta federāciju padomes (turpmāk – LSFP), kā arī citi sporta nozares pārstāvji, tika analizēta dižpasākumu programmas piemērošanas pieredze. Lai nodrošinātu apakškomisijas uzdotā uzdevuma izpildi, kā arī atbilstoši LSFP šī gada 19. augusta iesniegumā Nr. 6-25/81 “Par “Dižpasākumu” atbalsta regulējumu” pausto, atsaucoties uz EM šī gada 23. septembra vēstulē Nr. 3.3-4/2025/5594N IZM un FM paustajiem argumentiem un datiem: [1] Kritērija “vismaz 5 000 ārvalstu apmeklētāju un dalībnieku, kas Latvijas tūristu mītnēs vai īstermiņa īres mītnēs pavada vismaz divas naktis” vietā noteikt elastīgāku kritēriju: “vismaz 5 000 ārvalstu apmeklētāju un dalībnieku naktis Latvijas tūristu mītnēs (dižpasākumiem Rīgas valstspilsētas pašvaldības administratīvajā teritorijā - vismaz 10 000 ārvalstu apmeklētāju un dalībnieku naktis)”: - kritērijs “naktis” nodrošina salīdzinošu ekonomisko ietekmi; ilgāki pasākumi ar mazāku dalībnieku skaitu (piemēram, 2000 ārvalstu viesi uz vismaz 5 naktīm) rada stabilu noslodzi viesnīcām un ēdināšanai ilgākā laika posmā, kas īpaši svarīgi reģionos ar zemāku sezonālo pieprasījumu un mazākām izmitināšanas kapacitātēm. [2] Izslēgt prasību, ka dižpasākums ir "tikai jauns” (attiecīgi Ministru kabineta 2025. gada 11. februāra noteikumos Nr.99 "Kārtība, kādā lieliem, nozīmīgiem publiskiem pasākumiem un ārvalstu filmu uzņemšanai Latvijā tiek piešķirts valsts budžeta līdzfinansējums" noteikts: ne biežāk kā reizi četros gados vai ja plānotie ieņēmumi un izdevumi vismaz 3 reizes pārsniedz iepriekšējā dižpasākuma ieņēmumu un izdevumu apjomu), nosakot – atbalstu var saņemt gan jauni pasākumi (tādi, kas Latvijā vēl nav notikuši), gan arī pasākumi, kas ir daļa no pasākumu sērijas vai posmiem vairākās valstīs, un Latvijā tiek rīkots kā konkrēts čempionāta vai pasākuma posms. Šādi pasākumi nav garantēti ik gadu, jo tie norisinās dažādās valstīs un, ja netiek nenodrošināta iespēja tos rīkot vairākus gadus pēc kārtas, nav garantijas, ka pasākuma organizatori izvēlēsies Latviju kā norises vietu. [3] Saglabāt principu, ka līdzfinansējums nepārsniedz 30% no attiecināmajām izmaksām, kā arī papildus noteikt augstāku intensitāti - līdz 50% no attiecināmajām izmaksām, ja pasākuma ekonomiskā ietekme uz Latvijas tautsaimniecību ir vismaz 6 milj. euro apmērā.
B44: 13. Finanšu ministrija
A45: =A41+1 -> 9 | B45: 69. panta pirmā daļa (1) Noteikt, ka budžeta resora "74. Gadskārtējā valsts budžeta izpildes procesā pārdalāmais finansējums" programmā 23.00.00 "Valsts atbalsta programmas un citi valsts nozīmes pasākumi" noteikto apropriāciju 26 327 677 euro apmērā, tajā skaitā 24 497 677 euro apmērā valsts publiskās lietošanas dzelzceļa infrastruktūras pārvaldītāja (valsts akciju sabiedrības "Latvijas dzelzceļš") finanšu līdzsvara par 2025. gadu nodrošināšanai, 1 400 000 euro apmērā Rail Baltica projekta Latvijā ieviešanas izvērtējuma veikšanai, kā arī vienota dzelzceļa infrastruktūras pārvaldības modeļa izstrādei, 430 000 euro apmērā 20. Baltijas valstu studentu dziesmu un deju svētku "Gaudeamus" rīkošanai, finanšu ministrs pārdala ministrijai vai citai centrālajai valsts iestādei, ja ir pieņemts attiecīgs Ministru kabineta lēmums un Saeimas Budžeta un finanšu (nodokļu) komisija piecu darba dienu laikā no attiecīgās informācijas saņemšanas dienas ir to izskatījusi un nav iebildusi pret apropriācijas pārdali. | C45: Izteikt likumprojekta 69. panta pirmo daļu šādā redakcijā: "(1) Noteikt, ka budžeta resora "74. Gadskārtējā valsts budžeta izpildes procesā pārdalāmais finansējums" programmā 23.00.00 "Valsts atbalsta programmas un citi valsts nozīmes pasākumi" noteikto apropriāciju 32 127 677 euro apmērā, tajā skaitā 24 497 677 euro apmērā valsts publiskās lietošanas dzelzceļa infrastruktūras pārvaldītāja (valsts akciju sabiedrības "Latvijas dzelzceļš") finanšu līdzsvara par 2025. gadu nodrošināšanai, 1 400 000 euro apmērā Rail Baltica projekta Latvijā ieviešanas izvērtējuma veikšanai, kā arī vienota dzelzceļa infrastruktūras pārvaldības modeļa izstrādei, 430 000 euro apmērā 20. Baltijas valstu studentu dziesmu un deju svētku "Gaudeamus" rīkošanai, 1 800 000 euro apmērā vardarbībā cietušo atbalstam un drošības pasākumu īstenošanai, 4 000 000 euro aizsargāto eletroenerģijas lietotāju atbalstam, finanšu ministrs pārdala ministrijai vai citai centrālajai valsts iestādei, ja ir pieņemts attiecīgs Ministru kabineta lēmums un Saeimas Budžeta un finanšu (nodokļu) komisija piecu darba dienu laikā no attiecīgās informācijas saņemšanas dienas ir to izskatījusi un nav iebildusi pret apropriācijas pārdali." | D45: Atbalstīt
B46: Vardarbībā cietušo atbalstam un drošības pasākumu īstenošanai paredzēt papildu 1 800 000 euro 2026.gadam 74.resora programmā 23.00.00 "Valsts atbalsta programmas un citi valsts nozīmes pasākumi", kas tiek pārdalīts attiecīgaijai ministrijai (VM, IZM un IeM) atbilstoši MK lēmumam un Saeimas Budžeta un finanšu (nodokļu) komisijas saskaņojumam. Aizsargāto eletroenerģijas lietotāju atbalstam paredzēt papildu 4 000 000 euro 2026.gadam 74.resora programmā 23.00.00 "Valsts atbalsta programmas un citi valsts nozīmes pasākumi", kas tiek Klimata un enerģētikas ministrijai atbilstoši MK lēmumam un Saeimas Budžeta un finanšu (nodokļu) komisijas saskaņojumam.
B48: 13. Finanšu ministrija
A49: =A45+1 -> 10 | B49: 71. pants. Finanšu ministram ir tiesības ministrijām un citām centrālajām valsts iestādēm līdz 2026. gada 30. septembrim nepārdalīto šā likuma 61., 62., 63., 64., 65., 67., 68., un 69. pantā (ievērojot panta otrās daļas nosacījumu) minētajās budžeta resora “74. Gadskārtējā valsts budžeta izpildes procesā pārdalāmais finansējums” programmās, kā arī programmā 01.00.00 "Apropriācijas rezerve" noteikto apropriāciju pārdalīt uz programmu 02.00.00 "Līdzekļi neparedzētiem gadījumiem". | C49: Izslēgt no 71. panta skaitli "64." | D49: Atbalstīt
B50: Priekšlikums paredz precizēt to programmu sarakstu, no kurām līdz 2026. gada 30. septembrim nepārdalīto apropriāciju finanšu ministram ir tiesības pārdalīt uz programmu 02.00.00 "Līdzekļi neparedzētiem gadījumiem", no saraksta izslēdzot programmu 12.00.00 "Finansējums veselības jomas pasākumiem Covid-19 infekcijas izplatības ierobežošanai" (Covid pasākumi ir atzīti kā vienreizēji).
B52: 14. Iekšlietu ministrija
A53: =A49+1 -> 11 | B53: 71. pants. Finanšu ministram ir tiesības ministrijām un citām centrālajām valsts iestādēm līdz 2026. gada 30. septembrim nepārdalīto šā likuma 61., 62., 63., 64., 65., 67., 68., un 69. pantā (ievērojot panta otrās daļas nosacījumu) minētajās budžeta resora “74. Gadskārtējā valsts budžeta izpildes procesā pārdalāmais finansējums” programmās, kā arī programmā 01.00.00 "Apropriācijas rezerve" noteikto apropriāciju pārdalīt uz programmu 02.00.00 "Līdzekļi neparedzētiem gadījumiem". | C53: Izslēgt no 71. panta skaitļus "65." un "68." | D53: Atbalstīt
B54: Finansējums no budžeta resora “74. Gadskārtējā valsts budžeta izpildes procesā pārdalāmais finansējums” programmas 17.00.00 “Finansējums Ukrainas civiliedzīvotāju atbalsta likumā noteikto pasākumu īstenošanai”(65. pants) un programmas 22.00.00 “Valsts ārējās robežas drošības pasākumu nodrošināšanai” (68. pants) pārdalāms līdz kalendāra gada beigām atbilstoši aktuālajai situācijai un nepieciešamībai.
B56: 14. Iekšlietu ministrija
A57: =A53+1 -> 12 | C57: Izteikt likumprojekta 76.pantu šādā redakcijā: | D57: Neatbalstīt
B58: 76. pants. | C58: "76. pants.
B59: Lai ierobežotu ar atlīdzību saistītos izdevumus, noteikt, ka 2026. gadā valsts un pašvaldību institūcijās: | C59: Lai ierobežotu ar atlīdzību saistītos izdevumus, noteikt, ka 2026. gadā valsts un pašvaldību institūcijās:
B60: 1) amatpersonām (darbiniekiem) mēnešalgu, piemērojot attiecīgu koeficientu, nosaka, ņemot vērā Valsts kancelejas publicētās bāzes mēnešalgas 2025. gadam šādā apmērā: bāzes mēnešalga – 1237,06 euro, finanšu un apdrošināšanas jomas bāzes mēnešalga – 2378,59 euro, elektronisko sakaru un enerģētikas nozares bāzes mēnešalga – 1781,27 euro, ostas valdes priekšsēdētāja bāzes mēnešalga ­– 1273,38 euro; | C60: 1) amatpersonām (darbiniekiem) mēnešalgu, piemērojot attiecīgu koeficientu, nosaka, ņemot vērā Valsts kancelejas publicētās bāzes mēnešalgas 2025. gadam šādā apmērā: bāzes mēnešalga – 1237,06 euro, finanšu un apdrošināšanas jomas bāzes mēnešalga – 2378,59 euro, elektronisko sakaru un enerģētikas nozares bāzes mēnešalga – 1781,27 euro, ostas valdes priekšsēdētāja bāzes mēnešalga – 1273,38 euro;
B61: 2) amatpersonām (darbiniekiem) kalendāra gada ietvaros var izmaksāt naudas balvu līdz 50 procentiem no mēnešalgas; | C61: 2) amatpersonām (darbiniekiem) kalendāra gada ietvaros var izmaksāt naudas balvu līdz 50 procentiem no mēnešalgas. Valsts drošības iestāžu amatpersonām (darbiniekiem) var izmaksāt naudas balvu Valsts un pašvaldību institūciju un amatpersonu un darbinieku atlīdzības likumā noteiktajā apmērā;
B62: 3) Ministru kabinets nosaka Valsts un pašvaldību institūciju un amatpersonu darbinieku atlīdzības likuma 14. panta pirmajā un divpadsmitajā daļā noteikto piemaksu apmērus, noteikšanas pamatojumu, kā arī laikposmu, uz kuru nosakāma piemaksa valsts un pašvaldību institūcijās 2026. gadā. | C62: 3) Ministru kabinets nosaka Valsts un pašvaldību institūciju un amatpersonu darbinieku atlīdzības likuma 14. panta pirmajā un divpadsmitajā daļā noteikto piemaksu apmērus, noteikšanas pamatojumu, kā arī laikposmu, uz kuru nosakāma piemaksa valsts un pašvaldību institūcijās 2026. gadā;
B63: 4) piemaksu par virsstundu darbu 100 procentu apmērā no amatpersonai (darbiniekam) noteiktās stundas algas likmes var piešķirt tikai amatpersonai (darbiniekam), izņemot karavīram un militārajam darbiniekam, kuras amata (darba, dienesta) pienākumu izpilde ir saistīta ar nepieciešamību nodrošināt nepārtrauktu darba gaitu. Pārējām amatpersonām (darbiniekiem), izņemot karavīriem un militārajiem darbiniekiem, kompensē virsstundu darbu, piešķirot apmaksātu atpūtas laiku atbilstoši nostrādāto virsstundu skaitam, ja tas nav iespējams, tad piešķir piemaksu par virsstundu darbu 75 procentu apmērā no amatpersonai (darbiniekam) noteiktās stundas algas likmes. | C63: 4) piemaksu par virsstundu darbu 100 procentu apmērā no amatpersonai (darbiniekam) noteiktās stundas algas likmes var piešķirt tikai amatpersonai (darbiniekam), izņemot karavīram un militārajam darbiniekam, kuras amata (darba, dienesta) pienākumu izpilde ir saistīta ar nepieciešamību nodrošināt nepārtrauktu darba gaitu. Pārējām amatpersonām (darbiniekiem), izņemot karavīriem un militārajiem darbiniekiem, kompensē virsstundu darbu, piešķirot apmaksātu atpūtas laiku atbilstoši nostrādāto virsstundu skaitam, ja tas nav iespējams, tad piešķir piemaksu par virsstundu darbu 75 procentu apmērā no amatpersonai (darbiniekam) noteiktās stundas algas likmes. Valsts drošības iestāžu amatpersonām (darbiniekiem) piešķir piemaksu par virsstundu darbu 100 procentu apmērā no amatpersonai (darbiniekam) noteiktās stundas algas likmes vai to kompensē, piešķirot apmaksātu atpūtas laiku atbilstoši nostrādāto virsstundu skaitam.
B64: Valsts drošības iestāžu amatpersonām (darbiniekiem) nav paredzētas ikgadējās novērtēšanas prēmijas. Nepieciešams materiāli stimulēt attiecīgās amatpersonas, lai motivētu tās palikt dienestā, ievērojot to lomu valsts drošības nodrošināšanā pašreizējos ģeopolitiskajos apstākļos. Valsts un pašvaldību institūciju amatpersonu un darbinieku atlīdzības likuma 14. pants: (6) Amatpersonas (darbinieki), izņemot karavīrus, ievērojot šajā pantā minētos nosacījumus, saņem piemaksu par virsstundu darbu 100 procentu apmērā no tām noteiktās stundas algas likmes, vai arī tām kompensē virsstundu darbu, piešķirot apmaksātu atpūtas laiku atbilstoši nostrādāto virsstundu skaitam./ Tas attiecas arī uz valsts drošības iestādēm/
B66: 14. Iekšlietu ministrija
A67: =A57+1 -> 13 | B67: 79. pants. Publiskas personas kapitālsabiedrību un to atkarīgo kapitālsabiedrību, publiski privāto kapitālsabiedrību un publiskas personas kontrolētu kapitālsabiedrību, kas ietilpst no publiskas personas atkarīgas komerciālas publiskas personas kapitālsabiedrības un no publiskas personas atkarīgas nekomerciālas publiskas personas kapitālsabiedrības grupā dalībnieku (akcionāru) sapulce vai padome (ja tāda ir izveidota), izņemot gadījumus, kad ir pieņemts publiskas personas augstākās lēmējinstitūcijas (Ministru kabineta par valsts kapitālsabiedrībām, pašvaldības domes par pašvaldības kapitālsabiedrībām) atsevišķs lēmums, nodrošina, ka 2026. gadā kopējo kapitālsabiedrības personāla izmaksu attiecība pret kopējiem ieņēmumiem (atskaitot finansējumu terminētām investīcijām) nepalielinās salīdzinājumā ar iepriekšējo pārskata gadu, ko panāk, veicot personāla produktivitātes paaugstināšanas un digitalizācijas procesus, kā arī pārskatot kapitālsabiedrību atlīdzības politikas, neietekmējot pakalpojumu kvalitāti (izņemot, ja kapitālsabiedrībai tiek noteiktas jaunas papildus funkcijas). | C67: Izteikt likumprojekta 79.pantu šādā redakcijā: "79. pants. Publiskas personas kapitālsabiedrību un to atkarīgo kapitālsabiedrību, publiski privāto kapitālsabiedrību un publiskas personas kontrolētu kapitālsabiedrību, kas ietilpst no publiskas personas atkarīgas komerciālas publiskas personas kapitālsabiedrības un no publiskas personas atkarīgas nekomerciālas publiskas personas kapitālsabiedrības grupā dalībnieku (akcionāru) sapulce vai padome (ja tāda ir izveidota), izņemot gadījumus, kad ir pieņemts publiskas personas augstākās lēmējinstitūcijas (Ministru kabineta par valsts kapitālsabiedrībām, pašvaldības domes par pašvaldības kapitālsabiedrībām) atsevišķs lēmums, nodrošina, ka 2026. gadā kopējo kapitālsabiedrības personāla izmaksu attiecība pret kopējiem ieņēmumiem (atskaitot finansējumu terminētām investīcijām) nepalielinās salīdzinājumā ar iepriekšējo pārskata gadu, ko panāk, veicot personāla produktivitātes paaugstināšanas un digitalizācijas procesus, kā arī pārskatot kapitālsabiedrību atlīdzības politikas, neietekmējot pakalpojumu kvalitāti (izņemot, ja kapitālsabiedrībai tiek noteiktas jaunas papildus funkcijas vai palielinās ieņēmumi no maksas pakalpojumiem un citiem pašu ieņēmumiem)." | D67: Neatbalstīt
B68: Atlīdzība palielinās arī gadījumā, ja kapitālsabiedrība sniedz jaunus maksas pakalpojumus.
B70: 12. Ekonomikas ministrija
A71: =A67+1 -> 14 | B71: 79. pants. Publiskas personas kapitālsabiedrību un to atkarīgo kapitālsabiedrību, publiski privāto kapitālsabiedrību un publiskas personas kontrolētu kapitālsabiedrību, kas ietilpst no publiskas personas atkarīgas komerciālas publiskas personas kapitālsabiedrības un no publiskas personas atkarīgas nekomerciālas publiskas personas kapitālsabiedrības grupā dalībnieku (akcionāru) sapulce vai padome (ja tāda ir izveidota), izņemot gadījumus, kad ir pieņemts publiskas personas augstākās lēmējinstitūcijas (Ministru kabineta par valsts kapitālsabiedrībām, pašvaldības domes par pašvaldības kapitālsabiedrībām) atsevišķs lēmums, nodrošina, ka 2026. gadā kopējo kapitālsabiedrības personāla izmaksu attiecība pret kopējiem ieņēmumiem (atskaitot finansējumu terminētām investīcijām) nepalielinās salīdzinājumā ar iepriekšējo pārskata gadu, ko panāk, veicot personāla produktivitātes paaugstināšanas un digitalizācijas procesus, kā arī pārskatot kapitālsabiedrību atlīdzības politikas, neietekmējot pakalpojumu kvalitāti (izņemot, ja kapitālsabiedrībai tiek noteiktas jaunas papildus funkcijas). | C71: Izteikt likumprojekta 79. pantu šādā redakcijā: "79. pants. Publiskas personas kapitālsabiedrības un to atkarīgās kapitālsabiedrības, publiski privātās kapitālsabiedrības un publiskas personas kontrolētās kapitālsabiedrības, kas ietilpst no publiskas personas atkarīgas komerciālas publiskas personas kapitālsabiedrības un no publiskas personas atkarīgas nekomerciālas publiskas personas kapitālsabiedrības grupā, izņemot gadījumus, kad ir pieņemts publiskas personas augstākās lēmējinstitūcijas (Ministru kabineta par valsts kapitālsabiedrībām, pašvaldības domes par pašvaldības kapitālsabiedrībām) atsevišķs lēmums, nodrošina, ka 2026. gadā kopējo kapitālsabiedrības personāla izmaksu attiecība pret kopējiem ieņēmumiem (atskaitot finansējumu terminētām investīcijām) nepalielinās salīdzinājumā ar iepriekšējo pārskata gadu, ko panāk, veicot personāla produktivitātes paaugstināšanas un digitalizācijas procesus, kā arī pārskatot kapitālsabiedrību atlīdzības politikas, neietekmējot pakalpojumu kvalitāti (izņemot, ja kapitālsabiedrībai tiek noteiktas jaunas papildus funkcijas)." | D71: Neatbalstīt
B72: Aizstāt 79. pantā vārdus "dalībnieku (akcionāru) sapulce vai padome (ja tāda ir izveidota)" ar vārdiem "kapitālsabiedrība". Valde ir kapitālsabiedrības izpildinstitūcija, kas nodrošina sabiedrības operatīvo darbību, pieņem lēmumus un ir atbildīga par atlīdzības noteikšanu kapitālsabiedrības darbiniekiem, tai skaitā, ir atbildīga par budžeta izpildi, produktivitātes paaugstināšanas pasākumiem un digitalizācijas pasākumiem. Savukārt dalībnieku (akcionāru) sapulce vai padome (ja tāda ir izveidota) pārstāv sabiedrības intereses un uzrauga valdes darbību un sabiedrības attīstību, bet nevada operatīvos procesus. Katra kapitālsabiedrība nosaka un piemēro savus atlīdzības politikas noteikumus, ko apstiprina kapitālsabiedrības valde, tādējādi nodrošinot darbinieku atlīdzības sistēmas atbilstību sabiedrības finanšu iespējām un darbības mērķiem. Vienlaikus vēršam uzmanību, ka likumprojekta 20. pantā pienākumi attiecībā uz dividendēs izmaksājamo peļņas daļu tiek noteikti tieši kapitālsabiedrībām, nevis dalībnieku (akcionāru) sapulcei vai padomei. Lai radītu tiesisko skaidrību, ka personāla atlīdzības jautājumi ir valdes kompetencē, Ekonomikas ministrija piedāvā 79. pantā aizstāt vārdus "dalībnieku (akcionāru) sapulce vai padome (ja tāda ir izveidota)" ar vārdu "kapitālsabiedrība", nodrošinot arī konsekvenci likumprojekta ietvarā ar 20. pantu. Ekonomikas ministrija aicina likumprojektā vai tā anotācijā iekļaut skaidrus nosacījumus par kārtību, termiņiem un kritērijiem, kādā Ministru kabinets par valsts kapitālsabiedrībām un pašvaldības dome par pašvaldības kapitālsabiedrībām var pieņemt atsevišķu lēmumu par 79. pantā noteiktā uzdevuma izņēmumiem, lai nodrošinātu vienotu pieeju kapitālsabiedrību vidū, izvairoties no nenoteiktības un individuālas normas interpretācijas. Ekonomikas ministrija papildus aicina likumprojekta anotācijā minēt, ka šāds ierobežojums nav attiecināms uz komerciālajām kapitālsabiedrībām, ņemot vērā, ka komerciālās kapitālsabiedrības aktīvi īsteno attīstības projektus un nevar pieļaut kapitālsabiedrību apgrozījuma samazināšanu, kā arī nevar atlikt ieplānoto jaunu projektu darbības uzsākšanu, kur būs nepieciešami gan cilvēkresursi, gan finansējums.
B74: 16. Zemkopības ministrija
A75: =A71+1 -> 15 | B75: 79. pants. Publiskas personas kapitālsabiedrību un to atkarīgo kapitālsabiedrību, publiski privāto kapitālsabiedrību un publiskas personas kontrolētu kapitālsabiedrību, kas ietilpst no publiskas personas atkarīgas komerciālas publiskas personas kapitālsabiedrības un no publiskas personas atkarīgas nekomerciālas publiskas personas kapitālsabiedrības grupā dalībnieku (akcionāru) sapulce vai padome (ja tāda ir izveidota), izņemot gadījumus, kad ir pieņemts publiskas personas augstākās lēmējinstitūcijas (Ministru kabineta par valsts kapitālsabiedrībām, pašvaldības domes par pašvaldības kapitālsabiedrībām) atsevišķs lēmums, nodrošina, ka 2026. gadā kopējo kapitālsabiedrības personāla izmaksu attiecība pret kopējiem ieņēmumiem (atskaitot finansējumu terminētām investīcijām) nepalielinās salīdzinājumā ar iepriekšējo pārskata gadu, ko panāk, veicot personāla produktivitātes paaugstināšanas un digitalizācijas procesus, kā arī pārskatot kapitālsabiedrību atlīdzības politikas, neietekmējot pakalpojumu kvalitāti (izņemot, ja kapitālsabiedrībai tiek noteiktas jaunas papildus funkcijas). | C75: Izteikt likumprojekta 79. pantu šādā redakcijā: "79. pants. Publiskas personas kapitālsabiedrību un to atkarīgo kapitālsabiedrību, publiski privāto kapitālsabiedrību un publiskas personas kontrolētu kapitālsabiedrību, kas ietilpst no publiskas personas atkarīgas komerciālas publiskas personas kapitālsabiedrības un no publiskas personas atkarīgas nekomerciālas publiskas personas kapitālsabiedrības grupā dalībnieku (akcionāru) sapulce vai padome (ja tāda ir izveidota), izņemot gadījumus, kad ir pieņemts publiskas personas augstākās lēmējinstitūcijas (Ministru kabineta par valsts kapitālsabiedrībām, pašvaldības domes par pašvaldības kapitālsabiedrībām) atsevišķs lēmums, nodrošina, ka 2026. gadā kopējo kapitālsabiedrības (kuras saņem dotācijas no valsts budžeta) personāla izmaksu attiecība pret kopējiem ieņēmumiem (atskaitot finansējumu terminētām investīcijām) nepalielinās salīdzinājumā ar iepriekšējo pārskata gadu, ko panāk, veicot personāla produktivitātes paaugstināšanas un digitalizācijas procesus, kā arī pārskatot kapitālsabiedrību atlīdzības politikas, neietekmējot pakalpojumu kvalitāti (izņemot, ja kapitālsabiedrībai tiek noteiktas jaunas papildus funkcijas)." | D75: Neatbalstīt
B76: Priekšlikums paredz 79. panta normu attiecināt uz kapitālsabiedrībām, kuras saņem dotācijas no valsts budžeta un neattiecināt uz kapitālsabiedrībām kuras nesaņem dotācijas no valsts budžeta.
B78: Valsts kanceleja
A79: =A75+1 -> 16 | B79: 79. pants. Publiskas personas kapitālsabiedrību un to atkarīgo kapitālsabiedrību, publiski privāto kapitālsabiedrību un publiskas personas kontrolētu kapitālsabiedrību, kas ietilpst no publiskas personas atkarīgas komerciālas publiskas personas kapitālsabiedrības un no publiskas personas atkarīgas nekomerciālas publiskas personas kapitālsabiedrības grupā dalībnieku (akcionāru) sapulce vai padome (ja tāda ir izveidota), izņemot gadījumus, kad ir pieņemts publiskas personas augstākās lēmējinstitūcijas (Ministru kabineta par valsts kapitālsabiedrībām, pašvaldības domes par pašvaldības kapitālsabiedrībām) atsevišķs lēmums, nodrošina, ka 2026. gadā kopējo kapitālsabiedrības personāla izmaksu attiecība pret kopējiem ieņēmumiem (atskaitot finansējumu terminētām investīcijām) nepalielinās salīdzinājumā ar iepriekšējo pārskata gadu, ko panāk, veicot personāla produktivitātes paaugstināšanas un digitalizācijas procesus, kā arī pārskatot kapitālsabiedrību atlīdzības politikas, neietekmējot pakalpojumu kvalitāti (izņemot, ja kapitālsabiedrībai tiek noteiktas jaunas papildus funkcijas). | C79: Izteikt likumprojekta 79. pantu šādā redakcijā: "79. pants. Publiskas personas kapitālsabiedrību un to atkarīgo kapitālsabiedrību, publiski privāto kapitālsabiedrību un publiskas personas kontrolētu kapitālsabiedrību, kas ietilpst no publiskas personas atkarīgas komerciālas publiskas personas kapitālsabiedrības un no publiskas personas atkarīgas nekomerciālas publiskas personas kapitālsabiedrības grupā dalībnieku (akcionāru) sapulce vai padome (ja tāda ir izveidota), izņemot gadījumus, kad ir pieņemts publiskas personas augstākās lēmējinstitūcijas (piemēram, Ministru kabineta par valsts kapitālsabiedrībām, pašvaldības domes par pašvaldības kapitālsabiedrībām) atsevišķs lēmums, nodrošina, ka 2026. gadā kopējo kapitālsabiedrības personāla izmaksu attiecība pret kopējiem kapitālsabiedrības ieņēmumiem Gada pārskatu un konsolidēto gada pārskatu likuma izpratnē nepalielinās salīdzinājumā ar iepriekšējo pārskata gadu, ko panāk, veicot personāla produktivitātes paaugstināšanas un digitalizācijas procesus, kā arī pārskatot kapitālsabiedrību atlīdzības politikas, neietekmējot pakalpojumu kvalitāti (izņemot, ja kapitālsabiedrībai tiek noteiktas jaunas papildus funkcijas)." | D79: Atbalstīt
B80: Lai nodrošinātu tiesisko skaidrību par panta piemērošanas kārtību, priekšlikums paredz precizēt 79. panta normu.
B82: Valsts kanceleja
A83: =A79+1 -> 17 | C83: Papildināt likumprojekta II nodaļu ar jaunu pantu šādā redakcijā: "xx. pants. Noteikt, ka ar 2026. gada 1. jūliju valsts institūcijas no saviem amatu sarakstiem izslēdz amata vietas, kuras ir bijušas vakantas vairāk kā 6 mēnešus par stāvokli uz 2026.gada 30.jūniju, izņemot šādus amatus: 1) amatpersonu ar speciālām dienesta pakāpēm, izmeklētāji ar amatu raksturojošo pazīmi un karavīru, kā arī tiesu ekspertu amatus; 2) tiesnešu, prokuroru un tiesu darbinieku (tiesu sēžu sekretāru, tiesnešu palīgu un tiesu tulku); 3) ārstniecības personu, tai skaitā neatliekamās medicīniskās palīdzības brigādes personālu, kā arī psihologu amatus; 4) valsts sociālās aprūpes centru aprūpētājus; 5) iestādes vadītāju; 6) amatus projektos, kas ir terminēti un tai skaitā tiek finansēti no Eiropas Savienības struktūrfondu vai Eiropas Savienības Atveseļošanas un noturības mehānisma līdzekļiem, atlasot pēc šādām pazīmēm: projektā nodarbināts valsts civildienesta ierēdnis vai projektā nodarbināts darbinieks, kā arī 39.amatu saimē “Projektu vadība, īstenošana un uzraudzība” klasificētie amati." | D83: Atbalstīt
B84: Izpildot Ministru kabineta 2025.gada 14.oktobra protokola Nr. 43 36. § (25-TA-2441) 12.punktā doto uzdevumu “Ņemot vērā Nacionālās trīspusējās sadarbības padomes 2025. gada 10. oktobra sanāksmes vienošanos, Valsts kancelejai sadarbībā ar Finanšu ministriju veikt analīzi par iespējām ar 2026. gada 1. jūliju likvidēt vakances neatkarīgajās iestādēs un ministriju resoros, lai nodrošinātu, ka samazinājums kopā ar jau veiktajiem samazinājumiem netiek veikts dubultā un ietaupītie līdzekļi 30% apmērā tiek atstāti ministriju resoros darbiniekiem veicamo papildu pienākumu finansēšanai, un sagatavot attiecīgus priekšlikumus likumprojekta izskatīšanai Saeimā otrajā lasījumā”, likumprojektu paredzēts papildināt ar jaunu pantu, lai turpmāk ierobežotu vakantu amatu, kuri ir ilgāki par 6 mēnešiem. 2027.gada budžeta ietvarā paredzēto izdevumu samazinājumu atlīdzības izdevumiem 6 un vairāk mēnešus vakantajiem amatiem papildus jāvērtē 2026.gadā izdevumu pārskatīšanas ietvaros.
B86: 12. Ekonomikas ministrija
A87: =A83+1 -> 18 | C87: Papildināt likumprojekta II nodaļu ar jaunu pantu šādā redakcijā: "xx. pants. Atļaut finanšu ministram Latvijas Republikas vārdā 2026. gadā izsniegt valsts aizdevumus Latvijas lielo ostu pārvaldēm (Rīgas brīvostas pārvaldei, Ventspils brīvostas pārvaldei un Liepājas Speciālās ekonomiskās zonas pārvaldei) kredītiestāžu izsniegto būvniecības kredītu pārkreditēšanai. Aizdevumus minētajam mērķim atļauts izsniegt, ja tas nerada negatīvu ietekmi uz vispārējās valdības budžeta bilanci, Ministru kabinets ir pieņēmis attiecīgu lēmumu, kurā noteikti valsts aizdevuma izsniegšanas nosacījumi, un Saeimas Budžeta un finanšu (nodokļu) komisija piecu darba dienu laikā no attiecīgās informācijas saņemšanas dienas ir to izskatījusi un nav iebildusi pret aizdevuma izsniegšanu." | D87: Atbalstīt
B88: Papildināt Likumprojektu ar jaunu pantu, kura mērķis ir nodrošināt Latvijas lielo ostu pārvalžu (Rīgas brīvostas pārvalde, Ventspils brīvostas pārvalde un Liepājas speciālās ekonomiskās zonas pārvalde) finanšu stabilitāti un spēju turpināt pildīt Ostu likumā noteiktās publiskās funkcijas. Tas ietver ostas infrastruktūras uzturēšanu un attīstību, hidrotehnisko būvju apsaimniekošanu, kuģošanas drošības nodrošināšanu un valsts stratēģisko interešu īstenošanu. Iepriekšējos gados Latvijas lielo ostu pārvaldes ir īstenojušas nozīmīgus attīstības projektus, kas saistīti ar infrastruktūras būvniecību, atjaunošanu un ražošanas teritoriju attīstību, izmantojot gan publisko finansējumu, gan komercbanku kredītus kā līdzfinansējumu. Rezultātā ostu pārvaldēm ir izveidojušās ilgtermiņa kredītsaistības pret komercbankām, kas turpmākajos gados var radīt būtisku finanšu slogu un risku to maksātspējai. Ņemot vērā samērā augstās procentu likmes komercbanku tirgū un ierobežotās iespējas pārfinansēt saistības uz līdzvērtīgiem nosacījumiem, šo kredītu pārkreditēšana Valsts kasē uz ilgtspējīgākiem nosacījumiem būtu fiskāli atbildīgs un ekonomiski pamatots risinājums. Paredzot iespēju finanšu ministram 2026. gadā Latvijas Republikas vārdā izsniegt valsts aizdevumus lielo ostu pārvaldēm kredītiestāžu izsniegto būvniecības kredītu pārkreditēšanai, tiek radīti priekšnoteikumi ostu pārvaldību stabilai darbībai, publiskās infrastruktūras uzturēšanai un jaunu investīciju projektu īstenošanai. Līdzīga norma ir iekļauta arī spēkā esošajā likumā “Par valsts budžetu 2025. gadam un budžeta ietvaru 2025., 2026. un 2027. gadam”, kur tā noteikta ar identiskiem nosacījumiem, proti, ka valsts aizdevumus drīkst izsniegt tikai tad, ja tas nerada negatīvu ietekmi uz vispārējās valdības budžeta bilanci, pēc Ministru kabineta lēmuma un ja pret to neiebilst Saeimas Budžeta un finanšu (nodokļu) komisija. Kopumā piedāvātais risinājums potenciāli varētu sekmēt Latvijas lielo ostu pārvalžu finanšu stabilitāti, sniegt nozīmīgu ieguldījumu Latvijas lielo ostu infrastruktūras ilgtspējīgā pārvaldībā un uzturēšanā, kā arī saglabāt valsts un reģionālās ekonomikas aktivitāti, tostarp nodrošinot valsts interesēm atbilstošas ostu loģistikas funkciju nepārtrauktību.
B90: 15. Izglītības un zinātnes ministrija
A91: =A87+1 -> 19 | C91: Papildināt likumprojekta II nodaļu ar jaunu pantu šādā redakcijā: "xx. pants. (1) Valsts akciju sabiedrība "Valsts nekustamie īpašumi" valsts nekustamā īpašuma (nekustamā īpašuma kadastra Nr. 0100 003 2008) Alksnāja ielā 9, Rīgā, atsavināšanas rezultātā iegūtos līdzekļus pēc faktisko atsavināšanas izdevumu atskaitīšanas ieskaita valsts budžetā. (2) Atļaut finanšu ministram palielināt Izglītības un zinātnes ministrijas budžeta apakšprogrammā 09.07.00 "Dotācija sporta organizāciju, programmu un pasākumu atbalstam" apropriāciju resursiem no dotācijas no vispārējiem ieņēmumiem, piešķirot papildus līdzekļus sporta programmu un pasākumu atbalstam saskaņā ar finansēšanas konkursu kārtību un nosacījumiem, ko apstiprina un izsludina Izglītības un zinātnes ministrija, atbilstoši šā panta pirmajā daļā noteiktajam valsts budžeta ieņēmumos ieskaitīto līdzekļu apmēram, ja Saeimas Budžeta un finanšu (nodokļu) komisija piecu darba dienu laikā no attiecīgās informācijas saņemšanas dienas ir to izskatījusi un nav iebildusi pret apropriācijas palielinājumu." | D91: Atbalstīt
B92: Priekšlikums paredz, atbilstoši Publiskas personas mantas atsavināšanas likuma 9.panta pirmajā daļā paredzētajam, atbalstīt valsts nekustamā īpašuma atsavināšanu, kuru organizē valsts akciju sabiedrība "Valsts nekustamie īpašumi". Priekšlikumā piedāvātais risinājums paredz valsts nekustamā īpašuma atsavināšanā iegūtos līdzekļus pēc atsavināšanas izdevumu segšanas, ieskaitīt valsts pamatbudžeta ieņēmumu kontā pēc tam par attiecīgu finansējuma apmēru tiks gatavots rīkojums par apropriācijas palielināšanu Izglītības un zinātnes ministrijas budžeta apakšprogrammā 09.07.00 "Dotācija sporta organizāciju, programmu un pasākumu atbalstam", lai ienākumus no nekustamā īpašuma Alksnāja ielā 9, Rīgā, atsavināšanas novirzītu sporta programmu un pasākumu atbalstam saskaņā ar finansēšanas konkursu kārtību un nosacījumiem, ko apstiprina un izsludina Izglītības un zinātnes ministrija.
B94: 16. Zemkopības ministrija
A95: =A91+1 -> 20 | C95: Papildināt likumprojekta II nodaļu ar jaunu pantu šādā redakcijā: "xx. pants. (1) Valsts akciju sabiedrība "Valsts nekustamie īpašumi" valsts nekustamā īpašuma (nekustamā īpašuma kadastra Nr.0100 003 0086) 13. janvāra iela 15, Rīga Kalēju iela 68, Rīga, atsavināšanas rezultātā iegūtos līdzekļus pēc faktisko atsavināšanas izdevumu atskaitīšanas ieskaita valsts budžetā. (2) Atļaut finanšu ministram palielināt Zemkopības ministrijas budžeta programmā 97.00.00 “Nozaru vadība un politikas plānošana” apropriāciju resursiem no dotācijas no vispārējiem ieņēmumiem, piešķirot papildu līdzekļus valsts nekustamā īpašuma (nekustamā īpašuma kadastra Nr.0100 010 0144) Republikas laukums 2, Rīga, sastāvā esošās administratīvās ēkas ar kadastra apzīmējumu 0100 010 0144 001 neatliekamo uzlabojumu nodrošināšanai atbilstoši šā panta pirmajā daļā noteiktajam valsts budžeta ieņēmumos ieskaitīto līdzekļu apmēram, ja Saeimas Budžeta un finanšu (nodokļu) komisija piecu darba dienu laikā no attiecīgās informācijas saņemšanas dienas ir to izskatījusi un nav iebildusi pret apropriācijas palielinājumu." | D95: Atbalstīt
B96: Ēka, kas atrodas Republikas laukumā 2, ir valsts īpašumā esošs nekustamais īpašums, kas reģistrēts ZM personā. Ēkas pārvaldību nodrošina VSIA “Zemkopības ministrijas nekustamie īpašumi”. Ēka galvenokārt tiek izmantota valsts pārvaldes funkciju nodrošināšanai, no kuras apmēram 66 % no kopējās biroju platības aizņem ZM un tās padotības iestādes. Tajā tiek nodrošinātas darba vietas aptuveni 900 darbiniekiem. Šobrīd ir iespējams nodrošināt ZM un tās padotības iestāžu izvietošanu vienuviet, izmantojot ZM rīcībā esošo Ēku. Šāda telpu konsolidācija ļauj optimizēt resora nekustamo īpašumu portfeli, atbrīvojot un nododot atsavināšanai citus ZM valsts īpašumus, piemēram, Valsts meža dienesta administratīvo ēku 13. janvāra ielā, Rīgā. Iegūtos līdzekļus no nekustamā īpašuma atsavināšanas būtu iespējams virzīt Ēkas energoefektivitātes un infrastruktūras uzlabošanas pasākumu finansēšanai. Uzlabojumi kalpotu kā starpposma risinājums līdz ilgtermiņa valsts nekustamo īpašumu attīstības koncepcijas izstrādei un ieviešanai. Atbilstoši Publiskas personas mantas atsavināšanas likuma 9.panta pirmajā daļā paredzētajam, valsts nekustamā īpašuma atsavināšanu organizēs VAS "Valsts nekustamie īpašumi", vienlaikus priekšlikumā piedāvātais risinājums paredz valsts nekustamā īpašuma atsavināšanā iegūtos līdzekļus pēc atsavināšanas izdevumu segšanas, ieskaitīt valsts pamatbudžeta ieņēmumu kontā pēc tam par attiecīgu finansējuma apmēru tiks gatavots rīkojums par apropriācijas palielināšanu Zemkopības ministrijas budžeta programmā 97.00.00 " Nozaru vadība un politikas plānošana", lai ienākumus no nekustamā īpašuma atsavināšanas novirzītu Zemkopības ministrijas administratīvās ēkas Republikas laukums 2, Rīga, neatliekamo uzlabojumu nodrošināšanai.
B98: 10. Aizsardzības ministrija
A99: =A95+1 -> 21 | C99: Papildināt likumprojekta II nodaļu ar jaunu pantu šādā redakcijā: "xx. pants. Atļaut sabiedrībai ar ierobežotu atbildību “Valsts aizsardzības korporācija” uzņemties valsts budžeta ilgtermiņa saistības nepārsniedzot 100 000 000 euro, lai nodrošinātu aizsardzības industriālās un tehnoloģiskās bāzes attīstību, ja ir pieņemts attiecīgs Ministru kabineta lēmums un Saeimas Budžeta un finanšu (nodokļu) komisija piecu darba dienu laikā no attiecīgās informācijas saņemšanas dienas ir to izskatījusi un nav iebildusi pret valsts budžeta ilgtermiņa saistību maksimāli pieļaujamā apjoma palielinājumu." | D99: Neatbalstīt
B100: Priekšlikums paredz dot iespēju sabiedrībai ar ierobežotu atbildību “Valsts aizsardzības korporācija” uzņemties valsts budžeta ilgtermiņa saistības, kuras saskaņā ar “Likumu par budžetu un finanšu vadību” parastā kārtībā var uzņemties tikai valsts budžeta iestādes un pašvaldības. Atļauja nepieciešama, lai paātrinātu procesus valsts kopuzņēmuma izveidei militārajā jomā.
B102: 15. Izglītības un zinātnes ministrija
A103: =A99+1 -> 22 | C103: Papildināt likumprojekta II nodaļu ar jaunu pantu šādā redakcijā: "xx. pants. Ministru kabinetam noteikt kārtību, kādā 2026. gadā piešķir valsts sociālo atbalstu tiem vispārējās pamatizglītības un vispārējās vidējās izglītības programmu īstenošanā iesaistītajiem pedagogiem, kuri pašvaldības vispārējās izglītības iestādes reorganizācijas vai likvidācijas gadījumā zaudē pedagoga darbu, bet kuram līdz pensijas vecuma sasniegšanai ir palikuši mazāk kā 3 gadi, kā arī noteikt institūciju, kas administrē valsts sociālā atbalsta izmaksu un tās pārtraukšanu." | D103: Atbalstīt
B104: Priekšlikums paredz dot deleģējumu Ministru kabinetam izstrādāt kārtību, kādā tiek dotas tiesības tiem vispārējās pamatizglītības un vispārējās vidējās izglītības programmu īstenošanā iesaistītajiem pedagogiem, kuri skolu tīkla sakārtošanas rezultātā pašvaldības vispārējās izglītības iestādes reorganizācijas vai likvidācijas gadījumā zaudē pedagoga darbu, bet kuram līdz pensijas vecuma sasniegšanai ir palikuši mazāk kā 3 gadi, pretendēt uz valsts sociālo atbalstu.
B106: 13. Finanšu ministrija
A107: =A103+1 -> 23 | C107: Kopsavilkuma skaitļus likumprojekta tekstā un pielikumos precizēt pēc balsojumiem par konkrētām pielikumu pozīcijām. | D107: Atbalstīt
B109: 13. Finanšu ministrija
A110: =A107+1 -> 24 | C110: Ja kādā no valsts budžeta likumprojektu paketē iekļautajiem likumprojektiem tiek atbalstīti priekšlikumi ar negatīvu ietekmi uz valsts budžeta finansiālo bilanci, tad atbilstoši samazināt finansējumu valsts budžeta resora "74. Gadskārtējā valsts budžeta izpildes procesā pārdalāmais finansējums" programmā "Līdzekļi neparedzētiem gadījumiem". | D110: Atbalstīt

Sheet AiM
C1: Pieņemts pirmajā lasījumā | D1: Priekšlikums par izmaiņām | F1: Pieņemts pirmajā lasījumā | G1: Priekšlikums par izmaiņām | H1: Priekšlikums MK atzinumam
B3: Par likumprojekta "Par valsts budžetu 2026. gadam un budžeta ietvaru 2026., 2027. un 2028. gadam" skaitlisko daļu:
B5: Sadalījumā pa budžeta resoriem
B7: 10. Aizsardzības ministrija
A9: =1 -> 1 | B9: 10.Aizsardzības ministrija | H9: Atbalstīt
B10: 4.pielikums
B11: 33.00.00 Aizsardzības īpašumu pārvaldīšana
B12: Resursi izdevumu segšanai | C12: =+C13+C14 -> 184229450
B13: Ieņēmumi no maksas pakalpojumiem un citi pašu ieņēmumi – kopā | C13: 6510254
B14: Dotācija no vispārējiem ieņēmumiem | C14: =+C15 -> 177719196
B15: Vispārējā kārtībā sadalāmā dotācija no vispārējiem ieņēmumiem | C15: 177719196
B16: Izdevumi – kopā | C16: =+C17+C27 -> 184229450 | D16: =+D17+D27 -> 0
B17: Uzturēšanas izdevumi | C17: =+C18+C21+C23 -> 49666518 | D17: =+D18+D21+D23 -> 460000
B18: Kārtējie izdevumi | C18: =+C20+C19 -> 49548452 | D18: =+D20 -> 0
B19: Atlīdzība | C19: 10872008
B20: Preces un pakalpojumi | C20: 38676444
B21: Subsīdijas, dotācijas, sociālie maksājumi un kompensācijas | C21: =+C22 -> 0 | D21: =+D22 -> 460000
B22: Subsīdijas un dotācijas | D22: 460000
B23: Transferti viena budžeta veida ietvaros un uzturēšanas izdevumu transferti starp budžeta veidiem | C23: =+C24 -> 118066 | D23: =+D24 -> 0
B24: Valsts budžeta transferti un uzturēšanas izdevumu transferti | C24: =+C25 -> 118066
B25: Valsts budžeta transferti no valsts pamatbudžeta uz valsts pamatbudžetu | C25: =+C26 -> 118066
B26: Valsts budžeta transferti no valsts pamatbudžeta dotācijas no vispārējiem ieņēmumiem uz valsts pamatbudžetu | C26: 118066
B27: Kapitālie izdevumi | C27: =+C28 -> 134562932 | D27: =+D28 -> -460000
B28: Pamatkapitāla veidošana | C28: 134562932 | D28: -460000
B29: 10.Aizsardzības ministrija
B30: 3.pielikums
B31: I. Valsts pamatfunkciju īstenošana
B32: 2027.gads
B33: Resursi izdevumu segšanai | C33: =+C34+C35 -> 142544254
B34: Ieņēmumi no maksas pakalpojumiem un citi pašu ieņēmumi – kopā | C34: 6510254
B35: Dotācija no vispārējiem ieņēmumiem | C35: =+C36 -> 136034000
B36: Vispārējā kārtībā sadalāmā dotācija no vispārējiem ieņēmumiem | C36: 136034000
B37: Izdevumi – kopā | C37: =+C38+C44 -> 142544254 | D37: =+D38+D44 -> 0
B38: Uzturēšanas izdevumi | C38: =+C39+C42 -> 48992145 | D38: =+D39+D42 -> 760000
B39: Kārtējie izdevumi | C39: =+C41+C40 -> 48992145 | D39: =+D41 -> 0
B40: Atlīdzība | C40: 10197635
B41: Preces un pakalpojumi | C41: 38794510
B42: Subsīdijas, dotācijas, sociālie maksājumi un kompensācijas | C42: =+C43 -> 0 | D42: 760000
B43: Subsīdijas un dotācijas | D43: 760000
B44: Kapitālie izdevumi | C44: =+C45 -> 93552109 | D44: =+D45 -> -760000
B45: Pamatkapitāla veidošana | C45: 93552109 | D45: -760000
B46: 2028.gads
B47: Resursi izdevumu segšanai | C47: =+C48+C49 -> 147142562
B48: Ieņēmumi no maksas pakalpojumiem un citi pašu ieņēmumi – kopā | C48: 6510254
B49: Dotācija no vispārējiem ieņēmumiem | C49: =+C50 -> 140632308
B50: Vispārējā kārtībā sadalāmā dotācija no vispārējiem ieņēmumiem | C50: 140632308
B51: Izdevumi – kopā | C51: =+C52+C58 -> 147142562 | D51: =+D52+D58 -> 0
B52: Uzturēšanas izdevumi | C52: =+C53+C56 -> 49004366 | D52: =+D53+D56 -> 790000
B53: Kārtējie izdevumi | C53: =+C55+C54 -> 49004366 | D53: =+D55 -> 0
B54: Atlīdzība | C54: 10209856
B55: Preces un pakalpojumi | C55: 38794510
B56: Subsīdijas, dotācijas, sociālie maksājumi un kompensācijas | C56: =+C57 -> 0 | D56: =+D57 -> 790000
B57: Subsīdijas un dotācijas | D57: 790000
B58: Kapitālie izdevumi | C58: =+C59 -> 98138196 | D58: =+D59 -> -790000
B59: Pamatkapitāla veidošana | C59: 98138196 | D59: -790000
B60: Iekšējā finansējuma pārdale programmas 33.00.00 "Aizsardzības īpašumu pārvaldīšana" ietvaros, lai segtu VNĪ izdevumus, pamatojoties uz Informatīvo ziņojumu "Par investīcijām aizsardzības jomas prioritāro objektu attīstībā privātās - publiskās partnerības ietvarā "( 25-TA-2051 (IP)) (23.09.2025 MK sēdes prot. Nr.39 51.§)
A62: =A9+1 -> 2 | B62: 10.Aizsardzības ministrija | H62: Atbalstīt
B63: 4.pielikums
B64: 73.02.00 Atmaksas valsts pamatbudžetā par citu ārvalstu finanšu palīdzības līdzfinansēto projektu finansējumu
B65: Resursi izdevumu segšanai | D65: =+D66 -> 6172926
B66: Ārvalstu finanšu palīdzība iestādes ieņēmumos | D66: =+D67 -> 6172926
B67: Iestādes ieņēmumi no ārvalstu finanšu palīdzības | D67: 6172926
B68: Izdevumi – kopā | D68: =+D69 -> 6172926
B69: Transferti, uzturēšanas izdevumu transferti, pašu resursu maksājumi, starptautiskā sadarbība | D69: =+D70 -> 6172926
B70: Atmaksa valsts budžetā par veiktajiem izdevumiem | D70: 6172926
B71: 11.pielikums
B72: 73.02.00 Atmaksas valsts pamatbudžetā par citu ārvalstu finanšu palīdzības līdzfinansēto projektu finansējumu
B73: 0101120300 - Citi ārvalstu finanšu palīdzības līdzfinansētie projekti
B74: tajā skaitā
B75: 2026.gads
B76: Resursi izdevumu segšanai | D76: =+D77 -> 6172926
B77: Ārvalstu finanšu palīdzība iestādes ieņēmumos | D77: =+D78 -> 6172926
B78: Iestādes ieņēmumi no ārvalstu finanšu palīdzības | D78: 6172926
B79: Izdevumi – kopā | D79: =+D80 -> 6172926
B80: Transferti, uzturēšanas izdevumu transferti, pašu resursu maksājumi, starptautiskā sadarbība | D80: =+D81 -> 6172926
B81: Atmaksa valsts budžetā par veiktajiem izdevumiem | D81: 6172926
B82: Finansējuma palielinājums projektam "Infrastruktūras nodrošināšana sabiedroto uzņemšanai" (CAFP/AIM/008), lai veiktu ārvalstu finanšu palīdzības līdzekļu atmaksu valsts pamatbudžetā par Aizsardzības ministrijas veiktajiem izdevumiem pamatfunkciju īstenošanai, kas tiek attiecināti uz NATO investīciju programmu, lai nodrošinātu infrastruktūru sabiedroto vajadzībām
A84: =A62+1 -> 3 | B84: 10.Aizsardzības ministrija | H84: Atbalstīt
B85: 4.pielikums
B86: 73.07.00 NATO investīciju projekti
B87: Resursi izdevumu segšanai | C87: =+C90 -> 814310 | D87: =+D88 -> 3200000
B88: Ārvalstu finanšu palīdzība iestādes ieņēmumos | D88: =+D89 -> 3200000
B89: Iestādes ieņēmumi no ārvalstu finanšu palīdzības | D89: 3200000
B90: Dotācija no vispārējiem ieņēmumiem | C90: =+C91 -> 814310
B91: Vispārējā kārtībā sadalāmā dotācija no vispārējiem ieņēmumiem | C91: 814310
B92: Izdevumi – kopā | C92: =+C93 -> 814310 | D92: =+D93+D97 -> 3200000
B93: Uzturēšanas izdevumi | C93: =+C94 -> 814310 | D93: =+D94 -> 0
B94: Kārtējie izdevumi | C94: =+C95 -> 814310 | D94: =+D96 -> 0
B95: Atlīdzība | C95: 814310
B96: Preces un pakalpojumi
B97: Kapitālie izdevumi | D97: =+D98 -> 3200000
B98: Pamatkapitāla veidošana | D98: 3200000
B99: Finansiālā bilance | D99: =+D87-D92 -> 0
B100: Finansēšana | D100: =+D92-D87 -> 0
B101: Naudas līdzekļi | D101: =+D100 -> 0
B102: Ārvalstu finanšu palīdzības naudas līdzekļu atlikumu izmaiņas palielinājums (-) vai samazinājums (+) | D102: =+D101 -> 0
B103: 11.pielikums
B104: 73.07.00 NATO investīciju projekti
B105: 0101120300 - Citi ārvalstu finanšu palīdzības līdzfinansētie projekti
B106: tajā skaitā
...

Sheet ĀM
C1: Pieņemts pirmajā lasījumā | D1: Priekšlikums par izmaiņām | F1: Pieņemts pirmajā lasījumā | G1: Priekšlikums par izmaiņām | H1: Priekšlikums MK atzinumam
B3: 11. Ārlietu ministrija
A5: =AiM!A126+1 -> 5 | B5: 74. Gadskārtējā valsts budžeta izpildes procesā pārdalāmais finansējums | E5: 03. Ministru kabinets | H5: Atbalstīt
B6: 4.pielikums | E6: 4.pielikums
B7: 04.00.00 Latvijas prezidentūras Eiropas Savienības Padomē nodrošināšana | E7: 96.00.00 Latvijas prezidentūras Eiropas Savienības Padomē nodrošināšana
B8: Resursi izdevumu segšanai | C8: 9575070 | D8: -2775901 | E8: Resursi izdevumu segšanai | G8: 62791
B9: Dotācija no vispārējiem ieņēmumiem | C9: 9575070 | D9: -2775901 | E9: Dotācija no vispārējiem ieņēmumiem | G9: 62791
B10: Vispārējā kārtībā sadalāmā dotācija no vispārējiem ieņēmumiem | C10: 9575070 | D10: -2775901 | E10: Vispārējā kārtībā sadalāmā dotācija no vispārējiem ieņēmumiem | G10: 62791
B11: Izdevumi - kopā | C11: 9575070 | D11: -2775901 | E11: Izdevumi - kopā | G11: 62791
B12: Uzturēšanas izdevumi | C12: 9575070 | D12: -2775901 | E12: Uzturēšanas izdevumi | G12: 62791
B13: Subsīdijas, dotācijas, sociālie maksājumi un kompensācijas | C13: 9575070 | D13: -2775901 | E13: Kārtējie izdevumi | G13: 62791
B14: Subsīdijas un dotācijas | C14: 9575070 | D14: -2775901 | E14: Atlīdzība | G14: 62791
E15: 11. Ārlietu ministrija
E16: 4.pielikums
E17: 96.01.00 Latvijas prezidentūras Eiropas Savienības Padomē sekretariāta darbības nodrošināšana
E18: Resursi izdevumu segšanai | F18: 124930 | G18: 1437076
E19: Dotācija no vispārējiem ieņēmumiem | F19: 124930 | G19: 1437076
E20: Vispārējā kārtībā sadalāmā dotācija no vispārējiem ieņēmumiem | F20: 124930 | G20: 1437076
E21: Izdevumi - kopā | F21: 124930 | G21: 1437076
E22: Uzturēšanas izdevumi | F22: 124930 | G22: 1401022
E23: Kārtējie izdevumi | F23: 124930 | G23: 1401022
E24: Atlīdzība | F24: 0 | G24: 1230354
E25: Preces un pakalpojumi | F25: 124930 | G25: =161758+8910 -> 170668
E26: Kapitālie izdevumi | F26: 0 | G26: 36054
E27: Pamatkapitāla veidošana | F27: 0 | G27: 36054
E28: 96.03.00 Latvijas prezidentūras Eiropas Savienības Padomē nodrošināšana (ministrijas pasākumi)
E29: Resursi izdevumu segšanai | G29: 380953
E30: Dotācija no vispārējiem ieņēmumiem | G30: 380953
E31: Vispārējā kārtībā sadalāmā dotācija no vispārējiem ieņēmumiem | G31: 380953
E32: Izdevumi - kopā | G32: 380953
E33: Uzturēšanas izdevumi | G33: 353303
E34: Kārtējie izdevumi | G34: 353303
E35: Atlīdzība | G35: 264341
E36: Preces un pakalpojumi | G36: 88962
E37: Kapitālie izdevumi | G37: 27650
E38: Pamatkapitāla veidošana | G38: 27650
E39: 12. Ekonomikas ministrija
E40: 4.pielikums
E41: 96.00.00 Latvijas prezidentūras Eiropas Savienības Padomē nodrošināšana
E42: Resursi izdevumu segšanai | G42: 188889
E43: Dotācija no vispārējiem ieņēmumiem | G43: 188889
E44: Vispārējā kārtībā sadalāmā dotācija no vispārējiem ieņēmumiem | G44: 188889
E45: Izdevumi - kopā | G45: 188889
E46: Uzturēšanas izdevumi | G46: 185889
E47: Kārtējie izdevumi | G47: 185889
E48: Atlīdzība | G48: 96215
E49: Preces un pakalpojumi | G49: 89674
E50: Kapitālie izdevumi | G50: 3000
E51: Pamatkapitāla veidošana | G51: 3000
E52: 13. Finanšu ministrija
E53: 4.pielikums
E54: 96.00.00 Latvijas prezidentūras Eiropas Savienības Padomē nodrošināšana
E55: Resursi izdevumu segšanai | G55: 94445
E56: Dotācija no vispārējiem ieņēmumiem | G56: 94445
E57: Vispārējā kārtībā sadalāmā dotācija no vispārējiem ieņēmumiem | G57: 94445
E58: Izdevumi - kopā | G58: 94445
E59: Uzturēšanas izdevumi | G59: 92945
E60: Kārtējie izdevumi | G60: 92945
E61: Atlīdzība | G61: 48108
E62: Preces un pakalpojumi | G62: 44837
E63: Kapitālie izdevumi | G63: 1500
E64: Pamatkapitāla veidošana | G64: 1500
E65: 14. Iekšlietu ministrija
E66: 4.pielikums
E67: 96.00.00 Latvijas prezidentūras Eiropas Savienības Padomē nodrošināšana
E68: Resursi izdevumu segšanai | G68: 94445
E69: Dotācija no vispārējiem ieņēmumiem | G69: 94445
E70: Vispārējā kārtībā sadalāmā dotācija no vispārējiem ieņēmumiem | G70: 94445
E71: Izdevumi - kopā | G71: 94445
E72: Uzturēšanas izdevumi | G72: 92945
E73: Kārtējie izdevumi | G73: 92945
E74: Atlīdzība | G74: 48108
E75: Preces un pakalpojumi | G75: 44837
E76: Kapitālie izdevumi | G76: 1500
E77: Pamatkapitāla veidošana | G77: 1500
E78: 16. Zemkopības ministrija
E79: 4.pielikums
E80: 96.00.00 Latvijas prezidentūras Eiropas Savienības Padomē nodrošināšana
E81: Resursi izdevumu segšanai | G81: 94445
E82: Dotācija no vispārējiem ieņēmumiem | G82: 94445
E83: Vispārējā kārtībā sadalāmā dotācija no vispārējiem ieņēmumiem | G83: 94445
E84: Izdevumi - kopā | G84: 94445
E85: Uzturēšanas izdevumi | G85: 92945
E86: Kārtējie izdevumi | G86: 92945
E87: Atlīdzība | G87: 48108
E88: Preces un pakalpojumi | G88: 44837
E89: Kapitālie izdevumi | G89: 1500
E90: Pamatkapitāla veidošana | G90: 1500
E91: 17. Satiksmes ministrija
E92: 4.pielikums
E93: 96.00.00 Latvijas prezidentūras Eiropas Savienības Padomē nodrošināšana
E94: Resursi izdevumu segšanai | G94: 116983
E95: Dotācija no vispārējiem ieņēmumiem | G95: 116983
E96: Vispārējā kārtībā sadalāmā dotācija no vispārējiem ieņēmumiem | G96: 116983
E97: Izdevumi - kopā | G97: 116983
E98: Uzturēšanas izdevumi | G98: 115483
E99: Kārtējie izdevumi | G99: 115483
E100: Atlīdzība | G100: 70646
E101: Preces un pakalpojumi | G101: 44837
E102: Kapitālie izdevumi | G102: 1500
...

Sheet EM
C1: Pieņemts pirmajā lasījumā | D1: Priekšlikums par izmaiņām | F1: Pieņemts pirmajā lasījumā | G1: Priekšlikums par izmaiņām | H1: Priekšlikums MK atzinumam
B3: 12. Ekonomikas ministrija
A5: =ĀM!A346+1 -> 8 | B5: 12. Ekonomikas ministrija | E5: 74. Gadskārtējā valsts budžeta izpildes procesā pārdalāmais finansējums | H5: Atbalstīt
B6: 4.pielikums | E6: 4.pielikums
B7: 26.04.00 "Atbilstības novērtēšana un kvalitātes nodrošināšana" | E7: 02.00.00 “Līdzekļi neparedzētiem gadījumiem”
B8: Resursi izdevumu segšanai | C8: =C9 -> 344727 | D8: =D9 -> -111300 | E8: Resursi izdevumu segšanai | F8: =F9 -> 88708281 | G8: =G9 -> 111300
B9: Dotācija no vispārējiem ieņēmumiem | C9: =C10 -> 344727 | D9: =D10 -> -111300 | E9: Dotācija no vispārējiem ieņēmumiem | F9: =F10 -> 88708281 | G9: =G10 -> 111300
B10: Vispārējā kārtībā sadalāmā dotācija no vispārējiem ieņēmumiem | C10: 344727 | D10: -111300 | E10: Vispārējā kārtībā sadalāmā dotācija no vispārējiem ieņēmumiem | F10: 88708281 | G10: 111300
B11: Izdevumi – kopā | C11: =C12 -> 344727 | D11: =D12 -> -111300 | E11: Izdevumi – kopā | F11: =F12 -> 88708281 | G11: =G12 -> 111300
B12: Uzturēšanas izdevumi | C12: =C13+C15 -> 344727 | D12: =D13+D15 -> -111300 | E12: Uzturēšanas izdevumi | F12: =F13 -> 88708281 | G12: =G13 -> 111300
B13: Subsīdijas, dotācijas, sociālie maksājumi un kompensācijas | C13: =C14 -> 321917 | D13: =D14 -> -111300 | E13: Subsīdijas, dotācijas, sociālie maksājumi un kompensācijas | F13: =F14 -> 88708281 | G13: =G14 -> 111300
B14: Subsīdijas un dotācijas | C14: 321917 | D14: -111300 | E14: Subsīdijas un dotācijas | F14: 88708281 | G14: 111300
B15: Transferti viena budžeta veida ietvaros un uzturēšanas izdevumu transferti starp budžeta veidiem | C15: =C16 -> 22810 | D15: =D16 -> 0
B16: Pārējie valsts budžeta uzturēšanas izdevumu transferti citiem budžetiem | C16: =C17 -> 22810 | D16: =D17 -> 0
B17: Pārējie valsts budžeta uzturēšanas izdevumu transferti valsts budžeta daļēji finansētām atvasinātām publiskām personām un budžeta nefinansētām iestādēm | C17: 22810
B18: 12.Ekonomikas ministrija | E18: 74. Gadskārtējā valsts budžeta izpildes procesā pārdalāmais finansējums
B19: 3.pielikums | E19: 3.pielikums
B20: I. Valsts pamatfunkciju īstenošana | E20: I. Valsts pamatfunkciju īstenošana
B21: 2027.gads | E21: 2027.gads
B22: Resursi izdevumu segšanai | C22: =C23+C24+C29 -> 95848750 | D22: =D29 -> -111300 | E22: Resursi izdevumu segšanai | F22: =F23 -> 841606476 | G22: =G23 -> 111300
B23: Ieņēmumi no maksas pakalpojumiem un citi pašu ieņēmumi – kopā | C23: 1724725 | E23: Dotācija no vispārējiem ieņēmumiem | F23: =F24 -> 841606476 | G23: =G24 -> 111300
B24: Transferti | C24: =C25 -> 0 | E24: Vispārējā kārtībā sadalāmā dotācija no vispārējiem ieņēmumiem | F24: 841606476 | G24: 111300
B25: Valsts budžeta transferti | C25: =C26 -> 0 | E25: Izdevumi – kopā | F25: =F26 -> 841606476 | G25: =G26 -> 111300
B26: Valsts pamatbudžeta savstarpējie transferti | C26: =C27 -> 0 | E26: Uzturēšanas izdevumi | F26: =F27 -> 841606476 | G26: =G27 -> 111300
B27: Valsts pamatbudžeta iestāžu saņemtie transferti no valsts pamatbudžeta | C27: =C28 -> 0 | E27: Subsīdijas, dotācijas, sociālie maksājumi un kompensācijas | F27: =F28 -> 841606476 | G27: =G28 -> 111300
B28: Valsts pamatbudžeta iestāžu saņemtie transferti no valsts pamatbudžeta dotācijas no vispārējiem ieņēmumiem | E28: Subsīdijas un dotācijas | F28: 841606476 | G28: 111300
B29: Dotācija no vispārējiem ieņēmumiem | C29: =C30 -> 94124025 | D29: =D30 -> -111300
B30: Vispārējā kārtībā sadalāmā dotācija no vispārējiem ieņēmumiem | C30: 94124025 | D30: -111300
B31: Izdevumi – kopā | C31: =C32+C47 -> 95956350 | D31: =D32 -> -111300
B32: Uzturēšanas izdevumi | C32: =C33+C36+C38+C40 -> 93459746 | D32: =D36 -> -111300
B33: Kārtējie izdevumi | C33: =C34+C35 -> 54725457
B34: Atlīdzība | C34: 36714929
B35: Preces un pakalpojumi | C35: 18010528
B36: Subsīdijas, dotācijas, sociālie maksājumi un kompensācijas | C36: =C37 -> 36727768 | D36: =D37 -> -111300
B37: Subsīdijas un dotācijas | C37: 36727768 | D37: -111300
B38: Kārtējie maksājumi Eiropas Savienības budžetā un starptautiskā sadarbība | C38: =C39 -> 185683
B39: Starptautiskā sadarbība | C39: 185683
B40: Transferti viena budžeta veida ietvaros un uzturēšanas izdevumu transferti starp budžeta veidiem | C40: =C41+C45 -> 1820838
B41: Valsts budžeta transferti un uzturēšanas izdevumu transferti | C41: =C42+C43 -> 1787328
B42: Valsts budžeta uzturēšanas izdevumu transferti no valsts pamatbudžeta uz valsts speciālo budžetu | C42: 23328
B43: Valsts budžeta transferti no valsts pamatbudžeta uz valsts pamatbudžetu | C43: =C44 -> 1764000
B44: Valsts budžeta transferti no valsts pamatbudžeta dotācijas no vispārējiem ieņēmumiem uz valsts pamatbudžetu | C44: 1764000
B45: Pārējie valsts budžeta uzturēšanas izdevumu transferti citiem budžetiem | C45: =C46 -> 33510
B46: Pārējie valsts budžeta uzturēšanas izdevumu transferti valsts budžeta daļēji finansētām atvasinātām publiskām personām un budžeta nefinansētām iestādēm | C46: 33510
B47: Kapitālie izdevumi | C47: =C48 -> 2496604
B48: Pamatkapitāla veidošana | C48: 2496604
B49: Finansiālā bilance | C49: =C22-C31 -> -107600
B50: Finansēšana | C50: =C51 -> 107600
B51: Naudas līdzekļi | C51: =C52 -> 107600
B52: Maksas pakalpojumu un citu pašu ieņēmumu naudas līdzekļu atlikumu izmaiņas palielinājums (-) vai samazinājums (+) | C52: 107600
B53: 2028.gads | E53: 2028.gads
B54: Resursi izdevumu segšanai | C54: =C55+C56+C61 -> 98665738 | D54: =D61 -> -111300 | E54: Resursi izdevumu segšanai | F54: =F55 -> 890165818 | G54: =G55 -> 111300
B55: Ieņēmumi no maksas pakalpojumiem un citi pašu ieņēmumi – kopā | C55: 1724725 | E55: Dotācija no vispārējiem ieņēmumiem | F55: =F56 -> 890165818 | G55: =G56 -> 111300
B56: Transferti | C56: =C57 -> 0 | E56: Vispārējā kārtībā sadalāmā dotācija no vispārējiem ieņēmumiem | F56: 890165818 | G56: 111300
B57: Valsts budžeta transferti | C57: =C58 -> 0 | E57: Izdevumi – kopā | F57: =F58 -> 890165818 | G57: =G58 -> 111300
B58: Valsts pamatbudžeta savstarpējie transferti | C58: =C59 -> 0 | E58: Uzturēšanas izdevumi | F58: =F59 -> 890165818 | G58: =G59 -> 111300
B59: Valsts pamatbudžeta iestāžu saņemtie transferti no valsts pamatbudžeta | C59: =C60 -> 0 | E59: Subsīdijas, dotācijas, sociālie maksājumi un kompensācijas | F59: =F60 -> 890165818 | G59: =G60 -> 111300
B60: Valsts pamatbudžeta iestāžu saņemtie transferti no valsts pamatbudžeta dotācijas no vispārējiem ieņēmumiem | E60: Subsīdijas un dotācijas | F60: 890165818 | G60: 111300
B61: Dotācija no vispārējiem ieņēmumiem | C61: =C62 -> 96941013 | D61: =D62 -> -111300
B62: Vispārējā kārtībā sadalāmā dotācija no vispārējiem ieņēmumiem | C62: 96941013 | D62: -111300
B63: Izdevumi – kopā | C63: =C64+C79 -> 98773338 | D63: =D64 -> -111300
B64: Uzturēšanas izdevumi | C64: =C65+C68+C70+C72 -> 96276734 | D64: =D68 -> -111300
B65: Kārtējie izdevumi | C65: =C66+C67 -> 56521154
B66: Atlīdzība | C66: 36715926
B67: Preces un pakalpojumi | C67: 19805228
B68: Subsīdijas, dotācijas, sociālie maksājumi un kompensācijas | C68: =C69 -> 39523759 | D68: =D69 -> -111300
B69: Subsīdijas un dotācijas | C69: 39523759 | D69: -111300
B70: Kārtējie maksājumi Eiropas Savienības budžetā un starptautiskā sadarbība | C70: =C71 -> 185683
B71: Starptautiskā sadarbība | C71: 185683
B72: Transferti viena budžeta veida ietvaros un uzturēšanas izdevumu transferti starp budžeta veidiem | C72: =C73+C77 -> 46138
B73: Valsts budžeta transferti un uzturēšanas izdevumu transferti | C73: =C74+C75 -> 23328
B74: Valsts budžeta uzturēšanas izdevumu transferti no valsts pamatbudžeta uz valsts speciālo budžetu | C74: 23328
B75: Valsts budžeta transferti no valsts pamatbudžeta uz valsts pamatbudžetu | C75: =C76 -> 0
B76: Valsts budžeta transferti no valsts pamatbudžeta dotācijas no vispārējiem ieņēmumiem uz valsts pamatbudžetu
B77: Pārējie valsts budžeta uzturēšanas izdevumu transferti citiem budžetiem | C77: =C78 -> 22810
B78: Pārējie valsts budžeta uzturēšanas izdevumu transferti valsts budžeta daļēji finansētām atvasinātām publiskām personām un budžeta nefinansētām iestādēm | C78: 22810
B79: Kapitālie izdevumi | C79: =C80 -> 2496604
B80: Pamatkapitāla veidošana | C80: 2496604
B81: Finansiālā bilance | C81: =C54-C63 -> -107600
B82: Finansēšana | C82: =C83 -> 107600
B83: Naudas līdzekļi | C83: =C84 -> 107600
B84: Maksas pakalpojumu un citu pašu ieņēmumu naudas līdzekļu atlikumu izmaiņas palielinājums (-) vai samazinājums (+) | C84: 107600
B85: Finansējuma pārdale no Ekonomikas ministrijas pamatbudžeta programmas 26.04.00 "Atbilstības novērtēšana un kvalitātes nodrošināšana" uz resora 74. Gadskārtējā valsts budžeta izpildes procesā pārdalāmais finansējums pamatbudžeta programmu 02.00.00 “Līdzekļi neparedzētiem gadījumiem” 2026., 2027. un 2028.gadā 111 300 euro apmērā sakarā ar sabiedrības ar ierobežoto atbildību "Latvijas Nacionālais metroloģijas centrs" struktūrvienības "Metroloģijas birojs" likvidāciju.

Sheet FM
C1: Pieņemts pirmajā lasījumā | D1: Priekšlikums par izmaiņām | F1: Pieņemts pirmajā lasījumā | G1: Priekšlikums par izmaiņām | H1: Priekšlikums MK atzinumam
B3: 13. Finanšu ministrija
A5: =EM!A5+1 -> 9 | B5: 74. Gadskārtējā valsts budžeta izpildes procesā pārdalāmais finansējums | E5: 13. Finanšu ministrija | H5: Atbalstīt
B6: 4. pielikums | E6: 4. pielikums
B7: 18.00.00 "Finansējums valsts drošības stiprināšanas pasākumiem" | E7: 38.01.00 "Eiropas Savienības pirmsstrukturālo, strukturālo un citu finanšu instrumentu koordinācija"
B8: Resursi izdevumu segšanai | C8: 243093314 | D8: -35000 | E8: Resursi izdevumu segšanai | F8: 1490379 | G8: 35000
B9: Dotācija no vispārējiem ieņēmumiem | C9: 243093314 | D9: -35000 | E9: Dotācija no vispārējiem ieņēmumiem | F9: 1490379 | G9: =G8 -> 35000
B10: Vispārējā kārtībā sadalāmā dotācija no vispārējiem ieņēmumiem | C10: 243093314 | D10: -35000 | E10: Vispārējā kārtībā sadalāmā dotācija no vispārējiem ieņēmumiem | F10: 1490379 | G10: =G9 -> 35000
B11: Izdevumi – kopā | C11: 243093314 | D11: -35000 | E11: Izdevumi – kopā | F11: 1490379 | G11: =G8 -> 35000
B12: Subsīdijas, dotācijas, sociālie maksājumi un kompensācijas | C12: 243093314 | D12: -35000 | E12: Uzturēšanas izdevumi | F12: 1470379 | G12: 35000
B13: Subsīdijas un dotācijas | C13: 243093314 | D13: -35000 | E13: Kārtējie izdevumi | F13: 1470379 | G13: 35000
E14: Atlīdzība | F14: 1229354 | G14: 9500
E15: Preces un pakalpojumi | F15: 241025 | G15: 25500
B16: Saskaņā ar Ministru kabineta 2025. gada 16. oktobra rīkojuma Nr.675 (prot.Nr.43 49.§) 4. punktu veikta finansējuma pārdale no 74. resora "Gadskārtējā valsts budžeta izpildes procesā pārdalāmais finansējums" budžeta programmas 18.00.00 "Finansējums valsts drošības stiprināšanas pasākumiem" 2026. gadā 35 000 euro apmērā uz Finanšu ministrijas budžeta apakšprogrammu 38.01.00 "Eiropas Savienības pirmsstrukturālo, strukturālo un citu finanšu instrumentu koordinācija" Centrālajai finanšu un līgumu aģentūrai iesaistei NATO projektā militārās slimnīcas atjaunošanai Ukrainā
A18: =A5+1 -> 10 | B18: 13. Finanšu ministrija | E18: 74. Gadskārtējā valsts budžeta izpildes procesā pārdalāmais finansējums | H18: Atbalstīt
B19: 4.pielikums | E19: 4.pielikums
B20: 31.02.00 "Valsts parāda vadība" | E20: 23.00.00 Valsts atbalsta programmas un citi valsts nozīmes pasākumi
B21: Resursi izdevumu segšanai | C21: 587604862 | D21: -1800000 | E21: Resursi izdevumu segšanai | F21: 26327677 | G21: =G22 -> 1800000
B22: Dotācija no vispārējiem ieņēmumiem | C22: 587604862 | D22: -1800000 | E22: Dotācija no vispārējiem ieņēmumiem | F22: 26327677 | G22: =G23 -> 1800000
B23: Vispārējā kārtībā sadalāmā dotācija no vispārējiem ieņēmumiem | C23: 587604862 | D23: -1800000 | E23: Vispārējā kārtībā sadalāmā dotācija no vispārējiem ieņēmumiem | F23: 26327677 | G23: =G24 -> 1800000
B24: Izdevumi – kopā | C24: 587604862 | D24: -1800000 | E24: Izdevumi – kopā | F24: 26327677 | G24: =G25 -> 1800000
B25: Uzturēšanas izdevumi | C25: 587604862 | D25: -1800000 | E25: Uzturēšanas izdevumi | F25: 26327677 | G25: =G26 -> 1800000
B26: Procentu izdevumi | C26: 583997248 | D26: -1800000 | E26: Subsīdijas, dotācijas, sociālie maksājumi un kompensācijas | F26: 26327677 | G26: =G27 -> 1800000
E27: Subsīdijas un dotācijas | F27: 26327677 | G27: 1800000
B28: Vardarbībā cietušo atbalstam un drošības pasākumu īstenošanai paredzēt papildu 1 800 000 euro 74.resora programmā 23.00.00 "Valsts atbalsta programmas un citi valsts nozīmes pasākumi", kas tiek pārdalīts attiecīgaijai ministrijai (VM, IZM un IeM) atbilstoši MK lēmumam un Saeimas Budžeta un finanšu (nodokļu) komisijas saskaņojumam.
A30: =A18+1 -> 11 | B30: Valsts budžeta ieņēmumi | E30: 13. Finanšu ministrija | H30: Atbalstīt
B31: 2.pielikums | E31: 3.pielikums
B32: I. Valsts pamatbudžeta ieņēmumi | E32: 2027.gads
B33: 2027.gads | E33: Resursi izdevumu segšanai | F33: 1291802177 | G33: -2900000
B34: Uzņēmumu ienākuma nodoklis | C34: 715692750 | D34: -2900000 | E34: Dotācija no vispārējiem ieņēmumiem | F34: 1289920323 | G34: -2900000
E35: Vispārējā kārtībā sadalāmā dotācija no vispārējiem ieņēmumiem | F35: 1289920323 | G35: -2900000
E36: Izdevumi – kopā | F36: 1287707357 | G36: -2900000
E37: Uzturēšanas izdevumi | F37: 1278545593 | G37: -2900000
E38: Procentu izdevumi | F38: 643028885 | G38: -2900000
B39: Priekšlikums grozījumiem Uzņēmumu ienākuma nodokļa likumā Izslēgt 1. lasījumā atbalstītā likumprojekta 5. pantu. Regulējuma, kas paredz veicināt piekļuvi alternatīviem finansējuma avotiem un finansējuma izmaksu samazināšana, piemērošanas uzsākšanu ar 2026.gadu (tika paredzēts ar 2028.gadu). Līdzekļu ietaupījums FM apakšprogrammā 31.02.00 “Valsts parāda vadība” 2026. - 2028. gadā izveidojies, jo aizņemšanās pasākumi finanšu tirgos 2025. gada 2. pusgadā tika īstenoti ar zemākām procentu likmēm, nekā sākotnēji tika prognozēts, t.sk. š.g. septembrī starptautiskajos finanšu tirgos emitētas 10 gadu obligācijas 1,250 mljrd. EUR apmērā, regulāri veiktas apgrozībā esošo Latvijas obligāciju papildu laidienu izsoles š.g. septembrī – oktobrī 200 milj. EUR apmērā ar dzēšanas termiņiem 2029.-2031. gadā. Aizņemšanās darījumi veikti ar izdevīgiem nosacījumiem, izvēloties labvēlīgu aizņemšanās brīdi un uzturot elastību aizņēmumu nosacījumu izvēlē.

Sheet IeM
C1: Pieņemts pirmajā lasījumā | D1: Priekšlikums par izmaiņām | F1: Pieņemts pirmajā lasījumā | G1: Priekšlikums par izmaiņām | H1: Priekšlikums MK atzinumam
B3: 14. Iekšlietu ministrija
A5: =FM!A30+1 -> 12 | B5: 14. Iekšlietu ministrija | E5: 14. Iekšlietu ministrija | H5: Atbalstīt
B6: 4.pielikums | E6: 4.pielikums
B7: 06.01.00 “Valsts policija” | E7: 40.01.00 “Administrēšana”
B8: Resursi izdevumu segšanai | C8: 243576957 | D8: =D9+D10 -> -34215 | E8: Resursi izdevumu segšanai | F8: 6965605 | G8: =G9 -> 34215
B9: Ieņēmumi no maksas pakalpojumiem un citi pašu ieņēmumi – kopā | C9: 1260130 | E9: Dotācija no vispārējiem ieņēmumiem | F9: 6965605 | G9: =G10 -> 34215
B10: Dotācija no vispārējiem ieņēmumiem | C10: 242316827 | D10: =D11 -> -34215 | E10: Vispārējā kārtībā sadalāmā dotācija no vispārējiem ieņēmumiem | F10: 6965605 | G10: 34215
B11: Vispārējā kārtībā sadalāmā dotācija no vispārējiem ieņēmumiem | C11: 242316827 | D11: -34215 | E11: Izdevumi – kopā | F11: 6965605 | G11: =G12 -> 34215
B12: Izdevumi – kopā | C12: 243576957 | D12: =D13+D25 -> -34215 | E12: Uzturēšanas izdevumi | F12: 6965605 | G12: =G13 -> 34215
B13: Uzturēšanas izdevumi | C13: 241030729 | D13: =D14 -> -34215 | E13: Kārtējie izdevumi | F13: 6965605 | G13: =G14+G15 -> 34215
B14: Kārtējie izdevumi | C14: 237433710 | D14: =D15+D16 -> -34215 | E14: Atlīdzība | F14: 6909949 | G14: 34215
B15: Atlīdzība | C15: 203455403 | D15: -34215 | E15: Preces un pakalpojumi | F15: 55656
B16: Preces un pakalpojumi | C16: 33978307
B17: Subsīdijas, dotācijas, sociālie maksājumi un kompensācijas | C17: 3482918
B18: Subsīdijas un dotācijas | C18: 3440918
B19: Sociāla rakstura maksājumi un kompensācijas | C19: 42000
B20: Kārtējie maksājumi Eiropas Savienības budžetā un starptautiskā sadarbība | C20: 106325
B21: Starptautiskā sadarbība | C21: 106325
B22: Transferti viena budžeta veida ietvaros un uzturēšanas izdevumu transferti starp budžeta veidiem | C22: 7776
B23: Valsts budžeta transferti un uzturēšanas izdevumu transferti | C23: 7776
B24: Valsts budžeta uzturēšanas izdevumu transferti no valsts pamatbudžeta uz valsts speciālo budžetu | C24: 7776
B25: Kapitālie izdevumi | C25: 2546228
B26: Pamatkapitāla veidošana | C26: 2546228
B27: Saskaņā ar starp Valsts policiju un Nodrošinājuma valsts aģentūru 2025. gada 26. septembrī noslēgto Vienošanos Nr. IeM_NVA_2025/24-Līg(2696) veikta finansējuma pārdale no budžeta apakšprogrammas 06.01.00 “Valsts policija” uz budžeta apakšprogrammu 40.01.00 “Administrēšana” 2026.gadā un turpmāk ik gadu 34 215 euro, lai nodrošinātu drošības pārvaldnieka amata vietas ieviešanu Nodrošinājuma valsts aģentūras kritiskās infrastruktūras objektā Ezermalas ielā 10, Rīgā. Izmaiņas netiek atspoguļotas likumprojekta "Par valsts budžetu 2025. gadam un budžeta ietvaru 2025., 2026. un 2027. gadam" 3.pielikumā "Valsts pamatbudžeta un valsts speciālā budžeta kopsavilkums", jo 2027. gadā un turpmāk ik gadu izdevumu pārdale tiek veikta starp budžeta apakšprogrammām, nemainot izdevumus atbilstoši ekonomiskās klasifikācijas kodiem.
A29: =A5+1 -> 13 | B29: 74. Gadskārtējā valsts budžeta izpildes procesā pārdalāmais finansējums | E29: 14. Iekšlietu ministrija | H29: Atbalstīt
B30: 4.pielikums | E30: 4.pielikums
B31: 01.00.00 "Apropriācijas rezerve" | E31: 02.03.00 “Vienotās sakaru un informācijas sistēmu uzturēšana un vadība”
B32: Resursi izdevumu segšanai | C32: 4901865 | D32: =D33 -> -60384 | E32: Resursi izdevumu segšanai | F32: 20195919 | G32: =G34 -> 60384
B33: Dotācija no vispārējiem ieņēmumiem | C33: 4901865 | D33: =D34 -> -60384 | E33: Ieņēmumi no maksas pakalpojumiem un citi pašu ieņēmumi – kopā | F33: 728818
B34: Vispārējā kārtībā sadalāmā dotācija no vispārējiem ieņēmumiem | C34: 4901865 | D34: -60384 | E34: Dotācija no vispārējiem ieņēmumiem | F34: 19467101 | G34: =G35 -> 60384
B35: Izdevumi – kopā | C35: 4901865 | D35: =D36 -> -60384 | E35: Vispārējā kārtībā sadalāmā dotācija no vispārējiem ieņēmumiem | F35: 19467101 | G35: 60384
B36: Uzturēšanas izdevumi | C36: 4901865 | D36: =D37 -> -60384 | E36: Izdevumi – kopā | F36: 20195919 | G36: =G37 -> 60384
B37: Subsīdijas, dotācijas, sociālie maksājumi un kompensācijas | C37: 4901865 | D37: =D38 -> -60384 | E37: Uzturēšanas izdevumi | F37: 18661501 | G37: =G38 -> 60384
B38: Subsīdijas un dotācijas | C38: 4901865 | D38: -60384 | E38: Kārtējie izdevumi | F38: 18661501 | G38: =G39+G40 -> 60384
E39: Atlīdzība | F39: 9294025
E40: Preces un pakalpojumi | F40: 9367476 | G40: 60384
E41: Kapitālie izdevumi | F41: 1534418
E42: Pamatkapitāla veidošana | F42: 1534418
B43: 74. Gadskārtējā valsts budžeta izpildes procesā pārdalāmais finansējums | E43: 14. Iekšlietu ministrija
B44: 3.pielikums | E44: 3.pielikums
B45: I. Valsts pamatfunkciju īstenošana | E45: I. Valsts pamatfunkciju īstenošana
B46: 2027.gads | E46: 2027.gads
B47: Resursi izdevumu segšanai | C47: 841606476 | D47: =D48 -> -60384 | E47: Resursi izdevumu segšanai | F47: 626034412 | G47: =G54 -> 60384
B48: Dotācija no vispārējiem ieņēmumiem | C48: 841606476 | D48: =D49 -> -60384 | E48: Ieņēmumi no maksas pakalpojumiem un citi pašu ieņēmumi – kopā | F48: 5403413
B49: Vispārējā kārtībā sadalāmā dotācija no vispārējiem ieņēmumiem | C49: 841606476 | D49: -60384 | E49: Transferti | F49: 11198034
B50: Izdevumi – kopā | C50: 841606476 | D50: =D51 -> -60384 | E50: Valsts budžeta transferti | F50: 11198034
B51: Uzturēšanas izdevumi | C51: 841606476 | D51: =D52 -> -60384 | E51: Valsts pamatbudžeta savstarpējie transferti | F51: 11198034
B52: Subsīdijas, dotācijas, sociālie maksājumi un kompensācijas | C52: 841606476 | D52: =D53 -> -60384 | E52: Valsts pamatbudžeta iestāžu saņemtie transferti no valsts pamatbudžeta | F52: 11198034
B53: Subsīdijas un dotācijas | C53: 841606476 | D53: -60384 | E53: Valsts pamatbudžeta iestāžu saņemtie transferti no valsts pamatbudžeta dotācijas no vispārējiem ieņēmumiem | F53: 11198034
E54: Dotācija no vispārējiem ieņēmumiem | F54: 609432965 | G54: =G55 -> 60384
E55: Vispārējā kārtībā sadalāmā dotācija no vispārējiem ieņēmumiem | F55: 609432965 | G55: 60384
E56: Izdevumi – kopā | F56: 626034412 | G56: =G57+G73 -> 60384
E57: Uzturēšanas izdevumi | F57: 612126926 | G57: =G58 -> 60384
E58: Kārtējie izdevumi | F58: 591405624 | G58: =G59+G60 -> 60384
E59: Atlīdzība | F59: 434935118
E60: Preces un pakalpojumi | F60: 156470506 | G60: 60384
E61: Subsīdijas, dotācijas, sociālie maksājumi un kompensācijas | F61: 16062174
E62: Subsīdijas un dotācijas | F62: 15801462
E63: Sociāla rakstura maksājumi un kompensācijas | F63: 260712
E64: Kārtējie maksājumi Eiropas Savienības budžetā un starptautiskā sadarbība | F64: 177790
E65: Starptautiskā sadarbība | F65: 177790
E66: Transferti viena budžeta veida ietvaros un uzturēšanas izdevumu transferti starp budžeta veidiem | F66: 4481338
E67: Valsts budžeta transferti un uzturēšanas izdevumu transferti | F67: 752708
E68: Valsts budžeta uzturēšanas izdevumu transferti no valsts pamatbudžeta uz valsts speciālo budžetu | F68: 10368
E69: Valsts budžeta transferti no valsts pamatbudžeta uz valsts pamatbudžetu | F69: 742340
E70: Valsts budžeta transferti no valsts pamatbudžeta dotācijas no vispārējiem ieņēmumiem uz valsts pamatbudžetu | F70: 742340
E71: Pārējie valsts budžeta uzturēšanas izdevumu transferti citiem budžetiem | F71: 3728630
E72: Pārējie valsts budžeta uzturēšanas izdevumu transferti valsts budžeta daļēji finansētām atvasinātām publiskām personām un budžeta nefinansētām iestādēm | F72: 3728630
... E74: Pamatkapitāla veidošana | F74: 13907486
B75: 2028.gads | E75: 2028.gads
B76: Resursi izdevumu segšanai | C76: 890165818 | D76: =D77 -> -60384 | E76: Resursi izdevumu segšanai | F76: 622334549 | G76: =G83 -> 60384
B77: Dotācija no vispārējiem ieņēmumiem | C77: 890165818 | D77: =D78 -> -60384 | E77: Ieņēmumi no maksas pakalpojumiem un citi pašu ieņēmumi – kopā | F77: 5403413
B78: Vispārējā kārtībā sadalāmā dotācija no vispārējiem ieņēmumiem | C78: 890165818 | D78: -60384 | E78: Transferti | F78: 11198034
B79: Izdevumi – kopā | C79: 890165818 | D79: =D80 -> -60384 | E79: Valsts budžeta transferti | F79: 11198034
B80: Uzturēšanas izdevumi | C80: 890165818 | D80: =D81 -> -60384 | E80: Valsts pamatbudžeta savstarpējie transferti | F80: 11198034
B81: Subsīdijas, dotācijas, sociālie maksājumi un kompensācijas | C81: 890165818 | D81: =D82 -> -60384 | E81: Valsts pamatbudžeta iestāžu saņemtie transferti no valsts pamatbudžeta | F81: 11198034
B82: Subsīdijas un dotācijas | C82: 890165818 | D82: -60384 | E82: Valsts pamatbudžeta iestāžu saņemtie transferti no valsts pamatbudžeta dotācijas no vispārējiem ieņēmumiem | F82: 11198034
E83: Dotācija no vispārējiem ieņēmumiem | F83: 605733102 | G83: =G84 -> 60384
E84: Vispārējā kārtībā sadalāmā dotācija no vispārējiem ieņēmumiem | F84: 605733102 | G84: 60384
E85: Izdevumi – kopā | F85: 622334549 | G85: =G86+G102 -> 60384
E86: Uzturēšanas izdevumi | F86: 612682494 | G86: =G87 -> 60384
E87: Kārtējie izdevumi | F87: 592072257 | G87: =G88+G89 -> 60384
E88: Atlīdzība | F88: 434922242
E89: Preces un pakalpojumi | F89: 157150015 | G89: 60384
E90: Subsīdijas, dotācijas, sociālie maksājumi un kompensācijas | F90: 15949536
E91: Subsīdijas un dotācijas | F91: 15688824
E92: Sociāla rakstura maksājumi un kompensācijas | F92: 260712
E93: Kārtējie maksājumi Eiropas Savienības budžetā un starptautiskā sadarbība | F93: 177790
E94: Starptautiskā sadarbība | F94: 177790
E95: Transferti viena budžeta veida ietvaros un uzturēšanas izdevumu transferti starp budžeta veidiem | F95: 4482911
E96: Valsts budžeta transferti un uzturēšanas izdevumu transferti | F96: 752708
E97: Valsts budžeta uzturēšanas izdevumu transferti no valsts pamatbudžeta uz valsts speciālo budžetu | F97: 10368
E98: Valsts budžeta transferti no valsts pamatbudžeta uz valsts pamatbudžetu | F98: 742340
E99: Valsts budžeta transferti no valsts pamatbudžeta dotācijas no vispārējiem ieņēmumiem uz valsts pamatbudžetu | F99: 742340
E100: Pārējie valsts budžeta uzturēšanas izdevumu transferti citiem budžetiem | F100: 3730203
E101: Pārējie valsts budžeta uzturēšanas izdevumu transferti valsts budžeta daļēji finansētām atvasinātām publiskām personām un budžeta nefinansētām iestādēm | F101: 3730203
... E103: Pamatkapitāla veidošana | F103: 9652055
B104: Veikta finansējuma pārdale no 74. resora "Gadskārtējā valsts budžeta izpildes procesā pārdalāmais finansējums" budžeta programmas 01.00.00 "Apropriācijas rezerve" uz budžeta apakšprogrammu 02.03.00 "Vienotās sakaru un informācijas sistēmas uzturēšana un vadība" 2026. gadā un turpmāk ik gadu 60 384 euro, lai nodrošinātu budžeta apakšprogrammas 70.18.00 “Iekšējās drošības un Patvēruma, migrācijas un integrācijas fondu projektu un pasākumu īstenošana (2014-2020)" projekta “Kriminālistikas pārvaldes ekspertīžu laboratorijas informācijas sistēmas (ELIS)” (gala maksājums veikts 2022. gada 27. oktobrī) ietvaros izveidotās sistēmas ELIS un budžeta apakšprogrammas 70.23.00 „Izdevumi citu Eiropas Savienības politiku instrumentu projektu un pasākumu īstenošanai” projekta “Baltijas valstu kapacitātes palielināšana kriminālistikas jomā, lai stimulētu Prīmes datu apmaiņas procedūru (BALTFORDEX)” (gala maksājums veikts 2020. gada 28. decembrī) ietvaros izveidotās sistēmas PIPARS2 uzturēšanu.
A106: =A29+1 -> 14 | B106: 74. Gadskārtējā valsts budžeta izpildes procesā pārdalāmais finansējums | E106: 14. Iekšlietu ministrija | H106: Atbalstīt
...

Sheet IZM
C1: Pieņemts pirmajā lasījumā | D1: Priekšlikums par izmaiņām | F1: Pieņemts pirmajā lasījumā | G1: Priekšlikums par izmaiņām | H1: Priekšlikums MK atzinumam
B3: 15. Izglītības un zinātnes ministrija
A5: =IeM!A677+1 -> 24 | B5: 74. Gadskārtējā valsts budžeta izpildes procesā pārdalāmais finansējums | E5: 15. Izglītības un zinātnes ministrija | H5: Atbalstīt
B6: 4.pielikums | E6: 4.pielikums
B7: 09.00.00 "Valsts nozīmes reformas īstenošanai" | E7: 03.01.00. "Augstākās izglītības programmu nodrošināšana"
B8: Resursi izdevumu segšanai | C8: 10000000 | D8: -10000000 | E8: Resursi izdevumu segšanai | F8: 96426041 | G8: 10000000
B9: Dotācija no vispārējiem ieņēmumiem | C9: 10000000 | D9: -10000000 | E9: Dotācija no vispārējiem ieņēmumiem | F9: 96171741 | G9: 10000000
B10: Vispārējā kārtībā sadalāmā dotācija no vispārējiem ieņēmumiem | C10: 10000000 | D10: -10000000 | E10: Vispārējā kārtībā sadalāmā dotācija no vispārējiem ieņēmumiem | F10: 96171741 | G10: 10000000
B11: Izdevumi – kopā | C11: 10000000 | D11: -10000000 | E11: Izdevumi – kopā | F11: 96477305 | G11: 10000000
B12: Uzturēšanas izdevumi | C12: 10000000 | D12: -10000000 | E12: Uzturēšanas izdevumi | F12: 96393207 | G12: 10000000
B13: Subsīdijas, dotācijas un sociālie pabalsti | C13: 10000000 | D13: -10000000 | E13: Transferti viena budžeta veida ietvaros un uzturēšanas izdevumu transferti starp budžeta veidiem | F13: 92569322 | G13: 10000000
B14: Subsīdijas un dotācijas | C14: 10000000 | D14: -10000000 | E14: Pārējie valsts budžeta uzturēšanas izdevumu transferti citiem budžetiem | F14: 92502079 | G14: 10000000
E15: Pārējie valsts budžeta uzturēšanas izdevumu transferti valsts budžeta daļēji finansētām atvasinātām publiskām personām un budžeta nefinansētām iestādēm | F15: 92502079 | G15: 10000000
B16: 3.pielikums | E16: 3.pielikums
B17: I. Valsts pamatfunkciju īstenošana | E17: I. Valsts pamatfunkciju īstenošana
B18: 2027. gads | E18: 2027. gads
B19: Resursi izdevumu segšanai | C19: 841606476 | D19: -10000000 | E19: Resursi izdevumu segšanai | F19: 474226662 | G19: 10000000
B20: Dotācija no vispārējiem ieņēmumiem | C20: 841606476 | D20: -10000000 | E20: Dotācija no vispārējiem ieņēmumiem | F20: 464989622 | G20: 10000000
B21: Vispārējā kārtībā sadalāmā dotācija no vispārējiem ieņēmumiem | C21: 841606476 | D21: -10000000 | E21: Vispārējā kārtībā sadalāmā dotācija no vispārējiem ieņēmumiem | F21: 464989622 | G21: 10000000
B22: Izdevumi – kopā | C22: 841606476 | D22: -10000000 | E22: Izdevumi – kopā | F22: 473609932 | G22: 10000000
B23: Uzturēšanas izdevumi | C23: 841606476 | D23: -10000000 | E23: Uzturēšanas izdevumi | F23: 466911083 | G23: 10000000
B24: Subsīdijas, dotācijas un sociālie pabalsti | C24: 841606476 | D24: -10000000 | E24: Transferti viena budžeta veida ietvaros un uzturēšanas izdevumu transferti starp budžeta veidiem | F24: 267186522 | G24: 10000000
B25: Subsīdijas un dotācijas | C25: 841606476 | D25: -10000000 | E25: Pārējie valsts budžeta uzturēšanas izdevumu transferti citiem budžetiem | F25: 267030942 | G25: 10000000
E26: Pārējie valsts budžeta uzturēšanas izdevumu transferti valsts budžeta daļēji finansētām atvasinātām publiskām personām un budžeta nefinansētām iestādēm | F26: 210491003 | G26: 10000000
B27: 2028. gads | E27: 2028. gads
B28: Resursi izdevumu segšanai | C28: 890165818 | D28: -10000000 | E28: Resursi izdevumu segšanai | F28: 472836384 | G28: 10000000
B29: Dotācija no vispārējiem ieņēmumiem | C29: 890165818 | D29: -10000000 | E29: Dotācija no vispārējiem ieņēmumiem | F29: 465363344 | G29: 10000000
B30: Vispārējā kārtībā sadalāmā dotācija no vispārējiem ieņēmumiem | C30: 890165818 | D30: -10000000 | E30: Vispārējā kārtībā sadalāmā dotācija no vispārējiem ieņēmumiem | F30: 465363344 | G30: 10000000
B31: Izdevumi – kopā | C31: 890165818 | D31: -10000000 | E31: Izdevumi – kopā | F31: 472219654 | G31: 10000000
B32: Uzturēšanas izdevumi | C32: 890165818 | D32: -10000000 | E32: Uzturēšanas izdevumi | F32: 465520805 | G32: 10000000
B33: Subsīdijas, dotācijas un sociālie pabalsti | C33: 890165818 | D33: -10000000 | E33: Transferti viena budžeta veida ietvaros un uzturēšanas izdevumu transferti starp budžeta veidiem | F33: 265482648 | G33: 10000000
B34: Subsīdijas un dotācijas | C34: 890165818 | D34: -10000000 | E34: Pārējie valsts budžeta uzturēšanas izdevumu transferti citiem budžetiem | F34: 265412813 | G34: 10000000
E35: Pārējie valsts budžeta uzturēšanas izdevumu transferti valsts budžeta daļēji finansētām atvasinātām publiskām personām un budžeta nefinansētām iestādēm | F35: 208783163 | G35: 10000000
B36: Lai nodrošinātu finansējumu augstākās izglītības institucionālā finansējuma turpināšanai 2026. gadā un turpmāk ik gadus, ņemot vērā augstākās izglītības institucionālā finansējuma izmēģinājumprojekta rezultātus un saskaņā ar informatīvo ziņojumu "Informatīvais ziņojums “Par augstākās izglītības institucionālās finansēšanas izmēģinājumprojektu”" (25-TA-1343).
A38: =A5+1 -> 25 | B38: 15. Izglītības un zinātnes ministrija | E38: 15. Izglītības un zinātnes ministrija | H38: Atbalstīt
B39: 4.pielikums | E39: 4.pielikums
B40: 01.05.00. "Dotācija privātajām mācību iestādēm" | E40: 01.05.00. "Dotācija privātajām mācību iestādēm"
B41: Resursi izdevumu segšanai | C41: 31683113 | D41: -18477 | E41: Resursi izdevumu segšanai | F41: 31683113 | G41: 18477
B42: Dotācija no vispārējiem ieņēmumiem | C42: 31683113 | D42: -18477 | E42: Dotācija no vispārējiem ieņēmumiem | F42: 31683113 | G42: 18477
B43: Vispārējā kārtībā sadalāmā dotācija no vispārējiem ieņēmumiem | C43: 31683113 | D43: -18477 | E43: Vispārējā kārtībā sadalāmā dotācija no vispārējiem ieņēmumiem | F43: 31683113 | G43: 18477
B44: Izdevumi – kopā | C44: 31683113 | D44: -18477 | E44: Izdevumi – kopā | F44: 31683113 | G44: 18477
B45: Uzturēšanas izdevumi | C45: 31683113 | D45: -18477 | E45: Uzturēšanas izdevumi | F45: 31683113 | G45: 18477
B46: Subsīdijas, dotācijas un sociālie pabalsti | C46: 31389509 | D46: -18477 | E46: Subsīdijas, dotācijas un sociālie pabalsti | F46: 31389509 | G46: 18477
B47: Subsīdijas un dotācijas | C47: 31389509 | D47: -18477 | E47: Subsīdijas un dotācijas | F47: 31389509 | G47: 18477
B48: Lai nodrošinātu pedagogu darba samaksu 2026. gadā un turpmāk, ņemot vērā izglītojamo skaita un struktūras uz 2025. gada 1. septembri izmaiņu ietekmi (neieskaitot Ukrainas civiliedzīvotājus) (MK 30.09.2025. prot. Nr. 40 18. §, 3.5. apakšpunkts), veikta apropriācijas pārdale 2026. gadā Izglītības un zinātnes ministrijas budžeta apakšprogrammas 01.05.00 ''Dotācija privātajām mācību iestādēm'' ietvaros, samazinot finansējumu prioritārajam pasākumam "Lai īstenotu secīgu pāreju uz mācībām valsts valodā" 18 477 euro apmērā un palielinot finansējumu pārējiem pasākumiem 18 477 euro apmērā, lai nodrošinātu pedagogu darba samaksu privātajās izglītības iestādēs.
A50: =A38+1 -> 26 | B50: 62. Mērķdotācijas pašvaldībām | E50: 15. Izglītības un zinātnes ministrija | H50: Atbalstīt
B51: 4.pielikums | E51: 4.pielikums
B52: 01.00.00. "Mērķdotācijas izglītības pasākumiem" | E52: 01.05.00. "Dotācija privātajām mācību iestādēm"
B53: Resursi izdevumu segšanai | C53: 73959529 | D53: -135812 | E53: Resursi izdevumu segšanai | F53: 31683113 | G53: 135812
B54: Dotācija no vispārējiem ieņēmumiem | C54: 73959529 | D54: -135812 | E54: Dotācija no vispārējiem ieņēmumiem | F54: 31683113 | G54: 135812
B55: Vispārējā kārtībā sadalāmā dotācija no vispārējiem ieņēmumiem | C55: 73959529 | D55: -135812 | E55: Vispārējā kārtībā sadalāmā dotācija no vispārējiem ieņēmumiem | F55: 31683113 | G55: 135812
B56: Izdevumi – kopā | C56: 73959529 | D56: -135812 | E56: Izdevumi – kopā | F56: 31683113 | G56: 135812
B57: Uzturēšanas izdevumi | C57: 73959529 | D57: -135812 | E57: Uzturēšanas izdevumi | F57: 31683113 | G57: 135812
B58: Transferti viena budžeta veida ietvaros un uzturēšanas izdevumu transferti starp budžeta veidiem | C58: 73959529 | D58: -135812 | E58: Subsīdijas, dotācijas un sociālie pabalsti | F58: 31389509 | G58: 135812
B59: Pārējie valsts budžeta uzturēšanas izdevumu transferti citiem budžetiem | C59: 73959529 | D59: -135812 | E59: Subsīdijas un dotācijas | F59: 31389509 | G59: 135812
B60: Pārējie valsts budžeta uzturēšanas izdevumu transferti pašvaldībām | C60: 73959529 | D60: -135812
B61: 62. Mērķdotācijas pašvaldībām | E61: 15. Izglītības un zinātnes ministrija
B62: 3.pielikums | E62: 3.pielikums
B63: I. Valsts pamatfunkciju īstenošana | E63: I. Valsts pamatfunkciju īstenošana
B64: 2027. gads | E64: 2027. gads
B65: Resursi izdevumu segšanai | C65: 718551985 | D65: -182171 | E65: Resursi izdevumu segšanai | F65: 474226662 | G65: 182171
B66: Dotācija no vispārējiem ieņēmumiem | C66: 718551985 | D66: -182171 | E66: Dotācija no vispārējiem ieņēmumiem | F66: 464989622 | G66: 182171
B67: Vispārējā kārtībā sadalāmā dotācija no vispārējiem ieņēmumiem | C67: 718551985 | D67: -182171 | E67: Vispārējā kārtībā sadalāmā dotācija no vispārējiem ieņēmumiem | F67: 464989622 | G67: 182171
B68: Izdevumi – kopā | C68: 718551985 | D68: -182171 | E68: Izdevumi – kopā | F68: 473609932 | G68: 182171
B69: Uzturēšanas izdevumi | C69: 718551985 | D69: -182171 | E69: Uzturēšanas izdevumi | F69: 466911083 | G69: 182171
B70: Transferti viena budžeta veida ietvaros un uzturēšanas izdevumu transferti starp budžeta veidiem | C70: 718551985 | D70: -182171 | E70: Subsīdijas, dotācijas un sociālie pabalsti | F70: 78517265 | G70: 182171
B71: Pārējie valsts budžeta uzturēšanas izdevumu transferti citiem budžetiem | C71: 718551985 | D71: -182171 | E71: Subsīdijas un dotācijas | F71: 68765703 | G71: 182171
B72: Pārējie valsts budžeta uzturēšanas izdevumu transferti pašvaldībām | C72: 718551985 | D72: -182171
B73: 2028. gads | E73: 2028. gads
B74: Resursi izdevumu segšanai | C74: 714551985 | D74: -182171 | E74: Resursi izdevumu segšanai | F74: 472836384 | G74: 182171
B75: Dotācija no vispārējiem ieņēmumiem | C75: 714551985 | D75: -182171 | E75: Dotācija no vispārējiem ieņēmumiem | F75: 465363344 | G75: 182171
B76: Vispārējā kārtībā sadalāmā dotācija no vispārējiem ieņēmumiem | C76: 714551985 | D76: -182171 | E76: Vispārējā kārtībā sadalāmā dotācija no vispārējiem ieņēmumiem | F76: 465363344 | G76: 182171
B77: Izdevumi – kopā | C77: 714551985 | D77: -182171 | E77: Izdevumi – kopā | F77: 472219654 | G77: 182171
B78: Uzturēšanas izdevumi | C78: 714551985 | D78: -182171 | E78: Uzturēšanas izdevumi | F78: 465520805 | G78: 182171
B79: Transferti viena budžeta veida ietvaros un uzturēšanas izdevumu transferti starp budžeta veidiem | C79: 714551985 | D79: -182171 | E79: Subsīdijas, dotācijas un sociālie pabalsti | F79: 78520681 | G79: 182171
B80: Pārējie valsts budžeta uzturēšanas izdevumu transferti citiem budžetiem | C80: 714551985 | D80: -182171 | E80: Subsīdijas un dotācijas | F80: 68769119 | G80: 182171
B81: Pārējie valsts budžeta uzturēšanas izdevumu transferti pašvaldībām | C81: 714551985 | D81: -182171
B82: Lai nodrošinātu pedagogu darba samaksu 2026. gadā un turpmāk, ņemot vērā izglītojamo skaita un struktūras uz 2025. gada 1. septembri izmaiņu ietekmi (neieskaitot Ukrainas civiliedzīvotājus) (MK 30.09.2025. prot. Nr. 40 18. §, 3.1.1. apakšpunkts), veikta finansējuma pārdale no 62. resora programmas 01.00.00. "Mērķdotācijas izglītības pasākumiem" uz 15. resora apakšprogrammu 01.05.00. "Dotācija privātajām mācību iestādēm" : 2026. gadā 135 812 euro apmērā, tai skaitā no prioritārā pasākuma "Lai īstenotu secīgu pāreju uz mācībām valsts valodā" 7 701 euro; 2027. gadā un turpmāk 182 171 euro apmērā.
A84: =A50+1 -> 27 | B84: 62. Mērķdotācijas pašvaldībām | E84: 15. Izglītības un zinātnes ministrija | H84: Atbalstīt
B85: 4.pielikums | E85: 4.pielikums
B86: 10.00.00. "Mērķdotācijas pašvaldībām – pašvaldību izglītības iestādēs bērnu no piecu gadu vecuma izglītošanā nodarbināto pedagogu darba samaksai un valsts sociālās apdrošināšanas obligātajām iemaksām" | E86: 01.05.00. "Dotācija privātajām mācību iestādēm"
B87: Resursi izdevumu segšanai | C87: 72828648 | D87: -239324 | E87: Resursi izdevumu segšanai | F87: 31683113 | G87: 239324
B88: Dotācija no vispārējiem ieņēmumiem | C88: 72828648 | D88: -239324 | E88: Dotācija no vispārējiem ieņēmumiem | F88: 31683113 | G88: 239324
B89: Vispārējā kārtībā sadalāmā dotācija no vispārējiem ieņēmumiem | C89: 72828648 | D89: -239324 | E89: Vispārējā kārtībā sadalāmā dotācija no vispārējiem ieņēmumiem | F89: 31683113 | G89: 239324
B90: Izdevumi – kopā | C90: 72828648 | D90: -239324 | E90: Izdevumi – kopā | F90: 31683113 | G90: 239324
B91: Uzturēšanas izdevumi | C91: 72828648 | D91: -239324 | E91: Uzturēšanas izdevumi | F91: 31683113 | G91: 239324
B92: Transferti viena budžeta veida ietvaros un uzturēšanas izdevumu transferti starp budžeta veidiem | C92: 72828648 | D92: -239324 | E92: Subsīdijas, dotācijas un sociālie pabalsti | F92: 31389509 | G92: 239324
B93: Pārējie valsts budžeta uzturēšanas izdevumu transferti citiem budžetiem | C93: 72828648 | D93: -239324 | E93: Subsīdijas un dotācijas | F93: 31389509 | G93: 239324
B94: Pārējie valsts budžeta uzturēšanas izdevumu transferti pašvaldībām | C94: 72828648 | D94: -239324
B95: 62. Mērķdotācijas pašvaldībām | E95: 15. Izglītības un zinātnes ministrija
B96: 3.pielikums | E96: 3.pielikums
B97: I. Valsts pamatfunkciju īstenošana | E97: I. Valsts pamatfunkciju īstenošana
B98: 2027. gads | E98: 2027. gads
B99: Resursi izdevumu segšanai | C99: 718551985 | D99: -211442 | E99: Resursi izdevumu segšanai | F99: 474226662 | G99: 211442
B100: Dotācija no vispārējiem ieņēmumiem | C100: 718551985 | D100: -211442 | E100: Dotācija no vispārējiem ieņēmumiem | F100: 464989622 | G100: 211442
B101: Vispārējā kārtībā sadalāmā dotācija no vispārējiem ieņēmumiem | C101: 718551985 | D101: -211442 | E101: Vispārējā kārtībā sadalāmā dotācija no vispārējiem ieņēmumiem | F101: 464989622 | G101: 211442
B102: Izdevumi – kopā | C102: 718551985 | D102: -211442 | E102: Izdevumi – kopā | F102: 473609932 | G102: 211442
B103: Uzturēšanas izdevumi | C103: 718551985 | D103: -211442 | E103: Uzturēšanas izdevumi | F103: 466911083 | G103: 211442
B104: Transferti viena budžeta veida ietvaros un uzturēšanas izdevumu transferti starp budžeta veidiem | C104: 718551985 | D104: -211442 | E104: Subsīdijas, dotācijas un sociālie pabalsti | F104: 78517265 | G104: 211442
B105: Pārējie valsts budžeta uzturēšanas izdevumu transferti citiem budžetiem | C105: 718551985 | D105: -211442 | E105: Subsīdijas un dotācijas | F105: 68765703 | G105: 211442
...

Sheet ZM
C1: Pieņemts pirmajā lasījumā | D1: Priekšlikums par izmaiņām | F1: Pieņemts pirmajā lasījumā | G1: Priekšlikums par izmaiņām | H1: Priekšlikums MK atzinumam
B3: 16. Zemkopības ministrija
A5: =IZM!A232+1 -> 33 | B5: 16.Zemkopības ministrija | E5: 16.Zemkopības ministrija | H5: Atbalstīt
B6: 4.pielikums | E6: 4.pielikums
B7: 64.10.00 Izdevumi Eiropas Lauksaimniecības garantiju fonda (ELGF) projektu un pasākumu īstenošanai (2023-2027) | C7: ` | E7: 21.01.00 Valsts atbalsts lauksaimniecības un lauku attīstībai | F7: `
B8: Resursi izdevumu segšanai | C8: =C9 -> 360400725 | D8: =D9 -> -1860327 | E8: Resursi izdevumu segšanai | F8: =F9 -> 53993313 | G8: =G9 -> 1860327
B9: Dotācija no vispārējiem ieņēmumiem | C9: =C10 -> 360400725 | D9: =D10 -> -1860327 | E9: Dotācija no vispārējiem ieņēmumiem | F9: =F10 -> 53993313 | G9: =G10 -> 1860327
B10: Vispārējā kārtībā sadalāmā dotācija no vispārējiem ieņēmumiem | C10: 360400725 | D10: -1860327 | E10: Vispārējā kārtībā sadalāmā dotācija no vispārējiem ieņēmumiem | F10: 53993313 | G10: 1860327
B11: Izdevumi – kopā | C11: =C12 -> 360400725 | D11: =D12 -> -1860327 | E11: Izdevumi – kopā | F11: =F12 -> 53993313 | G11: =G12 -> 1860327
B12: Uzturēšanas izdevumi | C12: =C13+C15 -> 360400725 | D12: =D13+D15 -> -1860327 | E12: Uzturēšanas izdevumi | F12: =F13 -> 53993313 | G12: =G13 -> 1860327
B13: Subsīdijas, dotācijas, sociālie maksājumi un kompensācijas | C13: =C14 -> 360075725 | D13: =D14 -> -1860327 | E13: Subsīdijas, dotācijas, sociālie maksājumi un kompensācijas | F13: =F14 -> 53993313 | G13: =G14 -> 1860327
B14: Subsīdijas un dotācijas | C14: 360075725 | D14: -1860327 | E14: Subsīdijas un dotācijas | F14: 53993313 | G14: 1860327
B15: Transferti viena budžeta veida ietvaros un uzturēšanas izdevumu transferti starp budžeta veidiem | C15: =C16 -> 325000
B16: Valsts budžeta uzturēšanas izdevumu transferti citiem budžetiem Eiropas Savienības politiku instrumentu un pārējās ārvalstu finanšu palīdzības līdzfinansētajiem projektiem (pasākumiem) | C16: =C17+C18 -> 325000
B17: Valsts budžeta uzturēšanas izdevumu transferti pašvaldībām Eiropas Savienības politiku instrumentu un pārējās ārvalstu finanšu palīdzības līdzfinansētajiem projektiem (pasākumiem) | C17: 120000
B18: Valsts budžeta uzturēšanas izdevumu transferti valsts budžeta daļēji finansētām atvasinātām publiskām personām un budžeta nefinansētām iestādēm Eiropas Savienības politiku instrumentu un pārējās ārvalstu finanšu palīdzības līdzfinansētiem projektiem (pasākumiem) | C18: 205000
B19: 16.Zemkopības ministrija
B20: 11.pielikums
B21: 64.10.00 Izdevumi Eiropas Lauksaimniecības garantiju fonda (ELGF) projektu un pasākumu īstenošanai (2023-2027) | C21: `
B22: 0101050000 - Eiropas Lauksaimniecības garantiju fonds
B23: 2026. gads
B24: Resursi izdevumu segšanai | C24: =C25 -> 360400725 | D24: =D25 -> -1860327
B25: Dotācija no vispārējiem ieņēmumiem | C25: =C26 -> 360400725 | D25: =D26 -> -1860327
B26: Vispārējā kārtībā sadalāmā dotācija no vispārējiem ieņēmumiem | C26: 360400725 | D26: -1860327
B27: Izdevumi – kopā | C27: =C28 -> 360400725 | D27: =D28 -> -1860327
B28: Uzturēšanas izdevumi | C28: =C29+C31 -> 360400725 | D28: =D29+D31 -> -1860327
B29: Subsīdijas, dotācijas, sociālie maksājumi un kompensācijas | C29: =C30 -> 360075725 | D29: =D30 -> -1860327
B30: Subsīdijas un dotācijas | C30: 360075725 | D30: -1860327
B31: Transferti viena budžeta veida ietvaros un uzturēšanas izdevumu transferti starp budžeta veidiem | C31: =C32 -> 325000
B32: Valsts budžeta uzturēšanas izdevumu transferti citiem budžetiem Eiropas Savienības politiku instrumentu un pārējās ārvalstu finanšu palīdzības līdzfinansētajiem projektiem (pasākumiem) | C32: =C33+C34 -> 325000
B33: Valsts budžeta uzturēšanas izdevumu transferti pašvaldībām Eiropas Savienības politiku instrumentu un pārējās ārvalstu finanšu palīdzības līdzfinansētajiem projektiem (pasākumiem) | C33: 120000
B34: Valsts budžeta uzturēšanas izdevumu transferti valsts budžeta daļēji finansētām atvasinātām publiskām personām un budžeta nefinansētām iestādēm Eiropas Savienības politiku instrumentu un pārējās ārvalstu finanšu palīdzības līdzfinansētiem projektiem (pasākumiem) | C34: 205000
B35: Ar Ministru kabineta 2025. gada 22. septembra sēdes protokola Nr. 38 1. § 2. punktu tika piešķirts finansējums prioritārajam pasākumam “Atbalsts lauksaimniekiem” 59 275 327 euro apmērā 2026. gadam, tajā skaitā budžeta apakšprogrammā 64.10.00 “Izdevumi Eiropas Lauksaimniecības garantiju fonda (ELGF) projektu un pasākumu īstenošanai (2023–2027)” – 3 860 327 euro, kas atbalsta programmai “Piens un augļi skolai”, kuras īstenošanai papildu līdzfinansējums no valsts budžeta tika piešķirts arī 2025. gadā. Ņemot vērā, ka 2025. gadā minētajā atbalsta programmā faktiskās izmaksas bija mazākas par plānoto, Zemkopības ministrija ir konstatējusi, ka nepieciešamais finansējums 2026. gadā samazināms par 1 860 327 euro, šo summu novirzot uz valsts budžeta apakšprogrammu 21.01.00 “Valsts atbalsts lauksaimniecības un lauku attīstībai”, lai nodrošinātu lauksaimniecībā izmantojamiem zinātnes pētījumiem un lauksaimniecības zinātnisko institūciju materiāli tehniskās bāzes un ciltsdarba maksājumiem 2026. gadā nepieciešamo finansējumu.
A37: =A5+1 -> 34 | B37: Valsts budžeta ieņēmumi | E37: 16. Zemkopības ministrija | H37: Neatbalstīt
B38: 2.pielikums | E38: 4.pielikums
B39: 2026. gads | E39: 2026. gads
B40: Valsts pamatbudžeta ieņēmumi | E40: 20.01.00 Pārtikas nekaitīguma un dzīvnieku veselības valsts uzraudzība un kontrole | F40: `
B41: Ieņēmumi no akcīzes nodokļa izmaiņām | D41: 1400000 | E41: Resursi izdevumu segšanai | F41: =F42+F44 -> 16371670 | G41: =SUM(G44:G44) -> 1400000
E42: Ieņēmumi no maksas pakalpojumiem un citi pašu ieņēmumi – kopā | F42: 6444372
E43: Dotācija no vispārējiem ieņēmumiem | F43: =F44 -> 9927298 | G43: =G44 -> 1400000
E44: Vispārējā kārtībā sadalāmā dotācija no vispārējiem ieņēmumiem | F44: 9927298 | G44: 1400000
E45: Izdevumi – kopā | F45: =F46+F54 -> 17101670 | G45: =G46+G54 -> 1400000
E46: Uzturēšanas izdevumi | F46: =F47+F50 -> 16815719 | G46: =G47+G50 -> 1400000
E47: Kārtējie izdevumi | F47: =F48+F49 -> 16710563 | G47: =G48+G49 -> 1400000
E48: Atlīdzība | F48: 14415301 | G48: 1400000
E49: Preces un pakalpojumi | F49: 2295262
E50: Transferti viena budžeta veida ietvaros un uzturēšanas izdevumu transferti starp budžeta veidiem | F50: =F51 -> 105156 | G50: =G51 -> 0
E51: Valsts budžeta transferti un uzturēšanas izdevumu transferti | F51: =F52 -> 105156 | G51: =G52 -> 0
E52: Valsts budžeta transferti no valsts pamatbudžeta uz valsts pamatbudžetu | F52: =F53 -> 105156 | G52: =G53 -> 0
E53: Pārējie valsts budžeta uzturēšanas izdevumu transferti citiem budžetiem | F53: 105156
E54: Kapitālie izdevumi | F54: =F55 -> 285951 | G54: =G55 -> 0
E55: Pamatkapitāla veidošana | F55: 285951
E56: Finansiālā bilance | F56: =F41-F45 -> -730000 | G56: =G41-G45 -> 0
E57: Finansēšana | F57: =F58 -> 730000 | G57: =G58 -> 0
E58: Naudas līdzekļi | F58: =F59 -> 730000 | G58: =G59 -> 0
E59: Maksas pakalpojumu un citu pašu ieņēmumu naudas līdzekļu atlikumu izmaiņas palielinājums (-) vai samazinājums (+) | F59: 730000
B60: 2027. gads | E60: 2027. gads
B61: Valsts pamatbudžeta ieņēmumi | E61: 20.01.00 Pārtikas nekaitīguma un dzīvnieku veselības valsts uzraudzība un kontrole | F61: `
B62: Ieņēmumi no akcīzes nodokļa izmaiņām | D62: 1400000 | E62: Resursi izdevumu segšanai | F62: =F63+F64 -> 16387272 | G62: =SUM(G65:G65) -> 1400000
E63: Ieņēmumi no maksas pakalpojumiem un citi pašu ieņēmumi – kopā | F63: 6444372
E64: Dotācija no vispārējiem ieņēmumiem | F64: =F65 -> 9942900 | G64: =G65 -> 1400000
E65: Vispārējā kārtībā sadalāmā dotācija no vispārējiem ieņēmumiem | F65: 9942900 | G65: 1400000
E66: Izdevumi – kopā | F66: =F67+F75 -> 16917272 | G66: =G67+G75 -> 1400000
E67: Uzturēšanas izdevumi | F67: =F68+F71 -> 16831321 | G67: =G68+G71 -> 1400000
E68: Kārtējie izdevumi | F68: =F69+F70 -> 16726165 | G68: =G69+G70 -> 1400000
E69: Atlīdzība | F69: 14430903 | G69: 1400000
E70: Preces un pakalpojumi | F70: 2295262
E71: Transferti viena budžeta veida ietvaros un uzturēšanas izdevumu transferti starp budžeta veidiem | F71: =F72 -> 105156 | G71: =G72 -> 0
E72: Valsts budžeta transferti un uzturēšanas izdevumu transferti | F72: =F73 -> 105156 | G72: =G73 -> 0
E73: Valsts budžeta transferti no valsts pamatbudžeta uz valsts pamatbudžetu | F73: =F74 -> 105156 | G73: =G74 -> 0
E74: Pārējie valsts budžeta uzturēšanas izdevumu transferti citiem budžetiem | F74: 105156
E75: Kapitālie izdevumi | F75: =F76 -> 85951 | G75: =G76 -> 0
E76: Pamatkapitāla veidošana | F76: 85951
E77: Finansiālā bilance | F77: =F62-F66 -> -530000 | G77: =G62-G66 -> 0
E78: Finansēšana | F78: =F79 -> 530000 | G78: =G79 -> 0
E79: Naudas līdzekļi | F79: =F80 -> 530000 | G79: =G80 -> 0
E80: Maksas pakalpojumu un citu pašu ieņēmumu naudas līdzekļu atlikumu izmaiņas palielinājums (-) vai samazinājums (+) | F80: 530000
B81: 2028. gads | E81: 2028. gads
B82: Valsts pamatbudžeta ieņēmumi | E82: 20.01.00 Pārtikas nekaitīguma un dzīvnieku veselības valsts uzraudzība un kontrole | F82: `
B83: Ieņēmumi no akcīzes nodokļa izmaiņām | D83: 1400000 | E83: Resursi izdevumu segšanai | F83: =F84+F85 -> 16403022 | G83: =SUM(G86:G86) -> 1400000
E84: Ieņēmumi no maksas pakalpojumiem un citi pašu ieņēmumi – kopā | F84: 6444372
E85: Dotācija no vispārējiem ieņēmumiem | F85: =F86 -> 9958650 | G85: =G86 -> 1400000
E86: Vispārējā kārtībā sadalāmā dotācija no vispārējiem ieņēmumiem | F86: 9958650 | G86: 1400000
E87: Izdevumi – kopā | F87: =F88+F96 -> 16403022 | G87: =G88+G96 -> 1400000
E88: Uzturēšanas izdevumi | F88: =F89+F92 -> 16317071 | G88: =G89+G92 -> 1400000
E89: Kārtējie izdevumi | F89: =F90+F91 -> 16211915 | G89: =G90+G91 -> 1400000
E90: Atlīdzība | F90: 13916653 | G90: 1400000
E91: Preces un pakalpojumi | F91: 2295262
E92: Transferti viena budžeta veida ietvaros un uzturēšanas izdevumu transferti starp budžeta veidiem | F92: =F93 -> 105156 | G92: =G93 -> 0
E93: Valsts budžeta transferti un uzturēšanas izdevumu transferti | F93: =F94 -> 105156 | G93: =G94 -> 0
E94: Valsts budžeta transferti no valsts pamatbudžeta uz valsts pamatbudžetu | F94: =F95 -> 105156 | G94: =G95 -> 0
E95: Pārējie valsts budžeta uzturēšanas izdevumu transferti citiem budžetiem | F95: 105156
E96: Kapitālie izdevumi | F96: =F97 -> 85951 | G96: =G97 -> 0
E97: Pamatkapitāla veidošana | F97: 85951
E98: Finansiālā bilance | F98: =F83-F87 -> 0 | G98: =G83-G87 -> 0
E99: Finansēšana | F99: =F100 -> 0 | G99: =G100 -> 0
E100: Naudas līdzekļi | F100: =F101 -> 0 | G100: =G101 -> 0
E101: Maksas pakalpojumu un citu pašu ieņēmumu naudas līdzekļu atlikumu izmaiņas palielinājums (-) vai samazinājums (+)
B102: Zemkopības ministrijas priekšlikums mainīt starp alkoholisko dzērienu pozīcijām akcīzes nodokļa likmju pieauguma apmēru un alum noteikt mērenāku akcīzes nodokļa kāpumu – aptuveni 5% ik gadu, turpretī straujāk kāpināt akcīzes nodokļa likmes pārējiem alkoholiskajiem dzērieniem – aptuveni 10% ik gadu. Šāda pieeja nodrošinātu papildu ienākumus valsts budžetā. Saskaņā ar biedrības “Latvijas Alus darītāju savienība” aprēķiniem kopējais ieguvums 2026.gadā būtu 20 milj.euro plānoto 15 milj.euro vietā, papildus valsts budžetam 2026.gadā nodrošinot 5 milj.euro. Savukārt 2027.gadā papildus ieņēmumi valsts budžetā būtu 4,1 milj.euro un 2028.gadā 1,5 milj.euro. Finansējuma pārdale ir nepieciešama, lai segtu resursu - ieņēmumu no maksas pakalpojumiem - iztrūkumu, kas radies Pārtikas un veterinārajam dienestam, lai nodrošinātu robežkontroles funkciju normatīvajos aktos noteiktajā kārtībā. Ņemot vērā Krievijas iebrukumu Ukrainā, 2025.gadā strauji samazinājies kravu apjoms, kas tiek ievests pa autoceļiem un dzelzceļu, līdz ar to, krītoties ieņēmumiem no maksas pakalpojumiem, iestāde nevar nodrošināt veterināro, fitosanitāro, pārtikas nekaitīguma un nepārtikas preču drošuma uzraudzību valsts austrumu robežas kontroles punktos.
A104: =A37+1 -> 35 | B104: Valsts budžeta ieņēmumi | E104: 16. Zemkopības ministrija | H104: Neatbalstīt
...

Sheet SM
C1: Pieņemts pirmajā lasījumā | D1: Priekšlikums par izmaiņām | F1: Pieņemts pirmajā lasījumā | G1: Priekšlikums par izmaiņām | H1: Priekšlikums MK atzinumam
B3: 17. Satiksmes ministrija
A5: =ZM!A172+1 -> 37 | B5: Valsts budžeta ieņēmumi | E5: 17. Satiksmes ministrija | H5: Atbalstīt
B6: 2.pielikums | E6: 4.pielikums
B7: Valsts pamatbudžeta ieņēmumi | E7: 49.00.00 Rail Baltica projekta pārvaldības funkcijas nodrošināšana
B8: 2026.gads | E8: Resursi izdevumu segšanai | F8: 4807506 | G8: 8000000
B9: Ieņēmumi no dividendēm (ieņēmumi no valsts (pašvaldību) kapitāla izmantošanas) | C9: 341141400 | D9: 8000000 | E9: Dotācija no vispārējiem ieņēmumiem | F9: 4807506 | G9: 8000000
E10: Vispārējā kārtībā sadalāmā dotācija no vispārējiem ieņēmumiem | F10: 4807506 | G10: 8000000
E11: Izdevumi – kopā | F11: 4807506 | G11: 8000000
E12: Uzturēšanas izdevumi | F12: 1496084 | G12: 8000000
E13: Kārtējie izdevumi | F13: 911715 | G13: 0
E14: Atlīdzība | F14: 911715 | G14: 0
E15: Subsīdijas, dotācijas, sociālie maksājumi un kompensācijas | F15: 584369 | G15: 8000000
E16: Subsīdijas un dotācijas | F16: 584369 | G16: 8000000
E17: Kapitālie izdevumi | F17: 3311422 | G17: 0
E18: Pamatkapitāla veidošana | F18: 3311422 | G18: 0
B19: Saskaņā ar Zemkopības ministrijas 06.11.2025. vēstuli Nr.3.3-3e/1909/2025 "Par AS "Latvijas valsts meži" dividendēm" ir iespējams palielināt ieņēmumu prognozi no AS "Latvijas valsts meži" maksājumam par valsts kapitāla izmantošanu 2026.gadā un attiecīgi palielināt finansējumu Satiksmes ministrijas budžeta programmā 49.00.00 "Rail Baltica projekta pārvaldības funkcijas nodrošināšana" 8 000 000 euro apmērā 2026.gadam, lai nodrošinātu Rail Baltica projekta pamattrases pārprojektēšanu, īstenojot sarežģītus infrastruktūras projektus atbilstoši Eiropas Savienības ilgtermiņa mērķiem. Šāda rīcība apliecina, ka Latvija ir gatava īstenot Rail Baltica projekta turpmākās kārtas, pieprasot Eiropas Savienības fondu finansējumu arī nākamajā Eiropas infrastruktūras savienošanas instrumenta (EISI) plānošanas periodā.

Sheet LM
C1: Pieņemts pirmajā lasījumā | D1: Priekšlikums par izmaiņām | F1: Pieņemts pirmajā lasījumā | G1: Priekšlikums par izmaiņām | H1: Priekšlikums MK atzinumam
B3: 18. Labklājības ministrija
A5: =SM!A5+1 -> 38 | B5: 18. Labklājības ministrija | E5: 18. Labklājības ministrija | H5: Atbalstīt
B6: 4.pielikums | E6: 4.pielikums
B7: 20.01.00 Valsts sociālie pabalsti | E7: 05.01.00 Sociālās rehabilitācijas valsts programmas | F7: `
B8: Resursi izdevumu segšanai | C8: 505237978 | D8: =D9 -> -18962 | E8: Resursi izdevumu segšanai | F8: =F9 -> 158836810 | G8: =G9 -> 18962
B9: Dotācija no vispārējiem ieņēmumiem | C9: 505237978 | D9: =D10 -> -18962 | E9: Dotācija no vispārējiem ieņēmumiem | F9: =F10 -> 158836810 | G9: =G10 -> 18962
B10: Vispārējā kārtībā sadalāmā dotācija no vispārējiem ieņēmumiem | C10: 505237978 | D10: =-18962 -> -18962 | E10: Vispārējā kārtībā sadalāmā dotācija no vispārējiem ieņēmumiem | F10: =F11 -> 158836810 | G10: =G11 -> 18962
B11: Izdevumi – kopā | C11: 505237978 | D11: =D12 -> -18962 | E11: Izdevumi - kopā | F11: =F12 -> 158836810 | G11: =G12 -> 18962
B12: Uzturēšanas izdevumi | C12: 505088301 | D12: =D13 -> -18962 | E12: Uzturēšanas izdevumi | F12: =F13+F15+F17 -> 158836810 | G12: =G13+G15+G17 -> 18962
B13: Subsīdijas, dotācijas, sociālie maksājumi un kompensācijas | C13: 503362116 | D13: =D14 -> -18962 | E13: Kārtējie izdevumi | F13: =F14 -> 64233
B14: Sociāla rakstura maksājumi un kompensācijas | C14: 503362116 | D14: =-18962 -> -18962 | E14: Preces un pakalpojumi | F14: 64233
B15: Transferti viena budžeta veida ietvaros un uzturēšanas izdevumu transferti starp budžeta veidiem | C15: 1726185 | E15: Subsīdijas, dotācijas, sociālie maksājumi un kompensācijas | F15: =F16 -> 45710482 | G15: =G16 -> 18962
B16: Valsts budžeta transferti un uzturēšanas izdevumu transferti | C16: 1726185 | E16: Subsīdijas un dotācijas | F16: 45710482 | G16: 18962
B17: Valsts budžeta uzturēšanas izdevumu transferti no valsts pamatbudžeta uz valsts speciālo budžetu | C17: 1726185 | E17: Transferti viena budžeta veida ietvaros un uzturēšanas izdevumu transferti starp budžeta veidiem | F17: =F18 -> 113062095
B18: Kapitālie izdevumi | C18: 149677 | E18: Pārējie valsts budžeta uzturēšanas izdevumu transferti citiem budžetiem | F18: =F19 -> 113062095
B19: Kapitālo izdevumu transferti | C19: 149677 | E19: Pārējie valsts budžeta uzturēšanas izdevumu transferti pašvaldībām | F19: 113062095
B20: Valsts budžeta kapitālo izdevumu transferti | C20: 149677
B21: Valsts budžeta kapitālo izdevumu transferti no valsts pamatbudžeta uz valsts speciālo budžetu | C21: 149677
B22: 18. Labklājības ministrija (pamatbudžets)
B23: 3.pielikums
B24: I. Valsts pamatfunkciju īstenošana
B25: 2027.gads
B26: Resursi izdevumu segšanai | C26: =C27+C28+C34 -> 1361430810 | D26: =D34 -> 0
B27: Ieņēmumi no maksas pakalpojumiem un citi pašu ieņēmumi – kopā | C27: 11054284
B28: Transferti | C28: =C29 -> 337231
B29: Valsts budžeta transferti | C29: =C30+C33 -> 337231
B30: Valsts pamatbudžeta savstarpējie transferti | C30: =C31 -> 297231
B31: Valsts pamatbudžeta iestāžu saņemtie transferti no valsts pamatbudžeta | C31: =C32 -> 297231
B32: Valsts pamatbudžeta iestāžu saņemtie transferti no valsts pamatbudžeta dotācijas no vispārējiem ieņēmumiem | C32: 297231
B33: Valsts pamatbudžetā saņemtie transferti no valsts speciālā budžeta | C33: 40000
B34: Dotācija no vispārējiem ieņēmumiem | C34: =C35 -> 1350039295 | D34: =D35 -> 0
B35: Vispārējā kārtībā sadalāmā dotācija no vispārējiem ieņēmumiem | C35: 1350039295
B36: Izdevumi – kopā | C36: =C37+C51 -> 1361430810 | D36: =D37+D51 -> 0
B37: Uzturēšanas izdevumi | C37: =C38+C41+C44+C46 -> 1359822244 | D37: =D38+D41+D44+D46 -> 0
B38: Kārtējie izdevumi | C38: =C39+C40 -> 104422236
B39: Atlīdzība | C39: 82638547
B40: Preces un pakalpojumi | C40: 21783689
B41: Subsīdijas, dotācijas, sociālie maksājumi un kompensācijas | C41: =C42+C43 -> 702264301 | D41: =D42+D43 -> -605216
B42: Subsīdijas un dotācijas | C42: 53645883 | D42: =762380+18962 -> 781342
B43: Sociāla rakstura maksājumi un kompensācijas | C43: 648618418 | D43: =-1386558 -> -1386558
B44: Kārtējie maksājumi Eiropas Savienības budžetā un starptautiskā sadarbība | C44: =C45 -> 234713
B45: Starptautiskā sadarbība | C45: 234713
B46: Transferti viena budžeta veida ietvaros un uzturēšanas izdevumu transferti starp budžeta veidiem | C46: =C47+C49 -> 552900994 | D46: =D49 -> 605216
B47: Valsts budžeta transferti un uzturēšanas izdevumu transferti | C47: =C48 -> 421218064
B48: Valsts budžeta uzturēšanas izdevumu transferti no valsts pamatbudžeta uz valsts speciālo budžetu | C48: 421218064
B49: Pārējie valsts budžeta uzturēšanas izdevumu transferti citiem budžetiem | C49: =C50 -> 131682930 | D49: =D50 -> 605216
B50: Pārējie valsts budžeta uzturēšanas izdevumu transferti pašvaldībām | C50: 131682930 | D50: 605216
B51: Kapitālie izdevumi | C51: =C52+C53 -> 1608566
B52: Pamatkapitāla veidošana | C52: 1344520
B53: Kapitālo izdevumu transferti | C53: =C55 -> 264046
B54: Valsts budžeta kapitālo izdevumu transferti | C54: =C55 -> 264046
B55: Valsts budžeta kapitālo izdevumu transferti no valsts pamatbudžeta uz valsts speciālo budžetu | C55: 264046
B56: 2028.gads
B57: Resursi izdevumu segšanai | C57: =C58+C59+C65 -> 1472762421 | D57: =D65 -> 0
B58: Ieņēmumi no maksas pakalpojumiem un citi pašu ieņēmumi – kopā | C58: 11054284
B59: Transferti | C59: =C60 -> 335071
B60: Valsts budžeta transferti | C60: =C61+C64 -> 335071
B61: Valsts pamatbudžeta savstarpējie transferti | C61: =C62 -> 295071
B62: Valsts pamatbudžeta iestāžu saņemtie transferti no valsts pamatbudžeta | C62: =C63 -> 295071
B63: Valsts pamatbudžeta iestāžu saņemtie transferti no valsts pamatbudžeta dotācijas no vispārējiem ieņēmumiem | C63: 295071
B64: Valsts pamatbudžetā saņemtie transferti no valsts speciālā budžeta | C64: 40000
B65: Dotācija no vispārējiem ieņēmumiem | C65: =C66 -> 1461373066 | D65: =D66 -> 0
B66: Vispārējā kārtībā sadalāmā dotācija no vispārējiem ieņēmumiem | C66: 1461373066
B67: Izdevumi – kopā | C67: =C68+C82 -> 1472762421 | D67: =D68+D82 -> 0
B68: Uzturēšanas izdevumi | C68: =C69+C72+C75+C77 -> 1471154017 | D68: =D69+D72+D75+D77 -> 0
B69: Kārtējie izdevumi | C69: =C70+C71 -> 105342183
B70: Atlīdzība | C70: 83530097
B71: Preces un pakalpojumi | C71: 21812086
B72: Subsīdijas, dotācijas, sociālie maksājumi un kompensācijas | C72: =C73+C74 -> 742547320 | D72: =D73+D74 -> -605216
B73: Subsīdijas un dotācijas | C73: 54693333 | D73: =18962+762380 -> 781342
B74: Sociāla rakstura maksājumi un kompensācijas | C74: 687853987 | D74: =-1386558 -> -1386558
B75: Kārtējie maksājumi Eiropas Savienības budžetā un starptautiskā sadarbība | C75: =C76 -> 234713
B76: Starptautiskā sadarbība | C76: 234713
B77: Transferti viena budžeta veida ietvaros un uzturēšanas izdevumu transferti starp budžeta veidiem | C77: =C78+C80 -> 623029801 | D77: =D80 -> 605216
B78: Valsts budžeta transferti un uzturēšanas izdevumu transferti | C78: =C79 -> 478387574
B79: Valsts budžeta uzturēšanas izdevumu transferti no valsts pamatbudžeta uz valsts speciālo budžetu | C79: 478387574
B80: Pārējie valsts budžeta uzturēšanas izdevumu transferti citiem budžetiem | C80: =C81 -> 144642227 | D80: =D81 -> 605216
B81: Pārējie valsts budžeta uzturēšanas izdevumu transferti pašvaldībām | C81: 144642227 | D81: 605216
B82: Kapitālie izdevumi | C82: =C83+C84 -> 1608404
B83: Pamatkapitāla veidošana | C83: 1455160
B84: Kapitālo izdevumu transferti | C84: =C86 -> 153244
B85: Valsts budžeta kapitālo izdevumu transferti | C85: =C86 -> 153244
B86: Valsts budžeta kapitālo izdevumu transferti no valsts pamatbudžeta uz valsts speciālo budžetu | C86: 153244
B87: Atbilstoši Ministru kabineta 22.09.2025. sēdes prot.Nr.38 1. § 2.punktam atbalstīts LM prioritārais pasākums "Materiālā atbalsta (pabalstu) pilnveidošana ģimenēm ar bērniem", kas tajā skaitā paredz bērna piedzimšanas pabalsta apmēra palielināšanu, kā arī bērnu kopšanas pabalsta personām, kuras kopj bērnu līdz pusotra gada vecumam, apmēra palielināšanu, vienlaikus palielinot arī sociālās apdrošināšanas iemaksu objektu pensiju, invaliditātes un bezdarba gadījumā personām, kuras kopj bērnu līdz pusotra gada vecumam. Ņemot vērā, ka 2025. gadā bērna piedzimšanas pabalsta un bērnu kopšanas pabalsta saņēmēju skaits atpaliek no plānotā, tas ietekmē arī 2026., 2027. un 2028. gada un turpmāko gadu prognozētos rādītājus, salīdzinot ar tiem rādītājiem, kas tika plānoti sagatavojot LM prioritāro pasākumu "Materiālā atbalsta (pabalstu) pilnveidošana ģimenēm ar bērniem". Līdz ar to LM prognozē, ka prioritārajam pasākumam nepieciešams mazāks finansējums nekā sākotnēji plānots 2026. gadā 2 565 542 euro apmērā, 2027. gadā 2 565 542 euro apmērā un 2028. gadā un turpmāk ik gadu 3 569 929 euro apmērā, tajā skaitā LM pamatbudžeta programmā 04.00.00 “Valsts atbalsts sociālajai apdrošināšanai” 2026. gadā 464 098 euro apmērā, 2027. gadā 464 098 euro apmērā un 2028. gadā un turpmāk ik gadu 657 776 euro apmērā un LM pamatbudžeta apakšprogrammā 20.01.00 “Valsts sociālie pabalsti” 2026. gadā 2 101 444 euro apmērā, 2027. gadā 2 101 444 euro apmērā un 2028. gadā un turpmāk ik gadu 2 912 153 euro apmērā. Daļu no finansējuma ietaupījuma LM apakšprogrammā 20.01.00 “Valsts sociālie pabalsti” 2026. gadā 18 962 euro apmērā un 2027. gadā un turpmāk ik gadu 1 386 558 euro apmērā plānots novirzīt šādiem LM nozīmīgiem un neatliekamiem pasākumiem: 1) Pamatojoties uz MK 22.09.2025. sēdes prot. Nr.38 1.§ 2.punktu, atbalstīts Labklājības ministrijas prioritārais pasākums "Sociālās rehabilitācijas pakalpojumu nodrošināšana", kas ietver papildu finansējumu LM pamatbudžeta apakšprogrammā 05.01.00 "Sociālās rehabilitācijas valsts programmas" 1 367 596 euro apmērā sociālās rehabilitācijas pakalpojumiem no vardarbības cietušām pilngadīgām personām (605 216 euro) un vardarbību veikušām pilngadīgām personām (762 380 euro) 2026. gadā. Piešķirtā finansējuma ietvaros plānots 2026. gadā nodrošināt pakalpojumu apjomu 2025. gada līmenī, lai neveidotos situācija, ka uz minētajiem pakalpojumiem tiek veidotas rindas, kā arī plānots palielināt atlīdzību speciālistiem, kas nodrošina sociālās rehabilitācijas pakalpojumu vardarbībā cietušām personām. Piešķirto papildus finansējumu ir nepieciešams nodrošināt arī 2027. gadā un turpmāk ik gadu, līdz pieprasījums pēc pakalpojumiem sabiedrībai samazinās. Ņemot vērā minēto, priekšlikums paredz papildu finansējumu 2027.gadā un turpmāk ik gadu sociālās rehabilitācijas pakalpojumiem no vardarbības cietušām pilngadīgām personām 605 216 euro (pārējie valsts budžeta uzturēšanas izdevumu transferti pašvaldībām) un vardarbību veikušām pilngadīgām personām 762 380 euro (izdevumi subsīdijas un dotācijas). Vardarbīgas uzvedības mazināšanas sociālās rehabilitācijas pakalpojumu visefektīvāk sniegt un saņemt brīdī, kad persona ir sapratusi savu nodarījumu. Ilgāka kavēšanās var nostiprināt vardarbīgo uzvedības modeli. Operatīva iesaiste sociālās rehabilitācijas pakalpojumā palīdz personai uzņemties atbildību par savu rīcību un izprast sekas. Samazinot atkārtotas vardarbības risku, tiek mazināta sociālā un ekonomiskā slodze (mazāk policijas iesaistes, tiesvedību, veselības un sociālo pakalpojumu izmaksu), tādējādi tiek veicināta kopējā sabiedrības drošība un labklājība. Vardarbībā cietušai personai sociālās rehabilitācijas pakalpojumu ir nepieciešams nekavējoties saņemt atbalstu pēc vardarbības epizodes, lai nodrošinātu fizisku un emocionālu drošību un novērstu atkārtotas vardarbības risku. Agrīna palīdzība palīdz mazināt traumatiskās pieredzes ietekmi, posttraumatiskā stresa simptomus, trauksmi un bailes. Jo ātrāk persona saņem atbalstu, jo lielāka iespēja atjaunot emocionālo līdzsvaru un funkcionēt ikdienā. Operatīva palīdzība mazina risku, ka persona atgriezīsies vardarbīgās attiecībās vai atkārtoti kļūs par upuri. Sociālā rehabilitācija palīdz cietušajam apzināties savas tiesības, atgūt ticību sev un spēt pieņemt lēmumus, kas vērsti uz drošību un labklājību. Rehabilitācijas laikā cietušais saņem atbalstu sociālo prasmju, nodarbinātības un dzīvesvietas jautājumu risināšanā, kas palīdz atgūt patstāvību un iekļauties sabiedrībā. 2) Vienlaikus priekšlikums paredz no 2026. gada un turpmāk ik gadu palielināt bāzes finansējumu izglītojošu pasākumu nodrošināšanai bērniem, jauniešiem un viņu likumiskajiem pārstāvjiem par vardarbību, tās pazīmēm, īpaši seksuālās izmantošanas riskiem, drošu un cieņpilnu attiecību veidošanu un kaitējošu seksuālo uzvedību, lai nodrošinātu pakalpojuma izmaksu pieauguma segumu (18 962 euro). LM priekšlikumam nav fiskālas ietekmes uz valsts konsolidētā budžeta izdevumiem. Pasākums tiks iekļauts Labklājības ministrijas prioritārā pasākuma "Sociālās rehabilitācijas pakalpojumu nodrošināšana" ietvaros kā jauna aktivitāte.
A89: =A5+1 -> 39 | B89: 18. Labklājības ministrija | E89: 18. Labklājības ministrija | H89: Atbalstīt
B90: 4.pielikums | E90: 4.pielikums
B91: 20.01.00 Valsts sociālie pabalsti | E91: 05.01.00 Sociālās rehabilitācijas valsts programmas | F91: `
B92: Resursi izdevumu segšanai | C92: 505237978 | D92: =D93 -> -1930440 | E92: Resursi izdevumu segšanai | F92: =F93 -> 158836810 | G92: =G93 -> 1930440
B93: Dotācija no vispārējiem ieņēmumiem | C93: 505237978 | D93: =D94 -> -1930440 | E93: Dotācija no vispārējiem ieņēmumiem | F93: =F94 -> 158836810 | G93: =G94 -> 1930440
B94: Vispārējā kārtībā sadalāmā dotācija no vispārējiem ieņēmumiem | C94: 505237978 | D94: =-1930440 -> -1930440 | E94: Vispārējā kārtībā sadalāmā dotācija no vispārējiem ieņēmumiem | F94: =F95 -> 158836810 | G94: =G95 -> 1930440
B95: Izdevumi – kopā | C95: 505237978 | D95: =D96 -> -1930440 | E95: Izdevumi - kopā | F95: =F96 -> 158836810 | G95: =G96 -> 1930440
B96: Uzturēšanas izdevumi | C96: 505088301 | D96: =D97 -> -1930440 | E96: Uzturēšanas izdevumi | F96: =F97+F99+F101 -> 158836810 | G96: =G97+G99+G101 -> 1930440
B97: Subsīdijas, dotācijas, sociālie maksājumi un kompensācijas | C97: 503362116 | D97: =D98 -> -1930440 | E97: Kārtējie izdevumi | F97: =F98 -> 64233
B98: Sociāla rakstura maksājumi un kompensācijas | C98: 503362116 | D98: =-1930440 -> -1930440 | E98: Preces un pakalpojumi | F98: 64233
B99: Transferti viena budžeta veida ietvaros un uzturēšanas izdevumu transferti starp budžeta veidiem | C99: 1726185 | E99: Subsīdijas, dotācijas, sociālie maksājumi un kompensācijas | F99: =F100 -> 45710482 | G99: =G100 -> 1930440
B100: Valsts budžeta transferti un uzturēšanas izdevumu transferti | C100: 1726185 | E100: Subsīdijas un dotācijas | F100: 45710482 | G100: 1930440
B101: Valsts budžeta uzturēšanas izdevumu transferti no valsts pamatbudžeta uz valsts speciālo budžetu | C101: 1726185 | E101: Transferti viena budžeta veida ietvaros un uzturēšanas izdevumu transferti starp budžeta veidiem | F101: =F102 -> 113062095
B102: Kapitālie izdevumi | C102: 149677 | E102: Pārējie valsts budžeta uzturēšanas izdevumu transferti citiem budžetiem | F102: =F103 -> 113062095
B103: Kapitālo izdevumu transferti | C103: 149677 | E103: Pārējie valsts budžeta uzturēšanas izdevumu transferti pašvaldībām | F103: 113062095
...

Sheet TM
C1: Pieņemts pirmajā lasījumā | D1: Priekšlikums par izmaiņām | F1: Pieņemts pirmajā lasījumā | G1: Priekšlikums par izmaiņām | H1: Priekšlikums MK atzinumam
B3: 19. Tieslietu ministrija
A5: =LM!A173+1 -> 41 | B5: 19. Tieslietu ministrija | E5: 19. Tieslietu ministrija | H5: Atbalstīt
B6: 4.pielikums | E6: 4.pielikums
B7: 03.02.00 "Apgabaltiesas un rajonu (pilsētu) tiesas" | E7: 03.01.00 "Tiesu administrēšana"
B8: 2026.gads | E8: 2026.gads
B9: Resursi izdevumu segšanai | C9: =C10+C11 -> 96189879 | D9: -70000 | E9: Resursi izdevumu segšanai | F9: =F10+F11 -> 7042344 | G9: 70000
B10: Ieņēmumi no maksas pakalpojumiem un citi pašu ieņēmumi | C10: 178864 | E10: Ieņēmumi no maksas pakalpojumiem un citi pašu ieņēmumi | F10: 2673240
B11: Dotācija no vispārējiem ieņēmumiem | C11: 96011015 | D11: -70000 | E11: Dotācija no vispārējiem ieņēmumiem | F11: 4369104 | G11: 70000
B12: Vispārējā kārtībā sadalāmā dotācija no vispārējiem ieņēmumiem | C12: 96011015 | D12: -70000 | E12: Vispārējā kārtībā sadalāmā dotācija no vispārējiem ieņēmumiem | F12: 4369104 | G12: 70000
B13: Izdevumi – kopā | C13: =C14+C20 -> 96338674 | D13: -70000 | E13: Izdevumi – kopā | F13: =F14+F20 -> 7100596 | G13: 70000
B14: Uzturēšanas izdevumi | C14: =C15 -> 94475199 | D14: -70000 | E14: Uzturēšanas izdevumi | F14: =F15 -> 7066639 | G14: 70000
B15: Kārtējie izdevumi | C15: =C16+C17+C18 -> 94475199 | E15: Kārtējie izdevumi | F15: =F16+F17+F18 -> 7066639 | G15: 70000
B16: Atlīdzība | C16: 74968631 | E16: Atlīdzība | F16: 3755577
B17: Preces un pakalpojumi | C17: 19506568 | E17: Preces un pakalpojumi | F17: 3310062 | G17: 70000
B18: Kārtējie maksājumi Eiropas Savienības budžetā un starptautiskā sadarbība | E18: Kārtējie maksājumi Eiropas Savienības budžetā un starptautiskā sadarbība | F18: 1000
B19: Starptautiskā sadarbība | E19: Starptautiskā sadarbība | F19: 1000
B20: Kapitālie izdevumi | C20: 1863475 | D20: -70000 | E20: Kapitālie izdevumi | F20: 33957
B21: Pamatkapitāla veidošana | C21: 1863475 | D21: -70000 | E21: Pamatkapitāla veidošana | F21: 33957
B22: Finansiālā bilance | C22: =C9-C13 -> -148795 | E22: Finansiālā bilance | F22: =F9-F13 -> -58252
B23: Finansēšana | C23: 148795 | E23: Finansēšana | F23: 58252
B24: Naudas līdzekļi | C24: 148795 | E24: Naudas līdzekļi | F24: 58252
B25: Maksas pakalpojumu un citu pašu ieņēmumu naudas līdzekļu atlikumu izmaiņas palielinājums (-) vai samazinājums (+) | C25: 148795 | E25: Maksas pakalpojumu un citu pašu ieņēmumu naudas līdzekļu atlikumu izmaiņas palielinājums (-) vai samazinājums (+) | F25: 58252
B26: Iekšējā finansējuma pārdale 70 000 euro apmērā 2026.gadā no budžeta apakšprogrammas 03.02.00 "Apgabaltiesas un rajonu (pilsētu) tiesas" 2022.-2024.gada prioritārā pasākuma "Videokonferenču un datortehnikas infrastruktūras pilnveidošana, datu plūsmas ātruma palielināšana" uz budžeta apakšprogrammu 03.01.00 "Tiesu administrēšana" 2024.-2026.gada prioritārajam pasākumam "Tiesu informatīvās sistēmas pilnveide", lai veiktu Valsts policijas Administratīvo pārkāpumu aplikācijas integrāciju ar tiesu informatīvo sistēmu un e-lietas platformu saskaņā ar Ministru kabineta 2025.gada 11.novembra rīkojumu Nr.738 "Par apropriācijas pārdali prioritārajiem pasākumiem" (prot. Nr. 47 13. §, 25-TA-2443).

Sheet KEM
C1: Pieņemts pirmajā lasījumā | D1: Priekšlikums par izmaiņām | F1: Pieņemts pirmajā lasījumā | G1: Priekšlikums par izmaiņām | H1: Priekšlikums MK atzinumam
B3: 20. Klimata un enerģētikas ministrija
A5: =TM!A5+1 -> 42 | B5: 12. Ekonomikas ministrija | E5: 20. Klimata un enerģētikas ministrija | H5: Atbalstīt
B6: 4.pielikums | E6: 4.pielikums
B7: 29.02.00 Elektroenerģijas lietotāju atbalsts | E7: 03.00.00 Elektroenerģijas lietotāju atbalsts | F7: `
B8: Resursi izdevumu segšanai | C8: =C9 -> 18616074 | D8: =D9 -> -18616074 | E8: Resursi izdevumu segšanai | F8: 38159648 | G8: =G9 -> 18616074
B9: Dotācija no vispārējiem ieņēmumiem | C9: =C10 -> 18616074 | D9: =D10 -> -18616074 | E9: Dotācija no vispārējiem ieņēmumiem | F9: 38159648 | G9: =G10 -> 18616074
B10: Vispārējā kārtībā sadalāmā dotācija no vispārējiem ieņēmumiem | C10: =C11 -> 18616074 | D10: =D11 -> -18616074 | E10: Vispārējā kārtībā sadalāmā dotācija no vispārējiem ieņēmumiem | F10: 38159648 | G10: =G11 -> 18616074
B11: Izdevumi – kopā | C11: =C12 -> 18616074 | D11: =D12 -> -18616074 | E11: Izdevumi – kopā | F11: 38159648 | G11: =G12 -> 18616074
B12: Uzturēšanas izdevumi | C12: =C13 -> 18616074 | D12: =D13 -> -18616074 | E12: Uzturēšanas izdevumi | F12: 38159648 | G12: =G13 -> 18616074
B13: Subsīdijas, dotācijas, sociālie maksājumi un kompensācijas | C13: =C14 -> 18616074 | D13: =D14 -> -18616074 | E13: Subsīdijas, dotācijas, sociālie maksājumi un kompensācijas | F13: 38139648 | G13: =G14 -> 18616074
B14: Subsīdijas un dotācijas | C14: 18616074 | D14: -18616074 | E14: Subsīdijas un dotācijas | F14: 38139648 | G14: 18616074
B15: =B5 -> 12. Ekonomikas ministrija | E15: 20. Klimata un enerģētikas ministrija
B16: 3.pielikums | E16: 3.pielikums
B17: I. Valsts pamatfunkciju īstenošana | E17: I. Valsts pamatfunkciju īstenošana
B18: 2027.gads | E18: 2027.gads
B19: Resursi izdevumu segšanai | C19: 95848750 | D19: =D20 -> -18616074 | E19: Resursi izdevumu segšanai | F19: 76799479 | G19: =G20 -> 18616074
B20: Dotācija no vispārējiem ieņēmumiem | C20: =C21 -> 94124025 | D20: =D21 -> -18616074 | E20: Dotācija no vispārējiem ieņēmumiem | F20: =F21 -> 76737955 | G20: =G21 -> 18616074
B21: Vispārējā kārtībā sadalāmā dotācija no vispārējiem ieņēmumiem | C21: 94124025 | D21: =D22 -> -18616074 | E21: Vispārējā kārtībā sadalāmā dotācija no vispārējiem ieņēmumiem | F21: 76737955 | G21: =G22 -> 18616074
B22: Izdevumi – kopā | C22: 95956350 | D22: =D23 -> -18616074 | E22: Izdevumi – kopā | F22: 76799479 | G22: =G23 -> 18616074
B23: Uzturēšanas izdevumi | C23: 93459746 | D23: =D24 -> -18616074 | E23: Uzturēšanas izdevumi | F23: 73747923 | G23: =G24 -> 18616074
B24: Subsīdijas, dotācijas, sociālie maksājumi un kompensācijas | C24: =C25 -> 36727768 | D24: =D25 -> -18616074 | E24: Subsīdijas, dotācijas, sociālie maksājumi un kompensācijas | F24: =F25 -> 49112760 | G24: =G25 -> 18616074
B25: Subsīdijas un dotācijas | C25: 36727768 | D25: -18616074 | E25: Subsīdijas un dotācijas | F25: 49112760 | G25: 18616074
B26: 2028.gads | E26: 2028.gads
B27: Resursi izdevumu segšanai | C27: 98665738 | D27: =D28 -> -18616074 | E27: Resursi izdevumu segšanai | F27: 69817459 | G27: =G28 -> 18616074
B28: Dotācija no vispārējiem ieņēmumiem | C28: =C29 -> 96941013 | D28: =D29 -> -18616074 | E28: Dotācija no vispārējiem ieņēmumiem | F28: =F29 -> 69755935 | G28: =G29 -> 18616074
B29: Vispārējā kārtībā sadalāmā dotācija no vispārējiem ieņēmumiem | C29: 96941013 | D29: =D30 -> -18616074 | E29: Vispārējā kārtībā sadalāmā dotācija no vispārējiem ieņēmumiem | F29: 69755935 | G29: =G30 -> 18616074
B30: Izdevumi – kopā | C30: 98773338 | D30: =D31 -> -18616074 | E30: Izdevumi – kopā | F30: 69817459 | G30: =G31 -> 18616074
B31: Uzturēšanas izdevumi | C31: 96276734 | D31: =D32 -> -18616074 | E31: Uzturēšanas izdevumi | F31: 68092578 | G31: =G32 -> 18616074
B32: Subsīdijas, dotācijas, sociālie maksājumi un kompensācijas | C32: =C33 -> 39523759 | D32: =D33 -> -18616074 | E32: Subsīdijas, dotācijas, sociālie maksājumi un kompensācijas | F32: =F33 -> 43572458 | G32: =G33 -> 18616074
B33: Subsīdijas un dotācijas | C33: 39523759 | D33: -18616074 | E33: Subsīdijas un dotācijas | F33: 43572458 | G33: 18616074
B34: Finansējuma pārale no Ekonomikas ministrijas budžeta uz Klimata un enerģētikas ministrijas (turpmāk- KEM) budžetu, lai nodrošinātu pastāvīgu ikmēneša atbalsta mehānismu mazāk aizsargātajām elektroenerģijas lietotāju grupām (trūcīgām, maznodrošinātām personām, personām ar I grupas invaliditāti, ģimenēm ar bērniem ar invaliditāti un daudzbērnu ģimenēm). Lai optimizētu un efektivizētu šo procesu MK 26.08.2025. (prot.Nr.33, #35) noteica, ka nepieciešams veikt izmaiņas regulējumā, lai noteiktu, ka no 2026. gada 1.janvāra kompensācijas norēķinus ar elektroenerģijas tirgotājiem bez starpniecības veic KEM, kas šobrīd skaņo nepieciešamos grozījumus regulējuma (TA Nr. 25-TA-2081).
A36: =A5+1 -> 43 | B36: 13. Finanšu ministrija | E36: 74. Gadskārtējā valsts budžeta izpildes procesā pārdalāmais finansējums | H36: Atbalstīt
B37: 4.pielikums | E37: 4.pielikums
B38: 31.02.00 "Valsts parāda vadība" | E38: 23.00.00 "Valsts atbalsta programmas un citi valsts nozīmes pasākumi"
B39: Resursi izdevumu segšanai | C39: 587604862 | D39: -2050464 | E39: Resursi izdevumu segšanai | F39: 26327677 | G39: 2050464
B40: Dotācija no vispārējiem ieņēmumiem | C40: 587604862 | D40: -2050464 | E40: Dotācija no vispārējiem ieņēmumiem | F40: 26327677 | G40: 2050464
B41: Vispārējā kārtībā sadalāmā dotācija no vispārējiem ieņēmumiem | C41: 587604862 | D41: -2050464 | E41: Vispārējā kārtībā sadalāmā dotācija no vispārējiem ieņēmumiem | F41: 26327677 | G41: 2050464
B42: Izdevumi – kopā | C42: 587604862 | D42: -2050464 | E42: Izdevumi – kopā | F42: 26327677 | G42: 2050464
B43: Uzturēšanas izdevumi | C43: 587604862 | D43: -2050464 | E43: Uzturēšanas izdevumi | F43: 26327677 | G43: 2050464
B44: Procentu izdevumi | C44: 583997248 | D44: -2050464 | E44: Subsīdijas, dotācijas, sociālie maksājumi un kompensācijas | F44: 26327677 | G44: 2050464
E45: Subsīdijas un dotācijas | F45: 26327677 | G45: 2050464
B46: Finansējuma pārdale no Finašu ministrijas budžeta uz 74.resora "Gadskārtējā valsts budžeta izpildes procesā pārdalāmais finansējums" programmu 23.00.00 "Valsts atbalsta programmas un citi valsts nozīmes pasākumi"", lai nodrošinātu nepieciešamo finansējumu 2026.gadā aizsargāto eletroenerģijas lietotāju atbalstam.
A48: =A36+1 -> 44 | B48: Valsts budžeta ieņēmumi | E48: 74. Gadskārtējā valsts budžeta izpildes procesā pārdalāmais finansējums | H48: Atbalstīt
B49: 2.pielikums | E49: 4.pielikums
B50: I. Valsts pamatbudžeta ieņēmumi | E50: 23.00.00 "Valsts atbalsta programmas un citi valsts nozīmes pasākumi"
B51: 2026.gads | E51: Resursi izdevumu segšanai | F51: 26327677 | G51: 1949536
B52: Ieņēmumi no dividendēm (ieņēmumi no valsts (pašvaldību) kapitāla izmantošanas) | C52: 341141400 | D52: 1949536 | E52: Dotācija no vispārējiem ieņēmumiem | F52: 26327677 | G52: 1949536
E53: Vispārējā kārtībā sadalāmā dotācija no vispārējiem ieņēmumiem | F53: 26327677 | G53: 1949536
E54: Izdevumi – kopā | F54: 26327677 | G54: 1949536
E55: Uzturēšanas izdevumi | F55: 26327677 | G55: 1949536
E56: Subsīdijas, dotācijas, sociālie maksājumi un kompensācijas | F56: 26327677 | G56: 1949536
E57: Subsīdijas un dotācijas | F57: 26327677 | G57: 1949536
B58: Saskaņā ar Zemkopības ministrijas 06.11.2025. vēstuli Nr.3.3-3e/1909/2025 "Par AS "Latvijas valsts meži" dividendēm" ir iespējams palielināt ieņēmumu prognozi no AS "Latvijas valsts meži" maksājumam par valsts kapitāla izmantošanu 2026.gadā un attiecīgi palielināt izdevumus 74.resora "Gadskārtējā valsts budžeta izpildes procesā pārdalāmais finansējums" programmā 23.00.00 "Valsts atbalsta programmas un citi valsts nozīmes pasākumi", lai nodrošinātu nepieciešamo finansējumu 2026.gadā aizsargāto eletroenerģijas lietotāju atbalstam.

Sheet VARAM
C1: Pieņemts pirmajā lasījumā | D1: Priekšlikums par izmaiņām | F1: Pieņemts pirmajā lasījumā | G1: Priekšlikums par izmaiņām | H1: Priekšlikums MK atzinumam
B3: 21. Viedās administrācijas un reģionālās attīstības ministrija
A5: =+KEM!A48+1 -> 45 | B5: 21. Viedās administrācijas un reģionālās attīstības ministrija | E5: 20. Klimata un enerģētikas ministrija | H5: Atbalstīt
B6: 4.pielikums | E6: 4.pielikums
B7: 21.02.00 Vides aizsardzības projekti | E7: 21.01.00 Vides aizsardzības projekti
B8: Resursi izdevumu segšanai | C8: 4140645 | D8: 0 | E8: Resursi izdevumu segšanai | F8: 0 | G8: 2070323
B9: Dotācija no vispārējiem ieņēmumiem | C9: 4140645 | D9: 0 | E9: Transferti | F9: 0 | G9: 2070323
B10: Vispārējā kārtībā sadalāmā dotācija no vispārējiem ieņēmumiem | C10: 4140645 | D10: 0 | E10: Valsts budžeta transferti | F10: 0 | G10: 2070323
B11: Izdevumi – kopā | C11: 4140645 | D11: 0 | E11: Valsts pamatbudžeta savstarpējie transferti | F11: 0 | G11: 2070323
B12: Uzturēšanas izdevumi | C12: 4140645 | D12: 0 | E12: Valsts pamatbudžeta iestāžu saņemtie transferti no valsts pamatbudžeta | F12: 0 | G12: 2070323
B13: Subsīdijas, dotācijas, sociālie maksājumi un kompensācijas | C13: 3400645 | D13: -2070323 | E13: Valsts pamatbudžeta iestāžu saņemtie transferti no valsts pamatbudžeta dotācijas no vispārējiem ieņēmumiem | G13: 2070323
B14: Subsīdijas un dotācijas | C14: 3400645 | D14: -2070323 | E14: Izdevumi – kopā | F14: 0 | G14: 2070323
B15: Transferti viena budžeta veida ietvaros un uzturēšanas izdevumu transferti starp budžeta veidiem | C15: 740000 | D15: 2070323 | E15: Uzturēšanas izdevumi | F15: 0 | G15: 2070323
B16: Valsts budžeta transferti un uzturēšanas izdevumu transferti | C16: 0 | D16: 2070323 | E16: Subsīdijas, dotācijas, sociālie maksājumi un kompensācijas | F16: 0 | G16: 1870323
B17: Valsts budžeta transferti no valsts pamatbudžeta uz valsts pamatbudžetu | C17: 0 | D17: 2070323 | E17: Subsīdijas un dotācijas | F17: 0 | G17: 1870323
B18: Valsts budžeta transferti no valsts pamatbudžeta dotācijas no vispārējiem ieņēmumiem uz valsts pamatbudžetu | C18: 0 | D18: 2070323 | E18: Transferti viena budžeta veida ietvaros un uzturēšanas izdevumu transferti starp budžeta veidiem | F18: 0 | G18: 200000
B19: Pārējie valsts budžeta uzturēšanas izdevumu transferti citiem budžetiem | C19: 740000 | D19: 0 | E19: Pārējie valsts budžeta uzturēšanas izdevumu transferti citiem budžetiem | F19: 0 | G19: 200000
B20: Pārējie valsts budžeta uzturēšanas izdevumu transferti pašvaldībām | C20: 390000 | D20: 0 | E20: Pārējie valsts budžeta uzturēšanas izdevumu transferti valsts budžeta daļēji finansētām atvasinātām publiskām personām un budžeta nefinansētām iestādēm | F20: 0 | G20: 200000
B21: Pārējie valsts budžeta uzturēšanas izdevumu transferti valsts budžeta daļēji finansētām atvasinātām publiskām personām un budžeta nefinansētām iestādēm | C21: 350000 | D21: 0
B22: Lai nodrošinātu Ministru Kabineta 2024.gada 7.jūnija rīkojuma Nr. 446 "Par Vides aizsardzības un reģionālās attīstības ministrijas un Klimata un enerģētikas ministrijas reorganizāciju" izpildi, kur atbilstoši rīkojuma 2. un 4.punktam Klimata un enerģētikas ministrija (turpmāk – KEM) ar 2024. gada 1. jūliju pārņem no Viedās administrācijas un reģionālās attīstības ministrijas (turpmāk – VARAM) vides aizsardzības politikas jomu, un Latvijas vides aizsardzības fonda padomes (turpmāk - Fonda padome) 2024. gada 6.novembra lēmuma izpildi, ievērojot Fonda padomes 2024.gada 14. oktobra sēdē lemto, VARAM izsaka priekšlikumu pieņemt lēmumu par Fonda līdzekļu pārdalīšanu ar transfertu KEM 2026. gada budžetā, lai netiktu kavēta vides aizsardzības pasākumu īstenošana un projektu konkursu izsludināšana, kas ir jāveic un jāīsteno kopā 2 701 202 euro apmērā, t.sk.: no apakšprogrammas 21.02.00 "Vides aizsardzības projekti” - 2 070 323 euro apmērā; no apakšprogrammas 21.13.00 "Nozares vides projekti" - 630 879 euro apmērā.
A24: =A5+1 -> 46 | B24: 21. Viedās administrācijas un reģionālās attīstības ministrija | E24: 20. Klimata un enerģētikas ministrija | H24: Atbalstīt
B25: 4.pielikums | E25: 4.pielikums
B26: 21.13.00 Nozares vides projekti | E26: 21.02.00 Nozares vides projekti
B27: Resursi izdevumu segšanai | C27: 1261759 | D27: 0 | E27: Resursi izdevumu segšanai | F27: 0 | G27: 630879
B28: Dotācija no vispārējiem ieņēmumiem | C28: 1261759 | D28: 0 | E28: Transferti | F28: 0 | G28: 630879
B29: Vispārējā kārtībā sadalāmā dotācija no vispārējiem ieņēmumiem | C29: 1261759 | D29: 0 | E29: Valsts budžeta transferti | F29: 0 | G29: 630879
B30: Izdevumi – kopā | C30: 1261759 | D30: 0 | E30: Valsts pamatbudžeta savstarpējie transferti | F30: 0 | G30: 630879
B31: Uzturēšanas izdevumi | C31: 1216759 | D31: 0 | E31: Valsts pamatbudžeta iestāžu saņemtie transferti no valsts pamatbudžeta | F31: 0 | G31: 630879
B32: Kārtējie izdevumi | C32: 1216759 | D32: -630879 | E32: Valsts pamatbudžeta iestāžu saņemtie transferti no valsts pamatbudžeta dotācijas no vispārējiem ieņēmumiem | F32: 0 | G32: 630879
B33: Atlīdzība | C33: 154810 | D33: 0 | E33: Izdevumi – kopā | F33: 0 | G33: 630879
B34: Preces un pakalpojumi | C34: 1061949 | D34: -630879 | E34: Uzturēšanas izdevumi | F34: 0 | G34: 616254
B35: Transferti viena budžeta veida ietvaros un uzturēšanas izdevumu transferti starp budžeta veidiem | C35: 0 | D35: 630879 | E35: Kārtējie izdevumi | F35: 0 | G35: 616254
B36: Valsts budžeta transferti un uzturēšanas izdevumu transferti | C36: 0 | D36: 630879 | E36: Atlīdzība | F36: 0 | G36: 41563
B37: Valsts budžeta transferti no valsts pamatbudžeta uz valsts pamatbudžetu | C37: 0 | D37: 630879 | E37: Preces un pakalpojumi | F37: 0 | G37: 574691
B38: Valsts budžeta transferti no valsts pamatbudžeta dotācijas no vispārējiem ieņēmumiem uz valsts pamatbudžetu | D38: 630879 | E38: Kapitālie izdevumi | F38: 0 | G38: 14625
B39: Kapitālie izdevumi | C39: 45000 | D39: 0 | E39: Pamatkapitāla veidošana | F39: 0 | G39: 14625
B40: Pamatkapitāla veidošana | C40: 45000 | D40: 0
B41: Lai nodrošinātu Ministru Kabineta 2024.gada 7.jūnija rīkojuma Nr. 446 "Par Vides aizsardzības un reģionālās attīstības ministrijas un Klimata un enerģētikas ministrijas reorganizāciju" izpildi, kur atbilstoši rīkojuma 2. un 4.punktam Klimata un enerģētikas ministrija (turpmāk – KEM) ar 2024. gada 1. jūliju pārņem no Viedās administrācijas un reģionālās attīstības ministrijas (turpmāk – VARAM) vides aizsardzības politikas jomu, un Latvijas vides aizsardzības fonda padomes (turpmāk - Fonda padome) 2024. gada 6.novembra lēmuma izpildi, ievērojot Fonda padomes 2024.gada 14. oktobra sēdē lemto, VARAM izsaka priekšlikumu pieņemt lēmumu par Fonda līdzekļu pārdalīšanu ar transfertu KEM 2026. gada budžetā, lai netiktu kavēta vides aizsardzības pasākumu īstenošana un projektu konkursu izsludināšana, kas ir jāveic un jāīsteno kopā 2 701 202 euro apmērā, t.sk.: no apakšprogrammas 21.02.00 "Vides aizsardzības projekti” - 2 070 323 euro apmērā; no apakšprogrammas 21.13.00 "Nozares vides projekti" - 630 879 euro apmērā.
A43: =A24+1 -> 47 | B43: 21. Viedās administrācijas un reģionālās attīstības ministrija | E43: 21. Viedās administrācijas un reģionālās attīstības ministrija | H43: Atbalstīt
B44: 4.pielikums | E44: 4.pielikums
B45: 24.08.00 Nacionālo parku darbības nodrošināšana | E45: 30.00.00 Attīstības nacionālie atbalsta instrumenti
B46: Resursi izdevumu segšanai | C46: 6639540 | D46: -3666 | E46: Resursi izdevumu segšanai | F46: 2438716 | G46: 11689
B47: Ieņēmumi no maksas pakalpojumiem un citi pašu ieņēmumi – kopā | C47: 365476 | D47: 0 | E47: Dotācija no vispārējiem ieņēmumiem | F47: 2438716 | G47: 11689
B48: Dotācija no vispārējiem ieņēmumiem | C48: 6274064 | D48: -3666 | E48: Vispārējā kārtībā sadalāmā dotācija no vispārējiem ieņēmumiem | F48: 2438716 | G48: 11689
B49: Vispārējā kārtībā sadalāmā dotācija no vispārējiem ieņēmumiem | C49: 6274064 | D49: -3666 | E49: Izdevumi – kopā | F49: 2438716 | G49: 11689
B50: Izdevumi – kopā | C50: 6639540 | D50: -3666 | E50: Uzturēšanas izdevumi | F50: 2091575 | G50: 11689
B51: Uzturēšanas izdevumi | C51: 6408495 | D51: 0 | E51: Kārtējie izdevumi | F51: 973438 | G51: 0
B52: Kārtējie izdevumi | C52: 5788891 | D52: 0 | E52: Atlīdzība | F52: 167357 | G52: 0
B53: Atlīdzība | C53: 3358239 | D53: 0 | E53: Preces un pakalpojumi | F53: 806081 | G53: 0
B54: Preces un pakalpojumi | C54: 2430652 | D54: 0 | E54: Subsīdijas, dotācijas, sociālie maksājumi un kompensācijas | F54: 340652 | G54: 11689
B55: Subsīdijas, dotācijas, sociālie maksājumi un kompensācijas | C55: 619604 | D55: 0 | E55: Subsīdijas un dotācijas | F55: 340652 | G55: 11689
B56: Sociāla rakstura maksājumi un kompensācijas | C56: 619604 | D56: 0 | E56: Transferti viena budžeta veida ietvaros un uzturēšanas izdevumu transferti starp budžeta veidiem | F56: 777485 | G56: 0
B57: Kapitālie izdevumi | C57: 231045 | D57: -3666 | E57: Valsts budžeta transferti un uzturēšanas izdevumu transferti | F57: 1909 | G57: 0
B58: Pamatkapitāla veidošana | C58: 231045 | D58: -3666 | E58: Valsts budžeta uzturēšanas izdevumu transferti no valsts pamatbudžeta uz valsts speciālo budžetu | F58: 1909 | G58: 0
B59: 30.00.00 Attīstības nacionālie atbalsta instrumenti | E59: Pārējie valsts budžeta uzturēšanas izdevumu transferti citiem budžetiem | F59: 775576 | G59: 0
B60: Resursi izdevumu segšanai | C60: 2438716 | D60: -2073 | E60: Pārējie valsts budžeta uzturēšanas izdevumu transferti pašvaldībām | F60: 756907 | G60: 0
B61: Dotācija no vispārējiem ieņēmumiem | C61: 2438716 | D61: -2073 | E61: Pārējie valsts budžeta uzturēšanas izdevumu transferti valsts budžeta daļēji finansētām atvasinātām publiskām personām un budžeta nefinansētām iestādēm | F61: 18669 | G61: 0
B62: Vispārējā kārtībā sadalāmā dotācija no vispārējiem ieņēmumiem | C62: 2438716 | D62: -2073 | E62: Kapitālie izdevumi | F62: 347141 | G62: 0
B63: Izdevumi – kopā | C63: 2438716 | D63: -2073 | E63: Kapitālo izdevumu transferti | F63: 347141 | G63: 0
B64: Uzturēšanas izdevumi | C64: 2091575 | D64: -2073 | E64: Pārējie valsts budžeta kapitālo izdevumu transferti citiem budžetiem | F64: 347141 | G64: 0
B65: Kārtējie izdevumi | C65: 973438 | D65: 0 | E65: Pārējie valsts budžeta kapitālo izdevumu transferti pašvaldībām | F65: 347141 | G65: 0
B66: Atlīdzība | C66: 167357 | D66: 0
B67: Preces un pakalpojumi | C67: 806081 | D67: 0
B68: Subsīdijas, dotācijas, sociālie maksājumi un kompensācijas | C68: 340652 | D68: -2073
B69: Subsīdijas un dotācijas | C69: 340652 | D69: -2073
B70: Transferti viena budžeta veida ietvaros un uzturēšanas izdevumu transferti starp budžeta veidiem | C70: 777485 | D70: 0
B71: Valsts budžeta transferti un uzturēšanas izdevumu transferti | C71: 1909 | D71: 0
B72: Valsts budžeta uzturēšanas izdevumu transferti no valsts pamatbudžeta uz valsts speciālo budžetu | C72: 1909 | D72: 0
B73: Pārējie valsts budžeta uzturēšanas izdevumu transferti citiem budžetiem | C73: 775576 | D73: 0
B74: Pārējie valsts budžeta uzturēšanas izdevumu transferti pašvaldībām | C74: 756907 | D74: 0
B75: Pārējie valsts budžeta uzturēšanas izdevumu transferti valsts budžeta daļēji finansētām atvasinātām publiskām personām un budžeta nefinansētām iestādēm | C75: 18669 | D75: 0
B76: Kapitālie izdevumi | C76: 347141 | D76: 0
B77: Kapitālo izdevumu transferti | C77: 347141 | D77: 0
B78: Pārējie valsts budžeta kapitālo izdevumu transferti citiem budžetiem | C78: 347141 | D78: 0
B79: Pārējie valsts budžeta kapitālo izdevumu transferti pašvaldībām | C79: 347141
B80: 31.00.00 Atbalsts plānošanas reģioniem
B81: Resursi izdevumu segšanai | C81: 2090591 | D81: -3284
B82: Dotācija no vispārējiem ieņēmumiem | C82: 2090591 | D82: -3284
B83: Vispārējā kārtībā sadalāmā dotācija no vispārējiem ieņēmumiem | C83: 2090591 | D83: -3284
B84: Izdevumi – kopā | C84: 2090591 | D84: -3284
B85: Uzturēšanas izdevumi | C85: 2076296 | D85: -3284
B86: Transferti viena budžeta veida ietvaros un uzturēšanas izdevumu transferti starp budžeta veidiem | C86: 2076296 | D86: -3284
B87: Pārējie valsts budžeta uzturēšanas izdevumu transferti citiem budžetiem | C87: 2076296 | D87: -3284
B88: Pārējie valsts budžeta uzturēšanas izdevumu transferti valsts budžeta daļēji finansētām atvasinātām publiskām personām un budžeta nefinansētām iestādēm | C88: 2076296 | D88: -3284
B89: Kapitālie izdevumi | C89: 14295 | D89: 0
B90: Kapitālo izdevumu transferti | C90: 14295 | D90: 0
B91: Pārējie valsts budžeta kapitālo izdevumu transferti citiem budžetiem | C91: 14295 | D91: 0
B92: Pārējie valsts budžeta transferti kapitālajiem izdevumiem valsts budžeta daļēji finansētām atvasinātām publiskām personām un budžeta nefinansētām iestādēm | C92: 14295
B93: 32.00.00 Valsts digitālās attīstības politikas īstenošana
B94: Resursi izdevumu segšanai | C94: 9589829 | D94: -1200
B95: Transferti | C95: 60735 | D95: 0
B96: Valsts budžeta transferti | C96: 60735 | D96: 0
B97: Valsts pamatbudžeta savstarpējie transferti | C97: 60735 | D97: 0
B98: Valsts pamatbudžeta iestāžu saņemtie transferti no valsts pamatbudžeta | C98: 60735 | D98: 0
B99: Valsts pamatbudžeta iestāžu saņemtie transferti no valsts pamatbudžeta dotācijas no vispārējiem ieņēmumiem | C99: 60735 | D99: 0
B100: Dotācija no vispārējiem ieņēmumiem | C100: 9529094 | D100: -1200
B101: Vispārējā kārtībā sadalāmā dotācija no vispārējiem ieņēmumiem | C101: 9529094 | D101: -1200
B102: Izdevumi – kopā | C102: 9589829 | D102: -1200
B103: Uzturēšanas izdevumi | C103: 8858740 | D103: -1200
B104: Kārtējie izdevumi | C104: 8822440 | D104: -1200
...

Sheet KM
C1: Pieņemts pirmajā lasījumā | D1: Priekšlikums par izmaiņām | F1: Pieņemts pirmajā lasījumā | G1: Priekšlikums par izmaiņām | H1: Priekšlikums MK atzinumam
B3: 22. Kultūras ministrija
A6: =VARAM!A197+1 -> 49 | B6: Valsts budžeta ieņēmumi | E6: 22. Kultūras ministrija | H6: Atbalstīt
B7: 2.pielikums | E7: 4.pielikums
B8: I. Valsts pamatbudžeta ieņēmumi | E8: 21.00.00 "Kultūras mantojums"
B9: 2026.gads | E9: Resursi izdevumu segšanai | F9: 68807638 | G9: 1000000
B10: Ieņēmumi no dividendēm (ieņēmumi no valsts (pašvaldību) kapitāla izmantošanas) | C10: 341141400 | D10: 1000000 | E10: Dotācija no vispārējiem ieņēmumiem | F10: 61777852 | G10: 1000000
E11: Vispārējā kārtībā sadalāmā dotācija no vispārējiem ieņēmumiem | F11: 61777852 | G11: 1000000
E12: Izdevumi – kopā | F12: 68807638 | G12: 1000000
E13: Uzturēšanas izdevumi | F13: 65410726 | G13: 1000000
E14: Subsīdijas, dotācijas, sociālie maksājumi un kompensācijas | F14: 4528217 | G14: 1000000
E15: Subsīdijas un dotācijas | F15: 4524317 | G15: 1000000
B16: Saskaņā ar Zemkopības ministrijas 06.11.2025. vēstuli Nr.3.3-3e/1909/2025 "Par AS "Latvijas valsts meži" dividendēm" ir iespējams palielināt ieņēmumu prognozi no AS "Latvijas valsts meži" maksājumam par valsts kapitāla izmantošanu 2026.gadā un attiecīgi palielināt izdevumus Kultūras ministrijas budžeta apakšprogrammā 21.00.00 “Kultūras mantojums”, lai 2026.gadā nodrošinātu finansējumu Sakrālā mantojuma programmas pilnvērīgu īstenošanu.
A18: =A6+1 -> 50 | B18: Valsts budžeta ieņēmumi | E18: 22. Kultūras ministrija | H18: Atbalstīt
B19: 2.pielikums | E19: 4.pielikums
B20: I. Valsts pamatbudžeta ieņēmumi | E20: 25.02.00 "Valsts kultūrkapitāla fonda programmu un projektu konkursi"
B21: 2026.gads | E21: Resursi izdevumu segšanai | F21: 16992668 | G21: 402908
B22: Ieņēmumi no dividendēm (ieņēmumi no valsts (pašvaldību) kapitāla izmantošanas) | C22: 341141400 | D22: 402908 | E22: Dotācija no vispārējiem ieņēmumiem | F22: 16992668 | G22: 402908
E23: Vispārējā kārtībā sadalāmā dotācija no vispārējiem ieņēmumiem | F23: 16992668 | G23: 402908
E24: Izdevumi – kopā | F24: 16992668 | G24: 402908
E25: Uzturēšanas izdevumi | F25: 16992668 | G25: 402908
E26: Subsīdijas, dotācijas, sociālie maksājumi un kompensācijas | F26: 15542668 | G26: 402908
E27: Subsīdijas un dotācijas | F27: 15542668 | G27: 402908
B28: Saskaņā ar Zemkopības ministrijas 06.11.2025. vēstuli Nr.3.3-3e/1909/2025 "Par AS "Latvijas valsts meži" dividendēm" ir iespējams palielināt ieņēmumu prognozi no AS "Latvijas valsts meži" maksājumam par valsts kapitāla izmantošanu 2026.gadā un attiecīgi palielināt izdevumus Kultūras ministrijas budžeta apakšprogrammā 25.02.00 "Valsts kultūrkapitāla fonda programmu un projektu konkursi, lai nodrošinātu finansējumu Valsts kultūrkapitāla fonda programmu un projektu konkursu īstenošanai.
A30: =A18+1 -> 51 | B30: 74. Gadskārtējā valsts budžeta izpildes procesā pārdalāmais finansējums | E30: 22. Kultūras ministrija | H30: Atbalstīt
B31: 4.pielikums | E31: 4.pielikums
B32: 01.00.00 "Apropriācijas rezerve" | E32: 25.02.00 "Valsts kultūrkapitāla fonda programmu un projektu konkursi"
B33: Resursi izdevumu segšanai | C33: 4901865 | D33: =D34 -> -151282 | E33: Resursi izdevumu segšanai | F33: 16992668 | G33: 151282
B34: Dotācija no vispārējiem ieņēmumiem | C34: 4901865 | D34: =D35 -> -151282 | E34: Dotācija no vispārējiem ieņēmumiem | F34: 16992668 | G34: 151282
B35: Vispārējā kārtībā sadalāmā dotācija no vispārējiem ieņēmumiem | C35: 4901865 | D35: =D36 -> -151282 | E35: Vispārējā kārtībā sadalāmā dotācija no vispārējiem ieņēmumiem | F35: 16992668 | G35: 151282
B36: Izdevumi – kopā | C36: 4901865 | D36: =D37 -> -151282 | E36: Izdevumi – kopā | F36: 16992668 | G36: 151282
B37: Uzturēšanas izdevumi | C37: 4901865 | D37: =D38 -> -151282 | E37: Uzturēšanas izdevumi | F37: 16992668 | G37: 151282
B38: Subsīdijas, dotācijas, sociālie maksājumi un kompensācijas | C38: 4901865 | D38: =D39 -> -151282 | E38: Subsīdijas, dotācijas, sociālie maksājumi un kompensācijas | F38: 15542668 | G38: 151282
B39: Subsīdijas un dotācijas | C39: 4901865 | D39: =-151282 -> -151282 | E39: Subsīdijas un dotācijas | F39: 15542668 | G39: 151282
B40: Finansējuma pārdale uz Kultūras ministrijas budžeta apakšprogrammu 25.02.00 "Valsts kultūrkapitāla fonda programmu un projektu konkursi, lai nodrošinātu finansējumu Valsts kultūrkapitāla fonda programmu un projektu konkursu īstenošanai.
A42: =A30+1 -> 52 | B42: 46. Sabiedriskie elektroniskie plašsaziņas līdzekļi | E42: 74. Gadskārtējā valsts budžeta izpildes procesā pārdalāmais finansējums | H42: Atbalstīt
B43: 4.pielikums | E43: 4.pielikums
B44: 04.00.00 "Sabiedriskā pasūtījuma īstenošana Latvijas Sabiedriskajā medijā" | E44: 01.00.00 "Apropriācijas rezerve"
B45: Resursi izdevumu segšanai | C45: 61405741 | D45: -450000 | E45: Resursi izdevumu segšanai | F45: 4901865 | G45: 450000
B46: Dotācija no vispārējiem ieņēmumiem | C46: 61405741 | D46: -450000 | E46: Dotācija no vispārējiem ieņēmumiem | F46: 4901865 | G46: 450000
B47: Vispārējā kārtībā sadalāmā dotācija no vispārējiem ieņēmumiem | C47: 61405741 | D47: -450000 | E47: Vispārējā kārtībā sadalāmā dotācija no vispārējiem ieņēmumiem | F47: 4901865 | G47: 450000
B48: Izdevumi – kopā | C48: 61405741 | D48: -450000 | E48: Izdevumi – kopā | F48: 4901865 | G48: 450000
B49: Uzturēšanas izdevumi | C49: 61405741 | D49: -450000 | E49: Uzturēšanas izdevumi | F49: 4901865 | G49: 450000
B50: Subsīdijas, dotācijas, sociālie maksājumi un kompensācijas | C50: 61405741 | D50: -450000 | E50: Subsīdijas, dotācijas, sociālie maksājumi un kompensācijas | F50: 4901865 | G50: 450000
B51: Subsīdijas un dotācijas | C51: 61405741 | D51: -450000 | E51: Subsīdijas un dotācijas | F51: 4901865 | G51: 450000
B52: 46. Sabiedriskie elektroniskie plašsaziņas līdzekļi | E52: 74. Gadskārtējā valsts budžeta izpildes procesā pārdalāmais finansējums
B53: 3.pielikums | E53: 3.pielikums
B54: I. Valsts pamatfunkciju īstenošana | E54: I. Valsts pamatfunkciju īstenošana
B55: 2027.gads | E55: 2027.gads
B56: Resursi izdevumu segšanai | C56: 62154236 | D56: -450000 | E56: Resursi izdevumu segšanai | F56: 841606476 | G56: 450000
B57: Dotācija no vispārējiem ieņēmumiem | C57: 62154236 | D57: -450000 | E57: Dotācija no vispārējiem ieņēmumiem | F57: 841606476 | G57: 450000
B58: Vispārējā kārtībā sadalāmā dotācija no vispārējiem ieņēmumiem | C58: 62154236 | D58: -450000 | E58: Vispārējā kārtībā sadalāmā dotācija no vispārējiem ieņēmumiem | F58: 841606476 | G58: 450000
B59: Izdevumi – kopā | C59: 62154236 | D59: -450000 | E59: Izdevumi – kopā | F59: 841606476 | G59: 450000
B60: Uzturēšanas izdevumi | C60: 62150636 | D60: -450000 | E60: Uzturēšanas izdevumi | F60: 841606476 | G60: 450000
B61: Subsīdijas, dotācijas, sociālie maksājumi un kompensācijas | C61: 61405741 | D61: -450000 | E61: Subsīdijas, dotācijas, sociālie maksājumi un kompensācijas | F61: 841606476 | G61: 450000
B62: Subsīdijas un dotācijas | C62: 61405741 | D62: -450000 | E62: Subsīdijas un dotācijas | F62: 841606476 | G62: 450000
B63: 2028.gads | E63: 2028.gads
B64: Resursi izdevumu segšanai | C64: 62154236 | D64: -450000 | E64: Resursi izdevumu segšanai | F64: 890165818 | G64: 450000
B65: Dotācija no vispārējiem ieņēmumiem | C65: 62154236 | D65: -450000 | E65: Dotācija no vispārējiem ieņēmumiem | F65: 890165818 | G65: 450000
B66: Vispārējā kārtībā sadalāmā dotācija no vispārējiem ieņēmumiem | C66: 62154236 | D66: -450000 | E66: Vispārējā kārtībā sadalāmā dotācija no vispārējiem ieņēmumiem | F66: 890165818 | G66: 450000
B67: Izdevumi – kopā | C67: 62154236 | D67: -450000 | E67: Izdevumi – kopā | F67: 890165818 | G67: 450000
B68: Uzturēšanas izdevumi | C68: 62150636 | D68: -450000 | E68: Uzturēšanas izdevumi | F68: 890165818 | G68: 450000
B69: Subsīdijas, dotācijas, sociālie maksājumi un kompensācijas | C69: 61405741 | D69: -450000 | E69: Subsīdijas, dotācijas, sociālie maksājumi un kompensācijas | F69: 890165818 | G69: 450000
B70: Subsīdijas un dotācijas | C70: 61405741 | D70: -450000 | E70: Subsīdijas un dotācijas | F70: 890165818 | G70: 450000
B71: Finansējuma pārdale no budžeta resora "46. Sabiedriskie elektroniskie plašsaziņas līdzekļi" uz budžeta resoru "74. Gadskārtējā valsts budžeta izpildes procesā pārdalāmais finansējums" 2026.gadā, 2027.gadā, 2028.gadā un turpmāk ik gadus 450 000 euro apmērā, lai nodrošinātu finansējumu projektu uzturēšanas apropriācijas rezervei un neizlietoto asignējumu rezervei, ko ministrijas un citas centrālās valsts iestādes pieprasa un izmanto Ministru kabineta noteiktajā kārtībā.

Sheet VM
C1: Pieņemts pirmajā lasījumā | D1: Priekšlikums par izmaiņām | F1: Pieņemts pirmajā lasījumā | G1: Priekšlikums par izmaiņām | H1: Priekšlikums MK atzinumam
B3: 29. Veselības ministrija
A5: =+KM!A42+1 -> 53 | B5: 10.Aizsardzības ministrija | E5: 29.Veselības ministrija | H5: Atbalstīt
B6: 4.pielikums | E6: 4.pielikums
B7: 22.12.00 "Nacionālo bruņoto spēku uzturēšana" | E7: 33.04.00 "Centralizēta medikamentu un materiālu iegāde"
B8: Resursi izdevumu segšanai | C8: 865631661 | E8: Resursi izdevumu segšanai | F8: =F15 -> 24037550 | G8: =G13 -> 3000000
B9: Ieņēmumi no maksas pakalpojumiem un citi pašu ieņēmumi – kopā | C9: 16660444 | E9: Transferti | F9: 0 | G9: =G10 -> 3000000
B10: Transferti | C10: 734400 | E10: Valsts budžeta transferti | F10: 0 | G10: =G11 -> 3000000
B11: Valsts budžeta transferti | C11: 734400 | E11: Valsts pamatbudžeta savstarpējie transferti | F11: 0 | G11: =G12 -> 3000000
B12: Valsts pamatbudžeta savstarpējie transferti | C12: 734400 | E12: Valsts pamatbudžeta iestāžu saņemtie transferti no valsts pamatbudžeta | F12: 0 | G12: =G13 -> 3000000
B13: Valsts pamatbudžeta iestāžu saņemtie transferti no valsts pamatbudžeta | C13: 734400 | E13: Valsts pamatbudžeta iestāžu saņemtie transferti no valsts pamatbudžeta dotācijas no vispārējiem ieņēmumiem | F13: 0 | G13: =G18 -> 3000000
B14: Valsts pamatbudžeta iestāžu saņemtie transferti no valsts pamatbudžeta dotācijas no vispārējiem ieņēmumiem | C14: 734400 | E14: Dotācija no vispārējiem ieņēmumiem | F14: =F15 -> 24037550 | G14: 0
B15: Dotācija no vispārējiem ieņēmumiem | C15: 848236817 | E15: Vispārējā kārtībā sadalāmā dotācija no vispārējiem ieņēmumiem | F15: 24037550 | G15: 0
B16: Vispārējā kārtībā sadalāmā dotācija no vispārējiem ieņēmumiem | C16: 848236817 | E16: Izdevumi – kopā | F16: =F19 -> 24037550 | G16: =G19 -> 3000000
B17: Izdevumi – kopā | C17: 852490346 | D17: 0 | E17: Uzturēšanas izdevumi | F17: =F18 -> 24037550 | G17: =G18 -> 3000000
B18: Uzturēšanas izdevumi | C18: 442153383 | D18: 0 | E18: Subsīdijas, dotācijas, sociālie maksājumi un kompensācijas | F18: =F19 -> 24037550 | G18: =G19 -> 3000000
B19: Kārtējie izdevumi | C19: 432946139 | D19: -3000000 | E19: Subsīdijas un dotācijas | F19: 24037550 | G19: 3000000
B20: Preces un pakalpojumi | C20: 432946139 | D20: -3000000
B21: Subsīdijas, dotācijas, sociālie maksājumi un kompensācijas | C21: 2580554
B22: Subsīdijas un dotācijas | C22: 2222554
B23: Sociāla rakstura maksājumi un kompensācijas | C23: 358000
B24: Transferti viena budžeta veida ietvaros un uzturēšanas izdevumu transferti starp budžeta veidiem | C24: 6626690 | D24: 3000000
B25: Valsts budžeta transferti un uzturēšanas izdevumu transferti | C25: 6195689 | D25: 3000000
B26: Valsts budžeta uzturēšanas izdevumu transferti no valsts pamatbudžeta uz valsts speciālo budžetu | C26: 523603
B27: Valsts budžeta transferti no valsts pamatbudžeta uz valsts pamatbudžetu | C27: 5672086 | D27: 3000000
B28: Valsts budžeta transferti no valsts pamatbudžeta dotācijas no vispārējiem ieņēmumiem uz valsts pamatbudžetu | C28: 5672086 | D28: 3000000
B29: Pārējie valsts budžeta uzturēšanas izdevumu transferti citiem budžetiem | C29: 431001
B30: Pārējie valsts budžeta uzturēšanas izdevumu transferti valsts budžeta daļēji finansētām atvasinātām publiskām personām un budžeta nefinansētām iestādēm | C30: 431001
B31: Kapitālie izdevumi | C31: 410336963
B32: Pamatkapitāla veidošana | C32: 410336963
B33: Finansiālā bilance | C33: 13141315
B34: Finansēšana | C34: -13141315
B35: Akcijas un cita līdzdalība pašu kapitālā | C35: -13141315
B36: 10.Aizsardzības ministrija | E36: 29.Veselības ministrija
B37: 3.pielikums | E37: 3.pielikums
B38: I. Valsts pamatfunkciju īstenošana | E38: I. Valsts pamatfunkciju īstenošana
B39: 2027.gads | E39: 2027.gads
B40: Resursi izdevumu segšanai | C40: 1627570946 | E40: Resursi izdevumu segšanai | F40: =F41+F47 -> 1940090704 | G40: =G41+G47+G42 -> 3000000
B41: Ieņēmumi no maksas pakalpojumiem un citi pašu ieņēmumi – kopā | C41: 23327637 | E41: Ieņēmumi no maksas pakalpojumiem un citi pašu ieņēmumi – kopā | F41: 23921900 | G41: 0
B42: Transferti | C42: 734400 | E42: Transferti | F42: 0 | G42: =G43 -> 3000000
B43: Valsts budžeta transferti | C43: 734400 | E43: Valsts budžeta transferti | F43: 0 | G43: =G44 -> 3000000
B44: Valsts pamatbudžeta savstarpējie transferti | C44: 734400 | E44: Valsts pamatbudžeta savstarpējie transferti | F44: 0 | G44: =G45 -> 3000000
B45: Valsts pamatbudžeta iestāžu saņemtie transferti no valsts pamatbudžeta | C45: 734400 | E45: Valsts pamatbudžeta iestāžu saņemtie transferti no valsts pamatbudžeta | F45: 0 | G45: =G46 -> 3000000
B46: Valsts pamatbudžeta iestāžu saņemtie transferti no valsts pamatbudžeta dotācijas no vispārējiem ieņēmumiem | C46: 734400 | E46: Valsts pamatbudžeta iestāžu saņemtie transferti no valsts pamatbudžeta dotācijas no vispārējiem ieņēmumiem | F46: 0 | G46: =G49 -> 3000000
B47: Dotācija no vispārējiem ieņēmumiem | C47: 1603508909 | E47: Dotācija no vispārējiem ieņēmumiem | F47: =F48 -> 1916168804 | G47: =G48 -> 0
B48: Vispārējā kārtībā sadalāmā dotācija no vispārējiem ieņēmumiem | C48: 1603508909 | E48: Vispārējā kārtībā sadalāmā dotācija no vispārējiem ieņēmumiem | F48: 1916168804
B49: Izdevumi – kopā | C49: 1627570946 | D49: 0 | E49: Izdevumi – kopā | F49: =F50+F65 -> 1940540704 | G49: =G50+G65 -> 3000000
B50: Uzturēšanas izdevumi | C50: 1136342155 | D50: 0 | E50: Uzturēšanas izdevumi | F50: =F51+F54+F57+F59 -> 1937189402 | G50: =G51+G54+G57+G59 -> 3000000
B51: Kārtējie izdevumi | C51: 1069104567 | D51: =D53 -> -3000000 | E51: Kārtējie izdevumi | F51: =F52+F53 -> 161756270 | G51: =G52+G53 -> 0
B52: Atlīdzība | C52: 453165928 | E52: Atlīdzība | F52: 138684920
B53: Preces un pakalpojumi | C53: 615938639 | D53: -3000000 | E53: Preces un pakalpojumi | F53: 23071350
B54: Subsīdijas, dotācijas, sociālie maksājumi un kompensācijas | C54: 28173820 | E54: Subsīdijas, dotācijas, sociālie maksājumi un kompensācijas | F54: =F55+F56 -> 1702613027 | G54: =G55 -> 3000000
B55: Subsīdijas un dotācijas | C55: 4038003 | E55: Subsīdijas un dotācijas | F55: 1700741641 | G55: 3000000
B56: Sociāla rakstura maksājumi un kompensācijas | C56: 24135817 | E56: Sociāla rakstura maksājumi un kompensācijas | F56: 1871386
B57: Kārtējie maksājumi Eiropas Savienības budžetā un starptautiskā sadarbība | C57: 18245816 | E57: Kārtējie maksājumi Eiropas Savienības budžetā un starptautiskā sadarbība | F57: =F58 -> 417391 | G57: =G58 -> 0
B58: Starptautiskā sadarbība | C58: 18245816 | E58: Starptautiskā sadarbība | F58: 417391
B59: Transferti viena budžeta veida ietvaros un uzturēšanas izdevumu transferti starp budžeta veidiem | C59: 20817952 | D59: 3000000 | E59: Transferti viena budžeta veida ietvaros un uzturēšanas izdevumu transferti starp budžeta veidiem | F59: =F60+F62 -> 72402714 | G59: =G60+G62 -> 0
B60: Valsts budžeta transferti un uzturēšanas izdevumu transferti | C60: 13514349 | D60: 3000000 | E60: Valsts budžeta transferti un uzturēšanas izdevumu transferti | F60: =F61 -> 2408 | G60: =G61 -> 0
B61: Valsts budžeta uzturēšanas izdevumu transferti no valsts pamatbudžeta uz valsts speciālo budžetu | C61: 537427 | E61: Valsts budžeta uzturēšanas izdevumu transferti no valsts pamatbudžeta uz valsts speciālo budžetu | F61: 2408
B62: Valsts budžeta transferti no valsts pamatbudžeta uz valsts pamatbudžetu | C62: 12976922 | D62: 3000000 | E62: Pārējie valsts budžeta uzturēšanas izdevumu transferti citiem budžetiem | F62: =F63+F64 -> 72400306 | G62: =G64 -> 0
B63: Valsts budžeta transferti no valsts pamatbudžeta dotācijas no vispārējiem ieņēmumiem uz valsts pamatbudžetu | C63: 12976922 | D63: 3000000 | E63: Pārējie valsts budžeta uzturēšanas izdevumu transferti pašvaldībām | F63: 2853988
B64: Pārējie valsts budžeta uzturēšanas izdevumu transferti citiem budžetiem | C64: 7303603 | E64: Pārējie valsts budžeta uzturēšanas izdevumu transferti valsts budžeta daļēji finansētām atvasinātām publiskām personām un budžeta nefinansētām iestādēm | F64: 69546318
B65: Pārējie valsts budžeta uzturēšanas izdevumu transferti pašvaldībām | C65: 4058 | E65: Kapitālie izdevumi | F65: =F66 -> 3351302 | G65: =G66 -> 0
B66: Pārējie valsts budžeta uzturēšanas izdevumu transferti valsts budžeta daļēji finansētām atvasinātām publiskām personām un budžeta nefinansētām iestādēm | C66: 7299545 | E66: Pamatkapitāla veidošana | F66: 3351302
B67: Kapitālie izdevumi | C67: 491228791 | E67: Finansiālā bilance | F67: =F40-F49 -> -450000 | G67: =G40-G49 -> 0
B68: Pamatkapitāla veidošana | C68: 491096791 | E68: Finansēšana | F68: =F69 -> 450000 | G68: =G69 -> 0
B69: Kapitālo izdevumu transferti | C69: 132000 | E69: Naudas līdzekļi | F69: =F70 -> 450000 | G69: =G70 -> 0
B70: Pārējie valsts budžeta kapitālo izdevumu transferti citiem budžetiem | C70: 132000 | E70: Maksas pakalpojumu un citu pašu ieņēmumu naudas līdzekļu atlikumu izmaiņas palielinājums (-) vai samazinājums (+) | F70: 450000
B71: Pārējie valsts budžeta transferti kapitālajiem izdevumiem valsts budžeta daļēji finansētām atvasinātām publiskām personām un budžeta nefinansētām iestādēm | C71: 132000
B72: 2028.gads | E72: 2028.gads
B73: Resursi izdevumu segšanai | C73: 1651851798 | E73: Resursi izdevumu segšanai | F73: =F74+F80 -> 1940158888 | G73: =G74+G80+G75 -> 3000000
B74: Ieņēmumi no maksas pakalpojumiem un citi pašu ieņēmumi – kopā | C74: 23327637 | E74: Ieņēmumi no maksas pakalpojumiem un citi pašu ieņēmumi – kopā | F74: 23921900 | G74: 0
B75: Transferti | C75: 734400 | E75: Transferti | F75: 0 | G75: =G76 -> 3000000
B76: Valsts budžeta transferti | C76: 734400 | E76: Valsts budžeta transferti | F76: 0 | G76: =G77 -> 3000000
B77: Valsts pamatbudžeta savstarpējie transferti | C77: 734400 | E77: Valsts pamatbudžeta savstarpējie transferti | F77: 0 | G77: =G78 -> 3000000
B78: Valsts pamatbudžeta iestāžu saņemtie transferti no valsts pamatbudžeta | C78: 734400 | E78: Valsts pamatbudžeta iestāžu saņemtie transferti no valsts pamatbudžeta | F78: 0 | G78: =G79 -> 3000000
B79: Valsts pamatbudžeta iestāžu saņemtie transferti no valsts pamatbudžeta dotācijas no vispārējiem ieņēmumiem | C79: 734400 | E79: Valsts pamatbudžeta iestāžu saņemtie transferti no valsts pamatbudžeta dotācijas no vispārējiem ieņēmumiem | F79: 0 | G79: =G82 -> 3000000
B80: Dotācija no vispārējiem ieņēmumiem | C80: 1627789761 | E80: Dotācija no vispārējiem ieņēmumiem | F80: =F81 -> 1916236988 | G80: =G81 -> 0
B81: Vispārējā kārtībā sadalāmā dotācija no vispārējiem ieņēmumiem | C81: 1627789761 | E81: Vispārējā kārtībā sadalāmā dotācija no vispārējiem ieņēmumiem | F81: 1916236988
B82: Izdevumi – kopā | C82: 1651851798 | D82: 0 | E82: Izdevumi – kopā | F82: =F83+F98 -> 1940608888 | G82: =G83+G98 -> 3000000
B83: Uzturēšanas izdevumi | C83: 1173658010 | D83: 0 | E83: Uzturēšanas izdevumi | F83: =F84+F87+F90+F92 -> 1937257586 | G83: =G84+G87+G90+G92 -> 3000000
B84: Kārtējie izdevumi | C84: 1107236401 | D84: =D86 -> -3000000 | E84: Kārtējie izdevumi | F84: =F85+F86 -> 161824454 | G84: =G85+G86 -> 0
B85: Atlīdzība | C85: 501358572 | E85: Atlīdzība | F85: 138759279
B86: Preces un pakalpojumi | C86: 605877829 | D86: -3000000 | E86: Preces un pakalpojumi | F86: 23065175
B87: Subsīdijas, dotācijas, sociālie maksājumi un kompensācijas | C87: 28696684 | E87: Subsīdijas, dotācijas, sociālie maksājumi un kompensācijas | F87: =F88+F89 -> 1702613027 | G87: =G88 -> 3000000
B88: Subsīdijas un dotācijas | C88: 4298761 | E88: Subsīdijas un dotācijas | F88: 1700741641 | G88: 3000000
B89: Sociāla rakstura maksājumi un kompensācijas | C89: 24397923 | E89: Sociāla rakstura maksājumi un kompensācijas | F89: 1871386
B90: Kārtējie maksājumi Eiropas Savienības budžetā un starptautiskā sadarbība | C90: 18245816 | E90: Kārtējie maksājumi Eiropas Savienības budžetā un starptautiskā sadarbība | F90: =F91 -> 417391 | G90: =G91 -> 0
B91: Starptautiskā sadarbība | C91: 18245816 | E91: Starptautiskā sadarbība | F91: 417391
B92: Transferti viena budžeta veida ietvaros un uzturēšanas izdevumu transferti starp budžeta veidiem | C92: 19479109 | D92: 3000000 | E92: Transferti viena budžeta veida ietvaros un uzturēšanas izdevumu transferti starp budžeta veidiem | F92: =F93+F95 -> 72402714 | G92: =G93+G95 -> 0
B93: Valsts budžeta transferti un uzturēšanas izdevumu transferti | C93: 12175506 | D93: 3000000 | E93: Valsts budžeta transferti un uzturēšanas izdevumu transferti | F93: =F94 -> 2408 | G93: =G94 -> 0
B94: Valsts budžeta uzturēšanas izdevumu transferti no valsts pamatbudžeta uz valsts speciālo budžetu | C94: 537427 | E94: Valsts budžeta uzturēšanas izdevumu transferti no valsts pamatbudžeta uz valsts speciālo budžetu | F94: 2408
B95: Valsts budžeta transferti no valsts pamatbudžeta uz valsts pamatbudžetu | C95: 11638079 | D95: 3000000 | E95: Pārējie valsts budžeta uzturēšanas izdevumu transferti citiem budžetiem | F95: =F96+F97 -> 72400306 | G95: =G97 -> 0
B96: Valsts budžeta transferti no valsts pamatbudžeta dotācijas no vispārējiem ieņēmumiem uz valsts pamatbudžetu | C96: 11638079 | D96: 3000000 | E96: Pārējie valsts budžeta uzturēšanas izdevumu transferti pašvaldībām | F96: 2853988
B97: Pārējie valsts budžeta uzturēšanas izdevumu transferti citiem budžetiem | C97: 7303603 | E97: Pārējie valsts budžeta uzturēšanas izdevumu transferti valsts budžeta daļēji finansētām atvasinātām publiskām personām un budžeta nefinansētām iestādēm | F97: 69546318
B98: Pārējie valsts budžeta uzturēšanas izdevumu transferti pašvaldībām | C98: 4058 | E98: Kapitālie izdevumi | F98: =F99 -> 3351302 | G98: =G99 -> 0
B99: Pārējie valsts budžeta uzturēšanas izdevumu transferti valsts budžeta daļēji finansētām atvasinātām publiskām personām un budžeta nefinansētām iestādēm | C99: 7299545 | E99: Pamatkapitāla veidošana | F99: 3351302
B100: Kapitālie izdevumi | C100: 478193788 | E100: Finansiālā bilance | F100: =F73-F82 -> -450000 | G100: =G73-G82 -> 0
B101: Pamatkapitāla veidošana | C101: 478061788 | E101: Finansēšana | F101: =F103 -> 450000 | G101: =G103 -> 0
B102: Kapitālo izdevumu transferti | C102: 132000 | E102: Naudas līdzekļi | F102: =F103 -> 450000 | G102: =G103 -> 0
...

Sheet ST
C1: Pieņemts pirmajā lasījumā | D1: Priekšlikums par izmaiņām | F1: Pieņemts pirmajā lasījumā | G1: Priekšlikums par izmaiņām | H1: Priekšlikums MK atzinumam
B3: 30. Satversmes tiesa
A5: =VM!A194+1 -> 57 | B5: 30.Satversmes tiesa | E5: 19. Tieslietu ministrija | H5: Atbalstīt
B6: 4.pielikums | E6: 4.pielikums
B7: 01.00.00 Tiesa | E7: 03.01.00 Tiesu administrēšana
B8: Resursi izdevumu segšanai | C8: 4 143 891 | D8: -90524 | E8: Resursi izdevumu segšanai | F8: 7 042 344 | G8: 45974
B9: Dotācija no vispārējiem ieņēmumiem | C9: 4 143 891 | D9: -90524 | E9: Dotācija no vispārējiem ieņēmumiem | F9: 4 369 104 | G9: 45974
B10: Vispārējā kārtībā sadalāmā dotācija no vispārējiem ieņēmumiem | C10: 4 143 891 | D10: -90524 | E10: Vispārējā kārtībā sadalāmā dotācija no vispārējiem ieņēmumiem | F10: 4 369 104 | G10: 45974
B11: Izdevumi – kopā | C11: 4 143 891 | D11: -90524 | E11: Izdevumi – kopā | F11: 7 100 596 | G11: 45974
B12: Uzturēšanas izdevumi | C12: 4 133 565 | D12: -90524 | E12: Uzturēšanas izdevumi | F12: 7 066 639 | G12: 45974
B13: Kārtējie izdevumi | C13: 4 099 263 | D13: -90524 | E13: Kārtējie izdevumi | F13: 7 065 639 | G13: 45974
B14: Preces un pakalpojumi | C14: 875 643 | D14: -90524 | E14: Atlīdzība | F14: 3 755 577 | G14: 40790
E15: Preces un pakalpojumi | F15: 3 310 062 | G15: 5184
E16: 03.03.00 Juridiskās palīdzības nodrošināšana
E17: 4.pielikums
E18: Resursi izdevumu segšanai | F18: 4 891 533 | G18: 44550
E19: Dotācija no vispārējiem ieņēmumiem | F19: 4 891 033 | G19: 44550
E20: Vispārējā kārtībā sadalāmā dotācija no vispārējiem ieņēmumiem | F20: 4 891 033 | G20: 44550
E21: Izdevumi – kopā | F21: 4 891 533 | G21: 44550
E22: Uzturēšanas izdevumi | F22: 4 891 533 | G22: 44550
E23: Kārtējie izdevumi | F23: 1 904 423 | G23: 44550
E24: Preces un pakalpojumi | F24: 1 904 423 | G24: 44550
B25: 30.Satversmes tiesa | E25: 19. Tieslietu ministrija
B26: 3. pielikums | E26: 3. pielikums
B27: I. Valsts pamatfunkciju īstenošana | E27: I. Valsts pamatfunkciju īstenošana
B28: 2027.gadā | E28: 2027.gadā
B29: Resursi izdevumu segšanai | C29: 3970280 | D29: -35000 | E29: Resursi izdevumu segšanai | F29: 340667955 | G29: 35000
B30: Dotācija no vispārējiem ieņēmumiem | C30: 3970280 | D30: -35000 | E30: Dotācija no vispārējiem ieņēmumiem | F30: 305527468 | G30: 35000
B31: Vispārējā kārtībā sadalāmā dotācija no vispārējiem ieņēmumiem | C31: 3970280 | D31: -35000 | E31: Vispārējā kārtībā sadalāmā dotācija no vispārējiem ieņēmumiem | F31: 305527468 | G31: 35000
B32: Izdevumi – kopā | C32: 3970280 | D32: -35000 | E32: Izdevumi – kopā | F32: 345935458 | G32: 35000
B33: Uzturēšanas izdevumi | C33: 3959954 | D33: -35000 | E33: Uzturēšanas izdevumi | F33: 341300842 | G33: 35000
B34: Kārtējie izdevumi | C34: 3925652 | D34: -35000 | E34: Kārtējie izdevumi | F34: 277499425 | G34: 35000
B35: Preces un pakalpojumi | C35: 793403 | D35: -35000 | E35: Preces un pakalpojumi | F35: 84585986 | G35: 35000
B36: 2028.gadā | E36: 2028.gadā
B37: Resursi izdevumu segšanai | C37: 3970323 | D37: -35000 | E37: Resursi izdevumu segšanai | F37: 338751244 | G37: 35000
B38: Dotācija no vispārējiem ieņēmumiem | C38: 3970323 | D38: -35000 | E38: Dotācija no vispārējiem ieņēmumiem | F38: 303659247 | G38: 35000
B39: Vispārējā kārtībā sadalāmā dotācija no vispārējiem ieņēmumiem | C39: 3970323 | D39: -35000 | E39: Vispārējā kārtībā sadalāmā dotācija no vispārējiem ieņēmumiem | F39: 303659247 | G39: 35000
B40: Izdevumi – kopā | C40: 3970323 | D40: -35000 | E40: Izdevumi – kopā | F40: 343564004 | G40: 35000
B41: Uzturēšanas izdevumi | C41: 3959997 | D41: -35000 | E41: Uzturēšanas izdevumi | F41: 340264085 | G41: 35000
B42: Kārtējie izdevumi | C42: 3925695 | D42: -35000 | E42: Kārtējie izdevumi | F42: 276371974 | G42: 35000
B43: Preces un pakalpojumi | C43: 793446 | D43: -35000 | E43: Preces un pakalpojumi | F43: 83276239 | G43: 35000
B44: Finansējuma pārdale no Satversmes tiesas budžeta programmas 01.00.00 "Tiesa" 90 524 euro apmērā 2026. gadā, 35 000 euro apmērā 2027., 2028. un turpmāk ik gadu, tajā skaitā no 2025.gada prioritārā pasākuma "Satversmes tiesas ēkas fiziskās drošības režīma uzlabošana" 82 280 euro apmērā 2026. gadā, uz Tieslietu ministrijas budžeta apakšprogrammu 03.01.00 "Tiesu administrēšana" 45 974 euro apmērā 2026. gadā un uz budžeta apakšprogrammu 03.03.00 "Juridiskās palīdzības nodrošināšana" 44 550 euro apmērā 2026. gadā, 35 000 euro apmērā 2027., 2028. un turpmāk ik gadu, lai veiktu Valsts nodrošinātās juridiskās palīdzības Satversmes tiesas procesā īstenošanu ar paplašinātām sociāli mazāk aizsargātu Latvijas iedzīvotāju iespējām vērsties Satversmes tiesā.

Sheet Prokuratūra
C1: Pieņemts pirmajā lasījumā | D1: Priekšlikums par izmaiņām | F1: Pieņemts pirmajā lasījumā | G1: Priekšlikums par izmaiņām | H1: Priekšlikums MK atzinumam
B3: 32. Prokuratūra
A5: =ST!A5+1 -> 58 | B5: 32.Prokuratūra | E5: 19. Tieslietu ministrija | H5: Atbalstīt
B6: 4.pielikums | E6: 4.pielikums
B7: 01.00.00 Prokuratūras iestāžu uzturēšana | E7: 03.02.00 Apgabaltiesas un rajonu (pilsētu) tiesas
B8: Resursi izdevumu segšanai | C8: 57565811 | D8: -2725 | E8: Resursi izdevumu segšanai | F8: 96189879 | G8: 2725
B9: Dotācija no vispārējiem ieņēmumiem | C9: 57565811 | D9: -2725 | E9: Dotācija no vispārējiem ieņēmumiem | F9: 96011015 | G9: 2725
B10: Vispārējā kārtībā sadalāmā dotācija no vispārējiem ieņēmumiem | C10: 57565811 | D10: -2725 | E10: Vispārējā kārtībā sadalāmā dotācija no vispārējiem ieņēmumiem | F10: 96011015 | G10: 2725
B11: Izdevumi – kopā | C11: 57565811 | D11: -2725 | E11: Izdevumi – kopā | F11: 96338674 | G11: 2725
B12: Uzturēšanas izdevumi | C12: 52880270 | D12: -2725 | E12: Uzturēšanas izdevumi | F12: 94475199 | G12: 2725
B13: Kārtējie izdevumi | C13: 52877678 | D13: -2725 | E13: Kārtējie izdevumi | F13: 94475199 | G13: 2725
B14: Preces un pakalpojumi | C14: 9096875 | D14: -2725 | E14: Preces un pakalpojumi | F14: 19506568 | G14: 2725
B15: 32.Prokuratūra | E15: 19. Tieslietu ministrija
B16: 3. pielikums | E16: 3. pielikums
B17: I. Valsts pamatfunkciju īstenošana | E17: I. Valsts pamatfunkciju īstenošana
B18: 2027.gadā | E18: 2027.gadā
B19: Resursi izdevumu segšanai | C19: 51860735 | D19: -2725 | E19: Resursi izdevumu segšanai | F19: 95555775 | G19: 2725
B20: Dotācija no vispārējiem ieņēmumiem | C20: 51860735 | D20: -2725 | E20: Dotācija no vispārējiem ieņēmumiem | F20: 95376911 | G20: 2725
B21: Vispārējā kārtībā sadalāmā dotācija no vispārējiem ieņēmumiem | C21: 51860735 | D21: -2725 | E21: Vispārējā kārtībā sadalāmā dotācija no vispārējiem ieņēmumiem | F21: 95376911 | G21: 2725
B22: Izdevumi – kopā | C22: 51860735 | D22: -2725 | E22: Izdevumi – kopā | F22: 95555775 | G22: 2725
B23: Uzturēšanas izdevumi | C23: 51212793 | D23: -2725 | E23: Uzturēšanas izdevumi | F23: 93692300 | G23: 2725
B24: Kārtējie izdevumi | C24: 51210201 | D24: -2725 | E24: Kārtējie izdevumi | F24: 93692300 | G24: 2725
B25: Preces un pakalpojumi | C25: 7867381 | D25: -2725 | E25: Preces un pakalpojumi | F25: 19731933 | G25: 2725
B26: 2028.gadā | E26: 2028.gadā
B27: Resursi izdevumu segšanai | C27: 51881202 | D27: -2725 | E27: Resursi izdevumu segšanai | F27: 94829771 | G27: 2725
B28: Dotācija no vispārējiem ieņēmumiem | C28: 51881202 | D28: -2725 | E28: Dotācija no vispārējiem ieņēmumiem | F28: 94650907 | G28: 2725
B29: Vispārējā kārtībā sadalāmā dotācija no vispārējiem ieņēmumiem | C29: 51881202 | D29: -2725 | E29: Vispārējā kārtībā sadalāmā dotācija no vispārējiem ieņēmumiem | F29: 94650907 | G29: 2725
B30: Izdevumi – kopā | C30: 51881202 | D30: -2725 | E30: Izdevumi – kopā | F30: 94829771 | G30: 2725
B31: Uzturēšanas izdevumi | C31: 51233260 | D31: -2725 | E31: Uzturēšanas izdevumi | F31: 93427096 | G31: 2725
B32: Kārtējie izdevumi | C32: 51230668 | D32: -2725 | E32: Kārtējie izdevumi | F32: 93427096 | G32: 2725
B33: Preces un pakalpojumi | C33: 7867381 | D33: -2725 | E33: Preces un pakalpojumi | F33: 19442733 | G33: 2725
B34: Finansējuma pārdale nepieciešama, lai Tieslietu akadēmija veiktu iemaksas par dalību Eiropas Tieslietu mācību tīklā (European Judicial Training Network)

Sheet 62.res
C1: Pieņemts pirmajā lasījumā | D1: Priekšlikums par izmaiņām | F1: Pieņemts pirmajā lasījumā | G1: Priekšlikums par izmaiņām | H1: Priekšlikums MK atzinumam
B3: 62. Mērķdotācijas pašvaldībām
A5: =Prokuratūra!A5+1 -> 59 | B5: 62. Mērķdotācijas pašvaldībām | E5: 62. Mērķdotācijas pašvaldībām | H5: Atbalstīt
B6: 4.pielikums | E6: 4.pielikums
B7: 01.00.00. "Mērķdotācijas izglītības pasākumiem" | E7: 05.00.00 "Mērķdotācijas pašvaldībām – pašvaldību izglītības iestāžu pedagogu darba samaksai un valsts sociālās apdrošināšanas obligātajām iemaksām"
B8: Resursi izdevumu segšanai | C8: 73959529 | D8: -195940 | E8: Resursi izdevumu segšanai | F8: 527435015 | G8: 195940
B9: Dotācija no vispārējiem ieņēmumiem | C9: 73959529 | D9: -195940 | E9: Dotācija no vispārējiem ieņēmumiem | F9: 527435015 | G9: 195940
B10: Vispārējā kārtībā sadalāmā dotācija no vispārējiem ieņēmumiem | C10: 73959529 | D10: -195940 | E10: Vispārējā kārtībā sadalāmā dotācija no vispārējiem ieņēmumiem | F10: 527435015 | G10: 195940
B11: Izdevumi – kopā | C11: 73959529 | D11: -195940 | E11: Izdevumi – kopā | F11: 527435015 | G11: 195940
B12: Uzturēšanas izdevumi | C12: 73959529 | D12: -195940 | E12: Uzturēšanas izdevumi | F12: 527435015 | G12: 195940
B13: Transferti viena budžeta veida ietvaros un uzturēšanas izdevumu transferti starp budžeta veidiem | C13: 73959529 | D13: -195940 | E13: Transferti viena budžeta veida ietvaros un uzturēšanas izdevumu transferti starp budžeta veidiem | F13: 527435015 | G13: 195940
B14: Pārējie valsts budžeta uzturēšanas izdevumu transferti citiem budžetiem | C14: 73959529 | D14: -195940 | E14: Pārējie valsts budžeta uzturēšanas izdevumu transferti citiem budžetiem | F14: 527435015 | G14: 195940
B15: Pārējie valsts budžeta uzturēšanas izdevumu transferti pašvaldībām | C15: 73959529 | D15: -195940 | E15: Pārējie valsts budžeta uzturēšanas izdevumu transferti pašvaldībām | F15: 527435015 | G15: 195940
B16: 62. Mērķdotācijas pašvaldībām | E16: 62. Mērķdotācijas pašvaldībām
B17: 3.pielikums | E17: 3.pielikums
B18: I. Valsts pamatfunkciju īstenošana | E18: I. Valsts pamatfunkciju īstenošana
B19: 2027. gads | E19: 2027. gads
B20: Resursi izdevumu segšanai | C20: 718551985 | D20: -141879 | E20: Resursi izdevumu segšanai | F20: 718551985 | G20: 141879
B21: Dotācija no vispārējiem ieņēmumiem | C21: 718551985 | D21: -141879 | E21: Dotācija no vispārējiem ieņēmumiem | F21: 718551985 | G21: 141879
B22: Vispārējā kārtībā sadalāmā dotācija no vispārējiem ieņēmumiem | C22: 718551985 | D22: -141879 | E22: Vispārējā kārtībā sadalāmā dotācija no vispārējiem ieņēmumiem | F22: 718551985 | G22: 141879
B23: Izdevumi – kopā | C23: 718551985 | D23: -141879 | E23: Izdevumi – kopā | F23: 718551985 | G23: 141879
B24: Uzturēšanas izdevumi | C24: 718551985 | D24: -141879 | E24: Uzturēšanas izdevumi | F24: 718551985 | G24: 141879
B25: Transferti viena budžeta veida ietvaros un uzturēšanas izdevumu transferti starp budžeta veidiem | C25: 718551985 | D25: -141879 | E25: Transferti viena budžeta veida ietvaros un uzturēšanas izdevumu transferti starp budžeta veidiem | F25: 718551985 | G25: 141879
B26: Pārējie valsts budžeta uzturēšanas izdevumu transferti citiem budžetiem | C26: 718551985 | D26: -141879 | E26: Pārējie valsts budžeta uzturēšanas izdevumu transferti citiem budžetiem | F26: 718551985 | G26: 141879
B27: Pārējie valsts budžeta uzturēšanas izdevumu transferti pašvaldībām | C27: 718551985 | D27: -141879 | E27: Pārējie valsts budžeta uzturēšanas izdevumu transferti pašvaldībām | F27: 718551985 | G27: 141879
B28: 2028. gads | E28: 2028. gads
B29: Resursi izdevumu segšanai | C29: 714551985 | D29: -141879 | E29: Resursi izdevumu segšanai | F29: 714551985 | G29: 141879
B30: Dotācija no vispārējiem ieņēmumiem | C30: 714551985 | D30: -141879 | E30: Dotācija no vispārējiem ieņēmumiem | F30: 714551985 | G30: 141879
B31: Vispārējā kārtībā sadalāmā dotācija no vispārējiem ieņēmumiem | C31: 714551985 | D31: -141879 | E31: Vispārējā kārtībā sadalāmā dotācija no vispārējiem ieņēmumiem | F31: 714551985 | G31: 141879
B32: Izdevumi – kopā | C32: 714551985 | D32: -141879 | E32: Izdevumi – kopā | F32: 714551985 | G32: 141879
B33: Uzturēšanas izdevumi | C33: 714551985 | D33: -141879 | E33: Uzturēšanas izdevumi | F33: 714551985 | G33: 141879
B34: Transferti viena budžeta veida ietvaros un uzturēšanas izdevumu transferti starp budžeta veidiem | C34: 714551985 | D34: -141879 | E34: Transferti viena budžeta veida ietvaros un uzturēšanas izdevumu transferti starp budžeta veidiem | F34: 714551985 | G34: 141879
B35: Pārējie valsts budžeta uzturēšanas izdevumu transferti citiem budžetiem | C35: 714551985 | D35: -141879 | E35: Pārējie valsts budžeta uzturēšanas izdevumu transferti citiem budžetiem | F35: 714551985 | G35: 141879
B36: Pārējie valsts budžeta uzturēšanas izdevumu transferti pašvaldībām | C36: 714551985 | D36: -141879 | E36: Pārējie valsts budžeta uzturēšanas izdevumu transferti pašvaldībām | F36: 714551985 | G36: 141879
B37: Lai nodrošinātu pedagogu darba samaksu 2026. gadā un turpmāk, ņemot vērā izglītojamo skaita un struktūras uz 2025. gada 1. septembri izmaiņu ietekmi (neieskaitot Ukrainas civiliedzīvotājus) (MK 30.09.2025. prot. Nr. 40 18. §, 3.4.1. apakšpunkts), veikta finansējuma pārdale no 62. resora programmas 01.00.00. "Mērķdotācijas izglītības pasākumiem" uz 62. resora programmu 05.00.00 "Mērķdotācijas pašvaldībām – pašvaldību izglītības iestāžu pedagogu darba samaksai un valsts sociālās apdrošināšanas obligātajām iemaksām": 2026. gadā 195 940 euro apmērā; 2027. gadā un turpmāk 141 879 euro apmērā.
A39: =A5+1 -> 60 | B39: 62. Mērķdotācijas pašvaldībām | E39: 62. Mērķdotācijas pašvaldībām | H39: Atbalstīt
B40: 4.pielikums | E40: 4.pielikums
B41: 10.00.00. "Mērķdotācijas pašvaldībām – pašvaldību izglītības iestādēs bērnu no piecu gadu vecuma izglītošanā nodarbināto pedagogu darba samaksai un valsts sociālās apdrošināšanas obligātajām iemaksām" | E41: 05.00.00 "Mērķdotācijas pašvaldībām – pašvaldību izglītības iestāžu pedagogu darba samaksai un valsts sociālās apdrošināšanas obligātajām iemaksām"
B42: Resursi izdevumu segšanai | C42: 72828648 | D42: -844320 | E42: Resursi izdevumu segšanai | F42: 527435015 | G42: 844320
B43: Dotācija no vispārējiem ieņēmumiem | C43: 72828648 | D43: -844320 | E43: Dotācija no vispārējiem ieņēmumiem | F43: 527435015 | G43: 844320
B44: Vispārējā kārtībā sadalāmā dotācija no vispārējiem ieņēmumiem | C44: 72828648 | D44: -844320 | E44: Vispārējā kārtībā sadalāmā dotācija no vispārējiem ieņēmumiem | F44: 527435015 | G44: 844320
B45: Izdevumi – kopā | C45: 72828648 | D45: -844320 | E45: Izdevumi – kopā | F45: 527435015 | G45: 844320
B46: Uzturēšanas izdevumi | C46: 72828648 | D46: -844320 | E46: Uzturēšanas izdevumi | F46: 527435015 | G46: 844320
B47: Transferti viena budžeta veida ietvaros un uzturēšanas izdevumu transferti starp budžeta veidiem | C47: 72828648 | D47: -844320 | E47: Transferti viena budžeta veida ietvaros un uzturēšanas izdevumu transferti starp budžeta veidiem | F47: 527435015 | G47: 844320
B48: Pārējie valsts budžeta uzturēšanas izdevumu transferti citiem budžetiem | C48: 72828648 | D48: -844320 | E48: Pārējie valsts budžeta uzturēšanas izdevumu transferti citiem budžetiem | F48: 527435015 | G48: 844320
B49: Pārējie valsts budžeta uzturēšanas izdevumu transferti pašvaldībām | C49: 72828648 | D49: -844320 | E49: Pārējie valsts budžeta uzturēšanas izdevumu transferti pašvaldībām | F49: 527435015 | G49: 844320
B50: 62. Mērķdotācijas pašvaldībām | E50: 62. Mērķdotācijas pašvaldībām
B51: 3.pielikums | E51: 3.pielikums
B52: I. Valsts pamatfunkciju īstenošana | E52: I. Valsts pamatfunkciju īstenošana
B53: 2027. gads | E53: 2027. gads
B54: Resursi izdevumu segšanai | C54: 718551985 | D54: -844320 | E54: Resursi izdevumu segšanai | F54: 718551985 | G54: 844320
B55: Dotācija no vispārējiem ieņēmumiem | C55: 718551985 | D55: -844320 | E55: Dotācija no vispārējiem ieņēmumiem | F55: 718551985 | G55: 844320
B56: Vispārējā kārtībā sadalāmā dotācija no vispārējiem ieņēmumiem | C56: 718551985 | D56: -844320 | E56: Vispārējā kārtībā sadalāmā dotācija no vispārējiem ieņēmumiem | F56: 718551985 | G56: 844320
B57: Izdevumi – kopā | C57: 718551985 | D57: -844320 | E57: Izdevumi – kopā | F57: 718551985 | G57: 844320
B58: Uzturēšanas izdevumi | C58: 718551985 | D58: -844320 | E58: Uzturēšanas izdevumi | F58: 718551985 | G58: 844320
B59: Transferti viena budžeta veida ietvaros un uzturēšanas izdevumu transferti starp budžeta veidiem | C59: 718551985 | D59: -844320 | E59: Transferti viena budžeta veida ietvaros un uzturēšanas izdevumu transferti starp budžeta veidiem | F59: 718551985 | G59: 844320
B60: Pārējie valsts budžeta uzturēšanas izdevumu transferti citiem budžetiem | C60: 718551985 | D60: -844320 | E60: Pārējie valsts budžeta uzturēšanas izdevumu transferti citiem budžetiem | F60: 718551985 | G60: 844320
B61: Pārējie valsts budžeta uzturēšanas izdevumu transferti pašvaldībām | C61: 718551985 | D61: -844320 | E61: Pārējie valsts budžeta uzturēšanas izdevumu transferti pašvaldībām | F61: 718551985 | G61: 844320
B62: 2028. gads | E62: 2028. gads
B63: Resursi izdevumu segšanai | C63: 714551985 | D63: -844320 | E63: Resursi izdevumu segšanai | F63: 714551985 | G63: 844320
B64: Dotācija no vispārējiem ieņēmumiem | C64: 714551985 | D64: -844320 | E64: Dotācija no vispārējiem ieņēmumiem | F64: 714551985 | G64: 844320
B65: Vispārējā kārtībā sadalāmā dotācija no vispārējiem ieņēmumiem | C65: 714551985 | D65: -844320 | E65: Vispārējā kārtībā sadalāmā dotācija no vispārējiem ieņēmumiem | F65: 714551985 | G65: 844320
B66: Izdevumi – kopā | C66: 714551985 | D66: -844320 | E66: Izdevumi – kopā | F66: 714551985 | G66: 844320
B67: Uzturēšanas izdevumi | C67: 714551985 | D67: -844320 | E67: Uzturēšanas izdevumi | F67: 714551985 | G67: 844320
B68: Transferti viena budžeta veida ietvaros un uzturēšanas izdevumu transferti starp budžeta veidiem | C68: 714551985 | D68: -844320 | E68: Transferti viena budžeta veida ietvaros un uzturēšanas izdevumu transferti starp budžeta veidiem | F68: 714551985 | G68: 844320
B69: Pārējie valsts budžeta uzturēšanas izdevumu transferti citiem budžetiem | C69: 714551985 | D69: -844320 | E69: Pārējie valsts budžeta uzturēšanas izdevumu transferti citiem budžetiem | F69: 714551985 | G69: 844320
B70: Pārējie valsts budžeta uzturēšanas izdevumu transferti pašvaldībām | C70: 714551985 | D70: -844320 | E70: Pārējie valsts budžeta uzturēšanas izdevumu transferti pašvaldībām | F70: 714551985 | G70: 844320
B71: Lai nodrošinātu pedagogu darba samaksu 2026. gadā un turpmāk, ņemot vērā izglītojamo skaita un struktūras uz 2025. gada 1. septembri izmaiņu ietekmi (neieskaitot Ukrainas civiliedzīvotājus) (MK 30.09.2025. prot. Nr. 40 18. §, 3.4.2. apakšpunkts), veikta finansējuma pārdale no 62. resora programmas 10.00.00. "Mērķdotācijas pašvaldībām – pašvaldību izglītības iestādēs bērnu no piecu gadu vecuma izglītošanā nodarbināto pedagogu darba samaksai un valsts sociālās apdrošināšanas obligātajām iemaksām" uz 62. resora programmu 05.00.00 "Mērķdotācijas pašvaldībām – pašvaldību izglītības iestāžu pedagogu darba samaksai un valsts sociālās apdrošināšanas obligātajām iemaksām": 2026. gadā 844 320 euro apmērā; 2027. gadā un turpmāk 844 320 euro apmērā.
A73: =A39+1 -> 61 | B73: 62. Mērķdotācijas pašvaldībām | E73: 62. Mērķdotācijas pašvaldībām | H73: Atbalstīt
B74: 4.pielikums | E74: 4.pielikums
B75: 05.00.00 "Mērķdotācijas pašvaldībām – pašvaldību izglītības iestāžu pedagogu darba samaksai un valsts sociālās apdrošināšanas obligātajām iemaksām" | E75: 05.00.00 "Mērķdotācijas pašvaldībām – pašvaldību izglītības iestāžu pedagogu darba samaksai un valsts sociālās apdrošināšanas obligātajām iemaksām"
B76: Resursi izdevumu segšanai | C76: 527435015 | D76: -481275 | E76: Resursi izdevumu segšanai | F76: 527435015 | G76: 481275
B77: Dotācija no vispārējiem ieņēmumiem | C77: 527435015 | D77: -481275 | E77: Dotācija no vispārējiem ieņēmumiem | F77: 527435015 | G77: 481275
B78: Vispārējā kārtībā sadalāmā dotācija no vispārējiem ieņēmumiem | C78: 527435015 | D78: -481275 | E78: Vispārējā kārtībā sadalāmā dotācija no vispārējiem ieņēmumiem | F78: 527435015 | G78: 481275
B79: Izdevumi – kopā | C79: 527435015 | D79: -481275 | E79: Izdevumi – kopā | F79: 527435015 | G79: 481275
