Workbook

Sheet Kopsavilkums
E1: pielikums Nr.1.1
B3: Ārsniecības iestāde | C3: Papildus nepieciešamais finansējums 2021.gadā (avanss), euro | D3: Papildus nepieciešamais finansējums 2022.gadā, euro | E3: Papildus nepieciešamais finansējums, euro
B4: VSIA "Slimnīca "Ģintermuiža"" | C4: =Gintermuiza!E15 -> 26502 | E4: =Gintermuiza!E13 -> 26502
B5: VSIA "Rīgas Psihiatrijas un narkoloģijas centrs" | C5: =RPNC_Moduļu_aprikojums!F36+RPNC_Slimnica!F29 -> 192865 | E5: =RPNC_Moduļu_aprikojums!F36+RPNC_Slimnica!F27 -> 192865
C6: =SUM(C4:C5) -> 219367 | D6: =SUM(D4:D5) -> 0 | E6: =SUM(E4:E5) -> 219367
B9: Pamatkapitālā ieguldīšana | E9: =Gintermuiza!E15+RPNC_Moduļu_aprikojums!F38+RPNC_Slimnica!F29 -> 219367

Sheet RPNC_Moduļu_aprikojums
G1: pielikums Nr.1.2
A3: Valsts sabiedrība ar ierobežotu atbildību “Rīgas psihiatrijas un narkoloģijas centrs” nepieciešamās iekārtas un aprīkojums papildu Covid-19 pacientu gultu aprīkošanai (moduļu ēka)
A4: Medicīnas ierīce | B4: Cena EUR bez PVN | C4: Cena EUR ar PVN | D4: Skaits | E4: Kopā EUR (bez PVN) | F4: Kopā EUR (ar PVN) | G4: Pasākuma īstenošanas termiņi
A5: Funkcionālā gulta | B5: 1500 | C5: =B5*1.21 -> 1815 | D5: 12 | E5: =B5*D5 -> 18000 | F5: =D5*C5 -> 21780 | G5: 2022.gada I pusgads
A6: Matracis | B6: 300 | C6: =B6*1.21 -> 363 | D6: 7 | E6: =B6*D6 -> 2100 | F6: =D6*C6 -> 2541
A7: Slīdmatracis pacientu pārvietošanai | B7: 454 | C7: =B7*1.21 -> 549.34 | D7: 1 | E7: =B7*D7 -> 454 | F7: =D7*C7 -> 549.34
A8: Aktīvais pretizgulējumu matracis ar kompresoru | B8: 1000 | C8: =B8*1.21 -> 1210 | D8: 5 | E8: =B8*D8 -> 5000 | F8: =D8*C8 -> 6050
A9: Pacientu monitori ar pulsaoksimetriem, ar asinsspiediena automātisko mērīšanu un EKG | B9: 2500 | C9: =B9*1.21 -> 3025 | D9: 2 | E9: =B9*D9 -> 5000 | F9: =D9*C9 -> 6050
A10: Pulsoksimetri ar lādētāju | B10: 60 | C10: =B10*1.21 -> 72.6 | D10: 5 | E10: =B10*D10 -> 300 | F10: =D10*C10 -> 363
A11: Stacionārie pulsoksimetri | B11: 500 | C11: =B11*1.21 -> 605 | D11: 1 | E11: =B11*D11 -> 500 | F11: =D11*C11 -> 605
A12: Procedūru galds (pārvietojamais) | B12: 2000 | C12: =B12*1.21 -> 2420 | D12: 1 | E12: =B12*D12 -> 2000 | F12: =D12*C12 -> 2420
A13: Slūžu aizkari | B13: 1500 | C13: =B13*1.21 -> 1815 | D13: 1 | E13: =B13*D13 -> 1500 | F13: =D13*C13 -> 1815
A14: Mobilās telpu dezinfekcijas iekārtas | B14: 4200 | C14: =B14*1.21 -> 5082 | D14: 1 | E14: =B14*D14 -> 4200 | F14: =D14*C14 -> 5082
A15: Skābekļa koncentratori | B15: 950 | C15: =B15*1.21 -> 1149.5 | D15: 1 | E15: =B15*D15 -> 950 | F15: =D15*C15 -> 1149.5
A16: Medicīniskie perfuzori | B16: 1000 | C16: =B16*1.21 -> 1210 | D16: 2 | E16: =B16*D16 -> 2000 | F16: =D16*C16 -> 2420
A17: Pacientu sēdrati | B17: 500 | C17: =B17*1.21 -> 605 | D17: 1 | E17: =B17*D17 -> 500 | F17: =D17*C17 -> 605
... A35: Bīstamo atkritumu statīvs | B35: 760 | C35: =B35*1.21 -> 919.6 | D35: 1 | E35: =B35*D35 -> 760 | F35: =D35*C35 -> 919.6
D36: KOPĀ | E36: =SUM(E5:E35) -> 59424 | F36: =ROUNDUP(SUM(F5:F35),0) -> 71904
A38: Papildus nepieciešamais finansējums 2021.gadā (oktobris, novembris, decembris) avanss | F38: =F36 -> 71904

Sheet RPNC_Slimnica
G1: pielikums Nr.1.3
A3: Valsts sabiedrība ar ierobežotu atbildību “Rīgas psihiatrijas un narkoloģijas centrs” nepieciešamās iekārtas un aprīkojums papildu Covid-19 pacientu gultu aprīkošanai (nodaļas, uzņemšana)
A4: Medicīnas ierīce | B4: Cena EUR bez PVN | C4: Cena EUR ar PVN | D4: Skaits | E4: Kopā EUR (bez PVN) | F4: Kopā EUR (ar PVN) | G4: Pasākuma īstenošanas termiņi
A5: Funkcionālā gulta | B5: 1500 | C5: =B5*1.21 -> 1815 | D5: 10 | E5: =B5*D5 -> 15000 | F5: =D5*C5 -> 18150 | G5: 2022.gada I pusgads
A6: Aktīvais pretizgulējumu matracis ar kompresoru | B6: 1000 | C6: =B6*1.21 -> 1210 | D6: 10 | E6: =B6*D6 -> 10000 | F6: =D6*C6 -> 12100
A7: Stacionārie pulsoksimetri | B7: 500 | C7: =B7*1.21 -> 605 | D7: 1 | E7: =B7*D7 -> 500 | F7: =D7*C7 -> 605
A8: Aizslietņi | B8: 200 | C8: =B8*1.21 -> 242 | D8: 4 | E8: =B8*D8 -> 800 | F8: =D8*C8 -> 968
A9: Medicīniskie perfuzori | B9: 1000 | C9: =B9*1.21 -> 1210 | D9: 6 | E9: =B9*D9 -> 6000 | F9: =D9*C9 -> 7260
A10: Pacientu vitālo funkciju novērošanas monitors | B10: 1714 | C10: =B10*1.21 -> 2073.94 | D10: 2 | E10: =B10*D10 -> 3428 | F10: =D10*C10 -> 4147.88
A11: Automātiskie tonometri | B11: 105 | C11: =B11*1.21 -> 127.05 | D11: 5 | E11: =B11*D11 -> 525 | F11: =D11*C11 -> 635.25
A12: Fonendoskopi | B12: 25 | C12: =B12*1.21 -> 30.25 | D12: 5 | E12: =B12*D12 -> 125 | F12: =D12*C12 -> 151.25
A13: Vakuuma sūknis | B13: 2000 | C13: =B13*1.21 -> 2420 | D13: 1 | E13: =B13*D13 -> 2000 | F13: =D13*C13 -> 2420
A14: Automātiskā virsmas dezinfekcijas iekārta | B14: 5000 | C14: =B14*1.21 -> 6050 | D14: 1 | E14: =B14*D14 -> 5000 | F14: =D14*C14 -> 6050
A15: Pacientu sēdrati | B15: 500 | C15: =B15*1.21 -> 605 | D15: 1 | E15: =B15*D15 -> 500 | F15: =D15*C15 -> 605
A16: Dušas krēsls | B16: 130 | C16: =B16*1.21 -> 157.3 | D16: 4 | E16: =B16*D16 -> 520 | F16: =D16*C16 -> 629.2
A17: Skābekļa koncentratori | B17: 950 | C17: =B17*1.21 -> 1149.5 | D17: 1 | E17: =B17*D17 -> 950 | F17: =D17*C17 -> 1149.5
... A26: Mobilās telpu dezinfekcijas iekārtas | B26: 4200 | C26: =B26*1.21 -> 5082 | D26: 2 | E26: =B26*D26 -> 8400 | F26: =D26*C26 -> 10164
D27: KOPĀ | E27: =SUM(E5:E26) -> 99968 | F27: =ROUND(SUM(F5:F26),0) -> 120961
A29: Papildus nepieciešamais finansējums 2021.gadā (oktobris, novembris, decembris) avanss | F29: =F27 -> 120961

Sheet Gintermuiza
F1: pielikums Nr.1.4
A3: VSIA "Slimnīca "Ģintermuiža"" nepieciešamās iekārtas un aprīkojums papildu Covid-19 pacientu gultu aprīkošanai.
B5: Iekārtas nosaukums | C5: Skaits | D5: Cena (EUR) | E5: Summa (EUR) | F5: Pasākuma īstenošanas termiņi
B6: Defibrilators ( + Kardiostimulators + Nellcor SpO2 mērīšana) | C6: 1 | D6: 5046 | E6: 5046 | F6: oktobris, novembris, decembris
B9: Skābekļa koncentrators oxy 6000 | C9: 2 | D9: 1098 | E9: 2196 | F9: oktobris, novembris, decembris
B10: Elektriski regulējama gulta | C10: 10 | D10: 1500 | E10: 15000 | F10: oktobris, novembris, decembris
B11: Pasīvais pret-izgulējumu matracis | C11: 10 | D11: 131 | E11: 1310 | F11: oktobris, novembris, decembris
B12: Telpu dezifektors (Max kapacitāte 750 m3 , Dezinfekcija 1 m3/8 s ) | C12: 1 | D12: 2950 | E12: 2950 | F12: oktobris, novembris, decembris
E13: =SUM(E6:E12) -> 26502
B15: Papildus nepieciešamais finansējums 2021.gadā (oktobris, novembris, decembris) avanss | E15: =E13 -> 26502
