Workbook

Sheet piemērs
A1: Pārskats par sabiedriskā transporta pakalpojumos radītajiem izdevumiem un zaudējumiem sakarā ar noteiktajiem ierobežojumiem
A2: Periods | C2: Vienības | D2: Autobusi | E2: Minibusi (ekspresbusi) | F2: Tramvaji | G2: Trolejbusi
A3: 1.SADAĻA | B3: KOPSUMMA ((N - P) x Izm) | D3: =(D10-D9)*D13 -> 1884.96 | E3: =(E9-E10)*E13 -> 0 | F3: =(F9-F10)*F13 -> 0 | G3: =(G9-G10)*G13 -> 0
A4: 09.03.2021.- 31.03.2021. | B4: Iesaistīto transportlīdzekļu vienības | C4: skaits | D4: 20
B5: (S) Plānotais reisu skaits | D5: 5479
B6: (R) Faktiskais reisu skaits (S + RP-RA) | D6: =D5+D7-D8 -> 5567 | E6: =E5+E7-E8 -> 0 | F6: =F5+F7-F8 -> 0 | G6: =G5+G7-G8 -> 0
B7: to starpā papildu reisi (RP) | D7: 830
B8: to starpā atceltie reisi (RA) | D8: 742
B9: (P) Plānotais nobraukums | C9: km | D9: 57529
B10: (N) Faktiskais nobraukums (P + NP-NA) | D10: =D9+D11-D12 -> 58453 | E10: =E9+E11-E12 -> 0 | F10: =F9+F11-F12 -> 0 | G10: =G9+G11-G12 -> 0
B11: to starpā papildu reisos veiktais nobraukums (NP) | D11: 8715
B12: to starpā atcelto reisu nobraukums (NA) | D12: 7791
A13: 01.03.2021.-31.03.2021. | B13: (Izm) 1 km pašizmaksa | C13: EUR/km | D13: 2.04
A14: 2.SADAĻA | B14: KOPSUMMA (1 vienības cenas reizinājums ar preču/pakalpojumu skaitu; summa ( K x Z)) | D14: =SUM(D25*D36,D24*D35,D23*D34,D22*D33,D20*D31,D19*D30,D17*D28,D16*D27) -> 16414.94 | E14: =SUM(E25*E36,E24*E35,E23*E34,E22*E33,E20*E31,E19*E30,E17*E28,E16*E27) -> 0 | F14: =SUM(F25*F36,F24*F35,F23*F34,F22*F33,F20*F31,F19*F30,F17*F28,F16*F27) -> 0 | G14: =SUM(G25*G36,G24*G35,G23*G34,G22*G33,G20*G31,G19*G30,G17*G28,G16*G27) -> 0
A15: 09.03.2021.- 31.03.2021. | B15: (Z) Pakalpojumi, pasākumi un materiāli Covid-19 pandēmijas ierobežošanai
B16: Dezinfekcijas līdzekļi | C16: litri | D16: 15
B17: Sejas maskas | C17: gab | D17: 200
B18: Sociālā distancēšanās sabiedriskā transportā
B19: to starpā uzlīmes | C19: gab | D19: 105
B20: to starpā norobežojošā lenta | C20: metri | D20: 28
B21: Transportlīdzekļu dezinfekcija | C21: reizes
B22: to starpā ozonēšanas pakalpojumi | D22: 84
B23: to starpā apstrāde ar dezinfekcijas līdzekļiem | D23: 3658
B24: Transportlīdzekļu papildu mazgāšana | C24: reizes | D24: 1783
B25: Informācijas atskaņošana reisos | C25: audiāls ieraksts | D25: 1
B26: (K) Faktiskās izmaksas Covid-19 pandēmijas ierobežošanai, t.sk. | C26: EUR/vien bez PVN
B27: Dezinfekcijas līdzekļi | D27: 3
B28: Sejas maskas | D28: 0.55
B29: Sociālā distancēšanās sabiedriskā transportā
B30: to starpā uzlīmes | D30: 0.53
B31: to starpā norobežojošā lenta | D31: 4.87
B32: Transportlīdzekļu dezinfekcija
B33: to starpā ozonēšanas pakalpojumi | D33: 5.54
B34: to starpā apstrāde ar dezinfekcijas līdzekļiem | D34: 2.26
B35: Transportlīdzekļu papildu mazgāšana | D35: 4.03
B36: Informācijas atskaņošana reisos | D36: 150
A37: 3.SADAĻA | B37: KOPSUMMA ((C/D-A/N) x N) | D37: =((D40/D41)-(D38/D39))*D39 -> 4716.5994 | E37: =((E40/E41)-(E38/E39))*E39 -> #DIV/0! | F37: =((F40/F41)-(F38/F39))*F39 -> #DIV/0! | G37: =((G40/G41)-(G38/G39))*G39 -> #DIV/0!
A38: 09.03.2021.-31.03.2021. | B38: (A) No pasažieriem, t.sk., personām, kurām noteikti pašvaldības noteiktie braukšanas maksas atvieglojumi, saņemtie ieņēmumi par sniegto sabiedriskā transporta pakalpojumu | C38: EUR bez PVN | D38: 20573
B39: (N) Faktiskais nobraukums | C39: km | D39: 58453
A40: 09.03.2019.-31.03.2019. | B40: (C) No pasažieriem, t.sk., personām, kurām noteikti pašvaldības noteiktie braukšanas maksas atvieglojumi, saņemtie ieņēmumi par sniegto sabiedriskā transporta pakalpojumu | C40: EUR bez PVN | D40: 24847
...

Sheet marts
A1: Pārskats par sabiedriskā transporta pakalpojumos radītajiem izdevumiem un zaudējumiem sakarā ar noteiktajiem ierobežojumiem
A2: Periods | C2: Vienības | D2: Autobusi | E2: Autobusi (8 maršrutā samazinātie km JUDOVKA mikrorajona ceļu remonta dēļ). | F2: Autobusi (10A MARŠRUTS) Reisi tiek atcelti vairāku autobusu vadītāju saslimšanas dēļ. | G2: Autobusi (12 MARŠRUTS) 12* maršrutā skolēnu brīvlaikā nekurse 2 reisi. | H2: Autobusi (15 maršrutā samazinātie km JUDOVKA mikrorajona ceļu remonta dēļ). | I2: Autobusi (15 maršrutā samazinātie km COVID-19 dēļ). 15* maršrutā skolēnu brīvlaikā reisu skaits paliek nemainīgs, bet mainās maršruta kustības shēma. Sakarā ar COVID-19, 4 reisi virzas pēc brīvdienu sarakta. | J2: Autobusi (15 maršrutā samazinātie km COVID-19 DEĻ + JUDOVKA mikrorajona ceļu remonta dēļ). 15* maršrutā skolēnu brīvlaikā reisu skaits paliek nemainīgs, bet mainās maršruta kustības shēma. Sakarā ar COVID-19, 4 reisi virzas pēc brīvdienu sarakta. | K2: Autobusi (17 MARŠRUTS) Reisi tiek atcelti vairāku autobusu vadītāju saslimšanas dēļ. | L2: Autobusi (17A MARŠRUTS) Reisi tiek atcelti vairāku autobusu vadītāju saslimšanas dēļ. | M2: Minibusi (ekspresbusi) | N2: Tramvaji | O2: Trolejbusi
A3: 1.SADAĻA | B3: KOPSUMMA ((N - P) x Izm) | D3: =(D10-D9)*D13 -> -11096.024 | E3: =(E10-E9)*E13 -> 0 | F3: =(F10-F9)*F13 -> 0 | G3: =(G10-G9)*G13 -> 0 | H3: =(H10-H9)*H13 -> 0 | I3: =(I10-I9)*I13 -> 0 | J3: =(J10-J9)*J13 -> 0 | K3: =(K10-K9)*K13 -> 0 | ... O3: =(O10-O9)*O13 -> 0
A4: 09.03.2021.- 31.03.2021. | B4: Iesaistīto transportlīdzekļu vienības | C4: skaits | D4: 54 | E4: 54 | F4: 54 | G4: 54 | H4: 54 | I4: 54 | J4: 54 | K4: 54 | L4: 54 | N4: 42
B5: (S) Plānotais reisu skaits | D5: 20717 | E5: 1058 | F5: 1108 | G5: 1356 | H5: 368 | I5: 368 | J5: 368 | K5: 1528 | L5: 3102 | N5: 7874
B6: (R) Faktiskais reisu skaits (S + RP-RA) | D6: =D5+D7-D8 -> 19697 | E6: 1058 | F6: =F5+F7-F8 -> 870 | G6: =G5+G7-G8 -> 1322 | H6: =H5+H7-H8 -> 368 | I6: =I5+I7-I8 -> 368 | J6: =J5+J7-J8 -> 368 | K6: =K5+K7-K8 -> 1392 | L6: =L5+L7-L8 -> 2490 | M6: =M5+M7-M8 -> 0 | N6: 7874 | O6: =O5+O7-O8 -> 0
B7: to starpā papildu reisi (RP)
B8: to starpā atceltie reisi (RA) | D8: =SUM(E8+F8+G8+J8+K8+L8) -> 1020 | E8: 0 | F8: 238 | G8: 34 | H8: 0 | I8: 0 | J8: 0 | K8: 136 | L8: 612
B9: (P) Plānotais nobraukums | C9: km | D9: 175440.7 | E9: 5782.2 | F9: 7138.6 | G9: 19011.5 | H9: 3286.9 | I9: 3286.9 | J9: 3286.9 | K9: 9168 | L9: 19542.6 | N9: 61787.257
B10: (N) Faktiskais nobraukums (P + NP-NA) | D10: =D9+D11-D12 -> 168396.5 | E10: =E9+E11-E12 -> 5517.7 | F10: =F9+F11-F12 -> 5647.7 | G10: =G9+G11-G12 -> 18544 | H10: =H9+H11-H12 -> 3232.4 | I10: =I9+I11-I12 -> 3183.2 | J10: =J9+J11-J12 -> 3137.2 | K10: =K9+K11-K12 -> 8352 | ... M10: =M9+M11-M12 -> 0 | N10: 61787.257 | O10: =O9+O11-O12 -> 0 | P10: =atskaites_jedox!AO9 -> 232306.9 | Q10: =atskaites_jedox!AP9 -> 71135.81
B11: to starpā papildu reisos veiktais nobraukums (NP)
B12: to starpā atcelto reisu nobraukums (NA) | D12: =SUM(E12+F12+G12+J12+K12+L12) -> 7044.2 | E12: 264.5 | F12: 1490.9 | G12: 467.5 | H12: 54.5 | I12: 103.7 | J12: 149.7 | K12: 816 | L12: 3855.6
A13: 01.03.2021.-31.03.2021. | B13: (Izm) 1 km pašizmaksa | C13: EUR/km | D13: 1.5752 | N13: 3.6694 | P13: =atskaites_jedox!BC9 -> 1.59 | Q13: =atskaites_jedox!BD9 -> 3.68
A14: 2.SADAĻA | B14: KOPSUMMA (1 vienības cenas reizinājums ar preču/pakalpojumu skaitu; summa ( K x Z)) | D14: =SUM(D16*D24,D22*D30,D17*D25,D18*D26,D19*D27,D20*D28,D21*D29) -> 2272.1435 | F14: =SUM(F16*F24,F17*F25,F18*F26,F19*F27,F20*F28,F21*F29) -> 0 | G14: =SUM(G16*G24,G17*G25,G18*G26,G19*G27,G20*G28,G21*G29) -> 0 | H14: =SUM(H16*H24,H17*H25,H18*H26,H19*H27,H20*H28,H21*H29) -> 0 | I14: =SUM(I16*I24,I17*I25,I18*I26,I19*I27,I20*I28,I21*I29) -> 0 | J14: =SUM(J16*J24,J17*J25,J18*J26,J19*J27,J20*J28,J21*J29) -> 0 | K14: =SUM(K16*K24,K17*K25,K18*K26,K19*K27,K20*K28,K21*K29) -> 0 | L14: =SUM(L16*L24,L17*L25,L18*L26,L19*L27,L20*L28,L21*L29) -> 0 | M14: =SUM(M16*M24,M17*M25,M18*M26,M19*M27,M20*M28,M21*M29) -> 0 | ... O14: =SUM(O16*O24,O17*O25,O18*O26,O19*O27,O20*O28,O21*O29) -> 0
A15: 09.03.2021.- 31.03.2021. | B15: (Z) Pakalpojumi, pasākumi un materiāli Covid-19 pandēmijas ierobežošanai | C15: skaits (jānorāda atbilstoša mērvienība gab., litri, reižu skaits, darba stundas u.c.)
B16: Dezinfekcijas līdzekļi
B17: Sejas maskas (gab.) | D17: 13161 | N17: 13161
B18: Sociālā distancēšanās sabiedriskā transportā
B19: Transportlīdzekļu dezinfekcija ( m2) | D19: 9548.71 | N19: 8420.9
B20: Transportlīdzekļu papildu mazgāšana
B21: Citi izdevumi cimdi ( gab.) | D21: 2844 | N21: 2102
B22: Citi izdevumi fiziska apsardze(diennakts) | D22: 23
B23: (K) Faktiskās izmaksas Covid-19 pandēmijas ierobežošanai, t.sk. | C23: EUR/vien bez PVN
B24: Dezinfekcijas līdzekļi
B25: Sejas maskas | D25: 0.028 | N25: 0.028
B26: Sociālā distancēšanās sabiedriskā transportā
B27: Transportlīdzekļu dezinfekcija, to starpā darba spēka izmaksas | D27: 0.05 | N27: 0.05
B28: Transportlīdzekļu papildu mazgāšana, to starpā darba spēka izmaksas
B29: Citi izdevumi cimdi | D29: 0.09 | N29: 0.09
B30: Citi izdevumi (fiziska apsardze distancēšanas nodroš.) | D30: 50.88
A31: 3.SADAĻA | B31: KOPSUMMA ((C/D-A/N) x N) | D31: =((D34/D35)-(D32/D33))*D33 -> 9198.6758 | M31: =((M34/M35)-(M33/#REF!))*#REF! -> #DIV/0! | N31: =((N34/N35)-(N32/N33))*N33 -> 12539.302 | O31: =((O34/O35)-(O32/O33))*O33 -> #DIV/0!
A32: 09.03.2021.-31.03.2021. | B32: (A) No pasažieriem, t.sk., personām, kurām noteikti pašvaldības noteiktie braukšanas maksas atvieglojumi, saņemtie ieņēmumi par sniegto sabiedriskā transporta pakalpojumu | C32: EUR bez PVN | D32: =65274.65 -> 65274.65 | N32: =43382.15 -> 43382.15 | P32: =atskaites_jedox!AM9 -> 87187.74 | Q32: =atskaites_jedox!AN9 -> 43303.31
B33: (N) Faktiskais nobraukums | C33: km | D33: 168396.5 | N33: 61787.26 | P33: =atskaites_jedox!AO9 -> 232306.9 | Q33: =atskaites_jedox!AP9 -> 71135.81 | R33: =D33=D10 -> TRUE | S33: =N33=N10 -> FALSE | T33: =N33-N10 -> 0.0025
A34: 09.03.2019.-31.03.2019. | B34: (C) No pasažieriem, t.sk., personām, kurām noteikti pašvaldības noteiktie braukšanas maksas atvieglojumi, saņemtie ieņēmumi par sniegto sabiedriskā transporta pakalpojumu | C34: EUR bez PVN | D34: =76064.01 -> 76064.01 | N34: =56301.47 -> 56301.47 | P34: =atskaites_jedox!C9 -> 102521.06 | Q34: =atskaites_jedox!D9 -> 75884.49
B35: (D) Faktiskais nobraukums | C35: km | D35: 171993.3 | N35: 62207.14 | P35: =atskaites_jedox!E9 -> 232830.9 | Q35: =atskaites_jedox!F9 -> 84026.45
B38: Pašvaldības atbildīgā persona Kapitālsabiedrību pārraudzības nodaļas ekonomiste Tatjana Volkova
A41: Paskaidrojumi
A42: 1.SADAĻĀ tiek norādīti visi atceltie reisi neatkarīgi no reisa atcelšanas iemesliem.

Sheet aprīlis
A1: Pārskats par sabiedriskā transporta pakalpojumos radītajiem izdevumiem un zaudējumiem sakarā ar noteiktajiem ierobežojumiem
A2: Periods | C2: Vienības | D2: Autobusi | E2: Autobusi (8 maršrutā samazinātie km JUDOVKA mikrorajona ceļu remonta dēļ). | F2: Autobusi (10A MARŠRUTS) Reisi tiek atcelti vairāku autobusu vadītāju saslimšanas dēļ. | G2: Autobusi (12 MARŠRUTS) 12* maršrutā skolēnu brīvlaikā nekurse 2 reisi. | H2: Autobusi (15 maršrutā samazinātie km JUDOVKA mikrorajona ceļu remonta dēļ). | I2: Autobusi (15 maršrutā samazinātie km COVID-19 dēļ). 15* maršrutā skolēnu brīvlaikā reisu skaits paliek nemainīgs, bet mainās maršruta kustības shēma. Sakarā ar COVID-19, 4 reisi virzas pēc brīvdienu sarakta. | J2: Autobusi (15 maršrutā samazinātie km COVID-19 DEĻ + JUDOVKA mikrorajona ceļu remonta dēļ). 15* maršrutā skolēnu brīvlaikā reisu skaits paliek nemainīgs, bet mainās maršruta kustības shēma. Sakarā ar COVID-19, 4 reisi virzas pēc brīvdienu sarakta. | K2: Autobusi (17 MARŠRUTS) Reisi tiek atcelti vairāku autobusu vadītāju saslimšanas dēļ. | L2: Autobusi (17A MARŠRUTS) Reisi tiek atcelti vairāku autobusu vadītāju saslimšanas dēļ. | M2: Minibusi (ekspresbusi) | N2: Tramvaji | O2: Trolejbusi
A3: 1.SADAĻA | B3: KOPSUMMA ((N - P) x Izm) | D3: =(D10-D9)*D13 -> -13822.82 | E3: =(E10-E9)*E13 -> 0 | F3: =(F10-F9)*F13 -> 0 | G3: =(G10-G9)*G13 -> 0 | H3: =(H10-H9)*H13 -> 0 | I3: =(I10-I9)*I13 -> 0 | J3: =(J10-J9)*J13 -> 0 | K3: =(K10-K9)*K13 -> 0 | ... O3: =(O10-O9)*O13 -> 0
A4: 01.04.2021.- 30.04.2021. | B4: Iesaistīto transportlīdzekļu vienības | C4: skaits | D4: 56 | E4: 56 | F4: 56 | G4: 56 | H4: 56 | I4: 56 | J4: 56 | K4: 56 | L4: 56 | N4: 42
B5: (S) Plānotais reisu skaits | D5: 26770 | E5: 1380 | F5: 1380 | G5: 1760 | H5: 480 | I5: 480 | J5: 480 | K5: 1980 | L5: 4020 | N5: 10234
B6: (R) Faktiskais reisu skaits (S + RP-RA) | D6: =D5+D7-D8 -> 25570 | E6: =E5+E7-E8 -> 1380 | F6: =F5+F7-F8 -> 1100 | G6: =G5+G7-G8 -> 1720 | H6: =H5+H7-H8 -> 480 | I6: =I5+I7-I8 -> 480 | J6: =J5+J7-J8 -> 480 | K6: =K5+K7-K8 -> 1820 | ... M6: =M5+M7-M8 -> 0 | N6: 10234
B7: to starpā papildu reisi (RP)
B8: to starpā atceltie reisi (RA) | D8: =SUM(E8+F8+G8+J8+K8+L8) -> 1200 | E8: 0 | F8: 280 | G8: 40 | H8: 0 | I8: 0 | J8: 0 | K8: 160 | L8: 720
B9: (P) Plānotais nobraukums | C9: km | D9: 226386.8 | E9: 7542 | F9: 8901 | G9: 24675 | H9: 4274 | I9: 4274 | J9: 4274 | K9: 11880 | L9: 25326 | N9: 79477.694
B10: (N) Faktiskais nobraukums (P + NP-NA) | D10: =D9+D11-D12 -> 218059.8 | E10: =E9+E11-E12 -> 7197 | F10: =F9+F11-F12 -> 7147 | G10: =G9+G11-G12 -> 24125 | H10: =H9+H11-H12 -> 4214 | I10: =I9+I11-I12 -> 4152 | J10: =J9+J11-J12 -> 4092 | K10: =K9+K11-K12 -> 10920 | ... M10: =M9+M11-M12 -> 0 | N10: 79477.694 | P10: =atskaites_jedox!BG9 -> 218059.8 | Q10: =atskaites_jedox!BH9 -> 79477.69
B11: to starpā papildu reisos veiktais nobraukums (NP)
B12: to starpā atcelto reisu nobraukums (NA) | D12: =SUM(E12+F12+G12+J12+K12+L12) -> 8327 | E12: 345 | F12: 1754 | G12: 550 | H12: 60 | I12: 122 | J12: 182 | K12: 960 | L12: 4536 | N12: 0
A13: 01.04.2021.- 30.04.2021. | B13: (Izm) 1 km pašizmaksa | C13: EUR/km | D13: 1.66 | N13: 3.81 | P13: =atskaites_jedox!BI9 -> 1.67 | Q13: =atskaites_jedox!BJ9 -> 3.82
A14: 2.SADAĻA | B14: KOPSUMMA (1 vienības cenas reizinājums ar preču/pakalpojumu skaitu; summa ( K x Z)) | D14: =SUM(D16*D24,D22*D30,D17*D25,D18*D26,D19*D27,D20*D28,D21*D29) -> 2912.53 | F14: =SUM(F16*F24,F17*F25,F18*F26,F19*F27,F20*F28,F21*F29) -> 0 | G14: =SUM(G16*G24,G17*G25,G18*G26,G19*G27,G20*G28,G21*G29) -> 0 | H14: =SUM(H16*H24,H17*H25,H18*H26,H19*H27,H20*H28,H21*H29) -> 0 | I14: =SUM(I16*I24,I17*I25,I18*I26,I19*I27,I20*I28,I21*I29) -> 0 | J14: =SUM(J16*J24,J17*J25,J18*J26,J19*J27,J20*J28,J21*J29) -> 0 | K14: =SUM(K16*K24,K17*K25,K18*K26,K19*K27,K20*K28,K21*K29) -> 0 | L14: =SUM(L16*L24,L17*L25,L18*L26,L19*L27,L20*L28,L21*L29) -> 0 | M14: =SUM(M16*M24,M17*M25,M18*M26,M19*M27,M20*M28,M21*M29) -> 0 | ... O14: =SUM(O16*O24,O17*O25,O18*O26,O19*O27,O20*O28,O21*O29) -> 0
A15: 01.04.2021.- 30.04.2021. | B15: (Z) Pakalpojumi, pasākumi un materiāli Covid-19 pandēmijas ierobežošanai | C15: skaits (jānorāda atbilstoša mērvienība gab., litri, reižu skaits, darba stundas u.c.)
B16: Dezinfekcijas līdzekļi
B17: Sejas maskas (gab.) | D17: 16557 | N17: 16556
B18: Sociālā distancēšanās sabiedriskā transportā
B19: Transportlīdzekļu dezinfekcija ( m 2.) | D19: 10850 | N19: 8448.8
B20: Transportlīdzekļu papildu mazgāšana
B21: Citi izdevumi cimdi ( gab.) | D21: 3833 | N21: 2833
B22: Citi izdevumi fiziska apsardze(diennakts) | D22: 30
B23: (K) Faktiskās izmaksas Covid-19 pandēmijas ierobežošanai, t.sk. | C23: EUR/vien bez PVN
B24: Dezinfekcijas līdzekļi
B25: Sejas maskas | D25: 0.03 | N25: 0.03
B26: Sociālā distancēšanās sabiedriskā transportā
B27: Transportlīdzekļu dezinfekcija, to starpā darba spēka izmaksas | D27: 0.05 | N27: 0.05
B28: Transportlīdzekļu papildu mazgāšana, to starpā darba spēka izmaksas
B29: Citi izdevumi cimdi | D29: 0.09 | N29: 0.09
B30: Citi izdevumi fiziska apsardze | D30: 50.945
A31: 3.SADAĻA | B31: KOPSUMMA ((C/D-A/N) x N) | D31: =((D34/D35)-(D32/D33))*D33 -> 23661.232 | M31: =((M34/M35)-(M33/#REF!))*#REF! -> #DIV/0! | N31: =((N34/N35)-(N32/N33))*N33 -> 24835.952
A32: 01.04.2021.- 30.04.2021. | B32: (A) No pasažieriem, t.sk., personām, kurām noteikti pašvaldības noteiktie braukšanas maksas atvieglojumi, saņemtie ieņēmumi par sniegto sabiedriskā transporta pakalpojumu | C32: EUR bez PVN | D32: =73191.24 -> 73191.24 | N32: 47525.88 | P32: =atskaites_jedox!BE9 -> 73191.24 | Q32: =atskaites_jedox!BF9 -> 47525.88
B33: (N) Faktiskais nobraukums | C33: km | D33: 218059.8 | N33: 79477.694 | P33: =atskaites_jedox!BG9 -> 218059.8 | Q33: =atskaites_jedox!BH9 -> 79477.69 | R33: =D33=D10 -> TRUE | S33: =N33=N10 -> TRUE
A34: 01.04.2019.- 30.04.2019. | B34: (C) No pasažieriem, t.sk., personām, kurām noteikti pašvaldības noteiktie braukšanas maksas atvieglojumi, saņemtie ieņēmumi par sniegto sabiedriskā transporta pakalpojumu | C34: EUR bez PVN | D34: =99752.23 -> 99752.23 | N34: =72285.27 -> 72285.27 | P34: =atskaites_jedox!I9 -> 99752.23 | Q34: =atskaites_jedox!J9 -> 72285.27
B35: (D) Faktiskais nobraukums | C35: km | D35: 224588.5 | N35: 79393.603 | P35: =atskaites_jedox!K9 -> 224588.5 | Q35: =atskaites_jedox!L9 -> 79393.6
B38: Pašvaldības atbildīgās personas vārds, uzvārds, kontaktinformācija un paraksts T.Volkova
B39: 65404392

Sheet maijs
A1: Pārskats par sabiedriskā transporta pakalpojumos radītajiem izdevumiem un zaudējumiem sakarā ar noteiktajiem ierobežojumiem
A2: Periods | C2: Vienības | D2: Autobusi | E2: Autobusi (8 maršrutā samazinātie km JUDOVKA mikrorajona ceļu remonta dēļ). | F2: Autobusi (10A MARŠRUTS) Reisi tiek atcelti vairāku autobusu vadītāju saslimšanas dēļ. | G2: Autobusi (12 MARŠRUTS) 12* maršrutā skolēnu brīvlaikā nekurse 2 reisi. | H2: Autobusi (15 maršrutā samazinātie km JUDOVKA mikrorajona ceļu remonta dēļ). | I2: Autobusi (15 maršrutā samazinātie km COVID-19 dēļ). 15* maršrutā skolēnu brīvlaikā reisu skaits paliek nemainīgs, bet mainās maršruta kustības shēma. Sakarā ar COVID-19, 4 reisi virzas pēc brīvdienu sarakta. | J2: Autobusi (15 maršrutā samazinātie km COVID-19 DEĻ + JUDOVKA mikrorajona ceļu remonta dēļ). 15* maršrutā skolēnu brīvlaikā reisu skaits paliek nemainīgs, bet mainās maršruta kustības shēma. Sakarā ar COVID-19, 4 reisi virzas pēc brīvdienu sarakta. | K2: Autobusi (17 MARŠRUTS) Reisi tiek atcelti vairāku autobusu vadītāju saslimšanas dēļ. | L2: Autobusi (17A MARŠRUTS) Reisi tiek atcelti vairāku autobusu vadītāju saslimšanas dēļ. | M2: Minibusi (ekspresbusi) | N2: Tramvaji | O2: Trolejbusi
A3: 1.SADAĻA | B3: KOPSUMMA ((N - P) x Izm) | D3: =(D10-D9)*D13 -> -2094.8972 | E3: =(E10-E9)*E13 -> 0 | F3: =(F10-F9)*F13 -> 0 | G3: =(G10-G9)*G13 -> 0 | H3: =(H10-H9)*H13 -> 0 | I3: =(I10-I9)*I13 -> 0 | J3: =(J10-J9)*J13 -> 0 | K3: =(K10-K9)*K13 -> 0 | ... O3: =(O10-O9)*O13 -> 0
A4: 01.05.2021.- 31.05.2021. | B4: Iesaistīto transportlīdzekļu vienības | C4: skaits | D4: 58 | E4: 56 | G4: 56 | H4: 56 | I4: 56 | J4: 56 | L4: 56 | N4: 42
B5: (S) Plānotais reisu skaits | D5: 27647 | E5: 1426 | G5: 1816 | H5: 480 | I5: 480 | J5: 480 | L5: 4146 | N5: 10480
B6: (R) Faktiskais reisu skaits (S + RP-RA) | D6: =D5+D7-D8 -> 27605 | E6: =E5+E7-E8 -> 1426 | G6: =G5+G7-G8 -> 1776 | H6: =H5+H7-H8 -> 480 | I6: =I5+I7-I8 -> 480 | J6: =J5+J7-J8 -> 480 | L6: 4144 | M6: =M5+M7-M8 -> 0 | N6: 10480
B7: to starpā papildu reisi (RP)
B8: to starpā atceltie reisi (RA) | D8: =SUM(E8+F8+G8+J8+K8+L8) -> 42 | E8: 0 | G8: 40 | H8: 0 | I8: 0 | J8: 0 | L8: 2
B9: (P) Plānotais nobraukums | C9: km | D9: 234233.1 | E9: 7793.4 | G9: 25636.6 | H9: 4412.4 | I9: 4412.4 | J9: 4412.4 | L9: 26119.8 | N9: 80725.787
B10: (N) Faktiskais nobraukums (P + NP-NA) | D10: =D9+D11-D12 -> 233130 | E10: =E9+E11-E12 -> 7436.9 | G10: =G9+G11-G12 -> 25086.6 | H10: =H9+H11-H12 -> 4350.4 | I10: =I9+I11-I12 -> 4290.4 | J10: =J9+J11-J12 -> 4228.4 | L10: =L9+L11-L12 -> 26107.2 | M10: =M9+M11-M12 -> 0 | N10: 80725.787 | S10: =atskaites_jedox!BM9 -> 233130 | T10: =atskaites_jedox!BN9 -> 80725.79
B11: to starpā papildu reisos veiktais nobraukums (NP)
B12: to starpā atcelto reisu nobraukums (NA) | D12: =SUM(E12+F12+G12+J12+K12+L12) -> 1103.1 | E12: 356.5 | G12: 550 | H12: 62 | I12: 122 | J12: 184 | L12: 12.6
A13: 01.05.2021.- 31.05.2021. | B13: (Izm) 1 km pašizmaksa | C13: EUR/km | D13: 1.8991 | N13: 3.8364 | S13: =atskaites_jedox!BO9 -> 1.91 | T13: =atskaites_jedox!BP9 -> 3.85
B14: KOPSUMMA (1 vienības cenas reizinājums ar preču/pakalpojumu skaitu; summa ( K x Z)) | D14: =SUM(D16*D24,D22*D30,D17*D25,D18*D26,D19*D27,D20*D28,D21*D29) -> 3052.226 | F14: =SUM(F16*F24,F17*F25,F18*F26,F19*F27,F20*F28,F21*F29) -> 0 | G14: =SUM(G16*G24,G17*G25,G18*G26,G19*G27,G20*G28,G21*G29) -> 0 | H14: =SUM(H16*H24,H17*H25,H18*H26,H19*H27,H20*H28,H21*H29) -> 0 | I14: =SUM(I16*I24,I17*I25,I18*I26,I19*I27,I20*I28,I21*I29) -> 0 | J14: =SUM(J16*J24,J17*J25,J18*J26,J19*J27,J20*J28,J21*J29) -> 0 | K14: =SUM(K16*K24,K17*K25,K18*K26,K19*K27,K20*K28,K21*K29) -> 0 | L14: =SUM(L16*L24,L17*L25,L18*L26,L19*L27,L20*L28,L21*L29) -> 0 | M14: =SUM(M16*M24,M17*M25,M18*M26,M19*M27,M20*M28,M21*M29) -> 0 | ... O14: =SUM(O16*O24,O17*O25,O18*O26,O19*O27,O20*O28,O21*O29) -> 0
A15: 01.05.2021.- 31.05.2021. | B15: (Z) Pakalpojumi, pasākumi un materiāli Covid-19 pandēmijas ierobežošanai | C15: skaits (jānorāda atbilstoša mērvienība gab., litri, reižu skaits, darba stundas u.c.)
B16: Dezinfekcijas līdzekļi
B17: Sejas maskas (gab.) | D17: 16556 | N17: 16556
B18: Sociālā distancēšanās sabiedriskā transportā
B19: Transportlīdzekļu dezinfekcija ( m 2.) | D19: 12625 | N19: 9057.4
B20: Transportlīdzekļu papildu mazgāšana
B21: Citi izdevumi cimdi ( gab.) | D21: 3833 | N21: 2833
B22: Citi izdevumi fiziska apsardze(diennakts) | D22: 31
B23: (K) Faktiskās izmaksas Covid-19 pandēmijas ierobežošanai, t.sk. | C23: EUR/vien bez PVN
B24: Dezinfekcijas līdzekļi
B25: Sejas maskas | D25: 0.03 | N25: 0.03
B26: Sociālā distancēšanās sabiedriskā transportā
B27: Transportlīdzekļu dezinfekcija, to starpā darba spēka izmaksas | D27: 0.05 | N27: 0.05
B28: Transportlīdzekļu papildu mazgāšana, to starpā darba spēka izmaksas
B29: Citi izdevumi cimdi | D29: 0.09 | N29: 0.09
B30: Citi izdevumi fiziska apsardze | D30: 50.946
A31: 3.SADAĻA | B31: KOPSUMMA ((C/D-A/N) x N) | D31: =((D34/D35)-(D32/D33))*D33 -> 29693.302 | M31: =((M34/M35)-(M33/#REF!))*#REF! -> #DIV/0! | N31: =((N34/N35)-(N32/N33))*N33 -> 25661.886
A32: 01.05.2021.- 31.05.2021. | B32: (A) No pasažieriem, t.sk., personām, kurām noteikti pašvaldības noteiktie braukšanas maksas atvieglojumi, saņemtie ieņēmumi par sniegto sabiedriskā transporta pakalpojumu | C32: EUR bez PVN | D32: 72800.45 | N32: 46423.69 | S32: =atskaites_jedox!BK9 -> 72800.45 | T32: =atskaites_jedox!BL9 -> 46423.69
B33: (N) Faktiskais nobraukums | C33: km | D33: 233130 | N33: 80725.79 | S33: =atskaites_jedox!BM9 -> 233130 | T33: =atskaites_jedox!BN9 -> 80725.79 | U33: =D33=D10 -> TRUE | V33: =N33=N10 -> FALSE | W33: =N33-N10 -> 0.0035
A34: 01.05.2019.- 31.05.2019. | B34: (C) No pasažieriem, t.sk., personām, kurām noteikti pašvaldības noteiktie braukšanas maksas atvieglojumi, saņemtie ieņēmumi par sniegto sabiedriskā transporta pakalpojumu | C34: EUR bez PVN | D34: 104275.27 | N34: 73706.22 | S34: =atskaites_jedox!O9 -> 104275.27 | T34: =atskaites_jedox!P9 -> 73706.22
B35: (D) Faktiskais nobraukums | C35: km | D35: 237182.2 | N35: 82540.685 | S35: =atskaites_jedox!Q9 -> 237182.2 | T35: =atskaites_jedox!R9 -> 82540.69
B38: Pašvaldības atbildīgās personas vārds, uzvārds, kontaktinformācija
B39: T.Volkova , 65404392

Sheet jūnijs
A1: Pārskats par sabiedriskā transporta pakalpojumos radītajiem izdevumiem un zaudējumiem sakarā ar noteiktajiem ierobežojumiem
A2: Periods | C2: Vienības | D2: Autobusi | E2: Autobusi (3 maršrutā papielinātie km Arodu ielas slēgšanas dēļ). | F2: Autobusi (3C maršrutā papielinātie km Arodu ielas slēgšanas dēļ). | G2: Autobusi (8 maršrutā samazinātie km JUDOVKA mikrorajona ceļu remonta dēļ). | H2: Autobusi (15 maršrutā samazinātie km JUDOVKA mikrorajona ceļu remonta dēļ). | I2: Autobusi (17A MARŠRUTS) 2 Reisi tiek atcelti, jo noiešanas dēļ nebija brīva autobusa. | J2: Autobusi (20B maršrutā papielinātie km Arodu ielas slēgšanas dēļ). | K2: Autobusi (22 maršrutā samazinātie km JUDOVKA mikrorajona ceļu remonta dēļ). | L2: Minibusi (ekspresbusi) | M2: Tramvaji | N2: Trolejbusi
A3: 1.SADAĻA | B3: KOPSUMMA ((N - P) x Izm) | D3: =(D10-D9)*D14 -> -859.19862 | E3: =(E10-E9)*E14 -> 0 | F3: =(F10-F9)*F14 -> 0 | G3: =(G10-G9)*G14 -> 0 | H3: =(H10-H9)*H14 -> 0 | I3: =(I10-I9)*I14 -> 0 | J3: =(J10-J9)*J14 -> 0 | K3: =(K10-K9)*K14 -> 0 | ... N3: =(N10-N9)*N14 -> 0
A4: 01.06.2021.- 30.06.2021. | B4: Iesaistīto transportlīdzekļu vienības | C4: skaits | D4: 58 | E4: 58 | F4: 58 | G4: 58 | H4: 58 | I4: 58 | J4: 58 | K4: 58 | M4: 42
B5: (S) Plānotais reisu skaits | D5: 26440 | E5: 800 | F5: 1380 | G5: 1380 | H5: 480 | I5: 3786 | J5: 900 | K5: 120 | M5: 10204
B6: (R) Faktiskais reisu skaits (S + RP-RA) | D6: =D5+D7-D8 -> 26438 | E6: =E5+E7-E8 -> 800 | F6: =F5+F7-F8 -> 1380 | G6: =G5+G7-G8 -> 1380 | H6: =H5+H7-H8 -> 480 | I6: =I5+I7-I8 -> 3784 | J6: =J5+J7-J8 -> 900 | K6: =K5+K7-K8 -> 120 | L6: =L5+L7-L8 -> 0 | M6: 10204
B7: to starpā papildu reisi (RP)
B8: to starpā atceltie reisi (RA) | D8: =SUM(G8+H8+I8+K8) -> 2 | E8: 0 | F8: 0 | G8: 0 | H8: 0 | I8: 2 | J8: 0 | K8: 0
B9: (P) Plānotais nobraukums | C9: km | D9: 224618.3 | E9: 9790 | F9: 6120 | G9: 7542 | H9: 4152 | I9: 26119.8 | J9: 11043 | K9: 3894 | M9: 75075.63
B10: (N) Faktiskais nobraukums (P + NP-NA) | D10: =D9-D12+D13 -> 224136.2 | G10: =G9+G11-G12 -> 7197 | H10: =H9+H11-H12 -> 4092 | I10: =I9+I11-I12 -> 26107.2 | K10: =K9+K11-K12 -> 3822 | L10: =L9+L11-L12 -> 0 | M10: 75075.63 | O10: =atskaites_jedox!BS9 -> 224136.2 | P10: =atskaites_jedox!BT9 -> 75075.63 | Q10: =D10=O10 -> TRUE | R10: =E10=P10 -> FALSE | S10: =M10-P10 -> 0
B11: to starpā papildu reisos veiktais nobraukums (NP)
B12: to starpā atcelto reisu nobraukums (NA) | D12: =SUM(G12+H12+I12+K12) -> 489.6 | G12: 345 | H12: 60 | I12: 12.6 | K12: 72
B13: to starpā papilnobraukums (apbraucamā ceļa izmantošana) KM | D13: =SUM(E13+F13+J13) -> 7.5 | E13: 2.4 | F13: 2.7 | J13: 2.4
A14: 01.06.2021.- 30.06.2021. | B14: (Izm) 1 km pašizmaksa | C14: EUR/km | D14: 1.7822 | M14: 3.9288 | O14: =atskaites_jedox!BU9 -> 1.79 | P14: =atskaites_jedox!BV9 -> 3.93
A15: 2.SADAĻA | B15: KOPSUMMA (1 vienības cenas reizinājums ar preču/pakalpojumu skaitu; summa ( K x Z)) | D15: =SUM(D17*D25,D23*D31,D18*D26,D19*D27,D20*D28,D21*D29,D22*D30) -> 2089.16 | H15: =SUM(H17*H25,H18*H26,H19*H27,H20*H28,H21*H29,H22*H30) -> 0 | I15: =SUM(I17*I25,I18*I26,I19*I27,I20*I28,I21*I29,I22*I30) -> 0 | L15: =SUM(L17*L25,L18*L26,L19*L27,L20*L28,L21*L29,L22*L30) -> 0 | M15: =SUM(M17*M25,M18*M26,M19*M27,M20*M28,M21*M29,M22*M30) -> 270.29 | N15: =SUM(N17*N25,N18*N26,N19*N27,N20*N28,N21*N29,N22*N30) -> 0
A16: 01.06.2021.- 30.06.2021. | B16: (Z) Pakalpojumi, pasākumi un materiāli Covid-19 pandēmijas ierobežošanai | C16: skaits (jānorāda atbilstoša mērvienība gab., litri, reižu skaits, darba stundas u.c.)
B17: Dezinfekcijas līdzekļi
B18: Sejas maskas (gab.)
B19: Sociālā distancēšanās sabiedriskā transportā
B20: Transportlīdzekļu dezinfekcija ( m 2) | D20: 11215 | M20: 5405.8
B21: Transportlīdzekļu papildu mazgāšana
B22: Citi izdevumi cimdi ( gab.)
B23: Citi izdevumi fiziska apsardze(diennakts) | D23: 30
B24: (K) Faktiskās izmaksas Covid-19 pandēmijas ierobežošanai, t.sk. | C24: EUR/vien bez PVN
B25: Dezinfekcijas līdzekļi
B26: Sejas maskas
B27: Sociālā distancēšanās sabiedriskā transportā
B28: Transportlīdzekļu dezinfekcija, to starpā darba spēka izmaksas | D28: 0.05 | M28: 0.05
B29: Transportlīdzekļu papildu mazgāšana, to starpā darba spēka izmaksas
B30: Citi izdevumi cimdi
B31: Citi izdevumi fiziska apsardze | D31: 50.947
A32: 3.SADAĻA | B32: KOPSUMMA ((C/D-A/N) x N) | D32: =((D35/D36)-(D33/D34))*D34 -> 25402.241 | E32: =((E35/E36)-(E33/E34))*E34 -> #DIV/0! | F32: =((F35/F36)-(F33/F34))*F34 -> #DIV/0! | G32: =((G35/G36)-(G33/G34))*G34 -> #DIV/0! | H32: =((H35/H36)-(H33/H34))*H34 -> #DIV/0! | I32: =((I35/I36)-(I33/I34))*I34 -> #DIV/0! | J32: =((J35/J36)-(J33/J34))*J34 -> #DIV/0! | K32: =((K35/K36)-(K33/K34))*K34 -> #DIV/0! | ... N32: =((N35/N36)-(N33/N34))*N34 -> #DIV/0!
A33: 01.06.2021.- 30.06.2021.. | B33: (A) No pasažieriem, t.sk., personām, kurām noteikti pašvaldības noteiktie braukšanas maksas atvieglojumi, saņemtie ieņēmumi par sniegto sabiedriskā transporta pakalpojumu | C33: EUR bez PVN | D33: 71941.29 | M33: 44292.26 | O33: =atskaites_jedox!BQ9 -> 71941.29 | P33: =atskaites_jedox!BR9 -> 44292.26
B34: (N) Faktiskais nobraukums | C34: km | D34: 224136.2 | M34: 75075.63 | O34: =atskaites_jedox!BS9 -> 224136.2 | P34: =atskaites_jedox!BT9 -> 75075.63 | Q34: =D34=D10 -> TRUE
A35: 01.06.2019.- 30.06.2019. | B35: (C) No pasažieriem, t.sk., personām, kurām noteikti pašvaldības noteiktie braukšanas maksas atvieglojumi, saņemtie ieņēmumi par sniegto sabiedriskā transporta pakalpojumu | C35: EUR bez PVN | D35: 96677.48 | M35: 66356.36 | O35: =atskaites_jedox!U9 -> 96677.48 | P35: =atskaites_jedox!V9 -> 66356.36
B36: (D) Faktiskais nobraukums | C36: km | D36: 222602.6 | M36: 75187.435 | O36: =atskaites_jedox!W9 -> 222602.6 | P36: =atskaites_jedox!X9 -> 75187.43
B39: Pašvaldības atbildīgās personas vārds, uzvārds, kontaktinformācija un paraksts T.Volkova, 65404392

Sheet PIVOT_atskaite
A3: Sum of Vērtība | B3: Column Labels
B4: 09.03.2021.- 31.03.2021. | D4: 09.03.2021.- 31.03.2021. Total | E4: Aprīlis | G4: Aprīlis Total | H4: Maijs | J4: Maijs Total | K4: Jūnijs | M4: Jūnijs Total | N4: Grand Total
A5: Row Labels | B5: Autobuss | C5: Tramvajs | E5: Autobuss | F5: Tramvajs | H5: Autobuss | I5: Tramvajs | K5: Autobuss | L5: Tramvajs
A6: 1. Faktiskie izdevumi, kas radušies saistībā ar reisu atcelšanu vai papild reisu nodrošināšanu - KOPSUMMA ((N - P) x Izm) | B6: -11096.024 | C6: 0 | D6: -11096.024 | E6: -13822.82 | F6: 0 | G6: -13822.82 | H6: -2094.8972 | I6: 0 | J6: -2094.8972 | K6: -859.19862 | L6: 0 | M6: -859.19862 | N6: -27872.94
A7: 2. Kopējie izdevumi par Covid-19 infekcijas ierobežošanas pasākumiem - KOPSUMMA (1 vienības cenas reizinājums ar preču/pakalpojumu skaitu; summa ( K x Z)) | B7: 2272.1435 | C7: 978.733 | D7: 3250.8765 | E7: 2912.53 | F7: 1174.09 | G7: 4086.62 | H7: 3052.226 | I7: 1204.52 | J7: 4256.746 | K7: 2089.16 | L7: 270.29 | M7: 2359.45 | N7: 13953.693
A8: 3. Kopējā ietekme uz ieņēmumu apgrozījumu - KOPSUMMA ((C/D-A/N) x N) | B8: 9198.6758 | C8: 12539.302 | D8: 21737.977 | E8: 23661.232 | F8: 24835.952 | G8: 48497.184 | H8: 29693.302 | I8: 25661.886 | J8: 55355.189 | K8: 25402.241 | L8: 21965.427 | M8: 47367.668 | N8: 172958.02
A9: Grand Total | B9: 374.79542 | C9: 13518.035 | D9: 13892.83 | E9: 12750.942 | F9: 26010.042 | G9: 38760.984 | H9: 30650.631 | I9: 26866.406 | J9: 57517.037 | K9: 26632.202 | L9: 22235.717 | M9: 48867.919 | N9: 159038.77

Sheet PIVOT
B1: Pārskats par sabiedriskā transporta pakalpojumos radītajiem izdevumiem un zaudējumiem sakarā ar noteiktajiem ierobežojumiem
B5: Rādītājs | C5: Vienības | D5: Vērtība | E5: Pārvadājumu veids | F5: Pilsēta | G5: Periods
B6: 1. Faktiskie izdevumi, kas radušies saistībā ar reisu atcelšanu vai papild reisu nodrošināšanu - KOPSUMMA ((N - P) x Izm) | D6: -11096.024 | E6: Autobuss | F6: Daugavpils | G6: 09.03.2021.- 31.03.2021.
B7: Iesaistīto transportlīdzekļu vienības | C7: skaits | D7: 54 | E7: Autobuss | F7: Daugavpils | G7: 09.03.2021.- 31.03.2021.
B8: (S) Plānotais reisu skaits | C8: skaits | D8: 20717 | E8: Autobuss | F8: Daugavpils | G8: 09.03.2021.- 31.03.2021.
B9: (R) Faktiskais reisu skaits (S + RP-RA) | C9: skaits | D9: 19697 | E9: Autobuss | F9: Daugavpils | G9: 09.03.2021.- 31.03.2021.
B10: to starpā papildu reisi (RP) | C10: skaits | E10: Autobuss | F10: Daugavpils | G10: 09.03.2021.- 31.03.2021.
B11: to starpā atceltie reisi (RA) | C11: skaits | D11: 1020 | E11: Autobuss | F11: Daugavpils | G11: 09.03.2021.- 31.03.2021.
B12: (P) Plānotais nobraukums | C12: km | D12: 175440.7 | E12: Autobuss | F12: Daugavpils | G12: 09.03.2021.- 31.03.2021.
B13: (N) Faktiskais nobraukums (P + NP-NA) | C13: km | D13: 168396.5 | E13: Autobuss | F13: Daugavpils | G13: 09.03.2021.- 31.03.2021.
B14: to starpā papildu reisos veiktais nobraukums (NP) | C14: km | E14: Autobuss | F14: Daugavpils | G14: 09.03.2021.- 31.03.2021.
B15: to starpā atcelto reisu nobraukums (NA) | C15: km | D15: 7044.2 | E15: Autobuss | F15: Daugavpils | G15: 09.03.2021.- 31.03.2021.
B16: (Izm) 1 km pašizmaksa | C16: EUR/km | D16: 1.5752 | E16: Autobuss | F16: Daugavpils | G16: 09.03.2021.- 31.03.2021.
B17: 2. Kopējie izdevumi par Covid-19 infekcijas ierobežošanas pasākumiem - KOPSUMMA (1 vienības cenas reizinājums ar preču/pakalpojumu skaitu; summa ( K x Z)) | D17: 2272.1435 | E17: Autobuss | F17: Daugavpils | G17: 09.03.2021.- 31.03.2021.
B18: (Z) Pakalpojumi, pasākumi un materiāli Covid-19 pandēmijas ierobežošanai | C18: skaits (jānorāda atbilstoša mērvienība gab., litri, reižu skaits, darba stundas u.c.) | E18: Autobuss | F18: Daugavpils | G18: 09.03.2021.- 31.03.2021.
B19: Dezinfekcijas līdzekļi | C19: skaits (jānorāda atbilstoša mērvienība gab., litri, reižu skaits, darba stundas u.c.) | E19: Autobuss | F19: Daugavpils | G19: 09.03.2021.- 31.03.2021.
B20: Sejas maskas (gab.) | C20: skaits (jānorāda atbilstoša mērvienība gab., litri, reižu skaits, darba stundas u.c.) | D20: 13161 | E20: Autobuss | F20: Daugavpils | G20: 09.03.2021.- 31.03.2021.
B21: Sociālā distancēšanās sabiedriskā transportā | C21: skaits (jānorāda atbilstoša mērvienība gab., litri, reižu skaits, darba stundas u.c.) | E21: Autobuss | F21: Daugavpils | G21: 09.03.2021.- 31.03.2021.
B22: Transportlīdzekļu dezinfekcija ( m2) | C22: skaits (jānorāda atbilstoša mērvienība gab., litri, reižu skaits, darba stundas u.c.) | D22: 9548.71 | E22: Autobuss | F22: Daugavpils | G22: 09.03.2021.- 31.03.2021.
B23: Transportlīdzekļu papildu mazgāšana | C23: skaits (jānorāda atbilstoša mērvienība gab., litri, reižu skaits, darba stundas u.c.) | E23: Autobuss | F23: Daugavpils | G23: 09.03.2021.- 31.03.2021.
B24: Citi izdevumi cimdi ( gab.) | C24: skaits (jānorāda atbilstoša mērvienība gab., litri, reižu skaits, darba stundas u.c.) | D24: 2844 | E24: Autobuss | F24: Daugavpils | G24: 09.03.2021.- 31.03.2021.
B25: Citi izdevumi fiziska apsardze(diennakts) | C25: skaits (jānorāda atbilstoša mērvienība gab., litri, reižu skaits, darba stundas u.c.) | D25: 23 | E25: Autobuss | F25: Daugavpils | G25: 09.03.2021.- 31.03.2021.
B26: (K) Faktiskās izmaksas Covid-19 pandēmijas ierobežošanai, t.sk. | C26: EUR/vien bez PVN | E26: Autobuss | F26: Daugavpils | G26: 09.03.2021.- 31.03.2021.
B27: Dezinfekcijas līdzekļi | C27: EUR/vien bez PVN | E27: Autobuss | F27: Daugavpils | G27: 09.03.2021.- 31.03.2021.
B28: Sejas maskas | C28: EUR/vien bez PVN | D28: 0.028 | E28: Autobuss | F28: Daugavpils | G28: 09.03.2021.- 31.03.2021.
B29: Sociālā distancēšanās sabiedriskā transportā | C29: EUR/vien bez PVN | E29: Autobuss | F29: Daugavpils | G29: 09.03.2021.- 31.03.2021.
B30: Transportlīdzekļu dezinfekcija, to starpā darba spēka izmaksas | C30: EUR/vien bez PVN | D30: 0.05 | E30: Autobuss | F30: Daugavpils | G30: 09.03.2021.- 31.03.2021.
B31: Transportlīdzekļu papildu mazgāšana, to starpā darba spēka izmaksas | C31: EUR/vien bez PVN | E31: Autobuss | F31: Daugavpils | G31: 09.03.2021.- 31.03.2021.
B32: Citi izdevumi cimdi | C32: EUR/vien bez PVN | D32: 0.09 | E32: Autobuss | F32: Daugavpils | G32: 09.03.2021.- 31.03.2021.
B33: Citi izdevumi (fiziska apsardze distancēšanas nodroš.) | C33: EUR/vien bez PVN | D33: 50.88 | E33: Autobuss | F33: Daugavpils | G33: 09.03.2021.- 31.03.2021.
B34: 3. Kopējā ietekme uz ieņēmumu apgrozījumu - KOPSUMMA ((C/D-A/N) x N) | D34: 9198.6758 | E34: Autobuss | F34: Daugavpils | G34: 09.03.2021.- 31.03.2021.
B35: (A) No pasažieriem, t.sk., personām, kurām noteikti pašvaldības noteiktie braukšanas maksas atvieglojumi, saņemtie ieņēmumi par sniegto sabiedriskā transporta pakalpojumu - 09.03.2021.-31.03.2021. | C35: EUR bez PVN | D35: 65274.65 | E35: Autobuss | F35: Daugavpils | G35: 09.03.2021.- 31.03.2021.
B36: (N) Faktiskais nobraukums - 09.03.2021.-31.03.2021. | C36: km | D36: 168396.5 | E36: Autobuss | F36: Daugavpils | G36: 09.03.2021.- 31.03.2021.
B37: (C) No pasažieriem, t.sk., personām, kurām noteikti pašvaldības noteiktie braukšanas maksas atvieglojumi, saņemtie ieņēmumi par sniegto sabiedriskā transporta pakalpojumu - 09.03.2019.-31.03.2019. | C37: EUR bez PVN | D37: 76064.01 | E37: Autobuss | F37: Daugavpils | G37: 09.03.2021.- 31.03.2021.
B38: (D) Faktiskais nobraukums - 09.03.2019.-31.03.2019. | C38: km | D38: 171993.3 | E38: Autobuss | F38: Daugavpils | G38: 09.03.2021.- 31.03.2021.
B39: 1. Faktiskie izdevumi, kas radušies saistībā ar reisu atcelšanu vai papild reisu nodrošināšanu - KOPSUMMA ((N - P) x Izm) | D39: -13822.82 | E39: Autobuss | F39: Daugavpils | G39: Aprīlis
B40: Iesaistīto transportlīdzekļu vienības | C40: skaits | D40: 56 | E40: Autobuss | F40: Daugavpils | G40: Aprīlis
B41: (S) Plānotais reisu skaits | C41: skaits | D41: 26770 | E41: Autobuss | F41: Daugavpils | G41: Aprīlis
B42: (R) Faktiskais reisu skaits (S + RP-RA) | C42: skaits | D42: 25570 | E42: Autobuss | F42: Daugavpils | G42: Aprīlis
B43: to starpā papildu reisi (RP) | C43: skaits | E43: Autobuss | F43: Daugavpils | G43: Aprīlis
...

Sheet atskaites_jedox
B2: servers_ATD/STIFSS | D2: =_xll.PALO.VIEW.DIMNAME($B$2,$B$3,0,0) -> ContractNo | E2: =_xll.PALO.VIEW.DIMNAME($B$2,$B$3,0,1) -> Region | F2: =_xll.PALO.VIEW.DIMNAME($B$2,$B$3,0,2) -> Period_type | G2: =_xll.PALO.VIEW.DIMNAME($B$2,$B$3,0,3) -> Report_type | H2: =_xll.PALO.VIEW.DIMNAME($B$2,$B$3,0,4) -> Vertibas | I2: =_xll.PALO.VIEW.DIMNAME($B$2,$B$3,0,5) -> Traffic
B3: =_xll.PALO.CUBE($B$2,"PnL_") -> 7b74743edfe971f27da99866c79c4378ef11758c | D3: =_xll.PALO.ENAME($B$2,$B$3,0,0,0) -> Visi_ligumi | E3: =_xll.PALO.ENAME($B$2,$B$3,0,1,0) -> Visi regioni | F3: =_xll.PALO.ENAME($B$2,$B$3,0,2,0) -> MONTH | G3: =_xll.PALO.ENAME($B$2,$B$3,0,3,0) -> FACTUAL | H3: =_xll.PALO.ENAME($B$2,$B$3,0,4,0) -> EUR [+] | I3: =_xll.PALO.ENAME($B$2,$B$3,0,5,0) -> Visi marsruti
B4: [Edit View]
B5: [Swap]
C6: =_xll.PALO.ENAME($B$2,$B$3,2,0,0) -> 2019-03 | D6: =_xll.PALO.ENAME($B$2,$B$3,2,0,1) -> 2019-03 | E6: =_xll.PALO.ENAME($B$2,$B$3,2,0,2) -> 2019-03 | F6: =_xll.PALO.ENAME($B$2,$B$3,2,0,3) -> 2019-03 | G6: =_xll.PALO.ENAME($B$2,$B$3,2,0,4) -> 2019-03 | H6: =_xll.PALO.ENAME($B$2,$B$3,2,0,5) -> 2019-03 | I6: =_xll.PALO.ENAME($B$2,$B$3,2,0,6) -> 2019-04 | J6: =_xll.PALO.ENAME($B$2,$B$3,2,0,7) -> 2019-04 | K6: =_xll.PALO.ENAME($B$2,$B$3,2,0,8) -> 2019-04 | L6: =_xll.PALO.ENAME($B$2,$B$3,2,0,9) -> 2019-04 | M6: =_xll.PALO.ENAME($B$2,$B$3,2,0,10) -> 2019-04 | N6: =_xll.PALO.ENAME($B$2,$B$3,2,0,11) -> 2019-04 | O6: =_xll.PALO.ENAME($B$2,$B$3,2,0,12) -> 2019-05 | P6: =_xll.PALO.ENAME($B$2,$B$3,2,0,13) -> 2019-05 | Q6: =_xll.PALO.ENAME($B$2,$B$3,2,0,14) -> 2019-05 | R6: =_xll.PALO.ENAME($B$2,$B$3,2,0,15) -> 2019-05 | S6: =_xll.PALO.ENAME($B$2,$B$3,2,0,16) -> 2019-05 | T6: =_xll.PALO.ENAME($B$2,$B$3,2,0,17) -> 2019-05 | U6: =_xll.PALO.ENAME($B$2,$B$3,2,0,18) -> 2019-06 | V6: =_xll.PALO.ENAME($B$2,$B$3,2,0,19) -> 2019-06 | W6: =_xll.PALO.ENAME($B$2,$B$3,2,0,20) -> 2019-06 | X6: =_xll.PALO.ENAME($B$2,$B$3,2,0,21) -> 2019-06 | Y6: =_xll.PALO.ENAME($B$2,$B$3,2,0,22) -> 2019-06 | Z6: =_xll.PALO.ENAME($B$2,$B$3,2,0,23) -> 2019-06 | AA6: =_xll.PALO.ENAME($B$2,$B$3,2,0,24) -> 2020-03 | AB6: =_xll.PALO.ENAME($B$2,$B$3,2,0,25) -> 2020-03 | AC6: =_xll.PALO.ENAME($B$2,$B$3,2,0,26) -> 2020-03 | AD6: =_xll.PALO.ENAME($B$2,$B$3,2,0,27) -> 2020-03 | AE6: =_xll.PALO.ENAME($B$2,$B$3,2,0,28) -> 2020-03 | AF6: =_xll.PALO.ENAME($B$2,$B$3,2,0,29) -> 2020-03 | AG6: =_xll.PALO.ENAME($B$2,$B$3,2,0,30) -> 2020-04 | AH6: =_xll.PALO.ENAME($B$2,$B$3,2,0,31) -> 2020-04 | AI6: =_xll.PALO.ENAME($B$2,$B$3,2,0,32) -> 2020-04 | AJ6: =_xll.PALO.ENAME($B$2,$B$3,2,0,33) -> 2020-04 | AK6: =_xll.PALO.ENAME($B$2,$B$3,2,0,34) -> 2020-04 | AL6: =_xll.PALO.ENAME($B$2,$B$3,2,0,35) -> 2020-04 | AM6: =_xll.PALO.ENAME($B$2,$B$3,2,0,36) -> 2020-05 | AN6: =_xll.PALO.ENAME($B$2,$B$3,2,0,37) -> 2020-05 | AO6: =_xll.PALO.ENAME($B$2,$B$3,2,0,38) -> 2020-05 | AP6: =_xll.PALO.ENAME($B$2,$B$3,2,0,39) -> 2020-05 | AQ6: =_xll.PALO.ENAME($B$2,$B$3,2,0,40) -> 2020-05 | AR6: =_xll.PALO.ENAME($B$2,$B$3,2,0,41) -> 2020-05 | AS6: =_xll.PALO.ENAME($B$2,$B$3,2,0,42) -> 2020-06 | AT6: =_xll.PALO.ENAME($B$2,$B$3,2,0,43) -> 2020-06 | AU6: =_xll.PALO.ENAME($B$2,$B$3,2,0,44) -> 2020-06 | AV6: =_xll.PALO.ENAME($B$2,$B$3,2,0,45) -> 2020-06 | AW6: =_xll.PALO.ENAME($B$2,$B$3,2,0,46) -> 2020-06 | AX6: =_xll.PALO.ENAME($B$2,$B$3,2,0,47) -> 2020-06 | AY6: =_xll.PALO.ENAME($B$2,$B$3,2,0,48) -> 2021-03 | AZ6: =_xll.PALO.ENAME($B$2,$B$3,2,0,49) -> 2021-03 | BA6: =_xll.PALO.ENAME($B$2,$B$3,2,0,50) -> 2021-03 | BB6: =_xll.PALO.ENAME($B$2,$B$3,2,0,51) -> 2021-03 | BC6: =_xll.PALO.ENAME($B$2,$B$3,2,0,52) -> 2021-03 | BD6: =_xll.PALO.ENAME($B$2,$B$3,2,0,53) -> 2021-03 | BE6: =_xll.PALO.ENAME($B$2,$B$3,2,0,54) -> 2021-04 | BF6: =_xll.PALO.ENAME($B$2,$B$3,2,0,55) -> 2021-04 | BG6: =_xll.PALO.ENAME($B$2,$B$3,2,0,56) -> 2021-04 | BH6: =_xll.PALO.ENAME($B$2,$B$3,2,0,57) -> 2021-04 | BI6: =_xll.PALO.ENAME($B$2,$B$3,2,0,58) -> 2021-04 | BJ6: =_xll.PALO.ENAME($B$2,$B$3,2,0,59) -> 2021-04 | BK6: =_xll.PALO.ENAME($B$2,$B$3,2,0,60) -> 2021-05 | BL6: =_xll.PALO.ENAME($B$2,$B$3,2,0,61) -> 2021-05 | BM6: =_xll.PALO.ENAME($B$2,$B$3,2,0,62) -> 2021-05 | BN6: =_xll.PALO.ENAME($B$2,$B$3,2,0,63) -> 2021-05 | BO6: =_xll.PALO.ENAME($B$2,$B$3,2,0,64) -> 2021-05 | BP6: =_xll.PALO.ENAME($B$2,$B$3,2,0,65) -> 2021-05 | BQ6: =_xll.PALO.ENAME($B$2,$B$3,2,0,66) -> 2021-06 | BR6: =_xll.PALO.ENAME($B$2,$B$3,2,0,67) -> 2021-06 | BS6: =_xll.PALO.ENAME($B$2,$B$3,2,0,68) -> 2021-06 | BT6: =_xll.PALO.ENAME($B$2,$B$3,2,0,69) -> 2021-06 | BU6: =_xll.PALO.ENAME($B$2,$B$3,2,0,70) -> 2021-06 | BV6: =_xll.PALO.ENAME($B$2,$B$3,2,0,71) -> 2021-06
C7: =_xll.PALO.ENAME($B$2,$B$3,2,1,0) -> Ieņēmumi | D7: =_xll.PALO.ENAME($B$2,$B$3,2,1,1) -> Ieņēmumi | E7: =_xll.PALO.ENAME($B$2,$B$3,2,1,2) -> Nobraukums maršrutu tīklā | F7: =_xll.PALO.ENAME($B$2,$B$3,2,1,3) -> Nobraukums maršrutu tīklā | G7: =_xll.PALO.ENAME($B$2,$B$3,2,1,4) -> Viena kilometra pašizmaksa (EUR) | H7: =_xll.PALO.ENAME($B$2,$B$3,2,1,5) -> Viena kilometra pašizmaksa (EUR) | I7: =_xll.PALO.ENAME($B$2,$B$3,2,1,6) -> Ieņēmumi | J7: =_xll.PALO.ENAME($B$2,$B$3,2,1,7) -> Ieņēmumi | K7: =_xll.PALO.ENAME($B$2,$B$3,2,1,8) -> Nobraukums maršrutu tīklā | L7: =_xll.PALO.ENAME($B$2,$B$3,2,1,9) -> Nobraukums maršrutu tīklā | M7: =_xll.PALO.ENAME($B$2,$B$3,2,1,10) -> Viena kilometra pašizmaksa (EUR) | N7: =_xll.PALO.ENAME($B$2,$B$3,2,1,11) -> Viena kilometra pašizmaksa (EUR) | O7: =_xll.PALO.ENAME($B$2,$B$3,2,1,12) -> Ieņēmumi | P7: =_xll.PALO.ENAME($B$2,$B$3,2,1,13) -> Ieņēmumi | Q7: =_xll.PALO.ENAME($B$2,$B$3,2,1,14) -> Nobraukums maršrutu tīklā | R7: =_xll.PALO.ENAME($B$2,$B$3,2,1,15) -> Nobraukums maršrutu tīklā | S7: =_xll.PALO.ENAME($B$2,$B$3,2,1,16) -> Viena kilometra pašizmaksa (EUR) | T7: =_xll.PALO.ENAME($B$2,$B$3,2,1,17) -> Viena kilometra pašizmaksa (EUR) | U7: =_xll.PALO.ENAME($B$2,$B$3,2,1,18) -> Ieņēmumi | V7: =_xll.PALO.ENAME($B$2,$B$3,2,1,19) -> Ieņēmumi | W7: =_xll.PALO.ENAME($B$2,$B$3,2,1,20) -> Nobraukums maršrutu tīklā | X7: =_xll.PALO.ENAME($B$2,$B$3,2,1,21) -> Nobraukums maršrutu tīklā | Y7: =_xll.PALO.ENAME($B$2,$B$3,2,1,22) -> Viena kilometra pašizmaksa (EUR) | Z7: =_xll.PALO.ENAME($B$2,$B$3,2,1,23) -> Viena kilometra pašizmaksa (EUR) | AA7: =_xll.PALO.ENAME($B$2,$B$3,2,1,24) -> Ieņēmumi | AB7: =_xll.PALO.ENAME($B$2,$B$3,2,1,25) -> Ieņēmumi | AC7: =_xll.PALO.ENAME($B$2,$B$3,2,1,26) -> Nobraukums maršrutu tīklā | AD7: =_xll.PALO.ENAME($B$2,$B$3,2,1,27) -> Nobraukums maršrutu tīklā | AE7: =_xll.PALO.ENAME($B$2,$B$3,2,1,28) -> Viena kilometra pašizmaksa (EUR) | AF7: =_xll.PALO.ENAME($B$2,$B$3,2,1,29) -> Viena kilometra pašizmaksa (EUR) | AG7: =_xll.PALO.ENAME($B$2,$B$3,2,1,30) -> Ieņēmumi | AH7: =_xll.PALO.ENAME($B$2,$B$3,2,1,31) -> Ieņēmumi | AI7: =_xll.PALO.ENAME($B$2,$B$3,2,1,32) -> Nobraukums maršrutu tīklā | AJ7: =_xll.PALO.ENAME($B$2,$B$3,2,1,33) -> Nobraukums maršrutu tīklā | AK7: =_xll.PALO.ENAME($B$2,$B$3,2,1,34) -> Viena kilometra pašizmaksa (EUR) | AL7: =_xll.PALO.ENAME($B$2,$B$3,2,1,35) -> Viena kilometra pašizmaksa (EUR) | AM7: =_xll.PALO.ENAME($B$2,$B$3,2,1,36) -> Ieņēmumi | AN7: =_xll.PALO.ENAME($B$2,$B$3,2,1,37) -> Ieņēmumi | AO7: =_xll.PALO.ENAME($B$2,$B$3,2,1,38) -> Nobraukums maršrutu tīklā | AP7: =_xll.PALO.ENAME($B$2,$B$3,2,1,39) -> Nobraukums maršrutu tīklā | AQ7: =_xll.PALO.ENAME($B$2,$B$3,2,1,40) -> Viena kilometra pašizmaksa (EUR) | AR7: =_xll.PALO.ENAME($B$2,$B$3,2,1,41) -> Viena kilometra pašizmaksa (EUR) | AS7: =_xll.PALO.ENAME($B$2,$B$3,2,1,42) -> Ieņēmumi | AT7: =_xll.PALO.ENAME($B$2,$B$3,2,1,43) -> Ieņēmumi | AU7: =_xll.PALO.ENAME($B$2,$B$3,2,1,44) -> Nobraukums maršrutu tīklā | AV7: =_xll.PALO.ENAME($B$2,$B$3,2,1,45) -> Nobraukums maršrutu tīklā | AW7: =_xll.PALO.ENAME($B$2,$B$3,2,1,46) -> Viena kilometra pašizmaksa (EUR) | AX7: =_xll.PALO.ENAME($B$2,$B$3,2,1,47) -> Viena kilometra pašizmaksa (EUR) | AY7: =_xll.PALO.ENAME($B$2,$B$3,2,1,48) -> Ieņēmumi | AZ7: =_xll.PALO.ENAME($B$2,$B$3,2,1,49) -> Ieņēmumi | BA7: =_xll.PALO.ENAME($B$2,$B$3,2,1,50) -> Nobraukums maršrutu tīklā | BB7: =_xll.PALO.ENAME($B$2,$B$3,2,1,51) -> Nobraukums maršrutu tīklā | BC7: =_xll.PALO.ENAME($B$2,$B$3,2,1,52) -> Viena kilometra pašizmaksa (EUR) | BD7: =_xll.PALO.ENAME($B$2,$B$3,2,1,53) -> Viena kilometra pašizmaksa (EUR) | BE7: =_xll.PALO.ENAME($B$2,$B$3,2,1,54) -> Ieņēmumi | BF7: =_xll.PALO.ENAME($B$2,$B$3,2,1,55) -> Ieņēmumi | BG7: =_xll.PALO.ENAME($B$2,$B$3,2,1,56) -> Nobraukums maršrutu tīklā | BH7: =_xll.PALO.ENAME($B$2,$B$3,2,1,57) -> Nobraukums maršrutu tīklā | BI7: =_xll.PALO.ENAME($B$2,$B$3,2,1,58) -> Viena kilometra pašizmaksa (EUR) | BJ7: =_xll.PALO.ENAME($B$2,$B$3,2,1,59) -> Viena kilometra pašizmaksa (EUR) | BK7: =_xll.PALO.ENAME($B$2,$B$3,2,1,60) -> Ieņēmumi | BL7: =_xll.PALO.ENAME($B$2,$B$3,2,1,61) -> Ieņēmumi | BM7: =_xll.PALO.ENAME($B$2,$B$3,2,1,62) -> Nobraukums maršrutu tīklā | BN7: =_xll.PALO.ENAME($B$2,$B$3,2,1,63) -> Nobraukums maršrutu tīklā | BO7: =_xll.PALO.ENAME($B$2,$B$3,2,1,64) -> Viena kilometra pašizmaksa (EUR) | BP7: =_xll.PALO.ENAME($B$2,$B$3,2,1,65) -> Viena kilometra pašizmaksa (EUR) | BQ7: =_xll.PALO.ENAME($B$2,$B$3,2,1,66) -> Ieņēmumi | BR7: =_xll.PALO.ENAME($B$2,$B$3,2,1,67) -> Ieņēmumi | BS7: =_xll.PALO.ENAME($B$2,$B$3,2,1,68) -> Nobraukums maršrutu tīklā | BT7: =_xll.PALO.ENAME($B$2,$B$3,2,1,69) -> Nobraukums maršrutu tīklā | BU7: =_xll.PALO.ENAME($B$2,$B$3,2,1,70) -> Viena kilometra pašizmaksa (EUR) | BV7: =_xll.PALO.ENAME($B$2,$B$3,2,1,71) -> Viena kilometra pašizmaksa (EUR)
C8: =_xll.PALO.ENAME($B$2,$B$3,2,2,0) -> Bus | D8: =_xll.PALO.ENAME($B$2,$B$3,2,2,1) -> Tram | E8: =_xll.PALO.ENAME($B$2,$B$3,2,2,2) -> Bus | F8: =_xll.PALO.ENAME($B$2,$B$3,2,2,3) -> Tram | G8: =_xll.PALO.ENAME($B$2,$B$3,2,2,4) -> Bus | H8: =_xll.PALO.ENAME($B$2,$B$3,2,2,5) -> Tram | I8: =_xll.PALO.ENAME($B$2,$B$3,2,2,6) -> Bus | J8: =_xll.PALO.ENAME($B$2,$B$3,2,2,7) -> Tram | K8: =_xll.PALO.ENAME($B$2,$B$3,2,2,8) -> Bus | L8: =_xll.PALO.ENAME($B$2,$B$3,2,2,9) -> Tram | M8: =_xll.PALO.ENAME($B$2,$B$3,2,2,10) -> Bus | N8: =_xll.PALO.ENAME($B$2,$B$3,2,2,11) -> Tram | O8: =_xll.PALO.ENAME($B$2,$B$3,2,2,12) -> Bus | P8: =_xll.PALO.ENAME($B$2,$B$3,2,2,13) -> Tram | Q8: =_xll.PALO.ENAME($B$2,$B$3,2,2,14) -> Bus | R8: =_xll.PALO.ENAME($B$2,$B$3,2,2,15) -> Tram | S8: =_xll.PALO.ENAME($B$2,$B$3,2,2,16) -> Bus | T8: =_xll.PALO.ENAME($B$2,$B$3,2,2,17) -> Tram | U8: =_xll.PALO.ENAME($B$2,$B$3,2,2,18) -> Bus | V8: =_xll.PALO.ENAME($B$2,$B$3,2,2,19) -> Tram | W8: =_xll.PALO.ENAME($B$2,$B$3,2,2,20) -> Bus | X8: =_xll.PALO.ENAME($B$2,$B$3,2,2,21) -> Tram | Y8: =_xll.PALO.ENAME($B$2,$B$3,2,2,22) -> Bus | Z8: =_xll.PALO.ENAME($B$2,$B$3,2,2,23) -> Tram | AA8: =_xll.PALO.ENAME($B$2,$B$3,2,2,24) -> Bus | AB8: =_xll.PALO.ENAME($B$2,$B$3,2,2,25) -> Tram | AC8: =_xll.PALO.ENAME($B$2,$B$3,2,2,26) -> Bus | AD8: =_xll.PALO.ENAME($B$2,$B$3,2,2,27) -> Tram | AE8: =_xll.PALO.ENAME($B$2,$B$3,2,2,28) -> Bus | AF8: =_xll.PALO.ENAME($B$2,$B$3,2,2,29) -> Tram | AG8: =_xll.PALO.ENAME($B$2,$B$3,2,2,30) -> Bus | AH8: =_xll.PALO.ENAME($B$2,$B$3,2,2,31) -> Tram | AI8: =_xll.PALO.ENAME($B$2,$B$3,2,2,32) -> Bus | AJ8: =_xll.PALO.ENAME($B$2,$B$3,2,2,33) -> Tram | AK8: =_xll.PALO.ENAME($B$2,$B$3,2,2,34) -> Bus | AL8: =_xll.PALO.ENAME($B$2,$B$3,2,2,35) -> Tram | AM8: =_xll.PALO.ENAME($B$2,$B$3,2,2,36) -> Bus | AN8: =_xll.PALO.ENAME($B$2,$B$3,2,2,37) -> Tram | AO8: =_xll.PALO.ENAME($B$2,$B$3,2,2,38) -> Bus | AP8: =_xll.PALO.ENAME($B$2,$B$3,2,2,39) -> Tram | AQ8: =_xll.PALO.ENAME($B$2,$B$3,2,2,40) -> Bus | AR8: =_xll.PALO.ENAME($B$2,$B$3,2,2,41) -> Tram | AS8: =_xll.PALO.ENAME($B$2,$B$3,2,2,42) -> Bus | AT8: =_xll.PALO.ENAME($B$2,$B$3,2,2,43) -> Tram | AU8: =_xll.PALO.ENAME($B$2,$B$3,2,2,44) -> Bus | AV8: =_xll.PALO.ENAME($B$2,$B$3,2,2,45) -> Tram | AW8: =_xll.PALO.ENAME($B$2,$B$3,2,2,46) -> Bus | AX8: =_xll.PALO.ENAME($B$2,$B$3,2,2,47) -> Tram | AY8: =_xll.PALO.ENAME($B$2,$B$3,2,2,48) -> Bus | AZ8: =_xll.PALO.ENAME($B$2,$B$3,2,2,49) -> Tram | BA8: =_xll.PALO.ENAME($B$2,$B$3,2,2,50) -> Bus | BB8: =_xll.PALO.ENAME($B$2,$B$3,2,2,51) -> Tram | BC8: =_xll.PALO.ENAME($B$2,$B$3,2,2,52) -> Bus | BD8: =_xll.PALO.ENAME($B$2,$B$3,2,2,53) -> Tram | BE8: =_xll.PALO.ENAME($B$2,$B$3,2,2,54) -> Bus | BF8: =_xll.PALO.ENAME($B$2,$B$3,2,2,55) -> Tram | BG8: =_xll.PALO.ENAME($B$2,$B$3,2,2,56) -> Bus | BH8: =_xll.PALO.ENAME($B$2,$B$3,2,2,57) -> Tram | BI8: =_xll.PALO.ENAME($B$2,$B$3,2,2,58) -> Bus | BJ8: =_xll.PALO.ENAME($B$2,$B$3,2,2,59) -> Tram | BK8: =_xll.PALO.ENAME($B$2,$B$3,2,2,60) -> Bus | BL8: =_xll.PALO.ENAME($B$2,$B$3,2,2,61) -> Tram | BM8: =_xll.PALO.ENAME($B$2,$B$3,2,2,62) -> Bus | BN8: =_xll.PALO.ENAME($B$2,$B$3,2,2,63) -> Tram | BO8: =_xll.PALO.ENAME($B$2,$B$3,2,2,64) -> Bus | BP8: =_xll.PALO.ENAME($B$2,$B$3,2,2,65) -> Tram | BQ8: =_xll.PALO.ENAME($B$2,$B$3,2,2,66) -> Bus | BR8: =_xll.PALO.ENAME($B$2,$B$3,2,2,67) -> Tram | BS8: =_xll.PALO.ENAME($B$2,$B$3,2,2,68) -> Bus | BT8: =_xll.PALO.ENAME($B$2,$B$3,2,2,69) -> Tram | BU8: =_xll.PALO.ENAME($B$2,$B$3,2,2,70) -> Bus | BV8: =_xll.PALO.ENAME($B$2,$B$3,2,2,71) -> Tram
B9: =_xll.PALO.ENAME($B$2,$B$3,1,0,0) -> Daugavpils pilsētas dome | C9: =_xll.PALO.DATA($B$2,$B$3,_xll.PALO.EL("Time",C$6),_xll.PALO.EL("Partner",$B9),_xll.PALO.EL($D$2,$D$3),_xll.PALO.EL($E$2,$E$3),_xll.PALO.EL($I$2,$I$3),_xll.PALO.EL($F$2,$F$3),_xll.PALO.EL($G$2,$G$3),_xll.PALO.EL("Transport",C$8),_xll.PALO.EL($H$2,$H$3),_xll.PALO.EL("Position",C$7)) -> 102521.06 | D9: =_xll.PALO.DATA($B$2,$B$3,_xll.PALO.EL("Time",D$6),_xll.PALO.EL("Partner",$B9),_xll.PALO.EL($D$2,$D$3),_xll.PALO.EL($E$2,$E$3),_xll.PALO.EL($I$2,$I$3),_xll.PALO.EL($F$2,$F$3),_xll.PALO.EL($G$2,$G$3),_xll.PALO.EL("Transport",D$8),_xll.PALO.EL($H$2,$H$3),_xll.PALO.EL("Position",D$7)) -> 75884.49 | E9: =_xll.PALO.DATA($B$2,$B$3,_xll.PALO.EL("Time",E$6),_xll.PALO.EL("Partner",$B9),_xll.PALO.EL($D$2,$D$3),_xll.PALO.EL($E$2,$E$3),_xll.PALO.EL($I$2,$I$3),_xll.PALO.EL($F$2,$F$3),_xll.PALO.EL($G$2,$G$3),_xll.PALO.EL("Transport",E$8),_xll.PALO.EL($H$2,$H$3),_xll.PALO.EL("Position",E$7)) -> 232830.9 | F9: =_xll.PALO.DATA($B$2,$B$3,_xll.PALO.EL("Time",F$6),_xll.PALO.EL("Partner",$B9),_xll.PALO.EL($D$2,$D$3),_xll.PALO.EL($E$2,$E$3),_xll.PALO.EL($I$2,$I$3),_xll.PALO.EL($F$2,$F$3),_xll.PALO.EL($G$2,$G$3),_xll.PALO.EL("Transport",F$8),_xll.PALO.EL($H$2,$H$3),_xll.PALO.EL("Position",F$7)) -> 84026.45 | G9: =_xll.PALO.DATA($B$2,$B$3,_xll.PALO.EL("Time",G$6),_xll.PALO.EL("Partner",$B9),_xll.PALO.EL($D$2,$D$3),_xll.PALO.EL($E$2,$E$3),_xll.PALO.EL($I$2,$I$3),_xll.PALO.EL($F$2,$F$3),_xll.PALO.EL($G$2,$G$3),_xll.PALO.EL("Transport",G$8),_xll.PALO.EL($H$2,$H$3),_xll.PALO.EL("Position",G$7)) -> 1.46 | H9: =_xll.PALO.DATA($B$2,$B$3,_xll.PALO.EL("Time",H$6),_xll.PALO.EL("Partner",$B9),_xll.PALO.EL($D$2,$D$3),_xll.PALO.EL($E$2,$E$3),_xll.PALO.EL($I$2,$I$3),_xll.PALO.EL($F$2,$F$3),_xll.PALO.EL($G$2,$G$3),_xll.PALO.EL("Transport",H$8),_xll.PALO.EL($H$2,$H$3),_xll.PALO.EL("Position",H$7)) -> 3.28 | I9: =_xll.PALO.DATA($B$2,$B$3,_xll.PALO.EL("Time",I$6),_xll.PALO.EL("Partner",$B9),_xll.PALO.EL($D$2,$D$3),_xll.PALO.EL($E$2,$E$3),_xll.PALO.EL($I$2,$I$3),_xll.PALO.EL($F$2,$F$3),_xll.PALO.EL($G$2,$G$3),_xll.PALO.EL("Transport",I$8),_xll.PALO.EL($H$2,$H$3),_xll.PALO.EL("Position",I$7)) -> 99752.23 | J9: =_xll.PALO.DATA($B$2,$B$3,_xll.PALO.EL("Time",J$6),_xll.PALO.EL("Partner",$B9),_xll.PALO.EL($D$2,$D$3),_xll.PALO.EL($E$2,$E$3),_xll.PALO.EL($I$2,$I$3),_xll.PALO.EL($F$2,$F$3),_xll.PALO.EL($G$2,$G$3),_xll.PALO.EL("Transport",J$8),_xll.PALO.EL($H$2,$H$3),_xll.PALO.EL("Position",J$7)) -> 72285.27 | ... BV9: =_xll.PALO.DATA($B$2,$B$3,_xll.PALO.EL("Time",BV$6),_xll.PALO.EL("Partner",$B9),_xll.PALO.EL($D$2,$D$3),_xll.PALO.EL($E$2,$E$3),_xll.PALO.EL($I$2,$I$3),_xll.PALO.EL($F$2,$F$3),_xll.PALO.EL($G$2,$G$3),_xll.PALO.EL("Transport",BV$8),_xll.PALO.EL($H$2,$H$3),_xll.PALO.EL("Position",BV$7)) -> 3.93
