Workbook

Sheet Alūksnes novads
A1: Pielikums anotācijai 25-TA-2005
A2: Alūksnes novada pašvaldības 2025. gada 8. - 12. jūnija lietavu laikā radītie postījumi
A3: Nr. p.k. | B3: Objekta nosaukums un adrese | C3: Veicamie pasākumi/darbi | D3: Postījumu novēršanai nepieciešamā finansējuma apmērs, euro | E3: Pašvaldības līdz- finansējums, euro | F3: No valsts budžeta programmas "Līdzekļi neparedzētiem gadījumiem" nepieciešamā finansējuma apmērs, euro | G3: Pašvaldības iesniegtie finansiālā pamatojuma dokumenti | M3: Piezīmes, komentāri
G4: MK noteikumu Nr.421 5.pielikums | H4: apsekošanas akts (zaudējumu novērtējums vai dokumenti, kas apliecina notikušo faktu), vai ir pievienota fotogrāfija/jas | I4: pieprasīto līdzekļu aprēķins/tāme (veicamo darbu/ pakalpojumu apraksts, nepieciešamo materiālu daudzums, cena, atalgojums un paredzamo nodokļu samaksa) | J4: apliecinājums, ka infrastruktūras objekts ir pašvaldības īpašumā vai valdījumā (pamatlīdzekļu uzskaites kartīte vai zemesgrāmatas apliecinājums) | K4: informācija par pašvaldības līdzfinansējuma apmēru objektam radīto zaudējumu novēršanai (domes lēmums) | L4: apliecinājums, ka par objektu pašvaldībai nepienākas vai pienākas apdrošināšanas atlīdzība + skaidrojums, ja nebija apdrošināts
A5: 1 | B5: Autoceļš Strautiņi – Rebenes - Luki, Alsviķu pagasts, Alūksnes novads (2,00 km) | C5: Veikt labojumus virz dzelzsbetona caurtekas posma šuves, veikt ceļa seguma atjaunošanu | D5: 781.78 | E5: =D5*30% -> 234.534 | F5: =D5-E5 -> 547.246 | G5: x | H5: 09.06.2025. akts Nr. ANPAP/25/18, apsekošanā piedalījās ēku un apsaimniekojamās teritorijas pārzinis un īpašuma speciālists, pievienotas fotogrāfijas. Iesniegts 25.08.2025. sertificēta speciālista (sertif. Nr. 4-03224) apliecinājums par apsekošanas komisijas slēdziena atbilstību | I5: 09.07.2025. AKTS Nr.5.3.3.-V.3/2025-514, 09.07.2025. Rēķins Nr. R25191250 | J5: Pamatlīdzekļu uzskaites kartīte Nr. PAS0548 | K5: Alūksnes novada pašvaldības domes 28.08.2025. lēmums Nr. 230 "Par pašvaldības līdzfinansējuma nodrošināšanu plūdu radīto zaudējumu novēršanai" | L5: 5. pielikumā apliecina, ka objekti nebija apdrosināti ierobežota finansējuma dēl
A6: 2 | B6: Autoceļš V398, Jaunannas pagasts, Alūksnes novads (8,30 km, 11,14 km) | C6: Likvidēt izskalojumu radītos bojājumus, ceļa izskalojumu aizbēršanu un seguma atjaunošanu | E6: =D6*30% -> 0 | G6: x | H6: 09.06.2025. akts Nr. ANPAP/25/14, apsekošanā piedalījās ēku un apsaimniekojamās teritorijas pārzinis un īpašuma speciālists, pievienotas fotogrāfijas Iesniegts 25.08.2025. sertificēta speciālista (sertif. Nr. 4-03224) apliecinājums par apsekošanas komisijas slēdziena atbilstību | J6: Pamatlīdzekļu uzskaites kartīte Nr. PAL139749
A7: 3 | B7: Autoceļš Līvkalni - Nēķene, Alsviķu pagasts, Alūksnes novads (1,28 km) | C7: Likvidēt ceļa klātnei radītos bojājumus, novērst to atkārtotu rašanos, nodrošinot ūdens novadi, pastiprināt ceļa segu ar minerālgrunti, veikt ceļa segas profilēšanu/planēšanu | D7: 534.88 | E7: =D7*30% -> 160.464 | F7: =D7-E7 -> 374.416 | G7: x | H7: 10.06.2025. akts Nr. ANPAP/25/22, apsekošanā piedalījās ēku un apsaimniekojamās teritorijas pārzinis un īpašuma speciālists, pievienota fotogrāfija Iesniegts 25.08.2025. sertificēta speciālista (sertif. Nr. 4-03224) apliecinājums par apsekošanas komisijas slēdziena atbilstību | I7: 21.07.2025. AKTS par izpildīto darbu pieņemšanu Nr.9, 21.07.2025. RĒĶINS Nr. AS 02742 | J7: Pamatlīdzekļu uzskaites kartīte Nr. PAS0545
A8: 4 | B8: Autoceļš Dzintari – Brīdaki – Liepas 2 - Apes ceļš, Alsviķu pagasts, Alūksnes novads (3,30 km) | C8: Likvidēt ceļa klātnei radītos bojājumus, pastiprināt ceļa segu ar minerālgrunti, veikt ceļa segas planēšanu | D8: 713.17 | E8: =D8*30% -> 213.951 | F8: =D8-E8 -> 499.219 | G8: x | H8: 10.06.2025. akts Nr. ANPAP/25/21, apsekošanā piedalījās ēku un apsaimniekojamās teritorijas pārzinis un īpašuma speciālists, pievienotas fotogrāfijas Iesniegts 25.08.2025. sertificēta speciālista (sertif. Nr. 4-03224) apliecinājums par apsekošanas komisijas slēdziena atbilstību | J8: Pamatlīdzekļu uzskaites kartīte Nr. PAS0552
A9: 5 | B9: Autoceļš Strautiņi – 58.ceļš – Zaļmeži – Stāmeri, Alsviķu pagasts, Alūksnes novads (2,00 km) | C9: Veikt autoceļa grāvja posma un cauruļu drenu tīrīšanu, novēršot grāvka aizaugšanu un cauruļu drenu aizsērēšanu | D9: 2389.75 | E9: =D9*30% -> 716.925 | F9: =D9-E9 -> 1672.825 | G9: x | H9: 11.06.2025. akts Nr. ANPAP/25/24, apsekošanā piedalījās ēku un apsaimniekojamās teritorijas pārzinis un īpašuma speciālists, pievienotas fotogrāfijas Iesniegts 25.08.2025. sertificēta speciālista (sertif. Nr. 4-03224) apliecinājums par apsekošanas komisijas slēdziena atbilstību | I9: 09.07.2025. PIEŅEMŠANAS-NODOŠANAS AKTS 09.07.2025. RĒĶINS Nr. AS 02724 | J9: Pamatlīdzekļu uzskaites kartīte Nr. PAS0556
A10: 6 | B10: Autoceļš V395, Annas pagasts, Alūksnes novads (4,35 km) | C10: Veikt ceļa izskalojumu aizbēršanu un seguma atjaunošanu | D10: 1426.35 | E10: =D10*30% -> 427.905 | F10: =D10-E10 -> 998.445 | G10: x | H10: 09.06.2025. akts Nr. ANPAP/25/17, apsekošanā piedalījās ēku un apsaimniekojamās teritorijas pārzinis un īpašuma speciālists, pievienota fotogrāfija Iesniegts 25.08.2025. sertificēta speciālista (sertif. Nr. 4-03224) apliecinājums par apsekošanas komisijas slēdziena atbilstību | I10: 03 22.04.2025., 09.07.2025. AKTS par izpildīto darbu pieņemšanu Nr.8 09.07.2025. RĒĶINS Nr. AS 02734 | J10: Pamatlīdzekļu uzskaites kartīte Nr. PAL139927
A11: 7 | B11: Autoceļš Anna – Nākotnes iela - Teikas, Annas pagasts, Alūksnes novads (1,62 km) | C11: Likvidēt izskalojumu radītos bojājumus un novērst to atkārtotu rašanos, ceļa segas atjaunošanu un planēšanu | D11: 1069.76 | E11: =D11*30% -> 320.928 | F11: =D11-E11 -> 748.832 | G11: x | H11: 09.06.2025. akts Nr. ANPAP/25/16, apsekošanā piedalījās ēku un apsaimniekojamās teritorijas pārzinis un īpašuma speciālists, pievienota fotogrāfija Iesniegts 25.08.2025. sertificēta speciālista (sertif. Nr. 4-03224) apliecinājums par apsekošanas komisijas slēdziena atbilstību | J11: Pamatlīdzekļu uzskaites kartīte Nr. PAL128757.1
A12: 8 | B12: Autoceļš V374, Ilzenes pagasts, Alūksnes novads (1,20 km) | C12: Veikt labojumus dzelzsbetona caurtekas izskalotā posmā, veikt ceļa seguma atjaunošanu | D12: 356.59 | E12: =D12*30% -> 106.977 | F12: =D12-E12 -> 249.613 | G12: x | H12: 10.06.2025. akts Nr. ANPAP/25/19, apsekošanā piedalījās ēku un apsaimniekojamās teritorijas pārzinis un īpašuma speciālists, pievienotas fotogrāfijas Iesniegts 25.08.2025. sertificēta speciālista (sertif. Nr. 4-03224) apliecinājums par apsekošanas komisijas slēdziena atbilstību | I12: 03 22.04.2025., 21.07.2025. AKTS par izpildīto darbu pieņemšanu Nr.10, 21.07.2025. RĒĶINS Nr. AS 02743 | J12: Pamatlīdzekļu uzskaites kartīte Nr. PAL139704
A13: 9 | B13: Autoceļš Bundzene - Matisene, Jaunalūksnes pagasts, Alūksnes novads (3,30 km) | C13: Likvidēt bojājumus virs caurtekas ceļa malā, pastiprināt ceļa segu ar minerālgrunti un veikt ceļa segas planēšanu | D13: 356.59 | E13: =D13*30% -> 106.977 | F13: =D13-E13 -> 249.613 | G13: x | H13: 09.06.2025. akts Nr. ANPAP/25/15, apsekošanā piedalījās ēku un apsaimniekojamās teritorijas pārzinis un īpašuma speciālists, pievienotas fotogrāfijas Iesniegts 25.08.2025. sertificēta speciālista (sertif. Nr. 4-03224) apliecinājums par apsekošanas komisijas slēdziena atbilstību | I13: 03 22.04.2025., 21.07.2025. AKTS par izpildīto darbu pieņemšanu Nr.11, 21.07.2025. RĒĶINS Nr. AS 02744 | J13: Pamatlīdzekļu uzskaites kartīte Nr. PKL0296
A14: 10 | B14: Autoceļš Jaunlaicene – Jānīši - Balti, Jaunlaicenes pagasts, Alūksnes novads (0,80 km) | C14: Likvidēt zem melnā seguma radītos bojājumus, novērst to atkārtotu rašanos, nodrošinot ūdens novadi, izveidot ūdens noteci gar caurteku | D14: 4631.88 | E14: =D14*30% -> 1389.564 | F14: =D14-E14 -> 3242.316 | G14: x | H14: 09.06.2025. akts Nr. ANPAP/25/12, apsekošanā piedalījās ēku un apsaimniekojamās teritorijas pārzinis un īpašuma speciālists, pievienotas fotogrāfijas Iesniegts 25.08.2025. sertificēta speciālista (sertif. Nr. 4-03224) apliecinājums par apsekošanas komisijas slēdziena atbilstību | I14: 28.07.2025. remontdarbu tāme, sagatavoja sertificēts speciālists (sert.Nr. 4-03224) | J14: Pamatlīdzekļu uzskaites kartīte Nr. PJL0461
A15: 11 | B15: Autoceļš Apes ceļš – Karva – Lintene – Apes ceļš, Alsviķu pagasts, Alūksnes novads (1,08 km) | C15: Likvidēt ceļa klātnei radītos bojājumus, atjaunot grāvi pie caurtekas iztecē un ietecē, veikt ceļa seguma atjaunošanu | D15: =1426.35+3518.63+1804.11 -> 6749.09 | E15: =D15*30% -> 2024.727 | F15: =D15-E15 -> 4724.363 | G15: x | H15: 10.06.2025. akts Nr. ANPAP/25/20, apsekošanā piedalījās ēku un apsaimniekojamās teritorijas pārzinis un īpašuma speciālists, pievienotas fotogrāfijas Iesniegts 25.08.2025. sertificēta speciālista (sertif. Nr. 4-03224) apliecinājums par apsekošanas komisijas slēdziena atbilstību | I15: 03 22.04.2025., 21.07.2025. AKTS par izpildīto darbu pieņemšanu Nr.14, 21.07.2025. RĒĶINS Nr. AS 02747 28.07.2025. AKTS Nr.5.3.3.-V.3/2025-581 28.07.2025. rēķins Nr. R25191367 28.07.2025. AKTS Nr.5.3.3.-V.3/2025-582, 28.07.2025. rēķins Nr.R25191368 | J15: Pamatlīdzekļu uzskaites kartīte Nr. PAS0550
A16: 12 | B16: Autoceļš Rūķīši - Svari, Jaunannas pagasts, Alūksnes novads (0,50 km) | C16: Likvidēt ceļa klātnei radītos bojājumus un nogruvumu, novērst to atkārtotu rašanos, veikt ceļa izskalojuma aizbēršanu un seguma atjaunošanu, veikt ceļa segas profilēšanu/planēšanu | G16: x | H16: 09.06.2025. akts Nr. ANPAP/25/13, apsekošanā piedalījās ēku un apsaimniekojamās teritorijas pārzinis un īpašuma speciālists, pievienotas fotogrāfijas Iesniegts 25.08.2025. sertificēta speciālista (sertif. Nr. 4-03224) apliecinājums par apsekošanas komisijas slēdziena atbilstību | J16: Pamatlīdzekļu uzskaites kartīte Nr. PJN0343
A17: 13 | B17: Autoceļš Jaunlaicene – Kambari - Grūbe, Jaunlaicenes pagasts, Alūksnes novads (0,90 km) | C17: Likvidēt izskalojumu radītos bojājumus ceļa klātnei, nomainīt bojāto caurteku, atjaunot grāvi pie caurtekas iztecē un ietecē, veikt ceļā seguma atjaunošanu | G17: x | H17: 09.06.2025. akts Nr. ANPAP/25/11, apsekošanā piedalījās ēku un apsaimniekojamās teritorijas pārzinis un īpašuma speciālists, pievienotas fotogrāfijas Iesniegts 25.08.2025. sertificēta speciālista (sertif. Nr. 4-03224) apliecinājums par apsekošanas komisijas slēdziena atbilstību | J17: Pamatlīdzekļu uzskaites kartīte Nr. PJL0366
A18: 14 | B18: Autoceļš Krustiņi - Palpierkalns, Veclaicenes pagasts, Alūksnes novads (4,80 km) | C18: Likvidēt ceļa klātnes bojājumus, nomainīt bojāto caurteku, atjaunot grāvi pie caurtekas iztecē un ietecē, veikt ceļa seguma atjaunošanu | G18: x | H18: 09.06.2025. akts Nr. ANPAP/25/01, apsekošanā piedalījās ēku un apsaimniekojamās teritorijas pārzinis un īpašuma speciālists, pievienota fotogrāfija Iesniegts 25.08.2025. sertificēta speciālista (sertif. Nr. 4-03224) apliecinājums par apsekošanas komisijas slēdziena atbilstību | J18: Pamatlīdzekļu uzskaites kartīte Nr. PAL127257
A19: 15 | B19: Autoceļš V385, Ziemera pagasts, Alūksnes novads (0,70 km, 2,10 km, 2,90 km, 3,30 km, 3,60 km) | C19: Likvidēt ceļa klātnes bojājumus, pastiprināt ceļa segumu, novērst ceļa malas nogruvumus, nomainīt bojāto caurteku, atjaunot grāvi pie caurtekas ietecē un iztecē, veikt ceļa seguma atjaunošanu | G19: x | H19: 09.06.2025. akts Nr. ANPAP/25/04, apsekošanā piedalījās ēku un apsaimniekojamās teritorijas pārzinis un īpašuma speciālists, pievienotas fotogrāfijas Iesniegts 25.08.2025. sertificēta speciālista (sertif. Nr. 4-03224) apliecinājums par apsekošanas komisijas slēdziena atbilstību | J19: Pamatlīdzekļu uzskaites kartīte Nr. PAL140015
A20: 16 | B20: Autoceļš V384, Ziemera pagasts, Alūksnes novads (8,362 km - 8,436 km) | C20: Likvidēt ceļa klātnes un ceļa seguma bojājumus | G20: x | H20: 09.06.2025. akts Nr. ANPAP/25/03, apsekošanā piedalījās ēku un apsaimniekojamās teritorijas pārzinis un īpašuma speciālists, pievienota fotogrāfija Iesniegts 25.08.2025. sertificēta speciālista (sertif. Nr. 4-03224) apliecinājums par apsekošanas komisijas slēdziena atbilstību | J20: Pamatlīdzekļu uzskaites kartīte Nr. PZI0207
A21: 17 | B21: Autoceļš Auguļi - Apes robeža, Jaunlaicenes pagasts, Alūksnes novads (0,30 km) | C21: Likvidēt izskalojumu radītos bojājumus, novērst to atkārtotu rašanos, veikt grāvja atjaunošanu ceļa labajā pusē, bojātās caustekas nomaiņu un izskalojumu aizbēršanu | D21: 9980.75 | E21: =D21*30% -> 2994.225 | F21: =D21-E21 -> 6986.525 | G21: x | H21: 09.06.2025. akts Nr. ANPAP/25/10, apsekošanā piedalījās ēku un apsaimniekojamās teritorijas pārzinis un īpašuma speciālists, pievienotas fotogrāfijas Iesniegts 25.08.2025. sertificēta speciālista (sertif. Nr. 4-03224) apliecinājums par apsekošanas komisijas slēdziena atbilstību | I21: 28.07.2025. remontdarbu tāme, sagatavoja sertificēts speciālists (sert.Nr. 4-03224) | J21: Pamatlīdzekļu uzskaites kartīte Nr. PJL0374
A22: 18 | B22: Autoceļš Šļukums – Auguļi - Jenši, Jaunlaicenes pagasts, Alūksnes novads (2,80 km) | C22: Likvidēt izskalojumu radītos bojājumus, nogruvumu, novērst to atkārtotu rašanos, veikt ceļa seguma atjaunošanu un planēšanu | D22: 713.17 | E22: =D22*30% -> 213.951 | F22: =D22-E22 -> 499.219 | G22: x | H22: 09.06.2025. akts Nr. ANPAP/25/09, apsekošanā piedalījās ēku un apsaimniekojamās teritorijas pārzinis un īpašuma speciālists, pievienota fotogrāfija Iesniegts 25.08.2025. sertificēta speciālista (sertif. Nr. 4-03224) apliecinājums par apsekošanas komisijas slēdziena atbilstību | I22: 03 22.04.2025., 21.07.2025. AKTS par izpildīto darbu pieņemšanu Nr.12, 21.07.2025. RĒĶINS Nr. AS 02745 | J22: Pamatlīdzekļu uzskaites kartīte Nr. PJL0361
A23: 19 | B23: Autoceļš Cempji - Malaci, Kalncempju pagasts, Alūksnes novads (0,82 km) | C23: Likvidēt izskalojumu radītos bojājumus, nogruvumu, novērst to atkārtotu rašanos, veikt ceļa seguma atjaunošanu un planēšanu | D23: 534.88 | E23: =D23*30% -> 160.464 | F23: =D23-E23 -> 374.416 | G23: x | H23: 09.06.2025. akts Nr. ANPAP/25/08, apsekošanā piedalījās ēku un apsaimniekojamās teritorijas pārzinis un īpašuma speciālists, pievienotas fotogrāfijas Iesniegts 25.08.2025. sertificēta speciālista (sertif. Nr. 4-03224) apliecinājums par apsekošanas komisijas slēdziena atbilstību | I23: 03 22.04.2025., 09.07.2025. AKTS par izpildīto darbu pieņemšanu Nr.6, 09.07.2025. RĒĶINS Nr. AS 02732 | J23: Pamatlīdzekļu uzskaites kartīte Nr. PAL127635
A24: 20 | B24: Autoceļš Ate – Augstiekalni – Niedras – 4. ceļš, Kalncempju pagasts, Alūksnes novads (0,88 km) | C24: Likvidēt radītos bojājumus ceļa malā virs caurtekas, pastiprināt ceļa segu ar minerālgrunti, veikt ceļa segas planēšanu | D24: 1069.76 | E24: =D24*30% -> 320.928 | F24: =D24-E24 -> 748.832 | G24: x | H24: 09.06.2025. akts Nr. ANPAP/25/07, apsekošanā piedalījās ēku un apsaimniekojamās teritorijas pārzinis un īpašuma speciālists, pievienotas fotogrāfijas Iesniegts 25.08.2025. sertificēta speciālista (sertif. Nr. 4-03224) apliecinājums par apsekošanas komisijas slēdziena atbilstību | J24: Pamatlīdzekļu uzskaites kartīte Nr. PAL127634.1
A25: 21 | B25: Autoceļš Cirakalns – Silamalu krustojums, Mārkalnes pagasts, Alūksnes novads (0,97 km) | C25: Likvidēt izskalojumu radītos bojājumus, nogruvumu, novērst to atkārtotu rašanos, veikt ceļa seguma atjaunošanu un planēšanu | D25: 1069.76 | E25: =D25*30% -> 320.928 | F25: =D25-E25 -> 748.832 | G25: x | H25: 10.06.2025. akts Nr. ANPAP/25/23, apsekošanā piedalījās ēku un apsaimniekojamās teritorijas pārzinis un īpašuma speciālists, pievienotas fotogrāfijas Iesniegts 25.08.2025. sertificēta speciālista (sertif. Nr. 4-03224) apliecinājums par apsekošanas komisijas slēdziena atbilstību | I25: 03 22.04.2025., 09.07.2025. AKTS par izpildīto darbu pieņemšanu Nr.7, 09.07.2025. RĒĶINS Nr. AS 02733 | J25: Pamatlīdzekļu uzskaites kartīte Nr. PMR0185
A26: 22 | B26: Autoceļš Ponkuļi - Puncene, Pededzes pagasts, Alūksnes novads (1,13 km - 1,14 km) | C26: Likvidēt ceļa klātnes bojājumus, veikt ūdens novadi, pastiprināt ceļa segu un planēšanu | D26: 713.17 | E26: =D26*30% -> 213.951 | F26: =D26-E26 -> 499.219 | G26: x | H26: 09.06.2025. akts Nr. ANPAP/25/06, apsekošanā piedalījās ēku un apsaimniekojamās teritorijas pārzinis un īpašuma speciālists, pievienota fotogrāfija Iesniegts 25.08.2025. sertificēta speciālista (sertif. Nr. 4-03224) apliecinājums par apsekošanas komisijas slēdziena atbilstību | I26: 22.04.2025., 21.07.2025. AKTS par izpildīto darbu pieņemšanu Nr.13, 21.07.2025. RĒĶINS Nr. AS 02746 | J26: Pamatlīdzekļu uzskaites kartīte Nr. PPE0128
A27: 23 | B27: Autoceļš Grēveles - Ciemgaļi, Zeltiņu pagasts, Alūksnes novads (2,00 km) | C27: Veikt ceļa izskalojumu aizbēršanu un ceļa segas planēšanu | D27: 356.59 | E27: =D27*30% -> 106.977 | F27: =D27-E27 -> 249.613 | G27: x | H27: 09.06.2025. akts Nr. ANPAP/25/05, apsekošanā piedalījās ēku un apsaimniekojamās teritorijas pārzinis un īpašuma speciālists, pievienota fotogrāfija Iesniegts 25.08.2025. sertificēta speciālista (sertif. Nr. 4-03224) apliecinājums par apsekošanas komisijas slēdziena atbilstību | I27: 03 22.04.2025., 21.07.2025. AKTS par izpildīto darbu pieņemšanu Nr.15, 21.07.2025. RĒĶINS Nr. AS 02748 | J27: Pamatlīdzekļu uzskaites kartīte Nr. PZE0230
A28: 24 | B28: Autoceļš Stūrīši - Elisi, Ziemera pagasts, Alūksnes novads (0,70 km) | C28: Likvidēt virs caurtekas ceļa klātnes bojājumus, pastiprināt ceļa segu ar minerālgrunti un veikt ceļa segas planēšanu | D28: 713.17 | E28: =D28*30% -> 213.951 | F28: =D28-E28 -> 499.219 | G28: x | H28: 09.06.2025. akts Nr. ANPAP/25/02, apsekošanā piedalījās ēku un apsaimniekojamās teritorijas pārzinis un īpašuma speciālists, pievienotas fotogrāfijas Iesniegts 25.08.2025. sertificēta speciālista (sertif. Nr. 4-03224) apliecinājums par apsekošanas komisijas slēdziena atbilstību | I28: 23.07.2025 AKTS par izpildīto darbu pieņemšanu Nr.16 23.07.2025 RĒĶINS Nr. AS 02753 | J28: Pamatlīdzekļu uzskaites kartīte Nr. PZI0192
A29: 25 | B29: Fītinghofu iela, Alūksne, Alūksnes novads | C29: Veikt ielas seguma atjaunošanu | D29: 392.88 | E29: =D29*30% -> 117.864 | F29: =D29-E29 -> 275.016 | G29: x | H29: 13.06.2025. akts Nr.2025-09, apsekošanā piedalījās attiecīgās jomas speciālists, pievienotas fotogrāfijas Iesniegts 25.08.2025. sertificēta speciālista (sertif. Nr. 4-03224) apliecinājums par apsekošanas komisijas slēdziena atbilstību | I29: 10.07.2025. PIEŅEMŠANAS-NODOŠANAS AKTS Nr.1, 10.07.2025. rēķins Nr.AS02735 | J29: Pamatlīdzekļu uzskaites kartīte Nr. PAL126790
A30: 26 | B30: Pētera Buka iela, Alūksne, Alūksnes novads | C30: Veikt ielas seguma atjaunošanu | D30: 392.89 | E30: =D30*30% -> 117.867 | F30: =D30-E30 -> 275.023 | G30: x | J30: Pamatlīdzekļu uzskaites kartīte Nr. PAL126307
A31: 27 | B31: Lietus ūdens kanalizācijas aka pie īpašuma Latgales ielā 20 B, Alūksne, Alūksnes novads | C31: Veikt lietus akas kanalizācijas atjaunošanu | D31: 302.5 | E31: =D31*30% -> 90.75 | F31: =D31-E31 -> 211.75 | G31: x | H31: 12.06.2025. akts Nr.2025-08, apsekošanā piedalījās attiecīgās jomas speciālists, pievienota fotogrāfija Iesniegts 25.08.2025. sertificēta speciālista (sertif. Nr. 4-03224) apliecinājums par apsekošanas komisijas slēdziena atbilstību | I31: 16.06.2025. darbu un materiālu tāme, sagatavoja I/K "CEĻAVĒJŠ V.I." Iesniegts 25.08.2025. apliecinājums no sertificēta speciālista (sert. Nr. 4-01532), ka tāmē norādītie darbi ir atbilstoši, lai novērstu intensīvu lietusgāžu rezultātā radīto bojājumu lietus kanalizācijas akai Latgales ielā, Alūksnes novadā. | J31: Pamatlīdzekļu uzskaites kartīte Nr. PAL126790, Nr.PAL138242
C32: KOPĀ: | D32: =SUM(D5:D31) -> 35249.36 | E32: =SUM(E5:E31) -> 10574.808 | F32: =SUM(F5:F31) -> 24674.552
B35: Zaudējumi kopā, euro | C35: 35249
B36: Pašvaldības līdzfinansējums, euro | C36: 10575
B37: No LNG atbalstāmais finansējums, euro | C37: =C35-C36 -> 24674

Sheet Augšdaugavas novads
A2: Augšdaugavas novada pašvaldības 2025. gada 10. - 11. jūlijā lietavu laikā radītie postījumi
A3: Nr. p.k. | B3: Objekta nosaukums un adrese | C3: Veicamie pasākumi/darbi | D3: Postījumu novēršanai nepieciešamā finansējuma apmērs, euro | E3: Pašvaldības līdz- finansējums, euro | F3: No valsts budžeta programmas "Līdzekļi neparedzētiem gadījumiem" nepieciešamā finansējuma apmērs, euro | G3: Pašvaldības iesniegtie finansiālā pamatojuma dokumenti | M3: Piezīmes, komentāri
G4: MK noteikumu Nr.421 5.pielikums | H4: apsekošanas akts (zaudējumu novērtējums vai dokumenti, kas apliecina notikušo faktu), vai ir pievienota fotogrāfija/jas | I4: pieprasīto līdzekļu aprēķins/tāme (veicamo darbu/ pakalpojumu apraksts, nepieciešamo materiālu daudzums, cena, atalgojums un paredzamo nodokļu samaksa) | J4: apliecinājums, ka infrastruktūras objekts ir pašvaldības īpašumā vai valdījumā (pamatlīdzekļu uzskaites kartīte vai zemesgrāmatas apliecinājums) | K4: informācija par pašvaldības līdzfinansējuma apmēru objektam radīto zaudējumu novēršanai (domes lēmums) | L4: apliecinājums, ka par objektu pašvaldībai nepienākas vai pienākas apdrošināšanas atlīdzība + skaidrojums, ja nebija apdrošināts
A5: 1 | B5: Ceļš Ambeļi - Graiži, Ambeļu pagasts, Augšdaugavas novads, posmā 1,700 km - 3,880 km | C5: Nesaistīta seguma ceļa klātnes izskalojumu un bedru labošana ar drupinātas grants maisījumu 0/32s | D5: 16391.87 | E5: =D5*30% -> 4917.561 | F5: =D5-E5 -> 11474.309 | G5: x | H5: 14.07.2025. akts Nr.1, piedalījās attiecīgās jomas speciālists, pievienotas fotogrāfijas 13.08.2025. ceļu būvinženiera A.Džeriņas (sert. Nr. 3-01405) slēdziens par ceļam radītajiem bojājumiem (veikta atkārtota apsekošana) | I5: Atbilstoši 29.07.2025. sarunu procedūras rezultātiem, iepirkuma identifikācijas Nr. ANPCP 2025/59SP, Darbu apjomu saraksts Nr.1 | J5: Pamatlīdzekļu uzskaites kartīte Nr. PL0001836/1, Nr. PL0001836/2, Nr. PL0001836/3, Nr. PL0001836/4, Nr. PL0001836/5 | K5: Augšdaugavas novada domes 29.07.2025. lēmums Nr. 28 "Par 2025.gada 10.-11.jūlija lietavu laikā radīto postījumu novēršanu" | L5: Pašvaldība 5. pielikumā norāda, ka pašvaldības ceļi un ielas nav apdrošināti, jo to apdrošināšana pret dabas stihiju radītiem zaudējumiem nav finansiāli samērīga attiecībā pret pieejamo budžetu un šāda veida infrastruktūrai piedāvātajiem apdrošināšanas nosacījumiem. Turklāt daudziem vietējas nozīmes ceļiem, īpaši grants seguma ceļiem, nav pieejami komerciāli izdevīgi apdrošināšanas piedāvājumi, vai arī tie paredz ļoti augstas pašriska summas un izņēmumus, kas būtiski ierobežo iespēju saņemt atlīdzību.
A6: 2 | B6: Ceļš Ambeļi - Ragačovka, Ambeļu pagasts, Augšdaugavas novads, posmos 0,250 km - 0,500 km, 0,600 km - 0,700 km, 0,780 km - 0,800 km, 0,960 km - 1,060 km | C6: Nesaistīta seguma ceļa klātnes izskalojumu un bedru labošana ar drupinātas grants maisījumu 0/32s | D6: 10547.81 | E6: =D6*30% -> 3164.343 | F6: =D6-E6 -> 7383.467 | G6: x | H6: 14.07.2025. akts Nr.3, piedalījās attiecīgās jomas speciālists, pievienotas fotogrāfijas 13.08.2025. ceļu būvinženiera A.Džeriņas (sert. Nr. 3-01405) slēdziens par ceļam radītajiem bojājumiem (veikta atkārtota apsekošana) | I6: Atbilstoši 29.07.2025. sarunu procedūras rezultātiem, iepirkuma identifikācijas Nr. ANPCP 2025/59SP, Darbu apjomu saraksts Nr.3 | J6: Pamatlīdzekļu uzskaites kartīte Nr. PL0011356
A7: 3 | B7: Ceļš Augškalne - Škute - Aglonas pagasts, Ambeļu pagasts, Augšdaugavas novads, posmā 1,000 km - 1,800 km | C7: Nesaistīta seguma ceļa klātnes izskalojumu un bedru labošana ar drupinātas grants maisījumu 0/32s | D7: 13683.65 | E7: =D7*30% -> 4105.095 | F7: =D7-E7 -> 9578.555 | G7: x | H7: 14.07.2025. akts Nr.4, piedalījās attiecīgās jomas speciālists, pievienotas fotogrāfijas 13.08.2025. ceļu būvinženiera A.Džeriņas (sert. Nr. 3-01405) slēdziens par ceļam radītajiem bojājumiem (veikta atkārtota apsekošana) | I7: Atbilstoši 29.07.2025. sarunu procedūras rezultātiem, iepirkuma identifikācijas Nr. ANPCP 2025/59SP, Darbu apjomu saraksts Nr.4 | J7: Pamatlīdzekļu uzskaites kartīte Nr. PL0011364, Nr. PL0011384
A8: 4 | B8: Ceļš Jaunie Tokari - Borovaja - Valsts mežs, Dubnas pagasts, Augšdaugavas novads, posmā 0,320 km - 0,450 km | C8: Novadgrāvju attīrīšana no sanesumiem un nesaistīta seguma ielas klātnes izskalojuma labošana ar drupinātas grants maisījumu 0/32s | D8: 3705.99 | E8: =D8*30% -> 1111.797 | F8: =D8-E8 -> 2594.193 | G8: x | H8: 14.07.2025. akts Nr.8, piedalījās attiecīgās jomas speciālists, pievienotas fotogrāfijas 13.08.2025. ceļu būvinženiera A.Džeriņas (sert. Nr. 3-01405) slēdziens par ceļam radītajiem bojājumiem (veikta atkārtota apsekošana) | I8: Atbilstoši 29.07.2025. sarunu procedūras rezultātiem, iepirkuma identifikācijas Nr. ANPCP 2025/59SP, Darbu apjomu saraksts Nr.22 | J8: Pamatlīdzekļu uzskaites kartīte Nr. PL0005908
A9: 5 | B9: Ceļš Bicāni - Narbuti, Dubnas pagasts, Augšdaugavas novads, posmā 0,890 km - 1,06 km | C9: Nesaistīta seguma ielas klātnes izskalojuma labošana ar drupinātas grants maisījumu 0/32s | D9: 3848.53 | E9: =D9*30% -> 1154.559 | F9: =D9-E9 -> 2693.971 | G9: x | H9: 14.07.2025. akts Nr.9, piedalījās attiecīgās jomas speciālists, pievienotas fotogrāfijas 13.08.2025. ceļu būvinženiera A.Džeriņas (sert. Nr. 3-01405) slēdziens par ceļam radītajiem bojājumiem (veikta atkārtota apsekošana) | I9: Atbilstoši 29.07.2025. sarunu procedūras rezultātiem, iepirkuma identifikācijas Nr. ANPCP 2025/59SP, Darbu apjomu saraksts Nr.21 | J9: Pamatlīdzekļu uzskaites kartīte Nr. PL0005911
A10: 6 | B10: Ceļš Muncišķi - Kudeiki, Līksnas pagasts, Augšdaugavas novads, posmā 1,100 km - 1,340 km | C10: Nesaistīta seguma ceļa klātnes labošana ar drupinātas grants maisījumu 0/32s | D10: 6848.79 | E10: =D10*30% -> 2054.637 | F10: =D10-E10 -> 4794.153 | G10: x | H10: 14.07.2025. akts Nr.2, piedalījās attiecīgās jomas speciālists, pievienota fotogrāfija 13.08.2025. ceļu būvinženiera A.Džeriņas (sert. Nr. 3-01405) slēdziens par ceļam radītajiem bojājumiem (veikta atkārtota apsekošana) | I10: Atbilstoši 29.07.2025. sarunu procedūras rezultātiem, iepirkuma identifikācijas Nr. ANPCP 2025/59SP, Darbu apjomu saraksts Nr.34 | J10: Pamatlīdzekļu uzskaites kartīte Nr. PL0027554
A11: 7 | B11: Ceļš Sterikāni - Borski, Līksnas pagasts, Augšdaugavas novads, posmos 0,910 km - 1,030 km, 1,870 km - 2,020 km | C11: Nesaistīta seguma ceļa klātnes labošana ar drupinātas grants maisījumu 0/32s | D11: 6135.38 | E11: =D11*30% -> 1840.614 | F11: =D11-E11 -> 4294.766 | G11: x | H11: 14.07.2025. akts Nr.3, piedalījās attiecīgās jomas speciālists, pievienotas fotogrāfijas 13.08.2025. ceļu būvinženiera A.Džeriņas (sert. Nr. 3-01405) slēdziens par ceļam radītajiem bojājumiem (veikta atkārtota apsekošana) | I11: Atbilstoši 29.07.2025. sarunu procedūras rezultātiem, iepirkuma identifikācijas Nr. ANPCP 2025/59SP, Darbu apjomu saraksts Nr.35 | J11: Pamatlīdzekļu uzskaites kartīte Nr. PL0028251
A12: 8 | B12: Ceļš c. Ļūbaste - Ļūbaste, Līksnas pagasts, Augšdaugavas novads, posmos 1,550 km - 1,650 km, 2,100 km - 2,200 km | C12: Nesaistīta seguma ceļa klātnes labošana ar drupinātas grants maisījumu 0/32s | D12: 6848.79 | E12: =D12*30% -> 2054.637 | F12: =D12-E12 -> 4794.153 | G12: x | H12: 14.07.2025. akts Nr.4, piedalījās attiecīgās jomas speciālists, pievienotas fotogrāfijas 13.08.2025. ceļu būvinženiera A.Džeriņas (sert. Nr. 3-01405) slēdziens par ceļam radītajiem bojājumiem (veikta atkārtota apsekošana) | I12: Atbilstoši 29.07.2025. sarunu procedūras rezultātiem, iepirkuma identifikācijas Nr. ANPCP 2025/59SP, Darbu apjomu saraksts Nr.36 | J12: Pamatlīdzekļu uzskaites kartīte Nr. PL0027573
A13: 9 | B13: Ceļš Ceļmalnieki - Irbītes, Sventes pagasts, Augšdaugavas novads, posmos 0,320 km - 0,370 km, 1,380 km - 1,430 km, 1,950 km - 2,150 km | C13: Nesaistīta seguma ceļa klātnes iesēdumu un bedru labošana ar drupinātas grants maisījumu 0/32s | D13: 6848.79 | E13: =D13*30% -> 2054.637 | F13: =D13-E13 -> 4794.153 | G13: x | H13: 14.07.2025. akts Nr.2, piedalījās attiecīgās jomas speciālists, pievienotas fotogrāfijas 13.08.2025. ceļu būvinženiera A.Džeriņas (sert. Nr. 3-01405) slēdziens par ceļam radītajiem bojājumiem (veikta atkārtota apsekošana) | I13: Atbilstoši 29.07.2025. sarunu procedūras rezultātiem, iepirkuma identifikācijas Nr. ANPCP 2025/59SP, Darbu apjomu saraksts Nr.49 | J13: Pamatlīdzekļu uzskaites kartīte Nr. PL0029494
A14: 10 | B14: Ceļš Burtnieki - Labrenči - Ķirši, Sventes pagasts, Augšdaugavas novads, posmos 0,740 km - 0,780 km, 1,960 km - 2,030 km, 2,380 km - 2,450 km | C14: Nesaistīta seguma ceļa klātnes iesēdumu un bedru labošana ar drupinātas grants maisījumu 0/32s | D14: 5136.6 | E14: =D14*30% -> 1540.98 | F14: =D14-E14 -> 3595.62 | G14: x | H14: 14.07.2025. akts Nr.6, piedalījās attiecīgās jomas speciālists, pievienotas fotogrāfijas 13.08.2025. ceļu būvinženiera A.Džeriņas (sert. Nr. 3-01405) slēdziens par ceļam radītajiem bojājumiem (veikta atkārtota apsekošana) | I14: Atbilstoši 29.07.2025. sarunu procedūras rezultātiem, iepirkuma identifikācijas Nr. ANPCP 2025/59SP, Darbu apjomu saraksts Nr.53 | J14: Pamatlīdzekļu uzskaites kartīte Nr. PL0029491
A15: 11 | B15: Ceļš Kaudzīši - Burtnieki - Pīlādži - Ķirši, Sventes pagasts, Augšdaugavas novads, posmos 0,530 km - 0,600 km, 1,000 km - 1,100 km, 1,760 km - 1,780 km | C15: Nesaistīta seguma ceļa klātnes iesēdumu un bedru labošana ar drupinātas grants maisījumu 0/32s, caurtekas atjaunošana | D15: 6733.6 | E15: =D15*30% -> 2020.08 | F15: =D15-E15 -> 4713.52 | G15: x | H15: 14.07.2025. akts Nr.9, piedalījās attiecīgās jomas speciālists, pievienotas fotogrāfijas 13.08.2025. ceļu būvinženiera A.Džeriņas (sert. Nr. 3-01405) slēdziens par ceļam radītajiem bojājumiem (veikta atkārtota apsekošana) | I15: Atbilstoši 29.07.2025. sarunu procedūras rezultātiem, iepirkuma identifikācijas Nr. ANPCP 2025/59SP, Darbu apjomu saraksts Nr.52 | J15: Pamatlīdzekļu uzskaites kartīte Nr. PL0029492
A16: 12 | B16: Ceļš Kaķīši - Kaudzīši, Sventes pagasts, Augšdaugavas novads, posmos 0,000 km - 0,150 km, 0,730 km - 0,830 km | C16: Nesaistīta seguma ceļa klātnes iesēdumu un bedru labošana ar drupinātas grants maisījumu 0/32s | D16: 7134.16 | E16: =D16*30% -> 2140.248 | F16: =D16-E16 -> 4993.912 | G16: x | H16: 14.07.2025. akts Nr.7, piedalījās attiecīgās jomas speciālists, pievienota fotogrāfija 13.08.2025. ceļu būvinženiera A.Džeriņas (sert. Nr. 3-01405) slēdziens par ceļam radītajiem bojājumiem (veikta atkārtota apsekošana) | I16: Atbilstoši 29.07.2025. sarunu procedūras rezultātiem, iepirkuma identifikācijas Nr. ANPCP 2025/59SP, Darbu apjomu saraksts Nr.55 | J16: Pamatlīdzekļu uzskaites kartīte Nr. PL0029501
A17: 13 | B17: Ceļš Līči - Elkšņupīte, Sventes pagasts, Augšdaugavas novads, posmā 0,460 km - 0,710 km | C17: Nesaistīta seguma ceļa klātnes iesēdumu un bedru labošana ar drupinātas grants maisījumu 0/32s | D17: 4280.5 | E17: =D17*30% -> 1284.15 | F17: =D17-E17 -> 2996.35 | G17: x | H17: 14.07.2025. akts Nr.8, piedalījās attiecīgās jomas speciālists, pievienotas fotogrāfijas 13.08.2025. ceļu būvinženiera A.Džeriņas (sert. Nr. 3-01405) slēdziens par ceļam radītajiem bojājumiem (veikta atkārtota apsekošana) | I17: Atbilstoši 29.07.2025. sarunu procedūras rezultātiem, iepirkuma identifikācijas Nr. ANPCP 2025/59SP, Darbu apjomu saraksts Nr.56 | J17: Pamatlīdzekļu uzskaites kartīte Nr. PL0030592
... A19: 15 | B19: Ceļš Ķimenes - Grāvīši - Pļavas, Bebrenes pagasts, Augšdaugavas novads, posmā 0,060 km - 0,210 km | C19: Nesaistīta seguma ceļa klātnes iesēdumu un bedru labošana ar drupinātas grants maisījumu 0/32s | D19: 4276.14 | E19: =D19*30% -> 1282.842 | F19: =D19-E19 -> 2993.298 | G19: x | H19: 14.07.2025. akts Nr.5, piedalījās attiecīgās jomas speciālists, pievienotas fotogrāfijas 13.08.2025. ceļu būvinženiera A.Džeriņas (sert. Nr. 3-01405) slēdziens par ceļam radītajiem bojājumiem (veikta atkārtota apsekošana) | I19: Atbilstoši 29.07.2025. sarunu procedūras rezultātiem, iepirkuma identifikācijas Nr. ANPCP 2025/59SP, Darbu apjomu saraksts Nr.67 | J19: Pamatlīdzekļu uzskaites kartīte Nr. PL0006865
C20: KOPĀ: | D20: =SUM(D5:D19) -> 111338.3 | E20: =SUM(E5:E19) -> 33401.49 | F20: =SUM(F5:F19) -> 77936.81
B25: Zaudējumi kopā, euro | C25: 111338
B26: Pašvaldības līdzfinansējums, euro | C26: 33401
B27: No LNG atbalstāmais finansējums, euro | C27: =C25-C26 -> 77937

Sheet Jēkabpils novads
A2: Jēkabpils novada pašvaldības 2025. gada 31. maijā – 2. jūnijā lietavu laikā radītie postījumi
A3: Nr. p.k. | B3: Objekta nosaukums un adrese | C3: Veicamie pasākumi/darbi | D3: Postījumu novēršanai nepieciešamā finansējuma apmērs, euro | E3: Pašvaldības līdz- finansējums, euro | F3: No valsts budžeta programmas "Līdzekļi neparedzētiem gadījumiem" nepieciešamā finansējuma apmērs, euro | G3: Pašvaldības iesniegtie finansiālā pamatojuma dokumenti | M3: Piezīmes, komentāri
G4: MK noteikumu Nr.421 5.pielikums | H4: apsekošanas akts (zaudējumu novērtējums vai dokumenti, kas apliecina notikušo faktu), vai ir pievienota fotogrāfija/jas | I4: pieprasīto līdzekļu aprēķins/tāme (veicamo darbu/ pakalpojumu apraksts, nepieciešamo materiālu daudzums, cena, atalgojums un paredzamo nodokļu samaksa) | J4: apliecinājums, ka infrastruktūras objekts ir pašvaldības īpašumā vai valdījumā (pamatlīdzekļu uzskaites kartīte vai zemesgrāmatas apliecinājums) | K4: informācija par pašvaldības līdzfinansējuma apmēru objektam radīto zaudējumu novēršanai (domes lēmums) | L4: apliecinājums, ka par objektu pašvaldībai nepienākas vai pienākas apdrošināšanas atlīdzība + skaidrojums, ja nebija apdrošināts
A5: 1 | B5: Autoceļš AT 02 Lindāni - Zalāni - Rijnieki, Atašienes pagasts, Jēkabpils novads, 6,400 km - 6,500 km | C5: Brauktuves segas atjaunošana - nesaistīta seguma iesēdumu un bedru aizpildīšana | D5: 1262.8 | E5: =D5*30% -> 378.84 | F5: =D5-E5 -> 883.96 | G5: x | H5: 11.06.2025. apsekošanas akts, apsekošanā piedalījās attiecīgās jomas speciālists, pievienota fotogrāfija | I5: 12.08.2025. darbu apjomu saraksts, sagatavoja būvinženieris | J5: Pamatlīdzekļu uzskaites kartīte Nr. 2155 | K5: Jēkabpils novada pašvaldības 24.07.2025. lēmums Nr.491 "Par papildu finansējuma piešķiršanu 2025.gada lietavu izraisīto plūdu seku likvidācijai" | L5: 5. pielikumā norāda, ka objekti nebija apdrošināti
A6: 2 | B6: Autoceļš AT 03 Atašiene - Joksti - Zalāni, Atašienes pagasts, Jēkabpils novads, 8,160 km -8,250 km | C6: Brauktuves segas atjaunošana - nesaistīta seguma iesēdumu un bedru aizpildīšana | D6: 420.93 | E6: =D6*30% -> 126.279 | F6: =D6-E6 -> 294.651 | G6: x | H6: 11.06.2025. apsekošanas akts, apsekošanā piedalījās attiecīgās jomas speciālists, pievienota fotogrāfija | I6: 12.08.2025. darbu apjomu saraksts, sagatavoja būvinženieris | J6: Pamatlīdzekļu uzskaites kartīte Nr. 2156
A7: 3 | B7: Autoceļš AT 22 Rijnieki - Eiduki, Atašienes pagasts, Jēkabpils novads, 2 km | C7: Brauktuves segas atjaunošana - rupju šķembu iestrāde defektu vietās, nesaistīta seguma iesēdumu un bedru aizpildīšana | D7: 1155.79 | E7: =D7*30% -> 346.737 | F7: =D7-E7 -> 809.053 | G7: x | H7: 11.06.2025. apsekošanas akts, apsekošanā piedalījās attiecīgās jomas speciālists, pievienotas fotogrāfijas | I7: 12.08.2025. darbu apjomu saraksts, sagatavoja būvinženieris | J7: Pamatlīdzekļu uzskaites kartīte Nr. 214528, Nr. 214527, Nr. 2190
A8: 4 | B8: Autoceļš KU 11 Jaunā muiža - Jaunzemi - Gravāni, Kūku pagasts, Jēkabpils novads, 0,480 km - 0,700 km | C8: Brauktuves segas atjaunošana - nesaistīta seguma iesēdumu un bedru aizpildīšana | D8: 2231.14 | E8: =D8*30% -> 669.342 | F8: =D8-E8 -> 1561.798 | G8: x | H8: 11.06.2025. apsekošanas akts, apsekošanā piedalījās attiecīgās jomas speciālists, pievienotas fotogrāfijas | I8: 12.08.2025. darbu apjomu saraksts, sagatavoja būvinženieris | J8: Pamatlīdzekļu uzskaites kartīte Nr. 214541
A9: 5 | B9: Autoceļš KU 27 Ļamāni - Lukapickas, Kūku pagasts, Jēkabpils novads, 3,870 km - 3,970 km, 4,680 km - 4,780 km | C9: Brauktuves segas atjaunošana - nesaistīta seguma iesēdumu un bedru aizpildīšana | D9: 4834.14 | E9: =D9*30% -> 1450.242 | F9: =D9-E9 -> 3383.898 | G9: x | H9: 11.06.2025. apsekošanas akts, apsekošanā piedalījās attiecīgās jomas speciālists, pievienotas fotogrāfijas | I9: 12.08.2025. darbu apjomu saraksts, sagatavoja būvinženieris | J9: Pamatlīdzekļu uzskaites kartīte Nr. 312376, Nr. 4169
A10: 6 | B10: Autoceļš VI 14 Brīvāres - Kučenieki, Vīpes pagasts, Jēkabpils novads, 0,50 km - 0,200 km | C10: Brauktuves segas atjaunošana - nesaistīta seguma iesēdumu un bedru aizpildīšana | D10: 2209.91 | E10: =D10*30% -> 662.973 | F10: =D10-E10 -> 1546.937 | G10: x | H10: 11.06.2025. apsekošanas akts, apsekošanā piedalījās attiecīgās jomas speciālists, pievienotas fotogrāfijas | I10: 12.08.2025. darbu apjomu saraksts, sagatavoja būvinženieris | J10: Pamatlīdzekļu uzskaites kartīte Nr. 7137
A11: 7 | B11: Autoceļš VI22 Jaundruvu ferma - Jaundruvas, Vīpes pagasts, Jēkabpils novads, 0,400 km - 2,280 km | C11: Brauktuves segas atjaunošana - nesaistīta seguma iesēdumu un bedru aizpildīšana | D11: 16381.38 | E11: =D11*30% -> 4914.414 | F11: =D11-E11 -> 11466.966 | G11: x | H11: 11.06.2025. apsekošanas akts, apsekošanā piedalījās attiecīgās jomas speciālists, pievienota fotogrāfija | I11: 12.08.2025. darbu apjomu saraksts, sagatavoja būvinženieris | J11: Pamatlīdzekļu uzskaites kartīte Nr. 7145
A12: 8 | B12: Laipa Marinzejas pils parkā uz atpūtas vietu “Marija”, pontonu laipa Marinzejas muižā, "Ezerzeme", Atašienes pagasts, Jēkabpils novads | C12: Bojātās koka laipas demontāža pa posmiem un nocelšana, koka laipas posmu uzstādīšana uz atjaunotajiem pamatiem un savienošana savā starpā. Koka tiltiņa demontāža, montāža un pievienošana laipai. Pontona laipas nostiprināšanas balstu atjaunošana. Būvgružu (tai skaitā demontēto laipas pamatu) savākšana un utilizēšana. | D12: 9062.66 | E12: =D12*30% -> 2718.798 | F12: =D12-E12 -> 6343.862 | G12: x | H12: 10.06.2025. apsekošanas akts, apsekošanā piedalījās attiecīgās jomas speciālisti, pievienotas fotogrāfijas | I12: 08.08.2025. līgums ar SIA “UZKURI” (viens no pamatdarbības veidiem - citu namdaru un galdniecības izstrādājumu ražošana un galdniecība) par laipas Marinzejas pils parkā uz atpūtas vietu “Marija” un pontonu laipas Marinzejas muiža. Pielikumā darbu apjomu saraksts un aprēķins. | J12: Pamatlīdzekļu uzskaites kartīte Nr. JN-01945, Nr. 22681
C13: KOPĀ: | D13: =SUM(D5:D12) -> 37558.75 | E13: =SUM(E5:E12) -> 11267.625 | F13: =SUM(F5:F12) -> 26291.125
B16: Zaudējumi kopā, euro | C16: 37559
B17: Pašvaldības līdzfinansējums, euro | C17: 11268
B18: No LNG atbalstāmais finansējums, euro | C18: =C16-C17 -> 26291

Sheet Krāslavas novads
A2: Krāslavas novada pašvaldības 2025. gada jūlijā lietavu laikā radītie postījumi
A3: Nr. p.k. | B3: Objekta nosaukums un adrese | C3: Veicamie pasākumi/darbi | D3: Postījumu novēršanai nepieciešamā finansējuma apmērs, euro | E3: Pašvaldības līdz- finansējums, euro | F3: No valsts budžeta programmas "Līdzekļi neparedzētiem gadījumiem" nepieciešamā finansējuma apmērs, euro | G3: Pašvaldības iesniegtie finansiālā pamatojuma dokumenti | M3: Piezīmes, komentāri
G4: MK noteikumu Nr.421 5.pielikums | H4: apsekošanas akts (zaudējumu novērtējums vai dokumenti, kas apliecina notikušo faktu), vai ir pievienota fotogrāfija/jas | I4: pieprasīto līdzekļu aprēķins/tāme (veicamo darbu/ pakalpojumu apraksts, nepieciešamo materiālu daudzums, cena, atalgojums un paredzamo nodokļu samaksa) | J4: apliecinājums, ka infrastruktūras objekts ir pašvaldības īpašumā vai valdījumā (pamatlīdzekļu uzskaites kartīte vai zemesgrāmatas apliecinājums) | K4: informācija par pašvaldības līdzfinansējuma apmēru objektam radīto zaudējumu novēršanai (domes lēmums) | L4: apliecinājums, ka par objektu pašvaldībai nepienākas vai pienākas apdrošināšanas atlīdzība + skaidrojums, ja nebija apdrošināts
A5: 1 | B5: Autoceļš Kozliški-Pupiki, Izvaltas pagasts, Krāslavas novads, 1,800 km - 1,980 km | C5: Caurtekas izbūve, izskalojumu aizbēršana, seguma atjaunošana ar nesaistītu minerālmateriālu maisījumu 0/32 | D5: 3116.96 | E5: =D5*30% -> 935.088 | F5: =D5-E5 -> 2181.872 | G5: x | H5: 01.08.2025. apsekošanas akts Nr.1, apsekošanā piedalījās attiecīgās jomas speciālists, pievienotas fotogrāfijas | I5: 01.08.2025. tāme, sagatavoja sertificēts speciālists (sertif. Nr.4-01749) | J5: Pamatlīdzekļu uzskaites kartiņa Nr.PL/4011 | K5: Krāslavas novada pašvaldības domes 07.08.2025. sēdes protokols Nr. 12 "Par 2025.gada jūlija lietavu laikā radīto postījumu novēršanu " | L5: 5. pielikumā norādīts, ka pašvaldībai nav finansiālu iespēju apdrošināt visus novada autoceļus
A6: 2 | B6: Autoceļš Beržine-Suveizdišku kapi, Izvaltas pagasts, Krāslavas novads, 0,090 km - 0,700 km | C6: Izskalojumu aizbēršana, seguma atjaunošana ar nesaistītu minerālmateriālu maisījumu 0/32 | D6: 2242.86 | E6: =D6*30% -> 672.858 | F6: =D6-E6 -> 1570.002 | G6: x | H6: 01.08.2025. apsekošanas akts Nr.1, apsekošanā piedalījās attiecīgās jomas speciālists, pievienotas fotogrāfijas | I6: 01.08.2025. tāme, sagatavoja sertificēts speciālists (sertif. Nr.4-01749) | J6: Pamatlīdzekļu uzskaites kartiņa Nr.PL/3996
A7: 3 | B7: Autoceļš Krekeļiški-Pupiki, Izvaltas pagasts, Krāslavas novads, 0,250 km - 0,350 km | C7: Caurtekas izbūve, izskalojumu aizbēršana, seguma atjaunošana ar nesaistītu minerālmateriālu maisījumu 0/32 | D7: 1892.44 | E7: =D7*30% -> 567.732 | F7: =D7-E7 -> 1324.708 | G7: x | H7: 01.08.2025. apsekošanas akts Nr.1, apsekošanā piedalījās attiecīgās jomas speciālists, pievienotas fotogrāfijas | I7: 01.08.2025. tāme, sagatavoja sertificēts speciālists (sertif. Nr.4-01749) | J7: Pamatlīdzekļu uzskaites kartiņa Nr.PL/4012
A8: 4 | B8: Autoceļš Likčāni-Dorotpole, Kalniešu pagasts, Krāslavas novads, 0,300 km - 0,600 km | C8: Seguma atjaunošana ar nesaistītu minerālmateriālu maisījumu 0/32 | D8: 3723.17 | E8: =D8*30% -> 1116.951 | F8: =D8-E8 -> 2606.219 | G8: x | H8: 01.08.2025. apsekošanas akts Nr.1, apsekošanā piedalījās attiecīgās jomas speciālists, pievienotas fotogrāfijas | I8: 01.08.2025. tāme, sagatavoja sertificēts speciālists (sertif. Nr.4-01749) | J8: Pamatlīdzekļu uzskaites kartiņa Nr.PL/4341
A9: 5 | B9: Autoceļš Lielie Kusiņi-Nadboltova, Krāslavas pagasts, Krāslavas novads, 1,320 km - 1,720 km | C9: Seguma atjaunošana ar nesaistītu minerālmateriālu maisījumu 0/32 | D9: 4129.13 | E9: =D9*30% -> 1238.739 | F9: =D9-E9 -> 2890.391 | G9: x | H9: 01.08.2025. apsekošanas akts Nr.1, apsekošanā piedalījās attiecīgās jomas speciālists, pievienotas fotogrāfijas | I9: 01.08.2025. tāme, sagatavoja sertificēts speciālists (sertif. Nr.4-01749) | J9: Pamatlīdzekļu uzskaites kartiņa Nr.PL/4832
A10: 6 | B10: Autoceļš Kombuļi-Dricmuiža-Bolūži-Ģeriņi, Kombuļu pagasts, Krāslavas novads, 0,350 km - 10,600 km | C10: Seguma atjaunošana ar nesaistītu minerālmateriālu maisījumu 0/32 | D10: 7275.13 | E10: =D10*30% -> 2182.539 | F10: =D10-E10 -> 5092.591 | G10: x | H10: 01.08.2025. apsekošanas akts Nr.1, apsekošanā piedalījās attiecīgās jomas speciālists, pievienotas fotogrāfijas | I10: 01.08.2025. tāme, sagatavoja sertificēts speciālists (sertif. Nr.4-01749) | J10: Pamatlīdzekļu uzskaites kartiņa Nr.PL/4832
A11: 7 | B11: Autoceļš Meža Doski-Zaunerāni, Aulejas pagasts, Krāslavas novads, 2,200 km - 2,300 km, 3,750 km - 3,800 km, 3,900 km - 4,050 km | C11: Seguma atjaunošana ar nesaistītu minerālmateriālu maisījumu 0/32 | D11: 3303.3 | E11: =D11*30% -> 990.99 | F11: =D11-E11 -> 2312.31 | G11: x | H11: 01.08.2025. apsekošanas akts Nr.1, apsekošanā piedalījās attiecīgās jomas speciālists, pievienotas fotogrāfijas | I11: 01.08.2025. tāme, sagatavoja sertificēts speciālists (sertif. Nr.4-01749) | J11: Pamatlīdzekļu uzskaites kartiņa Nr.PL/2245, Nr.PL/2216
A12: 8 | B12: Autoceļš Eisaki-Sivergols, Konstantinovas pagasts, Krāslavas novads, 0,050 km - 6,500 km | C12: Seguma atjaunošana ar nesaistītu minerālmateriālu maisījumu 0/32 | D12: 2610.12 | E12: =D12*30% -> 783.036 | F12: =D12-E12 -> 1827.084 | G12: x | H12: 31.07.2025. apsekošanas akts Nr.2, apsekošanā piedalījās attiecīgās jomas speciālists, pievienotas fotogrāfijas | I12: 01.08.2025. tāme, sagatavoja sertificēts speciālists (sertif. Nr.4-01749) | J12: Pamatlīdzekļu uzskaites kartiņa Nr.80
A13: 9 | B13: Autoceļš Konstantinova-Puncuļi, Konstantinovas pagasts, Krāslavas novads, 0,000 km - 1,930 km | C13: Seguma atjaunošana ar nesaistītu minerālmateriālu maisījumu 0/32 | D13: 1553.64 | E13: =D13*30% -> 466.092 | F13: =D13-E13 -> 1087.548 | G13: x | H13: 31.07.2025. apsekošanas akts Nr.2, apsekošanā piedalījās attiecīgās jomas speciālists, pievienotas fotogrāfijas | I13: 01.08.2025. tāme, sagatavoja sertificēts speciālists (sertif. Nr.4-01749) | J13: Pamatlīdzekļu uzskaites kartiņa Nr.70
A14: 10 | B14: Autoceļš Kromāni-Konstantinova, Konstantinovas pagasts, Krāslavas novads, 0,000 km - 1,230 km | C14: Seguma atjaunošana ar nesaistītu minerālmateriālu maisījumu 0/32 | D14: 1957.59 | E14: =D14*30% -> 587.277 | F14: =D14-E14 -> 1370.313 | G14: x | H14: 31.07.2025. apsekošanas akts Nr.2, apsekošanā piedalījās attiecīgās jomas speciālists, pievienotas fotogrāfijas | I14: 01.08.2025. tāme, sagatavoja sertificēts speciālists (sertif. Nr.4-01749) | J14: Pamatlīdzekļu uzskaites kartiņa Nr.84
A15: 11 | B15: Autoceļš Biža-Astašova, Andrupenes pagasts, Krāslavas novads, 2,950 km - 3,050 km | C15: Caurtekas izbūve, seguma atjaunošana ar nesaistītu minerālmateriālu maisījumu 0/32 | D15: 5677.32 | E15: =D15*30% -> 1703.196 | F15: =D15-E15 -> 3974.124 | G15: x | H15: 31.07.2025. apsekošanas akts Nr.2, apsekošanā piedalījās attiecīgās jomas speciālists, pievienotas fotogrāfijas | I15: 01.08.2025. tāme, sagatavoja sertificēts speciālists (sertif. Nr.4-01749) | J15: Pamatlīdzekļu uzskaites kartiņa Nr.45
A16: 12 | B16: Autoceļš Meņģi-Račeva, Asūnes pagasts, Krāslavas novads, 0,460 km - 3,200 km | C16: Caurtekas izbūve, izskalojumu aizbēršana, seguma atjaunošana ar nesaistītu minerālmateriālu maisījumu 0/32 | D16: 2732.86 | E16: =D16*30% -> 819.858 | F16: =D16-E16 -> 1913.002 | G16: x | H16: 31.07.2025. apsekošanas akts Nr.2, apsekošanā piedalījās attiecīgās jomas speciālists, pievienotas fotogrāfijas | I16: 01.08.2025. tāme, sagatavoja sertificēts speciālists (sertif. Nr.4-01749) | J16: Pamatlīdzekļu uzskaites kartiņa Nr.203
A17: 13 | B17: Autoceļš Apaļi-Laizāni, Ķepovas pagasts, Krāslavas novads, 0,400 km - 0,500 km | C17: Seguma atjaunošana ar nesaistītu minerālmateriālu maisījumu 0/32 | D17: 1957.59 | E17: =D17*30% -> 587.277 | F17: =D17-E17 -> 1370.313 | G17: x | H17: 31.07.2025. apsekošanas akts Nr.2, apsekošanā piedalījās attiecīgās jomas speciālists, pievienotas fotogrāfijas | I17: 01.08.2025. tāme, sagatavoja sertificēts speciālists (sertif. Nr.4-01749) | J17: Pamatlīdzekļu uzskaites kartiņa Nr.104
A18: 14 | B18: Autoceļš Ubogova-Kastuļina, Kastuļinas pagasts, Krāslavas novads, 2,200 km - 3,520 km | C18: Seguma atjaunošana ar nesaistītu minerālmateriālu maisījumu 0/32 | D18: 1942.05 | E18: =D18*30% -> 582.615 | F18: =D18-E18 -> 1359.435 | G18: x | H18: 31.07.2025. apsekošanas akts Nr.2, apsekošanā piedalījās attiecīgās jomas speciālists, pievienotas fotogrāfijas | I18: 01.08.2025. tāme, sagatavoja sertificēts speciālists (sertif. Nr.4-01749) | J18: Pamatlīdzekļu uzskaites kartiņa Nr.10281
C19: KOPĀ: | D19: =SUM(D5:D18) -> 44114.16 | E19: =SUM(E5:E18) -> 13234.248 | F19: =SUM(F5:F18) -> 30879.912
B22: Zaudējumi kopā, euro | C22: 44114
B23: Pašvaldības līdzfinansējums, euro | C23: 13234
B24: No LNG atbalstāmais finansējums, euro | C24: =C22-C23 -> 30880

Sheet Rēzeknes novads
A2: Rēzeknes novada pašvaldības 2025. gada jūnijā - jūlijā lietavu laikā radītie postījumi
A3: Nr. p.k. | B3: Objekta nosaukums un adrese | C3: Veicamie pasākumi/darbi | D3: Postījumu novēršanai nepieciešamā finansējuma apmērs, euro | E3: Pašvaldības līdz- finansējums, euro | F3: No valsts budžeta programmas "Līdzekļi neparedzētiem gadījumiem" nepieciešamā finansējuma apmērs, euro | G3: Pašvaldības iesniegtie finansiālā pamatojuma dokumenti | M3: Piezīmes, komentāri
G4: MK noteikumu Nr.421 5.pielikums | H4: apsekošanas akts (zaudējumu novērtējums vai dokumenti, kas apliecina notikušo faktu), vai ir pievienota fotogrāfija/jas | I4: pieprasīto līdzekļu aprēķins/tāme (veicamo darbu/ pakalpojumu apraksts, nepieciešamo materiālu daudzums, cena, atalgojums un paredzamo nodokļu samaksa) | J4: apliecinājums, ka infrastruktūras objekts ir pašvaldības īpašumā vai valdījumā (pamatlīdzekļu uzskaites kartīte vai zemesgrāmatas apliecinājums) | K4: informācija par pašvaldības līdzfinansējuma apmēru objektam radīto zaudējumu novēršanai (domes lēmums) | L4: apliecinājums, ka par objektu pašvaldībai nepienākas vai pienākas apdrošināšanas atlīdzība + skaidrojums, ja nebija apdrošināts
A5: 1 | B5: Ceļš 8001 Liuki - Ostrovīši - Dītlovi, Pušas pagasts, Rēzeknes novads, 0,165 km | C5: Autoceļa klātnes uzbēršana ar dolomīta šķembu maisījumu, frakcija 0/45 | D5: 1295.91 | E5: =D5*30% -> 388.773 | F5: =D5-E5 -> 907.137 | G5: x | H5: 31.07.2025. apsekošanas akts, apsekošanā piedalījās attiecīgās jomas speciālists, pievienota fotogrāfija | I5: 07.08.2025. remontdarbu koptāme, sagatavoja sertificēts speciālists (sert. Nr.3-01213) | J5: Pamatlīdzekļu uzskaites kartīte Nr.12-82p | K5: Rēzeknes novada pašvaldība 14.08.2025. vēstulē Nr.RNP/2025/4.2/1426 informē, ka ir gatava nodrošināt līdzfinansējumu 2025. gada jūnijā un jūlijā lietavu izraisīto postījumu novēršanai 6 241 euro apmērā (kas ir 30% no kopā nepieciešamā finansējuma. Rēzeknes novada pašvaldība norāda, ka minētais lēmums tiks pieņemts tuvākajā pašvaldības domes sēdē, līdz 15.09.2025. | L5: 5. pielikumā norāda, ka nav apdrošināts
A6: 2 | B6: Ceļš 8012 Vociši - Loci, Pušas pagasts, Rēzeknes novads, 1,76 km, 2,44 km, 3,62 km | C6: Izskalojumu piebēršana ar dolomīta šķembu maisījumu, frakcija 0/32 | D6: 74.05 | E6: =D6*30% -> 22.215 | F6: =D6-E6 -> 51.835 | G6: x | H6: 27.07.2025. apsekošanas akts, apsekošanā piedalījās attiecīgās jomas speciālists, pievienotas fotogrāfijas | I6: 07.08.2025. remontdarbu koptāme, sagatavoja sertificēts speciālists (sert. Nr.3-01213) | J6: Pamatlīdzekļu uzskaites kartīte Nr.12-93p
A7: 3 | B7: Ceļš 7016 Leimanišķi - Špēļi, Maltas pagasts, Rēzeknes novads, 0,195 km | C7: Sāngrāvju atjaunošana un izskalojuma piebēršana ar dolomīta šķembu maisījumu, frakcija 0/32 | D7: =1191.27+37.03 -> 1228.3 | E7: =D7*30% -> 368.49 | F7: =D7-E7 -> 859.81 | G7: x | H7: 05.06.2025. apsekošanas akts, apsekošanā piedalījās attiecīgās jomas speciālists, pievienota fotogrāfija | I7: 07.08.2025. remontdarbu koptāme, sagatavoja sertificēts speciālists (sert. Nr.3-01213) | J7: Pamatlīdzekļu uzskaites kartīte Nr.12-2144
A8: 4 | B8: Ceļš 5212 Skrauči - Kazimirova - Kancāni, Feimaņu pagasts, Rēzeknes novads, 0,005 km, 3,135 km, 3,775 km | C8: Izskalojumu piebēršana ar dolomīta šķembu maisījumu, frakcija 0/32 | D8: 370.26 | E8: =D8*30% -> 111.078 | F8: =D8-E8 -> 259.182 | G8: x | H8: 25.06.2025. apsekošanas akts, apsekošanā piedalījās attiecīgās jomas speciālists, pievienotas fotogrāfijas | I8: 07.08.2025. remontdarbu koptāme, sagatavoja sertificēts speciālists (sert. Nr.3-01213) | J8: Pamatlīdzekļu uzskaites kartīte Nr.05-798
A9: 5 | B9: Ceļš 5209 Pizāni - Kancāni - Leinakolns, Feimaņu pagasts, Rēzeknes novads, 0,170 km | C9: Izskalojumu piebēršana ar dolomīta šķembu maisījumu, frakcija 0/32 | D9: 333.23 | E9: =D9*30% -> 99.969 | F9: =D9-E9 -> 233.261 | G9: x | H9: 25.06.2025. apsekošanas akts, apsekošanā piedalījās attiecīgās jomas speciālists, pievienota fotogrāfija | I9: 07.08.2025. remontdarbu koptāme, sagatavoja sertificēts speciālists (sert. Nr.3-01213) | J9: Pamatlīdzekļu uzskaites kartīte Nr.05-797
A10: 6 | B10: Ceļš 8818 Belobabina - Krasutina - Mežajuri - Štikāni, Silmalas pagasts, Rēzeknes novads, 0,625 km | C10: Caurtekas nomaiņa d 0,5m | D10: 1393.05 | E10: =D10*30% -> 417.915 | F10: =D10-E10 -> 975.135 | G10: x | H10: 10.07.2025. apsekošanas akts, apsekošanā piedalījās attiecīgās jomas speciālists, pievienota fotogrāfija | I10: 07.08.2025. remontdarbu koptāme, sagatavoja sertificēts speciālists (sert. Nr.3-01213) | J10: Pamatlīdzekļu uzskaites kartīte Nr.29-3296
A11: 7 | B11: Ceļš 8814 Hatki - Pustinka, Silmalas pagasts, Rēzeknes novads, 1,150 km | C11: Izskalojuma piebēršana ar dolomīta šķembu maisījumu, frakcija 0/32 | D11: 333.23 | E11: =D11*30% -> 99.969 | F11: =D11-E11 -> 233.261 | G11: x | H11: 05.06.2025. apsekošanas akts, apsekošanā piedalījās attiecīgās jomas speciālists, pievienotas fotogrāfijas | I11: 07.08.2025. remontdarbu koptāme, sagatavoja sertificēts speciālists (sert. Nr.3-01213) | J11: Pamatlīdzekļu uzskaites kartīte Nr.29-3622
A12: 8 | B12: Ceļš 77609 Rubuļi - Križevņiki - Škvarki, Ozolaines pagasts, Rēzeknes novads, 0,62 km, 2,66 km, 3,13 km | C12: Izskalojumu piebēršana ar dolomīta šķembu maisījumu, frakcija 0/32 | D12: 1332.94 | E12: =D12*30% -> 399.882 | F12: =D12-E12 -> 933.058 | G12: x | H12: 18.07.2025. apsekošanas akts, apsekošanā piedalījās attiecīgās jomas speciālists, pievienotas fotogrāfijas | I12: 07.08.2025. remontdarbu koptāme, sagatavoja sertificēts speciālists (sert. Nr.3-01213) | J12: Pamatlīdzekļu uzskaites kartīte Nr.16-293, Nr.16-293.1, Nr.16-293.2, Nr.16-293.4
A13: 9 | B13: Ceļš 7604 Bumbiški - Kivki - Balbiši, Ozolaines pagasts, Rēzeknes novads, 1,97 km | C13: Sāngrāvju atjaunošana | D13: 473.35 | E13: =D13*30% -> 142.005 | F13: =D13-E13 -> 331.345 | G13: x | H13: 05.06.2025. apsekošanas akts, apsekošanā piedalījās attiecīgās jomas speciālists, pievienota fotogrāfija | I13: 07.08.2025. remontdarbu koptāme, sagatavoja sertificēts speciālists (sert. Nr.3-01213) | J13: Pamatlīdzekļu uzskaites kartīte Nr.16-188, Nr.16-188.1
A14: 10 | B14: Ceļš 5661 Jusi – ‘"Centība", Griškānu pagasts, Rēzeknes novads | C14: Izskalojumu defektu novēršana un ceļa seguma virskārtas atjaunošana | D14: =5289.53+2557.5 -> 7847.03 | E14: =D14*30% -> 2354.109 | F14: =D14-E14 -> 5492.921 | G14: x | H14: 25.07.2025. defektācijas akts Nr.25.07.2025, apsekošanā piedalījās būvtehniķis, pievienotas fotogrāfijas | I14: 29.07.2025. tāme Nr.1, sagatavoja sertificēts speciālists (sert. Nr. 4-01879) | J14: Pamatlīdzekļu uzskaites kartīte Nr.07-328 | M14: Vai atbalstāms?
A15: 11 | B15: Ceļš 5609 Šļahotska – Rēzeknes pilsēta 2, Griškānu pagasts, Rēzeknes novads | D15: 1860 | E15: =D15*30% -> 558 | F15: =D15-E15 -> 1302 | G15: x | J15: Pamatlīdzekļu uzskaites kartīte Nr.07-228
A16: 12 | B16: Ceļš 5651 Šļahotska - Tuči, Griškānu pagasts, Rēzeknes novads | D16: 2325 | E16: =D16*30% -> 697.5 | F16: =D16-E16 -> 1627.5 | G16: x | J16: Pamatlīdzekļu uzskaites kartīte Nr.07-270
A17: 13 | B17: Ceļš 6250 Bidzāni- Nameti, Kaunatas pagasts, Rēzeknes novads | D17: 1240 | E17: =D17*30% -> 372 | F17: =D17-E17 -> 868 | G17: x | J17: Pamatlīdzekļu uzskaites kartīte Nr.09-317
A18: 14 | B18: Ceļš 6205 Vilkakrogs - Mozgi - Jaunsloboda, Kaunatas pagasts, Rēzeknes novads | D18: 697.5 | E18: =D18*30% -> 209.25 | F18: =D18-E18 -> 488.25 | G18: x | J18: Pamatlīdzekļu uzskaites kartīte Nr.09-43, Nr.09-2211
C19: KOPĀ: | D19: =SUM(D5:D18) -> 20803.85 | E19: =SUM(E5:E18) -> 6241.155 | F19: =SUM(F5:F18) -> 14562.695
B22: Zaudējumi kopā, euro | C22: 20804
B23: Pašvaldības līdzfinansējums, euro | C23: 6241
B24: No LNG atbalstāmais finansējums, euro | C24: =C22-C23 -> 14563

Sheet Kopā
A2: Nr. p. k. | B2: Pašvaldība | C2: Izdevumi kopā, euro | D2: Pašvaldības līdzfinansējums, euro | E2: No LNG nepieciešams, euro
A3: 1 | B3: Alūksnes novada pašvaldība | C3: ='Alūksnes novads'!C35 -> 35249 | D3: ='Alūksnes novads'!C36 -> 10575 | E3: =C3-D3 -> 24674
A4: 2 | B4: Augšdaugavas novada pašvaldība | C4: ='Augšdaugavas novads'!C25 -> 111338 | D4: ='Augšdaugavas novads'!C26 -> 33401 | E4: =C4-D4 -> 77937
A5: 3 | B5: Jēkabpils novada pašvaldība | C5: ='Jēkabpils novads'!C16 -> 37559 | D5: ='Jēkabpils novads'!C17 -> 11268 | E5: =C5-D5 -> 26291
A6: 4 | B6: Krāslavas novada pašvaldība | C6: ='Krāslavas novads'!C22 -> 44114 | D6: ='Krāslavas novads'!C23 -> 13234 | E6: =C6-D6 -> 30880
A7: 5 | B7: Rēzeknes novada pašvaldība | C7: ='Rēzeknes novads'!C22 -> 20804 | D7: ='Rēzeknes novads'!C23 -> 6241 | E7: =C7-D7 -> 14563
A8: Kopā: | C8: =SUM(C3:C7) -> 249064 | D8: =SUM(D3:D7) -> 74719 | E8: =SUM(E3:E7) -> 174345
