Workbook

Sheet Kopsavilkums
E1: 1.pielikums
E2: Informatīvajam ziņojumam “Par medicīniskā skābekļa pieejamības nodrošināšanu un slimnīcu rezervju, kā arī valsts gultu rezervju veidošanu”
A4: N.p.k. | B4: Ārstniecības iestāde | C4: Gāzu tīkla izbūve skābekļa nodrošināšanai Covid-19 pacientiem | D4: 2021.gadā veiktie pasākumi summa, euro | E4: 2022.gadam nepieciešamā summa, euro | F4: Pavisam kopā nepieciešams, euro
A5: 1 | B5: Rīgas Austrumu klīniskā universitātes lsimnīca | D5: =RAKUS!H32 -> 206959 | E5: =RAKUS!H33 -> 420511 | F5: =Table14[[#This Row],[2021.gadā veiktie pasākumi summa, euro]]+Table14[[#This Row],[2022.gadam nepieciešamā summa, euro]] -> 627470
A6: 2 | B6: Liepājas reģionālā slimnīca | D6: =Liepāja!E13 -> 807268 | F6: =Table14[[#This Row],[2021.gadā veiktie pasākumi summa, euro]]+Table14[[#This Row],[2022.gadam nepieciešamā summa, euro]] -> 807268
A7: 4 | B7: Ziemeļkurzemes reģionālā slimnīca Talsu filiāle | C7: Ietverta 2 mēnešu cisternas noma | D7: =Ziemeļkurzeme!C9 -> 1245 | E7: =Ziemeļkurzeme!C10 -> 4393 | F7: =Table14[[#This Row],[2021.gadā veiktie pasākumi summa, euro]]+Table14[[#This Row],[2022.gadam nepieciešamā summa, euro]] -> 5638
A8: 5 | B8: Vidzemes slimnīca | D8: =Vidzeme!C12 -> 29436 | F8: =Table14[[#This Row],[2021.gadā veiktie pasākumi summa, euro]]+Table14[[#This Row],[2022.gadam nepieciešamā summa, euro]] -> 29436
A9: 6 | B9: Daugavpils reģionālā slimnīca | D9: =Daugavpils!I20 -> 29685 | F9: =Table14[[#This Row],[2021.gadā veiktie pasākumi summa, euro]]+Table14[[#This Row],[2022.gadam nepieciešamā summa, euro]] -> 29685
A10: 7 | B10: Jelgavas pilsētas slimnīca | D10: =Jelgava!C11 -> 2169 | E10: =Jelgava!C12 -> 62416 | F10: =Table14[[#This Row],[2021.gadā veiktie pasākumi summa, euro]]+Table14[[#This Row],[2022.gadam nepieciešamā summa, euro]] -> 64585
A11: 8 | B11: Jūrmalas slimnīca | D11: =Jūrmala!C7 -> 11482 | F11: =Table14[[#This Row],[2021.gadā veiktie pasākumi summa, euro]]+Table14[[#This Row],[2022.gadam nepieciešamā summa, euro]] -> 11482
A12: 9 | B12: Dobeles un apkārtnes slimnīca | D12: =Dobele!C8 -> 11475 | F12: =Table14[[#This Row],[2021.gadā veiktie pasākumi summa, euro]]+Table14[[#This Row],[2022.gadam nepieciešamā summa, euro]] -> 11475
A13: 10 | B13: Preiļu slimnīca | D13: ='Preiļu slimnīca'!C7 -> 1784 | F13: =Table14[[#This Row],[2021.gadā veiktie pasākumi summa, euro]]+Table14[[#This Row],[2022.gadam nepieciešamā summa, euro]] -> 1784
A14: 11 | B14: Tukuma slimnīca | D14: =Tukums!C11 -> 23378 | F14: =Table14[[#This Row],[2021.gadā veiktie pasākumi summa, euro]]+Table14[[#This Row],[2022.gadam nepieciešamā summa, euro]] -> 23378
A15: 12 | B15: Aizkraukles slimnīca | D15: =Aizkraukle!C11 -> 11827 | F15: =Table14[[#This Row],[2021.gadā veiktie pasākumi summa, euro]]+Table14[[#This Row],[2022.gadam nepieciešamā summa, euro]] -> 11827
A16: 13 | B16: Bauskas slimnīca | D16: =Bauska!C7 -> 5482 | F16: =Table14[[#This Row],[2021.gadā veiktie pasākumi summa, euro]]+Table14[[#This Row],[2022.gadam nepieciešamā summa, euro]] -> 5482
A17: 14 | B17: Ludzas medicīnas centrs | D17: =Ludza!C8 -> 11809 | F17: =Table14[[#This Row],[2021.gadā veiktie pasākumi summa, euro]]+Table14[[#This Row],[2022.gadam nepieciešamā summa, euro]] -> 11809
A18: 15 | B18: Saldus medicīnas centrs | D18: =Saldus!C10 -> 7370 | F18: =Table14[[#This Row],[2021.gadā veiktie pasākumi summa, euro]]+Table14[[#This Row],[2022.gadam nepieciešamā summa, euro]] -> 7370
A19: 16 | B19: Traumatoloģijas un ortopēdijas slimnīca | D19: =TOS!C9 -> 7242 | F19: =Table14[[#This Row],[2021.gadā veiktie pasākumi summa, euro]]+Table14[[#This Row],[2022.gadam nepieciešamā summa, euro]] -> 7242
A20: 17 | B20: Rīgas 2. slimnīca | D20: ='Rīgas 2.slimn'!C12 -> 1612 | E20: ='Rīgas 2.slimn'!C13 -> 10000 | F20: =Table14[[#This Row],[2021.gadā veiktie pasākumi summa, euro]]+Table14[[#This Row],[2022.gadam nepieciešamā summa, euro]] -> 11612
A21: 18 | B21: Rīgas 1. slimnīca | D21: ='Rīgas 1.slimnīca'!B12 -> 52395 | F21: =Table14[[#This Row],[2021.gadā veiktie pasākumi summa, euro]]+Table14[[#This Row],[2022.gadam nepieciešamā summa, euro]] -> 52395
C22: KOPĀ | D22: =SUBTOTAL(109,Table14[2021.gadā veiktie pasākumi summa, euro]) -> 1222618 | E22: =SUBTOTAL(109,Table14[2022.gadam nepieciešamā summa, euro]) -> 497320 | F22: =SUBTOTAL(109,Table14[Pavisam kopā nepieciešams, euro]) -> 1719938
C24: Ieguldīšana pamatkapiālā 2022.gadā ( tai skaitā 2021.gadā veiktie darbi) | D24: =D5+E5+D19 -> 634712 | E24: =D24 -> 634712
C25: Pārējām slimnīcām | D25: =D6+D7+D8+D9+D10+E10+D11+D12+D13+D14+D16+D15+D17+D18+D20+E20+D21+E7 -> 1085226 | E25: =E6+E7+E8+E9+E10+F10+E11+E12+E13+E14+E16+E15+E17+E18+E20+F20+E21+F7 -> 158644 | F25: =F6+F7+F8+F9+F10+G10+F11+F12+F13+F14+F16+F15+F17+F18+F20+G20+F21+G7 -> 1085226
C27: Operatīvais datu panelis | D27: 439276
C29: Pavisam kopā nepieciešams 2022. gadā | D29: =D24+D25+D27 -> 2159214

Sheet RAKUS
I1: 1.1. pielikums
A3: Nr | B3: Darbu Tehniskā specifikācijas – Darba pieteikumi | C3: Līguma Nr | D3: Stacionārs | E3: Statuss | F3: Darbu apjoms | G3: Summa (ar PVN) | H3: Izpilde, mēnesis | I3: Budžets
A4: Nr 1 | B4: Skābekļa sistēmas iekšējo tīklu izbūve stacionāra “Latvijas Infektoloģijas centrs” 18. korpusa 4. nodaļai | C4: B8-2021/737 | D4: LIC | E4: paveikts | F4: atbilstoši līguma tāmei/ apjomu tabulai pielikumā | G4: =24577.52*1.21 -> 29738.799 | H4: Novembris 2021 | I4: Sabiedrības budžets
A5: Nr 2 | B5: Jauna maģistrālā cauruļvada montāža stacionārā “Latvijas Infektoloģijas centrs” no O2 tvertnes līdz Intensīvās terapijas nodaļai (13.korpuss) | C5: B8-2021/738 | D5: LIC | E5: tiek veikti darbi | F5: atbilstoši līguma tāmei/ apjomu tabulai pielikumā | G5: =43667.16*1.21 -> 52837.264 | H5: Janvāris 2022 | I5: Sabiedrības budžets
A6: Nr 4 | B6: Skābekļa sistēmas iekšējo un ārējo tīklu izbūve stacionāra “Latvijas Infektoloģijas centrs” 10. nodaļā | C6: B8-2021/739 | D6: LIC | E6: tiek veikti darbi | F6: atbilstoši līguma tāmei/ apjomu tabulai pielikumā | G6: =15781.5*1.21 -> 19095.615 | H6: Janvāris 2022 | I6: Sabiedrības budžets
A7: Nr 5 | B7: Skābekļa ligzdu un līniju izbūve stacionāra “Tuberkulozes un plaušu slimību centrs” nodaļās | C7: B8-2021/741 | D7: TPSC | E7: paveikts | F7: atbilstoši līguma tāmei/ apjomu tabulai pielikumā | G7: =6314.78*1.21 -> 7640.8838 | H7: Novembris 2021 | I7: Sabiedrības budžets
A8: Nr 6 | B8: Maģistrālo skābekļa un saspiestā gaisa cauruļvadu izbūve stacionārā “Tuberkulozes un plaušu slimību centrs” | C8: B8-2021/742 | D8: TPSC | E8: notiek darbu pieņemšana | F8: atbilstoši līguma tāmei/ apjomu tabulai pielikumā | G8: =61370.9*1.21 -> 74258.789 | H8: Janvāris 2022 | I8: Sabiedrības budžets
A9: Nr 7 | B9: Saspiestā gaisa ligzdu un stiprinājuma profilu uzstādīšana stacionāra “Biķernieki” AITN nodaļā | C9: B8-2021/743 | D9: Biķernieki | E9: paveikts | F9: atbilstoši līguma tāmei/ apjomu tabulai pielikumā | G9: =2002.51*1.21 -> 2423.0371 | H9: Decembris 2021 | I9: Sabiedrības budžets
A10: Nr 8 | B10: 8. Biķernieki: Skābekļa padeves līniju nomaiņa atbilstoši patēriņam (ārējo tīklu maģistrāle, iekšējie tīkli izbūve un renovācija) | D10: Biķernieki | E10: plānots | F10: atbilstoši līguma tāmei/ apjomu tabulai pielikumā | G10: =70000*1.21 -> 84700 | H10: Oktbris 2022
A11: Nr 9 | B11: Skābekļa ligzdu un cauruļvadu montāža stacionāra “Biķernieki” Gerontoloģijas un 1. Ķirurģijas nodaļās | D11: Biķernieki | E11: plānots | F11: atbilstoši līguma tāmei/ apjomu tabulai pielikumā | G11: =8000*1.21 -> 9680 | H11: Oktbris 2022
A12: Nr 10 | B12: Stacionāra “Gaiļezers” NMPUK jaunu skābekļa rozešu montāža | D12: Gaiļezers | E12: plānots | F12: atbilstoši līguma tāmei/ apjomu tabulai pielikumā | G12: =5000*1.21 -> 6050 | H12: Oktbris 2022
A13: Nr 12 | B13: Skābekļa sistēmas iekšējo tīklu izbūve stacionāra “Latvijas Infektoloģijas Centrs” 6. un 8A nodaļai | C13: B8-2021/640 | D13: LIC | E13: paveikts | F13: atbilstoši līguma tāmei/ apjomu tabulai pielikumā | G13: =17196*1.21 -> 20807.16 | H13: Septembris 2021 | I13: Sabiedrības budžets
A14: Nr 13 | B14: Lielākas skābekļa tvertnes/mucas un maģistrālās līnijas montāža | D14: LOC | E14: plānots | F14: atbilstoši līguma tāmei/ apjomu tabulai pielikumā | G14: =18000*1.21 -> 21780 | H14: Oktbris 2022
A15: Nr 14 | B15: Sašķidrinātā skābekļa tvertnes, spiediena stabilizācijas bloka un savienojošās maģistrālās caurules montāža stacionārā “Gaiļezers” | C15: B8-2021/780 | D15: Gaiļezers | E15: paveikts | F15: atbilstoši līguma tāmei/ apjomu tabulai pielikumā | G15: =59596.75*1.21 -> 72112.068 | H15: Decembris 2021 | I15: ārkārtas iepirkuma ietvaros (iepirkuma identifikācijas Nr. RAKUS 2021/133A)
A16: Nr 15 | B16: Skābekļa ligzdu un cauruļvadu montāža stacionāra “Gaiļezers” NMPUK garāžā | D16: Gaiļezers | E16: paveikts | F16: atbilstoši līguma tāmei/ apjomu tabulai pielikumā | G16: =(3212.39-557.52)*1.21 -> 3212.3927 | H16: Oktobris 2021 | I16: Sabiedrības budžets
A17: Nr 18 | B17: Reduktoru un cauruļvadu montāža palielinot darba spiedienu līnijā līdz sadales telpai stacionāra “Gaiļezers” 9. korpusā | C17: B8-2021/834 | D17: Gaiļezers | E17: paveikts | F17: atbilstoši līguma tāmei/ apjomu tabulai pielikumā | G17: =4205.4*1.21 -> 5088.534 | H17: Decembris 2021 | I17: ārkārtas iepirkuma ietvaros (iepirkuma identifikācijas Nr. RAKUS 2021/133A)
A18: Nr 19 | B18: Skābekļa un saspiestā gaisa rozešu un cauruļvadu montāža stacionāra “Gaiļezers” 89. nodaļā | C18: B8-2021/835 | D18: Gaiļezers | E18: paveikts | F18: atbilstoši līguma tāmei/ apjomu tabulai pielikumā | G18: =2515.79*1.21 -> 3044.1059 | H18: Decembris 2021 | I18: ārkārtas iepirkuma ietvaros (iepirkuma identifikācijas Nr. RAKUS 2021/133A)
A19: Nr 21 | B19: Skābekļa cauruļvadu un sadales montāža stacionāra “Gaiļezers” 9. korpusā | C19: B8-2021/779 | D19: Gaiļezers | E19: notiek darbu pieņemšana | F19: atbilstoši līguma tāmei/ apjomu tabulai pielikumā | G19: =53076.37*1.21 -> 64222.408 | H19: Janvāris 2022 | I19: ārkārtas iepirkuma ietvaros (iepirkuma identifikācijas Nr. RAKUS 2021/133A)
A20: Nr 3 | B20: Skābekļa rozešu un cauruļvadu montāža stacionāra "Gaiļezers" 9. korpusa 11. stāvā | C20: B8-2021/829 | D20: Gaiļezers | E20: paveikts | F20: atbilstoši līguma tāmei/ apjomu tabulai pielikumā | G20: =20381.25*1.21 -> 24661.312 | H20: Decembris 2021 | I20: ārkārtas iepirkuma ietvaros (iepirkuma identifikācijas Nr. RAKUS 2021/133A)
A21: Nr 22 | B21: Skābekļa un saspiestā gaisa rozešu un cauruļvadu montāža stacionāra "Gaiļezers" 9. korpusa 6. stāvā | C21: B8-2021/851 | D21: Gaiļezers | E21: notiek darbu pieņemšana | F21: atbilstoši līguma tāmei/ apjomu tabulai pielikumā | G21: =24800.29*1.21 -> 30008.351 | H21: Janvāris 2022 | I21: ārkārtas iepirkuma ietvaros (iepirkuma identifikācijas Nr. RAKUS 2021/133A)
A22: Nr 23 | B22: Skābekļa un saspiestā gaisa rozešu un cauruļvadu montāža stacionāra "Gaiļezers" 9. korpusa 3. stāvā | C22: B8-2021/852 | D22: Gaiļezers | E22: tiek veikti darbi | F22: atbilstoši līguma tāmei/ apjomu tabulai pielikumā | G22: =22225.59*1.21 -> 26892.964 | H22: Janvāris 2022 | I22: ārkārtas iepirkuma ietvaros (iepirkuma identifikācijas Nr. RAKUS 2021/133A)
A23: Nr 24 | B23: Skābekļa rozešu un ventiļa montāža stacionāra "Biķernieki" 4. stāva kreisajā spārnā | C23: B8-2021/836 | D23: Biķernieki | E23: paveikts | F23: atbilstoši līguma tāmei/ apjomu tabulai pielikumā | G23: =1862.22*1.21 -> 2253.2862 | H23: Novembris 2021 | I23: ārkārtas iepirkuma ietvaros (iepirkuma identifikācijas Nr. RAKUS 2021/133A)
A24: Nr 25 | B24: Jauna medicīniskā skābekļa maģistrālā cauruļvada montāža stacionārā “Latvijas Infektoloģijas centrs” no maģistrāles zaru savienojuma līdz 18.korpusam | C24: B8-2021/853 | D24: LIC | E24: tiek veikti darbi | F24: atbilstoši līguma tāmei/ apjomu tabulai pielikumā | G24: =17108.28*1.21 -> 20701.019 | H24: Janvāris 2022 | I24: ārkārtas iepirkuma ietvaros (iepirkuma identifikācijas Nr. RAKUS 2021/133A)
A25: Nr 26 | B25: Skābekļa rozešu un cauruļvadu montāža stacionāra "Gaiļezers" 9. korpusa 9. stāva labajā pusē | C25: B8-2021/839 | D25: Gaiļezers | E25: notiek darbu pieņemšana | F25: atbilstoši līguma tāmei/ apjomu tabulai pielikumā | G25: =8500*1.21 -> 10285 | H25: Janvāris 2022 | I25: ārkārtas iepirkuma ietvaros (iepirkuma identifikācijas Nr. RAKUS 2021/133A)
A26: Nr n1 | B26: Stacionāra "LIC" Montāžas darbi medicīniska skābekļa padeves nodrošināšanai | C26: A1/1.1-11/21/717 | D26: LIC | E26: paveikts | F26: atbilstoši līguma tāmei/ apjomu tabulai pielikumā | G26: =3630.08*1.21 -> 4392.3968 | H26: Aprīlis 2021 | I26: Sabiedrības budžets
A27: Nr n2 | B27: Stacionāra "LIC" Montāžas darbi medicīniska skābekļa padeves nodrošināšanai | C27: A1/1.1-11/21/718 | D27: LIC | E27: paveikts | F27: atbilstoši līguma tāmei/ apjomu tabulai pielikumā | G27: =3774.81*1.21 -> 4567.5201 | H27: Aprīlis 2021 | I27: Sabiedrības budžets
A28: Nr n4 | B28: Gāzu evakuācijas ligzdu nomaiņa stacionāra "TPSC" 3., 4. un 9. nodaļā | C28: A1/1.1-11/21/3285 | D28: TPSC | E28: paveikts | F28: atbilstoši līguma tāmei/ apjomu tabulai pielikumā | G28: =4817.74*1.21 -> 5829.4654 | H28: Aprīlis 2021 | I28: Sabiedrības budžets
A29: Nr n5 | B29: Skābekļa pievades sistēmas izbūve stacionāra “Gaiļezers” 9. korpusa 4. stāvā | C29: B8-2021/269 | D29: Gaiļezers | E29: paveikts | F29: atbilstoši līguma tāmei/ apjomu tabulai pielikumā | G29: =17510*1.21 -> 21187.1 | H29: Aprīlis 2021 | I29: Sabiedrības budžets
A30: Kopā | G30: =ROUNDUP(SUBTOTAL(109,G4:G29),0) -> 627470
G32: Kopā nepieciešamais finansējums par 2021. gadā veiktajiem darbiem | H32: =ROUNDUP(G4+G7+G9+G13+G15+G16+G17+G18+G20+G23+G26+G27+G28+G29,0) -> 206959
G33: Kopā nepieciešamais finansējums 2022. gadā | H33: =ROUND(G25+G24+G22+G21+G19+G14+G12+G11+G10+G8+G6+G5,) -> 420511

Sheet Liepāja
F1: 1.2. pielikums
A3: Gāzu tīkla izbūve skābekļa nodrošināšanai Covid-19 pacientiem | B3: Datums | C3: Summa ar PVN | D3: Pavadzīmes vai rēķina Nr. | E3: LRS finansējums | F3: NVD/ERAF finansējms
A4: Skābekļa ģeneratoru izbūve | B4: 04.2021. | C4: 130971.61 | D4: PN akts 2021/0107, rēķins | E4: 0 | F4: 130971.61
A5: Skābekļu koncentrācijas mērītāju izbūve ITN | B5: 07.2021. | C5: 34131.68 | D5: PN akts 2021/0243, rēķins | E5: 0 | F5: 34131.68
A6: Sašķidrinātā medicīniskā skābekļa cisternas pieslēgšana | B6: 10.2021. | C6: 11009.79 | D6: UMT tāme. Izmaksas tāmē bez PVN 21% | E6: 11009.79 | F6: 0
A7: Skābekļa rezerves sistēmas pārvietošana | B7: 01.2021. | C7: 13352.96 | D7: PN akts 2020/0516, rēķins | E7: 13352.96 | F7: 0
A8: Medicīnas gāzu tīkla izbūve magnētiskās rezonanses kabinetā | B8: 12.2021. | C8: 3507.79 | D8: UMT tāme. Izmaksas tāmē bez PVN 21% | E8: 3507.79 | F8: 0
A9: Sašķidrinātā medicīniskā skābekļa cisternas noma | B9: 11.-12.2021. | C9: 22143 | D9: Līguma Nr. 2021/0529 nosacījumi | E9: 22143 | F9: 0
A10: Medicīnas konsoles BP 2.kārta, 4.kārta, ITN | B10: 12.2021. | C10: 889906.6 | D10: Līguma 2021/0365 vienošanās Nr.1 pielikums | E10: 757254.3 | F10: 132652.3
A11: Total | C11: =SUBTOTAL(109,Table1315[Summa ar PVN]) -> 1105023.4 | E11: =SUBTOTAL(109,Table1315[LRS finansējums]) -> 807267.84 | F11: =SUBTOTAL(109,Table1315[NVD/ERAF finansējms]) -> 297755.59
D13: Kopā nepieciešamais finansējums par 2021. gadā veiktajiem darbiem | E13: =ROUND(Table1315[[#Totals],[LRS finansējums]],0) -> 807268

Sheet Ziemeļkurzeme
D1: 1.3. pielikums
A2: Slimnīcas ārējā pieslēguma rekonstrukcijas darbi (sašķidrinātā medicīniskā skābekļa cisternas modernizācija un/ vai gāzveida pieslēgumu modernizācijas tilpuma palielināšana, pamatnes izbūves darbi, iztvaikotāja jaudas palielināšana, centrāles plūsmas palielināšana, jauna pievada izveidošana un citi saistītie darbi)
A3: Gāzu tīkla izbūve skābekļa nodrošināšanai Covid-19 pacientiem | B3: Datums | C3: Summa ar PVN | D3: Pavadzīmes vai rēķina Nr.
A4: Kriogēnās tvertnes 6m3, iztvaikotājs100m3/h, pamata betona plāksne, žogs noma uz Covid-19 pandēmijas laiku no SIA “EME MESSER L”. 1815 eur/mēn. | B4: 2022.gads, janvāris | C4: =1815*2*1.21 -> 4392.3
A5: Slimnīcas iekšējie rekonstrukcijas darbi (jaunas medicīniskā skābekļa centralizēto pieslēgumu izveides, ar visiem nepieciešamajiem izejmateriāliem: kapara caurules, ventīļi, reduktori, kanāli, konsoles, ligzdas utt.)veikti iekšējie sistēmas atjaunošanas darbi | B5: 2021.gads, februāris | C5: 163.94
A6: Slimnīcas iekšējie rekonstrukcijas darbi (jaunas medicīniskā skābekļa centralizēto pieslēgumu izveides, ar visiem nepieciešamajiem izejmateriāliem: kapara caurules, ventīļi, reduktori, kanāli, konsoles, ligzdas utt.)veikti iekšējie sistēmas atjaunošanas darbi | B6: 2021.gada novembris | C6: 1080.8
A7: Total | C7: =ROUNDUP(SUBTOTAL(109,Table132010[Summa ar PVN]),0) -> 5638
B9: Kopā nepieciešamais finansējums par 2021. gadā veiktajiem darbiem | C9: =ROUNDUP(C5+C6,0) -> 1245
B10: Kopā nepieciešamais finansējums 2022. gadā | C10: =ROUNDUP(C4,0) -> 4393

Sheet Vidzeme
I1: 1.4. pielikums
A3: Gāzu tīkla izbūve skābekļa nodrošināšanai Covid-19 pacientiem ĀRĒJIE | B3: Datums | C3: Summa ar PVN | D3: Pavadzīmes vai rēķina Nr. | F3: Gāzu tīkla izbūve skābekļa nodrošināšanai Covid-19 pacientiem IEKŠĒJIE | G3: Datums | H3: Summa ar PVN | I3: Pavadzīmes vai rēķina Nr.
A4: Balonu saišķa iegāde skābekļa nodrošinājumam cauruļvadu pārslēgšanas un montāžas darbu laikā. | B4: 2021.gada septembris | C4: 270.01 | D4: 24.09.21. Nr.6721870043 | F4: Veikta medicīniskā skābekļa centrāles nomaiņa. | G4: 2021.gada marts | H4: 11833.8 | I4: 23.03.2021. Nr.6721786283
A5: 1. Veikta atsevišķa skābekļa pievada izbūve uz Covid-19 intensīvās palātas telpām atsevišķas plūsmas nodrošināšanai un daļēja maģistrālās līnijas pārbūve. 2. Veikta centrālās skābekļa maģistrāles nomaiņa uz lielāku diametru lielākas plūsmas nodrošinājumam slimnīcā kopumā. | B5: 2021.gada oktorbis | C5: 7210.86 | D5: 07.10.2021. Nr.6721880995 | F5: Izbūvēts atsevišķs pievads Covid-19 pacientu stacionārai nodaļai. | G5: 2021.gada augusts | H5: 1487.82 | I5: 03.08.2021. Nr.R210803-1
A6: Total | C6: =SUBTOTAL(109,Table139[Summa ar PVN]) -> 7480.87 | F6: Veikta līnijas reduktora instalācija uz esošās līnijas (uz plānoto Covid-19 intensīvās terapijas nodaļu). | G6: 2021.gada novembris | H6: 830.52 | I6: 09.11.2021. Nr. 6721895170
F7: Veikta atsevišķa medicīniskā skābekļa pievada un ligzdu izbūve uz esošo renimācijas nodaļu (plānoto Covid-19 intensīvās terapijas nodaļu) augstas skābekļa plūsmas nodrošinājumam. Darbi pabeigti, rēķins vēl nav saņemts. | G7: 2021.gada novembris | H7: 4408.54 | I7: 11.11.21. Nr. p/n akts Nr. 11112111 TS
A8: PLĀNOTIE DARBI | F8: Total | H8: =SUBTOTAL(109,Table13911[Summa ar PVN]) -> 18560.68
A9: Plānota atsevišķa skābekļa pievada izbūve uz operāciju nodaļu, atdalot to no kopējās līnijas, kura nodrošina skābekļa pievadu arī Terapijas-2 nodaļai (Covid-19 vidēji smago pacientu stacionārā nodaļa), lai varētu tikt nodrošināta augstas plūsmas skābekļa terapija Covid-19 pacientiem un pietiekoša spiediena skābekļa plūsma uz operāciju zālēm. | B9: 2021.gada novembris | C9: 3393.82 | D9: 11.11.2021. Piedāvājums Nr. OP111121 HC2
A10: Total | C10: =C9 -> 3393.82
A12: Kopā nepieciešamais finansējums par 2021. gadā veiktajiem darbiem | C12: =ROUNDUP(Table139[[#Totals],[Summa ar PVN]]+Table13911[[#Totals],[Summa ar PVN]]+C10,0) -> 29436

Sheet Daugavpils
J1: 1.5. pielikums
A3: Gāzu tīkla izbūve skābekļa nodrošināšanai Covid-19 pacientiem ĀRĒJIE | B3: Datums | C3: Summa ar PVN | D3: Pavadzīmes vai rēķina Nr. | G3: Gāzu tīkla izbūve skābekļa nodrošināšanai Covid-19 pacientiem IEKŠĒJIE | H3: Datums | I3: Summa ar PVN | J3: Pavadzīmes vai rēķina Nr.
G4: tapa | H4: 2021.gads | I4: 120.76
A5: Linde Gas apņemas veikt medicīniskās skābekļa apgādes rekonstrukciju ar maģistrālo līniju iestrādi un atsevišķas līnijas izbūvi uz Covid-19 nodaļām SIA “Daugavpils reģionālās slimnīcas” struktūrvienībā Plaušu slimību un tuberkulozes centrā, 18.Novembra ielā 311, Daugavpilī. | B5: 2021.gada janvārī | C5: 8586.64 | G5: trejgabals kapara | H5: 2021.gads | I5: 200.87
A6: Medicīniskās skābekļa apgādes rekonstrukcija ar maģistrālo līniju iestrādi un atsevišķas līnijas izbūvi, skabekļa rozešu uzstadišāna uz Covid-19 nodaļām SIA “Daugavpils reģionālās slimnīcas” struktūrvienībā Plaušu slimību un tuberkulozes centrā, 18.Novembra ielā 311, Daugavpilī. | B6: majā 2021.g. | C6: 3905.33 | G6: stiprinat. Caurule | H6: 2021.gads | I6: 160.93
A7: Piedāvājums Nr.1509214/HC/VM Saskaņā ar pieprasījumu, sagatavojām jums piedāvājumu par LOXM (medicīniskais sašķidrinātais skābeklis) tvertņu maiņu vietām starp slimnīcas korpusu Vasarnīcas ielā un filiāli - Plaušu centrs 18.novembra ielā. | B7: oktobrī 2021.g. | C7: 4286.92 | G7: kapar. Caurule D12 mm | H7: 2021.gads | I7: 450
A8: Medicīniskā skābekļa apgādes rekonstrukcijai. Daugavpils slimnīcas filiālē - Plaušu centrs - ar papildus izbūvētās līnijas uz Covid nodaļām pieslēgšanu pie centrālās padeves sistēmas | B8: novembrī 2021.g. | C8: 3290.18 | G8: cauruke kapara D10 mm | H8: 2021.gads | I8: 1932
G9: kapara caurule D18 | H9: 2021.gads | I9: 694
G10: trejgabals kapara | H10: 2021.gads | I10: 51.19
A11: Total | C11: =ROUNDUP(SUBTOTAL(109,Table13[Summa ar PVN]),0) -> 20070 | G11: lodalva | H11: 2021.gads | I11: 76.51
G12: lodpasta | H12: 2021.gads | I12: 55.76
G13: līkums kapara | H13: 2021.gads | I13: 20.4
G14: rozete gāzu skabekliem | H14: 2021.gads | I14: 5646.91
G15: ventilis | H15: 2021.gads | I15: 144.75
G16: mufta kapara | H16: 2021.gads | I16: 60.1
G17: Total | I17: =ROUNDUP(SUBTOTAL(109,Table135[Summa ar PVN]),0) -> 9615
A18: Iekšējos sistēmas uzlabošanas darbus lielākoties veicām ar pašu inženieru daļas spēkiem (ir apmācīts personāls) - izmaksas tikai materiālu iegādei. Ārējā pieslēguma rekonstrukcijas darbus veica to esošais uzturētājs SIA "Linde Gas"
G20: Kopā nepieciešamais finansējums par 2021. gadā veiktajiem darbiem | I20: =Table13[[#Totals],[Summa ar PVN]]+Table135[[#Totals],[Summa ar PVN]] -> 29685

Sheet Jelgava
D1: 1.6. pielikums
A3: Gāzu tīkla izbūve skābekļa nodrošināšanai Covid-19 pacientiem | B3: Datums | C3: Summa ar PVN | D3: Pavadzīmes vai rēķina Nr.
A4: Skābekļa apgādes sistēmas izbūve, kā arī papildus nomainīta skābekļa tvertne no 3 t uz 6 t, kā arī skābekļa iztvaikotājs no 50 m^3 uz 200m^3 caurplūdi | B4: 2021.gada augusts | C4: 2168.45 | D4: 16.08.21. piedāvājums Nr. LGT/8/121 ar tāmi
A5: Mediciniskā skābekļa automātiskas pārslēgšanas stacija. Darba jauda 180 m3/h | B5: 2022.gads oktobris | C5: 23695.43
A6: Skābekļa koncentrācijas portatīvai mērītājs | B6: 2022.gads oktobris | C6: 7260
A7: Skābekļa iekšējo maģistrāļu nomaiņa | B7: 2022.gads oktobris | C7: 21780
A8: Sienas konsoļu papildināšana ar skābekļa ligzdām | B8: 2022.gads oktobris | C8: 9680
C9: =SUM(C4:C8) -> 64583.88
A11: Kopā nepieciešamais finansējums par 2021. gadā veiktajiem darbiem | C11: =ROUNDUP(C4,0) -> 2169
A12: Kopā nepieciešamais finansējums 2022. gadā | C12: =ROUNDUP(C5+C6+C7+C8,0) -> 62416

Sheet Jūrmala
D1: 1.7. pielikums
A3: Gāzu tīkla izbūve skābekļa nodrošināšanai Covid-19 pacientiem | B3: Datums | C3: Summa ar PVN | D3: Pavadzīmes vai rēķina Nr.
A4: Tāme MG-06/10/2021-TPSC_MG Kolektora izbūve, jauna dubultā reduktora un jaunu maģistrāļu montāža. | B4: 2021.gada 23.novembrī | C4: 11481.12 | D4: Rēķins Nr.23/11/2021
C5: =SUM(C4) -> 11481.12
A7: Kopā nepieciešamais finansējums par 2021. gadā veiktajiem darbiem | C7: =ROUNDUP(C4,0) -> 11482

Sheet Dobele
D1: 1.8. pielikums
A3: Gāzu tīkla izbūve skābekļa nodrošināšanai Covid-19 pacientiem | B3: Datums | C3: Summa ar PVN | D3: Pavadzīmes vai rēķina Nr.
A4: Laikā no 2021.gada janvāra līdz maijam veikto darbi, tai skaitā medicīniskā skābekļa padeves līniju izbūve, reduktoru mezgla izbūve, tai skaitā skābekļa ēkā. | B4: 2021.gads, maijs | C4: 9976.37 | D4: 6721815699
A5: Slimnīcas Stacionāra ēkas 4. un 5.stāva maģistrālo O2 cauruļvadu pārbūves darbi | B5: 2021.gads, novembris | C5: 1498.34 | D5: 6721895568
A6: Total | C6: =C4+C5 -> 11474.71
A8: Kopā nepieciešamais finansējums par 2021. gadā veiktajiem darbiem | C8: =ROUNDUP(C4+C5,0) -> 11475

Sheet Preiļu slimnīca
D1: 1.9. pielikums
A3: Gāzu tīkla izbūve skābekļa nodrošināšanai Covid-19 pacientiem | B3: Datums | C3: Summa ar PVN | D3: Pavadzīmes vai rēķina Nr.
A4: Centralizētas skābekļa sistēmas paplašināšana un 7 papildu pieslēguma vietu izveide terapijas nodaļā | B4: 2021.gads oktobris | C4: 1783.81 | D4: 6721881100; SAL002337
A5: Total | C5: 1783.81
A7: Kopā nepieciešamais finansējums par 2021. gadā veiktajiem darbiem | C7: =ROUNDUP(C4,0) -> 1784

Sheet Tukums
D1: 1.10. pielikums
A3: Gāzu tīkla izbūve skābekļa nodrošināšanai Covid-19 pacientiem | B3: Datums | C3: Summa ar PVN | D3: Pavadzīmes vai rēķina Nr.
A4: Izveidotas papildus 6 skābekļa ligzdas Covid-19 palātās | B4: 2021.gada oktobris | C4: 2168.45 | D4: Tāmes Nr.MG-20/10/2021
A5: Izbūvēta vieta skābekļa konteineru novietošanai un renovēts savienojums ar esošo skābekļa sistēmu | B5: 2021.gads | C5: 6149.4 | D5: Tāmes Nr. 685
A6: darbi skābekļa caurplūdes palielināšanai intensīvai terapijai | B6: 2021.gada 7.decembris | C6: 4699.94 | D6: Tāmes Nr.MG7/12/2021
A7: skābekļa sistēmas izbūve | B7: 2021. gada decembris | C7: 4819.68 | D7: Tāme
A8: darbi skābekļa caurplūdes palielināšanai intensīvai terapijai | B8: 2021.gada 6.decembris | C8: 5540.42 | D8: Tāmes Nr.MG6/12/2021
A9: Total | C9: =C4+C5+C6+C8+C7 -> 23377.89
A11: Kopā nepieciešamais finansējums par 2021. gadā veiktajiem darbiem | C11: =ROUNDUP(C4+C5+C6+C8+C7,0) -> 23378

Sheet Aizkraukle
D1: 1.11. pielikums
A3: Gāzu tīkla izbūve skābekļa nodrošināšanai Covid-19 pacientiem | B3: Datums | C3: Summa ar PVN | D3: Pavadzīmes vai rēķina Nr.
A4: 3 skābekļa plūsmas mērītāju iegāde | B4: 2021.gada novembris | C4: 554.94 | D4: 092-28273
A5: Ārējā pieslēguma rekonstrukcija: sašķidrinātā medicīniskā skābekļa cisternas uzstādīšana | B5: 2021.gads novembris | C5: 6492.99 | D5: 091-21638; 091-21639; 091-21666; nodošanas/pieņemšanas akts
A6: Ārējā pieslēguma rekonstrukcija: elektrības pievades uzstādīšana | B6: 2021.gada novemrbis | C6: 2746.52 | D6: Tāme 11.11.2021.
A7: Slimnīcas iekšējo konsoles pieslēgumu palielināšana: iegādāti 10 O2 caurplūdes dozatori ar mitrinātāju | B7: 2021.gada novembris | C7: 931.7 | D7: GU-0024
A8: Slimnīcas iekšējo konsoles pieslēgumu palielināšana: no “Elme Meeser L” pasūtīti 5 konsoles sadalītāji | B8: 2021.gada novembris | C8: 1100
A9: Total | C9: =SUBTOTAL(109,Table1318[Summa ar PVN]) -> 11826.15
A11: Kopā nepieciešamais finansējums par 2021. gadā veiktajiem darbiem | C11: =ROUNDUP(C4+C5+C6+C7+C8,0) -> 11827

Sheet Bauska
D1: 1.12. pielikums
A3: Gāzu tīkla izbūve skābekļa nodrošināšanai Covid-19 pacientiem | B3: Datums | C3: Summa ar PVN | D3: Pavadzīmes vai rēķina Nr.
A4: skābekļa maģistrālās līnijas pārbūve ar lietošanas punktu nomaiņu, 2.kārta | B4: 2021.gads decembris | C4: =4530.2*1.21 -> 5481.542 | D4: Piedāvājums Nr. 170921HC1/TS/VM
A5: Total | C5: =ROUNDUP(C4,0) -> 5482
A7: Kopā nepieciešamais finansējums par 2021. gadā veiktajiem darbiem | C7: =C5 -> 5482

Sheet Ludza
D1: 1.13. pielikums
A3: Gāzu tīkla izbūve skābekļa nodrošināšanai Covid-19 pacientiem | B3: Datums | C3: Summa ar PVN | D3: Pavadzīmes vai rēķina Nr.
A4: Pavasarī (01.03.2021) bija veikti slimnīcas ārējā pieslēguma rekonstrukcijas darbi – centrālas plūsmas palielināšana | B4: 2021.gada marts | C4: =1172.76*1.21 -> 1419.0396 | D4: Tāmes Nr.671, no ELME MESSER GAAS
A5: 12.11.21. veikti iekšējie rekonstrukcijas darbi - jaunas medicīniskā skābekļa centralizēto pieslēgumu izveides (četras pieslēguma vietās slimnīcas vecajā korpusā) | B5: 2021.gada novembris | C5: =8586.64*1.21 -> 10389.834
A6: Total | C6: =SUBTOTAL(109,Table1320[Summa ar PVN]) -> 11808.874
A8: Kopā nepieciešamais finansējums par 2021. gadā veiktajiem darbiem | C8: =ROUNDUP(C4+C5,0) -> 11809

Sheet Saldus
D1: 1.14. pielikums
A3: Gāzu tīkla izbūve skābekļa nodrošināšanai Covid-19 pacientiem | B3: Datums | C3: Summa ar PVN | D3: Pavadzīmes vai rēķina Nr.
A4: Mega Pack 4 pieslēgumu pie esošai sistēmai (Gāzes aprīkojuma iegāde un montāžas darbi Nr.365) | B4: 2021.gads februāris | C4: 5739.01 | D4: Līgums Nr.P-21/0203
A5: jaunas medicīniskā skābekļa centralizēto pieslēgumu izveides aprūpes nodaļā | B5: 2021. gads februāris, marts, aprīlis, oktobris | C5: 1096.68 | D5: 092-24724;DRS210175; DRS210148;DRS210267; SSP210224;DRS210885; DRS210803
A6: jaunas medicīniskā skābekļa centralizēto pieslēgumu izveides traumpunktā (uzņemšanas nodaļa) | B6: 2021.gads novembris, decembris | C6: 88.94 | D6: 092-27991
A7: jaunas medicīniskā skābekļa centralizēto pieslēgumu izveides aprupes nodaļā | B7: 2021.gads novembris, decembris | C7: 444.68 | D7: 092-27991
A8: Total | C8: =SUBTOTAL(109,Table1314[Summa ar PVN]) -> 7369.31
A10: Kopā nepieciešamais finansējums par 2021. gadā veiktajiem darbiem | C10: =ROUNDUP(C4+C5+C6+C7,0) -> 7370

Sheet TOS
D1: 1.15. pielikums
A3: Gāzu tīkla izbūve skābekļa nodrošināšanai Covid-19 pacientiem | B3: Datums | C3: Summa ar PVN | D3: Pavadzīmes vai rēķina Nr.
A4: Duntes iela 18, 3. nodaļa – papildus 22 skābekļa rozešu izbūve, lai varētu uzņemt Covid-19 pacientus. | B4: 2021.gada 21.oktobrī | C4: 6873.04 | D4: Rēķins Nr.25/10/2021
A5: Skābekļa stacija, 5. operāciju bloks - jauna medicīniskā skābekļa pieslēguma izveide, lai atdalītu 5. operāciju bloka gāzu sistēmu no 3. nodaļas sistēmas. | B5: 2021.gada 9.novembris | C5: 368.45 | D5: RĒĶINS 6721895163
A7: Total | C7: =C4+C5 -> 7241.49
A9: Kopā nepieciešamais finansējums par 2021. gadā veiktajiem darbiem | C9: =ROUNDUP(C4+C5,0) -> 7242

Sheet Rīgas 2.slimn
D1: 1.16. pielikums
A3: Gāzu tīkla izbūve skābekļa nodrošināšanai Covid-19 pacientiem | B3: Datums | C3: Summa ar PVN | D3: Pavadzīmes vai rēķina Nr.
A4: Iesaistīti divu uzņēmumu (Linde Gas SIA un Sabiedrību ar ierobežotu atbildību "ELME MESSER L") konsultanti šī jautājuma operatīvā risināšanā, lai varētu pēc iespējas ātrāk realizēt Slimnīcas ārējā pieslēguma rekonstrukcijas darbus, kā rezultātā 12.11.21. tika pieņemts lēmums un ir izvēlēts piedāvājumu ar ātrāko iespējamo skābekļa nodrošinājumu, ņemot vērā, ka tuvākajā termiņā nav iespējams uzstādīt sašķidrinātā skābekļa tvertnes. Iespējamais piegādes termiņš ir apmēram 8 mēneši.
A5: No Sabiedrības ar ierobežotu atbildību "ELME MESSER L" pārstāvjiem saņēmām risinājumu – saspiests skābeklis balonos (MEGAPACK 150l baloni ar 300bar spiedienu), kas nodrošina 1t apjomu sašķidrinātā skābekļa un ar iespēju papildināt balonu skaitu pēc nepieciešamības. Uzstādīšanas un būvdarbu izmaksas sastāda ap 10 000 EUR ar PVN. | B5: 2022.gads I ceturksnis | C5: 10000
A6: Ir izsludināta sarunu procedūra par iekšējo skābekļa sistēmas izbūvi, kuras rezultātā saņemts viens piedāvājums. Slimnīca gatava slēgt līgumu par būvdarbiem.
A7: Esošie ieguldījumi skābekļa sistēmā 2021. gadā par papildus 2 saišķu uzstādīšanu sastāda 1 611,99 EUR ar PVN. | B7: 2021.gads oktobris-decembris | C7: 1611.99
A9: Total | C9: =C5+C7 -> 11611.99
A12: Kopā nepieciešamais finansējums par 2021. gadā veiktajiem darbiem | C12: =ROUNDUP(C7,0) -> 1612
A13: Kopā nepieciešamais finansējums 2022. gadā | C13: =C5 -> 10000

Sheet Rīgas 1.slimnīca
D1: 1.17. pielikums
A3: Gāzu tīkla izbūve skābekļa nodrošināšanai Covid-19 pacientiem | B3: Datums | C3: Summa ar PVN | D3: Pavadzīmes vai rēķina Nr.
A4: 17.korpusa COVID-19 nodaļas palātās no vienas skābekļa ligzdas izveidotas divas un ievilkta saspiestā gaisa līnija | B4: 2021.gads janvāris | C4: 13984.28 | D4: Tāmes iesniegtas
A5: Ievilktas jaunas maģistrāles uz 17. korpusu un 3.,4.,5.,6. korpusu un centrālē uzstādīti jauni reduktori, lai nodrošinātu nepieciešamo skābekļa plūsmu COVID-19 nodaļās | B5: 2021.gads oktobris | C5: 38409.99
A6: Total | C6: =SUBTOTAL(109,Table1317[Summa ar PVN]) -> 52394.27
A8: Pēc iepirkuma izmaksas skābekļa ligzdu izbūvei bija 9897,00 (bez PVN) un saspiestā gaisa līnijas un ligzdu izbūvei 3156,00 (bez PVN), jo tika samazināts nepieciešamo ligzdu skaits.
A12: Kopā nepieciešamais finansējums par 2021. gadā veiktajiem darbiem | B12: =ROUNDUP(C4+C5,0) -> 52395
