Workbook
Name _ftn1: FMZINp4_laika_grafiks!#REF!
Name _ftn2: FMZINp4_laika_grafiks!#REF!
Name _ftnref1: FMZINp4_laika_grafiks!#REF!
Name _ftnref2: FMZINp4_laika_grafiks!#REF!

Sheet FMZINp4_laika_grafiks
A1: 4. pielikums Informatīvajam ziņojumam par Finanšu ministrijas pārziņā esošo Eiropas Savienības fondu un ārvalstu finanšu palīdzības aktualitātēm līdz 2025. gada aprīlim
A6: ES fondu 2021.–2027. gada plānošanas perioda MK noteikumu par specifisko atbalsta mērķu ieviešanu izstrādes laika grafika progress***
A8: Sagatavots 22.04.2025 | J8: PLĀNOTAIS FINANSĒJUMS
A9: PM Nr. | B9: Prior. Nr. | C9: Prioritātes nosaukums | D9: SAM Nr. | E9: SAM nosaukums | F9: Pasākuma Nr. | G9: Pasākuma nosaukums | H9: Kārtas Nr. | I9: Fonds | J9: ES FONDU finansējums (ieskaitot elastības finansējumu)* | K9: KOPĀ (ar nac. līdzfinansējumu +15%**) | L9: NACIONĀLAIS līdzfinansējums | M9: Atbildīgā iestāde | N9: Izskatīšanas AK datums/ plānotais gads un ceturksnis*** | O9: Izskatīšanas UK datums/ pānotais gads un ceturksnis*** | P9: TAP saskaņošanas uzsākšanas datums/ plānotais gads un ceturksnis | Q9: RISKA LĪMENIS | R9: MK apstiprināšanas plānotais gads un ceturksnis/apstiprināšanas datums | S9: Atlases uzsākšanas datums/ plānotais gads un ceturksnis****
A10: 1 | B10: 2 | D10: 3 | F10: 4 | G10: 5 | H10: 6 | I10: 7 | J10: 8 | K10: 9 | L10: 10 | M10: 11 | N10: 12 | O10: 13 | P10: 14 | R10: 15 | S10: 16
A11: PLĀNOTA NORMATĪVĀ REGULĒJUMA IZSTRĀDE - nav uzsākta saskaņošana TAP | I11: Kopā: | J11: =SUBTOTAL(9,J12:J28) -> 689059645 | K11: =SUBTOTAL(9,K12:K28) -> 810658413 | L11: =SUBTOTAL(9,L12:L28) -> 121598768
A12: 1 | B12: 1.3. | C12: Digitalizācija | D12: 1.3.1. | E12: “Izmantot digitalizācijas priekšrocības iedzīvotājiem, uzņēmumiem, pētniecības organizācijām un publiskajām iestādēm” | F12: 1.3.1.4. | G12: Bezpilota lidaparātu uztveršanas, identifikācijas, izsekošanas un pretdarbības risinājuma ieviešana | H12: _ | I12: ERAF | J12: 1954863 | K12: 2299839 | L12: 344976 | M12: SM | N12: 2025 III | O12: 2025 IV | P12: 2025 III | Q12: PLĀNOJAS | R12: 2025 IV | S12: 2025 IV
A13: 1 | B13: 1.5. | C13: Investīciju fonds uzņēmējdarbības attīstībai | D13: 1.5.1. | E13: "Ieguldījumi uzņēmējdarbībā, kas atbalsta STEP mērķu sasniegšanu" | F13: 1.5.1.0 | G13: "Ieguldījumi uzņēmējdarbībā, kas atbalsta STEP mērķu sasniegšanu" | H13: _ | I13: ERAF | J13: 34000000 | K13: 40000000 | L13: 6000000 | M13: EM | N13: 2025 II | O13: 2025 III | P13: 2025 IV | Q13: PLĀNOJAS | R13: 2025 IV | S13: 2026 I
A14: 2 | B14: 2.1. | C14: Klimata pārmaiņu mazināšana un pielāgošanās klimata pārmaiņām | D14: 2.1.1. | E14: “Energoefektivitātes veicināšana un siltumnīcefekta gāzu emisiju samazināšana” | F14: 2.1.1.6. | G14: Pašvaldību ēku energoefektivitātes paaugstināšana | H14: 3 | I14: ERAF | J14: 12961544 | K14: 15248876 | L14: 2287332 | M14: VARAM | N14: 2026 I | O14: 2026 II | P14: 2026 I | Q14: PLĀNOJAS | R14: 2026 II | S14: 2026 III
A15: 2 | B15: 2.1. | C15: Klimata pārmaiņu mazināšana un pielāgošanās klimata pārmaiņām | D15: 2.1.2. | E15: “Atjaunojamo energoresursu enerģijas veicināšana - biometāns” | F15: 2.1.2.0. | G15: “Atjaunojamo energoresursu enerģijas veicināšana - biometāns” | H15: 2 | I15: KF | J15: 4000000 | K15: 4705883 | L15: 705883 | M15: KEM | N15: Potenciāli IPIA izņēmums | O15: Potenciāli IPIA izņēmums | P15: 2025 III | Q15: PLĀNOJAS | R15: 2025 IV | S15: 2026 I
A16: 2 | B16: 2.1. | C16: Klimata pārmaiņu mazināšana un pielāgošanās klimata pārmaiņām | D16: 2.1.3. | E16: “Veicināt pielāgošanos klimata pārmaiņām, risku novēršanu un noturību pret katastrofām” | F16: 2.1.3.1. | G16: Pašvaldību pielāgošanās klimata pārmaiņām | H16: 2 | I16: ERAF | J16: 8407694 | K16: 9891405 | L16: 1483711 | M16: VARAM | N16: 45197 | O16: 2026 I | P16: 2026 I | Q16: PLĀNOJAS | R16: 2026 II | S16: 2026 III
A17: 2 | B17: 2.1. | C17: Klimata pārmaiņu mazināšana un pielāgošanās klimata pārmaiņām | D17: 2.1.3. | E17: “Veicināt pielāgošanos klimata pārmaiņām, risku novēršanu un noturību pret katastrofām” | F17: 2.1.3.3. | G17: Katastrofu risku mazināšanas pasākumi | H17: 4 | I17: ERAF | J17: 24669413 | K17: 29022839 | L17: 4353426 | M17: IeM | N17: N/A | O17: Uzsākta UK rakstiskā procedūra 11.03.2025 | P17: 2025 II | Q17: PLĀNOJAS | R17: 2025 II | S17: 2025 III
A18: 2 | B18: 2.1. | C18: Klimata pārmaiņu mazināšana un pielāgošanās klimata pārmaiņām | D18: 2.1.4. | E18: "Attīstīt viedas energosistēmas, tīklus un enerģijas akumulāciju ārpus Eiropas enerģētikas tīkla (TEN-E)" | F18: 2.1.4.0. | G18: "Attīstīt viedas energosistēmas, tīklus un enerģijas akumulāciju ārpus Eiropas enerģētikas tīkla (TEN-E)" | H18: _ | I18: ERAF | J18: 31000000 | K18: 36470589 | L18: 5470589 | M18: KEM | N18: Potenciāli IPIA izņēmums | O18: Potenciāli IPIA izņēmums | P18: 2025 III | Q18: PLĀNOJAS | R18: 2025 IV | S18: 2026 I
A19: 2 | B19: 2.2. | C19: Vides aizsardzība un attīstība | D19: 2.2.1. | E19: “Veicināt ilgtspējīgu ūdenssaimniecību” | F19: 2.2.1.1. | G19: Notekūdeņu un to dūņu apsaimniekošanas sistēmas attīstība piesārņojuma samazināšanai | H19: 3 | I19: ERAF | J19: 21453617 | K19: 25239550 | L19: 3785933 | M19: VARAM | N19: 2025 III | O19: 2025 III | P19: 2025 II | Q19: PLĀNOJAS | R19: 2025 III | S19: 2025 IV
A20: 2 | B20: 2.2. | C20: Vides aizsardzība un attīstība | D20: 2.2.2. | E20: “Pārejas uz aprites ekonomiku veicināšana” | F20: 2.2.2.3. | G20: Notekūdeņu dūņu pārstrāde | H20: _ | I20: KF | J20: 23148681 | K20: 27233743 | L20: 4085062 | M20: KEM | N20: 2025 II | O20: 2025 II | P20: 2025 II | Q20: PLĀNOJAS | R20: 2025 II | S20: 2025 IV
A21: 2 | B21: 2.4. | C21: AER izmantošanas transportā veicināšana | D21: 2.4.1. | E21: “Veicināt ilgtspējīgu multimodālu mobilitāti, veicinot elektrotransportlīdzekļu izmantošanu” | F21: 2.4.1.3. | G21: Bezemisiju (bateriju) vilcieni un to uzlādes infrastruktūra | H21: _ | I21: KF | J21: 104608561 | K21: 123068896 | L21: 18460335 | M21: SM | N21: 45106 | O21: 45180 | P21: 2025 II | Q21: PLĀNOJAS | R21: 2025 III | S21: 2025 III
A22: 3 | B22: 3.1. | C22: Ilgtspējīga TEN-T infrastruktūra | D22: 3.1.1. | E22: “Attīstīt ilgtspējīgu, pret klimatu izturīgu, inteliģentu, drošu un vairākveidu TEN-T infrastruktūru” | F22: 3.1.1.1. | G22: Dzelzceļa infrastruktūras attīstība un energoefektivitātes uzlabošana sabiedriskajos pasažieru pārvadājumos | H22: _ | I22: KF | J22: 325410631 | K22: 382836037 | L22: 57425406 | M22: SM | N22: 45106 | O22: 45470 | P22: 2025 II | Q22: PLĀNOJAS | R22: 2025 II | S22: 2025 III
A23: 3 | B23: 3.1. | C23: Ilgtspējīga TEN-T infrastruktūra | D23: 3.1.1. | E23: “Attīstīt ilgtspējīgu, pret klimatu izturīgu, inteliģentu, drošu un vairākveidu TEN-T infrastruktūru” | F23: 3.1.1.7. | G23: Iekšzemes intermodālo termināļu ("sauso ostu") attīstības projekti | H23: _ | I23: KF | J23: 16048761 | K23: 18880896 | L23: 2832135 | M23: SM | N23: 2025 II | O23: 2025 II | P23: 2025 II | Q23: PLĀNOJAS | R23: 2025 II | S23: 2025 III
A24: 4 | B24: 4.2. | C24: Izglītība, prasmes un mūžizglītība | D24: 4.2.1. | E24: “Uzlabot vienlīdzīgu piekļuvi iekļaujošiem un kvalitatīviem pakalpojumiem izglītības, mācību un mūžizglītības jomā, attīstot pieejamu infrastruktūru, tostarp, veicinot noturību izglītošanā un mācībā attālinātā un tiešsaistes režīmā” | F24: 4.2.1.1. | G24: Infrastruktūras izveide starpnozaru sadarbības un atbalsta sistēmas izveidei bērnu attīstībai | H24: _ | I24: ERAF | J24: 3697500 | K24: 4350000 | L24: 652500 | M24: VK | N24: IPIA izņēmums (UK lēm. 23.04.2024) | O24: IPIA izņēmums (UK lēm. 23.04.2024) | P24: 2025 III | Q24: PLĀNOJAS | R24: 2026 I | S24: 2026 I
A25: 4 | B25: 4.2. | C25: Izglītība, prasmes un mūžizglītība | D25: 4.2.1. | E25: “Uzlabot vienlīdzīgu piekļuvi iekļaujošiem un kvalitatīviem pakalpojumiem izglītības, mācību un mūžizglītības jomā, attīstot pieejamu infrastruktūru, tostarp, veicinot noturību izglītošanā un mācībā attālinātā un tiešsaistes režīmā” | F25: 4.2.1.5. | G25: Izglītības iestāžu nodrošinājums pilnveidotā vispārējās izglītības satura kvalitatīvai ieviešanai pamata un vidējās izglītības pakāpē | H25: 3 | I25: ERAF | J25: 13018473 | K25: 15315851 | L25: 2297378 | M25: IZM | N25: IPIA izņēmums (UK lēm. 23.04.2024) | O25: IPIA izņēmums (UK lēm. 23.04.2024) | P25: 2025 IV | Q25: PLĀNOJAS | R25: 2026 I | S25: 2026 II
A26: 4 | B26: 4.3. | C26: Nodarbinātība un sociālā iekļaušana | D26: 4.3.3. | E26: “Uzlabot visu darba meklētāju, jo īpaši jauniešu – it sevišķi, īstenojot Garantiju jauniešiem –, ilgstošo bezdarbnieku un darba tirgū nelabvēlīgā situācijā esošo grupu, un ekonomiski neaktīvo personu piekļuvi nodarbinātībai un aktivizācijas pasākumiem, kā arī veicinot pašnodarbinātību un sociālo ekonomiku” | F26: 4.3.3.1. | G26: Bezdarbnieku, darba meklētāju un bezdarba riskam pakļauto personu kvalifikācijas un prasmju paaugstināšana | H26: _ | I26: ESF | J26: 40672500 | K26: 47850000 | L26: 7177500 | M26: LM | N26: 45645 | O26: 45700 | P26: 2025 III | Q26: PLĀNOJAS | R26: 2025 IV | S26: 2026 I
A27: 6 | B27: 6.1. | C27: Pāreja uz klimatneitralitāti | D27: 6.1.1. | E27: "Pārejas uz klimatneitralitāti radīto ekonomisko, sociālo un vides seku mazināšana visvairāk skartajos reģionos" | F27: 6.1.1.1. | G27: Atteikšanās no kūdras izmantošanas enerģētikā******* | H27: 4 | I27: TPF | J27: 2007407 | K27: 2361656 | L27: 354249 | M27: VARAM | N27: 2025 IV | O27: 2025 IV | P27: 2025 III | Q27: PLĀNOJAS | R27: 2025 IV | S27: 2026 I
A28: 6 | B28: 6.1. | C28: Pāreja uz klimatneitralitāti | D28: 6.1.1. | E28: "Pārejas uz klimatneitralitāti radīto ekonomisko, sociālo un vides seku mazināšana visvairāk skartajos reģionos" | F28: 6.1.1.1. | G28: Atteikšanās no kūdras izmantošanas enerģētikā******* | H28: 5 | I28: TPF | J28: 22000000 | K28: 25882353 | L28: 3882353 | M28: VARAM | N28: 2026 II | O28: 2026 II | P28: 2026 I | Q28: PLĀNOJAS | R28: 2026 II | S28: 2026 III
A29: NORMATĪVAIS REGULĒJUMS IZSTRĀDĒ | I29: Kopā | J29: =SUBTOTAL(9,J30:J47) -> 215336502 | K29: =SUBTOTAL(9,K30:K47) -> 253337066 | L29: =SUBTOTAL(9,L30:L47) -> 38000564
A30: 1 | B30: 1.1. | C30: Pētniecība un prasmes | D30: 1.1.2. | E30: “Prasmju attīstīšana viedās specializācijas, industriālās pārejas un uzņēmējdarbības veicināšanai” | F30: 1.1.2.1. | G30: RIS3 industriālās prasmes | H30: _ | I30: ERAF | J30: 8330000 | K30: 9800000 | L30: 1470000 | M30: IZM | N30: 2025 II | O30: 2025 II | P30: 45756 | Q30: IZSTRĀDĒ | R30: 2025 II | S30: 2025 III
A31: 2 | B31: 2.2. | C31: Vides aizsardzība un attīstība | D31: 2.2.1. | E31: “Veicināt ilgtspējīgu ūdenssaimniecību” | F31: 2.2.1.1. | G31: Notekūdeņu un to dūņu apsaimniekošanas sistēmas attīstība piesārņojuma samazināšanai****** | H31: 2 | I31: ERAF | J31: 22309636 | K31: 26246631 | L31: 3936995 | M31: VARAM | N31: Potenciāli IPIA izņēmums | O31: Potenciāli IPIA izņēmums | P31: 45758 | Q31: IZSTRĀDĒ | R31: 2025 II | S31: 2025 III
A32: 2 | B32: 2.2. | C32: Vides aizsardzība un attīstība | D32: 2.2.3. | E32: “Uzlabot dabas aizsardzību un bioloģisko daudzveidību, “zaļo” infrastruktūru, it īpaši pilsētvidē, un samazināt piesārņojumu” | F32: 2.2.3.6. | G32: Gaisa piesārņojumu mazinošu pasākumu īstenošana, uzlabojot mājsaimniecību siltumapgādes sistēmas******** | H32: 5 | I32: ERAF | J32: 0 | K32: 0 | L32: 0 | M32: VARAM | N32: 44833 | O32: 44952 | P32: 44855 | Q32: IZSTRĀDĒ | R32: 2025 III | S32: 2025 III
A33: 1 | B33: 1.1. | C33: Pētniecība un prasmes | D33: 1.1.1. | E33: “Pētniecības un inovāciju kapacitātes stiprināšana un progresīvu tehnoloģiju ieviešana kopējā P&A sistēmā” | F33: 1.1.1.6. | G33: Zinātniskās darbības digitalizācija un dalība Eiropas Atvērtajā zinātnes mākonī (EOSC market place pakalpojumu iegāde) | H33: _ | I33: ERAF | J33: 18487501 | K33: 21750002 | L33: 3262501 | M33: IZM | N33: 45743 | O33: Uzsākta UK rakstiskā procedūra 16.04.2025 | P33: 27.12.2024./17.02.2025. | Q33: IZSTRĀDĒ | R33: 2025 II | S33: 2025 II
A34: 1 | B34: 1.3. | C34: Digitalizācija | D34: 1.3.1. | E34: “Izmantot digitalizācijas priekšrocības iedzīvotājiem, uzņēmumiem, pētniecības organizācijām un publiskajām iestādēm” | F34: 1.3.1.3. | G34: IKT risinājumu un pakalpojumu kiberdrošības paaugstināšana | H34: _ | I34: ERAF | J34: 33305324 | K34: 39182735 | L34: 5877411 | M34: VARAM | N34: Potenciāli IPIA izņēmums | O34: Potenciāli IPIA izņēmums | P34: 45730 | Q34: IZSTRĀDĒ | R34: 2025 II | S34: 2025 III
A35: 2 | B35: 2.1. | C35: Klimata pārmaiņu mazināšana un pielāgošanās klimata pārmaiņām | D35: 2.1.3. | E35: “Veicināt pielāgošanos klimata pārmaiņām, risku novēršanu un noturību pret katastrofām” | F35: 2.1.3.3. | G35: Katastrofu risku mazināšanas pasākumi********** | H35: 2 | I35: ERAF | J35: 0 | K35: 0 | L35: 0 | M35: IeM | N35: IPIA izņēmums (UK lēm. 23.04.2024) | O35: IPIA izņēmums (UK lēm. 23.04.2024) | P35: 45664 | Q35: IZSTRĀDĒ | R35: 2025 II | S35: 2025 II
A36: 3 | B36: 3.1. | C36: Ilgtspējīga TEN-T infrastruktūra | D36: 3.1.1. | E36: “Attīstīt ilgtspējīgu, pret klimatu izturīgu, inteliģentu, drošu un vairākveidu TEN-T infrastruktūru” | F36: 3.1.1.5. | G36: Nacionālās nozīmes centru maģistrālo ielu un esošo maršrutu attīstība | H36: _ | I36: KF | J36: 16093145 | K36: 18933112 | L36: 2839967 | M36: SM | N36: 45687 | O36: Uzsākta UK rakstiskā procedūra 26.02.2025 | P36: 45758 | Q36: IZSTRĀDĒ | R36: 2025 II | S36: 2025 II
A37: 3 | B37: 3.2. | C37: Pārrobežas mobilitāte | D37: 3.2.1. | E37: "Attīstīt un izvērst ilgtspējīgu, klimatnoturīgu, intelektisku un intermodālu mobilitāti valsts, reģionālā un vietējā līmenī, tostarp uzlabotu piekļuvi TEN-T un pārrobežu mobilitāti" | F37: 3.2.1.0. | G37: "Attīstīt un izvērst ilgtspējīgu, klimatnoturīgu, intelektisku un intermodālu mobilitāti valsts, reģionālā un vietējā līmenī, tostarp uzlabotu piekļuvi TEN-T un pārrobežu mobilitāti" | H37: _ | I37: ERAF | J37: 4323627 | K37: 5086620 | L37: 762993 | M37: SM | N37: 2025 II | O37: 2025 II | P37: 45764 | Q37: IZSTRĀDĒ | R37: 2025 III | S37: 2025 IV
A38: 4 | B38: 4.2. | C38: Izglītība, prasmes un mūžizglītība | D38: 4.2.2. | E38: “Uzlabot izglītības un mācību sistēmu kvalitāti, iekļautību, efektivitāti un nozīmīgumu darba tirgū, tostarp ar neformālās un ikdienējās mācīšanās validēšanas palīdzību, lai atbalstītu pamatkompetenču, tostarp uzņēmējdarbības un digitālo prasmju, apguvi, un sekmējot duālo mācību sistēmu un māceklības ieviešanu” | F38: 4.2.2.11. | G38: Studiju procesa digitalizācija | H38: 1 | I38: ESF | J38: 19922947 | K38: 23438762 | L38: 3515815 | M38: IZM | N38: 45715 | O38: 45756 | P38: 45502 | Q38: IZSTRĀDĒ | R38: 2025 II | S38: 2025 II
A39: 4 | B39: 4.2. | C39: Izglītība, prasmes un mūžizglītība | D39: 4.2.2. | E39: “Uzlabot izglītības un mācību sistēmu kvalitāti, iekļautību, efektivitāti un nozīmīgumu darba tirgū, tostarp ar neformālās un ikdienējās mācīšanās validēšanas palīdzību, lai atbalstītu pamatkompetenču, tostarp uzņēmējdarbības un digitālo prasmju, apguvi, un sekmējot duālo mācību sistēmu un māceklības ieviešanu” | F39: 4.2.2.11. | G39: Studiju procesa digitalizācija | H39: 2 | I39: ESF | J39: 8500000 | K39: 10000000 | L39: 1500000 | M39: IZM | N39: 2025 III | O39: 2025 III | P39: 45502 | Q39: IZSTRĀDĒ | R39: 2025 II | S39: 2026 I
A40: 4 | B40: 4.2. | C40: Izglītība, prasmes un mūžizglītība | D40: 4.2.3. | E40: “Sekmēt to, lai – jo īpaši nelabvēlīgā situācijā esošām grupām – būtu vienlīdzīga piekļuve kvalitatīvai un iekļaujošai izglītībai un mācībām un iespēja to iegūt, sākot ar pirmsskolas izglītību un aprūpi un vispārējās izglītības un profesionālās izglītības un mācību gaitā līdz pat augstākajai izglītībai un pieaugušo izglītībai un mācībām, tostarp veicināt mācību mobilitāti visiem un atvieglot piekļūstamības iespējas personām ar invaliditāti” | F40: 4.2.3.3. | G40: Pilsonisko līdzdalību veicinošu kultūras pakalpojumu pieejamības veicināšana | H40: _ | I40: ESF | J40: 1631121 | K40: 1918966 | L40: 287845 | M40: KM | N40: IPIA izņēmums (UK lēm. 23.04.2024) | O40: IPIA izņēmums (UK lēm. 23.04.2024) | P40: 45631 | Q40: IZSTRĀDĒ | R40: 2025 II | S40: 2025 II
A41: 4 | B41: 4.2. | C41: Izglītība, prasmes un mūžizglītība | D41: 4.2.4. | E41: “Veicināt mūžizglītību, jo īpaši piedāvājot elastīgas prasmju pilnveides un pārkvalifikācijas iespējas visiem, ņemot vērā uzņēmējdarbības un digitālās prasmes, labāk prognozējot pārmaiņas un vajadzību pēc jaunām prasmēm, pamatojoties uz darba tirgus vajadzībām, atvieglojot karjeras maiņu un sekmējot profesionālo mobilitāti” | F41: 4.2.4.1. | G41: Atbalsts nozaru vajadzībās balstītai pieaugušo izglītībai | H41: 2 | I41: ESF | J41: 4898317 | K41: 5762726 | L41: 864409 | M41: IZM | N41: 45645 | O41: 45764 | P41: 45628 | Q41: IZSTRĀDĒ | R41: 2025 II | S41: 2025 II
A42: 4 | B42: 4.3. | C42: Nodarbinātība un sociālā iekļaušana | D42: 4.3.5. | E42: "Uzlabot vienlīdzīgu un savlaicīgu piekļuvi kvalitatīviem, ilgtspējīgiem un izmaksu ziņā pieejamiem pakalpojumiem; pilnveidot sociālās aizsardzības sistēmas, tostarp veicināt sociālās aizsardzības pieejamību; uzlabot ilgtermiņa aprūpes pakalpojumu pieejamību, efektivitāti un izturētspēju" | F42: 4.3.5.1. | G42: Sabiedrībā balstītu sociālo pakalpojumu pieejamības palielināšana | H42: 3 | I42: ESF | J42: 1579425 | K42: 1858148 | L42: 278723 | M42: LM | N42: 45645 | O42: 45691 | P42: 45769 | Q42: IZSTRĀDĒ | R42: 2025 III | S42: 2027 I
A43: 5 | B43: 5.1. | C43: Reģionu līdzsvarota attīstība | D43: 5.1.1. | E43: “Vietējās teritorijas integrētās sociālās, ekonomiskās un vides attīstības un kultūras mantojuma, tūrisma un drošības veicināšana pilsētu funkcionālajās teritorijās” | F43: 5.1.1.8. | G43: Divējāda lietojuma infrastruktūras attīstība | H43: _ | I43: ERAF | J43: 13812500 | K43: 16250000 | L43: 2437500 | M43: VARAM | N43: Potenciāli IPIA izņēmums | O43: Potenciāli IPIA izņēmums | P43: 45722 | Q43: IZSTRĀDĒ | R43: 2025 II | S43: 2025 III
A44: 5 | B44: 5.1. | C44: Reģionu līdzsvarota attīstība | D44: 5.1.1. | E44: “Vietējās teritorijas integrētās sociālās, ekonomiskās un vides attīstības un kultūras mantojuma, tūrisma un drošības veicināšana pilsētu funkcionālajās teritorijās” | F44: 5.1.1.9. | G44: Objektu (patvertņu) pielāgošana un aprīkošana civilās aizsardzības mērķiem | H44: _ | I44: ERAF | J44: 22196492 | K44: 26113520 | L44: 3917028 | M44: VARAM | N44: Potenciāli IPIA izņēmums | O44: Potenciāli IPIA izņēmums | P44: 45728 | Q44: IZSTRĀDĒ | R44: 2025 II | S44: 2025 III
A45: 6 | B45: 6.1. | C45: Pāreja uz klimatneitralitāti | D45: 6.1.1. | E45: "Pārejas uz klimatneitralitāti radīto ekonomisko, sociālo un vides seku mazināšana visvairāk skartajos reģionos" | F45: 6.1.1.1. | G45: Atteikšanās no kūdras izmantošanas enerģētikā | H45: 2 | I45: TPF | J45: 1000000 | K45: 1176471 | L45: 176471 | M45: VARAM | N45: 45743 | O45: Uzsākta UK rakstiskā procedūra 16.04.2025 | P45: 45686 | Q45: IZSTRĀDĒ | R45: 2025 II | S45: 2025 II
A46: 6 | B46: 6.1. | C46: Pāreja uz klimatneitralitāti | D46: 6.1.1. | E46: "Pārejas uz klimatneitralitāti radīto ekonomisko, sociālo un vides seku mazināšana visvairāk skartajos reģionos" | F46: 6.1.1.1. | G46: Atteikšanās no kūdras izmantošanas enerģētikā******* | H46: 3 | I46: TPF | J46: 22000000 | K46: 25882353 | L46: 3882353 | M46: VARAM | N46: 2025 II | O46: 2025 II | P46: 45754 | Q46: IZSTRĀDĒ | R46: 2025 II | S46: 2025 III
A47: 6 | B47: 6.1. | C47: Pāreja uz klimatneitralitāti | D47: 6.1.1. | E47: "Pārejas uz klimatneitralitāti radīto ekonomisko, sociālo un vides seku mazināšana visvairāk skartajos reģionos" | F47: 6.1.1.5. | G47: Nodarbināto prasmju paaugstināšana un atbalsts kvalifikācijas iegūšanai, atbalsts darbaspēka mācībām saskaņā ar uzņēmumu pieprasījumu | H47: _ | I47: TPF | J47: 16946467 | K47: 19937020 | L47: 2990553 | M47: IZM | N47: IPIA izņēmums (UK lēm. 23.04.2024) | O47: IPIA izņēmums (UK lēm. 23.04.2024) | P47: 45623 | Q47: IZSTRĀDĒ | R47: 2025 II | S47: 2025 II
A48: APSTIPRINĀTS NORMATĪVAIS REGULĒJUMS | I48: Kopā: | J48: =SUBTOTAL(9,J49:J229) -> 3326822092 | K48: =SUBTOTAL(9,K49:K229) -> 3913908403 | L48: =SUBTOTAL(9,L49:L229) -> 587086311
A49: 4 | B49: 4.2. | C49: Izglītība, prasmes un mūžizglītība | D49: 4.2.1. | E49: “Uzlabot vienlīdzīgu piekļuvi iekļaujošiem un kvalitatīviem pakalpojumiem izglītības, mācību un mūžizglītības jomā, attīstot pieejamu infrastruktūru, tostarp, veicinot noturību izglītošanā un mācībā attālinātā un tiešsaistes režīmā” | F49: 4.2.1.2. | G49: Izveidot asistīvo tehnoloģiju izglītības programmas apguvei apmaiņas sistēmu | H49: _ | I49: ERAF | J49: 1479000 | K49: 1740000 | L49: 261000 | M49: IZM | N49: IPIA izņēmums (UK lēm. 23.04.2024) | O49: IPIA izņēmums (UK lēm. 23.04.2024) | P49: 45644 | Q49: APSTIPRINĀTS | R49: 45755 | S49: 2025 II
A50: 1 | B50: 1.1. | C50: Pētniecība un prasmes | D50: 1.1.1. | E50: “Pētniecības un inovāciju kapacitātes stiprināšana un progresīvu tehnoloģiju ieviešana kopējā P&A sistēmā” | F50: 1.1.1.1. | G50: Zinātnes politikas ieviešana,vadība un kapacitātes stiprināšana | H50: _ | I50: ERAF | J50: 12239103 | K50: 14398945 | L50: 2159842 | M50: IZM | N50: 45072 | O50: 45107 | P50: 45027 | Q50: APSTIPRINĀTS | R50: 45258 | S50: Atlase beigusies
A51: 1 | B51: 1.1. | C51: Pētniecība un prasmes | D51: 1.1.1. | E51: “Pētniecības un inovāciju kapacitātes stiprināšana un progresīvu tehnoloģiju ieviešana kopējā P&A sistēmā” | F51: 1.1.1.2. | G51: RIS3 pētniecības un inovācijas centri | H51: _ | I51: ERAF | J51: 36098377 | K51: 42468679 | L51: 6370302 | M51: IZM | N51: 45687 | O51: 45747 | P51: 45506 | Q51: APSTIPRINĀTS | R51: 45692 | S51: 2025 II
A52: 1 | B52: 1.1. | C52: Pētniecība un prasmes | D52: 1.1.1. | E52: “Pētniecības un inovāciju kapacitātes stiprināšana un progresīvu tehnoloģiju ieviešana kopējā P&A sistēmā” | F52: 1.1.1.3. | G52: Praktiskas ievirzes pētījumi | H52: 1 | I52: ERAF | J52: 30770000 | K52: 36200000 | L52: 5430000 | M52: IZM | N52: 45134 | O52: 45271 | P52: 45110 | Q52: APSTIPRINĀTS | R52: 45468 | S52: 45541
A53: 1 | B53: 1.1. | C53: Pētniecība un prasmes | D53: 1.1.1. | E53: “Pētniecības un inovāciju kapacitātes stiprināšana un progresīvu tehnoloģiju ieviešana kopējā P&A sistēmā” | F53: 1.1.1.3. | G53: Praktiskas ievirzes pētījumi | H53: 2 | I53: ERAF | J53: 17476000 | K53: 20560000 | L53: 3084000 | M53: IZM | N53: 45134 | O53: 45271 | P53: 45110 | Q53: APSTIPRINĀTS | R53: 45468 | S53: 2025 III
A54: 1 | B54: 1.1. | C54: Pētniecība un prasmes | D54: 1.1.1. | E54: “Pētniecības un inovāciju kapacitātes stiprināšana un progresīvu tehnoloģiju ieviešana kopējā P&A sistēmā” | F54: 1.1.1.5. | G54: Latvijas pilnvērtīga dalība Apvārsnis Eiropa programmā, tajā skaitā nodrošinot kompleksu atbalsta instrumentu klāstu un sasaisti ar RIS3 specializācijas jomu attīstīšanu | H54: 1 | I54: ERAF | J54: 12200257 | K54: 14353244 | L54: 2152987 | M54: IZM | N54: 45169 | O54: 45216 | P54: 45132 | Q54: APSTIPRINĀTS | R54: 45279 | S54: Atlase beigusies
A55: 1 | B55: 1.1. | C55: Pētniecība un prasmes | D55: 1.1.1. | E55: “Pētniecības un inovāciju kapacitātes stiprināšana un progresīvu tehnoloģiju ieviešana kopējā P&A sistēmā” | F55: 1.1.1.5. | G55: Latvijas pilnvērtīga dalība Apvārsnis Eiropa programmā, tajā skaitā nodrošinot kompleksu atbalsta instrumentu klāstu un sasaisti ar RIS3 specializācijas jomu attīstīšanu | H55: 2 | I55: ERAF | J55: 20114979 | K55: 23664682 | L55: 3549703 | M55: IZM | N55: 45169 | O55: 45216 | P55: 45132 | Q55: APSTIPRINĀTS | R55: 45279 | S55: 45530
A56: 1 | B56: 1.1. | C56: Pētniecība un prasmes | D56: 1.1.1. | E56: “Pētniecības un inovāciju kapacitātes stiprināšana un progresīvu tehnoloģiju ieviešana kopējā P&A sistēmā” | F56: 1.1.1.5. | G56: Latvijas pilnvērtīga dalība Apvārsnis Eiropa programmā, tajā skaitā nodrošinot kompleksu atbalsta instrumentu klāstu un sasaisti ar RIS3 specializācijas jomu attīstīšanu | H56: 3 | I56: ERAF | J56: 13413000 | K56: 15780000 | L56: 2367000 | M56: IZM | N56: 45442 | O56: 45539 | P56: 45401 | Q56: APSTIPRINĀTS | R56: 45496 | S56: 45567
A57: 1 | B57: 1.1. | C57: Pētniecība un prasmes | D57: 1.1.1. | E57: “Pētniecības un inovāciju kapacitātes stiprināšana un progresīvu tehnoloģiju ieviešana kopējā P&A sistēmā” | F57: 1.1.1.7. | G57: Inovāciju granti studentiem | H57: _ | I57: ERAF | J57: 14025000 | K57: 16500000 | L57: 2475000 | M57: IZM | N57: 45562 | O57: 45670 | P57: 45610 | Q57: APSTIPRINĀTS | R57: 45692 | S57: 45722
A58: 1 | B58: 1.1. | C58: Pētniecība un prasmes | D58: 1.1.1. | E58: “Pētniecības un inovāciju kapacitātes stiprināšana un progresīvu tehnoloģiju ieviešana kopējā P&A sistēmā” | F58: 1.1.1.8. | G58: Doktorantūras granti | H58: _ | I58: ERAF | J58: 16269000 | K58: 19140000 | L58: 2871000 | M58: IZM | N58: 45169 | O58: 45216 | P58: 45128 | Q58: APSTIPRINĀTS | R58: 45279 | S58: 45531
A59: 1 | B59: 1.1. | C59: Pētniecība un prasmes | D59: 1.1.1. | E59: “Pētniecības un inovāciju kapacitātes stiprināšana un progresīvu tehnoloģiju ieviešana kopējā P&A sistēmā” | F59: 1.1.1.9. | G59: Pēcdoktorantūras pētījumi | H59: _ | I59: ERAF | J59: 43256500 | K59: 50890000 | L59: 7633500 | M59: IZM | N59: 45169 | O59: 45279 | P59: 45138 | Q59: APSTIPRINĀTS | R59: 45300 | S59: Atlase beigusies
A60: 1 | B60: 1.2. | C60: Atbalsts uzņēmējdarbībai | D60: 1.2.1. | E60: “Pētniecības un inovāciju kapacitātes stiprināšana un progresīvu tehnoloģiju ieviešana uzņēmumiem ” | F60: 1.2.1.1. | G60: Atbalsts jaunu produktu attīstībai un internacionalizācijai | H60: 1 | I60: ERAF | J60: 5633633 | K60: 6627804 | L60: 994171 | M60: EM | N60: 45351 | O60: 45687 | P60: 45180 | Q60: APSTIPRINĀTS | R60: 45496 | S60: 2025 II
A61: 1 | B61: 1.2. | C61: Atbalsts uzņēmējdarbībai | D61: 1.2.1. | E61: “Pētniecības un inovāciju kapacitātes stiprināšana un progresīvu tehnoloģiju ieviešana uzņēmumiem ” | F61: 1.2.1.1. | G61: Atbalsts jaunu produktu attīstībai un internacionalizācijai | H61: 2 | I61: ERAF | J61: 8312810 | K61: 9779777 | L61: 1466967 | M61: EM | N61: 45407 | O61: 45510 | P61: 45359 | Q61: APSTIPRINĀTS | R61: 45629 | S61: 45719
A62: 1 | B62: 1.2. | C62: Atbalsts uzņēmējdarbībai | D62: 1.2.1. | E62: “Pētniecības un inovāciju kapacitātes stiprināšana un progresīvu tehnoloģiju ieviešana uzņēmumiem ” | F62: 1.2.1.1. | G62: Atbalsts jaunu produktu attīstībai un internacionalizācijai | H62: 3 | I62: ERAF | J62: 24960674 | K62: 29365499 | L62: 4404825 | M62: EM | N62: 45562 | O62: 45680 | P62: 45436 | Q62: APSTIPRINĀTS | R62: 45587 | S62: 45715
A63: 1 | B63: 1.2. | C63: Atbalsts uzņēmējdarbībai | D63: 1.2.1. | E63: “Pētniecības un inovāciju kapacitātes stiprināšana un progresīvu tehnoloģiju ieviešana uzņēmumiem ” | F63: 1.2.1.2. | G63: Produktivitātes aizdevumi (t.sk., ar kapitāla atlaidi) inovatīvām iekārtām, pētniecībai un attīstībai, tehnoloģiju pārnesei | H63: _ | I63: ERAF | J63: 49621122 | K63: 58377791 | L63: 8756669 | M63: EM | N63: N/A | O63: N/A | P63: 45356 | Q63: APSTIPRINĀTS | R63: 45664 | S63: N/A, jo FI
A64: 1 | B64: 1.2. | C64: Atbalsts uzņēmējdarbībai | D64: 1.2.1. | E64: “Pētniecības un inovāciju kapacitātes stiprināšana un progresīvu tehnoloģiju ieviešana uzņēmumiem ” | F64: 1.2.1.3. | G64: Uzņēmuma atbalsts dalībai kapitāla tirgos | H64: _ | I64: ERAF | J64: 1413178 | K64: 1662563 | L64: 249385 | M64: EM | N64: 45197 | O64: 45232 | P64: 44942 | Q64: APSTIPRINĀTS | R64: 45216 | S64: 45568
A65: 1 | B65: 1.2. | C65: Atbalsts uzņēmējdarbībai | D65: 1.2.1. | E65: “Pētniecības un inovāciju kapacitātes stiprināšana un progresīvu tehnoloģiju ieviešana uzņēmumiem ” | F65: 1.2.1.4. | G65: Atbalsts tehnoloģiju pārneses sistēmas pilnveidošanai | H65: _ | I65: ERAF | J65: 19811048 | K65: 23307116 | L65: 3496068 | M65: EM | N65: 45022 | O65: 45066 | P65: 44879 | Q65: APSTIPRINĀTS | R65: 45237 | S65: Atlase beigusies
A66: 1 | B66: 1.2. | C66: Atbalsts uzņēmējdarbībai | D66: 1.2.2. | E66: “Izmantot digitalizācijas priekšrocības uzņēmējdarbības attīstībai ” | F66: 1.2.2.1. | G66: Atbalsts procesu digitalizācijai komercdarbībā | H66: _ | I66: ERAF | J66: 19769234 | K66: 23257924 | L66: 3488690 | M66: EM | N66: 45596 | O66: 45667 | P66: 45415 | Q66: APSTIPRINĀTS | R66: 45622 | S66: 45695
A67: 1 | B67: 1.2. | C67: Atbalsts uzņēmējdarbībai | D67: 1.2.3. | E67: "Veicināt ilgtspējīgu izaugsmi, konkurētspēju un darba vietu radīšanu MVU, tostarp ar produktīvām investīcijām” | F67: 1.2.3.1. | G67: Atbalsts MVU inovatīvas uzņēmējdarbības attīstībai | H67: _ | I67: ERAF | J67: 74161672 | K67: 87249026 | L67: 13087354 | M67: EM | N67: 44938 | O67: 44992 | P67: 44677 | Q67: APSTIPRINĀTS | R67: 45120 | S67: Atlase beigusies
A68: 1 | B68: 1.2. | C68: Atbalsts uzņēmējdarbībai | D68: 1.2.3. | E68: "Veicināt ilgtspējīgu izaugsmi, konkurētspēju un darba vietu radīšanu MVU, tostarp ar produktīvām investīcijām” | F68: 1.2.3.2. | G68: Iespējkapitāla ieguldījumi | H68: _ | I68: ERAF | J68: 67478205 | K68: 79386124 | L68: 11907919 | M68: EM | N68: N/A | O68: N/A | P68: 44804 | Q68: APSTIPRINĀTS | R68: 45153 | S68: N/A, jo FI
A69: 1 | B69: 1.2. | C69: Atbalsts uzņēmējdarbībai | D69: 1.2.3. | E69: "Veicināt ilgtspējīgu izaugsmi, konkurētspēju un darba vietu radīšanu MVU, tostarp ar produktīvām investīcijām” | F69: 1.2.3.3. | G69: Starta, izaugsmes aizdevumi | H69: _ | I69: ERAF | J69: 17507956 | K69: 20597596 | L69: 3089640 | M69: EM | N69: N/A | O69: N/A | P69: 44973 | Q69: APSTIPRINĀTS | R69: 45188 | S69: N/A, jo FI
A70: 1 | B70: 1.2. | C70: Atbalsts uzņēmējdarbībai | D70: 1.2.3. | E70: "Veicināt ilgtspējīgu izaugsmi, konkurētspēju un darba vietu radīšanu MVU, tostarp ar produktīvām investīcijām” | F70: 1.2.3.4. | G70: Garantijas, portfeļgarantijas pilna cikla uzņēmējdarbībai | H70: _ | I70: ERAF | J70: 29361690 | K70: 34543165 | L70: 5181475 | M70: EM | N70: N/A | O70: N/A | P70: 44973 | Q70: APSTIPRINĀTS | R70: 45174 | S70: N/A, jo FI
A71: 1 | B71: 1.2. | C71: Atbalsts uzņēmējdarbībai | D71: 1.2.3. | E71: "Veicināt ilgtspējīgu izaugsmi, konkurētspēju un darba vietu radīšanu MVU, tostarp ar produktīvām investīcijām” | F71: 1.2.3.5. | G71: Aizdevumi, produktivitātes kāpināšanai (investīcijas un apgrozāmie līdzekļi) | H71: _ | I71: ERAF | J71: 23853429 | K71: 28062858 | L71: 4209429 | M71: EM | N71: N/A | O71: N/A | P71: 44973 | Q71: APSTIPRINĀTS | R71: 45300 | S71: N/A, jo FI
A72: 1 | B72: 1.2. | C72: Atbalsts uzņēmējdarbībai | D72: 1.2.3. | E72: “Pētniecības un inovāciju kapacitātes stiprināšana un progresīvu tehnoloģiju ieviešana uzņēmumiem ” | F72: 1.2.3.6. | G72: Tūrisma produktu attīstības programma | H72: 1 | I72: ERAF | J72: 423953 | K72: 498769 | L72: 74816 | M72: EM | N72: 45021 | O72: 45145 | P72: 44813 | Q72: APSTIPRINĀTS | R72: 45160 | S72: Atlase beigusies
A73: 1 | B73: 1.2. | C73: Atbalsts uzņēmējdarbībai | D73: 1.2.3. | E73: “Pētniecības un inovāciju kapacitātes stiprināšana un progresīvu tehnoloģiju ieviešana uzņēmumiem ” | F73: 1.2.3.6. | G73: Tūrisma produktu attīstības programma | H73: 2 | I73: ERAF | J73: 4186539 | K73: 4925340 | L73: 738801 | M73: EM | N73: 45021 | O73: 45145 | P73: 44813 | Q73: APSTIPRINĀTS | R73: 45160 | S73: Atlase beigusies
A74: 1 | B74: 1.3. | C74: Digitalizācija | D74: 1.3.1. | E74: “Izmantot digitalizācijas priekšrocības iedzīvotājiem, uzņēmumiem, pētniecības organizācijām un publiskajām iestādēm” | F74: 1.3.1.1. | G74: IKT risinājumu un pakalpojumu attīstība un iespēju radīšana privātajam sektoram | H74: _ | I74: ERAF | J74: 134593934 | K74: 158345805 | L74: 23751871 | M74: VARAM | N74: 45281 | O74: 45331 | P74: 45274 | Q74: APSTIPRINĀTS | R74: 45447 | S74: 45687
A75: 1 | B75: 1.3. | C75: Digitalizācija | D75: 1.3.1. | E75: “Izmantot digitalizācijas priekšrocības iedzīvotājiem, uzņēmumiem, pētniecības organizācijām un publiskajām iestādēm” | F75: 1.3.1.2. | G75: Inovācijas laboratorija digitalizācijas priekšrocību izmantošanai | H75: _ | I75: ERAF | J75: 1094772 | K75: 1287968 | L75: 193196 | M75: VK | N75: 45071 | O75: 45111 | P75: 45092 | Q75: APSTIPRINĀTS | R75: 45195 | S75: Atlase beigusies
A76: 1 | B76: 1.4. | C76: Digitālā savienojamība | D76: 1.4.1. | E76: “Uzlabot digitālo savienojamību” | F76: 1.4.1.4. | G76: Vienotā kiberdrošības infrastruktūra | H76: _ | I76: ERAF | J76: 3697500 | K76: 4350000 | L76: 652500 | M76: SM | N76: 45072 | O76: 45111 | P76: 45092 | Q76: APSTIPRINĀTS | R76: 45433 | S76: Atlase beigusies
A77: 2 | B77: 2.1. | C77: Klimata pārmaiņu mazināšana un pielāgošanās klimata pārmaiņām | D77: 2.1.1. | E77: “Energoefektivitātes veicināšana un siltumnīcefekta gāzu emisiju samazināšana” | F77: 2.1.1.1. | G77: Energoefektivitātes paaugstināšana dzīvojamās ēkās, t.sk. attīstot ESKO tirgu (daudzīvokļu, privātās un neliela dzīvokļu skaita ēku kompleksos) | H77: 1 | I77: ERAF | J77: 2550000 | K77: 3000000 | L77: 450000 | M77: EM | N77: N/A | O77: N/A | P77: 45470 | Q77: APSTIPRINĀTS | R77: 45643 | S77: N/A, jo FI
A78: 2 | B78: 2.1. | C78: Klimata pārmaiņu mazināšana un pielāgošanās klimata pārmaiņām | D78: 2.1.1. | E78: “Energoefektivitātes veicināšana un siltumnīcefekta gāzu emisiju samazināšana” | F78: 2.1.1.1. | G78: Energoefektivitātes paaugstināšana dzīvojamās ēkās, t.sk. attīstot ESKO tirgu (daudzīvokļu, privātās un neliela dzīvokļu skaita ēku kompleksos) | H78: 2 | I78: ERAF | J78: 144685431 | K78: 170218155 | L78: 25532724 | M78: EM | N78: N/A | O78: N/A | P78: 45470 | Q78: APSTIPRINĀTS | R78: 45643 | S78: N/A, jo FI
A79: 2 | B79: 2.1. | C79: Klimata pārmaiņu mazināšana un pielāgošanās klimata pārmaiņām | D79: 2.1.1. | E79: “Energoefektivitātes veicināšana un siltumnīcefekta gāzu emisiju samazināšana” | F79: 2.1.1.2. | G79: AER izmantošana un energoefektivitātes paaugstināšana rūpniecībā un komersantos | H79: _ | I79: ERAF | J79: 6639649 | K79: 7811352 | L79: 1171703 | M79: EM | N79: N/A | O79: N/A | P79: 45636 | Q79: APSTIPRINĀTS | R79: 45727 | S79: N/A, jo FI
A80: 2 | B80: 2.1. | C80: Klimata pārmaiņu mazināšana un pielāgošanās klimata pārmaiņām | D80: 2.1.1. | E80: “Energoefektivitātes veicināšana un siltumnīcefekta gāzu emisiju samazināšana” | F80: 2.1.1.3. | G80: AER izmantošana un energoefektivitātes paaugstināšana lokālajā un individuālajā siltumapgādē un aukstumapgādē | H80: 1 | I80: ERAF | J80: 271188 | K80: 319045 | L80: 47857 | M80: EM | N80: Posmotie projekti (KNR 118.pants - ar atlasi) | O80: 45510 | P80: Posmotie projekti (KNR 118.pants - ar atlasi) | Q80: APSTIPRINĀTS | R80: 45447 | S80: Atlase beigusies
A81: 2 | B81: 2.1. | C81: Klimata pārmaiņu mazināšana un pielāgošanās klimata pārmaiņām | D81: 2.1.1. | E81: “Energoefektivitātes veicināšana un siltumnīcefekta gāzu emisiju samazināšana” | F81: 2.1.1.3. | G81: AER izmantošana un energoefektivitātes paaugstināšana centralizētajā siltumapgādē un aukstumapgādē | H81: 2 | I81: ERAF | J81: 47440102 | K81: 55811885 | L81: 8371783 | M81: KEM | N81: N/A | O81: N/A | P81: 45610 | Q81: APSTIPRINĀTS | R81: 45664 | S81: N/A, jo FI
A82: 2 | B82: 2.1. | C82: Klimata pārmaiņu mazināšana un pielāgošanās klimata pārmaiņām | D82: 2.1.1. | E82: “Energoefektivitātes veicināšana un siltumnīcefekta gāzu emisiju samazināšana” | F82: 2.1.1.4. | G82: Energoefektivitātes paaugstināšana valsts ēkās | H82: _ | I82: ERAF | J82: 86441736 | K82: 101696160 | L82: 15254424 | M82: EM | N82: 45533 | O82: 45713 | P82: 45462 | Q82: APSTIPRINĀTS | R82: 45643 | S82: 45741
A83: 2 | B83: 2.1. | C83: Klimata pārmaiņu mazināšana un pielāgošanās klimata pārmaiņām | D83: 2.1.1. | E83: “Energoefektivitātes veicināšana un siltumnīcefekta gāzu emisiju samazināšana” | F83: 2.1.1.5. | G83: Klimata neitrāli risinājumi profesionālās izglītības iestāžu un koledžu izglītības programmās, vidē un infrastruktūrā | H83: _ | I83: ERAF | J83: 16269000 | K83: 19140000 | L83: 2871000 | M83: IZM | N83: IPIA izņēmums (UK lēm. 23.04.2024) | O83: IPIA izņēmums (UK lēm. 23.04.2024) | P83: 45454 | Q83: APSTIPRINĀTS | R83: 45552 | S83: Atlase beigusies
A84: 2 | B84: 2.1. | C84: Klimata pārmaiņu mazināšana un pielāgošanās klimata pārmaiņām | D84: 2.1.1. | E84: “Energoefektivitātes veicināšana un siltumnīcefekta gāzu emisiju samazināšana” | F84: 2.1.1.6. | G84: Pašvaldību ēku energoefektivitātes paaugstināšana | H84: 1 | I84: ERAF | J84: 3093705 | K84: 3639653 | L84: 545948 | M84: VARAM | N84: IPIA izņēmums (UK lēm. 23.04.2024) | O84: IPIA izņēmums (UK lēm. 23.04.2024) | P84: 45397 | Q84: APSTIPRINĀTS | R84: 45489 | S84: Atlase beigusies
A85: 2 | B85: 2.1. | C85: Klimata pārmaiņu mazināšana un pielāgošanās klimata pārmaiņām | D85: 2.1.1. | E85: “Energoefektivitātes veicināšana un siltumnīcefekta gāzu emisiju samazināšana” | F85: 2.1.1.6. | G85: Pašvaldību ēku energoefektivitātes paaugstināšana | H85: 2 | I85: ERAF | J85: 6500000 | K85: 7647059 | L85: 1147059 | M85: VARAM | N85: 45498 | O85: 45538 | P85: 45503 | Q85: APSTIPRINĀTS | R85: 45601 | S85: Atlase beigusies
A86: 2 | B86: 2.1. | C86: Klimata pārmaiņu mazināšana un pielāgošanās klimata pārmaiņām | D86: 2.1.1. | E86: “Energoefektivitātes veicināšana un siltumnīcefekta gāzu emisiju samazināšana” | F86: 2.1.1.7. | G86: Zinātniskās infrastruktūras energoefektivitātes pasākumi | H86: _ | I86: ERAF | J86: 11092500 | K86: 13050000 | L86: 1957500 | M86: EM | N86: 45533 | O86: 45712 | P86: 45462 | Q86: APSTIPRINĀTS | R86: 45643 | S86: 45747
A87: 2 | B87: 2.1. | C87: Klimata pārmaiņu mazināšana un pielāgošanās klimata pārmaiņām | D87: 2.1.1. | E87: “Energoefektivitātes veicināšana un siltumnīcefekta gāzu emisiju samazināšana” | F87: 2.1.1.8. | G87: Energoefektivitāti veicinoši pasākumi kultūras infrastruktūrā | H87: _ | I87: ERAF | J87: 29580000 | K87: 34800000 | L87: 5220000 | M87: EM | N87: 45743 | O87: Uzsākta UK rakstiskā procedūra 16.04.2025 | P87: 45491 | Q87: APSTIPRINĀTS | R87: 45664 | S87: 2025 II
A88: 2 | B88: 2.1. | C88: Klimata pārmaiņu mazināšana un pielāgošanās klimata pārmaiņām | D88: 2.1.2. | E88: “Atjaunojamo energoresursu enerģijas veicināšana - biometāns” | F88: 2.1.2.0. | G88: “Atjaunojamo energoresursu enerģijas veicināšana - biometāns” | H88: 1 | I88: KF | J88: 18246193 | K88: 21466110 | L88: 3219917 | M88: KEM | N88: N/A | O88: N/A | P88: 45604 | Q88: APSTIPRINĀTS | R88: 45664 | S88: N/A, jo FI
A89: 2 | B89: 2.1. | C89: Klimata pārmaiņu mazināšana un pielāgošanās klimata pārmaiņām | D89: 2.1.3. | E89: “Veicināt pielāgošanos klimata pārmaiņām, risku novēršanu un noturību pret katastrofām” | F89: 2.1.3.1. | G89: Pašvaldību pielāgošanās klimata pārmaiņām | H89: 1 | I89: ERAF | J89: 33892306 | K89: 39873302 | L89: 5980996 | M89: VARAM | N89: 45197 | O89: 45252 | P89: 45210 | Q89: APSTIPRINĀTS | R89: 45419 | S89: Atlase beigusies
A90: 2 | B90: 2.1. | C90: Klimata pārmaiņu mazināšana un pielāgošanās klimata pārmaiņām | D90: 2.1.3. | E90: “Veicināt pielāgošanos klimata pārmaiņām, risku novēršanu un noturību pret katastrofām” | F90: 2.1.3.2. | G90: Nacionālas nozīmes plūdu un krasta erozijas pasākumi | H90: 1 | I90: ERAF | J90: 14391596 | K90: 16931290 | L90: 2539694 | M90: VARAM | N90: 45098 | O90: 45107 | P90: 45072 | Q90: APSTIPRINĀTS | R90: 45104 | S90: Atlase beigusies
A91: 2 | B91: 2.1. | C91: Klimata pārmaiņu mazināšana un pielāgošanās klimata pārmaiņām | D91: 2.1.3. | E91: “Veicināt pielāgošanos klimata pārmaiņām, risku novēršanu un noturību pret katastrofām” | F91: 2.1.3.2. | G91: Nacionālas nozīmes plūdu un krasta erozijas pasākumi | H91: 2 | I91: ERAF | J91: 34838404 | K91: 40986358 | L91: 6147954 | M91: VARAM | N91: 45316 | O91: 45366 | P91: 45335 | Q91: APSTIPRINĀTS | R91: 45412 | S91: 45456
A92: 2 | B92: 2.1. | C92: Klimata pārmaiņu mazināšana un pielāgošanās klimata pārmaiņām | D92: 2.1.3. | E92: “Veicināt pielāgošanos klimata pārmaiņām, risku novēršanu un noturību pret katastrofām” | F92: 2.1.3.3. | G92: Katastrofu risku mazināšanas pasākumi | H92: 1 | I92: ERAF | J92: 2918429 | K92: 3433446 | L92: 515017 | M92: IeM | N92: 45021 | O92: 45111 | P92: 45012 | Q92: APSTIPRINĀTS | R92: 45216 | S92: Atlase beigusies
A93: 2 | B93: 2.1. | C93: Klimata pārmaiņu mazināšana un pielāgošanās klimata pārmaiņām | D93: 2.1.3. | E93: “Veicināt pielāgošanos klimata pārmaiņām, risku novēršanu un noturību pret katastrofām” | F93: 2.1.3.3. | G93: Katastrofu risku mazināšanas pasākumi | H93: 3 | I93: ERAF | J93: 47206634 | K93: 55537217 | L93: 8330583 | M93: IeM | N93: 45225 | O93: 45265 | P93: 45239 | Q93: APSTIPRINĀTS | R93: 45342 | S93: 45435
A94: 2 | B94: 2.2. | C94: Vides aizsardzība un attīstība | D94: 2.2.1. | E94: “Veicināt ilgtspējīgu ūdenssaimniecību” | F94: 2.2.1.1. | G94: Notekūdeņu un to dūņu apsaimniekošanas sistēmas attīstība piesārņojuma samazināšanai | H94: 1 | I94: ERAF | J94: 30396747 | K94: 35760879 | L94: 5364132 | M94: VARAM | N94: 45316 | O94: 45434 | P94: 45330 | Q94: APSTIPRINĀTS | R94: 45419 | S94: Atlase beigusies
A95: 2 | B95: 2.2. | C95: Vides aizsardzība un attīstība | D95: 2.2.2. | E95: “Pārejas uz aprites ekonomiku veicināšana” | F95: 2.2.2.1. | G95: Atkritumu šķirošana, pārstrāde un reģenerācija | H95: 1 | I95: KF | J95: 20000000 | K95: 23529412 | L95: 3529412 | M95: VARAM | N95: 45197 | O95: 45252 | P95: 45209 | Q95: APSTIPRINĀTS | R95: 45377 | S95: Atlase beigusies
A96: 2 | B96: 2.2. | C96: Vides aizsardzība un attīstība | D96: 2.2.2. | E96: “Pārejas uz aprites ekonomiku veicināšana” | F96: 2.2.2.1. | G96: Atkritumu šķirošana, pārstrāde un reģenerācija | H96: 2 | I96: KF | J96: 20000000 | K96: 23529412 | L96: 3529412 | M96: VARAM | N96: 45596 | O96: 45643 | P96: 45551 | Q96: APSTIPRINĀTS | R96: 45643 | S96: 45686
A97: 2 | B97: 2.2. | C97: Vides aizsardzība un attīstība | D97: 2.2.2. | E97: “Pārejas uz aprites ekonomiku veicināšana” | F97: 2.2.2.1. | G97: Atkritumu šķirošana, pārstrāde un reģenerācija | H97: 3 | I97: KF | J97: 25030000 | K97: 29447059 | L97: 4417059 | M97: VARAM | N97: 45596 | O97: 45643 | P97: 45551 | Q97: APSTIPRINĀTS | R97: 45643 | S97: 2025 II
A98: 2 | B98: 2.2. | C98: Vides aizsardzība un attīstība | D98: 2.2.2. | E98: “Pārejas uz aprites ekonomiku veicināšana” | F98: 2.2.2.2. | G98: Atkritumu dalītā vākšana | H98: 1 | I98: KF | J98: 1598349 | K98: 1880411 | L98: 282062 | M98: VARAM | N98: 45225 | O98: 45278 | P98: 45238 | Q98: APSTIPRINĀTS | R98: 45377 | S98: Atlase beigusies
A99: 2 | B99: 2.2. | C99: Vides aizsardzība un attīstība | D99: 2.2.2. | E99: “Pārejas uz aprites ekonomiku veicināšana” | F99: 2.2.2.2. | G99: Atkritumu dalītā vākšana | H99: 2 | I99: KF | J99: 3318280 | K99: 3903859 | L99: 585579 | M99: VARAM | N99: 45379 | O99: 45447 | P99: 45385 | Q99: APSTIPRINĀTS | R99: 45545 | S99: Atlase beigusies
A100: 2 | B100: 2.2. | C100: Vides aizsardzība un attīstība | D100: 2.2.3. | E100: “Uzlabot dabas aizsardzību un bioloģisko daudzveidību, “zaļo” infrastruktūru, it īpaši pilsētvidē, un samazināt piesārņojumu” | F100: 2.2.3.2. | G100: Vides izglītību veicinoši pasākumi sabiedrības informētībai un prasmju attīstībai | H100: _ | I100: ERAF | J100: 10428625 | K100: 12268971 | L100: 1840346 | M100: VARAM | N100: 45197 | O100: 45454 | P100: 45209 | Q100: APSTIPRINĀTS | R100: 45482 | S100: 45513
A101: 2 | B101: 2.2. | C101: Vides aizsardzība un attīstība | D101: 2.2.3. | E101: “Uzlabot dabas aizsardzību un bioloģisko daudzveidību, “zaļo” infrastruktūru, it īpaši pilsētvidē, un samazināt piesārņojumu” | F101: 2.2.3.3. | G101: Pasākumi bioloģiskās daudzveidības veicināšanai un saglabāšanai | H101: 1 | I101: ERAF | J101: 2500000 | K101: 2941177 | L101: 441177 | M101: VARAM | N101: 45225 | O101: 45265 | P101: 45238 | Q101: APSTIPRINĀTS | R101: 45377 | S101: Atlase beigusies
A102: 2 | B102: 2.2. | C102: Vides aizsardzība un attīstība | D102: 2.2.3. | E102: “Uzlabot dabas aizsardzību un bioloģisko daudzveidību, “zaļo” infrastruktūru, it īpaši pilsētvidē, un samazināt piesārņojumu” | F102: 2.2.3.3. | G102: Pasākumi bioloģiskās daudzveidības veicināšanai un saglabāšanai | H102: 2 | I102: ERAF | J102: 1694262 | K102: 1993250 | L102: 298988 | M102: VARAM | N102: 45225 | O102: 45265 | P102: 45238 | Q102: APSTIPRINĀTS | R102: 45377 | S102: Atlase beigusies
A103: 2 | B103: 2.2. | C103: Vides aizsardzība un attīstība | D103: 2.2.3. | E103: “Uzlabot dabas aizsardzību un bioloģisko daudzveidību, “zaļo” infrastruktūru, it īpaši pilsētvidē, un samazināt piesārņojumu” | F103: 2.2.3.3. | G103: Pasākumi bioloģiskās daudzveidības veicināšanai un saglabāšanai | H103: 3 | I103: ERAF | J103: 16000000 | K103: 18823530 | L103: 2823530 | M103: VARAM | N103: 45624 | O103: 45693 | P103: 45632 | Q103: APSTIPRINĀTS | R103: 45706 | S103: 45737
A104: 2 | B104: 2.2. | C104: Vides aizsardzība un attīstība | D104: 2.2.3. | E104: “Uzlabot dabas aizsardzību un bioloģisko daudzveidību, “zaļo” infrastruktūru, it īpaši pilsētvidē, un samazināt piesārņojumu” | F104: 2.2.3.3. | G104: Pasākumi bioloģiskās daudzveidības veicināšanai un saglabāšanai | H104: 4 | I104: ERAF | J104: 9083238 | K104: 10686163 | L104: 1602925 | M104: VARAM | N104: 45624 | O104: 45693 | P104: 45632 | Q104: APSTIPRINĀTS | R104: 45706 | S104: 45748
A105: 2 | B105: 2.2. | C105: Vides aizsardzība un attīstība | D105: 2.2.3. | E105: “Uzlabot dabas aizsardzību un bioloģisko daudzveidību, “zaļo” infrastruktūru, it īpaši pilsētvidē, un samazināt piesārņojumu” | F105: 2.2.3.4. | G105: Vides monitoringa attīstība harmonizētai vides un klimata datu informācijas nodrošināšanai | H105: 1 | I105: ERAF | J105: 9243750 | K105: 10875000 | L105: 1631250 | M105: VARAM | N105: 45021 | O105: 45078 | P105: 45028 | Q105: APSTIPRINĀTS | R105: 45120 | S105: Atlase beigusies
...

Sheet GRAFIKI II
A1: KUMULATĪVI
H2: Laika grafiks uz 25.04.2023.
A3: MK not. gads un ceturksnis | B3: MK noteikumu faktiskā izpilde; finansējums kumulatīvi, milj. EUR | C3: MK noteikumu finansējums, EUR | D3: MK noteikumu finansējums, milj. EUR - NOBĪDE kumulatīvi | E3: Atlašu finansējums kumulatīvi, milj. EUR | F3: Atlašu finansējums, EUR | H3: MK noteikumu apstiprināšanas plāns uz 25.04.2023; finansējums kumulatīvi, milj. EUR | I3: MK noteikumu finansējums, EUR | J3: Atlašu finansējums kumulatīvi uz 25.04.2023., milj. EUR | K3: Atlašu finansējums, EUR | L3: Nobīdes MKN | M3: Nobīdes atlases
A4: 2022 IV | B4: 0 | C4: 0 | D4: =B4-H4 -> #REF! | E4: 0 | F4: 0 | H4: =I4/1000000 -> #REF! | I4: =SUMIFS(FMZINp4_laika_grafiks!$K$94:$K$228,FMZINp4_laika_grafiks!#REF!,'GRAFIKI II'!A4) -> #REF! | J4: =K4/1000000 -> #REF! | K4: =SUMIFS(FMZINp4_laika_grafiks!$K$94:$K$228,FMZINp4_laika_grafiks!#REF!,'GRAFIKI II'!A4) -> #REF! | L4: =H4-B4 -> #REF! | M4: =J4-E4 -> #REF!
A5: 2023 I | B5: =C5/1000000+B4 -> #REF! | C5: =SUMIFS(FMZINp4_laika_grafiks!$K$94:$K$228,FMZINp4_laika_grafiks!#REF!,A5)+C4 -> #REF! | D5: =(B5-H5)+D4 -> #REF! | E5: =F5/1000000 -> #REF! | F5: =SUMIFS(FMZINp4_laika_grafiks!$K$94:$K$228,FMZINp4_laika_grafiks!#REF!,A5) -> #REF! | H5: =H4+(I5/1000000) -> #REF! | I5: =SUMIFS(FMZINp4_laika_grafiks!$K$94:$K$228,FMZINp4_laika_grafiks!#REF!,'GRAFIKI II'!A5) -> #REF! | J5: =J4+(K5/1000000) -> #REF! | K5: =SUMIFS(FMZINp4_laika_grafiks!$K$94:$K$228,FMZINp4_laika_grafiks!#REF!,'GRAFIKI II'!A5) -> #REF! | L5: =H5-B5 -> #REF! | M5: =J5-E5 -> #REF!
A6: 2023 II | B6: =C6/1000000+B5 -> #REF! | C6: =SUMIFS(FMZINp4_laika_grafiks!$K$94:$K$228,FMZINp4_laika_grafiks!#REF!,A6) -> #REF! | D6: =(B6-H6)+D5 -> #REF! | E6: =E5+F6/1000000 -> #REF! | F6: =SUMIFS(FMZINp4_laika_grafiks!$K$94:$K$228,FMZINp4_laika_grafiks!#REF!,A6) -> #REF! | H6: =H5+(I6/1000000) -> #REF! | I6: =SUMIFS(FMZINp4_laika_grafiks!$K$94:$K$228,FMZINp4_laika_grafiks!#REF!,'GRAFIKI II'!A6) -> #REF! | J6: =J5+(K6/1000000) -> #REF! | K6: =SUMIFS(FMZINp4_laika_grafiks!$K$94:$K$228,FMZINp4_laika_grafiks!#REF!,'GRAFIKI II'!A6) -> #REF! | L6: =H6-B6 -> #REF! | M6: =J6-E6 -> #REF!
A7: 2023 III | B7: =C7/1000000+B6 -> #REF! | C7: =SUMIFS(FMZINp4_laika_grafiks!$K$94:$K$228,FMZINp4_laika_grafiks!#REF!,A7) -> #REF! | D7: =(B7-H7)+D6 -> #REF! | E7: =E6+F7/1000000 -> #REF! | F7: =SUMIFS(FMZINp4_laika_grafiks!$K$94:$K$228,FMZINp4_laika_grafiks!#REF!,A7) -> #REF! | H7: =H6+(I7/1000000) -> #REF! | I7: =SUMIFS(FMZINp4_laika_grafiks!$K$94:$K$228,FMZINp4_laika_grafiks!#REF!,'GRAFIKI II'!A7) -> #REF! | J7: =J6+(K7/1000000) -> #REF! | K7: =SUMIFS(FMZINp4_laika_grafiks!$K$94:$K$228,FMZINp4_laika_grafiks!#REF!,'GRAFIKI II'!A7) -> #REF! | L7: =H7-B7 -> #REF! | M7: =J7-E7 -> #REF!
A8: 2023 IV | B8: =C8/1000000+B7 -> #REF! | C8: =SUMIFS(FMZINp4_laika_grafiks!$K$94:$K$228,FMZINp4_laika_grafiks!#REF!,A8) -> #REF! | D8: =(B8-H8)+D7 -> #REF! | E8: =E7+F8/1000000 -> #REF! | F8: =SUMIFS(FMZINp4_laika_grafiks!$K$94:$K$228,FMZINp4_laika_grafiks!#REF!,A8) -> #REF! | H8: =H7+(I8/1000000) -> #REF! | I8: =SUMIFS(FMZINp4_laika_grafiks!$K$94:$K$228,FMZINp4_laika_grafiks!#REF!,'GRAFIKI II'!A8) -> #REF! | J8: =J7+(K8/1000000) -> #REF! | K8: =SUMIFS(FMZINp4_laika_grafiks!$K$94:$K$228,FMZINp4_laika_grafiks!#REF!,'GRAFIKI II'!A8) -> #REF! | L8: =H8-B8 -> #REF! | M8: =J8-E8 -> #REF!
A9: 2024 I | B9: =C9/1000000+B8 -> #REF! | C9: =SUMIFS(FMZINp4_laika_grafiks!$K$94:$K$228,FMZINp4_laika_grafiks!#REF!,A9) -> #REF! | D9: =(B9-H9)+D8 -> #REF! | E9: =E8+F9/1000000 -> #REF! | F9: =SUMIFS(FMZINp4_laika_grafiks!$K$94:$K$228,FMZINp4_laika_grafiks!#REF!,A9) -> #REF! | H9: =H8+(I9/1000000) -> #REF! | I9: =SUMIFS(FMZINp4_laika_grafiks!$K$94:$K$228,FMZINp4_laika_grafiks!#REF!,'GRAFIKI II'!A9) -> #REF! | J9: =J8+(K9/1000000) -> #REF! | K9: =SUMIFS(FMZINp4_laika_grafiks!$K$94:$K$228,FMZINp4_laika_grafiks!#REF!,'GRAFIKI II'!A9) -> #REF!
A10: 2024 II | B10: =C10/1000000+B9 -> #REF! | C10: =SUMIFS(FMZINp4_laika_grafiks!$K$94:$K$228,FMZINp4_laika_grafiks!#REF!,A10) -> #REF! | D10: =(B10-H10)+D9 -> #REF! | E10: =E9+F10/1000000 -> #REF! | F10: =SUMIFS(FMZINp4_laika_grafiks!$K$94:$K$228,FMZINp4_laika_grafiks!#REF!,A10) -> #REF! | H10: =H9+(I10/1000000) -> #REF! | I10: =SUMIFS(FMZINp4_laika_grafiks!$K$94:$K$228,FMZINp4_laika_grafiks!#REF!,'GRAFIKI II'!A10) -> #REF! | J10: =J9+(K10/1000000) -> #REF! | K10: =SUMIFS(FMZINp4_laika_grafiks!$K$94:$K$228,FMZINp4_laika_grafiks!#REF!,'GRAFIKI II'!A10) -> #REF!
A11: 2024 III | B11: =C11/1000000+B10 -> #REF! | C11: =SUMIFS(FMZINp4_laika_grafiks!$K$94:$K$228,FMZINp4_laika_grafiks!#REF!,A11) -> #REF! | D11: =(B11-H11)+D10 -> #REF! | E11: =E10+F11/1000000 -> #REF! | F11: =SUMIFS(FMZINp4_laika_grafiks!$K$94:$K$228,FMZINp4_laika_grafiks!#REF!,A11) -> #REF! | H11: =H10+(I11/1000000) -> #REF! | I11: =SUMIFS(FMZINp4_laika_grafiks!$K$94:$K$228,FMZINp4_laika_grafiks!#REF!,'GRAFIKI II'!A11) -> #REF! | J11: =J10+(K11/1000000) -> #REF! | K11: =SUMIFS(FMZINp4_laika_grafiks!$K$94:$K$228,FMZINp4_laika_grafiks!#REF!,'GRAFIKI II'!A11) -> #REF!
A12: 2024 IV | B12: =C12/1000000+B11 -> #REF! | C12: =SUMIFS(FMZINp4_laika_grafiks!$K$94:$K$228,FMZINp4_laika_grafiks!#REF!,A12) -> #REF! | D12: =(B12-H12)+D11 -> #REF! | E12: =E11+F12/1000000 -> #REF! | F12: =SUMIFS(FMZINp4_laika_grafiks!$K$94:$K$228,FMZINp4_laika_grafiks!#REF!,A12) -> #REF! | H12: =H11+(I12/1000000) -> #REF! | I12: =SUMIFS(FMZINp4_laika_grafiks!$K$94:$K$228,FMZINp4_laika_grafiks!#REF!,'GRAFIKI II'!A12) -> #REF! | J12: =J11+(K12/1000000) -> #REF! | K12: =SUMIFS(FMZINp4_laika_grafiks!$K$94:$K$228,FMZINp4_laika_grafiks!#REF!,'GRAFIKI II'!A12) -> #REF!
A13: 2025 I | B13: =C13/1000000+B12 -> #REF! | C13: =SUMIFS(FMZINp4_laika_grafiks!$K$94:$K$228,FMZINp4_laika_grafiks!#REF!,A13) -> #REF! | D13: =(B13-H13)+D12 -> #REF! | E13: =E12+F13/1000000 -> #REF! | F13: =SUMIFS(FMZINp4_laika_grafiks!$K$94:$K$228,FMZINp4_laika_grafiks!#REF!,A13) -> #REF! | H13: =H12+(I13/1000000) -> #REF! | I13: =SUMIFS(FMZINp4_laika_grafiks!$K$94:$K$228,FMZINp4_laika_grafiks!#REF!,'GRAFIKI II'!A13) -> #REF! | J13: =J12+(K13/1000000) -> #REF! | K13: =SUMIFS(FMZINp4_laika_grafiks!$K$94:$K$228,FMZINp4_laika_grafiks!#REF!,'GRAFIKI II'!A13) -> #REF!
A14: 2025 II | B14: =C14/1000000+B13 -> #REF! | C14: =SUMIFS(FMZINp4_laika_grafiks!$K$94:$K$228,FMZINp4_laika_grafiks!#REF!,A14) -> #REF! | D14: =(B14-H14)+D13 -> #REF! | E14: =E13+F14/1000000 -> #REF! | F14: =SUMIFS(FMZINp4_laika_grafiks!$K$94:$K$228,FMZINp4_laika_grafiks!#REF!,A14) -> #REF! | H14: =H13+(I14/1000000) -> #REF! | I14: =SUMIFS(FMZINp4_laika_grafiks!$K$94:$K$228,FMZINp4_laika_grafiks!#REF!,'GRAFIKI II'!A14) -> #REF! | J14: =J13+(K14/1000000) -> #REF! | K14: =SUMIFS(FMZINp4_laika_grafiks!$K$94:$K$228,FMZINp4_laika_grafiks!#REF!,'GRAFIKI II'!A14) -> #REF!
A15: 2025 III | B15: =C15/1000000+B14 -> #REF! | C15: =SUMIFS(FMZINp4_laika_grafiks!$K$94:$K$228,FMZINp4_laika_grafiks!#REF!,A15) -> #REF! | D15: =(B15-H15)+D14 -> #REF! | E15: =E14+F15/1000000 -> #REF! | F15: =SUMIFS(FMZINp4_laika_grafiks!$K$94:$K$228,FMZINp4_laika_grafiks!#REF!,A15) -> #REF! | H15: =H14+(I15/1000000) -> #REF! | I15: =SUMIFS(FMZINp4_laika_grafiks!$K$94:$K$228,FMZINp4_laika_grafiks!#REF!,'GRAFIKI II'!A15) -> #REF! | J15: =J14+(K15/1000000) -> #REF! | K15: =SUMIFS(FMZINp4_laika_grafiks!$K$94:$K$228,FMZINp4_laika_grafiks!#REF!,'GRAFIKI II'!A15) -> #REF!
A16: 2025 IV | B16: =C16/1000000+B15 -> #REF! | C16: =SUMIFS(FMZINp4_laika_grafiks!$K$94:$K$228,FMZINp4_laika_grafiks!#REF!,A16) -> #REF! | D16: =(B16-H16)+D15 -> #REF! | E16: =E15+F16/1000000 -> #REF! | F16: =SUMIFS(FMZINp4_laika_grafiks!$K$94:$K$228,FMZINp4_laika_grafiks!#REF!,A16) -> #REF! | H16: =H15+(I16/1000000) -> #REF! | I16: =SUMIFS(FMZINp4_laika_grafiks!$K$94:$K$228,FMZINp4_laika_grafiks!#REF!,'GRAFIKI II'!A16) -> #REF! | J16: =J15+(K16/1000000) -> #REF! | K16: =SUMIFS(FMZINp4_laika_grafiks!$K$94:$K$228,FMZINp4_laika_grafiks!#REF!,'GRAFIKI II'!A16) -> #REF!
A17: 2026 I | B17: =C17/1000000+B16 -> #REF! | C17: =SUMIFS(FMZINp4_laika_grafiks!$K$94:$K$228,FMZINp4_laika_grafiks!#REF!,A17) -> #REF! | D17: =(B17-H17)+D16 -> #REF! | E17: =E16+F17/1000000 -> #REF! | F17: =SUMIFS(FMZINp4_laika_grafiks!$K$94:$K$228,FMZINp4_laika_grafiks!#REF!,A17) -> #REF! | H17: =H16+(I17/1000000) -> #REF! | I17: =SUMIFS(FMZINp4_laika_grafiks!$K$94:$K$228,FMZINp4_laika_grafiks!#REF!,'GRAFIKI II'!A17) -> #REF! | J17: =J16+(K17/1000000) -> #REF! | K17: =SUMIFS(FMZINp4_laika_grafiks!$K$94:$K$228,FMZINp4_laika_grafiks!#REF!,'GRAFIKI II'!A17) -> #REF!
A18: Uzsaukums par elastības finansējuma apjomu 2026.g. | B18: =C18/1000000+B17 -> #REF! | C18: =SUMIFS(FMZINp4_laika_grafiks!$K$94:$K$228,FMZINp4_laika_grafiks!#REF!,A18) -> #REF! | D18: =(B18-H18)+D17 -> #REF! | E18: =E17+F18/1000000 -> #REF! | F18: =SUMIFS(FMZINp4_laika_grafiks!$K$94:$K$228,FMZINp4_laika_grafiks!#REF!,A18) -> #REF! | H18: =H17+(I18/1000000) -> #REF! | I18: =SUMIFS(FMZINp4_laika_grafiks!$K$94:$K$228,FMZINp4_laika_grafiks!#REF!,'GRAFIKI II'!A18) -> #REF! | J18: =J17+(K18/1000000) -> #REF! | K18: =SUMIFS(FMZINp4_laika_grafiks!$K$94:$K$228,FMZINp4_laika_grafiks!#REF!,'GRAFIKI II'!A18) -> #REF!
A19: 2026 II | B19: =C19/1000000+B18 -> #REF! | C19: =SUMIFS(FMZINp4_laika_grafiks!$K$94:$K$228,FMZINp4_laika_grafiks!#REF!,A19) -> #REF! | D19: =(B19-H19)+D18 -> #REF! | E19: =E18+F19/1000000 -> #REF! | F19: =SUMIFS(FMZINp4_laika_grafiks!$K$94:$K$228,FMZINp4_laika_grafiks!#REF!,A19) -> #REF! | H19: =H18+(I19/1000000) -> #REF! | I19: =SUMIFS(FMZINp4_laika_grafiks!$K$94:$K$228,FMZINp4_laika_grafiks!#REF!,'GRAFIKI II'!A19) -> #REF! | J19: =J18+(K19/1000000) -> #REF! | K19: =SUMIFS(FMZINp4_laika_grafiks!$K$94:$K$228,FMZINp4_laika_grafiks!#REF!,'GRAFIKI II'!A19) -> #REF!
A20: 2026 III | B20: =C20/1000000+B19 -> #REF! | C20: =SUMIFS(FMZINp4_laika_grafiks!$K$94:$K$228,FMZINp4_laika_grafiks!#REF!,A20) -> #REF! | D20: =(B20-H20)+D19 -> #REF! | E20: =E19+F20/1000000 -> #REF! | F20: =SUMIFS(FMZINp4_laika_grafiks!$K$94:$K$228,FMZINp4_laika_grafiks!#REF!,A20) -> #REF! | H20: =H19+(I20/1000000) -> #REF! | I20: =SUMIFS(FMZINp4_laika_grafiks!$K$94:$K$228,FMZINp4_laika_grafiks!#REF!,'GRAFIKI II'!A20) -> #REF! | J20: =J19+(K20/1000000) -> #REF! | K20: =SUMIFS(FMZINp4_laika_grafiks!$K$94:$K$228,FMZINp4_laika_grafiks!#REF!,'GRAFIKI II'!A20) -> #REF!
... A25: 2027 IV | B25: =C25/1000000+B24 -> #REF! | C25: =SUMIFS(FMZINp4_laika_grafiks!$K$94:$K$228,FMZINp4_laika_grafiks!#REF!,A25) -> #REF! | D25: =(B25-H25)+D24 -> #REF! | E25: =E24+F25/1000000 -> #REF! | F25: =SUMIFS(FMZINp4_laika_grafiks!$K$94:$K$228,FMZINp4_laika_grafiks!#REF!,A25) -> #REF! | H25: =H24+(I25/1000000) -> #REF! | I25: =SUMIFS(FMZINp4_laika_grafiks!$K$94:$K$228,FMZINp4_laika_grafiks!#REF!,'GRAFIKI II'!A25) -> #REF! | J25: =J24+(K25/1000000) -> #REF! | K25: =SUMIFS(FMZINp4_laika_grafiks!$K$94:$K$228,FMZINp4_laika_grafiks!#REF!,'GRAFIKI II'!A25) -> #REF!
A26: bez TP prioritātes | C26: =SUM(C5:C25) -> #REF! | F26: =SUM(F5:F25) -> #REF! | I26: =SUM(I4:I25) -> #REF! | K26: =SUM(K4:K25) -> #REF!
C27: =FMZINp4_laika_grafiks!#REF!+FMZINp4_laika_grafiks!#REF!+C26 -> #REF! | F27: =F26+FMZINp4_laika_grafiks!#REF!+FMZINp4_laika_grafiks!#REF! -> #REF! | I27: =I26+FMZINp4_laika_grafiks!#REF!+FMZINp4_laika_grafiks!#REF! -> #REF! | K27: =K26+FMZINp4_laika_grafiks!#REF!+FMZINp4_laika_grafiks!#REF! -> #REF!
C28: =FMZINp4_laika_grafiks!#REF!-C27 -> #REF! | F28: =FMZINp4_laika_grafiks!#REF!-F27 -> #REF! | I28: =I27-FMZINp4_laika_grafiks!#REF! -> #REF! | K28: =K27-FMZINp4_laika_grafiks!#REF! -> #REF!
A29: BEZ KUMULATĀCIJAS
H30: Laika grafiks uz 25.04.2023.
A31: MK not. gads un ceturksnis | B31: MK noteikumu faktiskā izpilde; finansējums , milj. EUR | C31: MK noteikumu finansējums, EUR | D31: MK noteikumu finansējums, milj.EUR - NOBĪDE | E31: Atlašu finansējums, milj. EUR | F31: Atlašu finansējums, EUR | H31: MK noteikumu apstiprināšanas plāns uz 25.04.2023; finansējums kumulatīvi, milj. EUR | I31: MK noteikumu finansējums, EUR | J31: Atlašu finansējums kumulatīvi uz 25.04.2023., milj. EUR | K31: Atlašu finansējums, EUR
A32: 2022 IV | B32: 0 | C32: 0 | D32: =B32-E32 -> 0 | E32: 0 | F32: 0 | H32: =I32/1000000 -> #REF! | I32: =SUMIFS(FMZINp4_laika_grafiks!$K$94:$K$228,FMZINp4_laika_grafiks!#REF!,'GRAFIKI II'!A32) -> #REF! | J32: =K32/1000000 -> #REF! | K32: =SUMIFS(FMZINp4_laika_grafiks!$K$94:$K$228,FMZINp4_laika_grafiks!#REF!,'GRAFIKI II'!A32) -> #REF!
A33: 2023 I | B33: =C33/1000000 -> #REF! | C33: =SUMIFS(FMZINp4_laika_grafiks!$K$94:$K$228,FMZINp4_laika_grafiks!#REF!,A33) -> #REF! | D33: =B33-H33 -> #REF! | E33: =F33/1000000 -> #REF! | F33: =SUMIFS(FMZINp4_laika_grafiks!$K$94:$K$228,FMZINp4_laika_grafiks!#REF!,A33) -> #REF! | H33: =(I33/1000000) -> #REF! | I33: =SUMIFS(FMZINp4_laika_grafiks!$K$94:$K$228,FMZINp4_laika_grafiks!#REF!,'GRAFIKI II'!A33) -> #REF! | J33: =(K33/1000000) -> #REF! | K33: =SUMIFS(FMZINp4_laika_grafiks!$K$94:$K$228,FMZINp4_laika_grafiks!#REF!,'GRAFIKI II'!A33) -> #REF!
A34: 2023 II | B34: =C34/1000000 -> #REF! | C34: =SUMIFS(FMZINp4_laika_grafiks!$K$94:$K$228,FMZINp4_laika_grafiks!#REF!,A34) -> #REF! | D34: =B34-H34 -> #REF! | E34: =F34/1000000 -> #REF! | F34: =SUMIFS(FMZINp4_laika_grafiks!$K$94:$K$228,FMZINp4_laika_grafiks!#REF!,A34) -> #REF! | H34: =(I34/1000000) -> #REF! | I34: =SUMIFS(FMZINp4_laika_grafiks!$K$94:$K$228,FMZINp4_laika_grafiks!#REF!,'GRAFIKI II'!A34) -> #REF! | J34: =(K34/1000000) -> #REF! | K34: =SUMIFS(FMZINp4_laika_grafiks!$K$94:$K$228,FMZINp4_laika_grafiks!#REF!,'GRAFIKI II'!A34) -> #REF!
A35: 2023 III | B35: =C35/1000000 -> #REF! | C35: =SUMIFS(FMZINp4_laika_grafiks!$K$94:$K$228,FMZINp4_laika_grafiks!#REF!,A35) -> #REF! | D35: =B35-H35 -> #REF! | E35: =F35/1000000 -> #REF! | F35: =SUMIFS(FMZINp4_laika_grafiks!$K$94:$K$228,FMZINp4_laika_grafiks!#REF!,A35) -> #REF! | H35: =(I35/1000000) -> #REF! | I35: =SUMIFS(FMZINp4_laika_grafiks!$K$94:$K$228,FMZINp4_laika_grafiks!#REF!,'GRAFIKI II'!A35) -> #REF! | J35: =(K35/1000000) -> #REF! | K35: =SUMIFS(FMZINp4_laika_grafiks!$K$94:$K$228,FMZINp4_laika_grafiks!#REF!,'GRAFIKI II'!A35) -> #REF!
A36: 2023 IV | B36: =C36/1000000 -> #REF! | C36: =SUMIFS(FMZINp4_laika_grafiks!$K$94:$K$228,FMZINp4_laika_grafiks!#REF!,A36) -> #REF! | D36: =B36-H36 -> #REF! | E36: =F36/1000000 -> #REF! | F36: =SUMIFS(FMZINp4_laika_grafiks!$K$94:$K$228,FMZINp4_laika_grafiks!#REF!,A36) -> #REF! | H36: =(I36/1000000) -> #REF! | I36: =SUMIFS(FMZINp4_laika_grafiks!$K$94:$K$228,FMZINp4_laika_grafiks!#REF!,'GRAFIKI II'!A36) -> #REF! | J36: =(K36/1000000) -> #REF! | K36: =SUMIFS(FMZINp4_laika_grafiks!$K$94:$K$228,FMZINp4_laika_grafiks!#REF!,'GRAFIKI II'!A36) -> #REF!
A37: 2024 I | B37: =C37/1000000 -> #REF! | C37: =SUMIFS(FMZINp4_laika_grafiks!$K$94:$K$228,FMZINp4_laika_grafiks!#REF!,A37) -> #REF! | D37: =B37-H37 -> #REF! | E37: =F37/1000000 -> #REF! | F37: =SUMIFS(FMZINp4_laika_grafiks!$K$94:$K$228,FMZINp4_laika_grafiks!#REF!,A37) -> #REF! | H37: =(I37/1000000) -> #REF! | I37: =SUMIFS(FMZINp4_laika_grafiks!$K$94:$K$228,FMZINp4_laika_grafiks!#REF!,'GRAFIKI II'!A37) -> #REF! | J37: =(K37/1000000) -> #REF! | K37: =SUMIFS(FMZINp4_laika_grafiks!$K$94:$K$228,FMZINp4_laika_grafiks!#REF!,'GRAFIKI II'!A37) -> #REF!
A38: 2024 II | B38: =C38/1000000 -> #REF! | C38: =SUMIFS(FMZINp4_laika_grafiks!$K$94:$K$228,FMZINp4_laika_grafiks!#REF!,A38) -> #REF! | D38: =B38-H38 -> #REF! | E38: =F38/1000000 -> #REF! | F38: =SUMIFS(FMZINp4_laika_grafiks!$K$94:$K$228,FMZINp4_laika_grafiks!#REF!,A38) -> #REF! | H38: =(I38/1000000) -> #REF! | I38: =SUMIFS(FMZINp4_laika_grafiks!$K$94:$K$228,FMZINp4_laika_grafiks!#REF!,'GRAFIKI II'!A38) -> #REF! | J38: =(K38/1000000) -> #REF! | K38: =SUMIFS(FMZINp4_laika_grafiks!$K$94:$K$228,FMZINp4_laika_grafiks!#REF!,'GRAFIKI II'!A38) -> #REF!
A39: 2024 III | B39: =C39/1000000 -> #REF! | C39: =SUMIFS(FMZINp4_laika_grafiks!$K$94:$K$228,FMZINp4_laika_grafiks!#REF!,A39) -> #REF! | D39: =B39-H39 -> #REF! | E39: =F39/1000000 -> #REF! | F39: =SUMIFS(FMZINp4_laika_grafiks!$K$94:$K$228,FMZINp4_laika_grafiks!#REF!,A39) -> #REF! | H39: =(I39/1000000) -> #REF! | I39: =SUMIFS(FMZINp4_laika_grafiks!$K$94:$K$228,FMZINp4_laika_grafiks!#REF!,'GRAFIKI II'!A39) -> #REF! | J39: =(K39/1000000) -> #REF! | K39: =SUMIFS(FMZINp4_laika_grafiks!$K$94:$K$228,FMZINp4_laika_grafiks!#REF!,'GRAFIKI II'!A39) -> #REF!
A40: 2024 IV | B40: =C40/1000000 -> #REF! | C40: =SUMIFS(FMZINp4_laika_grafiks!$K$94:$K$228,FMZINp4_laika_grafiks!#REF!,A40) -> #REF! | D40: =B40-H40 -> #REF! | E40: =F40/1000000 -> #REF! | F40: =SUMIFS(FMZINp4_laika_grafiks!$K$94:$K$228,FMZINp4_laika_grafiks!#REF!,A40) -> #REF! | H40: =(I40/1000000) -> #REF! | I40: =SUMIFS(FMZINp4_laika_grafiks!$K$94:$K$228,FMZINp4_laika_grafiks!#REF!,'GRAFIKI II'!A40) -> #REF! | J40: =(K40/1000000) -> #REF! | K40: =SUMIFS(FMZINp4_laika_grafiks!$K$94:$K$228,FMZINp4_laika_grafiks!#REF!,'GRAFIKI II'!A40) -> #REF!
A41: 2025 I | B41: =C41/1000000 -> #REF! | C41: =SUMIFS(FMZINp4_laika_grafiks!$K$94:$K$228,FMZINp4_laika_grafiks!#REF!,A41) -> #REF! | D41: =B41-H41 -> #REF! | E41: =F41/1000000 -> #REF! | F41: =SUMIFS(FMZINp4_laika_grafiks!$K$94:$K$228,FMZINp4_laika_grafiks!#REF!,A41) -> #REF! | H41: =(I41/1000000) -> #REF! | I41: =SUMIFS(FMZINp4_laika_grafiks!$K$94:$K$228,FMZINp4_laika_grafiks!#REF!,'GRAFIKI II'!A41) -> #REF! | J41: =(K41/1000000) -> #REF! | K41: =SUMIFS(FMZINp4_laika_grafiks!$K$94:$K$228,FMZINp4_laika_grafiks!#REF!,'GRAFIKI II'!A41) -> #REF!
A42: 2025 II | B42: =C42/1000000 -> #REF! | C42: =SUMIFS(FMZINp4_laika_grafiks!$K$94:$K$228,FMZINp4_laika_grafiks!#REF!,A42) -> #REF! | D42: =B42-H42 -> #REF! | E42: =F42/1000000 -> #REF! | F42: =SUMIFS(FMZINp4_laika_grafiks!$K$94:$K$228,FMZINp4_laika_grafiks!#REF!,A42) -> #REF! | H42: =(I42/1000000) -> #REF! | I42: =SUMIFS(FMZINp4_laika_grafiks!$K$94:$K$228,FMZINp4_laika_grafiks!#REF!,'GRAFIKI II'!A42) -> #REF! | J42: =(K42/1000000) -> #REF! | K42: =SUMIFS(FMZINp4_laika_grafiks!$K$94:$K$228,FMZINp4_laika_grafiks!#REF!,'GRAFIKI II'!A42) -> #REF!
A43: 2025 III | B43: =C43/1000000 -> #REF! | C43: =SUMIFS(FMZINp4_laika_grafiks!$K$94:$K$228,FMZINp4_laika_grafiks!#REF!,A43) -> #REF! | D43: =B43-H43 -> #REF! | E43: =F43/1000000 -> #REF! | F43: =SUMIFS(FMZINp4_laika_grafiks!$K$94:$K$228,FMZINp4_laika_grafiks!#REF!,A43) -> #REF! | H43: =(I43/1000000) -> #REF! | I43: =SUMIFS(FMZINp4_laika_grafiks!$K$94:$K$228,FMZINp4_laika_grafiks!#REF!,'GRAFIKI II'!A43) -> #REF! | J43: =(K43/1000000) -> #REF! | K43: =SUMIFS(FMZINp4_laika_grafiks!$K$94:$K$228,FMZINp4_laika_grafiks!#REF!,'GRAFIKI II'!A43) -> #REF!
A44: 2025 IV | B44: =C44/1000000 -> #REF! | C44: =SUMIFS(FMZINp4_laika_grafiks!$K$94:$K$228,FMZINp4_laika_grafiks!#REF!,A44) -> #REF! | D44: =B44-H44 -> #REF! | E44: =F44/1000000 -> #REF! | F44: =SUMIFS(FMZINp4_laika_grafiks!$K$94:$K$228,FMZINp4_laika_grafiks!#REF!,A44) -> #REF! | H44: =(I44/1000000) -> #REF! | I44: =SUMIFS(FMZINp4_laika_grafiks!$K$94:$K$228,FMZINp4_laika_grafiks!#REF!,'GRAFIKI II'!A44) -> #REF! | J44: =(K44/1000000) -> #REF! | K44: =SUMIFS(FMZINp4_laika_grafiks!$K$94:$K$228,FMZINp4_laika_grafiks!#REF!,'GRAFIKI II'!A44) -> #REF!
... A53: 2027 IV | B53: =C53/1000000 -> #REF! | C53: =SUMIFS(FMZINp4_laika_grafiks!$K$94:$K$228,FMZINp4_laika_grafiks!#REF!,A53) -> #REF! | D53: =B53-H53 -> #REF! | E53: =F53/1000000 -> #REF! | F53: =SUMIFS(FMZINp4_laika_grafiks!$K$94:$K$228,FMZINp4_laika_grafiks!#REF!,A53) -> #REF! | H53: =(I53/1000000) -> #REF! | I53: =SUMIFS(FMZINp4_laika_grafiks!$K$94:$K$228,FMZINp4_laika_grafiks!#REF!,'GRAFIKI II'!A53) -> #REF! | J53: =(K53/1000000) -> #REF! | K53: =SUMIFS(FMZINp4_laika_grafiks!$K$94:$K$228,FMZINp4_laika_grafiks!#REF!,'GRAFIKI II'!A53) -> #REF!
A54: Kopā | B54: =SUM(B32:B53) -> #REF! | C54: =SUM(C32:C53) -> #REF! | D54: =SUM(D32:D53) -> #REF! | E54: =SUM(E32:E53) -> #REF! | F54: =SUM(F32:F53) -> #REF! | G54: =SUM(G32:G53) -> 0 | H54: =SUM(H32:H53) -> #REF! | I54: =SUM(I32:I53) -> #REF! | ... K54: =SUM(K32:K53) -> #REF!
C55: =C26=C54 -> #REF!
A58: KUMULATĪVI
AC59: Laika grafiks uz 25.04.2023.
B60: MK noteikumu finansējums pa ministrijām kumulatīvi, milj. EUR | AB60: MK noteikumu finansējums pa ministrijām kumulatīvi uz 25.04.2023., milj. EUR
B61: SM | C61: NOBĪDE | D61: EM | E61: NOBĪDE | F61: VARAM | G61: NOBĪDE | H61: IZM | I61: NOBĪDE | J61: VM | K61: NOBĪDE | L61: LM | M61: NOBĪDE | N61: KM | O61: NOBĪDE | P61: FM | Q61: NOBĪDE | R61: VK | S61: NOBĪDE | T61: IeM | U61: NOBĪDE | V61: TM | W61: NOBĪDE | X61: KEM | Y61: NOBĪDE | Z61: VARAM izpilde | AA61: LM izpilde | AC61: SM | AD61: EM | AE61: VARAM | AF61: IZM | AG61: VM | AH61: LM | AI61: KM | AJ61: FM | AK61: VK | AL61: IeM | AM61: TM | AN61: KEM | AR61: SM plāns | AS61: SM izpilde | AT61: EM plāns | AU61: EM izpilde | AV61: VARAM plāns | AW61: VARAM izpilde | AX61: IZM plāns | AY61: IZM izpilde | AZ61: VM plāns | BA61: VM izpilde | BB61: LM plāns | BC61: LM izpilde | BD61: KM plāns | BE61: KM izpilde | BF61: FM plāns | BG61: FM izpilde | BH61: VK plāns | BI61: VK izpilde | BJ61: IeM plāns | BK61: IeM izpilde | BL61: TM plāns | BM61: TM izpilde | BN61: KEM plāns | BO61: KEM izpilde
A62: 2022 IV | B62: 0 | C62: =B62-AC62 -> #REF! | D62: 0 | E62: =D62-AD62 -> #REF! | F62: 0 | G62: =F62-AE62 -> #REF! | H62: 0 | I62: =H62-AF62 -> #REF! | J62: 0 | K62: =J62-AG62 -> #REF! | L62: 0 | M62: =L62-AH62 -> #REF! | N62: 0 | O62: =(N62-AI62) -> #REF! | P62: 0 | Q62: =(P62-AJ62) -> #REF! | R62: 0 | S62: =(R62-AK62) -> #REF! | T62: 0 | U62: =(T62-AL62) -> #REF! | V62: 0 | W62: =(V62-AM62) -> #REF! | X62: 0 | Y62: =(X62-AN62) -> #REF! | AB62: 2022 IV | AC62: =(SUMIFS(FMZINp4_laika_grafiks!$K$94:$K$228,FMZINp4_laika_grafiks!#REF!,'GRAFIKI II'!$AB62,FMZINp4_laika_grafiks!$M$94:$M$228,'GRAFIKI II'!AC$61)/1000000) -> #REF! | AD62: =(SUMIFS(FMZINp4_laika_grafiks!$K$94:$K$228,FMZINp4_laika_grafiks!#REF!,'GRAFIKI II'!$AB62,FMZINp4_laika_grafiks!$M$94:$M$228,'GRAFIKI II'!AD$61)/1000000) -> #REF! | AE62: =(SUMIFS(FMZINp4_laika_grafiks!$K$94:$K$228,FMZINp4_laika_grafiks!#REF!,'GRAFIKI II'!$AB62,FMZINp4_laika_grafiks!$M$94:$M$228,'GRAFIKI II'!AE$61)/1000000) -> #REF! | AF62: =(SUMIFS(FMZINp4_laika_grafiks!$K$94:$K$228,FMZINp4_laika_grafiks!#REF!,'GRAFIKI II'!$AB62,FMZINp4_laika_grafiks!$M$94:$M$228,'GRAFIKI II'!AF$61)/1000000) -> #REF! | AG62: =(SUMIFS(FMZINp4_laika_grafiks!$K$94:$K$228,FMZINp4_laika_grafiks!#REF!,'GRAFIKI II'!$AB62,FMZINp4_laika_grafiks!$M$94:$M$228,'GRAFIKI II'!AG$61)/1000000) -> #REF! | AH62: =(SUMIFS(FMZINp4_laika_grafiks!$K$94:$K$228,FMZINp4_laika_grafiks!#REF!,'GRAFIKI II'!$AB62,FMZINp4_laika_grafiks!$M$94:$M$228,'GRAFIKI II'!AH$61)/1000000) -> #REF! | AI62: =(SUMIFS(FMZINp4_laika_grafiks!$K$94:$K$228,FMZINp4_laika_grafiks!#REF!,'GRAFIKI II'!$AB62,FMZINp4_laika_grafiks!$M$94:$M$228,'GRAFIKI II'!AI$61)/1000000) -> #REF! | AJ62: =(SUMIFS(FMZINp4_laika_grafiks!$K$94:$K$228,FMZINp4_laika_grafiks!#REF!,'GRAFIKI II'!$AB62,FMZINp4_laika_grafiks!$M$94:$M$228,'GRAFIKI II'!AJ$61)/1000000) -> #REF! | ... AN62: =(SUMIFS(FMZINp4_laika_grafiks!$K$94:$K$228,FMZINp4_laika_grafiks!#REF!,'GRAFIKI II'!$AB62,FMZINp4_laika_grafiks!$M$94:$M$228,'GRAFIKI II'!AN$61)/1000000) -> #REF! | AQ62: 2023 I | AR62: =AC63 -> #REF! | AS62: =B63 -> #REF! | AT62: =AD63 -> #REF! | AU62: =D63 -> #REF! | AV62: =AE63 -> #REF! | AW62: =F63 -> #REF! | AX62: =AF63 -> #REF! | AY62: =H63 -> #REF! | AZ62: =AG63 -> #REF! | BA62: =J63 -> #REF! | BB62: =AH63 -> #REF! | BC62: =L63 -> #REF! | BD62: =AI63 -> #REF! | BE62: =N63 -> #REF! | BF62: =AJ63 -> #REF! | BG62: =P63 -> #REF! | BH62: =AK63 -> #REF! | BI62: =R63 -> #REF! | BJ62: =AL63 -> #REF! | BK62: =T63 -> #REF! | BL62: =AM63 -> #REF! | BM62: =V63 -> #REF! | BN62: =AN63 -> #REF! | BO62: =X63 -> #REF!
A63: 2023 I | B63: =(SUMIFS(FMZINp4_laika_grafiks!$K$94:$K$228,FMZINp4_laika_grafiks!#REF!,$A63,FMZINp4_laika_grafiks!$M$94:$M$228,B$61))/1000000 -> #REF! | C63: =(B63-AC63)+C62 -> #REF! | D63: =(SUMIFS(FMZINp4_laika_grafiks!$K$94:$K$228,FMZINp4_laika_grafiks!#REF!,$A63,FMZINp4_laika_grafiks!$M$94:$M$228,D$61))/1000000 -> #REF! | E63: =(D63-AD63)+E62 -> #REF! | F63: =(SUMIFS(FMZINp4_laika_grafiks!$K$94:$K$228,FMZINp4_laika_grafiks!#REF!,$A63,FMZINp4_laika_grafiks!$M$94:$M$228,F$61))/1000000 -> #REF! | G63: =(F63-AE63)+G62 -> #REF! | H63: =(SUMIFS(FMZINp4_laika_grafiks!$K$94:$K$228,FMZINp4_laika_grafiks!#REF!,$A63,FMZINp4_laika_grafiks!$M$94:$M$228,H$61))/1000000 -> #REF! | I63: =(H63-AF63)+I62 -> #REF! | J63: =(SUMIFS(FMZINp4_laika_grafiks!$K$94:$K$228,FMZINp4_laika_grafiks!#REF!,$A63,FMZINp4_laika_grafiks!$M$94:$M$228,J$61))/1000000 -> #REF! | K63: =(J63-AG63)+K62 -> #REF! | L63: =(SUMIFS(FMZINp4_laika_grafiks!$K$94:$K$228,FMZINp4_laika_grafiks!#REF!,$A63,FMZINp4_laika_grafiks!$M$94:$M$228,L$61))/1000000 -> #REF! | M63: =(L63-AH63)+M62 -> #REF! | N63: =(SUMIFS(FMZINp4_laika_grafiks!$K$94:$K$228,FMZINp4_laika_grafiks!#REF!,$A63,FMZINp4_laika_grafiks!$M$94:$M$228,N$61))/1000000 -> #REF! | O63: =(N63-AI63)+O62 -> #REF! | P63: =(SUMIFS(FMZINp4_laika_grafiks!$K$94:$K$228,FMZINp4_laika_grafiks!#REF!,$A63,FMZINp4_laika_grafiks!$M$94:$M$228,P$61))/1000000 -> #REF! | Q63: =(P63-AJ63)+Q62 -> #REF! | R63: =(SUMIFS(FMZINp4_laika_grafiks!$K$94:$K$228,FMZINp4_laika_grafiks!#REF!,$A63,FMZINp4_laika_grafiks!$M$94:$M$228,R$61))/1000000 -> #REF! | S63: =(R63-AK63)+S62 -> #REF! | T63: =(SUMIFS(FMZINp4_laika_grafiks!$K$94:$K$228,FMZINp4_laika_grafiks!#REF!,$A63,FMZINp4_laika_grafiks!$M$94:$M$228,T$61))/1000000 -> #REF! | U63: =(T63-AL63)+U62 -> #REF! | V63: =(SUMIFS(FMZINp4_laika_grafiks!$K$94:$K$228,FMZINp4_laika_grafiks!#REF!,$A63,FMZINp4_laika_grafiks!$M$94:$M$228,V$61))/1000000 -> #REF! | W63: =(V63-AM63)+W62 -> #REF! | X63: =(SUMIFS(FMZINp4_laika_grafiks!$K$94:$K$228,FMZINp4_laika_grafiks!#REF!,$A63,FMZINp4_laika_grafiks!$M$94:$M$228,X$61))/1000000 -> #REF! | Y63: =(X63-AN63)+Y62 -> #REF! | Z63: =F63 -> #REF! | AB63: 2023 I | AC63: =(SUMIFS(FMZINp4_laika_grafiks!$K$94:$K$228,FMZINp4_laika_grafiks!#REF!,'GRAFIKI II'!$AB63,FMZINp4_laika_grafiks!$M$94:$M$228,'GRAFIKI II'!AC$61)/1000000)+AC62 -> #REF! | AD63: =(SUMIFS(FMZINp4_laika_grafiks!$K$94:$K$228,FMZINp4_laika_grafiks!#REF!,'GRAFIKI II'!$AB63,FMZINp4_laika_grafiks!$M$94:$M$228,'GRAFIKI II'!AD$61)/1000000)+AD62 -> #REF! | AE63: =(SUMIFS(FMZINp4_laika_grafiks!$K$94:$K$228,FMZINp4_laika_grafiks!#REF!,'GRAFIKI II'!$AB63,FMZINp4_laika_grafiks!$M$94:$M$228,'GRAFIKI II'!AE$61)/1000000)+AE62 -> #REF! | AF63: =(SUMIFS(FMZINp4_laika_grafiks!$K$94:$K$228,FMZINp4_laika_grafiks!#REF!,'GRAFIKI II'!$AB63,FMZINp4_laika_grafiks!$M$94:$M$228,'GRAFIKI II'!AF$61)/1000000)+AF62 -> #REF! | AG63: =(SUMIFS(FMZINp4_laika_grafiks!$K$94:$K$228,FMZINp4_laika_grafiks!#REF!,'GRAFIKI II'!$AB63,FMZINp4_laika_grafiks!$M$94:$M$228,'GRAFIKI II'!AG$61)/1000000)+AG62 -> #REF! | AH63: =(SUMIFS(FMZINp4_laika_grafiks!$K$94:$K$228,FMZINp4_laika_grafiks!#REF!,'GRAFIKI II'!$AB63,FMZINp4_laika_grafiks!$M$94:$M$228,'GRAFIKI II'!AH$61)/1000000)+AH62 -> #REF! | AI63: =(SUMIFS(FMZINp4_laika_grafiks!$K$94:$K$228,FMZINp4_laika_grafiks!#REF!,'GRAFIKI II'!$AB63,FMZINp4_laika_grafiks!$M$94:$M$228,'GRAFIKI II'!AI$61)/1000000)+AI62 -> #REF! | AJ63: =(SUMIFS(FMZINp4_laika_grafiks!$K$94:$K$228,FMZINp4_laika_grafiks!#REF!,'GRAFIKI II'!$AB63,FMZINp4_laika_grafiks!$M$94:$M$228,'GRAFIKI II'!AJ$61)/1000000)+AJ62 -> #REF! | ... AN63: =(SUMIFS(FMZINp4_laika_grafiks!$K$94:$K$228,FMZINp4_laika_grafiks!#REF!,'GRAFIKI II'!$AB63,FMZINp4_laika_grafiks!$M$94:$M$228,'GRAFIKI II'!AN$61)/1000000)+AN62 -> #REF! | AQ63: 2023 II | AR63: =AC64 -> #REF! | AS63: =B64 -> #REF! | AT63: =AD64 -> #REF! | AU63: =D64 -> #REF! | AV63: =AE64 -> #REF! | AW63: =F64 -> #REF! | AX63: =AF64 -> #REF! | AY63: =H64 -> #REF! | AZ63: =AG64 -> #REF! | BA63: =J64 -> #REF! | BB63: =AH64 -> #REF! | BC63: =L64 -> #REF! | BD63: =AI64 -> #REF! | BE63: =N64 -> #REF! | BF63: =AJ64 -> #REF! | BG63: =P64 -> #REF! | BH63: =AK64 -> #REF! | BI63: =R64 -> #REF! | BJ63: =AL64 -> #REF! | BK63: =T64 -> #REF! | BL63: =AM64 -> #REF! | BM63: =V64 -> #REF! | BN63: =AN64 -> #REF! | BO63: =X64 -> #REF!
A64: 2023 II | B64: =(SUMIFS(FMZINp4_laika_grafiks!$K$94:$K$228,FMZINp4_laika_grafiks!#REF!,$A64,FMZINp4_laika_grafiks!$M$94:$M$228,B$61))/1000000+B63 -> #REF! | C64: =(B64-AC64)+C63 -> #REF! | D64: =(SUMIFS(FMZINp4_laika_grafiks!$K$94:$K$228,FMZINp4_laika_grafiks!#REF!,$A64,FMZINp4_laika_grafiks!$M$94:$M$228,D$61))/1000000+D63 -> #REF! | E64: =(D64-AD64)+E63 -> #REF! | F64: =(SUMIFS(FMZINp4_laika_grafiks!$K$94:$K$228,FMZINp4_laika_grafiks!#REF!,$A64,FMZINp4_laika_grafiks!$M$94:$M$228,F$61))/1000000+F63 -> #REF! | G64: =(F64-AE64)+G63 -> #REF! | H64: =(SUMIFS(FMZINp4_laika_grafiks!$K$94:$K$228,FMZINp4_laika_grafiks!#REF!,$A64,FMZINp4_laika_grafiks!$M$94:$M$228,H$61))/1000000+H63 -> #REF! | I64: =(H64-AF64)+I63 -> #REF! | J64: =(SUMIFS(FMZINp4_laika_grafiks!$K$94:$K$228,FMZINp4_laika_grafiks!#REF!,$A64,FMZINp4_laika_grafiks!$M$94:$M$228,J$61))/1000000+J63 -> #REF! | K64: =(J64-AG64)+K63 -> #REF! | L64: =(SUMIFS(FMZINp4_laika_grafiks!$K$94:$K$228,FMZINp4_laika_grafiks!#REF!,$A64,FMZINp4_laika_grafiks!$M$94:$M$228,L$61))/1000000+L63 -> #REF! | M64: =(L64-AH64)+M63 -> #REF! | N64: =(SUMIFS(FMZINp4_laika_grafiks!$K$94:$K$228,FMZINp4_laika_grafiks!#REF!,$A64,FMZINp4_laika_grafiks!$M$94:$M$228,N$61))/1000000+N63 -> #REF! | O64: =(N64-AI64)+O63 -> #REF! | P64: =(SUMIFS(FMZINp4_laika_grafiks!$K$94:$K$228,FMZINp4_laika_grafiks!#REF!,$A64,FMZINp4_laika_grafiks!$M$94:$M$228,P$61))/1000000+P63 -> #REF! | Q64: =(P64-AJ64)+Q63 -> #REF! | R64: =(SUMIFS(FMZINp4_laika_grafiks!$K$94:$K$228,FMZINp4_laika_grafiks!#REF!,$A64,FMZINp4_laika_grafiks!$M$94:$M$228,R$61))/1000000+R63 -> #REF! | S64: =(R64-AK64)+S63 -> #REF! | T64: =(SUMIFS(FMZINp4_laika_grafiks!$K$94:$K$228,FMZINp4_laika_grafiks!#REF!,$A64,FMZINp4_laika_grafiks!$M$94:$M$228,T$61))/1000000+T63 -> #REF! | U64: =(T64-AL64)+U63 -> #REF! | V64: =(SUMIFS(FMZINp4_laika_grafiks!$K$94:$K$228,FMZINp4_laika_grafiks!#REF!,$A64,FMZINp4_laika_grafiks!$M$94:$M$228,V$61))/1000000+V63 -> #REF! | W64: =(V64-AM64)+W63 -> #REF! | X64: =(SUMIFS(FMZINp4_laika_grafiks!$K$94:$K$228,FMZINp4_laika_grafiks!#REF!,$A64,FMZINp4_laika_grafiks!$M$94:$M$228,X$61))/1000000+X63 -> #REF! | Y64: =(X64-AN64)+Y63 -> #REF! | Z64: =103854727/1000000 -> 103.85473 | AA64: =4350000/1000000 -> 4.35 | AB64: 2023 II | AC64: =(SUMIFS(FMZINp4_laika_grafiks!$K$94:$K$228,FMZINp4_laika_grafiks!#REF!,'GRAFIKI II'!$AB64,FMZINp4_laika_grafiks!$M$94:$M$228,'GRAFIKI II'!AC$61)/1000000)+AC63 -> #REF! | AD64: =(SUMIFS(FMZINp4_laika_grafiks!$K$94:$K$228,FMZINp4_laika_grafiks!#REF!,'GRAFIKI II'!$AB64,FMZINp4_laika_grafiks!$M$94:$M$228,'GRAFIKI II'!AD$61)/1000000)+AD63 -> #REF! | AE64: =(SUMIFS(FMZINp4_laika_grafiks!$K$94:$K$228,FMZINp4_laika_grafiks!#REF!,'GRAFIKI II'!$AB64,FMZINp4_laika_grafiks!$M$94:$M$228,'GRAFIKI II'!AE$61)/1000000)+AE63 -> #REF! | AF64: =(SUMIFS(FMZINp4_laika_grafiks!$K$94:$K$228,FMZINp4_laika_grafiks!#REF!,'GRAFIKI II'!$AB64,FMZINp4_laika_grafiks!$M$94:$M$228,'GRAFIKI II'!AF$61)/1000000)+AF63 -> #REF! | AG64: =(SUMIFS(FMZINp4_laika_grafiks!$K$94:$K$228,FMZINp4_laika_grafiks!#REF!,'GRAFIKI II'!$AB64,FMZINp4_laika_grafiks!$M$94:$M$228,'GRAFIKI II'!AG$61)/1000000)+AG63 -> #REF! | AH64: =(SUMIFS(FMZINp4_laika_grafiks!$K$94:$K$228,FMZINp4_laika_grafiks!#REF!,'GRAFIKI II'!$AB64,FMZINp4_laika_grafiks!$M$94:$M$228,'GRAFIKI II'!AH$61)/1000000)+AH63 -> #REF! | AI64: =(SUMIFS(FMZINp4_laika_grafiks!$K$94:$K$228,FMZINp4_laika_grafiks!#REF!,'GRAFIKI II'!$AB64,FMZINp4_laika_grafiks!$M$94:$M$228,'GRAFIKI II'!AI$61)/1000000)+AI63 -> #REF! | AJ64: =(SUMIFS(FMZINp4_laika_grafiks!$K$94:$K$228,FMZINp4_laika_grafiks!#REF!,'GRAFIKI II'!$AB64,FMZINp4_laika_grafiks!$M$94:$M$228,'GRAFIKI II'!AJ$61)/1000000)+AJ63 -> #REF! | ... AN64: =(SUMIFS(FMZINp4_laika_grafiks!$K$94:$K$228,FMZINp4_laika_grafiks!#REF!,'GRAFIKI II'!$AB64,FMZINp4_laika_grafiks!$M$94:$M$228,'GRAFIKI II'!AN$61)/1000000)+AN63 -> #REF! | AQ64: 2023 III | AR64: =AC65 -> #REF! | AS64: =B65 -> #REF! | AT64: =AD65 -> #REF! | AU64: =D65 -> #REF! | AV64: =AE65 -> #REF! | AW64: =F65 -> #REF! | AX64: =AF65 -> #REF! | AY64: =H65 -> #REF! | AZ64: =AG65 -> #REF! | BA64: =J65 -> #REF! | BB64: =AH65 -> #REF! | BC64: =L65 -> #REF! | BD64: =AI65 -> #REF! | BE64: =N65 -> #REF! | BF64: =AJ65 -> #REF! | BG64: =P65 -> #REF! | BH64: =AK65 -> #REF! | BI64: =R65 -> #REF! | BJ64: =AL65 -> #REF! | BK64: =T65 -> #REF! | BL64: =AM65 -> #REF! | BM64: =V65 -> #REF! | BN64: =AN65 -> #REF! | BO64: =X65 -> #REF!
A65: 2023 III | B65: =(SUMIFS(FMZINp4_laika_grafiks!$K$94:$K$228,FMZINp4_laika_grafiks!#REF!,$A65,FMZINp4_laika_grafiks!$M$94:$M$228,B$61))/1000000+B64 -> #REF! | C65: =(B65-AC65)+C64 -> #REF! | D65: =(SUMIFS(FMZINp4_laika_grafiks!$K$94:$K$228,FMZINp4_laika_grafiks!#REF!,$A65,FMZINp4_laika_grafiks!$M$94:$M$228,D$61))/1000000+D64 -> #REF! | E65: =(D65-AD65)+E64 -> #REF! | F65: =(SUMIFS(FMZINp4_laika_grafiks!$K$94:$K$228,FMZINp4_laika_grafiks!#REF!,$A65,FMZINp4_laika_grafiks!$M$94:$M$228,F$61))/1000000+F64 -> #REF! | G65: =(F65-AE65)+G64 -> #REF! | H65: =(SUMIFS(FMZINp4_laika_grafiks!$K$94:$K$228,FMZINp4_laika_grafiks!#REF!,$A65,FMZINp4_laika_grafiks!$M$94:$M$228,H$61))/1000000+H64 -> #REF! | I65: =(H65-AF65)+I64 -> #REF! | J65: =(SUMIFS(FMZINp4_laika_grafiks!$K$94:$K$228,FMZINp4_laika_grafiks!#REF!,$A65,FMZINp4_laika_grafiks!$M$94:$M$228,J$61))/1000000+J64 -> #REF! | K65: =(J65-AG65)+K64 -> #REF! | L65: =(SUMIFS(FMZINp4_laika_grafiks!$K$94:$K$228,FMZINp4_laika_grafiks!#REF!,$A65,FMZINp4_laika_grafiks!$M$94:$M$228,L$61))/1000000+L64 -> #REF! | M65: =(L65-AH65)+M64 -> #REF! | N65: =(SUMIFS(FMZINp4_laika_grafiks!$K$94:$K$228,FMZINp4_laika_grafiks!#REF!,$A65,FMZINp4_laika_grafiks!$M$94:$M$228,N$61))/1000000+N64 -> #REF! | O65: =(N65-AI65)+O64 -> #REF! | P65: =(SUMIFS(FMZINp4_laika_grafiks!$K$94:$K$228,FMZINp4_laika_grafiks!#REF!,$A65,FMZINp4_laika_grafiks!$M$94:$M$228,P$61))/1000000+P64 -> #REF! | Q65: =(P65-AJ65)+Q64 -> #REF! | R65: =(SUMIFS(FMZINp4_laika_grafiks!$K$94:$K$228,FMZINp4_laika_grafiks!#REF!,$A65,FMZINp4_laika_grafiks!$M$94:$M$228,R$61))/1000000+R64 -> #REF! | S65: =(R65-AK65)+S64 -> #REF! | T65: =(SUMIFS(FMZINp4_laika_grafiks!$K$94:$K$228,FMZINp4_laika_grafiks!#REF!,$A65,FMZINp4_laika_grafiks!$M$94:$M$228,T$61))/1000000+T64 -> #REF! | U65: =(T65-AL65)+U64 -> #REF! | V65: =(SUMIFS(FMZINp4_laika_grafiks!$K$94:$K$228,FMZINp4_laika_grafiks!#REF!,$A65,FMZINp4_laika_grafiks!$M$94:$M$228,V$61))/1000000+V64 -> #REF! | W65: =(V65-AM65)+W64 -> #REF! | X65: =(SUMIFS(FMZINp4_laika_grafiks!$K$94:$K$228,FMZINp4_laika_grafiks!#REF!,$A65,FMZINp4_laika_grafiks!$M$94:$M$228,X$61))/1000000+X64 -> #REF! | Y65: =(X65-AN65)+Y64 -> #REF! | AB65: 2023 III | AC65: =(SUMIFS(FMZINp4_laika_grafiks!$K$94:$K$228,FMZINp4_laika_grafiks!#REF!,'GRAFIKI II'!$AB65,FMZINp4_laika_grafiks!$M$94:$M$228,'GRAFIKI II'!AC$61)/1000000)+AC64 -> #REF! | AD65: =(SUMIFS(FMZINp4_laika_grafiks!$K$94:$K$228,FMZINp4_laika_grafiks!#REF!,'GRAFIKI II'!$AB65,FMZINp4_laika_grafiks!$M$94:$M$228,'GRAFIKI II'!AD$61)/1000000)+AD64 -> #REF! | AE65: =(SUMIFS(FMZINp4_laika_grafiks!$K$94:$K$228,FMZINp4_laika_grafiks!#REF!,'GRAFIKI II'!$AB65,FMZINp4_laika_grafiks!$M$94:$M$228,'GRAFIKI II'!AE$61)/1000000)+AE64 -> #REF! | AF65: =(SUMIFS(FMZINp4_laika_grafiks!$K$94:$K$228,FMZINp4_laika_grafiks!#REF!,'GRAFIKI II'!$AB65,FMZINp4_laika_grafiks!$M$94:$M$228,'GRAFIKI II'!AF$61)/1000000)+AF64 -> #REF! | AG65: =(SUMIFS(FMZINp4_laika_grafiks!$K$94:$K$228,FMZINp4_laika_grafiks!#REF!,'GRAFIKI II'!$AB65,FMZINp4_laika_grafiks!$M$94:$M$228,'GRAFIKI II'!AG$61)/1000000)+AG64 -> #REF! | AH65: =(SUMIFS(FMZINp4_laika_grafiks!$K$94:$K$228,FMZINp4_laika_grafiks!#REF!,'GRAFIKI II'!$AB65,FMZINp4_laika_grafiks!$M$94:$M$228,'GRAFIKI II'!AH$61)/1000000)+AH64 -> #REF! | AI65: =(SUMIFS(FMZINp4_laika_grafiks!$K$94:$K$228,FMZINp4_laika_grafiks!#REF!,'GRAFIKI II'!$AB65,FMZINp4_laika_grafiks!$M$94:$M$228,'GRAFIKI II'!AI$61)/1000000)+AI64 -> #REF! | AJ65: =(SUMIFS(FMZINp4_laika_grafiks!$K$94:$K$228,FMZINp4_laika_grafiks!#REF!,'GRAFIKI II'!$AB65,FMZINp4_laika_grafiks!$M$94:$M$228,'GRAFIKI II'!AJ$61)/1000000)+AJ64 -> #REF! | ... AM65: =(SUMIFS(FMZINp4_laika_grafiks!$K$94:$K$228,FMZINp4_laika_grafiks!#REF!,'GRAFIKI II'!$AB65,FMZINp4_laika_grafiks!$M$94:$M$228,'GRAFIKI II'!AM$61)/1000000)+AM64 -> #REF! | AN65: =X65 -> #REF! | AQ65: 2023 IV | AR65: =AC66 -> #REF! | AS65: =B66 -> #REF! | AT65: =AD66 -> #REF! | AU65: =D66 -> #REF! | AV65: =AE66 -> #REF! | AW65: =F66 -> #REF! | AX65: =AF66 -> #REF! | AY65: =H66 -> #REF! | AZ65: =AG66 -> #REF! | BA65: =J66 -> #REF! | BB65: =AH66 -> #REF! | BC65: =L66 -> #REF! | BD65: =AI66 -> #REF! | BE65: =N66 -> #REF! | BF65: =AJ66 -> #REF! | BG65: =P66 -> #REF! | BH65: =AK66 -> #REF! | BI65: =R66 -> #REF! | BJ65: =AL66 -> #REF! | BK65: =T66 -> #REF! | BL65: =AM66 -> #REF! | BM65: =V66 -> #REF! | BN65: =AN66 -> #REF! | BO65: =X66 -> #REF!
A66: 2023 IV | B66: =(SUMIFS(FMZINp4_laika_grafiks!$K$94:$K$228,FMZINp4_laika_grafiks!#REF!,$A66,FMZINp4_laika_grafiks!$M$94:$M$228,B$61))/1000000+B65 -> #REF! | C66: =(B66-AC66)+C65 -> #REF! | D66: =(SUMIFS(FMZINp4_laika_grafiks!$K$94:$K$228,FMZINp4_laika_grafiks!#REF!,$A66,FMZINp4_laika_grafiks!$M$94:$M$228,D$61))/1000000+D65 -> #REF! | E66: =(D66-AD66)+E65 -> #REF! | F66: =(SUMIFS(FMZINp4_laika_grafiks!$K$94:$K$228,FMZINp4_laika_grafiks!#REF!,$A66,FMZINp4_laika_grafiks!$M$94:$M$228,F$61))/1000000+F65 -> #REF! | G66: =(F66-AE66)+G65 -> #REF! | H66: =(SUMIFS(FMZINp4_laika_grafiks!$K$94:$K$228,FMZINp4_laika_grafiks!#REF!,$A66,FMZINp4_laika_grafiks!$M$94:$M$228,H$61))/1000000+H65 -> #REF! | I66: =(H66-AF66)+I65 -> #REF! | J66: =(SUMIFS(FMZINp4_laika_grafiks!$K$94:$K$228,FMZINp4_laika_grafiks!#REF!,$A66,FMZINp4_laika_grafiks!$M$94:$M$228,J$61))/1000000+J65 -> #REF! | K66: =(J66-AG66)+K65 -> #REF! | L66: =(SUMIFS(FMZINp4_laika_grafiks!$K$94:$K$228,FMZINp4_laika_grafiks!#REF!,$A66,FMZINp4_laika_grafiks!$M$94:$M$228,L$61))/1000000+L65 -> #REF! | M66: =(L66-AH66)+M65 -> #REF! | N66: =(SUMIFS(FMZINp4_laika_grafiks!$K$94:$K$228,FMZINp4_laika_grafiks!#REF!,$A66,FMZINp4_laika_grafiks!$M$94:$M$228,N$61))/1000000+N65 -> #REF! | O66: =(N66-AI66)+O65 -> #REF! | P66: =(SUMIFS(FMZINp4_laika_grafiks!$K$94:$K$228,FMZINp4_laika_grafiks!#REF!,$A66,FMZINp4_laika_grafiks!$M$94:$M$228,P$61))/1000000+P65 -> #REF! | Q66: =(P66-AJ66)+Q65 -> #REF! | R66: =(SUMIFS(FMZINp4_laika_grafiks!$K$94:$K$228,FMZINp4_laika_grafiks!#REF!,$A66,FMZINp4_laika_grafiks!$M$94:$M$228,R$61))/1000000+R65 -> #REF! | S66: =(R66-AK66)+S65 -> #REF! | T66: =(SUMIFS(FMZINp4_laika_grafiks!$K$94:$K$228,FMZINp4_laika_grafiks!#REF!,$A66,FMZINp4_laika_grafiks!$M$94:$M$228,T$61))/1000000+T65 -> #REF! | U66: =(T66-AL66)+U65 -> #REF! | V66: =(SUMIFS(FMZINp4_laika_grafiks!$K$94:$K$228,FMZINp4_laika_grafiks!#REF!,$A66,FMZINp4_laika_grafiks!$M$94:$M$228,V$61))/1000000+V65 -> #REF! | W66: =(V66-AM66)+W65 -> #REF! | X66: =(SUMIFS(FMZINp4_laika_grafiks!$K$94:$K$228,FMZINp4_laika_grafiks!#REF!,$A66,FMZINp4_laika_grafiks!$M$94:$M$228,X$61))/1000000+X65 -> #REF! | Y66: =(X66-AN66)+Y65 -> #REF! | AB66: 2023 IV | AC66: =(SUMIFS(FMZINp4_laika_grafiks!$K$94:$K$228,FMZINp4_laika_grafiks!#REF!,'GRAFIKI II'!$AB66,FMZINp4_laika_grafiks!$M$94:$M$228,'GRAFIKI II'!AC$61)/1000000)+AC65 -> #REF! | AD66: =(SUMIFS(FMZINp4_laika_grafiks!$K$94:$K$228,FMZINp4_laika_grafiks!#REF!,'GRAFIKI II'!$AB66,FMZINp4_laika_grafiks!$M$94:$M$228,'GRAFIKI II'!AD$61)/1000000)+AD65 -> #REF! | AE66: =(SUMIFS(FMZINp4_laika_grafiks!$K$94:$K$228,FMZINp4_laika_grafiks!#REF!,'GRAFIKI II'!$AB66,FMZINp4_laika_grafiks!$M$94:$M$228,'GRAFIKI II'!AE$61)/1000000)+AE65 -> #REF! | AF66: =(SUMIFS(FMZINp4_laika_grafiks!$K$94:$K$228,FMZINp4_laika_grafiks!#REF!,'GRAFIKI II'!$AB66,FMZINp4_laika_grafiks!$M$94:$M$228,'GRAFIKI II'!AF$61)/1000000)+AF65 -> #REF! | AG66: =(SUMIFS(FMZINp4_laika_grafiks!$K$94:$K$228,FMZINp4_laika_grafiks!#REF!,'GRAFIKI II'!$AB66,FMZINp4_laika_grafiks!$M$94:$M$228,'GRAFIKI II'!AG$61)/1000000)+AG65 -> #REF! | AH66: =(SUMIFS(FMZINp4_laika_grafiks!$K$94:$K$228,FMZINp4_laika_grafiks!#REF!,'GRAFIKI II'!$AB66,FMZINp4_laika_grafiks!$M$94:$M$228,'GRAFIKI II'!AH$61)/1000000)+AH65 -> #REF! | AI66: =(SUMIFS(FMZINp4_laika_grafiks!$K$94:$K$228,FMZINp4_laika_grafiks!#REF!,'GRAFIKI II'!$AB66,FMZINp4_laika_grafiks!$M$94:$M$228,'GRAFIKI II'!AI$61)/1000000)+AI65 -> #REF! | AJ66: =(SUMIFS(FMZINp4_laika_grafiks!$K$94:$K$228,FMZINp4_laika_grafiks!#REF!,'GRAFIKI II'!$AB66,FMZINp4_laika_grafiks!$M$94:$M$228,'GRAFIKI II'!AJ$61)/1000000)+AJ65 -> #REF! | ... AN66: =(SUMIFS(FMZINp4_laika_grafiks!$K$94:$K$228,FMZINp4_laika_grafiks!#REF!,'GRAFIKI II'!$AB66,FMZINp4_laika_grafiks!$M$94:$M$228,'GRAFIKI II'!AN$61)/1000000)+AN65 -> #REF!
A67: 2024 I | B67: =(SUMIFS(FMZINp4_laika_grafiks!$K$94:$K$228,FMZINp4_laika_grafiks!#REF!,$A67,FMZINp4_laika_grafiks!$M$94:$M$228,B$61))/1000000+B66 -> #REF! | C67: =(B67-AC67)+C66 -> #REF! | D67: =(SUMIFS(FMZINp4_laika_grafiks!$K$94:$K$228,FMZINp4_laika_grafiks!#REF!,$A67,FMZINp4_laika_grafiks!$M$94:$M$228,D$61))/1000000+D66 -> #REF! | E67: =(D67-AD67)+E66 -> #REF! | F67: =(SUMIFS(FMZINp4_laika_grafiks!$K$94:$K$228,FMZINp4_laika_grafiks!#REF!,$A67,FMZINp4_laika_grafiks!$M$94:$M$228,F$61))/1000000+F66 -> #REF! | G67: =(F67-AE67)+G66 -> #REF! | H67: =(SUMIFS(FMZINp4_laika_grafiks!$K$94:$K$228,FMZINp4_laika_grafiks!#REF!,$A67,FMZINp4_laika_grafiks!$M$94:$M$228,H$61))/1000000+H66 -> #REF! | I67: =(H67-AF67)+I66 -> #REF! | J67: =(SUMIFS(FMZINp4_laika_grafiks!$K$94:$K$228,FMZINp4_laika_grafiks!#REF!,$A67,FMZINp4_laika_grafiks!$M$94:$M$228,J$61))/1000000+J66 -> #REF! | K67: =(J67-AG67)+K66 -> #REF! | L67: =(SUMIFS(FMZINp4_laika_grafiks!$K$94:$K$228,FMZINp4_laika_grafiks!#REF!,$A67,FMZINp4_laika_grafiks!$M$94:$M$228,L$61))/1000000+L66 -> #REF! | M67: =(L67-AH67)+M66 -> #REF! | N67: =(SUMIFS(FMZINp4_laika_grafiks!$K$94:$K$228,FMZINp4_laika_grafiks!#REF!,$A67,FMZINp4_laika_grafiks!$M$94:$M$228,N$61))/1000000+N66 -> #REF! | O67: =(N67-AI67)+O66 -> #REF! | P67: =(SUMIFS(FMZINp4_laika_grafiks!$K$94:$K$228,FMZINp4_laika_grafiks!#REF!,$A67,FMZINp4_laika_grafiks!$M$94:$M$228,P$61))/1000000+P66 -> #REF! | Q67: =(P67-AJ67)+Q66 -> #REF! | R67: =(SUMIFS(FMZINp4_laika_grafiks!$K$94:$K$228,FMZINp4_laika_grafiks!#REF!,$A67,FMZINp4_laika_grafiks!$M$94:$M$228,R$61))/1000000+R66 -> #REF! | S67: =(R67-AK67)+S66 -> #REF! | T67: =(SUMIFS(FMZINp4_laika_grafiks!$K$94:$K$228,FMZINp4_laika_grafiks!#REF!,$A67,FMZINp4_laika_grafiks!$M$94:$M$228,T$61))/1000000+T66 -> #REF! | U67: =(T67-AL67)+U66 -> #REF! | V67: =(SUMIFS(FMZINp4_laika_grafiks!$K$94:$K$228,FMZINp4_laika_grafiks!#REF!,$A67,FMZINp4_laika_grafiks!$M$94:$M$228,V$61))/1000000+V66 -> #REF! | W67: =(V67-AM67)+W66 -> #REF! | X67: =(SUMIFS(FMZINp4_laika_grafiks!$K$94:$K$228,FMZINp4_laika_grafiks!#REF!,$A67,FMZINp4_laika_grafiks!$M$94:$M$228,X$61))/1000000+X66 -> #REF! | Y67: =(X67-AN67)+Y66 -> #REF! | AB67: 2024 I | AC67: =(SUMIFS(FMZINp4_laika_grafiks!$K$94:$K$228,FMZINp4_laika_grafiks!#REF!,'GRAFIKI II'!$AB67,FMZINp4_laika_grafiks!$M$94:$M$228,'GRAFIKI II'!AC$61)/1000000)+AC66 -> #REF! | AD67: =(SUMIFS(FMZINp4_laika_grafiks!$K$94:$K$228,FMZINp4_laika_grafiks!#REF!,'GRAFIKI II'!$AB67,FMZINp4_laika_grafiks!$M$94:$M$228,'GRAFIKI II'!AD$61)/1000000)+AD66 -> #REF! | AE67: =(SUMIFS(FMZINp4_laika_grafiks!$K$94:$K$228,FMZINp4_laika_grafiks!#REF!,'GRAFIKI II'!$AB67,FMZINp4_laika_grafiks!$M$94:$M$228,'GRAFIKI II'!AE$61)/1000000)+AE66 -> #REF! | AF67: =(SUMIFS(FMZINp4_laika_grafiks!$K$94:$K$228,FMZINp4_laika_grafiks!#REF!,'GRAFIKI II'!$AB67,FMZINp4_laika_grafiks!$M$94:$M$228,'GRAFIKI II'!AF$61)/1000000)+AF66 -> #REF! | AG67: =(SUMIFS(FMZINp4_laika_grafiks!$K$94:$K$228,FMZINp4_laika_grafiks!#REF!,'GRAFIKI II'!$AB67,FMZINp4_laika_grafiks!$M$94:$M$228,'GRAFIKI II'!AG$61)/1000000)+AG66 -> #REF! | AH67: =(SUMIFS(FMZINp4_laika_grafiks!$K$94:$K$228,FMZINp4_laika_grafiks!#REF!,'GRAFIKI II'!$AB67,FMZINp4_laika_grafiks!$M$94:$M$228,'GRAFIKI II'!AH$61)/1000000)+AH66 -> #REF! | AI67: =(SUMIFS(FMZINp4_laika_grafiks!$K$94:$K$228,FMZINp4_laika_grafiks!#REF!,'GRAFIKI II'!$AB67,FMZINp4_laika_grafiks!$M$94:$M$228,'GRAFIKI II'!AI$61)/1000000)+AI66 -> #REF! | AJ67: =(SUMIFS(FMZINp4_laika_grafiks!$K$94:$K$228,FMZINp4_laika_grafiks!#REF!,'GRAFIKI II'!$AB67,FMZINp4_laika_grafiks!$M$94:$M$228,'GRAFIKI II'!AJ$61)/1000000)+AJ66 -> #REF! | ... AN67: =(SUMIFS(FMZINp4_laika_grafiks!$K$94:$K$228,FMZINp4_laika_grafiks!#REF!,'GRAFIKI II'!$AB67,FMZINp4_laika_grafiks!$M$94:$M$228,'GRAFIKI II'!AN$61)/1000000)+AN66 -> #REF!
A68: 2024 II | B68: =(SUMIFS(FMZINp4_laika_grafiks!$K$94:$K$228,FMZINp4_laika_grafiks!#REF!,$A68,FMZINp4_laika_grafiks!$M$94:$M$228,B$61))/1000000+B67 -> #REF! | C68: =(B68-AC68)+C67 -> #REF! | D68: =(SUMIFS(FMZINp4_laika_grafiks!$K$94:$K$228,FMZINp4_laika_grafiks!#REF!,$A68,FMZINp4_laika_grafiks!$M$94:$M$228,D$61))/1000000+D67 -> #REF! | E68: =(D68-AD68)+E67 -> #REF! | F68: =(SUMIFS(FMZINp4_laika_grafiks!$K$94:$K$228,FMZINp4_laika_grafiks!#REF!,$A68,FMZINp4_laika_grafiks!$M$94:$M$228,F$61))/1000000+F67 -> #REF! | G68: =(F68-AE68)+G67 -> #REF! | H68: =(SUMIFS(FMZINp4_laika_grafiks!$K$94:$K$228,FMZINp4_laika_grafiks!#REF!,$A68,FMZINp4_laika_grafiks!$M$94:$M$228,H$61))/1000000+H67 -> #REF! | I68: =(H68-AF68)+I67 -> #REF! | J68: =(SUMIFS(FMZINp4_laika_grafiks!$K$94:$K$228,FMZINp4_laika_grafiks!#REF!,$A68,FMZINp4_laika_grafiks!$M$94:$M$228,J$61))/1000000+J67 -> #REF! | K68: =(J68-AG68)+K67 -> #REF! | L68: =(SUMIFS(FMZINp4_laika_grafiks!$K$94:$K$228,FMZINp4_laika_grafiks!#REF!,$A68,FMZINp4_laika_grafiks!$M$94:$M$228,L$61))/1000000+L67 -> #REF! | M68: =(L68-AH68)+M67 -> #REF! | N68: =(SUMIFS(FMZINp4_laika_grafiks!$K$94:$K$228,FMZINp4_laika_grafiks!#REF!,$A68,FMZINp4_laika_grafiks!$M$94:$M$228,N$61))/1000000+N67 -> #REF! | O68: =(N68-AI68)+O67 -> #REF! | P68: =(SUMIFS(FMZINp4_laika_grafiks!$K$94:$K$228,FMZINp4_laika_grafiks!#REF!,$A68,FMZINp4_laika_grafiks!$M$94:$M$228,P$61))/1000000+P67 -> #REF! | Q68: =(P68-AJ68)+Q67 -> #REF! | R68: =(SUMIFS(FMZINp4_laika_grafiks!$K$94:$K$228,FMZINp4_laika_grafiks!#REF!,$A68,FMZINp4_laika_grafiks!$M$94:$M$228,R$61))/1000000+R67 -> #REF! | S68: =(R68-AK68)+S67 -> #REF! | T68: =(SUMIFS(FMZINp4_laika_grafiks!$K$94:$K$228,FMZINp4_laika_grafiks!#REF!,$A68,FMZINp4_laika_grafiks!$M$94:$M$228,T$61))/1000000+T67 -> #REF! | U68: =(T68-AL68)+U67 -> #REF! | V68: =(SUMIFS(FMZINp4_laika_grafiks!$K$94:$K$228,FMZINp4_laika_grafiks!#REF!,$A68,FMZINp4_laika_grafiks!$M$94:$M$228,V$61))/1000000+V67 -> #REF! | W68: =(V68-AM68)+W67 -> #REF! | X68: =(SUMIFS(FMZINp4_laika_grafiks!$K$94:$K$228,FMZINp4_laika_grafiks!#REF!,$A68,FMZINp4_laika_grafiks!$M$94:$M$228,X$61))/1000000+X67 -> #REF! | Y68: =(X68-AN68)+Y67 -> #REF! | AB68: 2024 II | AC68: =(SUMIFS(FMZINp4_laika_grafiks!$K$94:$K$228,FMZINp4_laika_grafiks!#REF!,'GRAFIKI II'!$AB68,FMZINp4_laika_grafiks!$M$94:$M$228,'GRAFIKI II'!AC$61)/1000000)+AC67 -> #REF! | AD68: =(SUMIFS(FMZINp4_laika_grafiks!$K$94:$K$228,FMZINp4_laika_grafiks!#REF!,'GRAFIKI II'!$AB68,FMZINp4_laika_grafiks!$M$94:$M$228,'GRAFIKI II'!AD$61)/1000000)+AD67 -> #REF! | AE68: =(SUMIFS(FMZINp4_laika_grafiks!$K$94:$K$228,FMZINp4_laika_grafiks!#REF!,'GRAFIKI II'!$AB68,FMZINp4_laika_grafiks!$M$94:$M$228,'GRAFIKI II'!AE$61)/1000000)+AE67 -> #REF! | AF68: =(SUMIFS(FMZINp4_laika_grafiks!$K$94:$K$228,FMZINp4_laika_grafiks!#REF!,'GRAFIKI II'!$AB68,FMZINp4_laika_grafiks!$M$94:$M$228,'GRAFIKI II'!AF$61)/1000000)+AF67 -> #REF! | AG68: =(SUMIFS(FMZINp4_laika_grafiks!$K$94:$K$228,FMZINp4_laika_grafiks!#REF!,'GRAFIKI II'!$AB68,FMZINp4_laika_grafiks!$M$94:$M$228,'GRAFIKI II'!AG$61)/1000000)+AG67 -> #REF! | AH68: =(SUMIFS(FMZINp4_laika_grafiks!$K$94:$K$228,FMZINp4_laika_grafiks!#REF!,'GRAFIKI II'!$AB68,FMZINp4_laika_grafiks!$M$94:$M$228,'GRAFIKI II'!AH$61)/1000000)+AH67 -> #REF! | AI68: =(SUMIFS(FMZINp4_laika_grafiks!$K$94:$K$228,FMZINp4_laika_grafiks!#REF!,'GRAFIKI II'!$AB68,FMZINp4_laika_grafiks!$M$94:$M$228,'GRAFIKI II'!AI$61)/1000000)+AI67 -> #REF! | AJ68: =(SUMIFS(FMZINp4_laika_grafiks!$K$94:$K$228,FMZINp4_laika_grafiks!#REF!,'GRAFIKI II'!$AB68,FMZINp4_laika_grafiks!$M$94:$M$228,'GRAFIKI II'!AJ$61)/1000000)+AJ67 -> #REF! | ... AN68: =(SUMIFS(FMZINp4_laika_grafiks!$K$94:$K$228,FMZINp4_laika_grafiks!#REF!,'GRAFIKI II'!$AB68,FMZINp4_laika_grafiks!$M$94:$M$228,'GRAFIKI II'!AN$61)/1000000)+AN67 -> #REF!
A69: 2024 III | B69: =(SUMIFS(FMZINp4_laika_grafiks!$K$94:$K$228,FMZINp4_laika_grafiks!#REF!,$A69,FMZINp4_laika_grafiks!$M$94:$M$228,B$61))/1000000+B68 -> #REF! | C69: =(B69-AC69)+C68 -> #REF! | D69: =(SUMIFS(FMZINp4_laika_grafiks!$K$94:$K$228,FMZINp4_laika_grafiks!#REF!,$A69,FMZINp4_laika_grafiks!$M$94:$M$228,D$61))/1000000+D68 -> #REF! | E69: =(D69-AD69)+E68 -> #REF! | F69: =(SUMIFS(FMZINp4_laika_grafiks!$K$94:$K$228,FMZINp4_laika_grafiks!#REF!,$A69,FMZINp4_laika_grafiks!$M$94:$M$228,F$61))/1000000+F68 -> #REF! | G69: =(F69-AE69)+G68 -> #REF! | H69: =(SUMIFS(FMZINp4_laika_grafiks!$K$94:$K$228,FMZINp4_laika_grafiks!#REF!,$A69,FMZINp4_laika_grafiks!$M$94:$M$228,H$61))/1000000+H68 -> #REF! | I69: =(H69-AF69)+I68 -> #REF! | J69: =(SUMIFS(FMZINp4_laika_grafiks!$K$94:$K$228,FMZINp4_laika_grafiks!#REF!,$A69,FMZINp4_laika_grafiks!$M$94:$M$228,J$61))/1000000+J68 -> #REF! | K69: =(J69-AG69)+K68 -> #REF! | L69: =(SUMIFS(FMZINp4_laika_grafiks!$K$94:$K$228,FMZINp4_laika_grafiks!#REF!,$A69,FMZINp4_laika_grafiks!$M$94:$M$228,L$61))/1000000+L68 -> #REF! | M69: =(L69-AH69)+M68 -> #REF! | N69: =(SUMIFS(FMZINp4_laika_grafiks!$K$94:$K$228,FMZINp4_laika_grafiks!#REF!,$A69,FMZINp4_laika_grafiks!$M$94:$M$228,N$61))/1000000+N68 -> #REF! | O69: =(N69-AI69)+O68 -> #REF! | P69: =(SUMIFS(FMZINp4_laika_grafiks!$K$94:$K$228,FMZINp4_laika_grafiks!#REF!,$A69,FMZINp4_laika_grafiks!$M$94:$M$228,P$61))/1000000+P68 -> #REF! | Q69: =(P69-AJ69)+Q68 -> #REF! | R69: =(SUMIFS(FMZINp4_laika_grafiks!$K$94:$K$228,FMZINp4_laika_grafiks!#REF!,$A69,FMZINp4_laika_grafiks!$M$94:$M$228,R$61))/1000000+R68 -> #REF! | S69: =(R69-AK69)+S68 -> #REF! | T69: =(SUMIFS(FMZINp4_laika_grafiks!$K$94:$K$228,FMZINp4_laika_grafiks!#REF!,$A69,FMZINp4_laika_grafiks!$M$94:$M$228,T$61))/1000000+T68 -> #REF! | U69: =(T69-AL69)+U68 -> #REF! | V69: =(SUMIFS(FMZINp4_laika_grafiks!$K$94:$K$228,FMZINp4_laika_grafiks!#REF!,$A69,FMZINp4_laika_grafiks!$M$94:$M$228,V$61))/1000000+V68 -> #REF! | W69: =(V69-AM69)+W68 -> #REF! | X69: =(SUMIFS(FMZINp4_laika_grafiks!$K$94:$K$228,FMZINp4_laika_grafiks!#REF!,$A69,FMZINp4_laika_grafiks!$M$94:$M$228,X$61))/1000000+X68 -> #REF! | Y69: =(X69-AN69)+Y68 -> #REF! | AB69: 2024 III | AC69: =(SUMIFS(FMZINp4_laika_grafiks!$K$94:$K$228,FMZINp4_laika_grafiks!#REF!,'GRAFIKI II'!$AB69,FMZINp4_laika_grafiks!$M$94:$M$228,'GRAFIKI II'!AC$61)/1000000)+AC68 -> #REF! | AD69: =(SUMIFS(FMZINp4_laika_grafiks!$K$94:$K$228,FMZINp4_laika_grafiks!#REF!,'GRAFIKI II'!$AB69,FMZINp4_laika_grafiks!$M$94:$M$228,'GRAFIKI II'!AD$61)/1000000)+AD68 -> #REF! | AE69: =(SUMIFS(FMZINp4_laika_grafiks!$K$94:$K$228,FMZINp4_laika_grafiks!#REF!,'GRAFIKI II'!$AB69,FMZINp4_laika_grafiks!$M$94:$M$228,'GRAFIKI II'!AE$61)/1000000)+AE68 -> #REF! | AF69: =(SUMIFS(FMZINp4_laika_grafiks!$K$94:$K$228,FMZINp4_laika_grafiks!#REF!,'GRAFIKI II'!$AB69,FMZINp4_laika_grafiks!$M$94:$M$228,'GRAFIKI II'!AF$61)/1000000)+AF68 -> #REF! | AG69: =(SUMIFS(FMZINp4_laika_grafiks!$K$94:$K$228,FMZINp4_laika_grafiks!#REF!,'GRAFIKI II'!$AB69,FMZINp4_laika_grafiks!$M$94:$M$228,'GRAFIKI II'!AG$61)/1000000)+AG68 -> #REF! | AH69: =(SUMIFS(FMZINp4_laika_grafiks!$K$94:$K$228,FMZINp4_laika_grafiks!#REF!,'GRAFIKI II'!$AB69,FMZINp4_laika_grafiks!$M$94:$M$228,'GRAFIKI II'!AH$61)/1000000)+AH68 -> #REF! | AI69: =(SUMIFS(FMZINp4_laika_grafiks!$K$94:$K$228,FMZINp4_laika_grafiks!#REF!,'GRAFIKI II'!$AB69,FMZINp4_laika_grafiks!$M$94:$M$228,'GRAFIKI II'!AI$61)/1000000)+AI68 -> #REF! | AJ69: =(SUMIFS(FMZINp4_laika_grafiks!$K$94:$K$228,FMZINp4_laika_grafiks!#REF!,'GRAFIKI II'!$AB69,FMZINp4_laika_grafiks!$M$94:$M$228,'GRAFIKI II'!AJ$61)/1000000)+AJ68 -> #REF! | ... AN69: =(SUMIFS(FMZINp4_laika_grafiks!$K$94:$K$228,FMZINp4_laika_grafiks!#REF!,'GRAFIKI II'!$AB69,FMZINp4_laika_grafiks!$M$94:$M$228,'GRAFIKI II'!AN$61)/1000000)+AN68 -> #REF!
A70: 2024 IV | B70: =(SUMIFS(FMZINp4_laika_grafiks!$K$94:$K$228,FMZINp4_laika_grafiks!#REF!,$A70,FMZINp4_laika_grafiks!$M$94:$M$228,B$61))/1000000+B69 -> #REF! | C70: =(B70-AC70)+C69 -> #REF! | D70: =(SUMIFS(FMZINp4_laika_grafiks!$K$94:$K$228,FMZINp4_laika_grafiks!#REF!,$A70,FMZINp4_laika_grafiks!$M$94:$M$228,D$61))/1000000+D69 -> #REF! | E70: =(D70-AD70)+E69 -> #REF! | F70: =(SUMIFS(FMZINp4_laika_grafiks!$K$94:$K$228,FMZINp4_laika_grafiks!#REF!,$A70,FMZINp4_laika_grafiks!$M$94:$M$228,F$61))/1000000+F69 -> #REF! | G70: =(F70-AE70)+G69 -> #REF! | H70: =(SUMIFS(FMZINp4_laika_grafiks!$K$94:$K$228,FMZINp4_laika_grafiks!#REF!,$A70,FMZINp4_laika_grafiks!$M$94:$M$228,H$61))/1000000+H69 -> #REF! | I70: =(H70-AF70)+I69 -> #REF! | J70: =(SUMIFS(FMZINp4_laika_grafiks!$K$94:$K$228,FMZINp4_laika_grafiks!#REF!,$A70,FMZINp4_laika_grafiks!$M$94:$M$228,J$61))/1000000+J69 -> #REF! | K70: =(J70-AG70)+K69 -> #REF! | L70: =(SUMIFS(FMZINp4_laika_grafiks!$K$94:$K$228,FMZINp4_laika_grafiks!#REF!,$A70,FMZINp4_laika_grafiks!$M$94:$M$228,L$61))/1000000+L69 -> #REF! | M70: =(L70-AH70)+M69 -> #REF! | N70: =(SUMIFS(FMZINp4_laika_grafiks!$K$94:$K$228,FMZINp4_laika_grafiks!#REF!,$A70,FMZINp4_laika_grafiks!$M$94:$M$228,N$61))/1000000+N69 -> #REF! | O70: =(N70-AI70)+O69 -> #REF! | P70: =(SUMIFS(FMZINp4_laika_grafiks!$K$94:$K$228,FMZINp4_laika_grafiks!#REF!,$A70,FMZINp4_laika_grafiks!$M$94:$M$228,P$61))/1000000+P69 -> #REF! | Q70: =(P70-AJ70)+Q69 -> #REF! | R70: =(SUMIFS(FMZINp4_laika_grafiks!$K$94:$K$228,FMZINp4_laika_grafiks!#REF!,$A70,FMZINp4_laika_grafiks!$M$94:$M$228,R$61))/1000000+R69 -> #REF! | S70: =(R70-AK70)+S69 -> #REF! | T70: =(SUMIFS(FMZINp4_laika_grafiks!$K$94:$K$228,FMZINp4_laika_grafiks!#REF!,$A70,FMZINp4_laika_grafiks!$M$94:$M$228,T$61))/1000000+T69 -> #REF! | U70: =(T70-AL70)+U69 -> #REF! | V70: =(SUMIFS(FMZINp4_laika_grafiks!$K$94:$K$228,FMZINp4_laika_grafiks!#REF!,$A70,FMZINp4_laika_grafiks!$M$94:$M$228,V$61))/1000000+V69 -> #REF! | W70: =(V70-AM70)+W69 -> #REF! | X70: =(SUMIFS(FMZINp4_laika_grafiks!$K$94:$K$228,FMZINp4_laika_grafiks!#REF!,$A70,FMZINp4_laika_grafiks!$M$94:$M$228,X$61))/1000000+X69 -> #REF! | Y70: =(X70-AN70)+Y69 -> #REF! | AB70: 2024 IV | AC70: =(SUMIFS(FMZINp4_laika_grafiks!$K$94:$K$228,FMZINp4_laika_grafiks!#REF!,'GRAFIKI II'!$AB70,FMZINp4_laika_grafiks!$M$94:$M$228,'GRAFIKI II'!AC$61)/1000000)+AC69 -> #REF! | AD70: =(SUMIFS(FMZINp4_laika_grafiks!$K$94:$K$228,FMZINp4_laika_grafiks!#REF!,'GRAFIKI II'!$AB70,FMZINp4_laika_grafiks!$M$94:$M$228,'GRAFIKI II'!AD$61)/1000000)+AD69 -> #REF! | AE70: =(SUMIFS(FMZINp4_laika_grafiks!$K$94:$K$228,FMZINp4_laika_grafiks!#REF!,'GRAFIKI II'!$AB70,FMZINp4_laika_grafiks!$M$94:$M$228,'GRAFIKI II'!AE$61)/1000000)+AE69 -> #REF! | AF70: =(SUMIFS(FMZINp4_laika_grafiks!$K$94:$K$228,FMZINp4_laika_grafiks!#REF!,'GRAFIKI II'!$AB70,FMZINp4_laika_grafiks!$M$94:$M$228,'GRAFIKI II'!AF$61)/1000000)+AF69 -> #REF! | AG70: =(SUMIFS(FMZINp4_laika_grafiks!$K$94:$K$228,FMZINp4_laika_grafiks!#REF!,'GRAFIKI II'!$AB70,FMZINp4_laika_grafiks!$M$94:$M$228,'GRAFIKI II'!AG$61)/1000000)+AG69 -> #REF! | AH70: =(SUMIFS(FMZINp4_laika_grafiks!$K$94:$K$228,FMZINp4_laika_grafiks!#REF!,'GRAFIKI II'!$AB70,FMZINp4_laika_grafiks!$M$94:$M$228,'GRAFIKI II'!AH$61)/1000000)+AH69 -> #REF! | AI70: =(SUMIFS(FMZINp4_laika_grafiks!$K$94:$K$228,FMZINp4_laika_grafiks!#REF!,'GRAFIKI II'!$AB70,FMZINp4_laika_grafiks!$M$94:$M$228,'GRAFIKI II'!AI$61)/1000000)+AI69 -> #REF! | AJ70: =(SUMIFS(FMZINp4_laika_grafiks!$K$94:$K$228,FMZINp4_laika_grafiks!#REF!,'GRAFIKI II'!$AB70,FMZINp4_laika_grafiks!$M$94:$M$228,'GRAFIKI II'!AJ$61)/1000000)+AJ69 -> #REF! | ... AN70: =(SUMIFS(FMZINp4_laika_grafiks!$K$94:$K$228,FMZINp4_laika_grafiks!#REF!,'GRAFIKI II'!$AB70,FMZINp4_laika_grafiks!$M$94:$M$228,'GRAFIKI II'!AN$61)/1000000)+AN69 -> #REF!
A71: 2025 I | B71: =(SUMIFS(FMZINp4_laika_grafiks!$K$94:$K$228,FMZINp4_laika_grafiks!#REF!,$A71,FMZINp4_laika_grafiks!$M$94:$M$228,B$61))/1000000+B70 -> #REF! | C71: =(B71-AC71)+C70 -> #REF! | D71: =(SUMIFS(FMZINp4_laika_grafiks!$K$94:$K$228,FMZINp4_laika_grafiks!#REF!,$A71,FMZINp4_laika_grafiks!$M$94:$M$228,D$61))/1000000+D70 -> #REF! | E71: =(D71-AD71)+E70 -> #REF! | F71: =(SUMIFS(FMZINp4_laika_grafiks!$K$94:$K$228,FMZINp4_laika_grafiks!#REF!,$A71,FMZINp4_laika_grafiks!$M$94:$M$228,F$61))/1000000+F70 -> #REF! | G71: =(F71-AE71)+G70 -> #REF! | H71: =(SUMIFS(FMZINp4_laika_grafiks!$K$94:$K$228,FMZINp4_laika_grafiks!#REF!,$A71,FMZINp4_laika_grafiks!$M$94:$M$228,H$61))/1000000+H70 -> #REF! | I71: =(H71-AF71)+I70 -> #REF! | J71: =(SUMIFS(FMZINp4_laika_grafiks!$K$94:$K$228,FMZINp4_laika_grafiks!#REF!,$A71,FMZINp4_laika_grafiks!$M$94:$M$228,J$61))/1000000+J70 -> #REF! | K71: =(J71-AG71)+K70 -> #REF! | L71: =(SUMIFS(FMZINp4_laika_grafiks!$K$94:$K$228,FMZINp4_laika_grafiks!#REF!,$A71,FMZINp4_laika_grafiks!$M$94:$M$228,L$61))/1000000+L70 -> #REF! | M71: =(L71-AH71)+M70 -> #REF! | N71: =(SUMIFS(FMZINp4_laika_grafiks!$K$94:$K$228,FMZINp4_laika_grafiks!#REF!,$A71,FMZINp4_laika_grafiks!$M$94:$M$228,N$61))/1000000+N70 -> #REF! | O71: =(N71-AI71)+O70 -> #REF! | P71: =(SUMIFS(FMZINp4_laika_grafiks!$K$94:$K$228,FMZINp4_laika_grafiks!#REF!,$A71,FMZINp4_laika_grafiks!$M$94:$M$228,P$61))/1000000+P70 -> #REF! | Q71: =(P71-AJ71)+Q70 -> #REF! | R71: =(SUMIFS(FMZINp4_laika_grafiks!$K$94:$K$228,FMZINp4_laika_grafiks!#REF!,$A71,FMZINp4_laika_grafiks!$M$94:$M$228,R$61))/1000000+R70 -> #REF! | S71: =(R71-AK71)+S70 -> #REF! | T71: =(SUMIFS(FMZINp4_laika_grafiks!$K$94:$K$228,FMZINp4_laika_grafiks!#REF!,$A71,FMZINp4_laika_grafiks!$M$94:$M$228,T$61))/1000000+T70 -> #REF! | U71: =(T71-AL71)+U70 -> #REF! | V71: =(SUMIFS(FMZINp4_laika_grafiks!$K$94:$K$228,FMZINp4_laika_grafiks!#REF!,$A71,FMZINp4_laika_grafiks!$M$94:$M$228,V$61))/1000000+V70 -> #REF! | W71: =(V71-AM71)+W70 -> #REF! | X71: =(SUMIFS(FMZINp4_laika_grafiks!$K$94:$K$228,FMZINp4_laika_grafiks!#REF!,$A71,FMZINp4_laika_grafiks!$M$94:$M$228,X$61))/1000000+X70 -> #REF! | Y71: =(X71-AN71)+Y70 -> #REF! | AB71: 2025 I | AC71: =(SUMIFS(FMZINp4_laika_grafiks!$K$94:$K$228,FMZINp4_laika_grafiks!#REF!,'GRAFIKI II'!$AB71,FMZINp4_laika_grafiks!$M$94:$M$228,'GRAFIKI II'!AC$61)/1000000)+AC70 -> #REF! | AD71: =(SUMIFS(FMZINp4_laika_grafiks!$K$94:$K$228,FMZINp4_laika_grafiks!#REF!,'GRAFIKI II'!$AB71,FMZINp4_laika_grafiks!$M$94:$M$228,'GRAFIKI II'!AD$61)/1000000)+AD70 -> #REF! | AE71: =(SUMIFS(FMZINp4_laika_grafiks!$K$94:$K$228,FMZINp4_laika_grafiks!#REF!,'GRAFIKI II'!$AB71,FMZINp4_laika_grafiks!$M$94:$M$228,'GRAFIKI II'!AE$61)/1000000)+AE70 -> #REF! | AF71: =(SUMIFS(FMZINp4_laika_grafiks!$K$94:$K$228,FMZINp4_laika_grafiks!#REF!,'GRAFIKI II'!$AB71,FMZINp4_laika_grafiks!$M$94:$M$228,'GRAFIKI II'!AF$61)/1000000)+AF70 -> #REF! | AG71: =(SUMIFS(FMZINp4_laika_grafiks!$K$94:$K$228,FMZINp4_laika_grafiks!#REF!,'GRAFIKI II'!$AB71,FMZINp4_laika_grafiks!$M$94:$M$228,'GRAFIKI II'!AG$61)/1000000)+AG70 -> #REF! | AH71: =(SUMIFS(FMZINp4_laika_grafiks!$K$94:$K$228,FMZINp4_laika_grafiks!#REF!,'GRAFIKI II'!$AB71,FMZINp4_laika_grafiks!$M$94:$M$228,'GRAFIKI II'!AH$61)/1000000)+AH70 -> #REF! | AI71: =(SUMIFS(FMZINp4_laika_grafiks!$K$94:$K$228,FMZINp4_laika_grafiks!#REF!,'GRAFIKI II'!$AB71,FMZINp4_laika_grafiks!$M$94:$M$228,'GRAFIKI II'!AI$61)/1000000)+AI70 -> #REF! | AJ71: =(SUMIFS(FMZINp4_laika_grafiks!$K$94:$K$228,FMZINp4_laika_grafiks!#REF!,'GRAFIKI II'!$AB71,FMZINp4_laika_grafiks!$M$94:$M$228,'GRAFIKI II'!AJ$61)/1000000)+AJ70 -> #REF! | ... AN71: =(SUMIFS(FMZINp4_laika_grafiks!$K$94:$K$228,FMZINp4_laika_grafiks!#REF!,'GRAFIKI II'!$AB71,FMZINp4_laika_grafiks!$M$94:$M$228,'GRAFIKI II'!AN$61)/1000000)+AN70 -> #REF!
A72: 2025 II | B72: =(SUMIFS(FMZINp4_laika_grafiks!$K$94:$K$228,FMZINp4_laika_grafiks!#REF!,$A72,FMZINp4_laika_grafiks!$M$94:$M$228,B$61))/1000000+B71 -> #REF! | C72: =(B72-AC72)+C71 -> #REF! | D72: =(SUMIFS(FMZINp4_laika_grafiks!$K$94:$K$228,FMZINp4_laika_grafiks!#REF!,$A72,FMZINp4_laika_grafiks!$M$94:$M$228,D$61))/1000000+D71 -> #REF! | E72: =(D72-AD72)+E71 -> #REF! | F72: =(SUMIFS(FMZINp4_laika_grafiks!$K$94:$K$228,FMZINp4_laika_grafiks!#REF!,$A72,FMZINp4_laika_grafiks!$M$94:$M$228,F$61))/1000000+F71 -> #REF! | G72: =(F72-AE72)+G71 -> #REF! | H72: =(SUMIFS(FMZINp4_laika_grafiks!$K$94:$K$228,FMZINp4_laika_grafiks!#REF!,$A72,FMZINp4_laika_grafiks!$M$94:$M$228,H$61))/1000000+H71 -> #REF! | I72: =(H72-AF72)+I71 -> #REF! | J72: =(SUMIFS(FMZINp4_laika_grafiks!$K$94:$K$228,FMZINp4_laika_grafiks!#REF!,$A72,FMZINp4_laika_grafiks!$M$94:$M$228,J$61))/1000000+J71 -> #REF! | K72: =(J72-AG72)+K71 -> #REF! | L72: =(SUMIFS(FMZINp4_laika_grafiks!$K$94:$K$228,FMZINp4_laika_grafiks!#REF!,$A72,FMZINp4_laika_grafiks!$M$94:$M$228,L$61))/1000000+L71 -> #REF! | M72: =(L72-AH72)+M71 -> #REF! | N72: =(SUMIFS(FMZINp4_laika_grafiks!$K$94:$K$228,FMZINp4_laika_grafiks!#REF!,$A72,FMZINp4_laika_grafiks!$M$94:$M$228,N$61))/1000000+N71 -> #REF! | O72: =(N72-AI72)+O71 -> #REF! | P72: =(SUMIFS(FMZINp4_laika_grafiks!$K$94:$K$228,FMZINp4_laika_grafiks!#REF!,$A72,FMZINp4_laika_grafiks!$M$94:$M$228,P$61))/1000000+P71 -> #REF! | Q72: =(P72-AJ72)+Q71 -> #REF! | R72: =(SUMIFS(FMZINp4_laika_grafiks!$K$94:$K$228,FMZINp4_laika_grafiks!#REF!,$A72,FMZINp4_laika_grafiks!$M$94:$M$228,R$61))/1000000+R71 -> #REF! | S72: =(R72-AK72)+S71 -> #REF! | T72: =(SUMIFS(FMZINp4_laika_grafiks!$K$94:$K$228,FMZINp4_laika_grafiks!#REF!,$A72,FMZINp4_laika_grafiks!$M$94:$M$228,T$61))/1000000+T71 -> #REF! | U72: =(T72-AL72)+U71 -> #REF! | V72: =(SUMIFS(FMZINp4_laika_grafiks!$K$94:$K$228,FMZINp4_laika_grafiks!#REF!,$A72,FMZINp4_laika_grafiks!$M$94:$M$228,V$61))/1000000+V71 -> #REF! | W72: =(V72-AM72)+W71 -> #REF! | X72: =(SUMIFS(FMZINp4_laika_grafiks!$K$94:$K$228,FMZINp4_laika_grafiks!#REF!,$A72,FMZINp4_laika_grafiks!$M$94:$M$228,X$61))/1000000+X71 -> #REF! | Y72: =(X72-AN72)+Y71 -> #REF! | AB72: 2025 II | AC72: =(SUMIFS(FMZINp4_laika_grafiks!$K$94:$K$228,FMZINp4_laika_grafiks!#REF!,'GRAFIKI II'!$AB72,FMZINp4_laika_grafiks!$M$94:$M$228,'GRAFIKI II'!AC$61)/1000000)+AC71 -> #REF! | AD72: =(SUMIFS(FMZINp4_laika_grafiks!$K$94:$K$228,FMZINp4_laika_grafiks!#REF!,'GRAFIKI II'!$AB72,FMZINp4_laika_grafiks!$M$94:$M$228,'GRAFIKI II'!AD$61)/1000000)+AD71 -> #REF! | AE72: =(SUMIFS(FMZINp4_laika_grafiks!$K$94:$K$228,FMZINp4_laika_grafiks!#REF!,'GRAFIKI II'!$AB72,FMZINp4_laika_grafiks!$M$94:$M$228,'GRAFIKI II'!AE$61)/1000000)+AE71 -> #REF! | AF72: =(SUMIFS(FMZINp4_laika_grafiks!$K$94:$K$228,FMZINp4_laika_grafiks!#REF!,'GRAFIKI II'!$AB72,FMZINp4_laika_grafiks!$M$94:$M$228,'GRAFIKI II'!AF$61)/1000000)+AF71 -> #REF! | AG72: =(SUMIFS(FMZINp4_laika_grafiks!$K$94:$K$228,FMZINp4_laika_grafiks!#REF!,'GRAFIKI II'!$AB72,FMZINp4_laika_grafiks!$M$94:$M$228,'GRAFIKI II'!AG$61)/1000000)+AG71 -> #REF! | AH72: =(SUMIFS(FMZINp4_laika_grafiks!$K$94:$K$228,FMZINp4_laika_grafiks!#REF!,'GRAFIKI II'!$AB72,FMZINp4_laika_grafiks!$M$94:$M$228,'GRAFIKI II'!AH$61)/1000000)+AH71 -> #REF! | AI72: =(SUMIFS(FMZINp4_laika_grafiks!$K$94:$K$228,FMZINp4_laika_grafiks!#REF!,'GRAFIKI II'!$AB72,FMZINp4_laika_grafiks!$M$94:$M$228,'GRAFIKI II'!AI$61)/1000000)+AI71 -> #REF! | AJ72: =(SUMIFS(FMZINp4_laika_grafiks!$K$94:$K$228,FMZINp4_laika_grafiks!#REF!,'GRAFIKI II'!$AB72,FMZINp4_laika_grafiks!$M$94:$M$228,'GRAFIKI II'!AJ$61)/1000000)+AJ71 -> #REF! | ... AN72: =(SUMIFS(FMZINp4_laika_grafiks!$K$94:$K$228,FMZINp4_laika_grafiks!#REF!,'GRAFIKI II'!$AB72,FMZINp4_laika_grafiks!$M$94:$M$228,'GRAFIKI II'!AN$61)/1000000)+AN71 -> #REF!
A73: 2025 III | B73: =(SUMIFS(FMZINp4_laika_grafiks!$K$94:$K$228,FMZINp4_laika_grafiks!#REF!,$A73,FMZINp4_laika_grafiks!$M$94:$M$228,B$61))/1000000+B72 -> #REF! | C73: =(B73-AC73)+C72 -> #REF! | D73: =(SUMIFS(FMZINp4_laika_grafiks!$K$94:$K$228,FMZINp4_laika_grafiks!#REF!,$A73,FMZINp4_laika_grafiks!$M$94:$M$228,D$61))/1000000+D72 -> #REF! | E73: =(D73-AD73)+E72 -> #REF! | F73: =(SUMIFS(FMZINp4_laika_grafiks!$K$94:$K$228,FMZINp4_laika_grafiks!#REF!,$A73,FMZINp4_laika_grafiks!$M$94:$M$228,F$61))/1000000+F72 -> #REF! | G73: =(F73-AE73)+G72 -> #REF! | H73: =(SUMIFS(FMZINp4_laika_grafiks!$K$94:$K$228,FMZINp4_laika_grafiks!#REF!,$A73,FMZINp4_laika_grafiks!$M$94:$M$228,H$61))/1000000+H72 -> #REF! | I73: =(H73-AF73)+I72 -> #REF! | J73: =(SUMIFS(FMZINp4_laika_grafiks!$K$94:$K$228,FMZINp4_laika_grafiks!#REF!,$A73,FMZINp4_laika_grafiks!$M$94:$M$228,J$61))/1000000+J72 -> #REF! | K73: =(J73-AG73)+K72 -> #REF! | L73: =(SUMIFS(FMZINp4_laika_grafiks!$K$94:$K$228,FMZINp4_laika_grafiks!#REF!,$A73,FMZINp4_laika_grafiks!$M$94:$M$228,L$61))/1000000+L72 -> #REF! | M73: =(L73-AH73)+M72 -> #REF! | N73: =(SUMIFS(FMZINp4_laika_grafiks!$K$94:$K$228,FMZINp4_laika_grafiks!#REF!,$A73,FMZINp4_laika_grafiks!$M$94:$M$228,N$61))/1000000+N72 -> #REF! | O73: =(N73-AI73)+O72 -> #REF! | P73: =(SUMIFS(FMZINp4_laika_grafiks!$K$94:$K$228,FMZINp4_laika_grafiks!#REF!,$A73,FMZINp4_laika_grafiks!$M$94:$M$228,P$61))/1000000+P72 -> #REF! | Q73: =(P73-AJ73)+Q72 -> #REF! | R73: =(SUMIFS(FMZINp4_laika_grafiks!$K$94:$K$228,FMZINp4_laika_grafiks!#REF!,$A73,FMZINp4_laika_grafiks!$M$94:$M$228,R$61))/1000000+R72 -> #REF! | S73: =(R73-AK73)+S72 -> #REF! | T73: =(SUMIFS(FMZINp4_laika_grafiks!$K$94:$K$228,FMZINp4_laika_grafiks!#REF!,$A73,FMZINp4_laika_grafiks!$M$94:$M$228,T$61))/1000000+T72 -> #REF! | U73: =(T73-AL73)+U72 -> #REF! | V73: =(SUMIFS(FMZINp4_laika_grafiks!$K$94:$K$228,FMZINp4_laika_grafiks!#REF!,$A73,FMZINp4_laika_grafiks!$M$94:$M$228,V$61))/1000000+V72 -> #REF! | W73: =(V73-AM73)+W72 -> #REF! | X73: =(SUMIFS(FMZINp4_laika_grafiks!$K$94:$K$228,FMZINp4_laika_grafiks!#REF!,$A73,FMZINp4_laika_grafiks!$M$94:$M$228,X$61))/1000000+X72 -> #REF! | Y73: =(X73-AN73)+Y72 -> #REF! | AB73: 2025 III | AC73: =(SUMIFS(FMZINp4_laika_grafiks!$K$94:$K$228,FMZINp4_laika_grafiks!#REF!,'GRAFIKI II'!$AB73,FMZINp4_laika_grafiks!$M$94:$M$228,'GRAFIKI II'!AC$61)/1000000)+AC72 -> #REF! | AD73: =(SUMIFS(FMZINp4_laika_grafiks!$K$94:$K$228,FMZINp4_laika_grafiks!#REF!,'GRAFIKI II'!$AB73,FMZINp4_laika_grafiks!$M$94:$M$228,'GRAFIKI II'!AD$61)/1000000)+AD72 -> #REF! | AE73: =(SUMIFS(FMZINp4_laika_grafiks!$K$94:$K$228,FMZINp4_laika_grafiks!#REF!,'GRAFIKI II'!$AB73,FMZINp4_laika_grafiks!$M$94:$M$228,'GRAFIKI II'!AE$61)/1000000)+AE72 -> #REF! | AF73: =(SUMIFS(FMZINp4_laika_grafiks!$K$94:$K$228,FMZINp4_laika_grafiks!#REF!,'GRAFIKI II'!$AB73,FMZINp4_laika_grafiks!$M$94:$M$228,'GRAFIKI II'!AF$61)/1000000)+AF72 -> #REF! | AG73: =(SUMIFS(FMZINp4_laika_grafiks!$K$94:$K$228,FMZINp4_laika_grafiks!#REF!,'GRAFIKI II'!$AB73,FMZINp4_laika_grafiks!$M$94:$M$228,'GRAFIKI II'!AG$61)/1000000)+AG72 -> #REF! | AH73: =(SUMIFS(FMZINp4_laika_grafiks!$K$94:$K$228,FMZINp4_laika_grafiks!#REF!,'GRAFIKI II'!$AB73,FMZINp4_laika_grafiks!$M$94:$M$228,'GRAFIKI II'!AH$61)/1000000)+AH72 -> #REF! | AI73: =(SUMIFS(FMZINp4_laika_grafiks!$K$94:$K$228,FMZINp4_laika_grafiks!#REF!,'GRAFIKI II'!$AB73,FMZINp4_laika_grafiks!$M$94:$M$228,'GRAFIKI II'!AI$61)/1000000)+AI72 -> #REF! | AJ73: =(SUMIFS(FMZINp4_laika_grafiks!$K$94:$K$228,FMZINp4_laika_grafiks!#REF!,'GRAFIKI II'!$AB73,FMZINp4_laika_grafiks!$M$94:$M$228,'GRAFIKI II'!AJ$61)/1000000)+AJ72 -> #REF! | ... AN73: =(SUMIFS(FMZINp4_laika_grafiks!$K$94:$K$228,FMZINp4_laika_grafiks!#REF!,'GRAFIKI II'!$AB73,FMZINp4_laika_grafiks!$M$94:$M$228,'GRAFIKI II'!AN$61)/1000000)+AN72 -> #REF!
A74: 2025 IV | B74: =(SUMIFS(FMZINp4_laika_grafiks!$K$94:$K$228,FMZINp4_laika_grafiks!#REF!,$A74,FMZINp4_laika_grafiks!$M$94:$M$228,B$61))/1000000+B73 -> #REF! | C74: =(B74-AC74)+C73 -> #REF! | D74: =(SUMIFS(FMZINp4_laika_grafiks!$K$94:$K$228,FMZINp4_laika_grafiks!#REF!,$A74,FMZINp4_laika_grafiks!$M$94:$M$228,D$61))/1000000+D73 -> #REF! | E74: =(D74-AD74)+E73 -> #REF! | F74: =(SUMIFS(FMZINp4_laika_grafiks!$K$94:$K$228,FMZINp4_laika_grafiks!#REF!,$A74,FMZINp4_laika_grafiks!$M$94:$M$228,F$61))/1000000+F73 -> #REF! | G74: =(F74-AE74)+G73 -> #REF! | H74: =(SUMIFS(FMZINp4_laika_grafiks!$K$94:$K$228,FMZINp4_laika_grafiks!#REF!,$A74,FMZINp4_laika_grafiks!$M$94:$M$228,H$61))/1000000+H73 -> #REF! | I74: =(H74-AF74)+I73 -> #REF! | J74: =(SUMIFS(FMZINp4_laika_grafiks!$K$94:$K$228,FMZINp4_laika_grafiks!#REF!,$A74,FMZINp4_laika_grafiks!$M$94:$M$228,J$61))/1000000+J73 -> #REF! | K74: =(J74-AG74)+K73 -> #REF! | L74: =(SUMIFS(FMZINp4_laika_grafiks!$K$94:$K$228,FMZINp4_laika_grafiks!#REF!,$A74,FMZINp4_laika_grafiks!$M$94:$M$228,L$61))/1000000+L73 -> #REF! | M74: =(L74-AH74)+M73 -> #REF! | N74: =(SUMIFS(FMZINp4_laika_grafiks!$K$94:$K$228,FMZINp4_laika_grafiks!#REF!,$A74,FMZINp4_laika_grafiks!$M$94:$M$228,N$61))/1000000+N73 -> #REF! | O74: =(N74-AI74)+O73 -> #REF! | P74: =(SUMIFS(FMZINp4_laika_grafiks!$K$94:$K$228,FMZINp4_laika_grafiks!#REF!,$A74,FMZINp4_laika_grafiks!$M$94:$M$228,P$61))/1000000+P73 -> #REF! | Q74: =(P74-AJ74)+Q73 -> #REF! | R74: =(SUMIFS(FMZINp4_laika_grafiks!$K$94:$K$228,FMZINp4_laika_grafiks!#REF!,$A74,FMZINp4_laika_grafiks!$M$94:$M$228,R$61))/1000000+R73 -> #REF! | S74: =(R74-AK74)+S73 -> #REF! | T74: =(SUMIFS(FMZINp4_laika_grafiks!$K$94:$K$228,FMZINp4_laika_grafiks!#REF!,$A74,FMZINp4_laika_grafiks!$M$94:$M$228,T$61))/1000000+T73 -> #REF! | U74: =(T74-AL74)+U73 -> #REF! | V74: =(SUMIFS(FMZINp4_laika_grafiks!$K$94:$K$228,FMZINp4_laika_grafiks!#REF!,$A74,FMZINp4_laika_grafiks!$M$94:$M$228,V$61))/1000000+V73 -> #REF! | W74: =(V74-AM74)+W73 -> #REF! | X74: =(SUMIFS(FMZINp4_laika_grafiks!$K$94:$K$228,FMZINp4_laika_grafiks!#REF!,$A74,FMZINp4_laika_grafiks!$M$94:$M$228,X$61))/1000000+X73 -> #REF! | Y74: =(X74-AN74)+Y73 -> #REF! | AB74: 2025 IV | AC74: =(SUMIFS(FMZINp4_laika_grafiks!$K$94:$K$228,FMZINp4_laika_grafiks!#REF!,'GRAFIKI II'!$AB74,FMZINp4_laika_grafiks!$M$94:$M$228,'GRAFIKI II'!AC$61)/1000000)+AC73 -> #REF! | AD74: =(SUMIFS(FMZINp4_laika_grafiks!$K$94:$K$228,FMZINp4_laika_grafiks!#REF!,'GRAFIKI II'!$AB74,FMZINp4_laika_grafiks!$M$94:$M$228,'GRAFIKI II'!AD$61)/1000000)+AD73 -> #REF! | AE74: =(SUMIFS(FMZINp4_laika_grafiks!$K$94:$K$228,FMZINp4_laika_grafiks!#REF!,'GRAFIKI II'!$AB74,FMZINp4_laika_grafiks!$M$94:$M$228,'GRAFIKI II'!AE$61)/1000000)+AE73 -> #REF! | AF74: =(SUMIFS(FMZINp4_laika_grafiks!$K$94:$K$228,FMZINp4_laika_grafiks!#REF!,'GRAFIKI II'!$AB74,FMZINp4_laika_grafiks!$M$94:$M$228,'GRAFIKI II'!AF$61)/1000000)+AF73 -> #REF! | AG74: =(SUMIFS(FMZINp4_laika_grafiks!$K$94:$K$228,FMZINp4_laika_grafiks!#REF!,'GRAFIKI II'!$AB74,FMZINp4_laika_grafiks!$M$94:$M$228,'GRAFIKI II'!AG$61)/1000000)+AG73 -> #REF! | AH74: =(SUMIFS(FMZINp4_laika_grafiks!$K$94:$K$228,FMZINp4_laika_grafiks!#REF!,'GRAFIKI II'!$AB74,FMZINp4_laika_grafiks!$M$94:$M$228,'GRAFIKI II'!AH$61)/1000000)+AH73 -> #REF! | AI74: =(SUMIFS(FMZINp4_laika_grafiks!$K$94:$K$228,FMZINp4_laika_grafiks!#REF!,'GRAFIKI II'!$AB74,FMZINp4_laika_grafiks!$M$94:$M$228,'GRAFIKI II'!AI$61)/1000000)+AI73 -> #REF! | AJ74: =(SUMIFS(FMZINp4_laika_grafiks!$K$94:$K$228,FMZINp4_laika_grafiks!#REF!,'GRAFIKI II'!$AB74,FMZINp4_laika_grafiks!$M$94:$M$228,'GRAFIKI II'!AJ$61)/1000000)+AJ73 -> #REF! | ... AN74: =(SUMIFS(FMZINp4_laika_grafiks!$K$94:$K$228,FMZINp4_laika_grafiks!#REF!,'GRAFIKI II'!$AB74,FMZINp4_laika_grafiks!$M$94:$M$228,'GRAFIKI II'!AN$61)/1000000)+AN73 -> #REF!
A75: 2026 I | B75: =(SUMIFS(FMZINp4_laika_grafiks!$K$94:$K$228,FMZINp4_laika_grafiks!#REF!,$A75,FMZINp4_laika_grafiks!$M$94:$M$228,B$61))/1000000+B74 -> #REF! | C75: =(B75-AC75)+C74 -> #REF! | D75: =(SUMIFS(FMZINp4_laika_grafiks!$K$94:$K$228,FMZINp4_laika_grafiks!#REF!,$A75,FMZINp4_laika_grafiks!$M$94:$M$228,D$61))/1000000+D74 -> #REF! | E75: =(D75-AD75)+E74 -> #REF! | F75: =(SUMIFS(FMZINp4_laika_grafiks!$K$94:$K$228,FMZINp4_laika_grafiks!#REF!,$A75,FMZINp4_laika_grafiks!$M$94:$M$228,F$61))/1000000+F74 -> #REF! | G75: =(F75-AE75)+G74 -> #REF! | H75: =(SUMIFS(FMZINp4_laika_grafiks!$K$94:$K$228,FMZINp4_laika_grafiks!#REF!,$A75,FMZINp4_laika_grafiks!$M$94:$M$228,H$61))/1000000+H74 -> #REF! | I75: =(H75-AF75)+I74 -> #REF! | J75: =(SUMIFS(FMZINp4_laika_grafiks!$K$94:$K$228,FMZINp4_laika_grafiks!#REF!,$A75,FMZINp4_laika_grafiks!$M$94:$M$228,J$61))/1000000+J74 -> #REF! | K75: =(J75-AG75)+K74 -> #REF! | L75: =(SUMIFS(FMZINp4_laika_grafiks!$K$94:$K$228,FMZINp4_laika_grafiks!#REF!,$A75,FMZINp4_laika_grafiks!$M$94:$M$228,L$61))/1000000+L74 -> #REF! | M75: =(L75-AH75)+M74 -> #REF! | N75: =(SUMIFS(FMZINp4_laika_grafiks!$K$94:$K$228,FMZINp4_laika_grafiks!#REF!,$A75,FMZINp4_laika_grafiks!$M$94:$M$228,N$61))/1000000+N74 -> #REF! | O75: =(N75-AI75)+O74 -> #REF! | P75: =(SUMIFS(FMZINp4_laika_grafiks!$K$94:$K$228,FMZINp4_laika_grafiks!#REF!,$A75,FMZINp4_laika_grafiks!$M$94:$M$228,P$61))/1000000+P74 -> #REF! | Q75: =(P75-AJ75)+Q74 -> #REF! | R75: =(SUMIFS(FMZINp4_laika_grafiks!$K$94:$K$228,FMZINp4_laika_grafiks!#REF!,$A75,FMZINp4_laika_grafiks!$M$94:$M$228,R$61))/1000000+R74 -> #REF! | S75: =(R75-AK75)+S74 -> #REF! | T75: =(SUMIFS(FMZINp4_laika_grafiks!$K$94:$K$228,FMZINp4_laika_grafiks!#REF!,$A75,FMZINp4_laika_grafiks!$M$94:$M$228,T$61))/1000000+T74 -> #REF! | U75: =(T75-AL75)+U74 -> #REF! | V75: =(SUMIFS(FMZINp4_laika_grafiks!$K$94:$K$228,FMZINp4_laika_grafiks!#REF!,$A75,FMZINp4_laika_grafiks!$M$94:$M$228,V$61))/1000000+V74 -> #REF! | W75: =(V75-AM75)+W74 -> #REF! | X75: =(SUMIFS(FMZINp4_laika_grafiks!$K$94:$K$228,FMZINp4_laika_grafiks!#REF!,$A75,FMZINp4_laika_grafiks!$M$94:$M$228,X$61))/1000000+X74 -> #REF! | Y75: =(X75-AN75)+Y74 -> #REF! | AB75: 2026 I | AC75: =(SUMIFS(FMZINp4_laika_grafiks!$K$94:$K$228,FMZINp4_laika_grafiks!#REF!,'GRAFIKI II'!$AB75,FMZINp4_laika_grafiks!$M$94:$M$228,'GRAFIKI II'!AC$61)/1000000)+AC74 -> #REF! | AD75: =(SUMIFS(FMZINp4_laika_grafiks!$K$94:$K$228,FMZINp4_laika_grafiks!#REF!,'GRAFIKI II'!$AB75,FMZINp4_laika_grafiks!$M$94:$M$228,'GRAFIKI II'!AD$61)/1000000)+AD74 -> #REF! | AE75: =(SUMIFS(FMZINp4_laika_grafiks!$K$94:$K$228,FMZINp4_laika_grafiks!#REF!,'GRAFIKI II'!$AB75,FMZINp4_laika_grafiks!$M$94:$M$228,'GRAFIKI II'!AE$61)/1000000)+AE74 -> #REF! | AF75: =(SUMIFS(FMZINp4_laika_grafiks!$K$94:$K$228,FMZINp4_laika_grafiks!#REF!,'GRAFIKI II'!$AB75,FMZINp4_laika_grafiks!$M$94:$M$228,'GRAFIKI II'!AF$61)/1000000)+AF74 -> #REF! | AG75: =(SUMIFS(FMZINp4_laika_grafiks!$K$94:$K$228,FMZINp4_laika_grafiks!#REF!,'GRAFIKI II'!$AB75,FMZINp4_laika_grafiks!$M$94:$M$228,'GRAFIKI II'!AG$61)/1000000)+AG74 -> #REF! | AH75: =(SUMIFS(FMZINp4_laika_grafiks!$K$94:$K$228,FMZINp4_laika_grafiks!#REF!,'GRAFIKI II'!$AB75,FMZINp4_laika_grafiks!$M$94:$M$228,'GRAFIKI II'!AH$61)/1000000)+AH74 -> #REF! | AI75: =(SUMIFS(FMZINp4_laika_grafiks!$K$94:$K$228,FMZINp4_laika_grafiks!#REF!,'GRAFIKI II'!$AB75,FMZINp4_laika_grafiks!$M$94:$M$228,'GRAFIKI II'!AI$61)/1000000)+AI74 -> #REF! | AJ75: =(SUMIFS(FMZINp4_laika_grafiks!$K$94:$K$228,FMZINp4_laika_grafiks!#REF!,'GRAFIKI II'!$AB75,FMZINp4_laika_grafiks!$M$94:$M$228,'GRAFIKI II'!AJ$61)/1000000)+AJ74 -> #REF! | ... AN75: =(SUMIFS(FMZINp4_laika_grafiks!$K$94:$K$228,FMZINp4_laika_grafiks!#REF!,'GRAFIKI II'!$AB75,FMZINp4_laika_grafiks!$M$94:$M$228,'GRAFIKI II'!AN$61)/1000000)+AN74 -> #REF!
A76: Uzsaukums par elastības finansējuma apjomu 2026.g. | B76: =(SUMIFS(FMZINp4_laika_grafiks!$K$94:$K$228,FMZINp4_laika_grafiks!#REF!,$A76,FMZINp4_laika_grafiks!$M$94:$M$228,B$61))/1000000+B75 -> #REF! | C76: =(B76-AC76)+C75 -> #REF! | D76: =(SUMIFS(FMZINp4_laika_grafiks!$K$94:$K$228,FMZINp4_laika_grafiks!#REF!,$A76,FMZINp4_laika_grafiks!$M$94:$M$228,D$61))/1000000+D75 -> #REF! | E76: =(D76-AD76)+E75 -> #REF! | F76: =(SUMIFS(FMZINp4_laika_grafiks!$K$94:$K$228,FMZINp4_laika_grafiks!#REF!,$A76,FMZINp4_laika_grafiks!$M$94:$M$228,F$61))/1000000+F75 -> #REF! | G76: =(F76-AE76)+G75 -> #REF! | H76: =(SUMIFS(FMZINp4_laika_grafiks!$K$94:$K$228,FMZINp4_laika_grafiks!#REF!,$A76,FMZINp4_laika_grafiks!$M$94:$M$228,H$61))/1000000+H75 -> #REF! | I76: =(H76-AF76)+I75 -> #REF! | J76: =(SUMIFS(FMZINp4_laika_grafiks!$K$94:$K$228,FMZINp4_laika_grafiks!#REF!,$A76,FMZINp4_laika_grafiks!$M$94:$M$228,J$61))/1000000+J75 -> #REF! | K76: =(J76-AG76)+K75 -> #REF! | L76: =(SUMIFS(FMZINp4_laika_grafiks!$K$94:$K$228,FMZINp4_laika_grafiks!#REF!,$A76,FMZINp4_laika_grafiks!$M$94:$M$228,L$61))/1000000+L75 -> #REF! | M76: =(L76-AH76)+M75 -> #REF! | N76: =(SUMIFS(FMZINp4_laika_grafiks!$K$94:$K$228,FMZINp4_laika_grafiks!#REF!,$A76,FMZINp4_laika_grafiks!$M$94:$M$228,N$61))/1000000+N75 -> #REF! | O76: =(N76-AI76)+O75 -> #REF! | P76: =(SUMIFS(FMZINp4_laika_grafiks!$K$94:$K$228,FMZINp4_laika_grafiks!#REF!,$A76,FMZINp4_laika_grafiks!$M$94:$M$228,P$61))/1000000+P75 -> #REF! | Q76: =(P76-AJ76)+Q75 -> #REF! | R76: =(SUMIFS(FMZINp4_laika_grafiks!$K$94:$K$228,FMZINp4_laika_grafiks!#REF!,$A76,FMZINp4_laika_grafiks!$M$94:$M$228,R$61))/1000000+R75 -> #REF! | S76: =(R76-AK76)+S75 -> #REF! | T76: =(SUMIFS(FMZINp4_laika_grafiks!$K$94:$K$228,FMZINp4_laika_grafiks!#REF!,$A76,FMZINp4_laika_grafiks!$M$94:$M$228,T$61))/1000000+T75 -> #REF! | U76: =(T76-AL76)+U75 -> #REF! | V76: =(SUMIFS(FMZINp4_laika_grafiks!$K$94:$K$228,FMZINp4_laika_grafiks!#REF!,$A76,FMZINp4_laika_grafiks!$M$94:$M$228,V$61))/1000000+V75 -> #REF! | W76: =(V76-AM76)+W75 -> #REF! | X76: =(SUMIFS(FMZINp4_laika_grafiks!$K$94:$K$228,FMZINp4_laika_grafiks!#REF!,$A76,FMZINp4_laika_grafiks!$M$94:$M$228,X$61))/1000000+X75 -> #REF! | Y76: =(X76-AN76)+Y75 -> #REF! | AB76: Uzsaukums par elastības finansējuma apjomu 2026.g. | AC76: =(SUMIFS(FMZINp4_laika_grafiks!$K$94:$K$228,FMZINp4_laika_grafiks!#REF!,'GRAFIKI II'!$AB76,FMZINp4_laika_grafiks!$M$94:$M$228,'GRAFIKI II'!AC$61)/1000000)+AC75 -> #REF! | AD76: =(SUMIFS(FMZINp4_laika_grafiks!$K$94:$K$228,FMZINp4_laika_grafiks!#REF!,'GRAFIKI II'!$AB76,FMZINp4_laika_grafiks!$M$94:$M$228,'GRAFIKI II'!AD$61)/1000000)+AD75 -> #REF! | AE76: =(SUMIFS(FMZINp4_laika_grafiks!$K$94:$K$228,FMZINp4_laika_grafiks!#REF!,'GRAFIKI II'!$AB76,FMZINp4_laika_grafiks!$M$94:$M$228,'GRAFIKI II'!AE$61)/1000000)+AE75 -> #REF! | AF76: =(SUMIFS(FMZINp4_laika_grafiks!$K$94:$K$228,FMZINp4_laika_grafiks!#REF!,'GRAFIKI II'!$AB76,FMZINp4_laika_grafiks!$M$94:$M$228,'GRAFIKI II'!AF$61)/1000000)+AF75 -> #REF! | AG76: =(SUMIFS(FMZINp4_laika_grafiks!$K$94:$K$228,FMZINp4_laika_grafiks!#REF!,'GRAFIKI II'!$AB76,FMZINp4_laika_grafiks!$M$94:$M$228,'GRAFIKI II'!AG$61)/1000000)+AG75 -> #REF! | AH76: =(SUMIFS(FMZINp4_laika_grafiks!$K$94:$K$228,FMZINp4_laika_grafiks!#REF!,'GRAFIKI II'!$AB76,FMZINp4_laika_grafiks!$M$94:$M$228,'GRAFIKI II'!AH$61)/1000000)+AH75 -> #REF! | AI76: =(SUMIFS(FMZINp4_laika_grafiks!$K$94:$K$228,FMZINp4_laika_grafiks!#REF!,'GRAFIKI II'!$AB76,FMZINp4_laika_grafiks!$M$94:$M$228,'GRAFIKI II'!AI$61)/1000000)+AI75 -> #REF! | AJ76: =(SUMIFS(FMZINp4_laika_grafiks!$K$94:$K$228,FMZINp4_laika_grafiks!#REF!,'GRAFIKI II'!$AB76,FMZINp4_laika_grafiks!$M$94:$M$228,'GRAFIKI II'!AJ$61)/1000000)+AJ75 -> #REF! | ... AN76: =(SUMIFS(FMZINp4_laika_grafiks!$K$94:$K$228,FMZINp4_laika_grafiks!#REF!,'GRAFIKI II'!$AB76,FMZINp4_laika_grafiks!$M$94:$M$228,'GRAFIKI II'!AN$61)/1000000)+AN75 -> #REF!
A77: 2026 II | B77: =(SUMIFS(FMZINp4_laika_grafiks!$K$94:$K$228,FMZINp4_laika_grafiks!#REF!,$A77,FMZINp4_laika_grafiks!$M$94:$M$228,B$61))/1000000+B76 -> #REF! | C77: =(B77-AC77)+C76 -> #REF! | D77: =(SUMIFS(FMZINp4_laika_grafiks!$K$94:$K$228,FMZINp4_laika_grafiks!#REF!,$A77,FMZINp4_laika_grafiks!$M$94:$M$228,D$61))/1000000+D76 -> #REF! | E77: =(D77-AD77)+E76 -> #REF! | F77: =(SUMIFS(FMZINp4_laika_grafiks!$K$94:$K$228,FMZINp4_laika_grafiks!#REF!,$A77,FMZINp4_laika_grafiks!$M$94:$M$228,F$61))/1000000+F76 -> #REF! | G77: =(F77-AE77)+G76 -> #REF! | H77: =(SUMIFS(FMZINp4_laika_grafiks!$K$94:$K$228,FMZINp4_laika_grafiks!#REF!,$A77,FMZINp4_laika_grafiks!$M$94:$M$228,H$61))/1000000+H76 -> #REF! | I77: =(H77-AF77)+I76 -> #REF! | J77: =(SUMIFS(FMZINp4_laika_grafiks!$K$94:$K$228,FMZINp4_laika_grafiks!#REF!,$A77,FMZINp4_laika_grafiks!$M$94:$M$228,J$61))/1000000+J76 -> #REF! | K77: =(J77-AG77)+K76 -> #REF! | L77: =(SUMIFS(FMZINp4_laika_grafiks!$K$94:$K$228,FMZINp4_laika_grafiks!#REF!,$A77,FMZINp4_laika_grafiks!$M$94:$M$228,L$61))/1000000+L76 -> #REF! | M77: =(L77-AH77)+M76 -> #REF! | N77: =(SUMIFS(FMZINp4_laika_grafiks!$K$94:$K$228,FMZINp4_laika_grafiks!#REF!,$A77,FMZINp4_laika_grafiks!$M$94:$M$228,N$61))/1000000+N76 -> #REF! | O77: =(N77-AI77)+O76 -> #REF! | P77: =(SUMIFS(FMZINp4_laika_grafiks!$K$94:$K$228,FMZINp4_laika_grafiks!#REF!,$A77,FMZINp4_laika_grafiks!$M$94:$M$228,P$61))/1000000+P76 -> #REF! | Q77: =(P77-AJ77)+Q76 -> #REF! | R77: =(SUMIFS(FMZINp4_laika_grafiks!$K$94:$K$228,FMZINp4_laika_grafiks!#REF!,$A77,FMZINp4_laika_grafiks!$M$94:$M$228,R$61))/1000000+R76 -> #REF! | S77: =(R77-AK77)+S76 -> #REF! | T77: =(SUMIFS(FMZINp4_laika_grafiks!$K$94:$K$228,FMZINp4_laika_grafiks!#REF!,$A77,FMZINp4_laika_grafiks!$M$94:$M$228,T$61))/1000000+T76 -> #REF! | U77: =(T77-AL77)+U76 -> #REF! | V77: =(SUMIFS(FMZINp4_laika_grafiks!$K$94:$K$228,FMZINp4_laika_grafiks!#REF!,$A77,FMZINp4_laika_grafiks!$M$94:$M$228,V$61))/1000000+V76 -> #REF! | W77: =(V77-AM77)+W76 -> #REF! | X77: =(SUMIFS(FMZINp4_laika_grafiks!$K$94:$K$228,FMZINp4_laika_grafiks!#REF!,$A77,FMZINp4_laika_grafiks!$M$94:$M$228,X$61))/1000000+X76 -> #REF! | Y77: =(X77-AN77)+Y76 -> #REF! | AB77: 2026 II | AC77: =(SUMIFS(FMZINp4_laika_grafiks!$K$94:$K$228,FMZINp4_laika_grafiks!#REF!,'GRAFIKI II'!$AB77,FMZINp4_laika_grafiks!$M$94:$M$228,'GRAFIKI II'!AC$61)/1000000)+AC76 -> #REF! | AD77: =(SUMIFS(FMZINp4_laika_grafiks!$K$94:$K$228,FMZINp4_laika_grafiks!#REF!,'GRAFIKI II'!$AB77,FMZINp4_laika_grafiks!$M$94:$M$228,'GRAFIKI II'!AD$61)/1000000)+AD76 -> #REF! | AE77: =(SUMIFS(FMZINp4_laika_grafiks!$K$94:$K$228,FMZINp4_laika_grafiks!#REF!,'GRAFIKI II'!$AB77,FMZINp4_laika_grafiks!$M$94:$M$228,'GRAFIKI II'!AE$61)/1000000)+AE76 -> #REF! | AF77: =(SUMIFS(FMZINp4_laika_grafiks!$K$94:$K$228,FMZINp4_laika_grafiks!#REF!,'GRAFIKI II'!$AB77,FMZINp4_laika_grafiks!$M$94:$M$228,'GRAFIKI II'!AF$61)/1000000)+AF76 -> #REF! | AG77: =(SUMIFS(FMZINp4_laika_grafiks!$K$94:$K$228,FMZINp4_laika_grafiks!#REF!,'GRAFIKI II'!$AB77,FMZINp4_laika_grafiks!$M$94:$M$228,'GRAFIKI II'!AG$61)/1000000)+AG76 -> #REF! | AH77: =(SUMIFS(FMZINp4_laika_grafiks!$K$94:$K$228,FMZINp4_laika_grafiks!#REF!,'GRAFIKI II'!$AB77,FMZINp4_laika_grafiks!$M$94:$M$228,'GRAFIKI II'!AH$61)/1000000)+AH76 -> #REF! | AI77: =(SUMIFS(FMZINp4_laika_grafiks!$K$94:$K$228,FMZINp4_laika_grafiks!#REF!,'GRAFIKI II'!$AB77,FMZINp4_laika_grafiks!$M$94:$M$228,'GRAFIKI II'!AI$61)/1000000)+AI76 -> #REF! | AJ77: =(SUMIFS(FMZINp4_laika_grafiks!$K$94:$K$228,FMZINp4_laika_grafiks!#REF!,'GRAFIKI II'!$AB77,FMZINp4_laika_grafiks!$M$94:$M$228,'GRAFIKI II'!AJ$61)/1000000)+AJ76 -> #REF! | ... AN77: =(SUMIFS(FMZINp4_laika_grafiks!$K$94:$K$228,FMZINp4_laika_grafiks!#REF!,'GRAFIKI II'!$AB77,FMZINp4_laika_grafiks!$M$94:$M$228,'GRAFIKI II'!AN$61)/1000000)+AN76 -> #REF!
... A83: 2027 IV | B83: =(SUMIFS(FMZINp4_laika_grafiks!$K$94:$K$228,FMZINp4_laika_grafiks!#REF!,$A83,FMZINp4_laika_grafiks!$M$94:$M$228,B$61))/1000000+B82 -> #REF! | C83: =(B83-AC83)+C82 -> #REF! | D83: =(SUMIFS(FMZINp4_laika_grafiks!$K$94:$K$228,FMZINp4_laika_grafiks!#REF!,$A83,FMZINp4_laika_grafiks!$M$94:$M$228,D$61))/1000000+D82 -> #REF! | E83: =(D83-AD83)+E82 -> #REF! | F83: =(SUMIFS(FMZINp4_laika_grafiks!$K$94:$K$228,FMZINp4_laika_grafiks!#REF!,$A83,FMZINp4_laika_grafiks!$M$94:$M$228,F$61))/1000000+F82 -> #REF! | G83: =(F83-AE83)+G82 -> #REF! | H83: =(SUMIFS(FMZINp4_laika_grafiks!$K$94:$K$228,FMZINp4_laika_grafiks!#REF!,$A83,FMZINp4_laika_grafiks!$M$94:$M$228,H$61))/1000000+H82 -> #REF! | I83: =(H83-AF83)+I82 -> #REF! | J83: =(SUMIFS(FMZINp4_laika_grafiks!$K$94:$K$228,FMZINp4_laika_grafiks!#REF!,$A83,FMZINp4_laika_grafiks!$M$94:$M$228,J$61))/1000000+J82 -> #REF! | K83: =(J83-AG83)+K82 -> #REF! | L83: =(SUMIFS(FMZINp4_laika_grafiks!$K$94:$K$228,FMZINp4_laika_grafiks!#REF!,$A83,FMZINp4_laika_grafiks!$M$94:$M$228,L$61))/1000000+L82 -> #REF! | M83: =(L83-AH83)+M82 -> #REF! | N83: =(SUMIFS(FMZINp4_laika_grafiks!$K$94:$K$228,FMZINp4_laika_grafiks!#REF!,$A83,FMZINp4_laika_grafiks!$M$94:$M$228,N$61))/1000000+N82 -> #REF! | O83: =(N83-AI83)+O82 -> #REF! | P83: =(SUMIFS(FMZINp4_laika_grafiks!$K$94:$K$228,FMZINp4_laika_grafiks!#REF!,$A83,FMZINp4_laika_grafiks!$M$94:$M$228,P$61))/1000000+P82 -> #REF! | Q83: =(P83-AJ83)+Q82 -> #REF! | R83: =(SUMIFS(FMZINp4_laika_grafiks!$K$94:$K$228,FMZINp4_laika_grafiks!#REF!,$A83,FMZINp4_laika_grafiks!$M$94:$M$228,R$61))/1000000+R82 -> #REF! | S83: =(R83-AK83)+S82 -> #REF! | T83: =(SUMIFS(FMZINp4_laika_grafiks!$K$94:$K$228,FMZINp4_laika_grafiks!#REF!,$A83,FMZINp4_laika_grafiks!$M$94:$M$228,T$61))/1000000+T82 -> #REF! | U83: =(T83-AL83)+U82 -> #REF! | V83: =(SUMIFS(FMZINp4_laika_grafiks!$K$94:$K$228,FMZINp4_laika_grafiks!#REF!,$A83,FMZINp4_laika_grafiks!$M$94:$M$228,V$61))/1000000+V82 -> #REF! | W83: =(V83-AM83)+W82 -> #REF! | X83: =(SUMIFS(FMZINp4_laika_grafiks!$K$94:$K$228,FMZINp4_laika_grafiks!#REF!,$A83,FMZINp4_laika_grafiks!$M$94:$M$228,X$61))/1000000+X82 -> #REF! | Y83: =(X83-AN83)+Y82 -> #REF! | AB83: 2027 IV | AC83: =(SUMIFS(FMZINp4_laika_grafiks!$K$94:$K$228,FMZINp4_laika_grafiks!#REF!,'GRAFIKI II'!$AB83,FMZINp4_laika_grafiks!$M$94:$M$228,'GRAFIKI II'!AC$61)/1000000)+AC82 -> #REF! | AD83: =(SUMIFS(FMZINp4_laika_grafiks!$K$94:$K$228,FMZINp4_laika_grafiks!#REF!,'GRAFIKI II'!$AB83,FMZINp4_laika_grafiks!$M$94:$M$228,'GRAFIKI II'!AD$61)/1000000)+AD82 -> #REF! | AE83: =(SUMIFS(FMZINp4_laika_grafiks!$K$94:$K$228,FMZINp4_laika_grafiks!#REF!,'GRAFIKI II'!$AB83,FMZINp4_laika_grafiks!$M$94:$M$228,'GRAFIKI II'!AE$61)/1000000)+AE82 -> #REF! | AF83: =(SUMIFS(FMZINp4_laika_grafiks!$K$94:$K$228,FMZINp4_laika_grafiks!#REF!,'GRAFIKI II'!$AB83,FMZINp4_laika_grafiks!$M$94:$M$228,'GRAFIKI II'!AF$61)/1000000)+AF82 -> #REF! | AG83: =(SUMIFS(FMZINp4_laika_grafiks!$K$94:$K$228,FMZINp4_laika_grafiks!#REF!,'GRAFIKI II'!$AB83,FMZINp4_laika_grafiks!$M$94:$M$228,'GRAFIKI II'!AG$61)/1000000)+AG82 -> #REF! | AH83: =(SUMIFS(FMZINp4_laika_grafiks!$K$94:$K$228,FMZINp4_laika_grafiks!#REF!,'GRAFIKI II'!$AB83,FMZINp4_laika_grafiks!$M$94:$M$228,'GRAFIKI II'!AH$61)/1000000)+AH82 -> #REF! | AI83: =(SUMIFS(FMZINp4_laika_grafiks!$K$94:$K$228,FMZINp4_laika_grafiks!#REF!,'GRAFIKI II'!$AB83,FMZINp4_laika_grafiks!$M$94:$M$228,'GRAFIKI II'!AI$61)/1000000)+AI82 -> #REF! | AJ83: =(SUMIFS(FMZINp4_laika_grafiks!$K$94:$K$228,FMZINp4_laika_grafiks!#REF!,'GRAFIKI II'!$AB83,FMZINp4_laika_grafiks!$M$94:$M$228,'GRAFIKI II'!AJ$61)/1000000)+AJ82 -> #REF! | ... AN83: =(SUMIFS(FMZINp4_laika_grafiks!$K$94:$K$228,FMZINp4_laika_grafiks!#REF!,'GRAFIKI II'!$AB83,FMZINp4_laika_grafiks!$M$94:$M$228,'GRAFIKI II'!AN$61)/1000000)+AN82 -> #REF!
A84: =SUM(B84:V84) -> #REF! | B84: =B83 -> #REF! | C84: =(B84-AC84)+C83 -> #REF! | D84: =D83 -> #REF! | E84: =(D84-AD84)+E83 -> #REF! | F84: =F83 -> #REF! | G84: =(F84-AE84)+G83 -> #REF! | H84: =H83 -> #REF! | I84: =(H84-AF84)+I83 -> #REF! | J84: =J83 -> #REF! | K84: =(J84-AG84)+K83 -> #REF! | L84: =L83 -> #REF! | M84: =(L84-AH84)+M83 -> #REF! | N84: =N83 -> #REF! | O84: =(N84-AI84)+O83 -> #REF! | P84: =P83 -> #REF! | Q84: =(P84-AJ84)+Q83 -> #REF! | R84: =R83 -> #REF! | S84: =(R84-AK84)+S83 -> #REF! | T84: =T83 -> #REF! | U84: =(T84-AL84)+U83 -> #REF! | V84: =V83 -> #REF! | W84: =(V84-AM84)+W83 -> #REF! | X84: =X83 -> #REF! | Y84: =(X84-AN84)+Y83 -> #REF! | AB84: =SUM(AC84:AN84) -> #REF! | AC84: =AC83 -> #REF! | AD84: =AD83 -> #REF! | AE84: =AE83 -> #REF! | AF84: =AF83 -> #REF! | AG84: =AG83 -> #REF! | AH84: =AH83 -> #REF! | AI84: =AI83 -> #REF! | AJ84: =AJ83 -> #REF! | ... AN84: =AN83 -> #REF!
A87: BEZ KUMULATĀCIJAS
AB88: Laika grafiks uz 25.04.2023.
B89: MK noteikumu finansējums pa ministrijām kumulatīvi, milj. EUR | AB89: MK noteikumu finansējums pa ministrijām uz 25.04.2023., milj. EUR
B90: SM | C90: NOBĪDE | D90: EM | E90: NOBĪDE | F90: VARAM | G90: NOBĪDE | H90: IZM | I90: NOBĪDE | J90: VM | K90: NOBĪDE | L90: LM | M90: NOBĪDE | N90: KM | O90: NOBĪDE | P90: FM | Q90: NOBĪDE | R90: VK | S90: NOBĪDE | T90: IeM | U90: NOBĪDE | V90: TM | W90: NOBĪDE | X90: KEM | Y90: NOBĪDE | AC90: SM | AD90: EM | AE90: VARAM | AF90: IZM | AG90: VM | AH90: LM | AI90: KM | AJ90: FM | AK90: VK | AL90: IeM | AM90: TM | AN90: KEM
A91: 2022 IV | B91: 0 | C91: =B91-AC91 -> #REF! | D91: 0 | E91: =D91-AD91 -> #REF! | F91: 0 | G91: =F91-AE91 -> #REF! | H91: 0 | I91: =H91-AF91 -> #REF! | J91: 0 | K91: =J91-AG91 -> #REF! | L91: 0 | M91: =L91-AH91 -> #REF! | N91: 0 | O91: =N91-AI91 -> #REF! | P91: 0 | Q91: =P91-AJ91 -> #REF! | R91: 0 | S91: =R91-AK91 -> #REF! | T91: 0 | U91: =T91-AL91 -> #REF! | V91: 0 | W91: =V91-AM91 -> #REF! | X91: 0 | Y91: =X91-AN91 -> #REF! | AB91: 2022 IV | AC91: =(SUMIFS(FMZINp4_laika_grafiks!$K$94:$K$228,FMZINp4_laika_grafiks!#REF!,'GRAFIKI II'!$AB91,FMZINp4_laika_grafiks!$M$94:$M$228,'GRAFIKI II'!AC$61)/1000000) -> #REF! | AD91: =(SUMIFS(FMZINp4_laika_grafiks!$K$94:$K$228,FMZINp4_laika_grafiks!#REF!,'GRAFIKI II'!$AB91,FMZINp4_laika_grafiks!$M$94:$M$228,'GRAFIKI II'!AD$61)/1000000) -> #REF! | AE91: =(SUMIFS(FMZINp4_laika_grafiks!$K$94:$K$228,FMZINp4_laika_grafiks!#REF!,'GRAFIKI II'!$AB91,FMZINp4_laika_grafiks!$M$94:$M$228,'GRAFIKI II'!AE$61)/1000000) -> #REF! | AF91: =(SUMIFS(FMZINp4_laika_grafiks!$K$94:$K$228,FMZINp4_laika_grafiks!#REF!,'GRAFIKI II'!$AB91,FMZINp4_laika_grafiks!$M$94:$M$228,'GRAFIKI II'!AF$61)/1000000) -> #REF! | AG91: =(SUMIFS(FMZINp4_laika_grafiks!$K$94:$K$228,FMZINp4_laika_grafiks!#REF!,'GRAFIKI II'!$AB91,FMZINp4_laika_grafiks!$M$94:$M$228,'GRAFIKI II'!AG$61)/1000000) -> #REF! | AH91: =(SUMIFS(FMZINp4_laika_grafiks!$K$94:$K$228,FMZINp4_laika_grafiks!#REF!,'GRAFIKI II'!$AB91,FMZINp4_laika_grafiks!$M$94:$M$228,'GRAFIKI II'!AH$61)/1000000) -> #REF! | AI91: =(SUMIFS(FMZINp4_laika_grafiks!$K$94:$K$228,FMZINp4_laika_grafiks!#REF!,'GRAFIKI II'!$AB91,FMZINp4_laika_grafiks!$M$94:$M$228,'GRAFIKI II'!AI$61)/1000000) -> #REF! | AJ91: =(SUMIFS(FMZINp4_laika_grafiks!$K$94:$K$228,FMZINp4_laika_grafiks!#REF!,'GRAFIKI II'!$AB91,FMZINp4_laika_grafiks!$M$94:$M$228,'GRAFIKI II'!AJ$61)/1000000) -> #REF! | ... AN91: =(SUMIFS(FMZINp4_laika_grafiks!$K$94:$K$228,FMZINp4_laika_grafiks!#REF!,'GRAFIKI II'!$AB91,FMZINp4_laika_grafiks!$M$94:$M$228,'GRAFIKI II'!AN$61)/1000000) -> #REF!
A92: 2023 I | B92: =(SUMIFS(FMZINp4_laika_grafiks!$K$94:$K$228,FMZINp4_laika_grafiks!#REF!,$A92,FMZINp4_laika_grafiks!$M$94:$M$228,B$61))/1000000 -> #REF! | C92: =B92-AC92 -> #REF! | D92: =(SUMIFS(FMZINp4_laika_grafiks!$K$94:$K$228,FMZINp4_laika_grafiks!#REF!,$A92,FMZINp4_laika_grafiks!$M$94:$M$228,D$61))/1000000 -> #REF! | E92: =D92-AD92 -> #REF! | F92: =(SUMIFS(FMZINp4_laika_grafiks!$K$94:$K$228,FMZINp4_laika_grafiks!#REF!,$A92,FMZINp4_laika_grafiks!$M$94:$M$228,F$61))/1000000 -> #REF! | G92: =F92-AE92 -> #REF! | H92: =(SUMIFS(FMZINp4_laika_grafiks!$K$94:$K$228,FMZINp4_laika_grafiks!#REF!,$A92,FMZINp4_laika_grafiks!$M$94:$M$228,H$61))/1000000 -> #REF! | I92: =H92-AF92 -> #REF! | J92: =(SUMIFS(FMZINp4_laika_grafiks!$K$94:$K$228,FMZINp4_laika_grafiks!#REF!,$A92,FMZINp4_laika_grafiks!$M$94:$M$228,J$61))/1000000 -> #REF! | K92: =J92-AG92 -> #REF! | L92: =(SUMIFS(FMZINp4_laika_grafiks!$K$94:$K$228,FMZINp4_laika_grafiks!#REF!,$A92,FMZINp4_laika_grafiks!$M$94:$M$228,L$61))/1000000 -> #REF! | M92: =L92-AH92 -> #REF! | N92: =(SUMIFS(FMZINp4_laika_grafiks!$K$94:$K$228,FMZINp4_laika_grafiks!#REF!,$A92,FMZINp4_laika_grafiks!$M$94:$M$228,N$61))/1000000 -> #REF! | O92: =N92-AI92 -> #REF! | P92: =(SUMIFS(FMZINp4_laika_grafiks!$K$94:$K$228,FMZINp4_laika_grafiks!#REF!,$A92,FMZINp4_laika_grafiks!$M$94:$M$228,P$61))/1000000 -> #REF! | Q92: =P92-AJ92 -> #REF! | R92: =(SUMIFS(FMZINp4_laika_grafiks!$K$94:$K$228,FMZINp4_laika_grafiks!#REF!,$A92,FMZINp4_laika_grafiks!$M$94:$M$228,R$61))/1000000 -> #REF! | S92: =R92-AK92 -> #REF! | T92: =(SUMIFS(FMZINp4_laika_grafiks!$K$94:$K$228,FMZINp4_laika_grafiks!#REF!,$A92,FMZINp4_laika_grafiks!$M$94:$M$228,T$61))/1000000 -> #REF! | U92: =T92-AL92 -> #REF! | V92: =(SUMIFS(FMZINp4_laika_grafiks!$K$94:$K$228,FMZINp4_laika_grafiks!#REF!,$A92,FMZINp4_laika_grafiks!$M$94:$M$228,V$61))/1000000 -> #REF! | W92: =V92-AM92 -> #REF! | X92: =(SUMIFS(FMZINp4_laika_grafiks!$K$94:$K$228,FMZINp4_laika_grafiks!#REF!,$A92,FMZINp4_laika_grafiks!$M$94:$M$228,X$61))/1000000 -> #REF! | Y92: =X92-AN92 -> #REF! | AB92: 2023 I | AC92: =(SUMIFS(FMZINp4_laika_grafiks!$K$94:$K$228,FMZINp4_laika_grafiks!#REF!,'GRAFIKI II'!$AB92,FMZINp4_laika_grafiks!$M$94:$M$228,'GRAFIKI II'!AC$61)/1000000) -> #REF! | AD92: =(SUMIFS(FMZINp4_laika_grafiks!$K$94:$K$228,FMZINp4_laika_grafiks!#REF!,'GRAFIKI II'!$AB92,FMZINp4_laika_grafiks!$M$94:$M$228,'GRAFIKI II'!AD$61)/1000000) -> #REF! | AE92: =(SUMIFS(FMZINp4_laika_grafiks!$K$94:$K$228,FMZINp4_laika_grafiks!#REF!,'GRAFIKI II'!$AB92,FMZINp4_laika_grafiks!$M$94:$M$228,'GRAFIKI II'!AE$61)/1000000) -> #REF! | AF92: =(SUMIFS(FMZINp4_laika_grafiks!$K$94:$K$228,FMZINp4_laika_grafiks!#REF!,'GRAFIKI II'!$AB92,FMZINp4_laika_grafiks!$M$94:$M$228,'GRAFIKI II'!AF$61)/1000000) -> #REF! | AG92: =(SUMIFS(FMZINp4_laika_grafiks!$K$94:$K$228,FMZINp4_laika_grafiks!#REF!,'GRAFIKI II'!$AB92,FMZINp4_laika_grafiks!$M$94:$M$228,'GRAFIKI II'!AG$61)/1000000) -> #REF! | AH92: =(SUMIFS(FMZINp4_laika_grafiks!$K$94:$K$228,FMZINp4_laika_grafiks!#REF!,'GRAFIKI II'!$AB92,FMZINp4_laika_grafiks!$M$94:$M$228,'GRAFIKI II'!AH$61)/1000000) -> #REF! | AI92: =(SUMIFS(FMZINp4_laika_grafiks!$K$94:$K$228,FMZINp4_laika_grafiks!#REF!,'GRAFIKI II'!$AB92,FMZINp4_laika_grafiks!$M$94:$M$228,'GRAFIKI II'!AI$61)/1000000) -> #REF! | AJ92: =(SUMIFS(FMZINp4_laika_grafiks!$K$94:$K$228,FMZINp4_laika_grafiks!#REF!,'GRAFIKI II'!$AB92,FMZINp4_laika_grafiks!$M$94:$M$228,'GRAFIKI II'!AJ$61)/1000000) -> #REF! | ... AN92: =(SUMIFS(FMZINp4_laika_grafiks!$K$94:$K$228,FMZINp4_laika_grafiks!#REF!,'GRAFIKI II'!$AB92,FMZINp4_laika_grafiks!$M$94:$M$228,'GRAFIKI II'!AN$61)/1000000) -> #REF!
A93: 2023 II | B93: =(SUMIFS(FMZINp4_laika_grafiks!$K$94:$K$228,FMZINp4_laika_grafiks!#REF!,$A93,FMZINp4_laika_grafiks!$M$94:$M$228,B$61))/1000000 -> #REF! | C93: =B93-AC93 -> #REF! | D93: =(SUMIFS(FMZINp4_laika_grafiks!$K$94:$K$228,FMZINp4_laika_grafiks!#REF!,$A93,FMZINp4_laika_grafiks!$M$94:$M$228,D$61))/1000000 -> #REF! | E93: =D93-AD93 -> #REF! | F93: =(SUMIFS(FMZINp4_laika_grafiks!$K$94:$K$228,FMZINp4_laika_grafiks!#REF!,$A93,FMZINp4_laika_grafiks!$M$94:$M$228,F$61))/1000000 -> #REF! | G93: =F93-AE93 -> #REF! | H93: =(SUMIFS(FMZINp4_laika_grafiks!$K$94:$K$228,FMZINp4_laika_grafiks!#REF!,$A93,FMZINp4_laika_grafiks!$M$94:$M$228,H$61))/1000000 -> #REF! | I93: =H93-AF93 -> #REF! | J93: =(SUMIFS(FMZINp4_laika_grafiks!$K$94:$K$228,FMZINp4_laika_grafiks!#REF!,$A93,FMZINp4_laika_grafiks!$M$94:$M$228,J$61))/1000000 -> #REF! | K93: =J93-AG93 -> #REF! | L93: =(SUMIFS(FMZINp4_laika_grafiks!$K$94:$K$228,FMZINp4_laika_grafiks!#REF!,$A93,FMZINp4_laika_grafiks!$M$94:$M$228,L$61))/1000000 -> #REF! | M93: =L93-AH93 -> #REF! | N93: =(SUMIFS(FMZINp4_laika_grafiks!$K$94:$K$228,FMZINp4_laika_grafiks!#REF!,$A93,FMZINp4_laika_grafiks!$M$94:$M$228,N$61))/1000000 -> #REF! | O93: =N93-AI93 -> #REF! | P93: =(SUMIFS(FMZINp4_laika_grafiks!$K$94:$K$228,FMZINp4_laika_grafiks!#REF!,$A93,FMZINp4_laika_grafiks!$M$94:$M$228,P$61))/1000000 -> #REF! | Q93: =P93-AJ93 -> #REF! | R93: =(SUMIFS(FMZINp4_laika_grafiks!$K$94:$K$228,FMZINp4_laika_grafiks!#REF!,$A93,FMZINp4_laika_grafiks!$M$94:$M$228,R$61))/1000000 -> #REF! | S93: =R93-AK93 -> #REF! | T93: =(SUMIFS(FMZINp4_laika_grafiks!$K$94:$K$228,FMZINp4_laika_grafiks!#REF!,$A93,FMZINp4_laika_grafiks!$M$94:$M$228,T$61))/1000000 -> #REF! | U93: =T93-AL93 -> #REF! | V93: =(SUMIFS(FMZINp4_laika_grafiks!$K$94:$K$228,FMZINp4_laika_grafiks!#REF!,$A93,FMZINp4_laika_grafiks!$M$94:$M$228,V$61))/1000000 -> #REF! | W93: =V93-AM93 -> #REF! | X93: =(SUMIFS(FMZINp4_laika_grafiks!$K$94:$K$228,FMZINp4_laika_grafiks!#REF!,$A93,FMZINp4_laika_grafiks!$M$94:$M$228,X$61))/1000000 -> #REF! | Y93: =X93-AN93 -> #REF! | AB93: 2023 II | AC93: =(SUMIFS(FMZINp4_laika_grafiks!$K$94:$K$228,FMZINp4_laika_grafiks!#REF!,'GRAFIKI II'!$AB93,FMZINp4_laika_grafiks!$M$94:$M$228,'GRAFIKI II'!AC$61)/1000000) -> #REF! | AD93: =(SUMIFS(FMZINp4_laika_grafiks!$K$94:$K$228,FMZINp4_laika_grafiks!#REF!,'GRAFIKI II'!$AB93,FMZINp4_laika_grafiks!$M$94:$M$228,'GRAFIKI II'!AD$61)/1000000) -> #REF! | AE93: =(SUMIFS(FMZINp4_laika_grafiks!$K$94:$K$228,FMZINp4_laika_grafiks!#REF!,'GRAFIKI II'!$AB93,FMZINp4_laika_grafiks!$M$94:$M$228,'GRAFIKI II'!AE$61)/1000000) -> #REF! | AF93: =(SUMIFS(FMZINp4_laika_grafiks!$K$94:$K$228,FMZINp4_laika_grafiks!#REF!,'GRAFIKI II'!$AB93,FMZINp4_laika_grafiks!$M$94:$M$228,'GRAFIKI II'!AF$61)/1000000) -> #REF! | AG93: =(SUMIFS(FMZINp4_laika_grafiks!$K$94:$K$228,FMZINp4_laika_grafiks!#REF!,'GRAFIKI II'!$AB93,FMZINp4_laika_grafiks!$M$94:$M$228,'GRAFIKI II'!AG$61)/1000000) -> #REF! | AH93: =(SUMIFS(FMZINp4_laika_grafiks!$K$94:$K$228,FMZINp4_laika_grafiks!#REF!,'GRAFIKI II'!$AB93,FMZINp4_laika_grafiks!$M$94:$M$228,'GRAFIKI II'!AH$61)/1000000) -> #REF! | AI93: =(SUMIFS(FMZINp4_laika_grafiks!$K$94:$K$228,FMZINp4_laika_grafiks!#REF!,'GRAFIKI II'!$AB93,FMZINp4_laika_grafiks!$M$94:$M$228,'GRAFIKI II'!AI$61)/1000000) -> #REF! | AJ93: =(SUMIFS(FMZINp4_laika_grafiks!$K$94:$K$228,FMZINp4_laika_grafiks!#REF!,'GRAFIKI II'!$AB93,FMZINp4_laika_grafiks!$M$94:$M$228,'GRAFIKI II'!AJ$61)/1000000) -> #REF! | ... AN93: =(SUMIFS(FMZINp4_laika_grafiks!$K$94:$K$228,FMZINp4_laika_grafiks!#REF!,'GRAFIKI II'!$AB93,FMZINp4_laika_grafiks!$M$94:$M$228,'GRAFIKI II'!AN$61)/1000000) -> #REF!
A94: 2023 III | B94: =(SUMIFS(FMZINp4_laika_grafiks!$K$94:$K$228,FMZINp4_laika_grafiks!#REF!,$A94,FMZINp4_laika_grafiks!$M$94:$M$228,B$61))/1000000 -> #REF! | C94: =B94-AC94 -> #REF! | D94: =(SUMIFS(FMZINp4_laika_grafiks!$K$94:$K$228,FMZINp4_laika_grafiks!#REF!,$A94,FMZINp4_laika_grafiks!$M$94:$M$228,D$61))/1000000 -> #REF! | E94: =D94-AD94 -> #REF! | F94: =(SUMIFS(FMZINp4_laika_grafiks!$K$94:$K$228,FMZINp4_laika_grafiks!#REF!,$A94,FMZINp4_laika_grafiks!$M$94:$M$228,F$61))/1000000 -> #REF! | G94: =F94-AE94 -> #REF! | H94: =(SUMIFS(FMZINp4_laika_grafiks!$K$94:$K$228,FMZINp4_laika_grafiks!#REF!,$A94,FMZINp4_laika_grafiks!$M$94:$M$228,H$61))/1000000 -> #REF! | I94: =H94-AF94 -> #REF! | J94: =(SUMIFS(FMZINp4_laika_grafiks!$K$94:$K$228,FMZINp4_laika_grafiks!#REF!,$A94,FMZINp4_laika_grafiks!$M$94:$M$228,J$61))/1000000 -> #REF! | K94: =J94-AG94 -> #REF! | L94: =(SUMIFS(FMZINp4_laika_grafiks!$K$94:$K$228,FMZINp4_laika_grafiks!#REF!,$A94,FMZINp4_laika_grafiks!$M$94:$M$228,L$61))/1000000 -> #REF! | M94: =L94-AH94 -> #REF! | N94: =(SUMIFS(FMZINp4_laika_grafiks!$K$94:$K$228,FMZINp4_laika_grafiks!#REF!,$A94,FMZINp4_laika_grafiks!$M$94:$M$228,N$61))/1000000 -> #REF! | O94: =N94-AI94 -> #REF! | P94: =(SUMIFS(FMZINp4_laika_grafiks!$K$94:$K$228,FMZINp4_laika_grafiks!#REF!,$A94,FMZINp4_laika_grafiks!$M$94:$M$228,P$61))/1000000 -> #REF! | Q94: =P94-AJ94 -> #REF! | R94: =(SUMIFS(FMZINp4_laika_grafiks!$K$94:$K$228,FMZINp4_laika_grafiks!#REF!,$A94,FMZINp4_laika_grafiks!$M$94:$M$228,R$61))/1000000 -> #REF! | S94: =R94-AK94 -> #REF! | T94: =(SUMIFS(FMZINp4_laika_grafiks!$K$94:$K$228,FMZINp4_laika_grafiks!#REF!,$A94,FMZINp4_laika_grafiks!$M$94:$M$228,T$61))/1000000 -> #REF! | U94: =T94-AL94 -> #REF! | V94: =(SUMIFS(FMZINp4_laika_grafiks!$K$94:$K$228,FMZINp4_laika_grafiks!#REF!,$A94,FMZINp4_laika_grafiks!$M$94:$M$228,V$61))/1000000 -> #REF! | W94: =V94-AM94 -> #REF! | X94: =(SUMIFS(FMZINp4_laika_grafiks!$K$94:$K$228,FMZINp4_laika_grafiks!#REF!,$A94,FMZINp4_laika_grafiks!$M$94:$M$228,X$61))/1000000 -> #REF! | Y94: =X94-AN94 -> #REF! | AB94: 2023 III | AC94: =(SUMIFS(FMZINp4_laika_grafiks!$K$94:$K$228,FMZINp4_laika_grafiks!#REF!,'GRAFIKI II'!$AB94,FMZINp4_laika_grafiks!$M$94:$M$228,'GRAFIKI II'!AC$61)/1000000) -> #REF! | AD94: =(SUMIFS(FMZINp4_laika_grafiks!$K$94:$K$228,FMZINp4_laika_grafiks!#REF!,'GRAFIKI II'!$AB94,FMZINp4_laika_grafiks!$M$94:$M$228,'GRAFIKI II'!AD$61)/1000000) -> #REF! | AE94: =(SUMIFS(FMZINp4_laika_grafiks!$K$94:$K$228,FMZINp4_laika_grafiks!#REF!,'GRAFIKI II'!$AB94,FMZINp4_laika_grafiks!$M$94:$M$228,'GRAFIKI II'!AE$61)/1000000) -> #REF! | AF94: =(SUMIFS(FMZINp4_laika_grafiks!$K$94:$K$228,FMZINp4_laika_grafiks!#REF!,'GRAFIKI II'!$AB94,FMZINp4_laika_grafiks!$M$94:$M$228,'GRAFIKI II'!AF$61)/1000000) -> #REF! | AG94: =(SUMIFS(FMZINp4_laika_grafiks!$K$94:$K$228,FMZINp4_laika_grafiks!#REF!,'GRAFIKI II'!$AB94,FMZINp4_laika_grafiks!$M$94:$M$228,'GRAFIKI II'!AG$61)/1000000) -> #REF! | AH94: =(SUMIFS(FMZINp4_laika_grafiks!$K$94:$K$228,FMZINp4_laika_grafiks!#REF!,'GRAFIKI II'!$AB94,FMZINp4_laika_grafiks!$M$94:$M$228,'GRAFIKI II'!AH$61)/1000000) -> #REF! | AI94: =(SUMIFS(FMZINp4_laika_grafiks!$K$94:$K$228,FMZINp4_laika_grafiks!#REF!,'GRAFIKI II'!$AB94,FMZINp4_laika_grafiks!$M$94:$M$228,'GRAFIKI II'!AI$61)/1000000) -> #REF! | AJ94: =(SUMIFS(FMZINp4_laika_grafiks!$K$94:$K$228,FMZINp4_laika_grafiks!#REF!,'GRAFIKI II'!$AB94,FMZINp4_laika_grafiks!$M$94:$M$228,'GRAFIKI II'!AJ$61)/1000000) -> #REF! | ... AN94: =(SUMIFS(FMZINp4_laika_grafiks!$K$94:$K$228,FMZINp4_laika_grafiks!#REF!,'GRAFIKI II'!$AB94,FMZINp4_laika_grafiks!$M$94:$M$228,'GRAFIKI II'!AN$61)/1000000) -> #REF!
A95: 2023 IV | B95: =(SUMIFS(FMZINp4_laika_grafiks!$K$94:$K$228,FMZINp4_laika_grafiks!#REF!,$A95,FMZINp4_laika_grafiks!$M$94:$M$228,B$61))/1000000 -> #REF! | C95: =B95-AC95 -> #REF! | D95: =(SUMIFS(FMZINp4_laika_grafiks!$K$94:$K$228,FMZINp4_laika_grafiks!#REF!,$A95,FMZINp4_laika_grafiks!$M$94:$M$228,D$61))/1000000 -> #REF! | E95: =D95-AD95 -> #REF! | F95: =(SUMIFS(FMZINp4_laika_grafiks!$K$94:$K$228,FMZINp4_laika_grafiks!#REF!,$A95,FMZINp4_laika_grafiks!$M$94:$M$228,F$61))/1000000 -> #REF! | G95: =F95-AE95 -> #REF! | H95: =(SUMIFS(FMZINp4_laika_grafiks!$K$94:$K$228,FMZINp4_laika_grafiks!#REF!,$A95,FMZINp4_laika_grafiks!$M$94:$M$228,H$61))/1000000 -> #REF! | I95: =H95-AF95 -> #REF! | J95: =(SUMIFS(FMZINp4_laika_grafiks!$K$94:$K$228,FMZINp4_laika_grafiks!#REF!,$A95,FMZINp4_laika_grafiks!$M$94:$M$228,J$61))/1000000 -> #REF! | K95: =J95-AG95 -> #REF! | L95: =(SUMIFS(FMZINp4_laika_grafiks!$K$94:$K$228,FMZINp4_laika_grafiks!#REF!,$A95,FMZINp4_laika_grafiks!$M$94:$M$228,L$61))/1000000 -> #REF! | M95: =L95-AH95 -> #REF! | N95: =(SUMIFS(FMZINp4_laika_grafiks!$K$94:$K$228,FMZINp4_laika_grafiks!#REF!,$A95,FMZINp4_laika_grafiks!$M$94:$M$228,N$61))/1000000 -> #REF! | O95: =N95-AI95 -> #REF! | P95: =(SUMIFS(FMZINp4_laika_grafiks!$K$94:$K$228,FMZINp4_laika_grafiks!#REF!,$A95,FMZINp4_laika_grafiks!$M$94:$M$228,P$61))/1000000 -> #REF! | Q95: =P95-AJ95 -> #REF! | R95: =(SUMIFS(FMZINp4_laika_grafiks!$K$94:$K$228,FMZINp4_laika_grafiks!#REF!,$A95,FMZINp4_laika_grafiks!$M$94:$M$228,R$61))/1000000 -> #REF! | S95: =R95-AK95 -> #REF! | T95: =(SUMIFS(FMZINp4_laika_grafiks!$K$94:$K$228,FMZINp4_laika_grafiks!#REF!,$A95,FMZINp4_laika_grafiks!$M$94:$M$228,T$61))/1000000 -> #REF! | U95: =T95-AL95 -> #REF! | V95: =(SUMIFS(FMZINp4_laika_grafiks!$K$94:$K$228,FMZINp4_laika_grafiks!#REF!,$A95,FMZINp4_laika_grafiks!$M$94:$M$228,V$61))/1000000 -> #REF! | W95: =V95-AM95 -> #REF! | X95: =(SUMIFS(FMZINp4_laika_grafiks!$K$94:$K$228,FMZINp4_laika_grafiks!#REF!,$A95,FMZINp4_laika_grafiks!$M$94:$M$228,X$61))/1000000 -> #REF! | Y95: =X95-AN95 -> #REF! | AB95: 2023 IV | AC95: =(SUMIFS(FMZINp4_laika_grafiks!$K$94:$K$228,FMZINp4_laika_grafiks!#REF!,'GRAFIKI II'!$AB95,FMZINp4_laika_grafiks!$M$94:$M$228,'GRAFIKI II'!AC$61)/1000000) -> #REF! | AD95: =(SUMIFS(FMZINp4_laika_grafiks!$K$94:$K$228,FMZINp4_laika_grafiks!#REF!,'GRAFIKI II'!$AB95,FMZINp4_laika_grafiks!$M$94:$M$228,'GRAFIKI II'!AD$61)/1000000) -> #REF! | AE95: =(SUMIFS(FMZINp4_laika_grafiks!$K$94:$K$228,FMZINp4_laika_grafiks!#REF!,'GRAFIKI II'!$AB95,FMZINp4_laika_grafiks!$M$94:$M$228,'GRAFIKI II'!AE$61)/1000000) -> #REF! | AF95: =(SUMIFS(FMZINp4_laika_grafiks!$K$94:$K$228,FMZINp4_laika_grafiks!#REF!,'GRAFIKI II'!$AB95,FMZINp4_laika_grafiks!$M$94:$M$228,'GRAFIKI II'!AF$61)/1000000) -> #REF! | AG95: =(SUMIFS(FMZINp4_laika_grafiks!$K$94:$K$228,FMZINp4_laika_grafiks!#REF!,'GRAFIKI II'!$AB95,FMZINp4_laika_grafiks!$M$94:$M$228,'GRAFIKI II'!AG$61)/1000000) -> #REF! | AH95: =(SUMIFS(FMZINp4_laika_grafiks!$K$94:$K$228,FMZINp4_laika_grafiks!#REF!,'GRAFIKI II'!$AB95,FMZINp4_laika_grafiks!$M$94:$M$228,'GRAFIKI II'!AH$61)/1000000) -> #REF! | AI95: =(SUMIFS(FMZINp4_laika_grafiks!$K$94:$K$228,FMZINp4_laika_grafiks!#REF!,'GRAFIKI II'!$AB95,FMZINp4_laika_grafiks!$M$94:$M$228,'GRAFIKI II'!AI$61)/1000000) -> #REF! | AJ95: =(SUMIFS(FMZINp4_laika_grafiks!$K$94:$K$228,FMZINp4_laika_grafiks!#REF!,'GRAFIKI II'!$AB95,FMZINp4_laika_grafiks!$M$94:$M$228,'GRAFIKI II'!AJ$61)/1000000) -> #REF! | ... AN95: =(SUMIFS(FMZINp4_laika_grafiks!$K$94:$K$228,FMZINp4_laika_grafiks!#REF!,'GRAFIKI II'!$AB95,FMZINp4_laika_grafiks!$M$94:$M$228,'GRAFIKI II'!AN$61)/1000000) -> #REF!
A96: 2024 I | B96: =(SUMIFS(FMZINp4_laika_grafiks!$K$94:$K$228,FMZINp4_laika_grafiks!#REF!,$A96,FMZINp4_laika_grafiks!$M$94:$M$228,B$61))/1000000 -> #REF! | C96: =B96-AC96 -> #REF! | D96: =(SUMIFS(FMZINp4_laika_grafiks!$K$94:$K$228,FMZINp4_laika_grafiks!#REF!,$A96,FMZINp4_laika_grafiks!$M$94:$M$228,D$61))/1000000 -> #REF! | E96: =D96-AD96 -> #REF! | F96: =(SUMIFS(FMZINp4_laika_grafiks!$K$94:$K$228,FMZINp4_laika_grafiks!#REF!,$A96,FMZINp4_laika_grafiks!$M$94:$M$228,F$61))/1000000 -> #REF! | G96: =F96-AE96 -> #REF! | H96: =(SUMIFS(FMZINp4_laika_grafiks!$K$94:$K$228,FMZINp4_laika_grafiks!#REF!,$A96,FMZINp4_laika_grafiks!$M$94:$M$228,H$61))/1000000 -> #REF! | I96: =H96-AF96 -> #REF! | J96: =(SUMIFS(FMZINp4_laika_grafiks!$K$94:$K$228,FMZINp4_laika_grafiks!#REF!,$A96,FMZINp4_laika_grafiks!$M$94:$M$228,J$61))/1000000 -> #REF! | K96: =J96-AG96 -> #REF! | L96: =(SUMIFS(FMZINp4_laika_grafiks!$K$94:$K$228,FMZINp4_laika_grafiks!#REF!,$A96,FMZINp4_laika_grafiks!$M$94:$M$228,L$61))/1000000 -> #REF! | M96: =L96-AH96 -> #REF! | N96: =(SUMIFS(FMZINp4_laika_grafiks!$K$94:$K$228,FMZINp4_laika_grafiks!#REF!,$A96,FMZINp4_laika_grafiks!$M$94:$M$228,N$61))/1000000 -> #REF! | O96: =N96-AI96 -> #REF! | P96: =(SUMIFS(FMZINp4_laika_grafiks!$K$94:$K$228,FMZINp4_laika_grafiks!#REF!,$A96,FMZINp4_laika_grafiks!$M$94:$M$228,P$61))/1000000 -> #REF! | Q96: =P96-AJ96 -> #REF! | R96: =(SUMIFS(FMZINp4_laika_grafiks!$K$94:$K$228,FMZINp4_laika_grafiks!#REF!,$A96,FMZINp4_laika_grafiks!$M$94:$M$228,R$61))/1000000 -> #REF! | S96: =R96-AK96 -> #REF! | T96: =(SUMIFS(FMZINp4_laika_grafiks!$K$94:$K$228,FMZINp4_laika_grafiks!#REF!,$A96,FMZINp4_laika_grafiks!$M$94:$M$228,T$61))/1000000 -> #REF! | U96: =T96-AL96 -> #REF! | V96: =(SUMIFS(FMZINp4_laika_grafiks!$K$94:$K$228,FMZINp4_laika_grafiks!#REF!,$A96,FMZINp4_laika_grafiks!$M$94:$M$228,V$61))/1000000 -> #REF! | W96: =V96-AM96 -> #REF! | X96: =(SUMIFS(FMZINp4_laika_grafiks!$K$94:$K$228,FMZINp4_laika_grafiks!#REF!,$A96,FMZINp4_laika_grafiks!$M$94:$M$228,X$61))/1000000 -> #REF! | Y96: =X96-AN96 -> #REF! | AB96: 2024 I | AC96: =(SUMIFS(FMZINp4_laika_grafiks!$K$94:$K$228,FMZINp4_laika_grafiks!#REF!,'GRAFIKI II'!$AB96,FMZINp4_laika_grafiks!$M$94:$M$228,'GRAFIKI II'!AC$61)/1000000) -> #REF! | AD96: =(SUMIFS(FMZINp4_laika_grafiks!$K$94:$K$228,FMZINp4_laika_grafiks!#REF!,'GRAFIKI II'!$AB96,FMZINp4_laika_grafiks!$M$94:$M$228,'GRAFIKI II'!AD$61)/1000000) -> #REF! | AE96: =(SUMIFS(FMZINp4_laika_grafiks!$K$94:$K$228,FMZINp4_laika_grafiks!#REF!,'GRAFIKI II'!$AB96,FMZINp4_laika_grafiks!$M$94:$M$228,'GRAFIKI II'!AE$61)/1000000) -> #REF! | AF96: =(SUMIFS(FMZINp4_laika_grafiks!$K$94:$K$228,FMZINp4_laika_grafiks!#REF!,'GRAFIKI II'!$AB96,FMZINp4_laika_grafiks!$M$94:$M$228,'GRAFIKI II'!AF$61)/1000000) -> #REF! | AG96: =(SUMIFS(FMZINp4_laika_grafiks!$K$94:$K$228,FMZINp4_laika_grafiks!#REF!,'GRAFIKI II'!$AB96,FMZINp4_laika_grafiks!$M$94:$M$228,'GRAFIKI II'!AG$61)/1000000) -> #REF! | AH96: =(SUMIFS(FMZINp4_laika_grafiks!$K$94:$K$228,FMZINp4_laika_grafiks!#REF!,'GRAFIKI II'!$AB96,FMZINp4_laika_grafiks!$M$94:$M$228,'GRAFIKI II'!AH$61)/1000000) -> #REF! | AI96: =(SUMIFS(FMZINp4_laika_grafiks!$K$94:$K$228,FMZINp4_laika_grafiks!#REF!,'GRAFIKI II'!$AB96,FMZINp4_laika_grafiks!$M$94:$M$228,'GRAFIKI II'!AI$61)/1000000) -> #REF! | AJ96: =(SUMIFS(FMZINp4_laika_grafiks!$K$94:$K$228,FMZINp4_laika_grafiks!#REF!,'GRAFIKI II'!$AB96,FMZINp4_laika_grafiks!$M$94:$M$228,'GRAFIKI II'!AJ$61)/1000000) -> #REF! | ... AN96: =(SUMIFS(FMZINp4_laika_grafiks!$K$94:$K$228,FMZINp4_laika_grafiks!#REF!,'GRAFIKI II'!$AB96,FMZINp4_laika_grafiks!$M$94:$M$228,'GRAFIKI II'!AN$61)/1000000) -> #REF!
A97: 2024 II | B97: =(SUMIFS(FMZINp4_laika_grafiks!$K$94:$K$228,FMZINp4_laika_grafiks!#REF!,$A97,FMZINp4_laika_grafiks!$M$94:$M$228,B$61))/1000000 -> #REF! | C97: =B97-AC97 -> #REF! | D97: =(SUMIFS(FMZINp4_laika_grafiks!$K$94:$K$228,FMZINp4_laika_grafiks!#REF!,$A97,FMZINp4_laika_grafiks!$M$94:$M$228,D$61))/1000000 -> #REF! | E97: =D97-AD97 -> #REF! | F97: =(SUMIFS(FMZINp4_laika_grafiks!$K$94:$K$228,FMZINp4_laika_grafiks!#REF!,$A97,FMZINp4_laika_grafiks!$M$94:$M$228,F$61))/1000000 -> #REF! | G97: =F97-AE97 -> #REF! | H97: =(SUMIFS(FMZINp4_laika_grafiks!$K$94:$K$228,FMZINp4_laika_grafiks!#REF!,$A97,FMZINp4_laika_grafiks!$M$94:$M$228,H$61))/1000000 -> #REF! | I97: =H97-AF97 -> #REF! | J97: =(SUMIFS(FMZINp4_laika_grafiks!$K$94:$K$228,FMZINp4_laika_grafiks!#REF!,$A97,FMZINp4_laika_grafiks!$M$94:$M$228,J$61))/1000000 -> #REF! | K97: =J97-AG97 -> #REF! | L97: =(SUMIFS(FMZINp4_laika_grafiks!$K$94:$K$228,FMZINp4_laika_grafiks!#REF!,$A97,FMZINp4_laika_grafiks!$M$94:$M$228,L$61))/1000000 -> #REF! | M97: =L97-AH97 -> #REF! | N97: =(SUMIFS(FMZINp4_laika_grafiks!$K$94:$K$228,FMZINp4_laika_grafiks!#REF!,$A97,FMZINp4_laika_grafiks!$M$94:$M$228,N$61))/1000000 -> #REF! | O97: =N97-AI97 -> #REF! | P97: =(SUMIFS(FMZINp4_laika_grafiks!$K$94:$K$228,FMZINp4_laika_grafiks!#REF!,$A97,FMZINp4_laika_grafiks!$M$94:$M$228,P$61))/1000000 -> #REF! | Q97: =P97-AJ97 -> #REF! | R97: =(SUMIFS(FMZINp4_laika_grafiks!$K$94:$K$228,FMZINp4_laika_grafiks!#REF!,$A97,FMZINp4_laika_grafiks!$M$94:$M$228,R$61))/1000000 -> #REF! | S97: =R97-AK97 -> #REF! | T97: =(SUMIFS(FMZINp4_laika_grafiks!$K$94:$K$228,FMZINp4_laika_grafiks!#REF!,$A97,FMZINp4_laika_grafiks!$M$94:$M$228,T$61))/1000000 -> #REF! | U97: =T97-AL97 -> #REF! | V97: =(SUMIFS(FMZINp4_laika_grafiks!$K$94:$K$228,FMZINp4_laika_grafiks!#REF!,$A97,FMZINp4_laika_grafiks!$M$94:$M$228,V$61))/1000000 -> #REF! | W97: =V97-AM97 -> #REF! | X97: =(SUMIFS(FMZINp4_laika_grafiks!$K$94:$K$228,FMZINp4_laika_grafiks!#REF!,$A97,FMZINp4_laika_grafiks!$M$94:$M$228,X$61))/1000000 -> #REF! | Y97: =X97-AN97 -> #REF! | AB97: 2024 II | AC97: =(SUMIFS(FMZINp4_laika_grafiks!$K$94:$K$228,FMZINp4_laika_grafiks!#REF!,'GRAFIKI II'!$AB97,FMZINp4_laika_grafiks!$M$94:$M$228,'GRAFIKI II'!AC$61)/1000000) -> #REF! | AD97: =(SUMIFS(FMZINp4_laika_grafiks!$K$94:$K$228,FMZINp4_laika_grafiks!#REF!,'GRAFIKI II'!$AB97,FMZINp4_laika_grafiks!$M$94:$M$228,'GRAFIKI II'!AD$61)/1000000) -> #REF! | AE97: =(SUMIFS(FMZINp4_laika_grafiks!$K$94:$K$228,FMZINp4_laika_grafiks!#REF!,'GRAFIKI II'!$AB97,FMZINp4_laika_grafiks!$M$94:$M$228,'GRAFIKI II'!AE$61)/1000000) -> #REF! | AF97: =(SUMIFS(FMZINp4_laika_grafiks!$K$94:$K$228,FMZINp4_laika_grafiks!#REF!,'GRAFIKI II'!$AB97,FMZINp4_laika_grafiks!$M$94:$M$228,'GRAFIKI II'!AF$61)/1000000) -> #REF! | AG97: =(SUMIFS(FMZINp4_laika_grafiks!$K$94:$K$228,FMZINp4_laika_grafiks!#REF!,'GRAFIKI II'!$AB97,FMZINp4_laika_grafiks!$M$94:$M$228,'GRAFIKI II'!AG$61)/1000000) -> #REF! | AH97: =(SUMIFS(FMZINp4_laika_grafiks!$K$94:$K$228,FMZINp4_laika_grafiks!#REF!,'GRAFIKI II'!$AB97,FMZINp4_laika_grafiks!$M$94:$M$228,'GRAFIKI II'!AH$61)/1000000) -> #REF! | AI97: =(SUMIFS(FMZINp4_laika_grafiks!$K$94:$K$228,FMZINp4_laika_grafiks!#REF!,'GRAFIKI II'!$AB97,FMZINp4_laika_grafiks!$M$94:$M$228,'GRAFIKI II'!AI$61)/1000000) -> #REF! | AJ97: =(SUMIFS(FMZINp4_laika_grafiks!$K$94:$K$228,FMZINp4_laika_grafiks!#REF!,'GRAFIKI II'!$AB97,FMZINp4_laika_grafiks!$M$94:$M$228,'GRAFIKI II'!AJ$61)/1000000) -> #REF! | ... AN97: =(SUMIFS(FMZINp4_laika_grafiks!$K$94:$K$228,FMZINp4_laika_grafiks!#REF!,'GRAFIKI II'!$AB97,FMZINp4_laika_grafiks!$M$94:$M$228,'GRAFIKI II'!AN$61)/1000000) -> #REF!
A98: 2024 III | B98: =(SUMIFS(FMZINp4_laika_grafiks!$K$94:$K$228,FMZINp4_laika_grafiks!#REF!,$A98,FMZINp4_laika_grafiks!$M$94:$M$228,B$61))/1000000 -> #REF! | C98: =B98-AC98 -> #REF! | D98: =(SUMIFS(FMZINp4_laika_grafiks!$K$94:$K$228,FMZINp4_laika_grafiks!#REF!,$A98,FMZINp4_laika_grafiks!$M$94:$M$228,D$61))/1000000 -> #REF! | E98: =D98-AD98 -> #REF! | F98: =(SUMIFS(FMZINp4_laika_grafiks!$K$94:$K$228,FMZINp4_laika_grafiks!#REF!,$A98,FMZINp4_laika_grafiks!$M$94:$M$228,F$61))/1000000 -> #REF! | G98: =F98-AE98 -> #REF! | H98: =(SUMIFS(FMZINp4_laika_grafiks!$K$94:$K$228,FMZINp4_laika_grafiks!#REF!,$A98,FMZINp4_laika_grafiks!$M$94:$M$228,H$61))/1000000 -> #REF! | I98: =H98-AF98 -> #REF! | J98: =(SUMIFS(FMZINp4_laika_grafiks!$K$94:$K$228,FMZINp4_laika_grafiks!#REF!,$A98,FMZINp4_laika_grafiks!$M$94:$M$228,J$61))/1000000 -> #REF! | K98: =J98-AG98 -> #REF! | L98: =(SUMIFS(FMZINp4_laika_grafiks!$K$94:$K$228,FMZINp4_laika_grafiks!#REF!,$A98,FMZINp4_laika_grafiks!$M$94:$M$228,L$61))/1000000 -> #REF! | M98: =L98-AH98 -> #REF! | N98: =(SUMIFS(FMZINp4_laika_grafiks!$K$94:$K$228,FMZINp4_laika_grafiks!#REF!,$A98,FMZINp4_laika_grafiks!$M$94:$M$228,N$61))/1000000 -> #REF! | O98: =N98-AI98 -> #REF! | P98: =(SUMIFS(FMZINp4_laika_grafiks!$K$94:$K$228,FMZINp4_laika_grafiks!#REF!,$A98,FMZINp4_laika_grafiks!$M$94:$M$228,P$61))/1000000 -> #REF! | Q98: =P98-AJ98 -> #REF! | R98: =(SUMIFS(FMZINp4_laika_grafiks!$K$94:$K$228,FMZINp4_laika_grafiks!#REF!,$A98,FMZINp4_laika_grafiks!$M$94:$M$228,R$61))/1000000 -> #REF! | S98: =R98-AK98 -> #REF! | T98: =(SUMIFS(FMZINp4_laika_grafiks!$K$94:$K$228,FMZINp4_laika_grafiks!#REF!,$A98,FMZINp4_laika_grafiks!$M$94:$M$228,T$61))/1000000 -> #REF! | U98: =T98-AL98 -> #REF! | V98: =(SUMIFS(FMZINp4_laika_grafiks!$K$94:$K$228,FMZINp4_laika_grafiks!#REF!,$A98,FMZINp4_laika_grafiks!$M$94:$M$228,V$61))/1000000 -> #REF! | W98: =V98-AM98 -> #REF! | X98: =(SUMIFS(FMZINp4_laika_grafiks!$K$94:$K$228,FMZINp4_laika_grafiks!#REF!,$A98,FMZINp4_laika_grafiks!$M$94:$M$228,X$61))/1000000 -> #REF! | Y98: =X98-AN98 -> #REF! | AB98: 2024 III | AC98: =(SUMIFS(FMZINp4_laika_grafiks!$K$94:$K$228,FMZINp4_laika_grafiks!#REF!,'GRAFIKI II'!$AB98,FMZINp4_laika_grafiks!$M$94:$M$228,'GRAFIKI II'!AC$61)/1000000) -> #REF! | AD98: =(SUMIFS(FMZINp4_laika_grafiks!$K$94:$K$228,FMZINp4_laika_grafiks!#REF!,'GRAFIKI II'!$AB98,FMZINp4_laika_grafiks!$M$94:$M$228,'GRAFIKI II'!AD$61)/1000000) -> #REF! | AE98: =(SUMIFS(FMZINp4_laika_grafiks!$K$94:$K$228,FMZINp4_laika_grafiks!#REF!,'GRAFIKI II'!$AB98,FMZINp4_laika_grafiks!$M$94:$M$228,'GRAFIKI II'!AE$61)/1000000) -> #REF! | AF98: =(SUMIFS(FMZINp4_laika_grafiks!$K$94:$K$228,FMZINp4_laika_grafiks!#REF!,'GRAFIKI II'!$AB98,FMZINp4_laika_grafiks!$M$94:$M$228,'GRAFIKI II'!AF$61)/1000000) -> #REF! | AG98: =(SUMIFS(FMZINp4_laika_grafiks!$K$94:$K$228,FMZINp4_laika_grafiks!#REF!,'GRAFIKI II'!$AB98,FMZINp4_laika_grafiks!$M$94:$M$228,'GRAFIKI II'!AG$61)/1000000) -> #REF! | AH98: =(SUMIFS(FMZINp4_laika_grafiks!$K$94:$K$228,FMZINp4_laika_grafiks!#REF!,'GRAFIKI II'!$AB98,FMZINp4_laika_grafiks!$M$94:$M$228,'GRAFIKI II'!AH$61)/1000000) -> #REF! | AI98: =(SUMIFS(FMZINp4_laika_grafiks!$K$94:$K$228,FMZINp4_laika_grafiks!#REF!,'GRAFIKI II'!$AB98,FMZINp4_laika_grafiks!$M$94:$M$228,'GRAFIKI II'!AI$61)/1000000) -> #REF! | AJ98: =(SUMIFS(FMZINp4_laika_grafiks!$K$94:$K$228,FMZINp4_laika_grafiks!#REF!,'GRAFIKI II'!$AB98,FMZINp4_laika_grafiks!$M$94:$M$228,'GRAFIKI II'!AJ$61)/1000000) -> #REF! | ... AN98: =(SUMIFS(FMZINp4_laika_grafiks!$K$94:$K$228,FMZINp4_laika_grafiks!#REF!,'GRAFIKI II'!$AB98,FMZINp4_laika_grafiks!$M$94:$M$228,'GRAFIKI II'!AN$61)/1000000) -> #REF!
A99: 2024 IV | B99: =(SUMIFS(FMZINp4_laika_grafiks!$K$94:$K$228,FMZINp4_laika_grafiks!#REF!,$A99,FMZINp4_laika_grafiks!$M$94:$M$228,B$61))/1000000 -> #REF! | C99: =B99-AC99 -> #REF! | D99: =(SUMIFS(FMZINp4_laika_grafiks!$K$94:$K$228,FMZINp4_laika_grafiks!#REF!,$A99,FMZINp4_laika_grafiks!$M$94:$M$228,D$61))/1000000 -> #REF! | E99: =D99-AD99 -> #REF! | F99: =(SUMIFS(FMZINp4_laika_grafiks!$K$94:$K$228,FMZINp4_laika_grafiks!#REF!,$A99,FMZINp4_laika_grafiks!$M$94:$M$228,F$61))/1000000 -> #REF! | G99: =F99-AE99 -> #REF! | H99: =(SUMIFS(FMZINp4_laika_grafiks!$K$94:$K$228,FMZINp4_laika_grafiks!#REF!,$A99,FMZINp4_laika_grafiks!$M$94:$M$228,H$61))/1000000 -> #REF! | I99: =H99-AF99 -> #REF! | J99: =(SUMIFS(FMZINp4_laika_grafiks!$K$94:$K$228,FMZINp4_laika_grafiks!#REF!,$A99,FMZINp4_laika_grafiks!$M$94:$M$228,J$61))/1000000 -> #REF! | K99: =J99-AG99 -> #REF! | L99: =(SUMIFS(FMZINp4_laika_grafiks!$K$94:$K$228,FMZINp4_laika_grafiks!#REF!,$A99,FMZINp4_laika_grafiks!$M$94:$M$228,L$61))/1000000 -> #REF! | M99: =L99-AH99 -> #REF! | N99: =(SUMIFS(FMZINp4_laika_grafiks!$K$94:$K$228,FMZINp4_laika_grafiks!#REF!,$A99,FMZINp4_laika_grafiks!$M$94:$M$228,N$61))/1000000 -> #REF! | O99: =N99-AI99 -> #REF! | P99: =(SUMIFS(FMZINp4_laika_grafiks!$K$94:$K$228,FMZINp4_laika_grafiks!#REF!,$A99,FMZINp4_laika_grafiks!$M$94:$M$228,P$61))/1000000 -> #REF! | Q99: =P99-AJ99 -> #REF! | R99: =(SUMIFS(FMZINp4_laika_grafiks!$K$94:$K$228,FMZINp4_laika_grafiks!#REF!,$A99,FMZINp4_laika_grafiks!$M$94:$M$228,R$61))/1000000 -> #REF! | S99: =R99-AK99 -> #REF! | T99: =(SUMIFS(FMZINp4_laika_grafiks!$K$94:$K$228,FMZINp4_laika_grafiks!#REF!,$A99,FMZINp4_laika_grafiks!$M$94:$M$228,T$61))/1000000 -> #REF! | U99: =T99-AL99 -> #REF! | V99: =(SUMIFS(FMZINp4_laika_grafiks!$K$94:$K$228,FMZINp4_laika_grafiks!#REF!,$A99,FMZINp4_laika_grafiks!$M$94:$M$228,V$61))/1000000 -> #REF! | W99: =V99-AM99 -> #REF! | X99: =(SUMIFS(FMZINp4_laika_grafiks!$K$94:$K$228,FMZINp4_laika_grafiks!#REF!,$A99,FMZINp4_laika_grafiks!$M$94:$M$228,X$61))/1000000 -> #REF! | Y99: =X99-AN99 -> #REF! | AB99: 2024 IV | AC99: =(SUMIFS(FMZINp4_laika_grafiks!$K$94:$K$228,FMZINp4_laika_grafiks!#REF!,'GRAFIKI II'!$AB99,FMZINp4_laika_grafiks!$M$94:$M$228,'GRAFIKI II'!AC$61)/1000000) -> #REF! | AD99: =(SUMIFS(FMZINp4_laika_grafiks!$K$94:$K$228,FMZINp4_laika_grafiks!#REF!,'GRAFIKI II'!$AB99,FMZINp4_laika_grafiks!$M$94:$M$228,'GRAFIKI II'!AD$61)/1000000) -> #REF! | AE99: =(SUMIFS(FMZINp4_laika_grafiks!$K$94:$K$228,FMZINp4_laika_grafiks!#REF!,'GRAFIKI II'!$AB99,FMZINp4_laika_grafiks!$M$94:$M$228,'GRAFIKI II'!AE$61)/1000000) -> #REF! | AF99: =(SUMIFS(FMZINp4_laika_grafiks!$K$94:$K$228,FMZINp4_laika_grafiks!#REF!,'GRAFIKI II'!$AB99,FMZINp4_laika_grafiks!$M$94:$M$228,'GRAFIKI II'!AF$61)/1000000) -> #REF! | AG99: =(SUMIFS(FMZINp4_laika_grafiks!$K$94:$K$228,FMZINp4_laika_grafiks!#REF!,'GRAFIKI II'!$AB99,FMZINp4_laika_grafiks!$M$94:$M$228,'GRAFIKI II'!AG$61)/1000000) -> #REF! | AH99: =(SUMIFS(FMZINp4_laika_grafiks!$K$94:$K$228,FMZINp4_laika_grafiks!#REF!,'GRAFIKI II'!$AB99,FMZINp4_laika_grafiks!$M$94:$M$228,'GRAFIKI II'!AH$61)/1000000) -> #REF! | AI99: =(SUMIFS(FMZINp4_laika_grafiks!$K$94:$K$228,FMZINp4_laika_grafiks!#REF!,'GRAFIKI II'!$AB99,FMZINp4_laika_grafiks!$M$94:$M$228,'GRAFIKI II'!AI$61)/1000000) -> #REF! | AJ99: =(SUMIFS(FMZINp4_laika_grafiks!$K$94:$K$228,FMZINp4_laika_grafiks!#REF!,'GRAFIKI II'!$AB99,FMZINp4_laika_grafiks!$M$94:$M$228,'GRAFIKI II'!AJ$61)/1000000) -> #REF! | ... AN99: =(SUMIFS(FMZINp4_laika_grafiks!$K$94:$K$228,FMZINp4_laika_grafiks!#REF!,'GRAFIKI II'!$AB99,FMZINp4_laika_grafiks!$M$94:$M$228,'GRAFIKI II'!AN$61)/1000000) -> #REF!
A100: 2025 I | B100: =(SUMIFS(FMZINp4_laika_grafiks!$K$94:$K$228,FMZINp4_laika_grafiks!#REF!,$A100,FMZINp4_laika_grafiks!$M$94:$M$228,B$61))/1000000 -> #REF! | C100: =B100-AC100 -> #REF! | D100: =(SUMIFS(FMZINp4_laika_grafiks!$K$94:$K$228,FMZINp4_laika_grafiks!#REF!,$A100,FMZINp4_laika_grafiks!$M$94:$M$228,D$61))/1000000 -> #REF! | E100: =D100-AD100 -> #REF! | F100: =(SUMIFS(FMZINp4_laika_grafiks!$K$94:$K$228,FMZINp4_laika_grafiks!#REF!,$A100,FMZINp4_laika_grafiks!$M$94:$M$228,F$61))/1000000 -> #REF! | G100: =F100-AE100 -> #REF! | H100: =(SUMIFS(FMZINp4_laika_grafiks!$K$94:$K$228,FMZINp4_laika_grafiks!#REF!,$A100,FMZINp4_laika_grafiks!$M$94:$M$228,H$61))/1000000 -> #REF! | I100: =H100-AF100 -> #REF! | J100: =(SUMIFS(FMZINp4_laika_grafiks!$K$94:$K$228,FMZINp4_laika_grafiks!#REF!,$A100,FMZINp4_laika_grafiks!$M$94:$M$228,J$61))/1000000 -> #REF! | K100: =J100-AG100 -> #REF! | L100: =(SUMIFS(FMZINp4_laika_grafiks!$K$94:$K$228,FMZINp4_laika_grafiks!#REF!,$A100,FMZINp4_laika_grafiks!$M$94:$M$228,L$61))/1000000 -> #REF! | M100: =L100-AH100 -> #REF! | N100: =(SUMIFS(FMZINp4_laika_grafiks!$K$94:$K$228,FMZINp4_laika_grafiks!#REF!,$A100,FMZINp4_laika_grafiks!$M$94:$M$228,N$61))/1000000 -> #REF! | O100: =N100-AI100 -> #REF! | P100: =(SUMIFS(FMZINp4_laika_grafiks!$K$94:$K$228,FMZINp4_laika_grafiks!#REF!,$A100,FMZINp4_laika_grafiks!$M$94:$M$228,P$61))/1000000 -> #REF! | Q100: =P100-AJ100 -> #REF! | R100: =(SUMIFS(FMZINp4_laika_grafiks!$K$94:$K$228,FMZINp4_laika_grafiks!#REF!,$A100,FMZINp4_laika_grafiks!$M$94:$M$228,R$61))/1000000 -> #REF! | S100: =R100-AK100 -> #REF! | T100: =(SUMIFS(FMZINp4_laika_grafiks!$K$94:$K$228,FMZINp4_laika_grafiks!#REF!,$A100,FMZINp4_laika_grafiks!$M$94:$M$228,T$61))/1000000 -> #REF! | U100: =T100-AL100 -> #REF! | V100: =(SUMIFS(FMZINp4_laika_grafiks!$K$94:$K$228,FMZINp4_laika_grafiks!#REF!,$A100,FMZINp4_laika_grafiks!$M$94:$M$228,V$61))/1000000 -> #REF! | W100: =V100-AM100 -> #REF! | X100: =(SUMIFS(FMZINp4_laika_grafiks!$K$94:$K$228,FMZINp4_laika_grafiks!#REF!,$A100,FMZINp4_laika_grafiks!$M$94:$M$228,X$61))/1000000 -> #REF! | Y100: =X100-AN100 -> #REF! | AB100: 2025 I | AC100: =(SUMIFS(FMZINp4_laika_grafiks!$K$94:$K$228,FMZINp4_laika_grafiks!#REF!,'GRAFIKI II'!$AB100,FMZINp4_laika_grafiks!$M$94:$M$228,'GRAFIKI II'!AC$61)/1000000) -> #REF! | AD100: =(SUMIFS(FMZINp4_laika_grafiks!$K$94:$K$228,FMZINp4_laika_grafiks!#REF!,'GRAFIKI II'!$AB100,FMZINp4_laika_grafiks!$M$94:$M$228,'GRAFIKI II'!AD$61)/1000000) -> #REF! | AE100: =(SUMIFS(FMZINp4_laika_grafiks!$K$94:$K$228,FMZINp4_laika_grafiks!#REF!,'GRAFIKI II'!$AB100,FMZINp4_laika_grafiks!$M$94:$M$228,'GRAFIKI II'!AE$61)/1000000) -> #REF! | AF100: =(SUMIFS(FMZINp4_laika_grafiks!$K$94:$K$228,FMZINp4_laika_grafiks!#REF!,'GRAFIKI II'!$AB100,FMZINp4_laika_grafiks!$M$94:$M$228,'GRAFIKI II'!AF$61)/1000000) -> #REF! | AG100: =(SUMIFS(FMZINp4_laika_grafiks!$K$94:$K$228,FMZINp4_laika_grafiks!#REF!,'GRAFIKI II'!$AB100,FMZINp4_laika_grafiks!$M$94:$M$228,'GRAFIKI II'!AG$61)/1000000) -> #REF! | AH100: =(SUMIFS(FMZINp4_laika_grafiks!$K$94:$K$228,FMZINp4_laika_grafiks!#REF!,'GRAFIKI II'!$AB100,FMZINp4_laika_grafiks!$M$94:$M$228,'GRAFIKI II'!AH$61)/1000000) -> #REF! | AI100: =(SUMIFS(FMZINp4_laika_grafiks!$K$94:$K$228,FMZINp4_laika_grafiks!#REF!,'GRAFIKI II'!$AB100,FMZINp4_laika_grafiks!$M$94:$M$228,'GRAFIKI II'!AI$61)/1000000) -> #REF! | AJ100: =(SUMIFS(FMZINp4_laika_grafiks!$K$94:$K$228,FMZINp4_laika_grafiks!#REF!,'GRAFIKI II'!$AB100,FMZINp4_laika_grafiks!$M$94:$M$228,'GRAFIKI II'!AJ$61)/1000000) -> #REF! | ... AN100: =(SUMIFS(FMZINp4_laika_grafiks!$K$94:$K$228,FMZINp4_laika_grafiks!#REF!,'GRAFIKI II'!$AB100,FMZINp4_laika_grafiks!$M$94:$M$228,'GRAFIKI II'!AN$61)/1000000) -> #REF!
A101: 2025 II | B101: =(SUMIFS(FMZINp4_laika_grafiks!$K$94:$K$228,FMZINp4_laika_grafiks!#REF!,$A101,FMZINp4_laika_grafiks!$M$94:$M$228,B$61))/1000000 -> #REF! | C101: =B101-AC101 -> #REF! | D101: =(SUMIFS(FMZINp4_laika_grafiks!$K$94:$K$228,FMZINp4_laika_grafiks!#REF!,$A101,FMZINp4_laika_grafiks!$M$94:$M$228,D$61))/1000000 -> #REF! | E101: =D101-AD101 -> #REF! | F101: =(SUMIFS(FMZINp4_laika_grafiks!$K$94:$K$228,FMZINp4_laika_grafiks!#REF!,$A101,FMZINp4_laika_grafiks!$M$94:$M$228,F$61))/1000000 -> #REF! | G101: =F101-AE101 -> #REF! | H101: =(SUMIFS(FMZINp4_laika_grafiks!$K$94:$K$228,FMZINp4_laika_grafiks!#REF!,$A101,FMZINp4_laika_grafiks!$M$94:$M$228,H$61))/1000000 -> #REF! | I101: =H101-AF101 -> #REF! | J101: =(SUMIFS(FMZINp4_laika_grafiks!$K$94:$K$228,FMZINp4_laika_grafiks!#REF!,$A101,FMZINp4_laika_grafiks!$M$94:$M$228,J$61))/1000000 -> #REF! | K101: =J101-AG101 -> #REF! | L101: =(SUMIFS(FMZINp4_laika_grafiks!$K$94:$K$228,FMZINp4_laika_grafiks!#REF!,$A101,FMZINp4_laika_grafiks!$M$94:$M$228,L$61))/1000000 -> #REF! | M101: =L101-AH101 -> #REF! | N101: =(SUMIFS(FMZINp4_laika_grafiks!$K$94:$K$228,FMZINp4_laika_grafiks!#REF!,$A101,FMZINp4_laika_grafiks!$M$94:$M$228,N$61))/1000000 -> #REF! | O101: =N101-AI101 -> #REF! | P101: =(SUMIFS(FMZINp4_laika_grafiks!$K$94:$K$228,FMZINp4_laika_grafiks!#REF!,$A101,FMZINp4_laika_grafiks!$M$94:$M$228,P$61))/1000000 -> #REF! | Q101: =P101-AJ101 -> #REF! | R101: =(SUMIFS(FMZINp4_laika_grafiks!$K$94:$K$228,FMZINp4_laika_grafiks!#REF!,$A101,FMZINp4_laika_grafiks!$M$94:$M$228,R$61))/1000000 -> #REF! | S101: =R101-AK101 -> #REF! | T101: =(SUMIFS(FMZINp4_laika_grafiks!$K$94:$K$228,FMZINp4_laika_grafiks!#REF!,$A101,FMZINp4_laika_grafiks!$M$94:$M$228,T$61))/1000000 -> #REF! | U101: =T101-AL101 -> #REF! | V101: =(SUMIFS(FMZINp4_laika_grafiks!$K$94:$K$228,FMZINp4_laika_grafiks!#REF!,$A101,FMZINp4_laika_grafiks!$M$94:$M$228,V$61))/1000000 -> #REF! | W101: =V101-AM101 -> #REF! | X101: =(SUMIFS(FMZINp4_laika_grafiks!$K$94:$K$228,FMZINp4_laika_grafiks!#REF!,$A101,FMZINp4_laika_grafiks!$M$94:$M$228,X$61))/1000000 -> #REF! | Y101: =X101-AN101 -> #REF! | AB101: 2025 II | AC101: =(SUMIFS(FMZINp4_laika_grafiks!$K$94:$K$228,FMZINp4_laika_grafiks!#REF!,'GRAFIKI II'!$AB101,FMZINp4_laika_grafiks!$M$94:$M$228,'GRAFIKI II'!AC$61)/1000000) -> #REF! | AD101: =(SUMIFS(FMZINp4_laika_grafiks!$K$94:$K$228,FMZINp4_laika_grafiks!#REF!,'GRAFIKI II'!$AB101,FMZINp4_laika_grafiks!$M$94:$M$228,'GRAFIKI II'!AD$61)/1000000) -> #REF! | AE101: =(SUMIFS(FMZINp4_laika_grafiks!$K$94:$K$228,FMZINp4_laika_grafiks!#REF!,'GRAFIKI II'!$AB101,FMZINp4_laika_grafiks!$M$94:$M$228,'GRAFIKI II'!AE$61)/1000000) -> #REF! | AF101: =(SUMIFS(FMZINp4_laika_grafiks!$K$94:$K$228,FMZINp4_laika_grafiks!#REF!,'GRAFIKI II'!$AB101,FMZINp4_laika_grafiks!$M$94:$M$228,'GRAFIKI II'!AF$61)/1000000) -> #REF! | AG101: =(SUMIFS(FMZINp4_laika_grafiks!$K$94:$K$228,FMZINp4_laika_grafiks!#REF!,'GRAFIKI II'!$AB101,FMZINp4_laika_grafiks!$M$94:$M$228,'GRAFIKI II'!AG$61)/1000000) -> #REF! | AH101: =(SUMIFS(FMZINp4_laika_grafiks!$K$94:$K$228,FMZINp4_laika_grafiks!#REF!,'GRAFIKI II'!$AB101,FMZINp4_laika_grafiks!$M$94:$M$228,'GRAFIKI II'!AH$61)/1000000) -> #REF! | AI101: =(SUMIFS(FMZINp4_laika_grafiks!$K$94:$K$228,FMZINp4_laika_grafiks!#REF!,'GRAFIKI II'!$AB101,FMZINp4_laika_grafiks!$M$94:$M$228,'GRAFIKI II'!AI$61)/1000000) -> #REF! | AJ101: =(SUMIFS(FMZINp4_laika_grafiks!$K$94:$K$228,FMZINp4_laika_grafiks!#REF!,'GRAFIKI II'!$AB101,FMZINp4_laika_grafiks!$M$94:$M$228,'GRAFIKI II'!AJ$61)/1000000) -> #REF! | ... AN101: =(SUMIFS(FMZINp4_laika_grafiks!$K$94:$K$228,FMZINp4_laika_grafiks!#REF!,'GRAFIKI II'!$AB101,FMZINp4_laika_grafiks!$M$94:$M$228,'GRAFIKI II'!AN$61)/1000000) -> #REF!
A102: 2025 III | B102: =(SUMIFS(FMZINp4_laika_grafiks!$K$94:$K$228,FMZINp4_laika_grafiks!#REF!,$A102,FMZINp4_laika_grafiks!$M$94:$M$228,B$61))/1000000 -> #REF! | C102: =B102-AC102 -> #REF! | D102: =(SUMIFS(FMZINp4_laika_grafiks!$K$94:$K$228,FMZINp4_laika_grafiks!#REF!,$A102,FMZINp4_laika_grafiks!$M$94:$M$228,D$61))/1000000 -> #REF! | E102: =D102-AD102 -> #REF! | F102: =(SUMIFS(FMZINp4_laika_grafiks!$K$94:$K$228,FMZINp4_laika_grafiks!#REF!,$A102,FMZINp4_laika_grafiks!$M$94:$M$228,F$61))/1000000 -> #REF! | G102: =F102-AE102 -> #REF! | H102: =(SUMIFS(FMZINp4_laika_grafiks!$K$94:$K$228,FMZINp4_laika_grafiks!#REF!,$A102,FMZINp4_laika_grafiks!$M$94:$M$228,H$61))/1000000 -> #REF! | I102: =H102-AF102 -> #REF! | J102: =(SUMIFS(FMZINp4_laika_grafiks!$K$94:$K$228,FMZINp4_laika_grafiks!#REF!,$A102,FMZINp4_laika_grafiks!$M$94:$M$228,J$61))/1000000 -> #REF! | K102: =J102-AG102 -> #REF! | L102: =(SUMIFS(FMZINp4_laika_grafiks!$K$94:$K$228,FMZINp4_laika_grafiks!#REF!,$A102,FMZINp4_laika_grafiks!$M$94:$M$228,L$61))/1000000 -> #REF! | M102: =L102-AH102 -> #REF! | N102: =(SUMIFS(FMZINp4_laika_grafiks!$K$94:$K$228,FMZINp4_laika_grafiks!#REF!,$A102,FMZINp4_laika_grafiks!$M$94:$M$228,N$61))/1000000 -> #REF! | O102: =N102-AI102 -> #REF! | P102: =(SUMIFS(FMZINp4_laika_grafiks!$K$94:$K$228,FMZINp4_laika_grafiks!#REF!,$A102,FMZINp4_laika_grafiks!$M$94:$M$228,P$61))/1000000 -> #REF! | Q102: =P102-AJ102 -> #REF! | R102: =(SUMIFS(FMZINp4_laika_grafiks!$K$94:$K$228,FMZINp4_laika_grafiks!#REF!,$A102,FMZINp4_laika_grafiks!$M$94:$M$228,R$61))/1000000 -> #REF! | S102: =R102-AK102 -> #REF! | T102: =(SUMIFS(FMZINp4_laika_grafiks!$K$94:$K$228,FMZINp4_laika_grafiks!#REF!,$A102,FMZINp4_laika_grafiks!$M$94:$M$228,T$61))/1000000 -> #REF! | U102: =T102-AL102 -> #REF! | V102: =(SUMIFS(FMZINp4_laika_grafiks!$K$94:$K$228,FMZINp4_laika_grafiks!#REF!,$A102,FMZINp4_laika_grafiks!$M$94:$M$228,V$61))/1000000 -> #REF! | W102: =V102-AM102 -> #REF! | X102: =(SUMIFS(FMZINp4_laika_grafiks!$K$94:$K$228,FMZINp4_laika_grafiks!#REF!,$A102,FMZINp4_laika_grafiks!$M$94:$M$228,X$61))/1000000 -> #REF! | Y102: =X102-AN102 -> #REF! | AB102: 2025 III | AC102: =(SUMIFS(FMZINp4_laika_grafiks!$K$94:$K$228,FMZINp4_laika_grafiks!#REF!,'GRAFIKI II'!$AB102,FMZINp4_laika_grafiks!$M$94:$M$228,'GRAFIKI II'!AC$61)/1000000) -> #REF! | AD102: =(SUMIFS(FMZINp4_laika_grafiks!$K$94:$K$228,FMZINp4_laika_grafiks!#REF!,'GRAFIKI II'!$AB102,FMZINp4_laika_grafiks!$M$94:$M$228,'GRAFIKI II'!AD$61)/1000000) -> #REF! | AE102: =(SUMIFS(FMZINp4_laika_grafiks!$K$94:$K$228,FMZINp4_laika_grafiks!#REF!,'GRAFIKI II'!$AB102,FMZINp4_laika_grafiks!$M$94:$M$228,'GRAFIKI II'!AE$61)/1000000) -> #REF! | AF102: =(SUMIFS(FMZINp4_laika_grafiks!$K$94:$K$228,FMZINp4_laika_grafiks!#REF!,'GRAFIKI II'!$AB102,FMZINp4_laika_grafiks!$M$94:$M$228,'GRAFIKI II'!AF$61)/1000000) -> #REF! | AG102: =(SUMIFS(FMZINp4_laika_grafiks!$K$94:$K$228,FMZINp4_laika_grafiks!#REF!,'GRAFIKI II'!$AB102,FMZINp4_laika_grafiks!$M$94:$M$228,'GRAFIKI II'!AG$61)/1000000) -> #REF! | AH102: =(SUMIFS(FMZINp4_laika_grafiks!$K$94:$K$228,FMZINp4_laika_grafiks!#REF!,'GRAFIKI II'!$AB102,FMZINp4_laika_grafiks!$M$94:$M$228,'GRAFIKI II'!AH$61)/1000000) -> #REF! | AI102: =(SUMIFS(FMZINp4_laika_grafiks!$K$94:$K$228,FMZINp4_laika_grafiks!#REF!,'GRAFIKI II'!$AB102,FMZINp4_laika_grafiks!$M$94:$M$228,'GRAFIKI II'!AI$61)/1000000) -> #REF! | AJ102: =(SUMIFS(FMZINp4_laika_grafiks!$K$94:$K$228,FMZINp4_laika_grafiks!#REF!,'GRAFIKI II'!$AB102,FMZINp4_laika_grafiks!$M$94:$M$228,'GRAFIKI II'!AJ$61)/1000000) -> #REF! | ... AN102: =(SUMIFS(FMZINp4_laika_grafiks!$K$94:$K$228,FMZINp4_laika_grafiks!#REF!,'GRAFIKI II'!$AB102,FMZINp4_laika_grafiks!$M$94:$M$228,'GRAFIKI II'!AN$61)/1000000) -> #REF!
A103: 2025 IV | B103: =(SUMIFS(FMZINp4_laika_grafiks!$K$94:$K$228,FMZINp4_laika_grafiks!#REF!,$A103,FMZINp4_laika_grafiks!$M$94:$M$228,B$61))/1000000 -> #REF! | C103: =B103-AC103 -> #REF! | D103: =(SUMIFS(FMZINp4_laika_grafiks!$K$94:$K$228,FMZINp4_laika_grafiks!#REF!,$A103,FMZINp4_laika_grafiks!$M$94:$M$228,D$61))/1000000 -> #REF! | E103: =D103-AD103 -> #REF! | F103: =(SUMIFS(FMZINp4_laika_grafiks!$K$94:$K$228,FMZINp4_laika_grafiks!#REF!,$A103,FMZINp4_laika_grafiks!$M$94:$M$228,F$61))/1000000 -> #REF! | G103: =F103-AE103 -> #REF! | H103: =(SUMIFS(FMZINp4_laika_grafiks!$K$94:$K$228,FMZINp4_laika_grafiks!#REF!,$A103,FMZINp4_laika_grafiks!$M$94:$M$228,H$61))/1000000 -> #REF! | I103: =H103-AF103 -> #REF! | J103: =(SUMIFS(FMZINp4_laika_grafiks!$K$94:$K$228,FMZINp4_laika_grafiks!#REF!,$A103,FMZINp4_laika_grafiks!$M$94:$M$228,J$61))/1000000 -> #REF! | K103: =J103-AG103 -> #REF! | L103: =(SUMIFS(FMZINp4_laika_grafiks!$K$94:$K$228,FMZINp4_laika_grafiks!#REF!,$A103,FMZINp4_laika_grafiks!$M$94:$M$228,L$61))/1000000 -> #REF! | M103: =L103-AH103 -> #REF! | N103: =(SUMIFS(FMZINp4_laika_grafiks!$K$94:$K$228,FMZINp4_laika_grafiks!#REF!,$A103,FMZINp4_laika_grafiks!$M$94:$M$228,N$61))/1000000 -> #REF! | O103: =N103-AI103 -> #REF! | P103: =(SUMIFS(FMZINp4_laika_grafiks!$K$94:$K$228,FMZINp4_laika_grafiks!#REF!,$A103,FMZINp4_laika_grafiks!$M$94:$M$228,P$61))/1000000 -> #REF! | Q103: =P103-AJ103 -> #REF! | R103: =(SUMIFS(FMZINp4_laika_grafiks!$K$94:$K$228,FMZINp4_laika_grafiks!#REF!,$A103,FMZINp4_laika_grafiks!$M$94:$M$228,R$61))/1000000 -> #REF! | S103: =R103-AK103 -> #REF! | T103: =(SUMIFS(FMZINp4_laika_grafiks!$K$94:$K$228,FMZINp4_laika_grafiks!#REF!,$A103,FMZINp4_laika_grafiks!$M$94:$M$228,T$61))/1000000 -> #REF! | U103: =T103-AL103 -> #REF! | V103: =(SUMIFS(FMZINp4_laika_grafiks!$K$94:$K$228,FMZINp4_laika_grafiks!#REF!,$A103,FMZINp4_laika_grafiks!$M$94:$M$228,V$61))/1000000 -> #REF! | W103: =V103-AM103 -> #REF! | X103: =(SUMIFS(FMZINp4_laika_grafiks!$K$94:$K$228,FMZINp4_laika_grafiks!#REF!,$A103,FMZINp4_laika_grafiks!$M$94:$M$228,X$61))/1000000 -> #REF! | Y103: =X103-AN103 -> #REF! | AB103: 2025 IV | AC103: =(SUMIFS(FMZINp4_laika_grafiks!$K$94:$K$228,FMZINp4_laika_grafiks!#REF!,'GRAFIKI II'!$AB103,FMZINp4_laika_grafiks!$M$94:$M$228,'GRAFIKI II'!AC$61)/1000000) -> #REF! | AD103: =(SUMIFS(FMZINp4_laika_grafiks!$K$94:$K$228,FMZINp4_laika_grafiks!#REF!,'GRAFIKI II'!$AB103,FMZINp4_laika_grafiks!$M$94:$M$228,'GRAFIKI II'!AD$61)/1000000) -> #REF! | AE103: =(SUMIFS(FMZINp4_laika_grafiks!$K$94:$K$228,FMZINp4_laika_grafiks!#REF!,'GRAFIKI II'!$AB103,FMZINp4_laika_grafiks!$M$94:$M$228,'GRAFIKI II'!AE$61)/1000000) -> #REF! | AF103: =(SUMIFS(FMZINp4_laika_grafiks!$K$94:$K$228,FMZINp4_laika_grafiks!#REF!,'GRAFIKI II'!$AB103,FMZINp4_laika_grafiks!$M$94:$M$228,'GRAFIKI II'!AF$61)/1000000) -> #REF! | AG103: =(SUMIFS(FMZINp4_laika_grafiks!$K$94:$K$228,FMZINp4_laika_grafiks!#REF!,'GRAFIKI II'!$AB103,FMZINp4_laika_grafiks!$M$94:$M$228,'GRAFIKI II'!AG$61)/1000000) -> #REF! | AH103: =(SUMIFS(FMZINp4_laika_grafiks!$K$94:$K$228,FMZINp4_laika_grafiks!#REF!,'GRAFIKI II'!$AB103,FMZINp4_laika_grafiks!$M$94:$M$228,'GRAFIKI II'!AH$61)/1000000) -> #REF! | AI103: =(SUMIFS(FMZINp4_laika_grafiks!$K$94:$K$228,FMZINp4_laika_grafiks!#REF!,'GRAFIKI II'!$AB103,FMZINp4_laika_grafiks!$M$94:$M$228,'GRAFIKI II'!AI$61)/1000000) -> #REF! | AJ103: =(SUMIFS(FMZINp4_laika_grafiks!$K$94:$K$228,FMZINp4_laika_grafiks!#REF!,'GRAFIKI II'!$AB103,FMZINp4_laika_grafiks!$M$94:$M$228,'GRAFIKI II'!AJ$61)/1000000) -> #REF! | ... AN103: =(SUMIFS(FMZINp4_laika_grafiks!$K$94:$K$228,FMZINp4_laika_grafiks!#REF!,'GRAFIKI II'!$AB103,FMZINp4_laika_grafiks!$M$94:$M$228,'GRAFIKI II'!AN$61)/1000000) -> #REF!
... A112: 2027 IV | B112: =(SUMIFS(FMZINp4_laika_grafiks!$K$94:$K$228,FMZINp4_laika_grafiks!#REF!,$A112,FMZINp4_laika_grafiks!$M$94:$M$228,B$61))/1000000 -> #REF! | C112: =B112-AC112 -> #REF! | D112: =(SUMIFS(FMZINp4_laika_grafiks!$K$94:$K$228,FMZINp4_laika_grafiks!#REF!,$A112,FMZINp4_laika_grafiks!$M$94:$M$228,D$61))/1000000 -> #REF! | E112: =D112-AD112 -> #REF! | F112: =(SUMIFS(FMZINp4_laika_grafiks!$K$94:$K$228,FMZINp4_laika_grafiks!#REF!,$A112,FMZINp4_laika_grafiks!$M$94:$M$228,F$61))/1000000 -> #REF! | G112: =F112-AE112 -> #REF! | H112: =(SUMIFS(FMZINp4_laika_grafiks!$K$94:$K$228,FMZINp4_laika_grafiks!#REF!,$A112,FMZINp4_laika_grafiks!$M$94:$M$228,H$61))/1000000 -> #REF! | I112: =H112-AF112 -> #REF! | J112: =(SUMIFS(FMZINp4_laika_grafiks!$K$94:$K$228,FMZINp4_laika_grafiks!#REF!,$A112,FMZINp4_laika_grafiks!$M$94:$M$228,J$61))/1000000 -> #REF! | K112: =J112-AG112 -> #REF! | L112: =(SUMIFS(FMZINp4_laika_grafiks!$K$94:$K$228,FMZINp4_laika_grafiks!#REF!,$A112,FMZINp4_laika_grafiks!$M$94:$M$228,L$61))/1000000 -> #REF! | M112: =L112-AH112 -> #REF! | N112: =(SUMIFS(FMZINp4_laika_grafiks!$K$94:$K$228,FMZINp4_laika_grafiks!#REF!,$A112,FMZINp4_laika_grafiks!$M$94:$M$228,N$61))/1000000 -> #REF! | O112: =N112-AI112 -> #REF! | P112: =(SUMIFS(FMZINp4_laika_grafiks!$K$94:$K$228,FMZINp4_laika_grafiks!#REF!,$A112,FMZINp4_laika_grafiks!$M$94:$M$228,P$61))/1000000 -> #REF! | Q112: =P112-AJ112 -> #REF! | R112: =(SUMIFS(FMZINp4_laika_grafiks!$K$94:$K$228,FMZINp4_laika_grafiks!#REF!,$A112,FMZINp4_laika_grafiks!$M$94:$M$228,R$61))/1000000 -> #REF! | S112: =R112-AK112 -> #REF! | T112: =(SUMIFS(FMZINp4_laika_grafiks!$K$94:$K$228,FMZINp4_laika_grafiks!#REF!,$A112,FMZINp4_laika_grafiks!$M$94:$M$228,T$61))/1000000 -> #REF! | U112: =T112-AL112 -> #REF! | V112: =(SUMIFS(FMZINp4_laika_grafiks!$K$94:$K$228,FMZINp4_laika_grafiks!#REF!,$A112,FMZINp4_laika_grafiks!$M$94:$M$228,V$61))/1000000 -> #REF! | W112: =V112-AM112 -> #REF! | X112: =(SUMIFS(FMZINp4_laika_grafiks!$K$94:$K$228,FMZINp4_laika_grafiks!#REF!,$A112,FMZINp4_laika_grafiks!$M$94:$M$228,X$61))/1000000 -> #REF! | Y112: =X112-AN112 -> #REF! | AB112: 2027 IV | AC112: =(SUMIFS(FMZINp4_laika_grafiks!$K$94:$K$228,FMZINp4_laika_grafiks!#REF!,'GRAFIKI II'!$AB112,FMZINp4_laika_grafiks!$M$94:$M$228,'GRAFIKI II'!AC$61)/1000000) -> #REF! | AD112: =(SUMIFS(FMZINp4_laika_grafiks!$K$94:$K$228,FMZINp4_laika_grafiks!#REF!,'GRAFIKI II'!$AB112,FMZINp4_laika_grafiks!$M$94:$M$228,'GRAFIKI II'!AD$61)/1000000) -> #REF! | AE112: =(SUMIFS(FMZINp4_laika_grafiks!$K$94:$K$228,FMZINp4_laika_grafiks!#REF!,'GRAFIKI II'!$AB112,FMZINp4_laika_grafiks!$M$94:$M$228,'GRAFIKI II'!AE$61)/1000000) -> #REF! | AF112: =(SUMIFS(FMZINp4_laika_grafiks!$K$94:$K$228,FMZINp4_laika_grafiks!#REF!,'GRAFIKI II'!$AB112,FMZINp4_laika_grafiks!$M$94:$M$228,'GRAFIKI II'!AF$61)/1000000) -> #REF! | AG112: =(SUMIFS(FMZINp4_laika_grafiks!$K$94:$K$228,FMZINp4_laika_grafiks!#REF!,'GRAFIKI II'!$AB112,FMZINp4_laika_grafiks!$M$94:$M$228,'GRAFIKI II'!AG$61)/1000000) -> #REF! | AH112: =(SUMIFS(FMZINp4_laika_grafiks!$K$94:$K$228,FMZINp4_laika_grafiks!#REF!,'GRAFIKI II'!$AB112,FMZINp4_laika_grafiks!$M$94:$M$228,'GRAFIKI II'!AH$61)/1000000) -> #REF! | AI112: =(SUMIFS(FMZINp4_laika_grafiks!$K$94:$K$228,FMZINp4_laika_grafiks!#REF!,'GRAFIKI II'!$AB112,FMZINp4_laika_grafiks!$M$94:$M$228,'GRAFIKI II'!AI$61)/1000000) -> #REF! | AJ112: =(SUMIFS(FMZINp4_laika_grafiks!$K$94:$K$228,FMZINp4_laika_grafiks!#REF!,'GRAFIKI II'!$AB112,FMZINp4_laika_grafiks!$M$94:$M$228,'GRAFIKI II'!AJ$61)/1000000) -> #REF! | ... AN112: =(SUMIFS(FMZINp4_laika_grafiks!$K$94:$K$228,FMZINp4_laika_grafiks!#REF!,'GRAFIKI II'!$AB112,FMZINp4_laika_grafiks!$M$94:$M$228,'GRAFIKI II'!AN$61)/1000000) -> #REF!
A113: Kopā | B113: =SUM(B91:B112) -> #REF! | C113: =B113-AC113 -> #REF! | D113: =SUM(D91:D112) -> #REF! | E113: =D113-AD113 -> #REF! | F113: =SUM(F91:F112) -> #REF! | G113: =F113-AE113 -> #REF! | H113: =SUM(H91:H112) -> #REF! | I113: =H113-AF113 -> #REF! | J113: =SUM(J91:J112) -> #REF! | K113: =J113-AG113 -> #REF! | L113: =SUM(L91:L112) -> #REF! | M113: =L113-AH113 -> #REF! | N113: =SUM(N91:N112) -> #REF! | O113: =N113-AI113 -> #REF! | P113: =SUM(P91:P112) -> #REF! | Q113: =P113-AJ113 -> #REF! | R113: =SUM(R91:R112) -> #REF! | S113: =R113-AK113 -> #REF! | T113: =SUM(T91:T112) -> #REF! | U113: =T113-AL113 -> #REF! | V113: =SUM(V91:V112) -> #REF! | W113: =V113-AM113 -> #REF! | X113: =SUM(X91:X112) -> #REF! | Y113: =X113-AN113 -> #REF! | AB113: =SUM(AC113:AN113) -> #REF! | AC113: =SUM(AC91:AC112) -> #REF! | AD113: =SUM(AD91:AD112) -> #REF! | AE113: =SUM(AE91:AE112) -> #REF! | AF113: =SUM(AF91:AF112) -> #REF! | AG113: =SUM(AG91:AG112) -> #REF! | AH113: =SUM(AH91:AH112) -> #REF! | AI113: =SUM(AI91:AI112) -> #REF! | AJ113: =SUM(AJ91:AJ112) -> #REF! | ... AN113: =SUM(AN91:AN112) -> #REF!
A114: =SUM(B113:I113) -> #REF!
A116: KUMULATĪVI
P117: Laika grafiks uz 25.04.2023.
B118: Projektu atlases pa ministrijām kumulatīvi, milj. EUR | Q118: Projektu atlases kumulatīvi uz 25.04.2023., milj. EUR | AI118: Sākotnēji plānotie grafiki 30.09.2022.
B119: SM | C119: EM | D119: VARAM | E119: IZM | F119: VM | G119: LM | H119: KM | I119: FM | J119: VK | K119: IeM | L119: TM | M119: KEM | Q119: SM | R119: EM | S119: VARAM | T119: IZM | U119: VM | V119: LM | W119: KM | X119: FM | Y119: VK | Z119: IeM | AA119: TM | AB119: KEM | AI119: MK noteikumu finansējums pa ministrijām kumulatīvi uz 30.09.2023., milj. EUR
A120: 2022 IV | B120: =SUMIFS(FMZINp4_laika_grafiks!$K$94:$K$228,FMZINp4_laika_grafiks!#REF!,'GRAFIKI II'!$A120,FMZINp4_laika_grafiks!$M$94:$M$228,'GRAFIKI II'!B$119) -> #REF! | C120: =SUMIFS(FMZINp4_laika_grafiks!$K$94:$K$228,FMZINp4_laika_grafiks!#REF!,'GRAFIKI II'!$A120,FMZINp4_laika_grafiks!$M$94:$M$228,'GRAFIKI II'!C$119) -> #REF! | D120: =SUMIFS(FMZINp4_laika_grafiks!$K$94:$K$228,FMZINp4_laika_grafiks!#REF!,'GRAFIKI II'!$A120,FMZINp4_laika_grafiks!$M$94:$M$228,'GRAFIKI II'!D$119) -> #REF! | E120: =SUMIFS(FMZINp4_laika_grafiks!$K$94:$K$228,FMZINp4_laika_grafiks!#REF!,'GRAFIKI II'!$A120,FMZINp4_laika_grafiks!$M$94:$M$228,'GRAFIKI II'!E$119) -> #REF! | F120: =SUMIFS(FMZINp4_laika_grafiks!$K$94:$K$228,FMZINp4_laika_grafiks!#REF!,'GRAFIKI II'!$A120,FMZINp4_laika_grafiks!$M$94:$M$228,'GRAFIKI II'!F$119) -> #REF! | G120: =SUMIFS(FMZINp4_laika_grafiks!$K$94:$K$228,FMZINp4_laika_grafiks!#REF!,'GRAFIKI II'!$A120,FMZINp4_laika_grafiks!$M$94:$M$228,'GRAFIKI II'!G$119) -> #REF! | H120: =SUMIFS(FMZINp4_laika_grafiks!$K$94:$K$228,FMZINp4_laika_grafiks!#REF!,'GRAFIKI II'!$A120,FMZINp4_laika_grafiks!$M$94:$M$228,'GRAFIKI II'!H$119) -> #REF! | I120: =SUMIFS(FMZINp4_laika_grafiks!$K$94:$K$228,FMZINp4_laika_grafiks!#REF!,'GRAFIKI II'!$A120,FMZINp4_laika_grafiks!$M$94:$M$228,'GRAFIKI II'!I$119) -> #REF! | ... M120: =SUMIFS(FMZINp4_laika_grafiks!$K$94:$K$228,FMZINp4_laika_grafiks!#REF!,'GRAFIKI II'!$A120,FMZINp4_laika_grafiks!$M$94:$M$228,'GRAFIKI II'!M$119) -> #REF! | P120: 2022 IV | Q120: =(SUMIFS(FMZINp4_laika_grafiks!$K$94:$K$228,FMZINp4_laika_grafiks!#REF!,'GRAFIKI II'!$P120,FMZINp4_laika_grafiks!$M$94:$M$228,'GRAFIKI II'!Q$119))/1000000 -> #REF! | R120: =(SUMIFS(FMZINp4_laika_grafiks!$K$94:$K$228,FMZINp4_laika_grafiks!#REF!,'GRAFIKI II'!$P120,FMZINp4_laika_grafiks!$M$94:$M$228,'GRAFIKI II'!R$119))/1000000 -> #REF! | S120: =(SUMIFS(FMZINp4_laika_grafiks!$K$94:$K$228,FMZINp4_laika_grafiks!#REF!,'GRAFIKI II'!$P120,FMZINp4_laika_grafiks!$M$94:$M$228,'GRAFIKI II'!S$119))/1000000 -> #REF! | T120: =(SUMIFS(FMZINp4_laika_grafiks!$K$94:$K$228,FMZINp4_laika_grafiks!#REF!,'GRAFIKI II'!$P120,FMZINp4_laika_grafiks!$M$94:$M$228,'GRAFIKI II'!T$119))/1000000 -> #REF! | U120: =(SUMIFS(FMZINp4_laika_grafiks!$K$94:$K$228,FMZINp4_laika_grafiks!#REF!,'GRAFIKI II'!$P120,FMZINp4_laika_grafiks!$M$94:$M$228,'GRAFIKI II'!U$119))/1000000 -> #REF! | V120: =(SUMIFS(FMZINp4_laika_grafiks!$K$94:$K$228,FMZINp4_laika_grafiks!#REF!,'GRAFIKI II'!$P120,FMZINp4_laika_grafiks!$M$94:$M$228,'GRAFIKI II'!V$119))/1000000 -> #REF! | W120: =(SUMIFS(FMZINp4_laika_grafiks!$K$94:$K$228,FMZINp4_laika_grafiks!#REF!,'GRAFIKI II'!$P120,FMZINp4_laika_grafiks!$M$94:$M$228,'GRAFIKI II'!W$119))/1000000 -> #REF! | X120: =(SUMIFS(FMZINp4_laika_grafiks!$K$94:$K$228,FMZINp4_laika_grafiks!#REF!,'GRAFIKI II'!$P120,FMZINp4_laika_grafiks!$M$94:$M$228,'GRAFIKI II'!X$119))/1000000 -> #REF! | ... AB120: =(SUMIFS(FMZINp4_laika_grafiks!$K$94:$K$228,FMZINp4_laika_grafiks!#REF!,'GRAFIKI II'!$P120,FMZINp4_laika_grafiks!$M$94:$M$228,'GRAFIKI II'!AB$119))/1000000 -> #REF! | AJ120: =AD61 -> EM | AK120: =AG61 -> VM | AL120: =AL61 -> IeM | AM120: =AN61 -> KEM | AN120: =AF61 -> IZM | AO120: =AE61 -> VARAM | AP120: =AM61 -> TM
A121: 2023 I | B121: =SUMIFS(FMZINp4_laika_grafiks!$K$94:$K$228,FMZINp4_laika_grafiks!#REF!,'GRAFIKI II'!$A121,FMZINp4_laika_grafiks!$M$94:$M$228,'GRAFIKI II'!B$119)/1000000+B120 -> #REF! | C121: =SUMIFS(FMZINp4_laika_grafiks!$K$94:$K$228,FMZINp4_laika_grafiks!#REF!,'GRAFIKI II'!$A121,FMZINp4_laika_grafiks!$M$94:$M$228,'GRAFIKI II'!C$119)/1000000+C120 -> #REF! | D121: =SUMIFS(FMZINp4_laika_grafiks!$K$94:$K$228,FMZINp4_laika_grafiks!#REF!,'GRAFIKI II'!$A121,FMZINp4_laika_grafiks!$M$94:$M$228,'GRAFIKI II'!D$119)/1000000+D120 -> #REF! | E121: =SUMIFS(FMZINp4_laika_grafiks!$K$94:$K$228,FMZINp4_laika_grafiks!#REF!,'GRAFIKI II'!$A121,FMZINp4_laika_grafiks!$M$94:$M$228,'GRAFIKI II'!E$119)/1000000+E120 -> #REF! | F121: =SUMIFS(FMZINp4_laika_grafiks!$K$94:$K$228,FMZINp4_laika_grafiks!#REF!,'GRAFIKI II'!$A121,FMZINp4_laika_grafiks!$M$94:$M$228,'GRAFIKI II'!F$119)/1000000+F120 -> #REF! | G121: =SUMIFS(FMZINp4_laika_grafiks!$K$94:$K$228,FMZINp4_laika_grafiks!#REF!,'GRAFIKI II'!$A121,FMZINp4_laika_grafiks!$M$94:$M$228,'GRAFIKI II'!G$119)/1000000+G120 -> #REF! | H121: =SUMIFS(FMZINp4_laika_grafiks!$K$94:$K$228,FMZINp4_laika_grafiks!#REF!,'GRAFIKI II'!$A121,FMZINp4_laika_grafiks!$M$94:$M$228,'GRAFIKI II'!H$119)/1000000+H120 -> #REF! | I121: =SUMIFS(FMZINp4_laika_grafiks!$K$94:$K$228,FMZINp4_laika_grafiks!#REF!,'GRAFIKI II'!$A121,FMZINp4_laika_grafiks!$M$94:$M$228,'GRAFIKI II'!I$119)/1000000+I120 -> #REF! | ... M121: =SUMIFS(FMZINp4_laika_grafiks!$K$94:$K$228,FMZINp4_laika_grafiks!#REF!,'GRAFIKI II'!$A121,FMZINp4_laika_grafiks!$M$94:$M$228,'GRAFIKI II'!M$119)/1000000+M120 -> #REF! | P121: 2023 I | Q121: =((SUMIFS(FMZINp4_laika_grafiks!$K$94:$K$228,FMZINp4_laika_grafiks!#REF!,'GRAFIKI II'!$P121,FMZINp4_laika_grafiks!$M$94:$M$228,'GRAFIKI II'!Q$119))/1000000)+Q120 -> #REF! | R121: =((SUMIFS(FMZINp4_laika_grafiks!$K$94:$K$228,FMZINp4_laika_grafiks!#REF!,'GRAFIKI II'!$P121,FMZINp4_laika_grafiks!$M$94:$M$228,'GRAFIKI II'!R$119))/1000000)+R120 -> #REF! | S121: =((SUMIFS(FMZINp4_laika_grafiks!$K$94:$K$228,FMZINp4_laika_grafiks!#REF!,'GRAFIKI II'!$P121,FMZINp4_laika_grafiks!$M$94:$M$228,'GRAFIKI II'!S$119))/1000000)+S120 -> #REF! | T121: =((SUMIFS(FMZINp4_laika_grafiks!$K$94:$K$228,FMZINp4_laika_grafiks!#REF!,'GRAFIKI II'!$P121,FMZINp4_laika_grafiks!$M$94:$M$228,'GRAFIKI II'!T$119))/1000000)+T120 -> #REF! | U121: =((SUMIFS(FMZINp4_laika_grafiks!$K$94:$K$228,FMZINp4_laika_grafiks!#REF!,'GRAFIKI II'!$P121,FMZINp4_laika_grafiks!$M$94:$M$228,'GRAFIKI II'!U$119))/1000000)+U120 -> #REF! | V121: =((SUMIFS(FMZINp4_laika_grafiks!$K$94:$K$228,FMZINp4_laika_grafiks!#REF!,'GRAFIKI II'!$P121,FMZINp4_laika_grafiks!$M$94:$M$228,'GRAFIKI II'!V$119))/1000000)+V120 -> #REF! | W121: =((SUMIFS(FMZINp4_laika_grafiks!$K$94:$K$228,FMZINp4_laika_grafiks!#REF!,'GRAFIKI II'!$P121,FMZINp4_laika_grafiks!$M$94:$M$228,'GRAFIKI II'!W$119))/1000000)+W120 -> #REF! | X121: =((SUMIFS(FMZINp4_laika_grafiks!$K$94:$K$228,FMZINp4_laika_grafiks!#REF!,'GRAFIKI II'!$P121,FMZINp4_laika_grafiks!$M$94:$M$228,'GRAFIKI II'!X$119))/1000000)+X120 -> #REF! | ... AB121: =((SUMIFS(FMZINp4_laika_grafiks!$K$94:$K$228,FMZINp4_laika_grafiks!#REF!,'GRAFIKI II'!$P121,FMZINp4_laika_grafiks!$M$94:$M$228,'GRAFIKI II'!AB$119))/1000000)+AB120 -> #REF! | AI121: =AB62 -> 2022 IV | AJ121: =AD62 -> #REF! | AK121: =AG62 -> #REF! | AL121: =AL62 -> #REF! | AM121: =AN62 -> #REF! | AN121: =AF62 -> #REF! | AO121: =AE62 -> #REF! | AP121: =AM62 -> #REF!
A122: 2023 II | B122: =SUMIFS(FMZINp4_laika_grafiks!$K$94:$K$228,FMZINp4_laika_grafiks!#REF!,'GRAFIKI II'!$A122,FMZINp4_laika_grafiks!$M$94:$M$228,'GRAFIKI II'!B$119)/1000000+B121 -> #REF! | C122: =SUMIFS(FMZINp4_laika_grafiks!$K$94:$K$228,FMZINp4_laika_grafiks!#REF!,'GRAFIKI II'!$A122,FMZINp4_laika_grafiks!$M$94:$M$228,'GRAFIKI II'!C$119)/1000000+C121 -> #REF! | D122: =SUMIFS(FMZINp4_laika_grafiks!$K$94:$K$228,FMZINp4_laika_grafiks!#REF!,'GRAFIKI II'!$A122,FMZINp4_laika_grafiks!$M$94:$M$228,'GRAFIKI II'!D$119)/1000000+D121 -> #REF! | E122: =SUMIFS(FMZINp4_laika_grafiks!$K$94:$K$228,FMZINp4_laika_grafiks!#REF!,'GRAFIKI II'!$A122,FMZINp4_laika_grafiks!$M$94:$M$228,'GRAFIKI II'!E$119)/1000000+E121 -> #REF! | F122: =SUMIFS(FMZINp4_laika_grafiks!$K$94:$K$228,FMZINp4_laika_grafiks!#REF!,'GRAFIKI II'!$A122,FMZINp4_laika_grafiks!$M$94:$M$228,'GRAFIKI II'!F$119)/1000000+F121 -> #REF! | G122: =SUMIFS(FMZINp4_laika_grafiks!$K$94:$K$228,FMZINp4_laika_grafiks!#REF!,'GRAFIKI II'!$A122,FMZINp4_laika_grafiks!$M$94:$M$228,'GRAFIKI II'!G$119)/1000000+G121 -> #REF! | H122: =SUMIFS(FMZINp4_laika_grafiks!$K$94:$K$228,FMZINp4_laika_grafiks!#REF!,'GRAFIKI II'!$A122,FMZINp4_laika_grafiks!$M$94:$M$228,'GRAFIKI II'!H$119)/1000000+H121 -> #REF! | I122: =SUMIFS(FMZINp4_laika_grafiks!$K$94:$K$228,FMZINp4_laika_grafiks!#REF!,'GRAFIKI II'!$A122,FMZINp4_laika_grafiks!$M$94:$M$228,'GRAFIKI II'!I$119)/1000000+I121 -> #REF! | ... M122: =SUMIFS(FMZINp4_laika_grafiks!$K$94:$K$228,FMZINp4_laika_grafiks!#REF!,'GRAFIKI II'!$A122,FMZINp4_laika_grafiks!$M$94:$M$228,'GRAFIKI II'!M$119)/1000000+M121 -> #REF! | P122: 2023 II | Q122: =((SUMIFS(FMZINp4_laika_grafiks!$K$94:$K$228,FMZINp4_laika_grafiks!#REF!,'GRAFIKI II'!$P122,FMZINp4_laika_grafiks!$M$94:$M$228,'GRAFIKI II'!Q$119))/1000000)+Q121 -> #REF! | R122: =((SUMIFS(FMZINp4_laika_grafiks!$K$94:$K$228,FMZINp4_laika_grafiks!#REF!,'GRAFIKI II'!$P122,FMZINp4_laika_grafiks!$M$94:$M$228,'GRAFIKI II'!R$119))/1000000)+R121 -> #REF! | S122: =((SUMIFS(FMZINp4_laika_grafiks!$K$94:$K$228,FMZINp4_laika_grafiks!#REF!,'GRAFIKI II'!$P122,FMZINp4_laika_grafiks!$M$94:$M$228,'GRAFIKI II'!S$119))/1000000)+S121 -> #REF! | T122: =((SUMIFS(FMZINp4_laika_grafiks!$K$94:$K$228,FMZINp4_laika_grafiks!#REF!,'GRAFIKI II'!$P122,FMZINp4_laika_grafiks!$M$94:$M$228,'GRAFIKI II'!T$119))/1000000)+T121 -> #REF! | U122: =((SUMIFS(FMZINp4_laika_grafiks!$K$94:$K$228,FMZINp4_laika_grafiks!#REF!,'GRAFIKI II'!$P122,FMZINp4_laika_grafiks!$M$94:$M$228,'GRAFIKI II'!U$119))/1000000)+U121 -> #REF! | V122: =((SUMIFS(FMZINp4_laika_grafiks!$K$94:$K$228,FMZINp4_laika_grafiks!#REF!,'GRAFIKI II'!$P122,FMZINp4_laika_grafiks!$M$94:$M$228,'GRAFIKI II'!V$119))/1000000)+V121 -> #REF! | W122: =((SUMIFS(FMZINp4_laika_grafiks!$K$94:$K$228,FMZINp4_laika_grafiks!#REF!,'GRAFIKI II'!$P122,FMZINp4_laika_grafiks!$M$94:$M$228,'GRAFIKI II'!W$119))/1000000)+W121 -> #REF! | X122: =((SUMIFS(FMZINp4_laika_grafiks!$K$94:$K$228,FMZINp4_laika_grafiks!#REF!,'GRAFIKI II'!$P122,FMZINp4_laika_grafiks!$M$94:$M$228,'GRAFIKI II'!X$119))/1000000)+X121 -> #REF! | ... AB122: =((SUMIFS(FMZINp4_laika_grafiks!$K$94:$K$228,FMZINp4_laika_grafiks!#REF!,'GRAFIKI II'!$P122,FMZINp4_laika_grafiks!$M$94:$M$228,'GRAFIKI II'!AB$119))/1000000)+AB121 -> #REF!
A123: 2023 III | B123: =SUMIFS(FMZINp4_laika_grafiks!$K$94:$K$228,FMZINp4_laika_grafiks!#REF!,'GRAFIKI II'!$A123,FMZINp4_laika_grafiks!$M$94:$M$228,'GRAFIKI II'!B$119)/1000000+B122 -> #REF! | C123: =SUMIFS(FMZINp4_laika_grafiks!$K$94:$K$228,FMZINp4_laika_grafiks!#REF!,'GRAFIKI II'!$A123,FMZINp4_laika_grafiks!$M$94:$M$228,'GRAFIKI II'!C$119)/1000000+C122 -> #REF! | D123: =SUMIFS(FMZINp4_laika_grafiks!$K$94:$K$228,FMZINp4_laika_grafiks!#REF!,'GRAFIKI II'!$A123,FMZINp4_laika_grafiks!$M$94:$M$228,'GRAFIKI II'!D$119)/1000000+D122 -> #REF! | E123: =SUMIFS(FMZINp4_laika_grafiks!$K$94:$K$228,FMZINp4_laika_grafiks!#REF!,'GRAFIKI II'!$A123,FMZINp4_laika_grafiks!$M$94:$M$228,'GRAFIKI II'!E$119)/1000000+E122 -> #REF! | F123: =SUMIFS(FMZINp4_laika_grafiks!$K$94:$K$228,FMZINp4_laika_grafiks!#REF!,'GRAFIKI II'!$A123,FMZINp4_laika_grafiks!$M$94:$M$228,'GRAFIKI II'!F$119)/1000000+F122 -> #REF! | G123: =SUMIFS(FMZINp4_laika_grafiks!$K$94:$K$228,FMZINp4_laika_grafiks!#REF!,'GRAFIKI II'!$A123,FMZINp4_laika_grafiks!$M$94:$M$228,'GRAFIKI II'!G$119)/1000000+G122 -> #REF! | H123: =SUMIFS(FMZINp4_laika_grafiks!$K$94:$K$228,FMZINp4_laika_grafiks!#REF!,'GRAFIKI II'!$A123,FMZINp4_laika_grafiks!$M$94:$M$228,'GRAFIKI II'!H$119)/1000000+H122 -> #REF! | I123: =SUMIFS(FMZINp4_laika_grafiks!$K$94:$K$228,FMZINp4_laika_grafiks!#REF!,'GRAFIKI II'!$A123,FMZINp4_laika_grafiks!$M$94:$M$228,'GRAFIKI II'!I$119)/1000000+I122 -> #REF! | ... M123: =SUMIFS(FMZINp4_laika_grafiks!$K$94:$K$228,FMZINp4_laika_grafiks!#REF!,'GRAFIKI II'!$A123,FMZINp4_laika_grafiks!$M$94:$M$228,'GRAFIKI II'!M$119)/1000000+M122 -> #REF! | P123: 2023 III | Q123: =((SUMIFS(FMZINp4_laika_grafiks!$K$94:$K$228,FMZINp4_laika_grafiks!#REF!,'GRAFIKI II'!$P123,FMZINp4_laika_grafiks!$M$94:$M$228,'GRAFIKI II'!Q$119))/1000000)+Q122 -> #REF! | R123: =((SUMIFS(FMZINp4_laika_grafiks!$K$94:$K$228,FMZINp4_laika_grafiks!#REF!,'GRAFIKI II'!$P123,FMZINp4_laika_grafiks!$M$94:$M$228,'GRAFIKI II'!R$119))/1000000)+R122 -> #REF! | S123: =((SUMIFS(FMZINp4_laika_grafiks!$K$94:$K$228,FMZINp4_laika_grafiks!#REF!,'GRAFIKI II'!$P123,FMZINp4_laika_grafiks!$M$94:$M$228,'GRAFIKI II'!S$119))/1000000)+S122 -> #REF! | T123: =((SUMIFS(FMZINp4_laika_grafiks!$K$94:$K$228,FMZINp4_laika_grafiks!#REF!,'GRAFIKI II'!$P123,FMZINp4_laika_grafiks!$M$94:$M$228,'GRAFIKI II'!T$119))/1000000)+T122 -> #REF! | U123: =((SUMIFS(FMZINp4_laika_grafiks!$K$94:$K$228,FMZINp4_laika_grafiks!#REF!,'GRAFIKI II'!$P123,FMZINp4_laika_grafiks!$M$94:$M$228,'GRAFIKI II'!U$119))/1000000)+U122 -> #REF! | V123: =((SUMIFS(FMZINp4_laika_grafiks!$K$94:$K$228,FMZINp4_laika_grafiks!#REF!,'GRAFIKI II'!$P123,FMZINp4_laika_grafiks!$M$94:$M$228,'GRAFIKI II'!V$119))/1000000)+V122 -> #REF! | W123: =((SUMIFS(FMZINp4_laika_grafiks!$K$94:$K$228,FMZINp4_laika_grafiks!#REF!,'GRAFIKI II'!$P123,FMZINp4_laika_grafiks!$M$94:$M$228,'GRAFIKI II'!W$119))/1000000)+W122 -> #REF! | X123: =((SUMIFS(FMZINp4_laika_grafiks!$K$94:$K$228,FMZINp4_laika_grafiks!#REF!,'GRAFIKI II'!$P123,FMZINp4_laika_grafiks!$M$94:$M$228,'GRAFIKI II'!X$119))/1000000)+X122 -> #REF! | ... AB123: =((SUMIFS(FMZINp4_laika_grafiks!$K$94:$K$228,FMZINp4_laika_grafiks!#REF!,'GRAFIKI II'!$P123,FMZINp4_laika_grafiks!$M$94:$M$228,'GRAFIKI II'!AB$119))/1000000)+AB122 -> #REF! | AJ123: MK noteikumu skaits
A124: 2023 IV | B124: =SUMIFS(FMZINp4_laika_grafiks!$K$94:$K$228,FMZINp4_laika_grafiks!#REF!,'GRAFIKI II'!$A124,FMZINp4_laika_grafiks!$M$94:$M$228,'GRAFIKI II'!B$119)/1000000+B123 -> #REF! | C124: =SUMIFS(FMZINp4_laika_grafiks!$K$94:$K$228,FMZINp4_laika_grafiks!#REF!,'GRAFIKI II'!$A124,FMZINp4_laika_grafiks!$M$94:$M$228,'GRAFIKI II'!C$119)/1000000+C123 -> #REF! | D124: =SUMIFS(FMZINp4_laika_grafiks!$K$94:$K$228,FMZINp4_laika_grafiks!#REF!,'GRAFIKI II'!$A124,FMZINp4_laika_grafiks!$M$94:$M$228,'GRAFIKI II'!D$119)/1000000+D123 -> #REF! | E124: =SUMIFS(FMZINp4_laika_grafiks!$K$94:$K$228,FMZINp4_laika_grafiks!#REF!,'GRAFIKI II'!$A124,FMZINp4_laika_grafiks!$M$94:$M$228,'GRAFIKI II'!E$119)/1000000+E123 -> #REF! | F124: =SUMIFS(FMZINp4_laika_grafiks!$K$94:$K$228,FMZINp4_laika_grafiks!#REF!,'GRAFIKI II'!$A124,FMZINp4_laika_grafiks!$M$94:$M$228,'GRAFIKI II'!F$119)/1000000+F123 -> #REF! | G124: =SUMIFS(FMZINp4_laika_grafiks!$K$94:$K$228,FMZINp4_laika_grafiks!#REF!,'GRAFIKI II'!$A124,FMZINp4_laika_grafiks!$M$94:$M$228,'GRAFIKI II'!G$119)/1000000+G123 -> #REF! | H124: =SUMIFS(FMZINp4_laika_grafiks!$K$94:$K$228,FMZINp4_laika_grafiks!#REF!,'GRAFIKI II'!$A124,FMZINp4_laika_grafiks!$M$94:$M$228,'GRAFIKI II'!H$119)/1000000+H123 -> #REF! | I124: =SUMIFS(FMZINp4_laika_grafiks!$K$94:$K$228,FMZINp4_laika_grafiks!#REF!,'GRAFIKI II'!$A124,FMZINp4_laika_grafiks!$M$94:$M$228,'GRAFIKI II'!I$119)/1000000+I123 -> #REF! | ... M124: =SUMIFS(FMZINp4_laika_grafiks!$K$94:$K$228,FMZINp4_laika_grafiks!#REF!,'GRAFIKI II'!$A124,FMZINp4_laika_grafiks!$M$94:$M$228,'GRAFIKI II'!M$119)/1000000+M123 -> #REF! | P124: 2023 IV | Q124: =((SUMIFS(FMZINp4_laika_grafiks!$K$94:$K$228,FMZINp4_laika_grafiks!#REF!,'GRAFIKI II'!$P124,FMZINp4_laika_grafiks!$M$94:$M$228,'GRAFIKI II'!Q$119))/1000000)+Q123 -> #REF! | R124: =((SUMIFS(FMZINp4_laika_grafiks!$K$94:$K$228,FMZINp4_laika_grafiks!#REF!,'GRAFIKI II'!$P124,FMZINp4_laika_grafiks!$M$94:$M$228,'GRAFIKI II'!R$119))/1000000)+R123 -> #REF! | S124: =((SUMIFS(FMZINp4_laika_grafiks!$K$94:$K$228,FMZINp4_laika_grafiks!#REF!,'GRAFIKI II'!$P124,FMZINp4_laika_grafiks!$M$94:$M$228,'GRAFIKI II'!S$119))/1000000)+S123 -> #REF! | T124: =((SUMIFS(FMZINp4_laika_grafiks!$K$94:$K$228,FMZINp4_laika_grafiks!#REF!,'GRAFIKI II'!$P124,FMZINp4_laika_grafiks!$M$94:$M$228,'GRAFIKI II'!T$119))/1000000)+T123 -> #REF! | U124: =((SUMIFS(FMZINp4_laika_grafiks!$K$94:$K$228,FMZINp4_laika_grafiks!#REF!,'GRAFIKI II'!$P124,FMZINp4_laika_grafiks!$M$94:$M$228,'GRAFIKI II'!U$119))/1000000)+U123 -> #REF! | V124: =((SUMIFS(FMZINp4_laika_grafiks!$K$94:$K$228,FMZINp4_laika_grafiks!#REF!,'GRAFIKI II'!$P124,FMZINp4_laika_grafiks!$M$94:$M$228,'GRAFIKI II'!V$119))/1000000)+V123 -> #REF! | W124: =((SUMIFS(FMZINp4_laika_grafiks!$K$94:$K$228,FMZINp4_laika_grafiks!#REF!,'GRAFIKI II'!$P124,FMZINp4_laika_grafiks!$M$94:$M$228,'GRAFIKI II'!W$119))/1000000)+W123 -> #REF! | X124: =((SUMIFS(FMZINp4_laika_grafiks!$K$94:$K$228,FMZINp4_laika_grafiks!#REF!,'GRAFIKI II'!$P124,FMZINp4_laika_grafiks!$M$94:$M$228,'GRAFIKI II'!X$119))/1000000)+X123 -> #REF! | ... AB124: =((SUMIFS(FMZINp4_laika_grafiks!$K$94:$K$228,FMZINp4_laika_grafiks!#REF!,'GRAFIKI II'!$P124,FMZINp4_laika_grafiks!$M$94:$M$228,'GRAFIKI II'!AB$119))/1000000)+AB123 -> #REF! | AJ124: EM | AK124: VM | AL124: IeM | AM124: KEM | AN124: IZM | AO124: VARAM | AP124: TM
