Workbook
Name _ftn1: FMZINp4_laika_grafiks!#REF!
Name _ftn2: FMZINp4_laika_grafiks!#REF!
Name _ftnref1: FMZINp4_laika_grafiks!#REF!
Name _ftnref2: FMZINp4_laika_grafiks!#REF!

Sheet FMZINp4_laika_grafiks
A1: 4. pielikums Informatīvajam ziņojumam par Finanšu ministrijas pārziņā esošo Eiropas Savienības fondu un ārvalstu finanšu palīdzības aktualitātēm līdz 2025. gada aprīlim
A6: ES fondu 2021.–2027. gada plānošanas perioda MK noteikumu par specifisko atbalsta mērķu ieviešanu izstrādes laika grafika progress***
A8: Sagatavots 22.04.2025 | J8: PLĀNOTAIS FINANSĒJUMS
A9: PM Nr. | B9: Prior. Nr. | C9: Prioritātes nosaukums | D9: SAM Nr. | E9: SAM nosaukums | F9: Pasākuma Nr. | G9: Pasākuma nosaukums | H9: Kārtas Nr. | I9: Fonds | J9: ES FONDU finansējums (ieskaitot elastības finansējumu)* | K9: KOPĀ (ar nac. līdzfinansējumu +15%**) | L9: NACIONĀLAIS līdzfinansējums | M9: Atbildīgā iestāde | N9: Izskatīšanas AK datums/ plānotais gads un ceturksnis*** | O9: Izskatīšanas UK datums/ pānotais gads un ceturksnis*** | P9: TAP saskaņošanas uzsākšanas datums/ plānotais gads un ceturksnis | Q9: RISKA LĪMENIS | R9: MK apstiprināšanas plānotais gads un ceturksnis/apstiprināšanas datums | S9: Atlases uzsākšanas datums/ plānotais gads un ceturksnis****
A10: 1 | B10: 2 | D10: 3 | F10: 4 | G10: 5 | H10: 6 | I10: 7 | J10: 8 | K10: 9 | L10: 10 | M10: 11 | N10: 12 | O10: 13 | P10: 14 | R10: 15 | S10: 16
A11: PLĀNOTA NORMATĪVĀ REGULĒJUMA IZSTRĀDE - nav uzsākta saskaņošana TAP | I11: Kopā: | J11: =SUBTOTAL(9,J12:J28) -> 689059645 | K11: =SUBTOTAL(9,K12:K28) -> 810658413 | L11: =SUBTOTAL(9,L12:L28) -> 121598768
A12: 1 | B12: 1.3. | C12: Digitalizācija | D12: 1.3.1. | E12: “Izmantot digitalizācijas priekšrocības iedzīvotājiem, uzņēmumiem, pētniecības organizācijām un publiskajām iestādēm” | F12: 1.3.1.4. | G12: Bezpilota lidaparātu uztveršanas, identifikācijas, izsekošanas un pretdarbības risinājuma ieviešana | H12: _ | I12: ERAF | J12: 1954863 | K12: 2299839 | L12: 344976 | M12: SM | N12: 2025 III | O12: 2025 IV | P12: 2025 III | Q12: PLĀNOJAS | R12: 2025 IV | S12: 2025 IV
A13: 1 | B13: 1.5. | C13: Investīciju fonds uzņēmējdarbības attīstībai | D13: 1.5.1. | E13: "Ieguldījumi uzņēmējdarbībā, kas atbalsta STEP mērķu sasniegšanu" | F13: 1.5.1.0 | G13: "Ieguldījumi uzņēmējdarbībā, kas atbalsta STEP mērķu sasniegšanu" | H13: _ | I13: ERAF | J13: 34000000 | K13: 40000000 | L13: 6000000 | M13: EM | N13: 2025 II | O13: 2025 III | P13: 2025 IV | Q13: PLĀNOJAS | R13: 2025 IV | S13: 2026 I
A14: 2 | B14: 2.1. | C14: Klimata pārmaiņu mazināšana un pielāgošanās klimata pārmaiņām | D14: 2.1.1. | E14: “Energoefektivitātes veicināšana un siltumnīcefekta gāzu emisiju samazināšana” | F14: 2.1.1.6. | G14: Pašvaldību ēku energoefektivitātes paaugstināšana | H14: 3 | I14: ERAF | J14: 12961544 | K14: 15248876 | L14: 2287332 | M14: VARAM | N14: 2026 I | O14: 2026 II | P14: 2026 I | Q14: PLĀNOJAS | R14: 2026 II | S14: 2026 III
A15: 2 | B15: 2.1. | C15: Klimata pārmaiņu mazināšana un pielāgošanās klimata pārmaiņām | D15: 2.1.2. | E15: “Atjaunojamo energoresursu enerģijas veicināšana - biometāns” | F15: 2.1.2.0. | G15: “Atjaunojamo energoresursu enerģijas veicināšana - biometāns” | H15: 2 | I15: KF | J15: 4000000 | K15: 4705883 | L15: 705883 | M15: KEM | N15: Potenciāli IPIA izņēmums | O15: Potenciāli IPIA izņēmums | P15: 2025 III | Q15: PLĀNOJAS | R15: 2025 IV | S15: 2026 I
A16: 2 | B16: 2.1. | C16: Klimata pārmaiņu mazināšana un pielāgošanās klimata pārmaiņām | D16: 2.1.3. | E16: “Veicināt pielāgošanos klimata pārmaiņām, risku novēršanu un noturību pret katastrofām” | F16: 2.1.3.1. | G16: Pašvaldību pielāgošanās klimata pārmaiņām | H16: 2 | I16: ERAF | J16: 8407694 | K16: 9891405 | L16: 1483711 | M16: VARAM | N16: 45197 | O16: 2026 I | P16: 2026 I | Q16: PLĀNOJAS | R16: 2026 II | S16: 2026 III
A17: 2 | B17: 2.1. | C17: Klimata pārmaiņu mazināšana un pielāgošanās klimata pārmaiņām | D17: 2.1.3. | E17: “Veicināt pielāgošanos klimata pārmaiņām, risku novēršanu un noturību pret katastrofām” | F17: 2.1.3.3. | G17: Katastrofu risku mazināšanas pasākumi | H17: 4 | I17: ERAF | J17: 24669413 | K17: 29022839 | L17: 4353426 | M17: IeM | N17: N/A | O17: Uzsākta UK rakstiskā procedūra 11.03.2025 | P17: 2025 II | Q17: PLĀNOJAS | R17: 2025 II | S17: 2025 III
A18: 2 | B18: 2.1. | C18: Klimata pārmaiņu mazināšana un pielāgošanās klimata pārmaiņām | D18: 2.1.4. | E18: "Attīstīt viedas energosistēmas, tīklus un enerģijas akumulāciju ārpus Eiropas enerģētikas tīkla (TEN-E)" | F18: 2.1.4.0. | G18: "Attīstīt viedas energosistēmas, tīklus un enerģijas akumulāciju ārpus Eiropas enerģētikas tīkla (TEN-E)" | H18: _ | I18: ERAF | J18: 31000000 | K18: 36470589 | L18: 5470589 | M18: KEM | N18: Potenciāli IPIA izņēmums | O18: Potenciāli IPIA izņēmums | P18: 2025 III | Q18: PLĀNOJAS | R18: 2025 IV | S18: 2026 I
A19: 2 | B19: 2.2. | C19: Vides aizsardzība un attīstība | D19: 2.2.1. | E19: “Veicināt ilgtspējīgu ūdenssaimniecību” | F19: 2.2.1.1. | G19: Notekūdeņu un to dūņu apsaimniekošanas sistēmas attīstība piesārņojuma samazināšanai | H19: 3 | I19: ERAF | J19: 21453617 | K19: 25239550 | L19: 3785933 | M19: VARAM | N19: 2025 III | O19: 2025 III | P19: 2025 II | Q19: PLĀNOJAS | R19: 2025 III | S19: 2025 IV
A20: 2 | B20: 2.2. | C20: Vides aizsardzība un attīstība | D20: 2.2.2. | E20: “Pārejas uz aprites ekonomiku veicināšana” | F20: 2.2.2.3. | G20: Notekūdeņu dūņu pārstrāde | H20: _ | I20: KF | J20: 23148681 | K20: 27233743 | L20: 4085062 | M20: KEM | N20: 2025 II | O20: 2025 II | P20: 2025 II | Q20: PLĀNOJAS | R20: 2025 II | S20: 2025 IV
A21: 2 | B21: 2.4. | C21: AER izmantošanas transportā veicināšana | D21: 2.4.1. | E21: “Veicināt ilgtspējīgu multimodālu mobilitāti, veicinot elektrotransportlīdzekļu izmantošanu” | F21: 2.4.1.3. | G21: Bezemisiju (bateriju) vilcieni un to uzlādes infrastruktūra | H21: _ | I21: KF | J21: 104608561 | K21: 123068896 | L21: 18460335 | M21: SM | N21: 45106 | O21: 45180 | P21: 2025 II | Q21: PLĀNOJAS | R21: 2025 III | S21: 2025 III
A22: 3 | B22: 3.1. | C22: Ilgtspējīga TEN-T infrastruktūra | D22: 3.1.1. | E22: “Attīstīt ilgtspējīgu, pret klimatu izturīgu, inteliģentu, drošu un vairākveidu TEN-T infrastruktūru” | F22: 3.1.1.1. | G22: Dzelzceļa infrastruktūras attīstība un energoefektivitātes uzlabošana sabiedriskajos pasažieru pārvadājumos | H22: _ | I22: KF | J22: 325410631 | K22: 382836037 | L22: 57425406 | M22: SM | N22: 45106 | O22: 45470 | P22: 2025 II | Q22: PLĀNOJAS | R22: 2025 II | S22: 2025 III
A23: 3 | B23: 3.1. | C23: Ilgtspējīga TEN-T infrastruktūra | D23: 3.1.1. | E23: “Attīstīt ilgtspējīgu, pret klimatu izturīgu, inteliģentu, drošu un vairākveidu TEN-T infrastruktūru” | F23: 3.1.1.7. | G23: Iekšzemes intermodālo termināļu ("sauso ostu") attīstības projekti | H23: _ | I23: KF | J23: 16048761 | K23: 18880896 | L23: 2832135 | M23: SM | N23: 2025 II | O23: 2025 II | P23: 2025 II | Q23: PLĀNOJAS | R23: 2025 II | S23: 2025 III
A24: 4 | B24: 4.2. | C24: Izglītība, prasmes un mūžizglītība | D24: 4.2.1. | E24: “Uzlabot vienlīdzīgu piekļuvi iekļaujošiem un kvalitatīviem pakalpojumiem izglītības, mācību un mūžizglītības jomā, attīstot pieejamu infrastruktūru, tostarp, veicinot noturību izglītošanā un mācībā attālinātā un tiešsaistes režīmā” | F24: 4.2.1.1. | G24: Infrastruktūras izveide starpnozaru sadarbības un atbalsta sistēmas izveidei bērnu attīstībai | H24: _ | I24: ERAF | J24: 3697500 | K24: 4350000 | L24: 652500 | M24: VK | N24: IPIA izņēmums (UK lēm. 23.04.2024) | O24: IPIA izņēmums (UK lēm. 23.04.2024) | P24: 2025 III | Q24: PLĀNOJAS | R24: 2026 I | S24: 2026 I
A25: 4 | B25: 4.2. | C25: Izglītība, prasmes un mūžizglītība | D25: 4.2.1. | E25: “Uzlabot vienlīdzīgu piekļuvi iekļaujošiem un kvalitatīviem pakalpojumiem izglītības, mācību un mūžizglītības jomā, attīstot pieejamu infrastruktūru, tostarp, veicinot noturību izglītošanā un mācībā attālinātā un tiešsaistes režīmā” | F25: 4.2.1.5. | G25: Izglītības iestāžu nodrošinājums pilnveidotā vispārējās izglītības satura kvalitatīvai ieviešanai pamata un vidējās izglītības pakāpē | H25: 3 | I25: ERAF | J25: 13018473 | K25: 15315851 | L25: 2297378 | M25: IZM | N25: IPIA izņēmums (UK lēm. 23.04.2024) | O25: IPIA izņēmums (UK lēm. 23.04.2024) | P25: 2025 IV | Q25: PLĀNOJAS | R25: 2026 I | S25: 2026 II
A26: 4 | B26: 4.3. | C26: Nodarbinātība un sociālā iekļaušana | D26: 4.3.3. | E26: “Uzlabot visu darba meklētāju, jo īpaši jauniešu – it sevišķi, īstenojot Garantiju jauniešiem –, ilgstošo bezdarbnieku un darba tirgū nelabvēlīgā situācijā esošo grupu, un ekonomiski neaktīvo personu piekļuvi nodarbinātībai un aktivizācijas pasākumiem, kā arī veicinot pašnodarbinātību un sociālo ekonomiku” | F26: 4.3.3.1. | G26: Bezdarbnieku, darba meklētāju un bezdarba riskam pakļauto personu kvalifikācijas un prasmju paaugstināšana | H26: _ | I26: ESF | J26: 40672500 | K26: 47850000 | L26: 7177500 | M26: LM | N26: 45645 | O26: 45700 | P26: 2025 III | Q26: PLĀNOJAS | R26: 2025 IV | S26: 2026 I
A27: 6 | B27: 6.1. | C27: Pāreja uz klimatneitralitāti | D27: 6.1.1. | E27: "Pārejas uz klimatneitralitāti radīto ekonomisko, sociālo un vides seku mazināšana visvairāk skartajos reģionos" | F27: 6.1.1.1. | G27: Atteikšanās no kūdras izmantošanas enerģētikā******* | H27: 4 | I27: TPF | J27: 2007407 | K27: 2361656 | L27: 354249 | M27: VARAM | N27: 2025 IV | O27: 2025 IV | P27: 2025 III | Q27: PLĀNOJAS | R27: 2025 IV | S27: 2026 I
A28: 6 | B28: 6.1. | C28: Pāreja uz klimatneitralitāti | D28: 6.1.1. | E28: "Pārejas uz klimatneitralitāti radīto ekonomisko, sociālo un vides seku mazināšana visvairāk skartajos reģionos" | F28: 6.1.1.1. | G28: Atteikšanās no kūdras izmantošanas enerģētikā******* | H28: 5 | I28: TPF | J28: 22000000 | K28: 25882353 | L28: 3882353 | M28: VARAM | N28: 2026 II | O28: 2026 II | P28: 2026 I | Q28: PLĀNOJAS | R28: 2026 II | S28: 2026 III
A29: NORMATĪVAIS REGULĒJUMS IZSTRĀDĒ | I29: Kopā | J29: =SUBTOTAL(9,J30:J47) -> 215336502 | K29: =SUBTOTAL(9,K30:K47) -> 253337066 | L29: =SUBTOTAL(9,L30:L47) -> 38000564
A30: 1 | B30: 1.1. | C30: Pētniecība un prasmes | D30: 1.1.2. | E30: “Prasmju attīstīšana viedās specializācijas, industriālās pārejas un uzņēmējdarbības veicināšanai” | F30: 1.1.2.1. | G30: RIS3 industriālās prasmes | H30: _ | I30: ERAF | J30: 8330000 | K30: 9800000 | L30: 1470000 | M30: IZM | N30: 2025 II | O30: 2025 II | P30: 45756 | Q30: IZSTRĀDĒ | R30: 2025 II | S30: 2025 III
A31: 2 | B31: 2.2. | C31: Vides aizsardzība un attīstība | D31: 2.2.1. | E31: “Veicināt ilgtspējīgu ūdenssaimniecību” | F31: 2.2.1.1. | G31: Notekūdeņu un to dūņu apsaimniekošanas sistēmas attīstība piesārņojuma samazināšanai****** | H31: 2 | I31: ERAF | J31: 22309636 | K31: 26246631 | L31: 3936995 | M31: VARAM | N31: Potenciāli IPIA izņēmums | O31: Potenciāli IPIA izņēmums | P31: 45758 | Q31: IZSTRĀDĒ | R31: 2025 II | S31: 2025 III
A32: 2 | B32: 2.2. | C32: Vides aizsardzība un attīstība | D32: 2.2.3. | E32: “Uzlabot dabas aizsardzību un bioloģisko daudzveidību, “zaļo” infrastruktūru, it īpaši pilsētvidē, un samazināt piesārņojumu” | F32: 2.2.3.6. | G32: Gaisa piesārņojumu mazinošu pasākumu īstenošana, uzlabojot mājsaimniecību siltumapgādes sistēmas******** | H32: 5 | I32: ERAF | J32: 0 | K32: 0 | L32: 0 | M32: VARAM | N32: 44833 | O32: 44952 | P32: 44855 | Q32: IZSTRĀDĒ | R32: 2025 III | S32: 2025 III
A33: 1 | B33: 1.1. | C33: Pētniecība un prasmes | D33: 1.1.1. | E33: “Pētniecības un inovāciju kapacitātes stiprināšana un progresīvu tehnoloģiju ieviešana kopējā P&A sistēmā” | F33: 1.1.1.6. | G33: Zinātniskās darbības digitalizācija un dalība Eiropas Atvērtajā zinātnes mākonī (EOSC market place pakalpojumu iegāde) | H33: _ | I33: ERAF | J33: 18487501 | K33: 21750002 | L33: 3262501 | M33: IZM | N33: 45743 | O33: Uzsākta UK rakstiskā procedūra 16.04.2025 | P33: 27.12.2024./17.02.2025. | Q33: IZSTRĀDĒ | R33: 2025 II | S33: 2025 II
A34: 1 | B34: 1.3. | C34: Digitalizācija | D34: 1.3.1. | E34: “Izmantot digitalizācijas priekšrocības iedzīvotājiem, uzņēmumiem, pētniecības organizācijām un publiskajām iestādēm” | F34: 1.3.1.3. | G34: IKT risinājumu un pakalpojumu kiberdrošības paaugstināšana | H34: _ | I34: ERAF | J34: 33305324 | K34: 39182735 | L34: 5877411 | M34: VARAM | N34: Potenciāli IPIA izņēmums | O34: Potenciāli IPIA izņēmums | P34: 45730 | Q34: IZSTRĀDĒ | R34: 2025 II | S34: 2025 III
A35: 2 | B35: 2.1. | C35: Klimata pārmaiņu mazināšana un pielāgošanās klimata pārmaiņām | D35: 2.1.3. | E35: “Veicināt pielāgošanos klimata pārmaiņām, risku novēršanu un noturību pret katastrofām” | F35: 2.1.3.3. | G35: Katastrofu risku mazināšanas pasākumi********** | H35: 2 | I35: ERAF | J35: 0 | K35: 0 | L35: 0 | M35: IeM | N35: IPIA izņēmums (UK lēm. 23.04.2024) | O35: IPIA izņēmums (UK lēm. 23.04.2024) | P35: 45664 | Q35: IZSTRĀDĒ | R35: 2025 II | S35: 2025 II
A36: 3 | B36: 3.1. | C36: Ilgtspējīga TEN-T infrastruktūra | D36: 3.1.1. | E36: “Attīstīt ilgtspējīgu, pret klimatu izturīgu, inteliģentu, drošu un vairākveidu TEN-T infrastruktūru” | F36: 3.1.1.5. | G36: Nacionālās nozīmes centru maģistrālo ielu un esošo maršrutu attīstība | H36: _ | I36: KF | J36: 16093145 | K36: 18933112 | L36: 2839967 | M36: SM | N36: 45687 | O36: Uzsākta UK rakstiskā procedūra 26.02.2025 | P36: 45758 | Q36: IZSTRĀDĒ | R36: 2025 II | S36: 2025 II
A37: 3 | B37: 3.2. | C37: Pārrobežas mobilitāte | D37: 3.2.1. | E37: "Attīstīt un izvērst ilgtspējīgu, klimatnoturīgu, intelektisku un intermodālu mobilitāti valsts, reģionālā un vietējā līmenī, tostarp uzlabotu piekļuvi TEN-T un pārrobežu mobilitāti" | F37: 3.2.1.0. | G37: "Attīstīt un izvērst ilgtspējīgu, klimatnoturīgu, intelektisku un intermodālu mobilitāti valsts, reģionālā un vietējā līmenī, tostarp uzlabotu piekļuvi TEN-T un pārrobežu mobilitāti" | H37: _ | I37: ERAF | J37: 4323627 | K37: 5086620 | L37: 762993 | M37: SM | N37: 2025 II | O37: 2025 II | P37: 45764 | Q37: IZSTRĀDĒ | R37: 2025 III | S37: 2025 IV
A38: 4 | B38: 4.2. | C38: Izglītība, prasmes un mūžizglītība | D38: 4.2.2. | E38: “Uzlabot izglītības un mācību sistēmu kvalitāti, iekļautību, efektivitāti un nozīmīgumu darba tirgū, tostarp ar neformālās un ikdienējās mācīšanās validēšanas palīdzību, lai atbalstītu pamatkompetenču, tostarp uzņēmējdarbības un digitālo prasmju, apguvi, un sekmējot duālo mācību sistēmu un māceklības ieviešanu” | F38: 4.2.2.11. | G38: Studiju procesa digitalizācija | H38: 1 | I38: ESF | J38: 19922947 | K38: 23438762 | L38: 3515815 | M38: IZM | N38: 45715 | O38: 45756 | P38: 45502 | Q38: IZSTRĀDĒ | R38: 2025 II | S38: 2025 II
A39: 4 | B39: 4.2. | C39: Izglītība, prasmes un mūžizglītība | D39: 4.2.2. | E39: “Uzlabot izglītības un mācību sistēmu kvalitāti, iekļautību, efektivitāti un nozīmīgumu darba tirgū, tostarp ar neformālās un ikdienējās mācīšanās validēšanas palīdzību, lai atbalstītu pamatkompetenču, tostarp uzņēmējdarbības un digitālo prasmju, apguvi, un sekmējot duālo mācību sistēmu un māceklības ieviešanu” | F39: 4.2.2.11. | G39: Studiju procesa digitalizācija | H39: 2 | I39: ESF | J39: 8500000 | K39: 10000000 | L39: 1500000 | M39: IZM | N39: 2025 III | O39: 2025 III | P39: 45502 | Q39: IZSTRĀDĒ | R39: 2025 II | S39: 2026 I
A40: 4 | B40: 4.2. | C40: Izglītība, prasmes un mūžizglītība | D40: 4.2.3. | E40: “Sekmēt to, lai – jo īpaši nelabvēlīgā situācijā esošām grupām – būtu vienlīdzīga piekļuve kvalitatīvai un iekļaujošai izglītībai un mācībām un iespēja to iegūt, sākot ar pirmsskolas izglītību un aprūpi un vispārējās izglītības un profesionālās izglītības un mācību gaitā līdz pat augstākajai izglītībai un pieaugušo izglītībai un mācībām, tostarp veicināt mācību mobilitāti visiem un atvieglot piekļūstamības iespējas personām ar invaliditāti” | F40: 4.2.3.3. | G40: Pilsonisko līdzdalību veicinošu kultūras pakalpojumu pieejamības veicināšana | H40: _ | I40: ESF | J40: 1631121 | K40: 1918966 | L40: 287845 | M40: KM | N40: IPIA izņēmums (UK lēm. 23.04.2024) | O40: IPIA izņēmums (UK lēm. 23.04.2024) | P40: 45631 | Q40: IZSTRĀDĒ | R40: 2025 II | S40: 2025 II
A41: 4 | B41: 4.2. | C41: Izglītība, prasmes un mūžizglītība | D41: 4.2.4. | E41: “Veicināt mūžizglītību, jo īpaši piedāvājot elastīgas prasmju pilnveides un pārkvalifikācijas iespējas visiem, ņemot vērā uzņēmējdarbības un digitālās prasmes, labāk prognozējot pārmaiņas un vajadzību pēc jaunām prasmēm, pamatojoties uz darba tirgus vajadzībām, atvieglojot karjeras maiņu un sekmējot profesionālo mobilitāti” | F41: 4.2.4.1. | G41: Atbalsts nozaru vajadzībās balstītai pieaugušo izglītībai | H41: 2 | I41: ESF | J41: 4898317 | K41: 5762726 | L41: 864409 | M41: IZM | N41: 45645 | O41: 45764 | P41: 45628 | Q41: IZSTRĀDĒ | R41: 2025 II | S41: 2025 II
A42: 4 | B42: 4.3. | C42: Nodarbinātība un sociālā iekļaušana | D42: 4.3.5. | E42: "Uzlabot vienlīdzīgu un savlaicīgu piekļuvi kvalitatīviem, ilgtspējīgiem un izmaksu ziņā pieejamiem pakalpojumiem; pilnveidot sociālās aizsardzības sistēmas, tostarp veicināt sociālās aizsardzības pieejamību; uzlabot ilgtermiņa aprūpes pakalpojumu pieejamību, efektivitāti un izturētspēju" | F42: 4.3.5.1. | G42: Sabiedrībā balstītu sociālo pakalpojumu pieejamības palielināšana | H42: 3 | I42: ESF | J42: 1579425 | K42: 1858148 | L42: 278723 | M42: LM | N42: 45645 | O42: 45691 | P42: 45769 | Q42: IZSTRĀDĒ | R42: 2025 III | S42: 2027 I
A43: 5 | B43: 5.1. | C43: Reģionu līdzsvarota attīstība | D43: 5.1.1. | E43: “Vietējās teritorijas integrētās sociālās, ekonomiskās un vides attīstības un kultūras mantojuma, tūrisma un drošības veicināšana pilsētu funkcionālajās teritorijās” | F43: 5.1.1.8. | G43: Divējāda lietojuma infrastruktūras attīstība | H43: _ | I43: ERAF | J43: 13812500 | K43: 16250000 | L43: 2437500 | M43: VARAM | N43: Potenciāli IPIA izņēmums | O43: Potenciāli IPIA izņēmums | P43: 45722 | Q43: IZSTRĀDĒ | R43: 2025 II | S43: 2025 III
A44: 5 | B44: 5.1. | C44: Reģionu līdzsvarota attīstība | D44: 5.1.1. | E44: “Vietējās teritorijas integrētās sociālās, ekonomiskās un vides attīstības un kultūras mantojuma, tūrisma un drošības veicināšana pilsētu funkcionālajās teritorijās” | F44: 5.1.1.9. | G44: Objektu (patvertņu) pielāgošana un aprīkošana civilās aizsardzības mērķiem | H44: _ | I44: ERAF | J44: 22196492 | K44: 26113520 | L44: 3917028 | M44: VARAM | N44: Potenciāli IPIA izņēmums | O44: Potenciāli IPIA izņēmums | P44: 45728 | Q44: IZSTRĀDĒ | R44: 2025 II | S44: 2025 III
A45: 6 | B45: 6.1. | C45: Pāreja uz klimatneitralitāti | D45: 6.1.1. | E45: "Pārejas uz klimatneitralitāti radīto ekonomisko, sociālo un vides seku mazināšana visvairāk skartajos reģionos" | F45: 6.1.1.1. | G45: Atteikšanās no kūdras izmantošanas enerģētikā | H45: 2 | I45: TPF | J45: 1000000 | K45: 1176471 | L45: 176471 | M45: VARAM | N45: 45743 | O45: Uzsākta UK rakstiskā procedūra 16.04.2025 | P45: 45686 | Q45: IZSTRĀDĒ | R45: 2025 II | S45: 2025 II
...

Sheet GRAFIKI II
A1: KUMULATĪVI
H2: Laika grafiks uz 25.04.2023.
A3: MK not. gads un ceturksnis | B3: MK noteikumu faktiskā izpilde; finansējums kumulatīvi, milj. EUR | C3: MK noteikumu finansējums, EUR | D3: MK noteikumu finansējums, milj. EUR - NOBĪDE kumulatīvi | E3: Atlašu finansējums kumulatīvi, milj. EUR | F3: Atlašu finansējums, EUR | H3: MK noteikumu apstiprināšanas plāns uz 25.04.2023; finansējums kumulatīvi, milj. EUR | I3: MK noteikumu finansējums, EUR | J3: Atlašu finansējums kumulatīvi uz 25.04.2023., milj. EUR | K3: Atlašu finansējums, EUR | L3: Nobīdes MKN | M3: Nobīdes atlases
A4: 2022 IV | B4: 0 | C4: 0 | D4: =B4-H4 -> #REF! | E4: 0 | F4: 0 | H4: =I4/1000000 -> #REF! | I4: =SUMIFS(FMZINp4_laika_grafiks!$K$94:$K$228,FMZINp4_laika_grafiks!#REF!,'GRAFIKI II'!A4) -> #REF! | J4: =K4/1000000 -> #REF! | K4: =SUMIFS(FMZINp4_laika_grafiks!$K$94:$K$228,FMZINp4_laika_grafiks!#REF!,'GRAFIKI II'!A4) -> #REF! | L4: =H4-B4 -> #REF! | M4: =J4-E4 -> #REF!
A5: 2023 I | B5: =C5/1000000+B4 -> #REF! | C5: =SUMIFS(FMZINp4_laika_grafiks!$K$94:$K$228,FMZINp4_laika_grafiks!#REF!,A5)+C4 -> #REF! | D5: =(B5-H5)+D4 -> #REF! | E5: =F5/1000000 -> #REF! | F5: =SUMIFS(FMZINp4_laika_grafiks!$K$94:$K$228,FMZINp4_laika_grafiks!#REF!,A5) -> #REF! | H5: =H4+(I5/1000000) -> #REF! | I5: =SUMIFS(FMZINp4_laika_grafiks!$K$94:$K$228,FMZINp4_laika_grafiks!#REF!,'GRAFIKI II'!A5) -> #REF! | J5: =J4+(K5/1000000) -> #REF! | K5: =SUMIFS(FMZINp4_laika_grafiks!$K$94:$K$228,FMZINp4_laika_grafiks!#REF!,'GRAFIKI II'!A5) -> #REF! | L5: =H5-B5 -> #REF! | M5: =J5-E5 -> #REF!
A6: 2023 II | B6: =C6/1000000+B5 -> #REF! | C6: =SUMIFS(FMZINp4_laika_grafiks!$K$94:$K$228,FMZINp4_laika_grafiks!#REF!,A6) -> #REF! | D6: =(B6-H6)+D5 -> #REF! | E6: =E5+F6/1000000 -> #REF! | F6: =SUMIFS(FMZINp4_laika_grafiks!$K$94:$K$228,FMZINp4_laika_grafiks!#REF!,A6) -> #REF! | H6: =H5+(I6/1000000) -> #REF! | I6: =SUMIFS(FMZINp4_laika_grafiks!$K$94:$K$228,FMZINp4_laika_grafiks!#REF!,'GRAFIKI II'!A6) -> #REF! | J6: =J5+(K6/1000000) -> #REF! | K6: =SUMIFS(FMZINp4_laika_grafiks!$K$94:$K$228,FMZINp4_laika_grafiks!#REF!,'GRAFIKI II'!A6) -> #REF! | L6: =H6-B6 -> #REF! | M6: =J6-E6 -> #REF!
A7: 2023 III | B7: =C7/1000000+B6 -> #REF! | C7: =SUMIFS(FMZINp4_laika_grafiks!$K$94:$K$228,FMZINp4_laika_grafiks!#REF!,A7) -> #REF! | D7: =(B7-H7)+D6 -> #REF! | E7: =E6+F7/1000000 -> #REF! | F7: =SUMIFS(FMZINp4_laika_grafiks!$K$94:$K$228,FMZINp4_laika_grafiks!#REF!,A7) -> #REF! | H7: =H6+(I7/1000000) -> #REF! | I7: =SUMIFS(FMZINp4_laika_grafiks!$K$94:$K$228,FMZINp4_laika_grafiks!#REF!,'GRAFIKI II'!A7) -> #REF! | J7: =J6+(K7/1000000) -> #REF! | K7: =SUMIFS(FMZINp4_laika_grafiks!$K$94:$K$228,FMZINp4_laika_grafiks!#REF!,'GRAFIKI II'!A7) -> #REF! | L7: =H7-B7 -> #REF! | M7: =J7-E7 -> #REF!
A8: 2023 IV | B8: =C8/1000000+B7 -> #REF! | C8: =SUMIFS(FMZINp4_laika_grafiks!$K$94:$K$228,FMZINp4_laika_grafiks!#REF!,A8) -> #REF! | D8: =(B8-H8)+D7 -> #REF! | E8: =E7+F8/1000000 -> #REF! | F8: =SUMIFS(FMZINp4_laika_grafiks!$K$94:$K$228,FMZINp4_laika_grafiks!#REF!,A8) -> #REF! | H8: =H7+(I8/1000000) -> #REF! | I8: =SUMIFS(FMZINp4_laika_grafiks!$K$94:$K$228,FMZINp4_laika_grafiks!#REF!,'GRAFIKI II'!A8) -> #REF! | J8: =J7+(K8/1000000) -> #REF! | K8: =SUMIFS(FMZINp4_laika_grafiks!$K$94:$K$228,FMZINp4_laika_grafiks!#REF!,'GRAFIKI II'!A8) -> #REF! | L8: =H8-B8 -> #REF! | M8: =J8-E8 -> #REF!
A9: 2024 I | B9: =C9/1000000+B8 -> #REF! | C9: =SUMIFS(FMZINp4_laika_grafiks!$K$94:$K$228,FMZINp4_laika_grafiks!#REF!,A9) -> #REF! | D9: =(B9-H9)+D8 -> #REF! | E9: =E8+F9/1000000 -> #REF! | F9: =SUMIFS(FMZINp4_laika_grafiks!$K$94:$K$228,FMZINp4_laika_grafiks!#REF!,A9) -> #REF! | H9: =H8+(I9/1000000) -> #REF! | I9: =SUMIFS(FMZINp4_laika_grafiks!$K$94:$K$228,FMZINp4_laika_grafiks!#REF!,'GRAFIKI II'!A9) -> #REF! | J9: =J8+(K9/1000000) -> #REF! | K9: =SUMIFS(FMZINp4_laika_grafiks!$K$94:$K$228,FMZINp4_laika_grafiks!#REF!,'GRAFIKI II'!A9) -> #REF!
A10: 2024 II | B10: =C10/1000000+B9 -> #REF! | C10: =SUMIFS(FMZINp4_laika_grafiks!$K$94:$K$228,FMZINp4_laika_grafiks!#REF!,A10) -> #REF! | D10: =(B10-H10)+D9 -> #REF! | E10: =E9+F10/1000000 -> #REF! | F10: =SUMIFS(FMZINp4_laika_grafiks!$K$94:$K$228,FMZINp4_laika_grafiks!#REF!,A10) -> #REF! | H10: =H9+(I10/1000000) -> #REF! | I10: =SUMIFS(FMZINp4_laika_grafiks!$K$94:$K$228,FMZINp4_laika_grafiks!#REF!,'GRAFIKI II'!A10) -> #REF! | J10: =J9+(K10/1000000) -> #REF! | K10: =SUMIFS(FMZINp4_laika_grafiks!$K$94:$K$228,FMZINp4_laika_grafiks!#REF!,'GRAFIKI II'!A10) -> #REF!
A11: 2024 III | B11: =C11/1000000+B10 -> #REF! | C11: =SUMIFS(FMZINp4_laika_grafiks!$K$94:$K$228,FMZINp4_laika_grafiks!#REF!,A11) -> #REF! | D11: =(B11-H11)+D10 -> #REF! | E11: =E10+F11/1000000 -> #REF! | F11: =SUMIFS(FMZINp4_laika_grafiks!$K$94:$K$228,FMZINp4_laika_grafiks!#REF!,A11) -> #REF! | H11: =H10+(I11/1000000) -> #REF! | I11: =SUMIFS(FMZINp4_laika_grafiks!$K$94:$K$228,FMZINp4_laika_grafiks!#REF!,'GRAFIKI II'!A11) -> #REF! | J11: =J10+(K11/1000000) -> #REF! | K11: =SUMIFS(FMZINp4_laika_grafiks!$K$94:$K$228,FMZINp4_laika_grafiks!#REF!,'GRAFIKI II'!A11) -> #REF!
A12: 2024 IV | B12: =C12/1000000+B11 -> #REF! | C12: =SUMIFS(FMZINp4_laika_grafiks!$K$94:$K$228,FMZINp4_laika_grafiks!#REF!,A12) -> #REF! | D12: =(B12-H12)+D11 -> #REF! | E12: =E11+F12/1000000 -> #REF! | F12: =SUMIFS(FMZINp4_laika_grafiks!$K$94:$K$228,FMZINp4_laika_grafiks!#REF!,A12) -> #REF! | H12: =H11+(I12/1000000) -> #REF! | I12: =SUMIFS(FMZINp4_laika_grafiks!$K$94:$K$228,FMZINp4_laika_grafiks!#REF!,'GRAFIKI II'!A12) -> #REF! | J12: =J11+(K12/1000000) -> #REF! | K12: =SUMIFS(FMZINp4_laika_grafiks!$K$94:$K$228,FMZINp4_laika_grafiks!#REF!,'GRAFIKI II'!A12) -> #REF!
A13: 2025 I | B13: =C13/1000000+B12 -> #REF! | C13: =SUMIFS(FMZINp4_laika_grafiks!$K$94:$K$228,FMZINp4_laika_grafiks!#REF!,A13) -> #REF! | D13: =(B13-H13)+D12 -> #REF! | E13: =E12+F13/1000000 -> #REF! | F13: =SUMIFS(FMZINp4_laika_grafiks!$K$94:$K$228,FMZINp4_laika_grafiks!#REF!,A13) -> #REF! | H13: =H12+(I13/1000000) -> #REF! | I13: =SUMIFS(FMZINp4_laika_grafiks!$K$94:$K$228,FMZINp4_laika_grafiks!#REF!,'GRAFIKI II'!A13) -> #REF! | J13: =J12+(K13/1000000) -> #REF! | K13: =SUMIFS(FMZINp4_laika_grafiks!$K$94:$K$228,FMZINp4_laika_grafiks!#REF!,'GRAFIKI II'!A13) -> #REF!
A14: 2025 II | B14: =C14/1000000+B13 -> #REF! | C14: =SUMIFS(FMZINp4_laika_grafiks!$K$94:$K$228,FMZINp4_laika_grafiks!#REF!,A14) -> #REF! | D14: =(B14-H14)+D13 -> #REF! | E14: =E13+F14/1000000 -> #REF! | F14: =SUMIFS(FMZINp4_laika_grafiks!$K$94:$K$228,FMZINp4_laika_grafiks!#REF!,A14) -> #REF! | H14: =H13+(I14/1000000) -> #REF! | I14: =SUMIFS(FMZINp4_laika_grafiks!$K$94:$K$228,FMZINp4_laika_grafiks!#REF!,'GRAFIKI II'!A14) -> #REF! | J14: =J13+(K14/1000000) -> #REF! | K14: =SUMIFS(FMZINp4_laika_grafiks!$K$94:$K$228,FMZINp4_laika_grafiks!#REF!,'GRAFIKI II'!A14) -> #REF!
A15: 2025 III | B15: =C15/1000000+B14 -> #REF! | C15: =SUMIFS(FMZINp4_laika_grafiks!$K$94:$K$228,FMZINp4_laika_grafiks!#REF!,A15) -> #REF! | D15: =(B15-H15)+D14 -> #REF! | E15: =E14+F15/1000000 -> #REF! | F15: =SUMIFS(FMZINp4_laika_grafiks!$K$94:$K$228,FMZINp4_laika_grafiks!#REF!,A15) -> #REF! | H15: =H14+(I15/1000000) -> #REF! | I15: =SUMIFS(FMZINp4_laika_grafiks!$K$94:$K$228,FMZINp4_laika_grafiks!#REF!,'GRAFIKI II'!A15) -> #REF! | J15: =J14+(K15/1000000) -> #REF! | K15: =SUMIFS(FMZINp4_laika_grafiks!$K$94:$K$228,FMZINp4_laika_grafiks!#REF!,'GRAFIKI II'!A15) -> #REF!
A16: 2025 IV | B16: =C16/1000000+B15 -> #REF! | C16: =SUMIFS(FMZINp4_laika_grafiks!$K$94:$K$228,FMZINp4_laika_grafiks!#REF!,A16) -> #REF! | D16: =(B16-H16)+D15 -> #REF! | E16: =E15+F16/1000000 -> #REF! | F16: =SUMIFS(FMZINp4_laika_grafiks!$K$94:$K$228,FMZINp4_laika_grafiks!#REF!,A16) -> #REF! | H16: =H15+(I16/1000000) -> #REF! | I16: =SUMIFS(FMZINp4_laika_grafiks!$K$94:$K$228,FMZINp4_laika_grafiks!#REF!,'GRAFIKI II'!A16) -> #REF! | J16: =J15+(K16/1000000) -> #REF! | K16: =SUMIFS(FMZINp4_laika_grafiks!$K$94:$K$228,FMZINp4_laika_grafiks!#REF!,'GRAFIKI II'!A16) -> #REF!
A17: 2026 I | B17: =C17/1000000+B16 -> #REF! | C17: =SUMIFS(FMZINp4_laika_grafiks!$K$94:$K$228,FMZINp4_laika_grafiks!#REF!,A17) -> #REF! | D17: =(B17-H17)+D16 -> #REF! | E17: =E16+F17/1000000 -> #REF! | F17: =SUMIFS(FMZINp4_laika_grafiks!$K$94:$K$228,FMZINp4_laika_grafiks!#REF!,A17) -> #REF! | H17: =H16+(I17/1000000) -> #REF! | I17: =SUMIFS(FMZINp4_laika_grafiks!$K$94:$K$228,FMZINp4_laika_grafiks!#REF!,'GRAFIKI II'!A17) -> #REF! | J17: =J16+(K17/1000000) -> #REF! | K17: =SUMIFS(FMZINp4_laika_grafiks!$K$94:$K$228,FMZINp4_laika_grafiks!#REF!,'GRAFIKI II'!A17) -> #REF!
A18: Uzsaukums par elastības finansējuma apjomu 2026.g. | B18: =C18/1000000+B17 -> #REF! | C18: =SUMIFS(FMZINp4_laika_grafiks!$K$94:$K$228,FMZINp4_laika_grafiks!#REF!,A18) -> #REF! | D18: =(B18-H18)+D17 -> #REF! | E18: =E17+F18/1000000 -> #REF! | F18: =SUMIFS(FMZINp4_laika_grafiks!$K$94:$K$228,FMZINp4_laika_grafiks!#REF!,A18) -> #REF! | H18: =H17+(I18/1000000) -> #REF! | I18: =SUMIFS(FMZINp4_laika_grafiks!$K$94:$K$228,FMZINp4_laika_grafiks!#REF!,'GRAFIKI II'!A18) -> #REF! | J18: =J17+(K18/1000000) -> #REF! | K18: =SUMIFS(FMZINp4_laika_grafiks!$K$94:$K$228,FMZINp4_laika_grafiks!#REF!,'GRAFIKI II'!A18) -> #REF!
A19: 2026 II | B19: =C19/1000000+B18 -> #REF! | C19: =SUMIFS(FMZINp4_laika_grafiks!$K$94:$K$228,FMZINp4_laika_grafiks!#REF!,A19) -> #REF! | D19: =(B19-H19)+D18 -> #REF! | E19: =E18+F19/1000000 -> #REF! | F19: =SUMIFS(FMZINp4_laika_grafiks!$K$94:$K$228,FMZINp4_laika_grafiks!#REF!,A19) -> #REF! | H19: =H18+(I19/1000000) -> #REF! | I19: =SUMIFS(FMZINp4_laika_grafiks!$K$94:$K$228,FMZINp4_laika_grafiks!#REF!,'GRAFIKI II'!A19) -> #REF! | J19: =J18+(K19/1000000) -> #REF! | K19: =SUMIFS(FMZINp4_laika_grafiks!$K$94:$K$228,FMZINp4_laika_grafiks!#REF!,'GRAFIKI II'!A19) -> #REF!
A20: 2026 III | B20: =C20/1000000+B19 -> #REF! | C20: =SUMIFS(FMZINp4_laika_grafiks!$K$94:$K$228,FMZINp4_laika_grafiks!#REF!,A20) -> #REF! | D20: =(B20-H20)+D19 -> #REF! | E20: =E19+F20/1000000 -> #REF! | F20: =SUMIFS(FMZINp4_laika_grafiks!$K$94:$K$228,FMZINp4_laika_grafiks!#REF!,A20) -> #REF! | H20: =H19+(I20/1000000) -> #REF! | I20: =SUMIFS(FMZINp4_laika_grafiks!$K$94:$K$228,FMZINp4_laika_grafiks!#REF!,'GRAFIKI II'!A20) -> #REF! | J20: =J19+(K20/1000000) -> #REF! | K20: =SUMIFS(FMZINp4_laika_grafiks!$K$94:$K$228,FMZINp4_laika_grafiks!#REF!,'GRAFIKI II'!A20) -> #REF!
... A25: 2027 IV | B25: =C25/1000000+B24 -> #REF! | C25: =SUMIFS(FMZINp4_laika_grafiks!$K$94:$K$228,FMZINp4_laika_grafiks!#REF!,A25) -> #REF! | D25: =(B25-H25)+D24 -> #REF! | E25: =E24+F25/1000000 -> #REF! | F25: =SUMIFS(FMZINp4_laika_grafiks!$K$94:$K$228,FMZINp4_laika_grafiks!#REF!,A25) -> #REF! | H25: =H24+(I25/1000000) -> #REF! | I25: =SUMIFS(FMZINp4_laika_grafiks!$K$94:$K$228,FMZINp4_laika_grafiks!#REF!,'GRAFIKI II'!A25) -> #REF! | J25: =J24+(K25/1000000) -> #REF! | K25: =SUMIFS(FMZINp4_laika_grafiks!$K$94:$K$228,FMZINp4_laika_grafiks!#REF!,'GRAFIKI II'!A25) -> #REF!
A26: bez TP prioritātes | C26: =SUM(C5:C25) -> #REF! | F26: =SUM(F5:F25) -> #REF! | I26: =SUM(I4:I25) -> #REF! | K26: =SUM(K4:K25) -> #REF!
C27: =FMZINp4_laika_grafiks!#REF!+FMZINp4_laika_grafiks!#REF!+C26 -> #REF! | F27: =F26+FMZINp4_laika_grafiks!#REF!+FMZINp4_laika_grafiks!#REF! -> #REF! | I27: =I26+FMZINp4_laika_grafiks!#REF!+FMZINp4_laika_grafiks!#REF! -> #REF! | K27: =K26+FMZINp4_laika_grafiks!#REF!+FMZINp4_laika_grafiks!#REF! -> #REF!
C28: =FMZINp4_laika_grafiks!#REF!-C27 -> #REF! | F28: =FMZINp4_laika_grafiks!#REF!-F27 -> #REF! | I28: =I27-FMZINp4_laika_grafiks!#REF! -> #REF! | K28: =K27-FMZINp4_laika_grafiks!#REF! -> #REF!
A29: BEZ KUMULATĀCIJAS
H30: Laika grafiks uz 25.04.2023.
A31: MK not. gads un ceturksnis | B31: MK noteikumu faktiskā izpilde; finansējums , milj. EUR | C31: MK noteikumu finansējums, EUR | D31: MK noteikumu finansējums, milj.EUR - NOBĪDE | E31: Atlašu finansējums, milj. EUR | F31: Atlašu finansējums, EUR | H31: MK noteikumu apstiprināšanas plāns uz 25.04.2023; finansējums kumulatīvi, milj. EUR | I31: MK noteikumu finansējums, EUR | J31: Atlašu finansējums kumulatīvi uz 25.04.2023., milj. EUR | K31: Atlašu finansējums, EUR
A32: 2022 IV | B32: 0 | C32: 0 | D32: =B32-E32 -> 0 | E32: 0 | F32: 0 | H32: =I32/1000000 -> #REF! | I32: =SUMIFS(FMZINp4_laika_grafiks!$K$94:$K$228,FMZINp4_laika_grafiks!#REF!,'GRAFIKI II'!A32) -> #REF! | J32: =K32/1000000 -> #REF! | K32: =SUMIFS(FMZINp4_laika_grafiks!$K$94:$K$228,FMZINp4_laika_grafiks!#REF!,'GRAFIKI II'!A32) -> #REF!
A33: 2023 I | B33: =C33/1000000 -> #REF! | C33: =SUMIFS(FMZINp4_laika_grafiks!$K$94:$K$228,FMZINp4_laika_grafiks!#REF!,A33) -> #REF! | D33: =B33-H33 -> #REF! | E33: =F33/1000000 -> #REF! | F33: =SUMIFS(FMZINp4_laika_grafiks!$K$94:$K$228,FMZINp4_laika_grafiks!#REF!,A33) -> #REF! | H33: =(I33/1000000) -> #REF! | I33: =SUMIFS(FMZINp4_laika_grafiks!$K$94:$K$228,FMZINp4_laika_grafiks!#REF!,'GRAFIKI II'!A33) -> #REF! | J33: =(K33/1000000) -> #REF! | K33: =SUMIFS(FMZINp4_laika_grafiks!$K$94:$K$228,FMZINp4_laika_grafiks!#REF!,'GRAFIKI II'!A33) -> #REF!
A34: 2023 II | B34: =C34/1000000 -> #REF! | C34: =SUMIFS(FMZINp4_laika_grafiks!$K$94:$K$228,FMZINp4_laika_grafiks!#REF!,A34) -> #REF! | D34: =B34-H34 -> #REF! | E34: =F34/1000000 -> #REF! | F34: =SUMIFS(FMZINp4_laika_grafiks!$K$94:$K$228,FMZINp4_laika_grafiks!#REF!,A34) -> #REF! | H34: =(I34/1000000) -> #REF! | I34: =SUMIFS(FMZINp4_laika_grafiks!$K$94:$K$228,FMZINp4_laika_grafiks!#REF!,'GRAFIKI II'!A34) -> #REF! | J34: =(K34/1000000) -> #REF! | K34: =SUMIFS(FMZINp4_laika_grafiks!$K$94:$K$228,FMZINp4_laika_grafiks!#REF!,'GRAFIKI II'!A34) -> #REF!
A35: 2023 III | B35: =C35/1000000 -> #REF! | C35: =SUMIFS(FMZINp4_laika_grafiks!$K$94:$K$228,FMZINp4_laika_grafiks!#REF!,A35) -> #REF! | D35: =B35-H35 -> #REF! | E35: =F35/1000000 -> #REF! | F35: =SUMIFS(FMZINp4_laika_grafiks!$K$94:$K$228,FMZINp4_laika_grafiks!#REF!,A35) -> #REF! | H35: =(I35/1000000) -> #REF! | I35: =SUMIFS(FMZINp4_laika_grafiks!$K$94:$K$228,FMZINp4_laika_grafiks!#REF!,'GRAFIKI II'!A35) -> #REF! | J35: =(K35/1000000) -> #REF! | K35: =SUMIFS(FMZINp4_laika_grafiks!$K$94:$K$228,FMZINp4_laika_grafiks!#REF!,'GRAFIKI II'!A35) -> #REF!
A36: 2023 IV | B36: =C36/1000000 -> #REF! | C36: =SUMIFS(FMZINp4_laika_grafiks!$K$94:$K$228,FMZINp4_laika_grafiks!#REF!,A36) -> #REF! | D36: =B36-H36 -> #REF! | E36: =F36/1000000 -> #REF! | F36: =SUMIFS(FMZINp4_laika_grafiks!$K$94:$K$228,FMZINp4_laika_grafiks!#REF!,A36) -> #REF! | H36: =(I36/1000000) -> #REF! | I36: =SUMIFS(FMZINp4_laika_grafiks!$K$94:$K$228,FMZINp4_laika_grafiks!#REF!,'GRAFIKI II'!A36) -> #REF! | J36: =(K36/1000000) -> #REF! | K36: =SUMIFS(FMZINp4_laika_grafiks!$K$94:$K$228,FMZINp4_laika_grafiks!#REF!,'GRAFIKI II'!A36) -> #REF!
A37: 2024 I | B37: =C37/1000000 -> #REF! | C37: =SUMIFS(FMZINp4_laika_grafiks!$K$94:$K$228,FMZINp4_laika_grafiks!#REF!,A37) -> #REF! | D37: =B37-H37 -> #REF! | E37: =F37/1000000 -> #REF! | F37: =SUMIFS(FMZINp4_laika_grafiks!$K$94:$K$228,FMZINp4_laika_grafiks!#REF!,A37) -> #REF! | H37: =(I37/1000000) -> #REF! | I37: =SUMIFS(FMZINp4_laika_grafiks!$K$94:$K$228,FMZINp4_laika_grafiks!#REF!,'GRAFIKI II'!A37) -> #REF! | J37: =(K37/1000000) -> #REF! | K37: =SUMIFS(FMZINp4_laika_grafiks!$K$94:$K$228,FMZINp4_laika_grafiks!#REF!,'GRAFIKI II'!A37) -> #REF!
A38: 2024 II | B38: =C38/1000000 -> #REF! | C38: =SUMIFS(FMZINp4_laika_grafiks!$K$94:$K$228,FMZINp4_laika_grafiks!#REF!,A38) -> #REF! | D38: =B38-H38 -> #REF! | E38: =F38/1000000 -> #REF! | F38: =SUMIFS(FMZINp4_laika_grafiks!$K$94:$K$228,FMZINp4_laika_grafiks!#REF!,A38) -> #REF! | H38: =(I38/1000000) -> #REF! | I38: =SUMIFS(FMZINp4_laika_grafiks!$K$94:$K$228,FMZINp4_laika_grafiks!#REF!,'GRAFIKI II'!A38) -> #REF! | J38: =(K38/1000000) -> #REF! | K38: =SUMIFS(FMZINp4_laika_grafiks!$K$94:$K$228,FMZINp4_laika_grafiks!#REF!,'GRAFIKI II'!A38) -> #REF!
A39: 2024 III | B39: =C39/1000000 -> #REF! | C39: =SUMIFS(FMZINp4_laika_grafiks!$K$94:$K$228,FMZINp4_laika_grafiks!#REF!,A39) -> #REF! | D39: =B39-H39 -> #REF! | E39: =F39/1000000 -> #REF! | F39: =SUMIFS(FMZINp4_laika_grafiks!$K$94:$K$228,FMZINp4_laika_grafiks!#REF!,A39) -> #REF! | H39: =(I39/1000000) -> #REF! | I39: =SUMIFS(FMZINp4_laika_grafiks!$K$94:$K$228,FMZINp4_laika_grafiks!#REF!,'GRAFIKI II'!A39) -> #REF! | J39: =(K39/1000000) -> #REF! | K39: =SUMIFS(FMZINp4_laika_grafiks!$K$94:$K$228,FMZINp4_laika_grafiks!#REF!,'GRAFIKI II'!A39) -> #REF!
A40: 2024 IV | B40: =C40/1000000 -> #REF! | C40: =SUMIFS(FMZINp4_laika_grafiks!$K$94:$K$228,FMZINp4_laika_grafiks!#REF!,A40) -> #REF! | D40: =B40-H40 -> #REF! | E40: =F40/1000000 -> #REF! | F40: =SUMIFS(FMZINp4_laika_grafiks!$K$94:$K$228,FMZINp4_laika_grafiks!#REF!,A40) -> #REF! | H40: =(I40/1000000) -> #REF! | I40: =SUMIFS(FMZINp4_laika_grafiks!$K$94:$K$228,FMZINp4_laika_grafiks!#REF!,'GRAFIKI II'!A40) -> #REF! | J40: =(K40/1000000) -> #REF! | K40: =SUMIFS(FMZINp4_laika_grafiks!$K$94:$K$228,FMZINp4_laika_grafiks!#REF!,'GRAFIKI II'!A40) -> #REF!
A41: 2025 I | B41: =C41/1000000 -> #REF! | C41: =SUMIFS(FMZINp4_laika_grafiks!$K$94:$K$228,FMZINp4_laika_grafiks!#REF!,A41) -> #REF! | D41: =B41-H41 -> #REF! | E41: =F41/1000000 -> #REF! | F41: =SUMIFS(FMZINp4_laika_grafiks!$K$94:$K$228,FMZINp4_laika_grafiks!#REF!,A41) -> #REF! | H41: =(I41/1000000) -> #REF! | I41: =SUMIFS(FMZINp4_laika_grafiks!$K$94:$K$228,FMZINp4_laika_grafiks!#REF!,'GRAFIKI II'!A41) -> #REF! | J41: =(K41/1000000) -> #REF! | K41: =SUMIFS(FMZINp4_laika_grafiks!$K$94:$K$228,FMZINp4_laika_grafiks!#REF!,'GRAFIKI II'!A41) -> #REF!
A42: 2025 II | B42: =C42/1000000 -> #REF! | C42: =SUMIFS(FMZINp4_laika_grafiks!$K$94:$K$228,FMZINp4_laika_grafiks!#REF!,A42) -> #REF! | D42: =B42-H42 -> #REF! | E42: =F42/1000000 -> #REF! | F42: =SUMIFS(FMZINp4_laika_grafiks!$K$94:$K$228,FMZINp4_laika_grafiks!#REF!,A42) -> #REF! | H42: =(I42/1000000) -> #REF! | I42: =SUMIFS(FMZINp4_laika_grafiks!$K$94:$K$228,FMZINp4_laika_grafiks!#REF!,'GRAFIKI II'!A42) -> #REF! | J42: =(K42/1000000) -> #REF! | K42: =SUMIFS(FMZINp4_laika_grafiks!$K$94:$K$228,FMZINp4_laika_grafiks!#REF!,'GRAFIKI II'!A42) -> #REF!
A43: 2025 III | B43: =C43/1000000 -> #REF! | C43: =SUMIFS(FMZINp4_laika_grafiks!$K$94:$K$228,FMZINp4_laika_grafiks!#REF!,A43) -> #REF! | D43: =B43-H43 -> #REF! | E43: =F43/1000000 -> #REF! | F43: =SUMIFS(FMZINp4_laika_grafiks!$K$94:$K$228,FMZINp4_laika_grafiks!#REF!,A43) -> #REF! | H43: =(I43/1000000) -> #REF! | I43: =SUMIFS(FMZINp4_laika_grafiks!$K$94:$K$228,FMZINp4_laika_grafiks!#REF!,'GRAFIKI II'!A43) -> #REF! | J43: =(K43/1000000) -> #REF! | K43: =SUMIFS(FMZINp4_laika_grafiks!$K$94:$K$228,FMZINp4_laika_grafiks!#REF!,'GRAFIKI II'!A43) -> #REF!
A44: 2025 IV | B44: =C44/1000000 -> #REF! | C44: =SUMIFS(FMZINp4_laika_grafiks!$K$94:$K$228,FMZINp4_laika_grafiks!#REF!,A44) -> #REF! | D44: =B44-H44 -> #REF! | E44: =F44/1000000 -> #REF! | F44: =SUMIFS(FMZINp4_laika_grafiks!$K$94:$K$228,FMZINp4_laika_grafiks!#REF!,A44) -> #REF! | H44: =(I44/1000000) -> #REF! | I44: =SUMIFS(FMZINp4_laika_grafiks!$K$94:$K$228,FMZINp4_laika_grafiks!#REF!,'GRAFIKI II'!A44) -> #REF! | J44: =(K44/1000000) -> #REF! | K44: =SUMIFS(FMZINp4_laika_grafiks!$K$94:$K$228,FMZINp4_laika_grafiks!#REF!,'GRAFIKI II'!A44) -> #REF!
...
