Workbook

Sheet FMZINP_2_Radītāju_progress
N1: 2. pielikums Informatīvajam ziņojumam par Eiropas Savienības fondu un Atveseļošanas fonda plāna ieviešanu 2025. gada novembrī-decembrī
A4: Atveseļošanas fonda plāna vēl izpildāmo rādītāju izpildes statuss
A6: * Rādītāji, kuriem pabeigšanas termiņš ieplānots 2026. gada trešais ceturksnis ir ar paaugstinātu pabeigšanas risku un šūnas iekrāsotas
A7: **Ja investīcijā veiktie maksājumi mazāki par 50% no līguma vērtības, tas signalizē par paaugstinātu risku un šūnas iekrāsotas
A8: ***Ja fiziski sasniedzamo rādītāju vērtības mazākas par 50% no plānotajām rādītāja vērtībām, tas signalizē par paaugstinātu risku un šūnas iekrāsotas
A9: Tabula grupēta atbilstoši rādītāja pabeigšanas riska līmenim (pabeigšanas termiņš, veikti maksājumi, sasniegtie rādītāji un KI zināmie papildus riski) un atbilstoši atlikušajiem maksājumiem, sākot no lielākajām summām.
A11: Sagatavots 17.12.2025
A13: Rādītāja Nr. | B13: Rādītāja nosaukums | C13: Mērķa datums* | D13: 4. Reforma/Investīcija Kods | E13: 4. Reforma/Investīcija Nosaukums | F13: Reformas/Investīcijas nosaukums | G13: Reforma/ Investīcija | H13: Nozares ministrija | I13: Projektu finansējums investīcijā (AF) | J13: Projektos veiktie maksājumi (AF) | K13: Atlikušie maksājumi (AF) | L13: % veikti maksājumi ** | M13: Projektu skaits investīcijā | N13: Rādītāja apraksts | O13: Rādītāja mērvienība | P13: Rādītāja sasniedzamā vērtība | Q13: Rādītāja sasniegtā vērtība | R13: % sasniegtā vērtība*** | S13: Komentārs (KI zināmie papildus riski) | T13: Ainas svarss no 1-3 punktiem | U13: Sort
A14: 3 | B14: Transporta projekti | C14: 2026Q3 | D14: 1.1.1.i | E14: Rīgas metropoles transporta infrastruktūras uzlabošana | F14: =D14 &" "& E14 -> 1.1.1.i Rīgas metropoles transporta infrastruktūras uzlabošana | G14: =INDEX('Grafikam_M&T_Kopā'!E:E,MATCH(A14,'Grafikam_M&T_Kopā'!F:F,0)) -> Investīcija | H14: Satiksmes ministrija | I14: =IF(D14="1.1.1.i", SUMIFS(Izejas_dati_finans_maksājumi!H:H,Izejas_dati_finans_maksājumi!B:B,"1.1.1.1.i.2/1/23/I/CFLA/001")+SUMIFS(Izejas_dati_finans_maksājumi!H:H,Izejas_dati_finans_maksājumi!B:B,"1.1.1.1.i.2/2/25/I/CFLA/001"), IF(D14="2.3.1.5.i",SUMIFS(Izejas_dati_finans_maksājumi!H:H,Izejas_dati_finans_maksājumi!B:B,"2.3.1.4.i.0/1/23/I/CFLA/001"), SUMIFS(Izejas_dati_finans_maksājumi!H:H,Izejas_dati_finans_maksājumi!A:A,D14))) -> 187327980 | J14: =IF(D14="1.1.1.i", SUMIFS(Maksājumi_statusa!K:K,Maksājumi_statusa!D:D,"1.1.1.1.i.2/1/23/I/CFLA/001")+SUMIFS(Maksājumi_statusa!K:K,Maksājumi_statusa!D:D,"1.1.1.1.i.2/2/25/I/CFLA/001"), IF(D14="2.3.1.5.i",SUMIFS(Maksājumi_statusa!K:K,Maksājumi_statusa!D:D,"2.3.1.4.i.0/1/23/I/CFLA/001"), SUMIFS(Maksājumi_statusa!K:K,Maksājumi_statusa!C:C,D14))) -> 69014694 | K14: =I14-J14 -> 1.1831329e+08 | L14: =IF(G14= "Investīcija",J14/I14,1) -> 0.36841637 | M14: =IF(D14="1.1.1.i", COUNTIFS(Izejas_dati_finans_maksājumi!B:B,"1.1.1.1.i.2/1/23/I/CFLA/001")+COUNTIFS(Izejas_dati_finans_maksājumi!B:B,"1.1.1.1.i.2/2/25/I/CFLA/001"), COUNTIFS(Izejas_dati_finans_maksājumi!A:A,D14)) -> 2 | N14: =INDEX('Grafikam_M&T_Kopā'!H:H,MATCH(A14,'Grafikam_M&T_Kopā'!F:F,0)) -> '- 100 km elektrificētu dzelzceļa līniju un modernizētas dzelzceļa infrastruktūras: - piegādāti 17 elektriskie autobusi; - uzbūvētas 7 autobusu uzlādes stacijas; - uzbūvēts viens transporta mezgls; - uzbūvēti astoņi mobilitātes punkti; - uzbūvēta 2,2 km tramvaja līnijas; - uzbūvēta 0,3 km trolejbusu līnijas; - 52 km no jauna uzbūvētas vai renovētas velosipēdu infrastruktūras Rīgā un Pierīgā. | O14: =IF(INDEX('Grafikam_M&T_Kopā'!P:P,MATCH(A14,'Grafikam_M&T_Kopā'!F:F,0))= "N", "N/A", INDEX('Grafikam_M&T_Kopā'!P:P,MATCH(A14,'Grafikam_M&T_Kopā'!F:F,0))) -> N/A | P14: =IF(ISNUMBER(INDEX('Grafikam_M&T_Kopā'!M:M,MATCH(A14,'Grafikam_M&T_Kopā'!F:F,0))), INDEX('Grafikam_M&T_Kopā'!M:M,MATCH(A14,'Grafikam_M&T_Kopā'!F:F,0)), INDEX('Grafikam_M&T_Kopā'!N:N,MATCH(A14,'Grafikam_M&T_Kopā'!F:F,0))) -> Transporta projekti | Q14: =IF(ISNUMBER(INDEX('Grafikam_M&T_Kopā'!M:M,MATCH(A14,'Grafikam_M&T_Kopā'!F:F,0))), INDEX('Grafikam_M&T_Kopā'!S:S,MATCH(A14,'Grafikam_M&T_Kopā'!F:F,0)), INDEX('Grafikam_M&T_Kopā'!O:O,MATCH(A14,'Grafikam_M&T_Kopā'!F:F,0))) -> Procesā | R14: =IFERROR(Q14/P14,"Rādītājs teksta vērtība") -> Rādītājs teksta vērtība | S14: Ar AF plānā grozījumiem, transporta objektu rādītāji apvienoti vienā. Ņemot vērā finansiāli apjomīgos projektus un augsto riska līmeni būvniecības projektiem kopumā, īpaši uzraugāms. | T14: 3 | U14: =IF(AND(C14="2026Q3",L14<50%,R14<50%),4, IF(OR(AND(C14="2026Q3",L14<50%),AND(L14<50%,R14<50%),AND(C14="2026Q3",R14<50%)),3, IF(OR(C14="2026Q3",L14<50%,R14<50%),2, 1)) )+T14 -> 6
A15: 4a | B15: Rīgas Centrālā dzelzceļa stacija | C15: 2026Q3 | D15: 1.1.1.i | E15: Rīgas metropoles transporta infrastruktūras uzlabošana | F15: =D15 &" "& E15 -> 1.1.1.i Rīgas metropoles transporta infrastruktūras uzlabošana | G15: =INDEX('Grafikam_M&T_Kopā'!E:E,MATCH(A15,'Grafikam_M&T_Kopā'!F:F,0)) -> Investīcija | H15: Satiksmes ministrija | I15: =IF(D15="1.1.1.i", SUMIFS(Izejas_dati_finans_maksājumi!H:H,Izejas_dati_finans_maksājumi!B:B,"1.1.1.1.i.2/1/23/I/CFLA/001")+SUMIFS(Izejas_dati_finans_maksājumi!H:H,Izejas_dati_finans_maksājumi!B:B,"1.1.1.1.i.2/2/25/I/CFLA/001"), IF(D15="2.3.1.5.i",SUMIFS(Izejas_dati_finans_maksājumi!H:H,Izejas_dati_finans_maksājumi!B:B,"2.3.1.4.i.0/1/23/I/CFLA/001"), SUMIFS(Izejas_dati_finans_maksājumi!H:H,Izejas_dati_finans_maksājumi!A:A,D15))) -> 187327980 | J15: =IF(D15="1.1.1.i", SUMIFS(Maksājumi_statusa!K:K,Maksājumi_statusa!D:D,"1.1.1.1.i.2/1/23/I/CFLA/001")+SUMIFS(Maksājumi_statusa!K:K,Maksājumi_statusa!D:D,"1.1.1.1.i.2/2/25/I/CFLA/001"), IF(D15="2.3.1.5.i",SUMIFS(Maksājumi_statusa!K:K,Maksājumi_statusa!D:D,"2.3.1.4.i.0/1/23/I/CFLA/001"), SUMIFS(Maksājumi_statusa!K:K,Maksājumi_statusa!C:C,D15))) -> 69014694 | K15: =I15-J15 -> 1.1831329e+08 | L15: =IF(G15= "Investīcija",J15/I15,1) -> 0.36841637 | M15: =IF(D15="1.1.1.i", COUNTIFS(Izejas_dati_finans_maksājumi!B:B,"1.1.1.1.i.2/1/23/I/CFLA/001")+COUNTIFS(Izejas_dati_finans_maksājumi!B:B,"1.1.1.1.i.2/2/25/I/CFLA/001"), COUNTIFS(Izejas_dati_finans_maksājumi!A:A,D15)) -> 2 | N15: =INDEX('Grafikam_M&T_Kopā'!H:H,MATCH(A15,'Grafikam_M&T_Kopā'!F:F,0)) -> Rīgas Centrālās dzelzceļa stacijas dienvidu daļā veiktie būvdarbi, kas saistīti ar: jumta ieklāšanu, fasādi, perona nojumes jumtu, apdares darbiem, pasažieru piekļuves infrastruktūras mehāniskajiem, elektroinstalācijas un santehnikas darbiem. | O15: =IF(INDEX('Grafikam_M&T_Kopā'!P:P,MATCH(A15,'Grafikam_M&T_Kopā'!F:F,0))= "N", "N/A", INDEX('Grafikam_M&T_Kopā'!P:P,MATCH(A15,'Grafikam_M&T_Kopā'!F:F,0))) -> N/A | P15: =IF(ISNUMBER(INDEX('Grafikam_M&T_Kopā'!M:M,MATCH(A15,'Grafikam_M&T_Kopā'!F:F,0))), INDEX('Grafikam_M&T_Kopā'!M:M,MATCH(A15,'Grafikam_M&T_Kopā'!F:F,0)), INDEX('Grafikam_M&T_Kopā'!N:N,MATCH(A15,'Grafikam_M&T_Kopā'!F:F,0))) -> Pabeigti būvniecības darbi | Q15: =IF(ISNUMBER(INDEX('Grafikam_M&T_Kopā'!M:M,MATCH(A15,'Grafikam_M&T_Kopā'!F:F,0))), INDEX('Grafikam_M&T_Kopā'!S:S,MATCH(A15,'Grafikam_M&T_Kopā'!F:F,0)), INDEX('Grafikam_M&T_Kopā'!O:O,MATCH(A15,'Grafikam_M&T_Kopā'!F:F,0))) -> Procesā | R15: =IFERROR(Q15/P15,"Rādītājs teksta vērtība") -> Rādītājs teksta vērtība | S15: Ņemot vērā apjomīgos paveicamos darbus un ierobežoto projekta īstenošanas termiņu (t.sk. noteikts maksimāli iespējamais termiņš) rūpīgi jāuzrauga, vai finiša fāzē neradīsies riski nesasniegt rādītāju AF attiecināmības termiņā. | T15: 3 | U15: =IF(AND(C15="2026Q3",L15<50%,R15<50%),4, IF(OR(AND(C15="2026Q3",L15<50%),AND(L15<50%,R15<50%),AND(C15="2026Q3",R15<50%)),3, IF(OR(C15="2026Q3",L15<50%,R15<50%),2, 1)) )+T15 -> 6
A16: 96 | B16: Industriālie parki un teritorijas reģionos | C16: 2026Q3 | D16: 3.1.1.3.i | E16: Investīcijas publiskajā infrastruktūrā industriālo parku attīstīšanai reģionos | F16: =D16 &" "& E16 -> 3.1.1.3.i Investīcijas publiskajā infrastruktūrā industriālo parku attīstīšanai reģionos | G16: =INDEX('Grafikam_M&T_Kopā'!E:E,MATCH(A16,'Grafikam_M&T_Kopā'!F:F,0)) -> Investīcija | H16: Viedās administrācijas un reģionālās attīstības ministrija | I16: =IF(D16="1.1.1.i", SUMIFS(Izejas_dati_finans_maksājumi!H:H,Izejas_dati_finans_maksājumi!B:B,"1.1.1.1.i.2/1/23/I/CFLA/001")+SUMIFS(Izejas_dati_finans_maksājumi!H:H,Izejas_dati_finans_maksājumi!B:B,"1.1.1.1.i.2/2/25/I/CFLA/001"), IF(D16="2.3.1.5.i",SUMIFS(Izejas_dati_finans_maksājumi!H:H,Izejas_dati_finans_maksājumi!B:B,"2.3.1.4.i.0/1/23/I/CFLA/001"), SUMIFS(Izejas_dati_finans_maksājumi!H:H,Izejas_dati_finans_maksājumi!A:A,D16))) -> 67124106 | J16: =IF(D16="1.1.1.i", SUMIFS(Maksājumi_statusa!K:K,Maksājumi_statusa!D:D,"1.1.1.1.i.2/1/23/I/CFLA/001")+SUMIFS(Maksājumi_statusa!K:K,Maksājumi_statusa!D:D,"1.1.1.1.i.2/2/25/I/CFLA/001"), IF(D16="2.3.1.5.i",SUMIFS(Maksājumi_statusa!K:K,Maksājumi_statusa!D:D,"2.3.1.4.i.0/1/23/I/CFLA/001"), SUMIFS(Maksājumi_statusa!K:K,Maksājumi_statusa!C:C,D16))) -> 53840752 | K16: =I16-J16 -> 13283354 | L16: =IF(G16= "Investīcija",J16/I16,1) -> 0.80210754 | M16: =IF(D16="1.1.1.i", COUNTIFS(Izejas_dati_finans_maksājumi!B:B,"1.1.1.1.i.2/1/23/I/CFLA/001")+COUNTIFS(Izejas_dati_finans_maksājumi!B:B,"1.1.1.1.i.2/2/25/I/CFLA/001"), COUNTIFS(Izejas_dati_finans_maksājumi!A:A,D16)) -> 4 | N16: =INDEX('Grafikam_M&T_Kopā'!H:H,MATCH(A16,'Grafikam_M&T_Kopā'!F:F,0)) -> Apliecinājums par būvdarbu pabeigšanu (Apliecinājumi par inženierbūvju vai ēku gatavību ekspluatācijai) vismaz četros industriālajos parkos/teritorijās, ieskaitot pieslēgumus (piemēram, apkure, ūdensapgāde un kanalizācija, elektroenerģija), piebraucamo ceļu atjaunošanu vai ierīkošanu, un industriālo parku operatoru un/vai potenciālo investoru parakstītas nodomu vēstules vai līgumi par nefinanšu investīciju apjomu 85 000 000 EUR apmērā. | O16: =IF(INDEX('Grafikam_M&T_Kopā'!P:P,MATCH(A16,'Grafikam_M&T_Kopā'!F:F,0))= "N", "N/A", INDEX('Grafikam_M&T_Kopā'!P:P,MATCH(A16,'Grafikam_M&T_Kopā'!F:F,0))) -> Skaits | P16: =IF(ISNUMBER(INDEX('Grafikam_M&T_Kopā'!M:M,MATCH(A16,'Grafikam_M&T_Kopā'!F:F,0))), INDEX('Grafikam_M&T_Kopā'!M:M,MATCH(A16,'Grafikam_M&T_Kopā'!F:F,0)), INDEX('Grafikam_M&T_Kopā'!N:N,MATCH(A16,'Grafikam_M&T_Kopā'!F:F,0))) -> 4 | Q16: =IF(ISNUMBER(INDEX('Grafikam_M&T_Kopā'!M:M,MATCH(A16,'Grafikam_M&T_Kopā'!F:F,0))), INDEX('Grafikam_M&T_Kopā'!S:S,MATCH(A16,'Grafikam_M&T_Kopā'!F:F,0)), INDEX('Grafikam_M&T_Kopā'!O:O,MATCH(A16,'Grafikam_M&T_Kopā'!F:F,0))) -> 0 | R16: =IFERROR(Q16/P16,"Rādītājs teksta vērtība") -> 0 | S16: Mērķis paredz, ka jābūt izbūvētiem 4 industriāliem parkiem, nodrošinot plānoto investīciju piesaisti no potenciāliem investoriem 85 milj. EUR apmērā. Projekti īstenošanas procesā, industriālo parku būvdarbi kopumā norit saskaņā ar plānoto, arī papildu darbu veikšanai vēl ir laiks iekļauties pagarinātajā projektu īstenošanas termiņā. Potenciāli problemātika - divos projektos (Daugavpils un Valmiera) problēmas ar investora un attiecīgi nefinanšu investīciju piesaisti, plānotas atkārtotas izsoles. AF plāna līmenī mērķis jāsasniedz summāri visiem projektiem. | T16: 3 | U16: =IF(AND(C16="2026Q3",L16<50%,R16<50%),4, IF(OR(AND(C16="2026Q3",L16<50%),AND(L16<50%,R16<50%),AND(C16="2026Q3",R16<50%)),3, IF(OR(C16="2026Q3",L16<50%,R16<50%),2, 1)) )+T16 -> 6
A17: 34 | B17: Centralizētās IKT platformas, risinājumi un sistēmas | C17: 2026Q3 | D17: 2.1.2.1.i | E17: Centralizētas platformas, risinājumi vai sistēmas | F17: =D17 &" "& E17 -> 2.1.2.1.i Centralizētas platformas, risinājumi vai sistēmas | G17: =INDEX('Grafikam_M&T_Kopā'!E:E,MATCH(A17,'Grafikam_M&T_Kopā'!F:F,0)) -> Investīcija | H17: Viedās administrācijas un reģionālās attīstības ministrija | I17: =IF(D17="1.1.1.i", SUMIFS(Izejas_dati_finans_maksājumi!H:H,Izejas_dati_finans_maksājumi!B:B,"1.1.1.1.i.2/1/23/I/CFLA/001")+SUMIFS(Izejas_dati_finans_maksājumi!H:H,Izejas_dati_finans_maksājumi!B:B,"1.1.1.1.i.2/2/25/I/CFLA/001"), IF(D17="2.3.1.5.i",SUMIFS(Izejas_dati_finans_maksājumi!H:H,Izejas_dati_finans_maksājumi!B:B,"2.3.1.4.i.0/1/23/I/CFLA/001"), SUMIFS(Izejas_dati_finans_maksājumi!H:H,Izejas_dati_finans_maksājumi!A:A,D17))) -> 65777423 | J17: =IF(D17="1.1.1.i", SUMIFS(Maksājumi_statusa!K:K,Maksājumi_statusa!D:D,"1.1.1.1.i.2/1/23/I/CFLA/001")+SUMIFS(Maksājumi_statusa!K:K,Maksājumi_statusa!D:D,"1.1.1.1.i.2/2/25/I/CFLA/001"), IF(D17="2.3.1.5.i",SUMIFS(Maksājumi_statusa!K:K,Maksājumi_statusa!D:D,"2.3.1.4.i.0/1/23/I/CFLA/001"), SUMIFS(Maksājumi_statusa!K:K,Maksājumi_statusa!C:C,D17))) -> 17025031 | K17: =I17-J17 -> 48752392 | L17: =IF(G17= "Investīcija",J17/I17,1) -> 0.25882788 | M17: =IF(D17="1.1.1.i", COUNTIFS(Izejas_dati_finans_maksājumi!B:B,"1.1.1.1.i.2/1/23/I/CFLA/001")+COUNTIFS(Izejas_dati_finans_maksājumi!B:B,"1.1.1.1.i.2/2/25/I/CFLA/001"), COUNTIFS(Izejas_dati_finans_maksājumi!A:A,D17)) -> 18 | N17: =INDEX('Grafikam_M&T_Kopā'!H:H,MATCH(A17,'Grafikam_M&T_Kopā'!F:F,0)) -> Centralizētas IKT platformas, risinājumi vai sistēmas tiks nodrošinātas, piemēram, lai atbalstītu sabiedrisko pakalpojumu administratīvās funkcijas vai pārvaldību. | O17: =IF(INDEX('Grafikam_M&T_Kopā'!P:P,MATCH(A17,'Grafikam_M&T_Kopā'!F:F,0))= "N", "N/A", INDEX('Grafikam_M&T_Kopā'!P:P,MATCH(A17,'Grafikam_M&T_Kopā'!F:F,0))) -> Skaits | P17: =IF(ISNUMBER(INDEX('Grafikam_M&T_Kopā'!M:M,MATCH(A17,'Grafikam_M&T_Kopā'!F:F,0))), INDEX('Grafikam_M&T_Kopā'!M:M,MATCH(A17,'Grafikam_M&T_Kopā'!F:F,0)), INDEX('Grafikam_M&T_Kopā'!N:N,MATCH(A17,'Grafikam_M&T_Kopā'!F:F,0))) -> 15 | Q17: =IF(ISNUMBER(INDEX('Grafikam_M&T_Kopā'!M:M,MATCH(A17,'Grafikam_M&T_Kopā'!F:F,0))), INDEX('Grafikam_M&T_Kopā'!S:S,MATCH(A17,'Grafikam_M&T_Kopā'!F:F,0)), INDEX('Grafikam_M&T_Kopā'!O:O,MATCH(A17,'Grafikam_M&T_Kopā'!F:F,0))) -> 1 | R17: =IFERROR(Q17/P17,"Rādītājs teksta vērtība") -> 0.066666667 | S17: Projektam “Cilvēkresursu vienotās pārvaldības sistēmas ieviešana” ir identificēti riski projekta ieviešanai noteiktajā termiņā - saspringtā ieviešanas fāze (nepieciešamība detalizētu prasību saskaņošanai un līguma slēgšanas procedūrām starp vairākām institūcijām) un lietotāju piesaiste līdz 2026. gada maijam rada augstu slodzi visos projektā iesaistītajos procesos. Ņemot vērā identificētās problēmas, šā projekta uzraudzībai VARAM pievērsīs papildu uzmanību. | T17: 1 | U17: =IF(AND(C17="2026Q3",L17<50%,R17<50%),4, IF(OR(AND(C17="2026Q3",L17<50%),AND(L17<50%,R17<50%),AND(C17="2026Q3",R17<50%)),3, IF(OR(C17="2026Q3",L17<50%,R17<50%),2, 1)) )+T17 -> 5
A18: 123 | B18: Ilgstošās aprūpes pakalpojumu sniegšanas vietu nodrošināšana | C18: 2026Q3 | D18: 3.1.2.3.i | E18: Ilgstošas sociālās aprūpes pakalpojuma noturība un nepārtrauktība | F18: =D18 &" "& E18 -> 3.1.2.3.i Ilgstošas sociālās aprūpes pakalpojuma noturība un nepārtrauktība | G18: =INDEX('Grafikam_M&T_Kopā'!E:E,MATCH(A18,'Grafikam_M&T_Kopā'!F:F,0)) -> Investīcija | H18: Labklājības ministrija | I18: =IF(D18="1.1.1.i", SUMIFS(Izejas_dati_finans_maksājumi!H:H,Izejas_dati_finans_maksājumi!B:B,"1.1.1.1.i.2/1/23/I/CFLA/001")+SUMIFS(Izejas_dati_finans_maksājumi!H:H,Izejas_dati_finans_maksājumi!B:B,"1.1.1.1.i.2/2/25/I/CFLA/001"), IF(D18="2.3.1.5.i",SUMIFS(Izejas_dati_finans_maksājumi!H:H,Izejas_dati_finans_maksājumi!B:B,"2.3.1.4.i.0/1/23/I/CFLA/001"), SUMIFS(Izejas_dati_finans_maksājumi!H:H,Izejas_dati_finans_maksājumi!A:A,D18))) -> 24982469 | J18: =IF(D18="1.1.1.i", SUMIFS(Maksājumi_statusa!K:K,Maksājumi_statusa!D:D,"1.1.1.1.i.2/1/23/I/CFLA/001")+SUMIFS(Maksājumi_statusa!K:K,Maksājumi_statusa!D:D,"1.1.1.1.i.2/2/25/I/CFLA/001"), IF(D18="2.3.1.5.i",SUMIFS(Maksājumi_statusa!K:K,Maksājumi_statusa!D:D,"2.3.1.4.i.0/1/23/I/CFLA/001"), SUMIFS(Maksājumi_statusa!K:K,Maksājumi_statusa!C:C,D18))) -> 16051429 | K18: =I18-J18 -> 8931040.1 | L18: =IF(G18= "Investīcija",J18/I18,1) -> 0.6425077 | M18: =IF(D18="1.1.1.i", COUNTIFS(Izejas_dati_finans_maksājumi!B:B,"1.1.1.1.i.2/1/23/I/CFLA/001")+COUNTIFS(Izejas_dati_finans_maksājumi!B:B,"1.1.1.1.i.2/2/25/I/CFLA/001"), COUNTIFS(Izejas_dati_finans_maksājumi!A:A,D18)) -> 9 | N18: =INDEX('Grafikam_M&T_Kopā'!H:H,MATCH(A18,'Grafikam_M&T_Kopā'!F:F,0)) -> Apliecinājums(-i) būvniecības pabeigšanai, lai nodrošinātu ilgtermiņa aprūpes pakalpojumu sniegšanas vietas. Tiek nodrošinātas pamata ierīces un mēbeles | O18: =IF(INDEX('Grafikam_M&T_Kopā'!P:P,MATCH(A18,'Grafikam_M&T_Kopā'!F:F,0))= "N", "N/A", INDEX('Grafikam_M&T_Kopā'!P:P,MATCH(A18,'Grafikam_M&T_Kopā'!F:F,0))) -> Vietu skaits | P18: =IF(ISNUMBER(INDEX('Grafikam_M&T_Kopā'!M:M,MATCH(A18,'Grafikam_M&T_Kopā'!F:F,0))), INDEX('Grafikam_M&T_Kopā'!M:M,MATCH(A18,'Grafikam_M&T_Kopā'!F:F,0)), INDEX('Grafikam_M&T_Kopā'!N:N,MATCH(A18,'Grafikam_M&T_Kopā'!F:F,0))) -> 312 | Q18: =IF(ISNUMBER(INDEX('Grafikam_M&T_Kopā'!M:M,MATCH(A18,'Grafikam_M&T_Kopā'!F:F,0))), INDEX('Grafikam_M&T_Kopā'!S:S,MATCH(A18,'Grafikam_M&T_Kopā'!F:F,0)), INDEX('Grafikam_M&T_Kopā'!O:O,MATCH(A18,'Grafikam_M&T_Kopā'!F:F,0))) -> 0 | R18: =IFERROR(Q18/P18,"Rādītājs teksta vērtība") -> 0 | S18: Ar MKN grozījumiem noteikts, ka rādītājs ir jāsasniedz maksimāli noteiktā termiņā līdz 31.08.2025. | T18: 2 | U18: =IF(AND(C18="2026Q3",L18<50%,R18<50%),4, IF(OR(AND(C18="2026Q3",L18<50%),AND(L18<50%,R18<50%),AND(C18="2026Q3",R18<50%)),3, IF(OR(C18="2026Q3",L18<50%,R18<50%),2, 1)) )+T18 -> 5
A19: 183 | B19: Nesošās un norobežojošās konstrukcijas un aprīkojums vadības pakalpojumu veikšanai | C19: 2026Q3 | D19: 6.1.2.4.i | E19: Infrastruktūras izveide kontroles dienestu funkciju īstenošanai Kundziņsalā | F19: =D19 &" "& E19 -> 6.1.2.4.i Infrastruktūras izveide kontroles dienestu funkciju īstenošanai Kundziņsalā | G19: =INDEX('Grafikam_M&T_Kopā'!E:E,MATCH(A19,'Grafikam_M&T_Kopā'!F:F,0)) -> Investīcija | H19: Finanšu ministrija | I19: =IF(D19="1.1.1.i", SUMIFS(Izejas_dati_finans_maksājumi!H:H,Izejas_dati_finans_maksājumi!B:B,"1.1.1.1.i.2/1/23/I/CFLA/001")+SUMIFS(Izejas_dati_finans_maksājumi!H:H,Izejas_dati_finans_maksājumi!B:B,"1.1.1.1.i.2/2/25/I/CFLA/001"), IF(D19="2.3.1.5.i",SUMIFS(Izejas_dati_finans_maksājumi!H:H,Izejas_dati_finans_maksājumi!B:B,"2.3.1.4.i.0/1/23/I/CFLA/001"), SUMIFS(Izejas_dati_finans_maksājumi!H:H,Izejas_dati_finans_maksājumi!A:A,D19))) -> 12758000 | J19: =IF(D19="1.1.1.i", SUMIFS(Maksājumi_statusa!K:K,Maksājumi_statusa!D:D,"1.1.1.1.i.2/1/23/I/CFLA/001")+SUMIFS(Maksājumi_statusa!K:K,Maksājumi_statusa!D:D,"1.1.1.1.i.2/2/25/I/CFLA/001"), IF(D19="2.3.1.5.i",SUMIFS(Maksājumi_statusa!K:K,Maksājumi_statusa!D:D,"2.3.1.4.i.0/1/23/I/CFLA/001"), SUMIFS(Maksājumi_statusa!K:K,Maksājumi_statusa!C:C,D19))) -> 3932988.7 | K19: =I19-J19 -> 8825011.3 | L19: =IF(G19= "Investīcija",J19/I19,1) -> 0.30827628 | M19: =IF(D19="1.1.1.i", COUNTIFS(Izejas_dati_finans_maksājumi!B:B,"1.1.1.1.i.2/1/23/I/CFLA/001")+COUNTIFS(Izejas_dati_finans_maksājumi!B:B,"1.1.1.1.i.2/2/25/I/CFLA/001"), COUNTIFS(Izejas_dati_finans_maksājumi!A:A,D19)) -> 1 | N19: =INDEX('Grafikam_M&T_Kopā'!H:H,MATCH(A19,'Grafikam_M&T_Kopā'!F:F,0)) -> Būvniecības akts (2. un 3. veidlapa) tiek izdots ēkas nesošo un norobežojošo konstrukciju, tostarp jumta, būvniecībai. Parakstīts rēķins par kravas kontroles rentgena iekārtu piegādi. | O19: =IF(INDEX('Grafikam_M&T_Kopā'!P:P,MATCH(A19,'Grafikam_M&T_Kopā'!F:F,0))= "N", "N/A", INDEX('Grafikam_M&T_Kopā'!P:P,MATCH(A19,'Grafikam_M&T_Kopā'!F:F,0))) -> N/A | P19: =IF(ISNUMBER(INDEX('Grafikam_M&T_Kopā'!M:M,MATCH(A19,'Grafikam_M&T_Kopā'!F:F,0))), INDEX('Grafikam_M&T_Kopā'!M:M,MATCH(A19,'Grafikam_M&T_Kopā'!F:F,0)), INDEX('Grafikam_M&T_Kopā'!N:N,MATCH(A19,'Grafikam_M&T_Kopā'!F:F,0))) -> Saņemts apliecinājums par darbu pabeigšanu un parakstīts pieņemšanas akts | Q19: =IF(ISNUMBER(INDEX('Grafikam_M&T_Kopā'!M:M,MATCH(A19,'Grafikam_M&T_Kopā'!F:F,0))), INDEX('Grafikam_M&T_Kopā'!S:S,MATCH(A19,'Grafikam_M&T_Kopā'!F:F,0)), INDEX('Grafikam_M&T_Kopā'!O:O,MATCH(A19,'Grafikam_M&T_Kopā'!F:F,0))) -> Procesā | R19: =IFERROR(Q19/P19,"Rādītājs teksta vērtība") -> Rādītājs teksta vērtība | S19: Ņemot vērā apjomīgos būvniecības darbus, kā arī līdzšinējās nobīdes, salīdzinoši mazo līdzšinējo būvniecības progresu, risks par potenciāliem kavējiem sasniegt rādītāju noteiktajā apjomā līdz pēdējā maksājuma beigām (nesošo un norobežojošo konstrukciju izbūve) - AF rādītāja ietvaros. Pārējo būvniecības apjomu plānots pabeigt 2027.g. sākumā par papildus piešķirto valsts budžeta finansējumu. | T19: 2 | U19: =IF(AND(C19="2026Q3",L19<50%,R19<50%),4, IF(OR(AND(C19="2026Q3",L19<50%),AND(L19<50%,R19<50%),AND(C19="2026Q3",R19<50%)),3, IF(OR(C19="2026Q3",L19<50%,R19<50%),2, 1)) )+T19 -> 5
A20: 117 | B20: Mājokļu pielāgošana | C20: 2026Q3 | D20: 3.1.2.1.i | E20: Publisko pakalpojumu un nodarbinātības pieejamības veicināšanas pasākumi cilvēkiem ar funkcionāliem traucējumiem | F20: =D20 &" "& E20 -> 3.1.2.1.i Publisko pakalpojumu un nodarbinātības pieejamības veicināšanas pasākumi cilvēkiem ar funkcionāliem traucējumiem | G20: =INDEX('Grafikam_M&T_Kopā'!E:E,MATCH(A20,'Grafikam_M&T_Kopā'!F:F,0)) -> Investīcija | H20: Labklājības ministrija | I20: =IF(D20="1.1.1.i", SUMIFS(Izejas_dati_finans_maksājumi!H:H,Izejas_dati_finans_maksājumi!B:B,"1.1.1.1.i.2/1/23/I/CFLA/001")+SUMIFS(Izejas_dati_finans_maksājumi!H:H,Izejas_dati_finans_maksājumi!B:B,"1.1.1.1.i.2/2/25/I/CFLA/001"), IF(D20="2.3.1.5.i",SUMIFS(Izejas_dati_finans_maksājumi!H:H,Izejas_dati_finans_maksājumi!B:B,"2.3.1.4.i.0/1/23/I/CFLA/001"), SUMIFS(Izejas_dati_finans_maksājumi!H:H,Izejas_dati_finans_maksājumi!A:A,D20))) -> 13624131 | J20: =IF(D20="1.1.1.i", SUMIFS(Maksājumi_statusa!K:K,Maksājumi_statusa!D:D,"1.1.1.1.i.2/1/23/I/CFLA/001")+SUMIFS(Maksājumi_statusa!K:K,Maksājumi_statusa!D:D,"1.1.1.1.i.2/2/25/I/CFLA/001"), IF(D20="2.3.1.5.i",SUMIFS(Maksājumi_statusa!K:K,Maksājumi_statusa!D:D,"2.3.1.4.i.0/1/23/I/CFLA/001"), SUMIFS(Maksājumi_statusa!K:K,Maksājumi_statusa!C:C,D20))) -> 8133073.8 | K20: =I20-J20 -> 5491057.5 | L20: =IF(G20= "Investīcija",J20/I20,1) -> 0.59696091 | M20: =IF(D20="1.1.1.i", COUNTIFS(Izejas_dati_finans_maksājumi!B:B,"1.1.1.1.i.2/1/23/I/CFLA/001")+COUNTIFS(Izejas_dati_finans_maksājumi!B:B,"1.1.1.1.i.2/2/25/I/CFLA/001"), COUNTIFS(Izejas_dati_finans_maksājumi!A:A,D20)) -> 60 | N20: =INDEX('Grafikam_M&T_Kopā'!H:H,MATCH(A20,'Grafikam_M&T_Kopā'!F:F,0)) -> Mājokļu pieejamības pielāgošana 250 personām. | O20: =IF(INDEX('Grafikam_M&T_Kopā'!P:P,MATCH(A20,'Grafikam_M&T_Kopā'!F:F,0))= "N", "N/A", INDEX('Grafikam_M&T_Kopā'!P:P,MATCH(A20,'Grafikam_M&T_Kopā'!F:F,0))) -> Personas | P20: =IF(ISNUMBER(INDEX('Grafikam_M&T_Kopā'!M:M,MATCH(A20,'Grafikam_M&T_Kopā'!F:F,0))), INDEX('Grafikam_M&T_Kopā'!M:M,MATCH(A20,'Grafikam_M&T_Kopā'!F:F,0)), INDEX('Grafikam_M&T_Kopā'!N:N,MATCH(A20,'Grafikam_M&T_Kopā'!F:F,0))) -> 250 | Q20: =IF(ISNUMBER(INDEX('Grafikam_M&T_Kopā'!M:M,MATCH(A20,'Grafikam_M&T_Kopā'!F:F,0))), INDEX('Grafikam_M&T_Kopā'!S:S,MATCH(A20,'Grafikam_M&T_Kopā'!F:F,0)), INDEX('Grafikam_M&T_Kopā'!O:O,MATCH(A20,'Grafikam_M&T_Kopā'!F:F,0))) -> 38 | R20: =IFERROR(Q20/P20,"Rādītājs teksta vērtība") -> 0.152 | S20: Mērķrādītāja sasniegšana var tikt kavēta, ņemot vērā to, ka vairākas pašvaldības saskaras ar būtiskiem apgrūtinājumiem būvniecības iepirkumu procesā. Netiek izslēgts risks, ka ne visi iepirkumi noslēgsies ar rezultātu. Šie apstākļi būtiski ietekmē projektu īstenošanas termiņus un var kavēt mērķrādītāja sasniegšanu noteiktajā laika posmā. Ar MKN grozījumiem noteikts, ka rādītājs ir jāsasniedz maksimāli noteiktā termiņā līdz 31.08.2025. | T20: 2 | U20: =IF(AND(C20="2026Q3",L20<50%,R20<50%),4, IF(OR(AND(C20="2026Q3",L20<50%),AND(L20<50%,R20<50%),AND(C20="2026Q3",R20<50%)),3, IF(OR(C20="2026Q3",L20<50%,R20<50%),2, 1)) )+T20 -> 5
A21: 160 | B21: Augstākās izglītības reforma | C21: 2026Q3 | D21: 5.2.1.r | E21: Augstākās izglītības un zinātnes izcilības un pārvaldības reforma | F21: =D21 &" "& E21 -> 5.2.1.r Augstākās izglītības un zinātnes izcilības un pārvaldības reforma | G21: =INDEX('Grafikam_M&T_Kopā'!E:E,MATCH(A21,'Grafikam_M&T_Kopā'!F:F,0)) -> Reforma | H21: Izglītības un zinātnes ministrija | I21: =IF(D21="1.1.1.i", SUMIFS(Izejas_dati_finans_maksājumi!H:H,Izejas_dati_finans_maksājumi!B:B,"1.1.1.1.i.2/1/23/I/CFLA/001")+SUMIFS(Izejas_dati_finans_maksājumi!H:H,Izejas_dati_finans_maksājumi!B:B,"1.1.1.1.i.2/2/25/I/CFLA/001"), IF(D21="2.3.1.5.i",SUMIFS(Izejas_dati_finans_maksājumi!H:H,Izejas_dati_finans_maksājumi!B:B,"2.3.1.4.i.0/1/23/I/CFLA/001"), SUMIFS(Izejas_dati_finans_maksājumi!H:H,Izejas_dati_finans_maksājumi!A:A,D21))) -> 0 | J21: =IF(D21="1.1.1.i", SUMIFS(Maksājumi_statusa!K:K,Maksājumi_statusa!D:D,"1.1.1.1.i.2/1/23/I/CFLA/001")+SUMIFS(Maksājumi_statusa!K:K,Maksājumi_statusa!D:D,"1.1.1.1.i.2/2/25/I/CFLA/001"), IF(D21="2.3.1.5.i",SUMIFS(Maksājumi_statusa!K:K,Maksājumi_statusa!D:D,"2.3.1.4.i.0/1/23/I/CFLA/001"), SUMIFS(Maksājumi_statusa!K:K,Maksājumi_statusa!C:C,D21))) -> 0 | K21: =I21-J21 -> 0 | L21: =IF(G21= "Investīcija",J21/I21,1) -> 1 | M21: =IF(D21="1.1.1.i", COUNTIFS(Izejas_dati_finans_maksājumi!B:B,"1.1.1.1.i.2/1/23/I/CFLA/001")+COUNTIFS(Izejas_dati_finans_maksājumi!B:B,"1.1.1.1.i.2/2/25/I/CFLA/001"), COUNTIFS(Izejas_dati_finans_maksājumi!A:A,D21)) -> 0 | N21: =INDEX('Grafikam_M&T_Kopā'!H:H,MATCH(A21,'Grafikam_M&T_Kopā'!F:F,0)) -> Tādu tiesību aktu spēkā stāšanās, ar kuriem ievieš: (i) pārskatītu doktorantūras modeli; (ii) akadēmiskā personāla nodarbinātības principus; (iii) ciklisko iestāžu akreditācijas sistēmu; (iv) izcilības stipendijas, sociālās stipendijas un studiju jomu stipendijas; (v) snieguma finansējuma apjoma palielināšanu (2. pīlārs) un jaunus snieguma rādītājus 1. pīlārā; (vi) publiskā finansējuma sasaisti ar zinātnisko iestāžu starptautiskās novērtēšanas rezultātiem. | O21: =IF(INDEX('Grafikam_M&T_Kopā'!P:P,MATCH(A21,'Grafikam_M&T_Kopā'!F:F,0))= "N", "N/A", INDEX('Grafikam_M&T_Kopā'!P:P,MATCH(A21,'Grafikam_M&T_Kopā'!F:F,0))) -> N/A | P21: =IF(ISNUMBER(INDEX('Grafikam_M&T_Kopā'!M:M,MATCH(A21,'Grafikam_M&T_Kopā'!F:F,0))), INDEX('Grafikam_M&T_Kopā'!M:M,MATCH(A21,'Grafikam_M&T_Kopā'!F:F,0)), INDEX('Grafikam_M&T_Kopā'!N:N,MATCH(A21,'Grafikam_M&T_Kopā'!F:F,0))) -> Stājās spēkā tiesību aktu grozījumi | Q21: =IF(ISNUMBER(INDEX('Grafikam_M&T_Kopā'!M:M,MATCH(A21,'Grafikam_M&T_Kopā'!F:F,0))), INDEX('Grafikam_M&T_Kopā'!S:S,MATCH(A21,'Grafikam_M&T_Kopā'!F:F,0)), INDEX('Grafikam_M&T_Kopā'!O:O,MATCH(A21,'Grafikam_M&T_Kopā'!F:F,0))) -> Procesā | R21: =IFERROR(Q21/P21,"Rādītājs teksta vērtība") -> Rādītājs teksta vērtība | S21: Riski ar likumprojektu virzību Saeimā (Augstākās izglītības likumā, Zinātniskās darbības likumā, Izglītības likumā, Profesionālās izglītības likumā), kā arī indikatīvi risks savlaicīgi neuzsākt pilotprojektu (no ESF finansējuma) saistībā ar cikliskās augstākās izglītības iestāžu akreditācijas reformu (līdz 31.08.2026. ir jāuzsāk trīs pilotprojekti augstskolās). Vēl notiek diskusijas ar EK par pilotakreditācijas faktiskās uzsākšanas laiku un normatīvo aktu spēkā stāšanās datumiem. | T21: 3 | U21: =IF(AND(C21="2026Q3",L21<50%,R21<50%),4, IF(OR(AND(C21="2026Q3",L21<50%),AND(L21<50%,R21<50%),AND(C21="2026Q3",R21<50%)),3, IF(OR(C21="2026Q3",L21<50%,R21<50%),2, 1)) )+T21 -> 5
A22: 2 | B22: Ilgtspējīga sabiedriskā transporta reforma | C22: 2026Q3 | D22: 1.1.1.r | E22: Rīgas metropoles areāla transporta sistēmas zaļināšana | F22: =D22 &" "& E22 -> 1.1.1.r Rīgas metropoles areāla transporta sistēmas zaļināšana | G22: =INDEX('Grafikam_M&T_Kopā'!E:E,MATCH(A22,'Grafikam_M&T_Kopā'!F:F,0)) -> Reforma | H22: Satiksmes ministrija | I22: =IF(D22="1.1.1.i", SUMIFS(Izejas_dati_finans_maksājumi!H:H,Izejas_dati_finans_maksājumi!B:B,"1.1.1.1.i.2/1/23/I/CFLA/001")+SUMIFS(Izejas_dati_finans_maksājumi!H:H,Izejas_dati_finans_maksājumi!B:B,"1.1.1.1.i.2/2/25/I/CFLA/001"), IF(D22="2.3.1.5.i",SUMIFS(Izejas_dati_finans_maksājumi!H:H,Izejas_dati_finans_maksājumi!B:B,"2.3.1.4.i.0/1/23/I/CFLA/001"), SUMIFS(Izejas_dati_finans_maksājumi!H:H,Izejas_dati_finans_maksājumi!A:A,D22))) -> 0 | J22: =IF(D22="1.1.1.i", SUMIFS(Maksājumi_statusa!K:K,Maksājumi_statusa!D:D,"1.1.1.1.i.2/1/23/I/CFLA/001")+SUMIFS(Maksājumi_statusa!K:K,Maksājumi_statusa!D:D,"1.1.1.1.i.2/2/25/I/CFLA/001"), IF(D22="2.3.1.5.i",SUMIFS(Maksājumi_statusa!K:K,Maksājumi_statusa!D:D,"2.3.1.4.i.0/1/23/I/CFLA/001"), SUMIFS(Maksājumi_statusa!K:K,Maksājumi_statusa!C:C,D22))) -> 0 | K22: =I22-J22 -> 0 | L22: =IF(G22= "Investīcija",J22/I22,1) -> 1 | M22: =IF(D22="1.1.1.i", COUNTIFS(Izejas_dati_finans_maksājumi!B:B,"1.1.1.1.i.2/1/23/I/CFLA/001")+COUNTIFS(Izejas_dati_finans_maksājumi!B:B,"1.1.1.1.i.2/2/25/I/CFLA/001"), COUNTIFS(Izejas_dati_finans_maksājumi!A:A,D22)) -> 0 | N22: =INDEX('Grafikam_M&T_Kopā'!H:H,MATCH(A22,'Grafikam_M&T_Kopā'!F:F,0)) -> Sabiedriskā transporta padomes apstiprinātais valsts transporta maršrutu tīkla pārskats: - Vienotas sabiedriskā transporta atlaižu politikas valsts līmenī regulējošu tiesību aktu spēkā stāšanās; - Sabiedriskā transporta saskaņoto reģionālo autobusu un vilcienu maršrutu grafiku regulējošu tiesību aktu spēkā stāšanās, tostarp vienota tarifa un vienotas sabiedriskā transporta biļešu sistēmas ieviešana; - Vienotas biļetes pilotprojekta ieviešana sabiedriskajam transportam pilsētas sabiedriskajā transportā un vilcieniem Rīgas pašvaldībā. | O22: =IF(INDEX('Grafikam_M&T_Kopā'!P:P,MATCH(A22,'Grafikam_M&T_Kopā'!F:F,0))= "N", "N/A", INDEX('Grafikam_M&T_Kopā'!P:P,MATCH(A22,'Grafikam_M&T_Kopā'!F:F,0))) -> N/A | P22: =IF(ISNUMBER(INDEX('Grafikam_M&T_Kopā'!M:M,MATCH(A22,'Grafikam_M&T_Kopā'!F:F,0))), INDEX('Grafikam_M&T_Kopā'!M:M,MATCH(A22,'Grafikam_M&T_Kopā'!F:F,0)), INDEX('Grafikam_M&T_Kopā'!N:N,MATCH(A22,'Grafikam_M&T_Kopā'!F:F,0))) -> Viena multimodāla sabiedriskā transporta maršruta tīkla Rīgas metropoles areālā izveide | Q22: =IF(ISNUMBER(INDEX('Grafikam_M&T_Kopā'!M:M,MATCH(A22,'Grafikam_M&T_Kopā'!F:F,0))), INDEX('Grafikam_M&T_Kopā'!S:S,MATCH(A22,'Grafikam_M&T_Kopā'!F:F,0)), INDEX('Grafikam_M&T_Kopā'!O:O,MATCH(A22,'Grafikam_M&T_Kopā'!F:F,0))) -> Procesā | R22: =IFERROR(Q22/P22,"Rādītājs teksta vērtība") -> Rādītājs teksta vērtība | S22: Atbilstoši rādītāja tvērumam jāpaspēj ieviest vairāki regulējumi transporta jomā. Rādītāja sasniegšanas plānota līdz attiecināmības termiņa beigām (31.08.2026.) | T22: 3 | U22: =IF(AND(C22="2026Q3",L22<50%,R22<50%),4, IF(OR(AND(C22="2026Q3",L22<50%),AND(L22<50%,R22<50%),AND(C22="2026Q3",R22<50%)),3, IF(OR(C22="2026Q3",L22<50%,R22<50%),2, 1)) )+T22 -> 5
A23: 106 | B23: Izglītības iestāžu infrastruktūra | C23: 2026Q3 | D23: 3.1.1.5.i | E23: Izglītības iestāžu infrastruktūras pilnveide un aprīkošana | F23: =D23 &" "& E23 -> 3.1.1.5.i Izglītības iestāžu infrastruktūras pilnveide un aprīkošana | G23: =INDEX('Grafikam_M&T_Kopā'!E:E,MATCH(A23,'Grafikam_M&T_Kopā'!F:F,0)) -> Investīcija | H23: Izglītības un zinātnes ministrija | I23: =IF(D23="1.1.1.i", SUMIFS(Izejas_dati_finans_maksājumi!H:H,Izejas_dati_finans_maksājumi!B:B,"1.1.1.1.i.2/1/23/I/CFLA/001")+SUMIFS(Izejas_dati_finans_maksājumi!H:H,Izejas_dati_finans_maksājumi!B:B,"1.1.1.1.i.2/2/25/I/CFLA/001"), IF(D23="2.3.1.5.i",SUMIFS(Izejas_dati_finans_maksājumi!H:H,Izejas_dati_finans_maksājumi!B:B,"2.3.1.4.i.0/1/23/I/CFLA/001"), SUMIFS(Izejas_dati_finans_maksājumi!H:H,Izejas_dati_finans_maksājumi!A:A,D23))) -> 31890739 | J23: =IF(D23="1.1.1.i", SUMIFS(Maksājumi_statusa!K:K,Maksājumi_statusa!D:D,"1.1.1.1.i.2/1/23/I/CFLA/001")+SUMIFS(Maksājumi_statusa!K:K,Maksājumi_statusa!D:D,"1.1.1.1.i.2/2/25/I/CFLA/001"), IF(D23="2.3.1.5.i",SUMIFS(Maksājumi_statusa!K:K,Maksājumi_statusa!D:D,"2.3.1.4.i.0/1/23/I/CFLA/001"), SUMIFS(Maksājumi_statusa!K:K,Maksājumi_statusa!C:C,D23))) -> 10506106 | K23: =I23-J23 -> 21384633 | L23: =IF(G23= "Investīcija",J23/I23,1) -> 0.32944067 | M23: =IF(D23="1.1.1.i", COUNTIFS(Izejas_dati_finans_maksājumi!B:B,"1.1.1.1.i.2/1/23/I/CFLA/001")+COUNTIFS(Izejas_dati_finans_maksājumi!B:B,"1.1.1.1.i.2/2/25/I/CFLA/001"), COUNTIFS(Izejas_dati_finans_maksājumi!A:A,D23)) -> 12 | N23: =INDEX('Grafikam_M&T_Kopā'!H:H,MATCH(A23,'Grafikam_M&T_Kopā'!F:F,0)) -> Infrastruktūras uzlabošana 21 vispārējās izglītības iestādēs (piemēram, ventilācijas sistēmas, energoefektīvs apgaismojums, informācijas un komunikācijas tehnoloģiju, zinātnes, tehnoloģiju, inženierzinātņu vai matemātikas mācību priekšmetu aprīkojuma iegāde). | O23: =IF(INDEX('Grafikam_M&T_Kopā'!P:P,MATCH(A23,'Grafikam_M&T_Kopā'!F:F,0))= "N", "N/A", INDEX('Grafikam_M&T_Kopā'!P:P,MATCH(A23,'Grafikam_M&T_Kopā'!F:F,0))) -> Skaits | P23: =IF(ISNUMBER(INDEX('Grafikam_M&T_Kopā'!M:M,MATCH(A23,'Grafikam_M&T_Kopā'!F:F,0))), INDEX('Grafikam_M&T_Kopā'!M:M,MATCH(A23,'Grafikam_M&T_Kopā'!F:F,0)), INDEX('Grafikam_M&T_Kopā'!N:N,MATCH(A23,'Grafikam_M&T_Kopā'!F:F,0))) -> 21 | Q23: =IF(ISNUMBER(INDEX('Grafikam_M&T_Kopā'!M:M,MATCH(A23,'Grafikam_M&T_Kopā'!F:F,0))), INDEX('Grafikam_M&T_Kopā'!S:S,MATCH(A23,'Grafikam_M&T_Kopā'!F:F,0)), INDEX('Grafikam_M&T_Kopā'!O:O,MATCH(A23,'Grafikam_M&T_Kopā'!F:F,0))) -> 0 | R23: =IFERROR(Q23/P23,"Rādītājs teksta vērtība") -> 0 | U23: =IF(AND(C23="2026Q3",L23<50%,R23<50%),4, IF(OR(AND(C23="2026Q3",L23<50%),AND(L23<50%,R23<50%),AND(C23="2026Q3",R23<50%)),3, IF(OR(C23="2026Q3",L23<50%,R23<50%),2, 1)) )+T23 -> 4
A24: 68a | B24: Digitālo prasmju apmācība | C24: 2026Q3 | D24: 2.3.1.5.i | E24: Digitālās prasmes, kas nodrošinātas Individuālo mācību kontu platformā | F24: =D24 &" "& E24 -> 2.3.1.5.i Digitālās prasmes, kas nodrošinātas Individuālo mācību kontu platformā | G24: =INDEX('Grafikam_M&T_Kopā'!E:E,MATCH(A24,'Grafikam_M&T_Kopā'!F:F,0)) -> Investīcija | H24: Izglītības un zinātnes ministrija | I24: =IF(D24="1.1.1.i", SUMIFS(Izejas_dati_finans_maksājumi!H:H,Izejas_dati_finans_maksājumi!B:B,"1.1.1.1.i.2/1/23/I/CFLA/001")+SUMIFS(Izejas_dati_finans_maksājumi!H:H,Izejas_dati_finans_maksājumi!B:B,"1.1.1.1.i.2/2/25/I/CFLA/001"), IF(D24="2.3.1.5.i",SUMIFS(Izejas_dati_finans_maksājumi!H:H,Izejas_dati_finans_maksājumi!B:B,"2.3.1.4.i.0/1/23/I/CFLA/001"), SUMIFS(Izejas_dati_finans_maksājumi!H:H,Izejas_dati_finans_maksājumi!A:A,D24))) -> 18506000 | J24: =IF(D24="1.1.1.i", SUMIFS(Maksājumi_statusa!K:K,Maksājumi_statusa!D:D,"1.1.1.1.i.2/1/23/I/CFLA/001")+SUMIFS(Maksājumi_statusa!K:K,Maksājumi_statusa!D:D,"1.1.1.1.i.2/2/25/I/CFLA/001"), IF(D24="2.3.1.5.i",SUMIFS(Maksājumi_statusa!K:K,Maksājumi_statusa!D:D,"2.3.1.4.i.0/1/23/I/CFLA/001"), SUMIFS(Maksājumi_statusa!K:K,Maksājumi_statusa!C:C,D24))) -> 1525896.4 | K24: =I24-J24 -> 16980104 | L24: =IF(G24= "Investīcija",J24/I24,1) -> 0.082454143 | M24: =IF(D24="1.1.1.i", COUNTIFS(Izejas_dati_finans_maksājumi!B:B,"1.1.1.1.i.2/1/23/I/CFLA/001")+COUNTIFS(Izejas_dati_finans_maksājumi!B:B,"1.1.1.1.i.2/2/25/I/CFLA/001"), COUNTIFS(Izejas_dati_finans_maksājumi!A:A,D24)) -> 0 | N24: =INDEX('Grafikam_M&T_Kopā'!H:H,MATCH(A24,'Grafikam_M&T_Kopā'!F:F,0)) -> 25 319 digitālo prasmju apmācība, ko nodrošina, izmantojot individuālo mācību kontu platformu. | O24: =IF(INDEX('Grafikam_M&T_Kopā'!P:P,MATCH(A24,'Grafikam_M&T_Kopā'!F:F,0))= "N", "N/A", INDEX('Grafikam_M&T_Kopā'!P:P,MATCH(A24,'Grafikam_M&T_Kopā'!F:F,0))) -> Skaits | P24: =IF(ISNUMBER(INDEX('Grafikam_M&T_Kopā'!M:M,MATCH(A24,'Grafikam_M&T_Kopā'!F:F,0))), INDEX('Grafikam_M&T_Kopā'!M:M,MATCH(A24,'Grafikam_M&T_Kopā'!F:F,0)), INDEX('Grafikam_M&T_Kopā'!N:N,MATCH(A24,'Grafikam_M&T_Kopā'!F:F,0))) -> 25319 | Q24: =IF(ISNUMBER(INDEX('Grafikam_M&T_Kopā'!M:M,MATCH(A24,'Grafikam_M&T_Kopā'!F:F,0))), INDEX('Grafikam_M&T_Kopā'!S:S,MATCH(A24,'Grafikam_M&T_Kopā'!F:F,0)), INDEX('Grafikam_M&T_Kopā'!O:O,MATCH(A24,'Grafikam_M&T_Kopā'!F:F,0))) -> 0 | R24: =IFERROR(Q24/P24,"Rādītājs teksta vērtība") -> 0 | U24: =IF(AND(C24="2026Q3",L24<50%,R24<50%),4, IF(OR(AND(C24="2026Q3",L24<50%),AND(L24<50%,R24<50%),AND(C24="2026Q3",R24<50%)),3, IF(OR(C24="2026Q3",L24<50%,R24<50%),2, 1)) )+T24 -> 4
A25: 18 | B25: Primārās enerģijas patēriņa samazinājums valsts ēkās | C25: 2026Q3 | D25: 1.2.1.4.i | E25: Energoefektivitātes uzlabošana valsts sektora ēkās | F25: =D25 &" "& E25 -> 1.2.1.4.i Energoefektivitātes uzlabošana valsts sektora ēkās | G25: =INDEX('Grafikam_M&T_Kopā'!E:E,MATCH(A25,'Grafikam_M&T_Kopā'!F:F,0)) -> Investīcija | H25: Ekonomikas ministrija | I25: =IF(D25="1.1.1.i", SUMIFS(Izejas_dati_finans_maksājumi!H:H,Izejas_dati_finans_maksājumi!B:B,"1.1.1.1.i.2/1/23/I/CFLA/001")+SUMIFS(Izejas_dati_finans_maksājumi!H:H,Izejas_dati_finans_maksājumi!B:B,"1.1.1.1.i.2/2/25/I/CFLA/001"), IF(D25="2.3.1.5.i",SUMIFS(Izejas_dati_finans_maksājumi!H:H,Izejas_dati_finans_maksājumi!B:B,"2.3.1.4.i.0/1/23/I/CFLA/001"), SUMIFS(Izejas_dati_finans_maksājumi!H:H,Izejas_dati_finans_maksājumi!A:A,D25))) -> 24218080 | J25: =IF(D25="1.1.1.i", SUMIFS(Maksājumi_statusa!K:K,Maksājumi_statusa!D:D,"1.1.1.1.i.2/1/23/I/CFLA/001")+SUMIFS(Maksājumi_statusa!K:K,Maksājumi_statusa!D:D,"1.1.1.1.i.2/2/25/I/CFLA/001"), IF(D25="2.3.1.5.i",SUMIFS(Maksājumi_statusa!K:K,Maksājumi_statusa!D:D,"2.3.1.4.i.0/1/23/I/CFLA/001"), SUMIFS(Maksājumi_statusa!K:K,Maksājumi_statusa!C:C,D25))) -> 11462964 | K25: =I25-J25 -> 12755115 | L25: =IF(G25= "Investīcija",J25/I25,1) -> 0.47332259 | M25: =IF(D25="1.1.1.i", COUNTIFS(Izejas_dati_finans_maksājumi!B:B,"1.1.1.1.i.2/1/23/I/CFLA/001")+COUNTIFS(Izejas_dati_finans_maksājumi!B:B,"1.1.1.1.i.2/2/25/I/CFLA/001"), COUNTIFS(Izejas_dati_finans_maksājumi!A:A,D25)) -> 11 | N25: =INDEX('Grafikam_M&T_Kopā'!H:H,MATCH(A25,'Grafikam_M&T_Kopā'!F:F,0)) -> Primārās enerģijas patēriņa samazinājums valsts ēkās, ko apliecina ēkas energosertifikāts pirms un pēc energoefektivitātes pasākumu īstenošanas | O25: =IF(INDEX('Grafikam_M&T_Kopā'!P:P,MATCH(A25,'Grafikam_M&T_Kopā'!F:F,0))= "N", "N/A", INDEX('Grafikam_M&T_Kopā'!P:P,MATCH(A25,'Grafikam_M&T_Kopā'!F:F,0))) -> MWh/gadā | P25: =IF(ISNUMBER(INDEX('Grafikam_M&T_Kopā'!M:M,MATCH(A25,'Grafikam_M&T_Kopā'!F:F,0))), INDEX('Grafikam_M&T_Kopā'!M:M,MATCH(A25,'Grafikam_M&T_Kopā'!F:F,0)), INDEX('Grafikam_M&T_Kopā'!N:N,MATCH(A25,'Grafikam_M&T_Kopā'!F:F,0))) -> 3875 | Q25: =IF(ISNUMBER(INDEX('Grafikam_M&T_Kopā'!M:M,MATCH(A25,'Grafikam_M&T_Kopā'!F:F,0))), INDEX('Grafikam_M&T_Kopā'!S:S,MATCH(A25,'Grafikam_M&T_Kopā'!F:F,0)), INDEX('Grafikam_M&T_Kopā'!O:O,MATCH(A25,'Grafikam_M&T_Kopā'!F:F,0))) -> 146.99 | R25: =IFERROR(Q25/P25,"Rādītājs teksta vērtība") -> 0.037932903 | U25: =IF(AND(C25="2026Q3",L25<50%,R25<50%),4, IF(OR(AND(C25="2026Q3",L25<50%),AND(L25<50%,R25<50%),AND(C25="2026Q3",R25<50%)),3, IF(OR(C25="2026Q3",L25<50%,R25<50%),2, 1)) )+T25 -> 4
A26: 150 | B26: Jauni veselības aprūpes pakalpojumu sniegšanas modeļi | C26: 2026Q3 | D26: 4.3.1.1.i | E26: Atbalsts sekundārās ambulatorās veselības aprūpes kvalitātes un pieejamības novērtēšanai un uzlabošanai | F26: =D26 &" "& E26 -> 4.3.1.1.i Atbalsts sekundārās ambulatorās veselības aprūpes kvalitātes un pieejamības novērtēšanai un uzlabošanai | G26: =INDEX('Grafikam_M&T_Kopā'!E:E,MATCH(A26,'Grafikam_M&T_Kopā'!F:F,0)) -> Investīcija | H26: Veselības ministrija | I26: =IF(D26="1.1.1.i", SUMIFS(Izejas_dati_finans_maksājumi!H:H,Izejas_dati_finans_maksājumi!B:B,"1.1.1.1.i.2/1/23/I/CFLA/001")+SUMIFS(Izejas_dati_finans_maksājumi!H:H,Izejas_dati_finans_maksājumi!B:B,"1.1.1.1.i.2/2/25/I/CFLA/001"), IF(D26="2.3.1.5.i",SUMIFS(Izejas_dati_finans_maksājumi!H:H,Izejas_dati_finans_maksājumi!B:B,"2.3.1.4.i.0/1/23/I/CFLA/001"), SUMIFS(Izejas_dati_finans_maksājumi!H:H,Izejas_dati_finans_maksājumi!A:A,D26))) -> 16130000 | J26: =IF(D26="1.1.1.i", SUMIFS(Maksājumi_statusa!K:K,Maksājumi_statusa!D:D,"1.1.1.1.i.2/1/23/I/CFLA/001")+SUMIFS(Maksājumi_statusa!K:K,Maksājumi_statusa!D:D,"1.1.1.1.i.2/2/25/I/CFLA/001"), IF(D26="2.3.1.5.i",SUMIFS(Maksājumi_statusa!K:K,Maksājumi_statusa!D:D,"2.3.1.4.i.0/1/23/I/CFLA/001"), SUMIFS(Maksājumi_statusa!K:K,Maksājumi_statusa!C:C,D26))) -> 3955565.7 | K26: =I26-J26 -> 12174434 | L26: =IF(G26= "Investīcija",J26/I26,1) -> 0.24523036 | M26: =IF(D26="1.1.1.i", COUNTIFS(Izejas_dati_finans_maksājumi!B:B,"1.1.1.1.i.2/1/23/I/CFLA/001")+COUNTIFS(Izejas_dati_finans_maksājumi!B:B,"1.1.1.1.i.2/2/25/I/CFLA/001"), COUNTIFS(Izejas_dati_finans_maksājumi!A:A,D26)) -> 1 | N26: =INDEX('Grafikam_M&T_Kopā'!H:H,MATCH(A26,'Grafikam_M&T_Kopā'!F:F,0)) -> Par katru no desmit jaunajiem veselības aprūpes pakalpojumu sniegšanas modeļiem jāsagatavo ziņojums, kurā norādīts, ka modelis ir testēts. | O26: =IF(INDEX('Grafikam_M&T_Kopā'!P:P,MATCH(A26,'Grafikam_M&T_Kopā'!F:F,0))= "N", "N/A", INDEX('Grafikam_M&T_Kopā'!P:P,MATCH(A26,'Grafikam_M&T_Kopā'!F:F,0))) -> Skaits | P26: =IF(ISNUMBER(INDEX('Grafikam_M&T_Kopā'!M:M,MATCH(A26,'Grafikam_M&T_Kopā'!F:F,0))), INDEX('Grafikam_M&T_Kopā'!M:M,MATCH(A26,'Grafikam_M&T_Kopā'!F:F,0)), INDEX('Grafikam_M&T_Kopā'!N:N,MATCH(A26,'Grafikam_M&T_Kopā'!F:F,0))) -> 10 | Q26: =IF(ISNUMBER(INDEX('Grafikam_M&T_Kopā'!M:M,MATCH(A26,'Grafikam_M&T_Kopā'!F:F,0))), INDEX('Grafikam_M&T_Kopā'!S:S,MATCH(A26,'Grafikam_M&T_Kopā'!F:F,0)), INDEX('Grafikam_M&T_Kopā'!O:O,MATCH(A26,'Grafikam_M&T_Kopā'!F:F,0))) -> 0 | R26: =IFERROR(Q26/P26,"Rādītājs teksta vērtība") -> 0 | U26: =IF(AND(C26="2026Q3",L26<50%,R26<50%),4, IF(OR(AND(C26="2026Q3",L26<50%),AND(L26<50%,R26<50%),AND(C26="2026Q3",R26<50%)),3, IF(OR(C26="2026Q3",L26<50%,R26<50%),2, 1)) )+T26 -> 4
A27: 30 | B27: IKT risinājumi vai sistēmas | C27: 2026Q3 | D27: 2.1.1.1.i | E27: Pārvaldes modernizācija un pakalpojumu digitālā transformācija | F27: =D27 &" "& E27 -> 2.1.1.1.i Pārvaldes modernizācija un pakalpojumu digitālā transformācija | G27: =INDEX('Grafikam_M&T_Kopā'!E:E,MATCH(A27,'Grafikam_M&T_Kopā'!F:F,0)) -> Investīcija | H27: Viedās administrācijas un reģionālās attīstības ministrija | I27: =IF(D27="1.1.1.i", SUMIFS(Izejas_dati_finans_maksājumi!H:H,Izejas_dati_finans_maksājumi!B:B,"1.1.1.1.i.2/1/23/I/CFLA/001")+SUMIFS(Izejas_dati_finans_maksājumi!H:H,Izejas_dati_finans_maksājumi!B:B,"1.1.1.1.i.2/2/25/I/CFLA/001"), IF(D27="2.3.1.5.i",SUMIFS(Izejas_dati_finans_maksājumi!H:H,Izejas_dati_finans_maksājumi!B:B,"2.3.1.4.i.0/1/23/I/CFLA/001"), SUMIFS(Izejas_dati_finans_maksājumi!H:H,Izejas_dati_finans_maksājumi!A:A,D27))) -> 13928620 | J27: =IF(D27="1.1.1.i", SUMIFS(Maksājumi_statusa!K:K,Maksājumi_statusa!D:D,"1.1.1.1.i.2/1/23/I/CFLA/001")+SUMIFS(Maksājumi_statusa!K:K,Maksājumi_statusa!D:D,"1.1.1.1.i.2/2/25/I/CFLA/001"), IF(D27="2.3.1.5.i",SUMIFS(Maksājumi_statusa!K:K,Maksājumi_statusa!D:D,"2.3.1.4.i.0/1/23/I/CFLA/001"), SUMIFS(Maksājumi_statusa!K:K,Maksājumi_statusa!C:C,D27))) -> 5102915.9 | K27: =I27-J27 -> 8825704.1 | L27: =IF(G27= "Investīcija",J27/I27,1) -> 0.36636191 | M27: =IF(D27="1.1.1.i", COUNTIFS(Izejas_dati_finans_maksājumi!B:B,"1.1.1.1.i.2/1/23/I/CFLA/001")+COUNTIFS(Izejas_dati_finans_maksājumi!B:B,"1.1.1.1.i.2/2/25/I/CFLA/001"), COUNTIFS(Izejas_dati_finans_maksājumi!A:A,D27)) -> 8 | N27: =INDEX('Grafikam_M&T_Kopā'!H:H,MATCH(A27,'Grafikam_M&T_Kopā'!F:F,0)) -> IKT risinājumi vai sistēmas tiks nodrošinātas, piemēram, iekšlietu nozarē, kultūrā, ostu loģistikas pakalpojumu pārvaldībā, IKT pārvaldības procesos. | O27: =IF(INDEX('Grafikam_M&T_Kopā'!P:P,MATCH(A27,'Grafikam_M&T_Kopā'!F:F,0))= "N", "N/A", INDEX('Grafikam_M&T_Kopā'!P:P,MATCH(A27,'Grafikam_M&T_Kopā'!F:F,0))) -> Skaits | P27: =IF(ISNUMBER(INDEX('Grafikam_M&T_Kopā'!M:M,MATCH(A27,'Grafikam_M&T_Kopā'!F:F,0))), INDEX('Grafikam_M&T_Kopā'!M:M,MATCH(A27,'Grafikam_M&T_Kopā'!F:F,0)), INDEX('Grafikam_M&T_Kopā'!N:N,MATCH(A27,'Grafikam_M&T_Kopā'!F:F,0))) -> 11 | Q27: =IF(ISNUMBER(INDEX('Grafikam_M&T_Kopā'!M:M,MATCH(A27,'Grafikam_M&T_Kopā'!F:F,0))), INDEX('Grafikam_M&T_Kopā'!S:S,MATCH(A27,'Grafikam_M&T_Kopā'!F:F,0)), INDEX('Grafikam_M&T_Kopā'!O:O,MATCH(A27,'Grafikam_M&T_Kopā'!F:F,0))) -> 3 | R27: =IFERROR(Q27/P27,"Rādītājs teksta vērtība") -> 0.27272727 | U27: =IF(AND(C27="2026Q3",L27<50%,R27<50%),4, IF(OR(AND(C27="2026Q3",L27<50%),AND(L27<50%,R27<50%),AND(C27="2026Q3",R27<50%)),3, IF(OR(C27="2026Q3",L27<50%,R27<50%),2, 1)) )+T27 -> 4
A28: 177 | B28: Rentgena attēlu analīzes platforma | C28: 2026Q1 | D28: 6.1.2.1.i | E28: Dzelzceļa rentgeniekārtu sasaiste ar BAXE un mākslīgā intelekta izmantošana dzelzceļu kravu skenēšanas attēlu analīzei | F28: =D28 &" "& E28 -> 6.1.2.1.i Dzelzceļa rentgeniekārtu sasaiste ar BAXE un mākslīgā intelekta izmantošana dzelzceļu kravu skenēšanas attēlu analīzei | G28: =INDEX('Grafikam_M&T_Kopā'!E:E,MATCH(A28,'Grafikam_M&T_Kopā'!F:F,0)) -> Investīcija | H28: Finanšu ministrija | I28: =IF(D28="1.1.1.i", SUMIFS(Izejas_dati_finans_maksājumi!H:H,Izejas_dati_finans_maksājumi!B:B,"1.1.1.1.i.2/1/23/I/CFLA/001")+SUMIFS(Izejas_dati_finans_maksājumi!H:H,Izejas_dati_finans_maksājumi!B:B,"1.1.1.1.i.2/2/25/I/CFLA/001"), IF(D28="2.3.1.5.i",SUMIFS(Izejas_dati_finans_maksājumi!H:H,Izejas_dati_finans_maksājumi!B:B,"2.3.1.4.i.0/1/23/I/CFLA/001"), SUMIFS(Izejas_dati_finans_maksājumi!H:H,Izejas_dati_finans_maksājumi!A:A,D28))) -> 3000000 | J28: =IF(D28="1.1.1.i", SUMIFS(Maksājumi_statusa!K:K,Maksājumi_statusa!D:D,"1.1.1.1.i.2/1/23/I/CFLA/001")+SUMIFS(Maksājumi_statusa!K:K,Maksājumi_statusa!D:D,"1.1.1.1.i.2/2/25/I/CFLA/001"), IF(D28="2.3.1.5.i",SUMIFS(Maksājumi_statusa!K:K,Maksājumi_statusa!D:D,"2.3.1.4.i.0/1/23/I/CFLA/001"), SUMIFS(Maksājumi_statusa!K:K,Maksājumi_statusa!C:C,D28))) -> 0 | K28: =I28-J28 -> 3000000 | L28: =IF(G28= "Investīcija",J28/I28,1) -> 0 | M28: =IF(D28="1.1.1.i", COUNTIFS(Izejas_dati_finans_maksājumi!B:B,"1.1.1.1.i.2/1/23/I/CFLA/001")+COUNTIFS(Izejas_dati_finans_maksājumi!B:B,"1.1.1.1.i.2/2/25/I/CFLA/001"), COUNTIFS(Izejas_dati_finans_maksājumi!A:A,D28)) -> 1 | N28: =INDEX('Grafikam_M&T_Kopā'!H:H,MATCH(A28,'Grafikam_M&T_Kopā'!F:F,0)) -> Parakstīts(-i) pabeigšanas sertifikāts(-i) automatizētai rentgena attēlu analīzes platformai. | O28: =IF(INDEX('Grafikam_M&T_Kopā'!P:P,MATCH(A28,'Grafikam_M&T_Kopā'!F:F,0))= "N", "N/A", INDEX('Grafikam_M&T_Kopā'!P:P,MATCH(A28,'Grafikam_M&T_Kopā'!F:F,0))) -> N/A | P28: =IF(ISNUMBER(INDEX('Grafikam_M&T_Kopā'!M:M,MATCH(A28,'Grafikam_M&T_Kopā'!F:F,0))), INDEX('Grafikam_M&T_Kopā'!M:M,MATCH(A28,'Grafikam_M&T_Kopā'!F:F,0)), INDEX('Grafikam_M&T_Kopā'!N:N,MATCH(A28,'Grafikam_M&T_Kopā'!F:F,0))) -> Parakstīts pieņemšanas akts | Q28: =IF(ISNUMBER(INDEX('Grafikam_M&T_Kopā'!M:M,MATCH(A28,'Grafikam_M&T_Kopā'!F:F,0))), INDEX('Grafikam_M&T_Kopā'!S:S,MATCH(A28,'Grafikam_M&T_Kopā'!F:F,0)), INDEX('Grafikam_M&T_Kopā'!O:O,MATCH(A28,'Grafikam_M&T_Kopā'!F:F,0))) -> Procesā | R28: =IFERROR(Q28/P28,"Rādītājs teksta vērtība") -> Rādītājs teksta vērtība | S28: VID ir lūdzis projekta sasniegšanas termiņa pagarinājumu līdz maksimāli noteiktajam termiņam 2026.gada 31.augustam, pamatojoties uz kavējumiem iepirkumā un nepieciešamajām drošības pārbaudēm attiecībā uz potenciālo iepirkuma uzvarētāju. CFLA atbalsta termiņa pagarinājumu ne vēlāk kā līdz 2026.gada 17.augustam, lai paspētu veikt nepieciešamās pārbaudes. | T28: 2 | U28: =IF(AND(C28="2026Q3",L28<50%,R28<50%),4, IF(OR(AND(C28="2026Q3",L28<50%),AND(L28<50%,R28<50%),AND(C28="2026Q3",R28<50%)),3, IF(OR(C28="2026Q3",L28<50%,R28<50%),2, 1)) )+T28 -> 4
A29: 140 | B29: Slimnīcas infrastruktūra vai aprīkojums | C29: 2026Q3 | D29: 4.1.1.2.i | E29: Atbalsts slimnīcu infrastruktūrai vai aprīkojumam | F29: =D29 &" "& E29 -> 4.1.1.2.i Atbalsts slimnīcu infrastruktūrai vai aprīkojumam | G29: =INDEX('Grafikam_M&T_Kopā'!E:E,MATCH(A29,'Grafikam_M&T_Kopā'!F:F,0)) -> Investīcija | H29: Veselības ministrija | I29: =IF(D29="1.1.1.i", SUMIFS(Izejas_dati_finans_maksājumi!H:H,Izejas_dati_finans_maksājumi!B:B,"1.1.1.1.i.2/1/23/I/CFLA/001")+SUMIFS(Izejas_dati_finans_maksājumi!H:H,Izejas_dati_finans_maksājumi!B:B,"1.1.1.1.i.2/2/25/I/CFLA/001"), IF(D29="2.3.1.5.i",SUMIFS(Izejas_dati_finans_maksājumi!H:H,Izejas_dati_finans_maksājumi!B:B,"2.3.1.4.i.0/1/23/I/CFLA/001"), SUMIFS(Izejas_dati_finans_maksājumi!H:H,Izejas_dati_finans_maksājumi!A:A,D29))) -> 1.495e+08 | J29: =IF(D29="1.1.1.i", SUMIFS(Maksājumi_statusa!K:K,Maksājumi_statusa!D:D,"1.1.1.1.i.2/1/23/I/CFLA/001")+SUMIFS(Maksājumi_statusa!K:K,Maksājumi_statusa!D:D,"1.1.1.1.i.2/2/25/I/CFLA/001"), IF(D29="2.3.1.5.i",SUMIFS(Maksājumi_statusa!K:K,Maksājumi_statusa!D:D,"2.3.1.4.i.0/1/23/I/CFLA/001"), SUMIFS(Maksājumi_statusa!K:K,Maksājumi_statusa!C:C,D29))) -> 68571543 | K29: =I29-J29 -> 80928456 | L29: =IF(G29= "Investīcija",J29/I29,1) -> 0.45867253 | M29: =IF(D29="1.1.1.i", COUNTIFS(Izejas_dati_finans_maksājumi!B:B,"1.1.1.1.i.2/1/23/I/CFLA/001")+COUNTIFS(Izejas_dati_finans_maksājumi!B:B,"1.1.1.1.i.2/2/25/I/CFLA/001"), COUNTIFS(Izejas_dati_finans_maksājumi!A:A,D29)) -> 16 | N29: =INDEX('Grafikam_M&T_Kopā'!H:H,MATCH(A29,'Grafikam_M&T_Kopā'!F:F,0)) -> Centrālās finanšu un līgumu aģentūras izdotas pabeigšanas vēstules par 15 slimnīcās pabeigtiem projektiem, kas attiecas uz infrastruktūru un aprīkojumu un atbilst līgumiem, ko finansē Atveseļošanas un reanimācijas mehānisms (AF). | O29: =IF(INDEX('Grafikam_M&T_Kopā'!P:P,MATCH(A29,'Grafikam_M&T_Kopā'!F:F,0))= "N", "N/A", INDEX('Grafikam_M&T_Kopā'!P:P,MATCH(A29,'Grafikam_M&T_Kopā'!F:F,0))) -> N/A | P29: =IF(ISNUMBER(INDEX('Grafikam_M&T_Kopā'!M:M,MATCH(A29,'Grafikam_M&T_Kopā'!F:F,0))), INDEX('Grafikam_M&T_Kopā'!M:M,MATCH(A29,'Grafikam_M&T_Kopā'!F:F,0)), INDEX('Grafikam_M&T_Kopā'!N:N,MATCH(A29,'Grafikam_M&T_Kopā'!F:F,0))) -> Pabeigšanas vēstules | Q29: =IF(ISNUMBER(INDEX('Grafikam_M&T_Kopā'!M:M,MATCH(A29,'Grafikam_M&T_Kopā'!F:F,0))), INDEX('Grafikam_M&T_Kopā'!S:S,MATCH(A29,'Grafikam_M&T_Kopā'!F:F,0)), INDEX('Grafikam_M&T_Kopā'!O:O,MATCH(A29,'Grafikam_M&T_Kopā'!F:F,0))) -> Procesā | R29: =IFERROR(Q29/P29,"Rādītājs teksta vērtība") -> Rādītājs teksta vērtība | U29: =IF(AND(C29="2026Q3",L29<50%,R29<50%),4, IF(OR(AND(C29="2026Q3",L29<50%),AND(L29<50%,R29<50%),AND(C29="2026Q3",R29<50%)),3, IF(OR(C29="2026Q3",L29<50%,R29<50%),2, 1)) )+T29 -> 3
A30: 109b | B30: Ar galīgajiem saņēmējiem parakstītie juridiskie nolīgumi. | C30: 2026Q2 | D30: 3.1.1.7.i | E30: Aizdevumi nekustamā īpašuma attīstītājiem zemas īres maksas mājokļu būvniecībai | F30: =D30 &" "& E30 -> 3.1.1.7.i Aizdevumi nekustamā īpašuma attīstītājiem zemas īres maksas mājokļu būvniecībai | G30: =INDEX('Grafikam_M&T_Kopā'!E:E,MATCH(A30,'Grafikam_M&T_Kopā'!F:F,0)) -> Investīcija | H30: Ekonomikas ministrija | I30: =IF(D30="1.1.1.i", SUMIFS(Izejas_dati_finans_maksājumi!H:H,Izejas_dati_finans_maksājumi!B:B,"1.1.1.1.i.2/1/23/I/CFLA/001")+SUMIFS(Izejas_dati_finans_maksājumi!H:H,Izejas_dati_finans_maksājumi!B:B,"1.1.1.1.i.2/2/25/I/CFLA/001"), IF(D30="2.3.1.5.i",SUMIFS(Izejas_dati_finans_maksājumi!H:H,Izejas_dati_finans_maksājumi!B:B,"2.3.1.4.i.0/1/23/I/CFLA/001"), SUMIFS(Izejas_dati_finans_maksājumi!H:H,Izejas_dati_finans_maksājumi!A:A,D30))) -> 29020919 | J30: =IF(D30="1.1.1.i", SUMIFS(Maksājumi_statusa!K:K,Maksājumi_statusa!D:D,"1.1.1.1.i.2/1/23/I/CFLA/001")+SUMIFS(Maksājumi_statusa!K:K,Maksājumi_statusa!D:D,"1.1.1.1.i.2/2/25/I/CFLA/001"), IF(D30="2.3.1.5.i",SUMIFS(Maksājumi_statusa!K:K,Maksājumi_statusa!D:D,"2.3.1.4.i.0/1/23/I/CFLA/001"), SUMIFS(Maksājumi_statusa!K:K,Maksājumi_statusa!C:C,D30))) -> 0 | K30: =I30-J30 -> 29020919 | L30: =IF(G30= "Investīcija",J30/I30,1) -> 0 | M30: =IF(D30="1.1.1.i", COUNTIFS(Izejas_dati_finans_maksājumi!B:B,"1.1.1.1.i.2/1/23/I/CFLA/001")+COUNTIFS(Izejas_dati_finans_maksājumi!B:B,"1.1.1.1.i.2/2/25/I/CFLA/001"), COUNTIFS(Izejas_dati_finans_maksājumi!A:A,D30)) -> 1 | N30: =INDEX('Grafikam_M&T_Kopā'!H:H,MATCH(A30,'Grafikam_M&T_Kopā'!F:F,0)) -> Altum ir noslēgusi juridiskus finansēšanas nolīgumus ar galasaņēmējiem par summu, kas nepieciešama, lai izmantotu 100 % no ANM investīcijām mehānismā (ņemot vērā pārvaldības maksas). | O30: =IF(INDEX('Grafikam_M&T_Kopā'!P:P,MATCH(A30,'Grafikam_M&T_Kopā'!F:F,0))= "N", "N/A", INDEX('Grafikam_M&T_Kopā'!P:P,MATCH(A30,'Grafikam_M&T_Kopā'!F:F,0))) -> % | P30: =IF(ISNUMBER(INDEX('Grafikam_M&T_Kopā'!M:M,MATCH(A30,'Grafikam_M&T_Kopā'!F:F,0))), INDEX('Grafikam_M&T_Kopā'!M:M,MATCH(A30,'Grafikam_M&T_Kopā'!F:F,0)), INDEX('Grafikam_M&T_Kopā'!N:N,MATCH(A30,'Grafikam_M&T_Kopā'!F:F,0))) -> 100 | Q30: =IF(ISNUMBER(INDEX('Grafikam_M&T_Kopā'!M:M,MATCH(A30,'Grafikam_M&T_Kopā'!F:F,0))), INDEX('Grafikam_M&T_Kopā'!S:S,MATCH(A30,'Grafikam_M&T_Kopā'!F:F,0)), INDEX('Grafikam_M&T_Kopā'!O:O,MATCH(A30,'Grafikam_M&T_Kopā'!F:F,0))) -> 0 | R30: =IFERROR(Q30/P30,"Rādītājs teksta vērtība") -> 0 | U30: =IF(AND(C30="2026Q3",L30<50%,R30<50%),4, IF(OR(AND(C30="2026Q3",L30<50%),AND(L30<50%,R30<50%),AND(C30="2026Q3",R30<50%)),3, IF(OR(C30="2026Q3",L30<50%,R30<50%),2, 1)) )+T30 -> 3
A31: 163 | B31: Gala maksājumu lēmumi konsolidācijas plāniem | C31: 2026Q3 | D31: 5.2.1.1.i | E31: Pētniecības, attīstības un konsolidācijas granti | F31: =D31 &" "& E31 -> 5.2.1.1.i Pētniecības, attīstības un konsolidācijas granti | G31: =INDEX('Grafikam_M&T_Kopā'!E:E,MATCH(A31,'Grafikam_M&T_Kopā'!F:F,0)) -> Investīcija | H31: Izglītības un zinātnes ministrija | I31: =IF(D31="1.1.1.i", SUMIFS(Izejas_dati_finans_maksājumi!H:H,Izejas_dati_finans_maksājumi!B:B,"1.1.1.1.i.2/1/23/I/CFLA/001")+SUMIFS(Izejas_dati_finans_maksājumi!H:H,Izejas_dati_finans_maksājumi!B:B,"1.1.1.1.i.2/2/25/I/CFLA/001"), IF(D31="2.3.1.5.i",SUMIFS(Izejas_dati_finans_maksājumi!H:H,Izejas_dati_finans_maksājumi!B:B,"2.3.1.4.i.0/1/23/I/CFLA/001"), SUMIFS(Izejas_dati_finans_maksājumi!H:H,Izejas_dati_finans_maksājumi!A:A,D31))) -> 82500000 | J31: =IF(D31="1.1.1.i", SUMIFS(Maksājumi_statusa!K:K,Maksājumi_statusa!D:D,"1.1.1.1.i.2/1/23/I/CFLA/001")+SUMIFS(Maksājumi_statusa!K:K,Maksājumi_statusa!D:D,"1.1.1.1.i.2/2/25/I/CFLA/001"), IF(D31="2.3.1.5.i",SUMIFS(Maksājumi_statusa!K:K,Maksājumi_statusa!D:D,"2.3.1.4.i.0/1/23/I/CFLA/001"), SUMIFS(Maksājumi_statusa!K:K,Maksājumi_statusa!C:C,D31))) -> 54432911 | K31: =I31-J31 -> 28067089 | L31: =IF(G31= "Investīcija",J31/I31,1) -> 0.65979286 | M31: =IF(D31="1.1.1.i", COUNTIFS(Izejas_dati_finans_maksājumi!B:B,"1.1.1.1.i.2/1/23/I/CFLA/001")+COUNTIFS(Izejas_dati_finans_maksājumi!B:B,"1.1.1.1.i.2/2/25/I/CFLA/001"), COUNTIFS(Izejas_dati_finans_maksājumi!A:A,D31)) -> 8 | N31: =INDEX('Grafikam_M&T_Kopā'!H:H,MATCH(A31,'Grafikam_M&T_Kopā'!F:F,0)) -> Centrālās finanšu un līgumu aģentūras izdotie gala maksājumu lēmumi par četru augstākās izglītības iestāžu vai zinātnisko iestāžu konsolidāciju. | O31: =IF(INDEX('Grafikam_M&T_Kopā'!P:P,MATCH(A31,'Grafikam_M&T_Kopā'!F:F,0))= "N", "N/A", INDEX('Grafikam_M&T_Kopā'!P:P,MATCH(A31,'Grafikam_M&T_Kopā'!F:F,0))) -> Konsolidācijas plānu | P31: =IF(ISNUMBER(INDEX('Grafikam_M&T_Kopā'!M:M,MATCH(A31,'Grafikam_M&T_Kopā'!F:F,0))), INDEX('Grafikam_M&T_Kopā'!M:M,MATCH(A31,'Grafikam_M&T_Kopā'!F:F,0)), INDEX('Grafikam_M&T_Kopā'!N:N,MATCH(A31,'Grafikam_M&T_Kopā'!F:F,0))) -> 4 | Q31: =IF(ISNUMBER(INDEX('Grafikam_M&T_Kopā'!M:M,MATCH(A31,'Grafikam_M&T_Kopā'!F:F,0))), INDEX('Grafikam_M&T_Kopā'!S:S,MATCH(A31,'Grafikam_M&T_Kopā'!F:F,0)), INDEX('Grafikam_M&T_Kopā'!O:O,MATCH(A31,'Grafikam_M&T_Kopā'!F:F,0))) -> 0 | R31: =IFERROR(Q31/P31,"Rādītājs teksta vērtība") -> 0 | U31: =IF(AND(C31="2026Q3",L31<50%,R31<50%),4, IF(OR(AND(C31="2026Q3",L31<50%),AND(L31<50%,R31<50%),AND(C31="2026Q3",R31<50%)),3, IF(OR(C31="2026Q3",L31<50%,R31<50%),2, 1)) )+T31 -> 3
A32: 26 | B32: Plūdu riska mazināšanas projekti | C32: 2026Q3 | D32: 1.3.1.2.i | E32: Investīcijas plūdu risku mazināšanas infrastruktūrā | F32: =D32 &" "& E32 -> 1.3.1.2.i Investīcijas plūdu risku mazināšanas infrastruktūrā | G32: =INDEX('Grafikam_M&T_Kopā'!E:E,MATCH(A32,'Grafikam_M&T_Kopā'!F:F,0)) -> Investīcija | H32: Zemkopības ministrija | I32: =IF(D32="1.1.1.i", SUMIFS(Izejas_dati_finans_maksājumi!H:H,Izejas_dati_finans_maksājumi!B:B,"1.1.1.1.i.2/1/23/I/CFLA/001")+SUMIFS(Izejas_dati_finans_maksājumi!H:H,Izejas_dati_finans_maksājumi!B:B,"1.1.1.1.i.2/2/25/I/CFLA/001"), IF(D32="2.3.1.5.i",SUMIFS(Izejas_dati_finans_maksājumi!H:H,Izejas_dati_finans_maksājumi!B:B,"2.3.1.4.i.0/1/23/I/CFLA/001"), SUMIFS(Izejas_dati_finans_maksājumi!H:H,Izejas_dati_finans_maksājumi!A:A,D32))) -> 24666128 | J32: =IF(D32="1.1.1.i", SUMIFS(Maksājumi_statusa!K:K,Maksājumi_statusa!D:D,"1.1.1.1.i.2/1/23/I/CFLA/001")+SUMIFS(Maksājumi_statusa!K:K,Maksājumi_statusa!D:D,"1.1.1.1.i.2/2/25/I/CFLA/001"), IF(D32="2.3.1.5.i",SUMIFS(Maksājumi_statusa!K:K,Maksājumi_statusa!D:D,"2.3.1.4.i.0/1/23/I/CFLA/001"), SUMIFS(Maksājumi_statusa!K:K,Maksājumi_statusa!C:C,D32))) -> 0 | K32: =I32-J32 -> 24666128 | L32: =IF(G32= "Investīcija",J32/I32,1) -> 0 | M32: =IF(D32="1.1.1.i", COUNTIFS(Izejas_dati_finans_maksājumi!B:B,"1.1.1.1.i.2/1/23/I/CFLA/001")+COUNTIFS(Izejas_dati_finans_maksājumi!B:B,"1.1.1.1.i.2/2/25/I/CFLA/001"), COUNTIFS(Izejas_dati_finans_maksājumi!A:A,D32)) -> 22 | N32: =INDEX('Grafikam_M&T_Kopā'!H:H,MATCH(A32,'Grafikam_M&T_Kopā'!F:F,0)) -> Parakstīts akts par pieņemšanu ekspluatācijā, par 21 plūdu riska mazināšanas projektu: • astoņas sūkņu stacijas; • divpadsmit aizsargdambji; • viens kanāls. | O32: =IF(INDEX('Grafikam_M&T_Kopā'!P:P,MATCH(A32,'Grafikam_M&T_Kopā'!F:F,0))= "N", "N/A", INDEX('Grafikam_M&T_Kopā'!P:P,MATCH(A32,'Grafikam_M&T_Kopā'!F:F,0))) -> N/A | P32: =IF(ISNUMBER(INDEX('Grafikam_M&T_Kopā'!M:M,MATCH(A32,'Grafikam_M&T_Kopā'!F:F,0))), INDEX('Grafikam_M&T_Kopā'!M:M,MATCH(A32,'Grafikam_M&T_Kopā'!F:F,0)), INDEX('Grafikam_M&T_Kopā'!N:N,MATCH(A32,'Grafikam_M&T_Kopā'!F:F,0))) -> Parakstīts akts par būvdarbu pieņemšanu ekspluatācijā | Q32: =IF(ISNUMBER(INDEX('Grafikam_M&T_Kopā'!M:M,MATCH(A32,'Grafikam_M&T_Kopā'!F:F,0))), INDEX('Grafikam_M&T_Kopā'!S:S,MATCH(A32,'Grafikam_M&T_Kopā'!F:F,0)), INDEX('Grafikam_M&T_Kopā'!O:O,MATCH(A32,'Grafikam_M&T_Kopā'!F:F,0))) -> Procesā | R32: =IFERROR(Q32/P32,"Rādītājs teksta vērtība") -> Rādītājs teksta vērtība | U32: =IF(AND(C32="2026Q3",L32<50%,R32<50%),4, IF(OR(AND(C32="2026Q3",L32<50%),AND(L32<50%,R32<50%),AND(C32="2026Q3",R32<50%)),3, IF(OR(C32="2026Q3",L32<50%,R32<50%),2, 1)) )+T32 -> 3
A33: 39 | B33: Nozares, par kurām datu kopas ir pieejamas platformās | C33: 2026Q3 | D33: 2.1.3.1.i | E33: Datu pieejamība, koplietošana un analītika | F33: =D33 &" "& E33 -> 2.1.3.1.i Datu pieejamība, koplietošana un analītika | G33: =INDEX('Grafikam_M&T_Kopā'!E:E,MATCH(A33,'Grafikam_M&T_Kopā'!F:F,0)) -> Investīcija | H33: Viedās administrācijas un reģionālās attīstības ministrija | I33: =IF(D33="1.1.1.i", SUMIFS(Izejas_dati_finans_maksājumi!H:H,Izejas_dati_finans_maksājumi!B:B,"1.1.1.1.i.2/1/23/I/CFLA/001")+SUMIFS(Izejas_dati_finans_maksājumi!H:H,Izejas_dati_finans_maksājumi!B:B,"1.1.1.1.i.2/2/25/I/CFLA/001"), IF(D33="2.3.1.5.i",SUMIFS(Izejas_dati_finans_maksājumi!H:H,Izejas_dati_finans_maksājumi!B:B,"2.3.1.4.i.0/1/23/I/CFLA/001"), SUMIFS(Izejas_dati_finans_maksājumi!H:H,Izejas_dati_finans_maksājumi!A:A,D33))) -> 34021000 | J33: =IF(D33="1.1.1.i", SUMIFS(Maksājumi_statusa!K:K,Maksājumi_statusa!D:D,"1.1.1.1.i.2/1/23/I/CFLA/001")+SUMIFS(Maksājumi_statusa!K:K,Maksājumi_statusa!D:D,"1.1.1.1.i.2/2/25/I/CFLA/001"), IF(D33="2.3.1.5.i",SUMIFS(Maksājumi_statusa!K:K,Maksājumi_statusa!D:D,"2.3.1.4.i.0/1/23/I/CFLA/001"), SUMIFS(Maksājumi_statusa!K:K,Maksājumi_statusa!C:C,D33))) -> 9623051.5 | K33: =I33-J33 -> 24397949 | L33: =IF(G33= "Investīcija",J33/I33,1) -> 0.28285622 | M33: =IF(D33="1.1.1.i", COUNTIFS(Izejas_dati_finans_maksājumi!B:B,"1.1.1.1.i.2/1/23/I/CFLA/001")+COUNTIFS(Izejas_dati_finans_maksājumi!B:B,"1.1.1.1.i.2/2/25/I/CFLA/001"), COUNTIFS(Izejas_dati_finans_maksājumi!A:A,D33)) -> 14 | N33: =INDEX('Grafikam_M&T_Kopā'!H:H,MATCH(A33,'Grafikam_M&T_Kopā'!F:F,0)) -> Datu kopām jābūt pieejamām platformās, kas aptver vismaz 10 publiskās pārvaldes nozares, piemēram: uzņēmējdarbība, zinātne, vide, finanses, publiskais iepirkums, veselības aprūpe, veterinārija un lauksaimniecība. | O33: =IF(INDEX('Grafikam_M&T_Kopā'!P:P,MATCH(A33,'Grafikam_M&T_Kopā'!F:F,0))= "N", "N/A", INDEX('Grafikam_M&T_Kopā'!P:P,MATCH(A33,'Grafikam_M&T_Kopā'!F:F,0))) -> Skaits | P33: =IF(ISNUMBER(INDEX('Grafikam_M&T_Kopā'!M:M,MATCH(A33,'Grafikam_M&T_Kopā'!F:F,0))), INDEX('Grafikam_M&T_Kopā'!M:M,MATCH(A33,'Grafikam_M&T_Kopā'!F:F,0)), INDEX('Grafikam_M&T_Kopā'!N:N,MATCH(A33,'Grafikam_M&T_Kopā'!F:F,0))) -> 10 | Q33: =IF(ISNUMBER(INDEX('Grafikam_M&T_Kopā'!M:M,MATCH(A33,'Grafikam_M&T_Kopā'!F:F,0))), INDEX('Grafikam_M&T_Kopā'!S:S,MATCH(A33,'Grafikam_M&T_Kopā'!F:F,0)), INDEX('Grafikam_M&T_Kopā'!O:O,MATCH(A33,'Grafikam_M&T_Kopā'!F:F,0))) -> 7 | R33: =IFERROR(Q33/P33,"Rādītājs teksta vērtība") -> 0.7 | U33: =IF(AND(C33="2026Q3",L33<50%,R33<50%),4, IF(OR(AND(C33="2026Q3",L33<50%),AND(L33<50%,R33<50%),AND(C33="2026Q3",R33<50%)),3, IF(OR(C33="2026Q3",L33<50%,R33<50%),2, 1)) )+T33 -> 3
