Workbook

Sheet FMZINP_2_Radītāju_progress
N1: 2. pielikums Informatīvajam ziņojumam par Eiropas Savienības fondu un Atveseļošanas fonda plāna ieviešanu 2025. gada novembrī-decembrī
A4: Atveseļošanas fonda plāna vēl izpildāmo rādītāju izpildes statuss
A6: * Rādītāji, kuriem pabeigšanas termiņš ieplānots 2026. gada trešais ceturksnis ir ar paaugstinātu pabeigšanas risku un šūnas iekrāsotas
A7: **Ja investīcijā veiktie maksājumi mazāki par 50% no līguma vērtības, tas signalizē par paaugstinātu risku un šūnas iekrāsotas
A8: ***Ja fiziski sasniedzamo rādītāju vērtības mazākas par 50% no plānotajām rādītāja vērtībām, tas signalizē par paaugstinātu risku un šūnas iekrāsotas
A9: Tabula grupēta atbilstoši rādītāja pabeigšanas riska līmenim (pabeigšanas termiņš, veikti maksājumi, sasniegtie rādītāji un KI zināmie papildus riski) un atbilstoši atlikušajiem maksājumiem, sākot no lielākajām summām.
A11: Sagatavots 17.12.2025
A13: Rādītāja Nr. | B13: Rādītāja nosaukums | C13: Mērķa datums* | D13: 4. Reforma/Investīcija Kods | E13: 4. Reforma/Investīcija Nosaukums | F13: Reformas/Investīcijas nosaukums | G13: Reforma/ Investīcija | H13: Nozares ministrija | I13: Projektu finansējums investīcijā (AF) | J13: Projektos veiktie maksājumi (AF) | K13: Atlikušie maksājumi (AF) | L13: % veikti maksājumi ** | M13: Projektu skaits investīcijā | N13: Rādītāja apraksts | O13: Rādītāja mērvienība | P13: Rādītāja sasniedzamā vērtība | Q13: Rādītāja sasniegtā vērtība | R13: % sasniegtā vērtība*** | S13: Komentārs (KI zināmie papildus riski) | T13: Ainas svarss no 1-3 punktiem | U13: Sort
A14: 3 | B14: Transporta projekti | C14: 2026Q3 | D14: 1.1.1.i | E14: Rīgas metropoles transporta infrastruktūras uzlabošana | F14: =D14 &" "& E14 -> 1.1.1.i Rīgas metropoles transporta infrastruktūras uzlabošana | G14: =INDEX('Grafikam_M&T_Kopā'!E:E,MATCH(A14,'Grafikam_M&T_Kopā'!F:F,0)) -> Investīcija | H14: Satiksmes ministrija | I14: =IF(D14="1.1.1.i", SUMIFS(Izejas_dati_finans_maksājumi!H:H,Izejas_dati_finans_maksājumi!B:B,"1.1.1.1.i.2/1/23/I/CFLA/001")+SUMIFS(Izejas_dati_finans_maksājumi!H:H,Izejas_dati_finans_maksājumi!B:B,"1.1.1.1.i.2/2/25/I/CFLA/001"), IF(D14="2.3.1.5.i",SUMIFS(Izejas_dati_finans_maksājumi!H:H,Izejas_dati_finans_maksājumi!B:B,"2.3.1.4.i.0/1/23/I/CFLA/001"), SUMIFS(Izejas_dati_finans_maksājumi!H:H,Izejas_dati_finans_maksājumi!A:A,D14))) -> 187327980 | J14: =IF(D14="1.1.1.i", SUMIFS(Maksājumi_statusa!K:K,Maksājumi_statusa!D:D,"1.1.1.1.i.2/1/23/I/CFLA/001")+SUMIFS(Maksājumi_statusa!K:K,Maksājumi_statusa!D:D,"1.1.1.1.i.2/2/25/I/CFLA/001"), IF(D14="2.3.1.5.i",SUMIFS(Maksājumi_statusa!K:K,Maksājumi_statusa!D:D,"2.3.1.4.i.0/1/23/I/CFLA/001"), SUMIFS(Maksājumi_statusa!K:K,Maksājumi_statusa!C:C,D14))) -> 69014694 | K14: =I14-J14 -> 1.1831329e+08 | L14: =IF(G14= "Investīcija",J14/I14,1) -> 0.36841637 | M14: =IF(D14="1.1.1.i", COUNTIFS(Izejas_dati_finans_maksājumi!B:B,"1.1.1.1.i.2/1/23/I/CFLA/001")+COUNTIFS(Izejas_dati_finans_maksājumi!B:B,"1.1.1.1.i.2/2/25/I/CFLA/001"), COUNTIFS(Izejas_dati_finans_maksājumi!A:A,D14)) -> 2 | N14: =INDEX('Grafikam_M&T_Kopā'!H:H,MATCH(A14,'Grafikam_M&T_Kopā'!F:F,0)) -> '- 100 km elektrificētu dzelzceļa līniju un modernizētas dzelzceļa infrastruktūras: - piegādāti 17 elektriskie autobusi; - uzbūvētas 7 autobusu uzlādes stacijas; - uzbūvēts viens transporta mezgls; - uzbūvēti astoņi mobilitātes punkti; - uzbūvēta 2,2 km tramvaja līnijas; - uzbūvēta 0,3 km trolejbusu līnijas; - 52 km no jauna uzbūvētas vai renovētas velosipēdu infrastruktūras Rīgā un Pierīgā. | O14: =IF(INDEX('Grafikam_M&T_Kopā'!P:P,MATCH(A14,'Grafikam_M&T_Kopā'!F:F,0))= "N", "N/A", INDEX('Grafikam_M&T_Kopā'!P:P,MATCH(A14,'Grafikam_M&T_Kopā'!F:F,0))) -> N/A | P14: =IF(ISNUMBER(INDEX('Grafikam_M&T_Kopā'!M:M,MATCH(A14,'Grafikam_M&T_Kopā'!F:F,0))), INDEX('Grafikam_M&T_Kopā'!M:M,MATCH(A14,'Grafikam_M&T_Kopā'!F:F,0)), INDEX('Grafikam_M&T_Kopā'!N:N,MATCH(A14,'Grafikam_M&T_Kopā'!F:F,0))) -> Transporta projekti | Q14: =IF(ISNUMBER(INDEX('Grafikam_M&T_Kopā'!M:M,MATCH(A14,'Grafikam_M&T_Kopā'!F:F,0))), INDEX('Grafikam_M&T_Kopā'!S:S,MATCH(A14,'Grafikam_M&T_Kopā'!F:F,0)), INDEX('Grafikam_M&T_Kopā'!O:O,MATCH(A14,'Grafikam_M&T_Kopā'!F:F,0))) -> Procesā | R14: =IFERROR(Q14/P14,"Rādītājs teksta vērtība") -> Rādītājs teksta vērtība | S14: Ar AF plānā grozījumiem, transporta objektu rādītāji apvienoti vienā. Ņemot vērā finansiāli apjomīgos projektus un augsto riska līmeni būvniecības projektiem kopumā, īpaši uzraugāms. | T14: 3 | U14: =IF(AND(C14="2026Q3",L14<50%,R14<50%),4, IF(OR(AND(C14="2026Q3",L14<50%),AND(L14<50%,R14<50%),AND(C14="2026Q3",R14<50%)),3, IF(OR(C14="2026Q3",L14<50%,R14<50%),2, 1)) )+T14 -> 6
A15: 4a | B15: Rīgas Centrālā dzelzceļa stacija | C15: 2026Q3 | D15: 1.1.1.i | E15: Rīgas metropoles transporta infrastruktūras uzlabošana | F15: =D15 &" "& E15 -> 1.1.1.i Rīgas metropoles transporta infrastruktūras uzlabošana | G15: =INDEX('Grafikam_M&T_Kopā'!E:E,MATCH(A15,'Grafikam_M&T_Kopā'!F:F,0)) -> Investīcija | H15: Satiksmes ministrija | I15: =IF(D15="1.1.1.i", SUMIFS(Izejas_dati_finans_maksājumi!H:H,Izejas_dati_finans_maksājumi!B:B,"1.1.1.1.i.2/1/23/I/CFLA/001")+SUMIFS(Izejas_dati_finans_maksājumi!H:H,Izejas_dati_finans_maksājumi!B:B,"1.1.1.1.i.2/2/25/I/CFLA/001"), IF(D15="2.3.1.5.i",SUMIFS(Izejas_dati_finans_maksājumi!H:H,Izejas_dati_finans_maksājumi!B:B,"2.3.1.4.i.0/1/23/I/CFLA/001"), SUMIFS(Izejas_dati_finans_maksājumi!H:H,Izejas_dati_finans_maksājumi!A:A,D15))) -> 187327980 | J15: =IF(D15="1.1.1.i", SUMIFS(Maksājumi_statusa!K:K,Maksājumi_statusa!D:D,"1.1.1.1.i.2/1/23/I/CFLA/001")+SUMIFS(Maksājumi_statusa!K:K,Maksājumi_statusa!D:D,"1.1.1.1.i.2/2/25/I/CFLA/001"), IF(D15="2.3.1.5.i",SUMIFS(Maksājumi_statusa!K:K,Maksājumi_statusa!D:D,"2.3.1.4.i.0/1/23/I/CFLA/001"), SUMIFS(Maksājumi_statusa!K:K,Maksājumi_statusa!C:C,D15))) -> 69014694 | K15: =I15-J15 -> 1.1831329e+08 | L15: =IF(G15= "Investīcija",J15/I15,1) -> 0.36841637 | M15: =IF(D15="1.1.1.i", COUNTIFS(Izejas_dati_finans_maksājumi!B:B,"1.1.1.1.i.2/1/23/I/CFLA/001")+COUNTIFS(Izejas_dati_finans_maksājumi!B:B,"1.1.1.1.i.2/2/25/I/CFLA/001"), COUNTIFS(Izejas_dati_finans_maksājumi!A:A,D15)) -> 2 | N15: =INDEX('Grafikam_M&T_Kopā'!H:H,MATCH(A15,'Grafikam_M&T_Kopā'!F:F,0)) -> Rīgas Centrālās dzelzceļa stacijas dienvidu daļā veiktie būvdarbi, kas saistīti ar: jumta ieklāšanu, fasādi, perona nojumes jumtu, apdares darbiem, pasažieru piekļuves infrastruktūras mehāniskajiem, elektroinstalācijas un santehnikas darbiem. | O15: =IF(INDEX('Grafikam_M&T_Kopā'!P:P,MATCH(A15,'Grafikam_M&T_Kopā'!F:F,0))= "N", "N/A", INDEX('Grafikam_M&T_Kopā'!P:P,MATCH(A15,'Grafikam_M&T_Kopā'!F:F,0))) -> N/A | P15: =IF(ISNUMBER(INDEX('Grafikam_M&T_Kopā'!M:M,MATCH(A15,'Grafikam_M&T_Kopā'!F:F,0))), INDEX('Grafikam_M&T_Kopā'!M:M,MATCH(A15,'Grafikam_M&T_Kopā'!F:F,0)), INDEX('Grafikam_M&T_Kopā'!N:N,MATCH(A15,'Grafikam_M&T_Kopā'!F:F,0))) -> Pabeigti būvniecības darbi | Q15: =IF(ISNUMBER(INDEX('Grafikam_M&T_Kopā'!M:M,MATCH(A15,'Grafikam_M&T_Kopā'!F:F,0))), INDEX('Grafikam_M&T_Kopā'!S:S,MATCH(A15,'Grafikam_M&T_Kopā'!F:F,0)), INDEX('Grafikam_M&T_Kopā'!O:O,MATCH(A15,'Grafikam_M&T_Kopā'!F:F,0))) -> Procesā | R15: =IFERROR(Q15/P15,"Rādītājs teksta vērtība") -> Rādītājs teksta vērtība | S15: Ņemot vērā apjomīgos paveicamos darbus un ierobežoto projekta īstenošanas termiņu (t.sk. noteikts maksimāli iespējamais termiņš) rūpīgi jāuzrauga, vai finiša fāzē neradīsies riski nesasniegt rādītāju AF attiecināmības termiņā. | T15: 3 | U15: =IF(AND(C15="2026Q3",L15<50%,R15<50%),4, IF(OR(AND(C15="2026Q3",L15<50%),AND(L15<50%,R15<50%),AND(C15="2026Q3",R15<50%)),3, IF(OR(C15="2026Q3",L15<50%,R15<50%),2, 1)) )+T15 -> 6
A16: 96 | B16: Industriālie parki un teritorijas reģionos | C16: 2026Q3 | D16: 3.1.1.3.i | E16: Investīcijas publiskajā infrastruktūrā industriālo parku attīstīšanai reģionos | F16: =D16 &" "& E16 -> 3.1.1.3.i Investīcijas publiskajā infrastruktūrā industriālo parku attīstīšanai reģionos | G16: =INDEX('Grafikam_M&T_Kopā'!E:E,MATCH(A16,'Grafikam_M&T_Kopā'!F:F,0)) -> Investīcija | H16: Viedās administrācijas un reģionālās attīstības ministrija | I16: =IF(D16="1.1.1.i", SUMIFS(Izejas_dati_finans_maksājumi!H:H,Izejas_dati_finans_maksājumi!B:B,"1.1.1.1.i.2/1/23/I/CFLA/001")+SUMIFS(Izejas_dati_finans_maksājumi!H:H,Izejas_dati_finans_maksājumi!B:B,"1.1.1.1.i.2/2/25/I/CFLA/001"), IF(D16="2.3.1.5.i",SUMIFS(Izejas_dati_finans_maksājumi!H:H,Izejas_dati_finans_maksājumi!B:B,"2.3.1.4.i.0/1/23/I/CFLA/001"), SUMIFS(Izejas_dati_finans_maksājumi!H:H,Izejas_dati_finans_maksājumi!A:A,D16))) -> 67124106 | J16: =IF(D16="1.1.1.i", SUMIFS(Maksājumi_statusa!K:K,Maksājumi_statusa!D:D,"1.1.1.1.i.2/1/23/I/CFLA/001")+SUMIFS(Maksājumi_statusa!K:K,Maksājumi_statusa!D:D,"1.1.1.1.i.2/2/25/I/CFLA/001"), IF(D16="2.3.1.5.i",SUMIFS(Maksājumi_statusa!K:K,Maksājumi_statusa!D:D,"2.3.1.4.i.0/1/23/I/CFLA/001"), SUMIFS(Maksājumi_statusa!K:K,Maksājumi_statusa!C:C,D16))) -> 53840752 | K16: =I16-J16 -> 13283354 | L16: =IF(G16= "Investīcija",J16/I16,1) -> 0.80210754 | M16: =IF(D16="1.1.1.i", COUNTIFS(Izejas_dati_finans_maksājumi!B:B,"1.1.1.1.i.2/1/23/I/CFLA/001")+COUNTIFS(Izejas_dati_finans_maksājumi!B:B,"1.1.1.1.i.2/2/25/I/CFLA/001"), COUNTIFS(Izejas_dati_finans_maksājumi!A:A,D16)) -> 4 | N16: =INDEX('Grafikam_M&T_Kopā'!H:H,MATCH(A16,'Grafikam_M&T_Kopā'!F:F,0)) -> Apliecinājums par būvdarbu pabeigšanu (Apliecinājumi par inženierbūvju vai ēku gatavību ekspluatācijai) vismaz četros industriālajos parkos/teritorijās, ieskaitot pieslēgumus (piemēram, apkure, ūdensapgāde un kanalizācija, elektroenerģija), piebraucamo ceļu atjaunošanu vai ierīkošanu, un industriālo parku operatoru un/vai potenciālo investoru parakstītas nodomu vēstules vai līgumi par nefinanšu investīciju apjomu 85 000 000 EUR apmērā. | O16: =IF(INDEX('Grafikam_M&T_Kopā'!P:P,MATCH(A16,'Grafikam_M&T_Kopā'!F:F,0))= "N", "N/A", INDEX('Grafikam_M&T_Kopā'!P:P,MATCH(A16,'Grafikam_M&T_Kopā'!F:F,0))) -> Skaits | P16: =IF(ISNUMBER(INDEX('Grafikam_M&T_Kopā'!M:M,MATCH(A16,'Grafikam_M&T_Kopā'!F:F,0))), INDEX('Grafikam_M&T_Kopā'!M:M,MATCH(A16,'Grafikam_M&T_Kopā'!F:F,0)), INDEX('Grafikam_M&T_Kopā'!N:N,MATCH(A16,'Grafikam_M&T_Kopā'!F:F,0))) -> 4 | Q16: =IF(ISNUMBER(INDEX('Grafikam_M&T_Kopā'!M:M,MATCH(A16,'Grafikam_M&T_Kopā'!F:F,0))), INDEX('Grafikam_M&T_Kopā'!S:S,MATCH(A16,'Grafikam_M&T_Kopā'!F:F,0)), INDEX('Grafikam_M&T_Kopā'!O:O,MATCH(A16,'Grafikam_M&T_Kopā'!F:F,0))) -> 0 | R16: =IFERROR(Q16/P16,"Rādītājs teksta vērtība") -> 0 | S16: Mērķis paredz, ka jābūt izbūvētiem 4 industriāliem parkiem, nodrošinot plānoto investīciju piesaisti no potenciāliem investoriem 85 milj. EUR apmērā. Projekti īstenošanas procesā, industriālo parku būvdarbi kopumā norit saskaņā ar plānoto, arī papildu darbu veikšanai vēl ir laiks iekļauties pagarinātajā projektu īstenošanas termiņā. Potenciāli problemātika - divos projektos (Daugavpils un Valmiera) problēmas ar investora un attiecīgi nefinanšu investīciju piesaisti, plānotas atkārtotas izsoles. AF plāna līmenī mērķis jāsasniedz summāri visiem projektiem. | T16: 3 | U16: =IF(AND(C16="2026Q3",L16<50%,R16<50%),4, IF(OR(AND(C16="2026Q3",L16<50%),AND(L16<50%,R16<50%),AND(C16="2026Q3",R16<50%)),3, IF(OR(C16="2026Q3",L16<50%,R16<50%),2, 1)) )+T16 -> 6
A17: 34 | B17: Centralizētās IKT platformas, risinājumi un sistēmas | C17: 2026Q3 | D17: 2.1.2.1.i | E17: Centralizētas platformas, risinājumi vai sistēmas | F17: =D17 &" "& E17 -> 2.1.2.1.i Centralizētas platformas, risinājumi vai sistēmas | G17: =INDEX('Grafikam_M&T_Kopā'!E:E,MATCH(A17,'Grafikam_M&T_Kopā'!F:F,0)) -> Investīcija | H17: Viedās administrācijas un reģionālās attīstības ministrija | I17: =IF(D17="1.1.1.i", SUMIFS(Izejas_dati_finans_maksājumi!H:H,Izejas_dati_finans_maksājumi!B:B,"1.1.1.1.i.2/1/23/I/CFLA/001")+SUMIFS(Izejas_dati_finans_maksājumi!H:H,Izejas_dati_finans_maksājumi!B:B,"1.1.1.1.i.2/2/25/I/CFLA/001"), IF(D17="2.3.1.5.i",SUMIFS(Izejas_dati_finans_maksājumi!H:H,Izejas_dati_finans_maksājumi!B:B,"2.3.1.4.i.0/1/23/I/CFLA/001"), SUMIFS(Izejas_dati_finans_maksājumi!H:H,Izejas_dati_finans_maksājumi!A:A,D17))) -> 65777423 | J17: =IF(D17="1.1.1.i", SUMIFS(Maksājumi_statusa!K:K,Maksājumi_statusa!D:D,"1.1.1.1.i.2/1/23/I/CFLA/001")+SUMIFS(Maksājumi_statusa!K:K,Maksājumi_statusa!D:D,"1.1.1.1.i.2/2/25/I/CFLA/001"), IF(D17="2.3.1.5.i",SUMIFS(Maksājumi_statusa!K:K,Maksājumi_statusa!D:D,"2.3.1.4.i.0/1/23/I/CFLA/001"), SUMIFS(Maksājumi_statusa!K:K,Maksājumi_statusa!C:C,D17))) -> 17025031 | K17: =I17-J17 -> 48752392 | L17: =IF(G17= "Investīcija",J17/I17,1) -> 0.25882788 | M17: =IF(D17="1.1.1.i", COUNTIFS(Izejas_dati_finans_maksājumi!B:B,"1.1.1.1.i.2/1/23/I/CFLA/001")+COUNTIFS(Izejas_dati_finans_maksājumi!B:B,"1.1.1.1.i.2/2/25/I/CFLA/001"), COUNTIFS(Izejas_dati_finans_maksājumi!A:A,D17)) -> 18 | N17: =INDEX('Grafikam_M&T_Kopā'!H:H,MATCH(A17,'Grafikam_M&T_Kopā'!F:F,0)) -> Centralizētas IKT platformas, risinājumi vai sistēmas tiks nodrošinātas, piemēram, lai atbalstītu sabiedrisko pakalpojumu administratīvās funkcijas vai pārvaldību. | O17: =IF(INDEX('Grafikam_M&T_Kopā'!P:P,MATCH(A17,'Grafikam_M&T_Kopā'!F:F,0))= "N", "N/A", INDEX('Grafikam_M&T_Kopā'!P:P,MATCH(A17,'Grafikam_M&T_Kopā'!F:F,0))) -> Skaits | P17: =IF(ISNUMBER(INDEX('Grafikam_M&T_Kopā'!M:M,MATCH(A17,'Grafikam_M&T_Kopā'!F:F,0))), INDEX('Grafikam_M&T_Kopā'!M:M,MATCH(A17,'Grafikam_M&T_Kopā'!F:F,0)), INDEX('Grafikam_M&T_Kopā'!N:N,MATCH(A17,'Grafikam_M&T_Kopā'!F:F,0))) -> 15 | Q17: =IF(ISNUMBER(INDEX('Grafikam_M&T_Kopā'!M:M,MATCH(A17,'Grafikam_M&T_Kopā'!F:F,0))), INDEX('Grafikam_M&T_Kopā'!S:S,MATCH(A17,'Grafikam_M&T_Kopā'!F:F,0)), INDEX('Grafikam_M&T_Kopā'!O:O,MATCH(A17,'Grafikam_M&T_Kopā'!F:F,0))) -> 1 | R17: =IFERROR(Q17/P17,"Rādītājs teksta vērtība") -> 0.066666667 | S17: Projektam “Cilvēkresursu vienotās pārvaldības sistēmas ieviešana” ir identificēti riski projekta ieviešanai noteiktajā termiņā - saspringtā ieviešanas fāze (nepieciešamība detalizētu prasību saskaņošanai un līguma slēgšanas procedūrām starp vairākām institūcijām) un lietotāju piesaiste līdz 2026. gada maijam rada augstu slodzi visos projektā iesaistītajos procesos. Ņemot vērā identificētās problēmas, šā projekta uzraudzībai VARAM pievērsīs papildu uzmanību. | T17: 1 | U17: =IF(AND(C17="2026Q3",L17<50%,R17<50%),4, IF(OR(AND(C17="2026Q3",L17<50%),AND(L17<50%,R17<50%),AND(C17="2026Q3",R17<50%)),3, IF(OR(C17="2026Q3",L17<50%,R17<50%),2, 1)) )+T17 -> 5
A18: 123 | B18: Ilgstošās aprūpes pakalpojumu sniegšanas vietu nodrošināšana | C18: 2026Q3 | D18: 3.1.2.3.i | E18: Ilgstošas sociālās aprūpes pakalpojuma noturība un nepārtrauktība | F18: =D18 &" "& E18 -> 3.1.2.3.i Ilgstošas sociālās aprūpes pakalpojuma noturība un nepārtrauktība | G18: =INDEX('Grafikam_M&T_Kopā'!E:E,MATCH(A18,'Grafikam_M&T_Kopā'!F:F,0)) -> Investīcija | H18: Labklājības ministrija | I18: =IF(D18="1.1.1.i", SUMIFS(Izejas_dati_finans_maksājumi!H:H,Izejas_dati_finans_maksājumi!B:B,"1.1.1.1.i.2/1/23/I/CFLA/001")+SUMIFS(Izejas_dati_finans_maksājumi!H:H,Izejas_dati_finans_maksājumi!B:B,"1.1.1.1.i.2/2/25/I/CFLA/001"), IF(D18="2.3.1.5.i",SUMIFS(Izejas_dati_finans_maksājumi!H:H,Izejas_dati_finans_maksājumi!B:B,"2.3.1.4.i.0/1/23/I/CFLA/001"), SUMIFS(Izejas_dati_finans_maksājumi!H:H,Izejas_dati_finans_maksājumi!A:A,D18))) -> 24982469 | J18: =IF(D18="1.1.1.i", SUMIFS(Maksājumi_statusa!K:K,Maksājumi_statusa!D:D,"1.1.1.1.i.2/1/23/I/CFLA/001")+SUMIFS(Maksājumi_statusa!K:K,Maksājumi_statusa!D:D,"1.1.1.1.i.2/2/25/I/CFLA/001"), IF(D18="2.3.1.5.i",SUMIFS(Maksājumi_statusa!K:K,Maksājumi_statusa!D:D,"2.3.1.4.i.0/1/23/I/CFLA/001"), SUMIFS(Maksājumi_statusa!K:K,Maksājumi_statusa!C:C,D18))) -> 16051429 | K18: =I18-J18 -> 8931040.1 | L18: =IF(G18= "Investīcija",J18/I18,1) -> 0.6425077 | M18: =IF(D18="1.1.1.i", COUNTIFS(Izejas_dati_finans_maksājumi!B:B,"1.1.1.1.i.2/1/23/I/CFLA/001")+COUNTIFS(Izejas_dati_finans_maksājumi!B:B,"1.1.1.1.i.2/2/25/I/CFLA/001"), COUNTIFS(Izejas_dati_finans_maksājumi!A:A,D18)) -> 9 | N18: =INDEX('Grafikam_M&T_Kopā'!H:H,MATCH(A18,'Grafikam_M&T_Kopā'!F:F,0)) -> Apliecinājums(-i) būvniecības pabeigšanai, lai nodrošinātu ilgtermiņa aprūpes pakalpojumu sniegšanas vietas. Tiek nodrošinātas pamata ierīces un mēbeles | O18: =IF(INDEX('Grafikam_M&T_Kopā'!P:P,MATCH(A18,'Grafikam_M&T_Kopā'!F:F,0))= "N", "N/A", INDEX('Grafikam_M&T_Kopā'!P:P,MATCH(A18,'Grafikam_M&T_Kopā'!F:F,0))) -> Vietu skaits | P18: =IF(ISNUMBER(INDEX('Grafikam_M&T_Kopā'!M:M,MATCH(A18,'Grafikam_M&T_Kopā'!F:F,0))), INDEX('Grafikam_M&T_Kopā'!M:M,MATCH(A18,'Grafikam_M&T_Kopā'!F:F,0)), INDEX('Grafikam_M&T_Kopā'!N:N,MATCH(A18,'Grafikam_M&T_Kopā'!F:F,0))) -> 312 | Q18: =IF(ISNUMBER(INDEX('Grafikam_M&T_Kopā'!M:M,MATCH(A18,'Grafikam_M&T_Kopā'!F:F,0))), INDEX('Grafikam_M&T_Kopā'!S:S,MATCH(A18,'Grafikam_M&T_Kopā'!F:F,0)), INDEX('Grafikam_M&T_Kopā'!O:O,MATCH(A18,'Grafikam_M&T_Kopā'!F:F,0))) -> 0 | R18: =IFERROR(Q18/P18,"Rādītājs teksta vērtība") -> 0 | S18: Ar MKN grozījumiem noteikts, ka rādītājs ir jāsasniedz maksimāli noteiktā termiņā līdz 31.08.2025. | T18: 2 | U18: =IF(AND(C18="2026Q3",L18<50%,R18<50%),4, IF(OR(AND(C18="2026Q3",L18<50%),AND(L18<50%,R18<50%),AND(C18="2026Q3",R18<50%)),3, IF(OR(C18="2026Q3",L18<50%,R18<50%),2, 1)) )+T18 -> 5
A19: 183 | B19: Nesošās un norobežojošās konstrukcijas un aprīkojums vadības pakalpojumu veikšanai | C19: 2026Q3 | D19: 6.1.2.4.i | E19: Infrastruktūras izveide kontroles dienestu funkciju īstenošanai Kundziņsalā | F19: =D19 &" "& E19 -> 6.1.2.4.i Infrastruktūras izveide kontroles dienestu funkciju īstenošanai Kundziņsalā | G19: =INDEX('Grafikam_M&T_Kopā'!E:E,MATCH(A19,'Grafikam_M&T_Kopā'!F:F,0)) -> Investīcija | H19: Finanšu ministrija | I19: =IF(D19="1.1.1.i", SUMIFS(Izejas_dati_finans_maksājumi!H:H,Izejas_dati_finans_maksājumi!B:B,"1.1.1.1.i.2/1/23/I/CFLA/001")+SUMIFS(Izejas_dati_finans_maksājumi!H:H,Izejas_dati_finans_maksājumi!B:B,"1.1.1.1.i.2/2/25/I/CFLA/001"), IF(D19="2.3.1.5.i",SUMIFS(Izejas_dati_finans_maksājumi!H:H,Izejas_dati_finans_maksājumi!B:B,"2.3.1.4.i.0/1/23/I/CFLA/001"), SUMIFS(Izejas_dati_finans_maksājumi!H:H,Izejas_dati_finans_maksājumi!A:A,D19))) -> 12758000 | J19: =IF(D19="1.1.1.i", SUMIFS(Maksājumi_statusa!K:K,Maksājumi_statusa!D:D,"1.1.1.1.i.2/1/23/I/CFLA/001")+SUMIFS(Maksājumi_statusa!K:K,Maksājumi_statusa!D:D,"1.1.1.1.i.2/2/25/I/CFLA/001"), IF(D19="2.3.1.5.i",SUMIFS(Maksājumi_statusa!K:K,Maksājumi_statusa!D:D,"2.3.1.4.i.0/1/23/I/CFLA/001"), SUMIFS(Maksājumi_statusa!K:K,Maksājumi_statusa!C:C,D19))) -> 3932988.7 | K19: =I19-J19 -> 8825011.3 | L19: =IF(G19= "Investīcija",J19/I19,1) -> 0.30827628 | M19: =IF(D19="1.1.1.i", COUNTIFS(Izejas_dati_finans_maksājumi!B:B,"1.1.1.1.i.2/1/23/I/CFLA/001")+COUNTIFS(Izejas_dati_finans_maksājumi!B:B,"1.1.1.1.i.2/2/25/I/CFLA/001"), COUNTIFS(Izejas_dati_finans_maksājumi!A:A,D19)) -> 1 | N19: =INDEX('Grafikam_M&T_Kopā'!H:H,MATCH(A19,'Grafikam_M&T_Kopā'!F:F,0)) -> Būvniecības akts (2. un 3. veidlapa) tiek izdots ēkas nesošo un norobežojošo konstrukciju, tostarp jumta, būvniecībai. Parakstīts rēķins par kravas kontroles rentgena iekārtu piegādi. | O19: =IF(INDEX('Grafikam_M&T_Kopā'!P:P,MATCH(A19,'Grafikam_M&T_Kopā'!F:F,0))= "N", "N/A", INDEX('Grafikam_M&T_Kopā'!P:P,MATCH(A19,'Grafikam_M&T_Kopā'!F:F,0))) -> N/A | P19: =IF(ISNUMBER(INDEX('Grafikam_M&T_Kopā'!M:M,MATCH(A19,'Grafikam_M&T_Kopā'!F:F,0))), INDEX('Grafikam_M&T_Kopā'!M:M,MATCH(A19,'Grafikam_M&T_Kopā'!F:F,0)), INDEX('Grafikam_M&T_Kopā'!N:N,MATCH(A19,'Grafikam_M&T_Kopā'!F:F,0))) -> Saņemts apliecinājums par darbu pabeigšanu un parakstīts pieņemšanas akts | Q19: =IF(ISNUMBER(INDEX('Grafikam_M&T_Kopā'!M:M,MATCH(A19,'Grafikam_M&T_Kopā'!F:F,0))), INDEX('Grafikam_M&T_Kopā'!S:S,MATCH(A19,'Grafikam_M&T_Kopā'!F:F,0)), INDEX('Grafikam_M&T_Kopā'!O:O,MATCH(A19,'Grafikam_M&T_Kopā'!F:F,0))) -> Procesā | R19: =IFERROR(Q19/P19,"Rādītājs teksta vērtība") -> Rādītājs teksta vērtība | S19: Ņemot vērā apjomīgos būvniecības darbus, kā arī līdzšinējās nobīdes, salīdzinoši mazo līdzšinējo būvniecības progresu, risks par potenciāliem kavējiem sasniegt rādītāju noteiktajā apjomā līdz pēdējā maksājuma beigām (nesošo un norobežojošo konstrukciju izbūve) - AF rādītāja ietvaros. Pārējo būvniecības apjomu plānots pabeigt 2027.g. sākumā par papildus piešķirto valsts budžeta finansējumu. | T19: 2 | U19: =IF(AND(C19="2026Q3",L19<50%,R19<50%),4, IF(OR(AND(C19="2026Q3",L19<50%),AND(L19<50%,R19<50%),AND(C19="2026Q3",R19<50%)),3, IF(OR(C19="2026Q3",L19<50%,R19<50%),2, 1)) )+T19 -> 5
A20: 117 | B20: Mājokļu pielāgošana | C20: 2026Q3 | D20: 3.1.2.1.i | E20: Publisko pakalpojumu un nodarbinātības pieejamības veicināšanas pasākumi cilvēkiem ar funkcionāliem traucējumiem | F20: =D20 &" "& E20 -> 3.1.2.1.i Publisko pakalpojumu un nodarbinātības pieejamības veicināšanas pasākumi cilvēkiem ar funkcionāliem traucējumiem | G20: =INDEX('Grafikam_M&T_Kopā'!E:E,MATCH(A20,'Grafikam_M&T_Kopā'!F:F,0)) -> Investīcija | H20: Labklājības ministrija | I20: =IF(D20="1.1.1.i", SUMIFS(Izejas_dati_finans_maksājumi!H:H,Izejas_dati_finans_maksājumi!B:B,"1.1.1.1.i.2/1/23/I/CFLA/001")+SUMIFS(Izejas_dati_finans_maksājumi!H:H,Izejas_dati_finans_maksājumi!B:B,"1.1.1.1.i.2/2/25/I/CFLA/001"), IF(D20="2.3.1.5.i",SUMIFS(Izejas_dati_finans_maksājumi!H:H,Izejas_dati_finans_maksājumi!B:B,"2.3.1.4.i.0/1/23/I/CFLA/001"), SUMIFS(Izejas_dati_finans_maksājumi!H:H,Izejas_dati_finans_maksājumi!A:A,D20))) -> 13624131 | J20: =IF(D20="1.1.1.i", SUMIFS(Maksājumi_statusa!K:K,Maksājumi_statusa!D:D,"1.1.1.1.i.2/1/23/I/CFLA/001")+SUMIFS(Maksājumi_statusa!K:K,Maksājumi_statusa!D:D,"1.1.1.1.i.2/2/25/I/CFLA/001"), IF(D20="2.3.1.5.i",SUMIFS(Maksājumi_statusa!K:K,Maksājumi_statusa!D:D,"2.3.1.4.i.0/1/23/I/CFLA/001"), SUMIFS(Maksājumi_statusa!K:K,Maksājumi_statusa!C:C,D20))) -> 8133073.8 | K20: =I20-J20 -> 5491057.5 | L20: =IF(G20= "Investīcija",J20/I20,1) -> 0.59696091 | M20: =IF(D20="1.1.1.i", COUNTIFS(Izejas_dati_finans_maksājumi!B:B,"1.1.1.1.i.2/1/23/I/CFLA/001")+COUNTIFS(Izejas_dati_finans_maksājumi!B:B,"1.1.1.1.i.2/2/25/I/CFLA/001"), COUNTIFS(Izejas_dati_finans_maksājumi!A:A,D20)) -> 60 | N20: =INDEX('Grafikam_M&T_Kopā'!H:H,MATCH(A20,'Grafikam_M&T_Kopā'!F:F,0)) -> Mājokļu pieejamības pielāgošana 250 personām. | O20: =IF(INDEX('Grafikam_M&T_Kopā'!P:P,MATCH(A20,'Grafikam_M&T_Kopā'!F:F,0))= "N", "N/A", INDEX('Grafikam_M&T_Kopā'!P:P,MATCH(A20,'Grafikam_M&T_Kopā'!F:F,0))) -> Personas | P20: =IF(ISNUMBER(INDEX('Grafikam_M&T_Kopā'!M:M,MATCH(A20,'Grafikam_M&T_Kopā'!F:F,0))), INDEX('Grafikam_M&T_Kopā'!M:M,MATCH(A20,'Grafikam_M&T_Kopā'!F:F,0)), INDEX('Grafikam_M&T_Kopā'!N:N,MATCH(A20,'Grafikam_M&T_Kopā'!F:F,0))) -> 250 | Q20: =IF(ISNUMBER(INDEX('Grafikam_M&T_Kopā'!M:M,MATCH(A20,'Grafikam_M&T_Kopā'!F:F,0))), INDEX('Grafikam_M&T_Kopā'!S:S,MATCH(A20,'Grafikam_M&T_Kopā'!F:F,0)), INDEX('Grafikam_M&T_Kopā'!O:O,MATCH(A20,'Grafikam_M&T_Kopā'!F:F,0))) -> 38 | R20: =IFERROR(Q20/P20,"Rādītājs teksta vērtība") -> 0.152 | S20: Mērķrādītāja sasniegšana var tikt kavēta, ņemot vērā to, ka vairākas pašvaldības saskaras ar būtiskiem apgrūtinājumiem būvniecības iepirkumu procesā. Netiek izslēgts risks, ka ne visi iepirkumi noslēgsies ar rezultātu. Šie apstākļi būtiski ietekmē projektu īstenošanas termiņus un var kavēt mērķrādītāja sasniegšanu noteiktajā laika posmā. Ar MKN grozījumiem noteikts, ka rādītājs ir jāsasniedz maksimāli noteiktā termiņā līdz 31.08.2025. | T20: 2 | U20: =IF(AND(C20="2026Q3",L20<50%,R20<50%),4, IF(OR(AND(C20="2026Q3",L20<50%),AND(L20<50%,R20<50%),AND(C20="2026Q3",R20<50%)),3, IF(OR(C20="2026Q3",L20<50%,R20<50%),2, 1)) )+T20 -> 5
A21: 160 | B21: Augstākās izglītības reforma | C21: 2026Q3 | D21: 5.2.1.r | E21: Augstākās izglītības un zinātnes izcilības un pārvaldības reforma | F21: =D21 &" "& E21 -> 5.2.1.r Augstākās izglītības un zinātnes izcilības un pārvaldības reforma | G21: =INDEX('Grafikam_M&T_Kopā'!E:E,MATCH(A21,'Grafikam_M&T_Kopā'!F:F,0)) -> Reforma | H21: Izglītības un zinātnes ministrija | I21: =IF(D21="1.1.1.i", SUMIFS(Izejas_dati_finans_maksājumi!H:H,Izejas_dati_finans_maksājumi!B:B,"1.1.1.1.i.2/1/23/I/CFLA/001")+SUMIFS(Izejas_dati_finans_maksājumi!H:H,Izejas_dati_finans_maksājumi!B:B,"1.1.1.1.i.2/2/25/I/CFLA/001"), IF(D21="2.3.1.5.i",SUMIFS(Izejas_dati_finans_maksājumi!H:H,Izejas_dati_finans_maksājumi!B:B,"2.3.1.4.i.0/1/23/I/CFLA/001"), SUMIFS(Izejas_dati_finans_maksājumi!H:H,Izejas_dati_finans_maksājumi!A:A,D21))) -> 0 | J21: =IF(D21="1.1.1.i", SUMIFS(Maksājumi_statusa!K:K,Maksājumi_statusa!D:D,"1.1.1.1.i.2/1/23/I/CFLA/001")+SUMIFS(Maksājumi_statusa!K:K,Maksājumi_statusa!D:D,"1.1.1.1.i.2/2/25/I/CFLA/001"), IF(D21="2.3.1.5.i",SUMIFS(Maksājumi_statusa!K:K,Maksājumi_statusa!D:D,"2.3.1.4.i.0/1/23/I/CFLA/001"), SUMIFS(Maksājumi_statusa!K:K,Maksājumi_statusa!C:C,D21))) -> 0 | K21: =I21-J21 -> 0 | L21: =IF(G21= "Investīcija",J21/I21,1) -> 1 | M21: =IF(D21="1.1.1.i", COUNTIFS(Izejas_dati_finans_maksājumi!B:B,"1.1.1.1.i.2/1/23/I/CFLA/001")+COUNTIFS(Izejas_dati_finans_maksājumi!B:B,"1.1.1.1.i.2/2/25/I/CFLA/001"), COUNTIFS(Izejas_dati_finans_maksājumi!A:A,D21)) -> 0 | N21: =INDEX('Grafikam_M&T_Kopā'!H:H,MATCH(A21,'Grafikam_M&T_Kopā'!F:F,0)) -> Tādu tiesību aktu spēkā stāšanās, ar kuriem ievieš: (i) pārskatītu doktorantūras modeli; (ii) akadēmiskā personāla nodarbinātības principus; (iii) ciklisko iestāžu akreditācijas sistēmu; (iv) izcilības stipendijas, sociālās stipendijas un studiju jomu stipendijas; (v) snieguma finansējuma apjoma palielināšanu (2. pīlārs) un jaunus snieguma rādītājus 1. pīlārā; (vi) publiskā finansējuma sasaisti ar zinātnisko iestāžu starptautiskās novērtēšanas rezultātiem. | O21: =IF(INDEX('Grafikam_M&T_Kopā'!P:P,MATCH(A21,'Grafikam_M&T_Kopā'!F:F,0))= "N", "N/A", INDEX('Grafikam_M&T_Kopā'!P:P,MATCH(A21,'Grafikam_M&T_Kopā'!F:F,0))) -> N/A | P21: =IF(ISNUMBER(INDEX('Grafikam_M&T_Kopā'!M:M,MATCH(A21,'Grafikam_M&T_Kopā'!F:F,0))), INDEX('Grafikam_M&T_Kopā'!M:M,MATCH(A21,'Grafikam_M&T_Kopā'!F:F,0)), INDEX('Grafikam_M&T_Kopā'!N:N,MATCH(A21,'Grafikam_M&T_Kopā'!F:F,0))) -> Stājās spēkā tiesību aktu grozījumi | Q21: =IF(ISNUMBER(INDEX('Grafikam_M&T_Kopā'!M:M,MATCH(A21,'Grafikam_M&T_Kopā'!F:F,0))), INDEX('Grafikam_M&T_Kopā'!S:S,MATCH(A21,'Grafikam_M&T_Kopā'!F:F,0)), INDEX('Grafikam_M&T_Kopā'!O:O,MATCH(A21,'Grafikam_M&T_Kopā'!F:F,0))) -> Procesā | R21: =IFERROR(Q21/P21,"Rādītājs teksta vērtība") -> Rādītājs teksta vērtība | S21: Riski ar likumprojektu virzību Saeimā (Augstākās izglītības likumā, Zinātniskās darbības likumā, Izglītības likumā, Profesionālās izglītības likumā), kā arī indikatīvi risks savlaicīgi neuzsākt pilotprojektu (no ESF finansējuma) saistībā ar cikliskās augstākās izglītības iestāžu akreditācijas reformu (līdz 31.08.2026. ir jāuzsāk trīs pilotprojekti augstskolās). Vēl notiek diskusijas ar EK par pilotakreditācijas faktiskās uzsākšanas laiku un normatīvo aktu spēkā stāšanās datumiem. | T21: 3 | U21: =IF(AND(C21="2026Q3",L21<50%,R21<50%),4, IF(OR(AND(C21="2026Q3",L21<50%),AND(L21<50%,R21<50%),AND(C21="2026Q3",R21<50%)),3, IF(OR(C21="2026Q3",L21<50%,R21<50%),2, 1)) )+T21 -> 5
A22: 2 | B22: Ilgtspējīga sabiedriskā transporta reforma | C22: 2026Q3 | D22: 1.1.1.r | E22: Rīgas metropoles areāla transporta sistēmas zaļināšana | F22: =D22 &" "& E22 -> 1.1.1.r Rīgas metropoles areāla transporta sistēmas zaļināšana | G22: =INDEX('Grafikam_M&T_Kopā'!E:E,MATCH(A22,'Grafikam_M&T_Kopā'!F:F,0)) -> Reforma | H22: Satiksmes ministrija | I22: =IF(D22="1.1.1.i", SUMIFS(Izejas_dati_finans_maksājumi!H:H,Izejas_dati_finans_maksājumi!B:B,"1.1.1.1.i.2/1/23/I/CFLA/001")+SUMIFS(Izejas_dati_finans_maksājumi!H:H,Izejas_dati_finans_maksājumi!B:B,"1.1.1.1.i.2/2/25/I/CFLA/001"), IF(D22="2.3.1.5.i",SUMIFS(Izejas_dati_finans_maksājumi!H:H,Izejas_dati_finans_maksājumi!B:B,"2.3.1.4.i.0/1/23/I/CFLA/001"), SUMIFS(Izejas_dati_finans_maksājumi!H:H,Izejas_dati_finans_maksājumi!A:A,D22))) -> 0 | J22: =IF(D22="1.1.1.i", SUMIFS(Maksājumi_statusa!K:K,Maksājumi_statusa!D:D,"1.1.1.1.i.2/1/23/I/CFLA/001")+SUMIFS(Maksājumi_statusa!K:K,Maksājumi_statusa!D:D,"1.1.1.1.i.2/2/25/I/CFLA/001"), IF(D22="2.3.1.5.i",SUMIFS(Maksājumi_statusa!K:K,Maksājumi_statusa!D:D,"2.3.1.4.i.0/1/23/I/CFLA/001"), SUMIFS(Maksājumi_statusa!K:K,Maksājumi_statusa!C:C,D22))) -> 0 | K22: =I22-J22 -> 0 | L22: =IF(G22= "Investīcija",J22/I22,1) -> 1 | M22: =IF(D22="1.1.1.i", COUNTIFS(Izejas_dati_finans_maksājumi!B:B,"1.1.1.1.i.2/1/23/I/CFLA/001")+COUNTIFS(Izejas_dati_finans_maksājumi!B:B,"1.1.1.1.i.2/2/25/I/CFLA/001"), COUNTIFS(Izejas_dati_finans_maksājumi!A:A,D22)) -> 0 | N22: =INDEX('Grafikam_M&T_Kopā'!H:H,MATCH(A22,'Grafikam_M&T_Kopā'!F:F,0)) -> Sabiedriskā transporta padomes apstiprinātais valsts transporta maršrutu tīkla pārskats: - Vienotas sabiedriskā transporta atlaižu politikas valsts līmenī regulējošu tiesību aktu spēkā stāšanās; - Sabiedriskā transporta saskaņoto reģionālo autobusu un vilcienu maršrutu grafiku regulējošu tiesību aktu spēkā stāšanās, tostarp vienota tarifa un vienotas sabiedriskā transporta biļešu sistēmas ieviešana; - Vienotas biļetes pilotprojekta ieviešana sabiedriskajam transportam pilsētas sabiedriskajā transportā un vilcieniem Rīgas pašvaldībā. | O22: =IF(INDEX('Grafikam_M&T_Kopā'!P:P,MATCH(A22,'Grafikam_M&T_Kopā'!F:F,0))= "N", "N/A", INDEX('Grafikam_M&T_Kopā'!P:P,MATCH(A22,'Grafikam_M&T_Kopā'!F:F,0))) -> N/A | P22: =IF(ISNUMBER(INDEX('Grafikam_M&T_Kopā'!M:M,MATCH(A22,'Grafikam_M&T_Kopā'!F:F,0))), INDEX('Grafikam_M&T_Kopā'!M:M,MATCH(A22,'Grafikam_M&T_Kopā'!F:F,0)), INDEX('Grafikam_M&T_Kopā'!N:N,MATCH(A22,'Grafikam_M&T_Kopā'!F:F,0))) -> Viena multimodāla sabiedriskā transporta maršruta tīkla Rīgas metropoles areālā izveide | Q22: =IF(ISNUMBER(INDEX('Grafikam_M&T_Kopā'!M:M,MATCH(A22,'Grafikam_M&T_Kopā'!F:F,0))), INDEX('Grafikam_M&T_Kopā'!S:S,MATCH(A22,'Grafikam_M&T_Kopā'!F:F,0)), INDEX('Grafikam_M&T_Kopā'!O:O,MATCH(A22,'Grafikam_M&T_Kopā'!F:F,0))) -> Procesā | R22: =IFERROR(Q22/P22,"Rādītājs teksta vērtība") -> Rādītājs teksta vērtība | S22: Atbilstoši rādītāja tvērumam jāpaspēj ieviest vairāki regulējumi transporta jomā. Rādītāja sasniegšanas plānota līdz attiecināmības termiņa beigām (31.08.2026.) | T22: 3 | U22: =IF(AND(C22="2026Q3",L22<50%,R22<50%),4, IF(OR(AND(C22="2026Q3",L22<50%),AND(L22<50%,R22<50%),AND(C22="2026Q3",R22<50%)),3, IF(OR(C22="2026Q3",L22<50%,R22<50%),2, 1)) )+T22 -> 5
A23: 106 | B23: Izglītības iestāžu infrastruktūra | C23: 2026Q3 | D23: 3.1.1.5.i | E23: Izglītības iestāžu infrastruktūras pilnveide un aprīkošana | F23: =D23 &" "& E23 -> 3.1.1.5.i Izglītības iestāžu infrastruktūras pilnveide un aprīkošana | G23: =INDEX('Grafikam_M&T_Kopā'!E:E,MATCH(A23,'Grafikam_M&T_Kopā'!F:F,0)) -> Investīcija | H23: Izglītības un zinātnes ministrija | I23: =IF(D23="1.1.1.i", SUMIFS(Izejas_dati_finans_maksājumi!H:H,Izejas_dati_finans_maksājumi!B:B,"1.1.1.1.i.2/1/23/I/CFLA/001")+SUMIFS(Izejas_dati_finans_maksājumi!H:H,Izejas_dati_finans_maksājumi!B:B,"1.1.1.1.i.2/2/25/I/CFLA/001"), IF(D23="2.3.1.5.i",SUMIFS(Izejas_dati_finans_maksājumi!H:H,Izejas_dati_finans_maksājumi!B:B,"2.3.1.4.i.0/1/23/I/CFLA/001"), SUMIFS(Izejas_dati_finans_maksājumi!H:H,Izejas_dati_finans_maksājumi!A:A,D23))) -> 31890739 | J23: =IF(D23="1.1.1.i", SUMIFS(Maksājumi_statusa!K:K,Maksājumi_statusa!D:D,"1.1.1.1.i.2/1/23/I/CFLA/001")+SUMIFS(Maksājumi_statusa!K:K,Maksājumi_statusa!D:D,"1.1.1.1.i.2/2/25/I/CFLA/001"), IF(D23="2.3.1.5.i",SUMIFS(Maksājumi_statusa!K:K,Maksājumi_statusa!D:D,"2.3.1.4.i.0/1/23/I/CFLA/001"), SUMIFS(Maksājumi_statusa!K:K,Maksājumi_statusa!C:C,D23))) -> 10506106 | K23: =I23-J23 -> 21384633 | L23: =IF(G23= "Investīcija",J23/I23,1) -> 0.32944067 | M23: =IF(D23="1.1.1.i", COUNTIFS(Izejas_dati_finans_maksājumi!B:B,"1.1.1.1.i.2/1/23/I/CFLA/001")+COUNTIFS(Izejas_dati_finans_maksājumi!B:B,"1.1.1.1.i.2/2/25/I/CFLA/001"), COUNTIFS(Izejas_dati_finans_maksājumi!A:A,D23)) -> 12 | N23: =INDEX('Grafikam_M&T_Kopā'!H:H,MATCH(A23,'Grafikam_M&T_Kopā'!F:F,0)) -> Infrastruktūras uzlabošana 21 vispārējās izglītības iestādēs (piemēram, ventilācijas sistēmas, energoefektīvs apgaismojums, informācijas un komunikācijas tehnoloģiju, zinātnes, tehnoloģiju, inženierzinātņu vai matemātikas mācību priekšmetu aprīkojuma iegāde). | O23: =IF(INDEX('Grafikam_M&T_Kopā'!P:P,MATCH(A23,'Grafikam_M&T_Kopā'!F:F,0))= "N", "N/A", INDEX('Grafikam_M&T_Kopā'!P:P,MATCH(A23,'Grafikam_M&T_Kopā'!F:F,0))) -> Skaits | P23: =IF(ISNUMBER(INDEX('Grafikam_M&T_Kopā'!M:M,MATCH(A23,'Grafikam_M&T_Kopā'!F:F,0))), INDEX('Grafikam_M&T_Kopā'!M:M,MATCH(A23,'Grafikam_M&T_Kopā'!F:F,0)), INDEX('Grafikam_M&T_Kopā'!N:N,MATCH(A23,'Grafikam_M&T_Kopā'!F:F,0))) -> 21 | Q23: =IF(ISNUMBER(INDEX('Grafikam_M&T_Kopā'!M:M,MATCH(A23,'Grafikam_M&T_Kopā'!F:F,0))), INDEX('Grafikam_M&T_Kopā'!S:S,MATCH(A23,'Grafikam_M&T_Kopā'!F:F,0)), INDEX('Grafikam_M&T_Kopā'!O:O,MATCH(A23,'Grafikam_M&T_Kopā'!F:F,0))) -> 0 | R23: =IFERROR(Q23/P23,"Rādītājs teksta vērtība") -> 0 | U23: =IF(AND(C23="2026Q3",L23<50%,R23<50%),4, IF(OR(AND(C23="2026Q3",L23<50%),AND(L23<50%,R23<50%),AND(C23="2026Q3",R23<50%)),3, IF(OR(C23="2026Q3",L23<50%,R23<50%),2, 1)) )+T23 -> 4
A24: 68a | B24: Digitālo prasmju apmācība | C24: 2026Q3 | D24: 2.3.1.5.i | E24: Digitālās prasmes, kas nodrošinātas Individuālo mācību kontu platformā | F24: =D24 &" "& E24 -> 2.3.1.5.i Digitālās prasmes, kas nodrošinātas Individuālo mācību kontu platformā | G24: =INDEX('Grafikam_M&T_Kopā'!E:E,MATCH(A24,'Grafikam_M&T_Kopā'!F:F,0)) -> Investīcija | H24: Izglītības un zinātnes ministrija | I24: =IF(D24="1.1.1.i", SUMIFS(Izejas_dati_finans_maksājumi!H:H,Izejas_dati_finans_maksājumi!B:B,"1.1.1.1.i.2/1/23/I/CFLA/001")+SUMIFS(Izejas_dati_finans_maksājumi!H:H,Izejas_dati_finans_maksājumi!B:B,"1.1.1.1.i.2/2/25/I/CFLA/001"), IF(D24="2.3.1.5.i",SUMIFS(Izejas_dati_finans_maksājumi!H:H,Izejas_dati_finans_maksājumi!B:B,"2.3.1.4.i.0/1/23/I/CFLA/001"), SUMIFS(Izejas_dati_finans_maksājumi!H:H,Izejas_dati_finans_maksājumi!A:A,D24))) -> 18506000 | J24: =IF(D24="1.1.1.i", SUMIFS(Maksājumi_statusa!K:K,Maksājumi_statusa!D:D,"1.1.1.1.i.2/1/23/I/CFLA/001")+SUMIFS(Maksājumi_statusa!K:K,Maksājumi_statusa!D:D,"1.1.1.1.i.2/2/25/I/CFLA/001"), IF(D24="2.3.1.5.i",SUMIFS(Maksājumi_statusa!K:K,Maksājumi_statusa!D:D,"2.3.1.4.i.0/1/23/I/CFLA/001"), SUMIFS(Maksājumi_statusa!K:K,Maksājumi_statusa!C:C,D24))) -> 1525896.4 | K24: =I24-J24 -> 16980104 | L24: =IF(G24= "Investīcija",J24/I24,1) -> 0.082454143 | M24: =IF(D24="1.1.1.i", COUNTIFS(Izejas_dati_finans_maksājumi!B:B,"1.1.1.1.i.2/1/23/I/CFLA/001")+COUNTIFS(Izejas_dati_finans_maksājumi!B:B,"1.1.1.1.i.2/2/25/I/CFLA/001"), COUNTIFS(Izejas_dati_finans_maksājumi!A:A,D24)) -> 0 | N24: =INDEX('Grafikam_M&T_Kopā'!H:H,MATCH(A24,'Grafikam_M&T_Kopā'!F:F,0)) -> 25 319 digitālo prasmju apmācība, ko nodrošina, izmantojot individuālo mācību kontu platformu. | O24: =IF(INDEX('Grafikam_M&T_Kopā'!P:P,MATCH(A24,'Grafikam_M&T_Kopā'!F:F,0))= "N", "N/A", INDEX('Grafikam_M&T_Kopā'!P:P,MATCH(A24,'Grafikam_M&T_Kopā'!F:F,0))) -> Skaits | P24: =IF(ISNUMBER(INDEX('Grafikam_M&T_Kopā'!M:M,MATCH(A24,'Grafikam_M&T_Kopā'!F:F,0))), INDEX('Grafikam_M&T_Kopā'!M:M,MATCH(A24,'Grafikam_M&T_Kopā'!F:F,0)), INDEX('Grafikam_M&T_Kopā'!N:N,MATCH(A24,'Grafikam_M&T_Kopā'!F:F,0))) -> 25319 | Q24: =IF(ISNUMBER(INDEX('Grafikam_M&T_Kopā'!M:M,MATCH(A24,'Grafikam_M&T_Kopā'!F:F,0))), INDEX('Grafikam_M&T_Kopā'!S:S,MATCH(A24,'Grafikam_M&T_Kopā'!F:F,0)), INDEX('Grafikam_M&T_Kopā'!O:O,MATCH(A24,'Grafikam_M&T_Kopā'!F:F,0))) -> 0 | R24: =IFERROR(Q24/P24,"Rādītājs teksta vērtība") -> 0 | U24: =IF(AND(C24="2026Q3",L24<50%,R24<50%),4, IF(OR(AND(C24="2026Q3",L24<50%),AND(L24<50%,R24<50%),AND(C24="2026Q3",R24<50%)),3, IF(OR(C24="2026Q3",L24<50%,R24<50%),2, 1)) )+T24 -> 4
A25: 18 | B25: Primārās enerģijas patēriņa samazinājums valsts ēkās | C25: 2026Q3 | D25: 1.2.1.4.i | E25: Energoefektivitātes uzlabošana valsts sektora ēkās | F25: =D25 &" "& E25 -> 1.2.1.4.i Energoefektivitātes uzlabošana valsts sektora ēkās | G25: =INDEX('Grafikam_M&T_Kopā'!E:E,MATCH(A25,'Grafikam_M&T_Kopā'!F:F,0)) -> Investīcija | H25: Ekonomikas ministrija | I25: =IF(D25="1.1.1.i", SUMIFS(Izejas_dati_finans_maksājumi!H:H,Izejas_dati_finans_maksājumi!B:B,"1.1.1.1.i.2/1/23/I/CFLA/001")+SUMIFS(Izejas_dati_finans_maksājumi!H:H,Izejas_dati_finans_maksājumi!B:B,"1.1.1.1.i.2/2/25/I/CFLA/001"), IF(D25="2.3.1.5.i",SUMIFS(Izejas_dati_finans_maksājumi!H:H,Izejas_dati_finans_maksājumi!B:B,"2.3.1.4.i.0/1/23/I/CFLA/001"), SUMIFS(Izejas_dati_finans_maksājumi!H:H,Izejas_dati_finans_maksājumi!A:A,D25))) -> 24218080 | J25: =IF(D25="1.1.1.i", SUMIFS(Maksājumi_statusa!K:K,Maksājumi_statusa!D:D,"1.1.1.1.i.2/1/23/I/CFLA/001")+SUMIFS(Maksājumi_statusa!K:K,Maksājumi_statusa!D:D,"1.1.1.1.i.2/2/25/I/CFLA/001"), IF(D25="2.3.1.5.i",SUMIFS(Maksājumi_statusa!K:K,Maksājumi_statusa!D:D,"2.3.1.4.i.0/1/23/I/CFLA/001"), SUMIFS(Maksājumi_statusa!K:K,Maksājumi_statusa!C:C,D25))) -> 11462964 | K25: =I25-J25 -> 12755115 | L25: =IF(G25= "Investīcija",J25/I25,1) -> 0.47332259 | M25: =IF(D25="1.1.1.i", COUNTIFS(Izejas_dati_finans_maksājumi!B:B,"1.1.1.1.i.2/1/23/I/CFLA/001")+COUNTIFS(Izejas_dati_finans_maksājumi!B:B,"1.1.1.1.i.2/2/25/I/CFLA/001"), COUNTIFS(Izejas_dati_finans_maksājumi!A:A,D25)) -> 11 | N25: =INDEX('Grafikam_M&T_Kopā'!H:H,MATCH(A25,'Grafikam_M&T_Kopā'!F:F,0)) -> Primārās enerģijas patēriņa samazinājums valsts ēkās, ko apliecina ēkas energosertifikāts pirms un pēc energoefektivitātes pasākumu īstenošanas | O25: =IF(INDEX('Grafikam_M&T_Kopā'!P:P,MATCH(A25,'Grafikam_M&T_Kopā'!F:F,0))= "N", "N/A", INDEX('Grafikam_M&T_Kopā'!P:P,MATCH(A25,'Grafikam_M&T_Kopā'!F:F,0))) -> MWh/gadā | P25: =IF(ISNUMBER(INDEX('Grafikam_M&T_Kopā'!M:M,MATCH(A25,'Grafikam_M&T_Kopā'!F:F,0))), INDEX('Grafikam_M&T_Kopā'!M:M,MATCH(A25,'Grafikam_M&T_Kopā'!F:F,0)), INDEX('Grafikam_M&T_Kopā'!N:N,MATCH(A25,'Grafikam_M&T_Kopā'!F:F,0))) -> 3875 | Q25: =IF(ISNUMBER(INDEX('Grafikam_M&T_Kopā'!M:M,MATCH(A25,'Grafikam_M&T_Kopā'!F:F,0))), INDEX('Grafikam_M&T_Kopā'!S:S,MATCH(A25,'Grafikam_M&T_Kopā'!F:F,0)), INDEX('Grafikam_M&T_Kopā'!O:O,MATCH(A25,'Grafikam_M&T_Kopā'!F:F,0))) -> 146.99 | R25: =IFERROR(Q25/P25,"Rādītājs teksta vērtība") -> 0.037932903 | U25: =IF(AND(C25="2026Q3",L25<50%,R25<50%),4, IF(OR(AND(C25="2026Q3",L25<50%),AND(L25<50%,R25<50%),AND(C25="2026Q3",R25<50%)),3, IF(OR(C25="2026Q3",L25<50%,R25<50%),2, 1)) )+T25 -> 4
A26: 150 | B26: Jauni veselības aprūpes pakalpojumu sniegšanas modeļi | C26: 2026Q3 | D26: 4.3.1.1.i | E26: Atbalsts sekundārās ambulatorās veselības aprūpes kvalitātes un pieejamības novērtēšanai un uzlabošanai | F26: =D26 &" "& E26 -> 4.3.1.1.i Atbalsts sekundārās ambulatorās veselības aprūpes kvalitātes un pieejamības novērtēšanai un uzlabošanai | G26: =INDEX('Grafikam_M&T_Kopā'!E:E,MATCH(A26,'Grafikam_M&T_Kopā'!F:F,0)) -> Investīcija | H26: Veselības ministrija | I26: =IF(D26="1.1.1.i", SUMIFS(Izejas_dati_finans_maksājumi!H:H,Izejas_dati_finans_maksājumi!B:B,"1.1.1.1.i.2/1/23/I/CFLA/001")+SUMIFS(Izejas_dati_finans_maksājumi!H:H,Izejas_dati_finans_maksājumi!B:B,"1.1.1.1.i.2/2/25/I/CFLA/001"), IF(D26="2.3.1.5.i",SUMIFS(Izejas_dati_finans_maksājumi!H:H,Izejas_dati_finans_maksājumi!B:B,"2.3.1.4.i.0/1/23/I/CFLA/001"), SUMIFS(Izejas_dati_finans_maksājumi!H:H,Izejas_dati_finans_maksājumi!A:A,D26))) -> 16130000 | J26: =IF(D26="1.1.1.i", SUMIFS(Maksājumi_statusa!K:K,Maksājumi_statusa!D:D,"1.1.1.1.i.2/1/23/I/CFLA/001")+SUMIFS(Maksājumi_statusa!K:K,Maksājumi_statusa!D:D,"1.1.1.1.i.2/2/25/I/CFLA/001"), IF(D26="2.3.1.5.i",SUMIFS(Maksājumi_statusa!K:K,Maksājumi_statusa!D:D,"2.3.1.4.i.0/1/23/I/CFLA/001"), SUMIFS(Maksājumi_statusa!K:K,Maksājumi_statusa!C:C,D26))) -> 3955565.7 | K26: =I26-J26 -> 12174434 | L26: =IF(G26= "Investīcija",J26/I26,1) -> 0.24523036 | M26: =IF(D26="1.1.1.i", COUNTIFS(Izejas_dati_finans_maksājumi!B:B,"1.1.1.1.i.2/1/23/I/CFLA/001")+COUNTIFS(Izejas_dati_finans_maksājumi!B:B,"1.1.1.1.i.2/2/25/I/CFLA/001"), COUNTIFS(Izejas_dati_finans_maksājumi!A:A,D26)) -> 1 | N26: =INDEX('Grafikam_M&T_Kopā'!H:H,MATCH(A26,'Grafikam_M&T_Kopā'!F:F,0)) -> Par katru no desmit jaunajiem veselības aprūpes pakalpojumu sniegšanas modeļiem jāsagatavo ziņojums, kurā norādīts, ka modelis ir testēts. | O26: =IF(INDEX('Grafikam_M&T_Kopā'!P:P,MATCH(A26,'Grafikam_M&T_Kopā'!F:F,0))= "N", "N/A", INDEX('Grafikam_M&T_Kopā'!P:P,MATCH(A26,'Grafikam_M&T_Kopā'!F:F,0))) -> Skaits | P26: =IF(ISNUMBER(INDEX('Grafikam_M&T_Kopā'!M:M,MATCH(A26,'Grafikam_M&T_Kopā'!F:F,0))), INDEX('Grafikam_M&T_Kopā'!M:M,MATCH(A26,'Grafikam_M&T_Kopā'!F:F,0)), INDEX('Grafikam_M&T_Kopā'!N:N,MATCH(A26,'Grafikam_M&T_Kopā'!F:F,0))) -> 10 | Q26: =IF(ISNUMBER(INDEX('Grafikam_M&T_Kopā'!M:M,MATCH(A26,'Grafikam_M&T_Kopā'!F:F,0))), INDEX('Grafikam_M&T_Kopā'!S:S,MATCH(A26,'Grafikam_M&T_Kopā'!F:F,0)), INDEX('Grafikam_M&T_Kopā'!O:O,MATCH(A26,'Grafikam_M&T_Kopā'!F:F,0))) -> 0 | R26: =IFERROR(Q26/P26,"Rādītājs teksta vērtība") -> 0 | U26: =IF(AND(C26="2026Q3",L26<50%,R26<50%),4, IF(OR(AND(C26="2026Q3",L26<50%),AND(L26<50%,R26<50%),AND(C26="2026Q3",R26<50%)),3, IF(OR(C26="2026Q3",L26<50%,R26<50%),2, 1)) )+T26 -> 4
A27: 30 | B27: IKT risinājumi vai sistēmas | C27: 2026Q3 | D27: 2.1.1.1.i | E27: Pārvaldes modernizācija un pakalpojumu digitālā transformācija | F27: =D27 &" "& E27 -> 2.1.1.1.i Pārvaldes modernizācija un pakalpojumu digitālā transformācija | G27: =INDEX('Grafikam_M&T_Kopā'!E:E,MATCH(A27,'Grafikam_M&T_Kopā'!F:F,0)) -> Investīcija | H27: Viedās administrācijas un reģionālās attīstības ministrija | I27: =IF(D27="1.1.1.i", SUMIFS(Izejas_dati_finans_maksājumi!H:H,Izejas_dati_finans_maksājumi!B:B,"1.1.1.1.i.2/1/23/I/CFLA/001")+SUMIFS(Izejas_dati_finans_maksājumi!H:H,Izejas_dati_finans_maksājumi!B:B,"1.1.1.1.i.2/2/25/I/CFLA/001"), IF(D27="2.3.1.5.i",SUMIFS(Izejas_dati_finans_maksājumi!H:H,Izejas_dati_finans_maksājumi!B:B,"2.3.1.4.i.0/1/23/I/CFLA/001"), SUMIFS(Izejas_dati_finans_maksājumi!H:H,Izejas_dati_finans_maksājumi!A:A,D27))) -> 13928620 | J27: =IF(D27="1.1.1.i", SUMIFS(Maksājumi_statusa!K:K,Maksājumi_statusa!D:D,"1.1.1.1.i.2/1/23/I/CFLA/001")+SUMIFS(Maksājumi_statusa!K:K,Maksājumi_statusa!D:D,"1.1.1.1.i.2/2/25/I/CFLA/001"), IF(D27="2.3.1.5.i",SUMIFS(Maksājumi_statusa!K:K,Maksājumi_statusa!D:D,"2.3.1.4.i.0/1/23/I/CFLA/001"), SUMIFS(Maksājumi_statusa!K:K,Maksājumi_statusa!C:C,D27))) -> 5102915.9 | K27: =I27-J27 -> 8825704.1 | L27: =IF(G27= "Investīcija",J27/I27,1) -> 0.36636191 | M27: =IF(D27="1.1.1.i", COUNTIFS(Izejas_dati_finans_maksājumi!B:B,"1.1.1.1.i.2/1/23/I/CFLA/001")+COUNTIFS(Izejas_dati_finans_maksājumi!B:B,"1.1.1.1.i.2/2/25/I/CFLA/001"), COUNTIFS(Izejas_dati_finans_maksājumi!A:A,D27)) -> 8 | N27: =INDEX('Grafikam_M&T_Kopā'!H:H,MATCH(A27,'Grafikam_M&T_Kopā'!F:F,0)) -> IKT risinājumi vai sistēmas tiks nodrošinātas, piemēram, iekšlietu nozarē, kultūrā, ostu loģistikas pakalpojumu pārvaldībā, IKT pārvaldības procesos. | O27: =IF(INDEX('Grafikam_M&T_Kopā'!P:P,MATCH(A27,'Grafikam_M&T_Kopā'!F:F,0))= "N", "N/A", INDEX('Grafikam_M&T_Kopā'!P:P,MATCH(A27,'Grafikam_M&T_Kopā'!F:F,0))) -> Skaits | P27: =IF(ISNUMBER(INDEX('Grafikam_M&T_Kopā'!M:M,MATCH(A27,'Grafikam_M&T_Kopā'!F:F,0))), INDEX('Grafikam_M&T_Kopā'!M:M,MATCH(A27,'Grafikam_M&T_Kopā'!F:F,0)), INDEX('Grafikam_M&T_Kopā'!N:N,MATCH(A27,'Grafikam_M&T_Kopā'!F:F,0))) -> 11 | Q27: =IF(ISNUMBER(INDEX('Grafikam_M&T_Kopā'!M:M,MATCH(A27,'Grafikam_M&T_Kopā'!F:F,0))), INDEX('Grafikam_M&T_Kopā'!S:S,MATCH(A27,'Grafikam_M&T_Kopā'!F:F,0)), INDEX('Grafikam_M&T_Kopā'!O:O,MATCH(A27,'Grafikam_M&T_Kopā'!F:F,0))) -> 3 | R27: =IFERROR(Q27/P27,"Rādītājs teksta vērtība") -> 0.27272727 | U27: =IF(AND(C27="2026Q3",L27<50%,R27<50%),4, IF(OR(AND(C27="2026Q3",L27<50%),AND(L27<50%,R27<50%),AND(C27="2026Q3",R27<50%)),3, IF(OR(C27="2026Q3",L27<50%,R27<50%),2, 1)) )+T27 -> 4
A28: 177 | B28: Rentgena attēlu analīzes platforma | C28: 2026Q1 | D28: 6.1.2.1.i | E28: Dzelzceļa rentgeniekārtu sasaiste ar BAXE un mākslīgā intelekta izmantošana dzelzceļu kravu skenēšanas attēlu analīzei | F28: =D28 &" "& E28 -> 6.1.2.1.i Dzelzceļa rentgeniekārtu sasaiste ar BAXE un mākslīgā intelekta izmantošana dzelzceļu kravu skenēšanas attēlu analīzei | G28: =INDEX('Grafikam_M&T_Kopā'!E:E,MATCH(A28,'Grafikam_M&T_Kopā'!F:F,0)) -> Investīcija | H28: Finanšu ministrija | I28: =IF(D28="1.1.1.i", SUMIFS(Izejas_dati_finans_maksājumi!H:H,Izejas_dati_finans_maksājumi!B:B,"1.1.1.1.i.2/1/23/I/CFLA/001")+SUMIFS(Izejas_dati_finans_maksājumi!H:H,Izejas_dati_finans_maksājumi!B:B,"1.1.1.1.i.2/2/25/I/CFLA/001"), IF(D28="2.3.1.5.i",SUMIFS(Izejas_dati_finans_maksājumi!H:H,Izejas_dati_finans_maksājumi!B:B,"2.3.1.4.i.0/1/23/I/CFLA/001"), SUMIFS(Izejas_dati_finans_maksājumi!H:H,Izejas_dati_finans_maksājumi!A:A,D28))) -> 3000000 | J28: =IF(D28="1.1.1.i", SUMIFS(Maksājumi_statusa!K:K,Maksājumi_statusa!D:D,"1.1.1.1.i.2/1/23/I/CFLA/001")+SUMIFS(Maksājumi_statusa!K:K,Maksājumi_statusa!D:D,"1.1.1.1.i.2/2/25/I/CFLA/001"), IF(D28="2.3.1.5.i",SUMIFS(Maksājumi_statusa!K:K,Maksājumi_statusa!D:D,"2.3.1.4.i.0/1/23/I/CFLA/001"), SUMIFS(Maksājumi_statusa!K:K,Maksājumi_statusa!C:C,D28))) -> 0 | K28: =I28-J28 -> 3000000 | L28: =IF(G28= "Investīcija",J28/I28,1) -> 0 | M28: =IF(D28="1.1.1.i", COUNTIFS(Izejas_dati_finans_maksājumi!B:B,"1.1.1.1.i.2/1/23/I/CFLA/001")+COUNTIFS(Izejas_dati_finans_maksājumi!B:B,"1.1.1.1.i.2/2/25/I/CFLA/001"), COUNTIFS(Izejas_dati_finans_maksājumi!A:A,D28)) -> 1 | N28: =INDEX('Grafikam_M&T_Kopā'!H:H,MATCH(A28,'Grafikam_M&T_Kopā'!F:F,0)) -> Parakstīts(-i) pabeigšanas sertifikāts(-i) automatizētai rentgena attēlu analīzes platformai. | O28: =IF(INDEX('Grafikam_M&T_Kopā'!P:P,MATCH(A28,'Grafikam_M&T_Kopā'!F:F,0))= "N", "N/A", INDEX('Grafikam_M&T_Kopā'!P:P,MATCH(A28,'Grafikam_M&T_Kopā'!F:F,0))) -> N/A | P28: =IF(ISNUMBER(INDEX('Grafikam_M&T_Kopā'!M:M,MATCH(A28,'Grafikam_M&T_Kopā'!F:F,0))), INDEX('Grafikam_M&T_Kopā'!M:M,MATCH(A28,'Grafikam_M&T_Kopā'!F:F,0)), INDEX('Grafikam_M&T_Kopā'!N:N,MATCH(A28,'Grafikam_M&T_Kopā'!F:F,0))) -> Parakstīts pieņemšanas akts | Q28: =IF(ISNUMBER(INDEX('Grafikam_M&T_Kopā'!M:M,MATCH(A28,'Grafikam_M&T_Kopā'!F:F,0))), INDEX('Grafikam_M&T_Kopā'!S:S,MATCH(A28,'Grafikam_M&T_Kopā'!F:F,0)), INDEX('Grafikam_M&T_Kopā'!O:O,MATCH(A28,'Grafikam_M&T_Kopā'!F:F,0))) -> Procesā | R28: =IFERROR(Q28/P28,"Rādītājs teksta vērtība") -> Rādītājs teksta vērtība | S28: VID ir lūdzis projekta sasniegšanas termiņa pagarinājumu līdz maksimāli noteiktajam termiņam 2026.gada 31.augustam, pamatojoties uz kavējumiem iepirkumā un nepieciešamajām drošības pārbaudēm attiecībā uz potenciālo iepirkuma uzvarētāju. CFLA atbalsta termiņa pagarinājumu ne vēlāk kā līdz 2026.gada 17.augustam, lai paspētu veikt nepieciešamās pārbaudes. | T28: 2 | U28: =IF(AND(C28="2026Q3",L28<50%,R28<50%),4, IF(OR(AND(C28="2026Q3",L28<50%),AND(L28<50%,R28<50%),AND(C28="2026Q3",R28<50%)),3, IF(OR(C28="2026Q3",L28<50%,R28<50%),2, 1)) )+T28 -> 4
A29: 140 | B29: Slimnīcas infrastruktūra vai aprīkojums | C29: 2026Q3 | D29: 4.1.1.2.i | E29: Atbalsts slimnīcu infrastruktūrai vai aprīkojumam | F29: =D29 &" "& E29 -> 4.1.1.2.i Atbalsts slimnīcu infrastruktūrai vai aprīkojumam | G29: =INDEX('Grafikam_M&T_Kopā'!E:E,MATCH(A29,'Grafikam_M&T_Kopā'!F:F,0)) -> Investīcija | H29: Veselības ministrija | I29: =IF(D29="1.1.1.i", SUMIFS(Izejas_dati_finans_maksājumi!H:H,Izejas_dati_finans_maksājumi!B:B,"1.1.1.1.i.2/1/23/I/CFLA/001")+SUMIFS(Izejas_dati_finans_maksājumi!H:H,Izejas_dati_finans_maksājumi!B:B,"1.1.1.1.i.2/2/25/I/CFLA/001"), IF(D29="2.3.1.5.i",SUMIFS(Izejas_dati_finans_maksājumi!H:H,Izejas_dati_finans_maksājumi!B:B,"2.3.1.4.i.0/1/23/I/CFLA/001"), SUMIFS(Izejas_dati_finans_maksājumi!H:H,Izejas_dati_finans_maksājumi!A:A,D29))) -> 1.495e+08 | J29: =IF(D29="1.1.1.i", SUMIFS(Maksājumi_statusa!K:K,Maksājumi_statusa!D:D,"1.1.1.1.i.2/1/23/I/CFLA/001")+SUMIFS(Maksājumi_statusa!K:K,Maksājumi_statusa!D:D,"1.1.1.1.i.2/2/25/I/CFLA/001"), IF(D29="2.3.1.5.i",SUMIFS(Maksājumi_statusa!K:K,Maksājumi_statusa!D:D,"2.3.1.4.i.0/1/23/I/CFLA/001"), SUMIFS(Maksājumi_statusa!K:K,Maksājumi_statusa!C:C,D29))) -> 68571543 | K29: =I29-J29 -> 80928456 | L29: =IF(G29= "Investīcija",J29/I29,1) -> 0.45867253 | M29: =IF(D29="1.1.1.i", COUNTIFS(Izejas_dati_finans_maksājumi!B:B,"1.1.1.1.i.2/1/23/I/CFLA/001")+COUNTIFS(Izejas_dati_finans_maksājumi!B:B,"1.1.1.1.i.2/2/25/I/CFLA/001"), COUNTIFS(Izejas_dati_finans_maksājumi!A:A,D29)) -> 16 | N29: =INDEX('Grafikam_M&T_Kopā'!H:H,MATCH(A29,'Grafikam_M&T_Kopā'!F:F,0)) -> Centrālās finanšu un līgumu aģentūras izdotas pabeigšanas vēstules par 15 slimnīcās pabeigtiem projektiem, kas attiecas uz infrastruktūru un aprīkojumu un atbilst līgumiem, ko finansē Atveseļošanas un reanimācijas mehānisms (AF). | O29: =IF(INDEX('Grafikam_M&T_Kopā'!P:P,MATCH(A29,'Grafikam_M&T_Kopā'!F:F,0))= "N", "N/A", INDEX('Grafikam_M&T_Kopā'!P:P,MATCH(A29,'Grafikam_M&T_Kopā'!F:F,0))) -> N/A | P29: =IF(ISNUMBER(INDEX('Grafikam_M&T_Kopā'!M:M,MATCH(A29,'Grafikam_M&T_Kopā'!F:F,0))), INDEX('Grafikam_M&T_Kopā'!M:M,MATCH(A29,'Grafikam_M&T_Kopā'!F:F,0)), INDEX('Grafikam_M&T_Kopā'!N:N,MATCH(A29,'Grafikam_M&T_Kopā'!F:F,0))) -> Pabeigšanas vēstules | Q29: =IF(ISNUMBER(INDEX('Grafikam_M&T_Kopā'!M:M,MATCH(A29,'Grafikam_M&T_Kopā'!F:F,0))), INDEX('Grafikam_M&T_Kopā'!S:S,MATCH(A29,'Grafikam_M&T_Kopā'!F:F,0)), INDEX('Grafikam_M&T_Kopā'!O:O,MATCH(A29,'Grafikam_M&T_Kopā'!F:F,0))) -> Procesā | R29: =IFERROR(Q29/P29,"Rādītājs teksta vērtība") -> Rādītājs teksta vērtība | U29: =IF(AND(C29="2026Q3",L29<50%,R29<50%),4, IF(OR(AND(C29="2026Q3",L29<50%),AND(L29<50%,R29<50%),AND(C29="2026Q3",R29<50%)),3, IF(OR(C29="2026Q3",L29<50%,R29<50%),2, 1)) )+T29 -> 3
A30: 109b | B30: Ar galīgajiem saņēmējiem parakstītie juridiskie nolīgumi. | C30: 2026Q2 | D30: 3.1.1.7.i | E30: Aizdevumi nekustamā īpašuma attīstītājiem zemas īres maksas mājokļu būvniecībai | F30: =D30 &" "& E30 -> 3.1.1.7.i Aizdevumi nekustamā īpašuma attīstītājiem zemas īres maksas mājokļu būvniecībai | G30: =INDEX('Grafikam_M&T_Kopā'!E:E,MATCH(A30,'Grafikam_M&T_Kopā'!F:F,0)) -> Investīcija | H30: Ekonomikas ministrija | I30: =IF(D30="1.1.1.i", SUMIFS(Izejas_dati_finans_maksājumi!H:H,Izejas_dati_finans_maksājumi!B:B,"1.1.1.1.i.2/1/23/I/CFLA/001")+SUMIFS(Izejas_dati_finans_maksājumi!H:H,Izejas_dati_finans_maksājumi!B:B,"1.1.1.1.i.2/2/25/I/CFLA/001"), IF(D30="2.3.1.5.i",SUMIFS(Izejas_dati_finans_maksājumi!H:H,Izejas_dati_finans_maksājumi!B:B,"2.3.1.4.i.0/1/23/I/CFLA/001"), SUMIFS(Izejas_dati_finans_maksājumi!H:H,Izejas_dati_finans_maksājumi!A:A,D30))) -> 29020919 | J30: =IF(D30="1.1.1.i", SUMIFS(Maksājumi_statusa!K:K,Maksājumi_statusa!D:D,"1.1.1.1.i.2/1/23/I/CFLA/001")+SUMIFS(Maksājumi_statusa!K:K,Maksājumi_statusa!D:D,"1.1.1.1.i.2/2/25/I/CFLA/001"), IF(D30="2.3.1.5.i",SUMIFS(Maksājumi_statusa!K:K,Maksājumi_statusa!D:D,"2.3.1.4.i.0/1/23/I/CFLA/001"), SUMIFS(Maksājumi_statusa!K:K,Maksājumi_statusa!C:C,D30))) -> 0 | K30: =I30-J30 -> 29020919 | L30: =IF(G30= "Investīcija",J30/I30,1) -> 0 | M30: =IF(D30="1.1.1.i", COUNTIFS(Izejas_dati_finans_maksājumi!B:B,"1.1.1.1.i.2/1/23/I/CFLA/001")+COUNTIFS(Izejas_dati_finans_maksājumi!B:B,"1.1.1.1.i.2/2/25/I/CFLA/001"), COUNTIFS(Izejas_dati_finans_maksājumi!A:A,D30)) -> 1 | N30: =INDEX('Grafikam_M&T_Kopā'!H:H,MATCH(A30,'Grafikam_M&T_Kopā'!F:F,0)) -> Altum ir noslēgusi juridiskus finansēšanas nolīgumus ar galasaņēmējiem par summu, kas nepieciešama, lai izmantotu 100 % no ANM investīcijām mehānismā (ņemot vērā pārvaldības maksas). | O30: =IF(INDEX('Grafikam_M&T_Kopā'!P:P,MATCH(A30,'Grafikam_M&T_Kopā'!F:F,0))= "N", "N/A", INDEX('Grafikam_M&T_Kopā'!P:P,MATCH(A30,'Grafikam_M&T_Kopā'!F:F,0))) -> % | P30: =IF(ISNUMBER(INDEX('Grafikam_M&T_Kopā'!M:M,MATCH(A30,'Grafikam_M&T_Kopā'!F:F,0))), INDEX('Grafikam_M&T_Kopā'!M:M,MATCH(A30,'Grafikam_M&T_Kopā'!F:F,0)), INDEX('Grafikam_M&T_Kopā'!N:N,MATCH(A30,'Grafikam_M&T_Kopā'!F:F,0))) -> 100 | Q30: =IF(ISNUMBER(INDEX('Grafikam_M&T_Kopā'!M:M,MATCH(A30,'Grafikam_M&T_Kopā'!F:F,0))), INDEX('Grafikam_M&T_Kopā'!S:S,MATCH(A30,'Grafikam_M&T_Kopā'!F:F,0)), INDEX('Grafikam_M&T_Kopā'!O:O,MATCH(A30,'Grafikam_M&T_Kopā'!F:F,0))) -> 0 | R30: =IFERROR(Q30/P30,"Rādītājs teksta vērtība") -> 0 | U30: =IF(AND(C30="2026Q3",L30<50%,R30<50%),4, IF(OR(AND(C30="2026Q3",L30<50%),AND(L30<50%,R30<50%),AND(C30="2026Q3",R30<50%)),3, IF(OR(C30="2026Q3",L30<50%,R30<50%),2, 1)) )+T30 -> 3
A31: 163 | B31: Gala maksājumu lēmumi konsolidācijas plāniem | C31: 2026Q3 | D31: 5.2.1.1.i | E31: Pētniecības, attīstības un konsolidācijas granti | F31: =D31 &" "& E31 -> 5.2.1.1.i Pētniecības, attīstības un konsolidācijas granti | G31: =INDEX('Grafikam_M&T_Kopā'!E:E,MATCH(A31,'Grafikam_M&T_Kopā'!F:F,0)) -> Investīcija | H31: Izglītības un zinātnes ministrija | I31: =IF(D31="1.1.1.i", SUMIFS(Izejas_dati_finans_maksājumi!H:H,Izejas_dati_finans_maksājumi!B:B,"1.1.1.1.i.2/1/23/I/CFLA/001")+SUMIFS(Izejas_dati_finans_maksājumi!H:H,Izejas_dati_finans_maksājumi!B:B,"1.1.1.1.i.2/2/25/I/CFLA/001"), IF(D31="2.3.1.5.i",SUMIFS(Izejas_dati_finans_maksājumi!H:H,Izejas_dati_finans_maksājumi!B:B,"2.3.1.4.i.0/1/23/I/CFLA/001"), SUMIFS(Izejas_dati_finans_maksājumi!H:H,Izejas_dati_finans_maksājumi!A:A,D31))) -> 82500000 | J31: =IF(D31="1.1.1.i", SUMIFS(Maksājumi_statusa!K:K,Maksājumi_statusa!D:D,"1.1.1.1.i.2/1/23/I/CFLA/001")+SUMIFS(Maksājumi_statusa!K:K,Maksājumi_statusa!D:D,"1.1.1.1.i.2/2/25/I/CFLA/001"), IF(D31="2.3.1.5.i",SUMIFS(Maksājumi_statusa!K:K,Maksājumi_statusa!D:D,"2.3.1.4.i.0/1/23/I/CFLA/001"), SUMIFS(Maksājumi_statusa!K:K,Maksājumi_statusa!C:C,D31))) -> 54432911 | K31: =I31-J31 -> 28067089 | L31: =IF(G31= "Investīcija",J31/I31,1) -> 0.65979286 | M31: =IF(D31="1.1.1.i", COUNTIFS(Izejas_dati_finans_maksājumi!B:B,"1.1.1.1.i.2/1/23/I/CFLA/001")+COUNTIFS(Izejas_dati_finans_maksājumi!B:B,"1.1.1.1.i.2/2/25/I/CFLA/001"), COUNTIFS(Izejas_dati_finans_maksājumi!A:A,D31)) -> 8 | N31: =INDEX('Grafikam_M&T_Kopā'!H:H,MATCH(A31,'Grafikam_M&T_Kopā'!F:F,0)) -> Centrālās finanšu un līgumu aģentūras izdotie gala maksājumu lēmumi par četru augstākās izglītības iestāžu vai zinātnisko iestāžu konsolidāciju. | O31: =IF(INDEX('Grafikam_M&T_Kopā'!P:P,MATCH(A31,'Grafikam_M&T_Kopā'!F:F,0))= "N", "N/A", INDEX('Grafikam_M&T_Kopā'!P:P,MATCH(A31,'Grafikam_M&T_Kopā'!F:F,0))) -> Konsolidācijas plānu | P31: =IF(ISNUMBER(INDEX('Grafikam_M&T_Kopā'!M:M,MATCH(A31,'Grafikam_M&T_Kopā'!F:F,0))), INDEX('Grafikam_M&T_Kopā'!M:M,MATCH(A31,'Grafikam_M&T_Kopā'!F:F,0)), INDEX('Grafikam_M&T_Kopā'!N:N,MATCH(A31,'Grafikam_M&T_Kopā'!F:F,0))) -> 4 | Q31: =IF(ISNUMBER(INDEX('Grafikam_M&T_Kopā'!M:M,MATCH(A31,'Grafikam_M&T_Kopā'!F:F,0))), INDEX('Grafikam_M&T_Kopā'!S:S,MATCH(A31,'Grafikam_M&T_Kopā'!F:F,0)), INDEX('Grafikam_M&T_Kopā'!O:O,MATCH(A31,'Grafikam_M&T_Kopā'!F:F,0))) -> 0 | R31: =IFERROR(Q31/P31,"Rādītājs teksta vērtība") -> 0 | U31: =IF(AND(C31="2026Q3",L31<50%,R31<50%),4, IF(OR(AND(C31="2026Q3",L31<50%),AND(L31<50%,R31<50%),AND(C31="2026Q3",R31<50%)),3, IF(OR(C31="2026Q3",L31<50%,R31<50%),2, 1)) )+T31 -> 3
A32: 26 | B32: Plūdu riska mazināšanas projekti | C32: 2026Q3 | D32: 1.3.1.2.i | E32: Investīcijas plūdu risku mazināšanas infrastruktūrā | F32: =D32 &" "& E32 -> 1.3.1.2.i Investīcijas plūdu risku mazināšanas infrastruktūrā | G32: =INDEX('Grafikam_M&T_Kopā'!E:E,MATCH(A32,'Grafikam_M&T_Kopā'!F:F,0)) -> Investīcija | H32: Zemkopības ministrija | I32: =IF(D32="1.1.1.i", SUMIFS(Izejas_dati_finans_maksājumi!H:H,Izejas_dati_finans_maksājumi!B:B,"1.1.1.1.i.2/1/23/I/CFLA/001")+SUMIFS(Izejas_dati_finans_maksājumi!H:H,Izejas_dati_finans_maksājumi!B:B,"1.1.1.1.i.2/2/25/I/CFLA/001"), IF(D32="2.3.1.5.i",SUMIFS(Izejas_dati_finans_maksājumi!H:H,Izejas_dati_finans_maksājumi!B:B,"2.3.1.4.i.0/1/23/I/CFLA/001"), SUMIFS(Izejas_dati_finans_maksājumi!H:H,Izejas_dati_finans_maksājumi!A:A,D32))) -> 24666128 | J32: =IF(D32="1.1.1.i", SUMIFS(Maksājumi_statusa!K:K,Maksājumi_statusa!D:D,"1.1.1.1.i.2/1/23/I/CFLA/001")+SUMIFS(Maksājumi_statusa!K:K,Maksājumi_statusa!D:D,"1.1.1.1.i.2/2/25/I/CFLA/001"), IF(D32="2.3.1.5.i",SUMIFS(Maksājumi_statusa!K:K,Maksājumi_statusa!D:D,"2.3.1.4.i.0/1/23/I/CFLA/001"), SUMIFS(Maksājumi_statusa!K:K,Maksājumi_statusa!C:C,D32))) -> 0 | K32: =I32-J32 -> 24666128 | L32: =IF(G32= "Investīcija",J32/I32,1) -> 0 | M32: =IF(D32="1.1.1.i", COUNTIFS(Izejas_dati_finans_maksājumi!B:B,"1.1.1.1.i.2/1/23/I/CFLA/001")+COUNTIFS(Izejas_dati_finans_maksājumi!B:B,"1.1.1.1.i.2/2/25/I/CFLA/001"), COUNTIFS(Izejas_dati_finans_maksājumi!A:A,D32)) -> 22 | N32: =INDEX('Grafikam_M&T_Kopā'!H:H,MATCH(A32,'Grafikam_M&T_Kopā'!F:F,0)) -> Parakstīts akts par pieņemšanu ekspluatācijā, par 21 plūdu riska mazināšanas projektu: • astoņas sūkņu stacijas; • divpadsmit aizsargdambji; • viens kanāls. | O32: =IF(INDEX('Grafikam_M&T_Kopā'!P:P,MATCH(A32,'Grafikam_M&T_Kopā'!F:F,0))= "N", "N/A", INDEX('Grafikam_M&T_Kopā'!P:P,MATCH(A32,'Grafikam_M&T_Kopā'!F:F,0))) -> N/A | P32: =IF(ISNUMBER(INDEX('Grafikam_M&T_Kopā'!M:M,MATCH(A32,'Grafikam_M&T_Kopā'!F:F,0))), INDEX('Grafikam_M&T_Kopā'!M:M,MATCH(A32,'Grafikam_M&T_Kopā'!F:F,0)), INDEX('Grafikam_M&T_Kopā'!N:N,MATCH(A32,'Grafikam_M&T_Kopā'!F:F,0))) -> Parakstīts akts par būvdarbu pieņemšanu ekspluatācijā | Q32: =IF(ISNUMBER(INDEX('Grafikam_M&T_Kopā'!M:M,MATCH(A32,'Grafikam_M&T_Kopā'!F:F,0))), INDEX('Grafikam_M&T_Kopā'!S:S,MATCH(A32,'Grafikam_M&T_Kopā'!F:F,0)), INDEX('Grafikam_M&T_Kopā'!O:O,MATCH(A32,'Grafikam_M&T_Kopā'!F:F,0))) -> Procesā | R32: =IFERROR(Q32/P32,"Rādītājs teksta vērtība") -> Rādītājs teksta vērtība | U32: =IF(AND(C32="2026Q3",L32<50%,R32<50%),4, IF(OR(AND(C32="2026Q3",L32<50%),AND(L32<50%,R32<50%),AND(C32="2026Q3",R32<50%)),3, IF(OR(C32="2026Q3",L32<50%,R32<50%),2, 1)) )+T32 -> 3
A33: 39 | B33: Nozares, par kurām datu kopas ir pieejamas platformās | C33: 2026Q3 | D33: 2.1.3.1.i | E33: Datu pieejamība, koplietošana un analītika | F33: =D33 &" "& E33 -> 2.1.3.1.i Datu pieejamība, koplietošana un analītika | G33: =INDEX('Grafikam_M&T_Kopā'!E:E,MATCH(A33,'Grafikam_M&T_Kopā'!F:F,0)) -> Investīcija | H33: Viedās administrācijas un reģionālās attīstības ministrija | I33: =IF(D33="1.1.1.i", SUMIFS(Izejas_dati_finans_maksājumi!H:H,Izejas_dati_finans_maksājumi!B:B,"1.1.1.1.i.2/1/23/I/CFLA/001")+SUMIFS(Izejas_dati_finans_maksājumi!H:H,Izejas_dati_finans_maksājumi!B:B,"1.1.1.1.i.2/2/25/I/CFLA/001"), IF(D33="2.3.1.5.i",SUMIFS(Izejas_dati_finans_maksājumi!H:H,Izejas_dati_finans_maksājumi!B:B,"2.3.1.4.i.0/1/23/I/CFLA/001"), SUMIFS(Izejas_dati_finans_maksājumi!H:H,Izejas_dati_finans_maksājumi!A:A,D33))) -> 34021000 | J33: =IF(D33="1.1.1.i", SUMIFS(Maksājumi_statusa!K:K,Maksājumi_statusa!D:D,"1.1.1.1.i.2/1/23/I/CFLA/001")+SUMIFS(Maksājumi_statusa!K:K,Maksājumi_statusa!D:D,"1.1.1.1.i.2/2/25/I/CFLA/001"), IF(D33="2.3.1.5.i",SUMIFS(Maksājumi_statusa!K:K,Maksājumi_statusa!D:D,"2.3.1.4.i.0/1/23/I/CFLA/001"), SUMIFS(Maksājumi_statusa!K:K,Maksājumi_statusa!C:C,D33))) -> 9623051.5 | K33: =I33-J33 -> 24397949 | L33: =IF(G33= "Investīcija",J33/I33,1) -> 0.28285622 | M33: =IF(D33="1.1.1.i", COUNTIFS(Izejas_dati_finans_maksājumi!B:B,"1.1.1.1.i.2/1/23/I/CFLA/001")+COUNTIFS(Izejas_dati_finans_maksājumi!B:B,"1.1.1.1.i.2/2/25/I/CFLA/001"), COUNTIFS(Izejas_dati_finans_maksājumi!A:A,D33)) -> 14 | N33: =INDEX('Grafikam_M&T_Kopā'!H:H,MATCH(A33,'Grafikam_M&T_Kopā'!F:F,0)) -> Datu kopām jābūt pieejamām platformās, kas aptver vismaz 10 publiskās pārvaldes nozares, piemēram: uzņēmējdarbība, zinātne, vide, finanses, publiskais iepirkums, veselības aprūpe, veterinārija un lauksaimniecība. | O33: =IF(INDEX('Grafikam_M&T_Kopā'!P:P,MATCH(A33,'Grafikam_M&T_Kopā'!F:F,0))= "N", "N/A", INDEX('Grafikam_M&T_Kopā'!P:P,MATCH(A33,'Grafikam_M&T_Kopā'!F:F,0))) -> Skaits | P33: =IF(ISNUMBER(INDEX('Grafikam_M&T_Kopā'!M:M,MATCH(A33,'Grafikam_M&T_Kopā'!F:F,0))), INDEX('Grafikam_M&T_Kopā'!M:M,MATCH(A33,'Grafikam_M&T_Kopā'!F:F,0)), INDEX('Grafikam_M&T_Kopā'!N:N,MATCH(A33,'Grafikam_M&T_Kopā'!F:F,0))) -> 10 | Q33: =IF(ISNUMBER(INDEX('Grafikam_M&T_Kopā'!M:M,MATCH(A33,'Grafikam_M&T_Kopā'!F:F,0))), INDEX('Grafikam_M&T_Kopā'!S:S,MATCH(A33,'Grafikam_M&T_Kopā'!F:F,0)), INDEX('Grafikam_M&T_Kopā'!O:O,MATCH(A33,'Grafikam_M&T_Kopā'!F:F,0))) -> 7 | R33: =IFERROR(Q33/P33,"Rādītājs teksta vērtība") -> 0.7 | U33: =IF(AND(C33="2026Q3",L33<50%,R33<50%),4, IF(OR(AND(C33="2026Q3",L33<50%),AND(L33<50%,R33<50%),AND(C33="2026Q3",R33<50%)),3, IF(OR(C33="2026Q3",L33<50%,R33<50%),2, 1)) )+T33 -> 3
A34: 73 | B34: Digitālā jaunatnes darba sistēma pašvaldībās | C34: 2026Q3 | D34: 2.3.2.1.i | E34: Digitālās prasmes iedzīvotājiem, t.sk. jauniešiem | F34: =D34 &" "& E34 -> 2.3.2.1.i Digitālās prasmes iedzīvotājiem, t.sk. jauniešiem | G34: =INDEX('Grafikam_M&T_Kopā'!E:E,MATCH(A34,'Grafikam_M&T_Kopā'!F:F,0)) -> Investīcija | H34: Izglītības un zinātnes ministrija | I34: =IF(D34="1.1.1.i", SUMIFS(Izejas_dati_finans_maksājumi!H:H,Izejas_dati_finans_maksājumi!B:B,"1.1.1.1.i.2/1/23/I/CFLA/001")+SUMIFS(Izejas_dati_finans_maksājumi!H:H,Izejas_dati_finans_maksājumi!B:B,"1.1.1.1.i.2/2/25/I/CFLA/001"), IF(D34="2.3.1.5.i",SUMIFS(Izejas_dati_finans_maksājumi!H:H,Izejas_dati_finans_maksājumi!B:B,"2.3.1.4.i.0/1/23/I/CFLA/001"), SUMIFS(Izejas_dati_finans_maksājumi!H:H,Izejas_dati_finans_maksājumi!A:A,D34))) -> 11632000 | J34: =IF(D34="1.1.1.i", SUMIFS(Maksājumi_statusa!K:K,Maksājumi_statusa!D:D,"1.1.1.1.i.2/1/23/I/CFLA/001")+SUMIFS(Maksājumi_statusa!K:K,Maksājumi_statusa!D:D,"1.1.1.1.i.2/2/25/I/CFLA/001"), IF(D34="2.3.1.5.i",SUMIFS(Maksājumi_statusa!K:K,Maksājumi_statusa!D:D,"2.3.1.4.i.0/1/23/I/CFLA/001"), SUMIFS(Maksājumi_statusa!K:K,Maksājumi_statusa!C:C,D34))) -> 1039587.2 | K34: =I34-J34 -> 10592413 | L34: =IF(G34= "Investīcija",J34/I34,1) -> 0.089373036 | M34: =IF(D34="1.1.1.i", COUNTIFS(Izejas_dati_finans_maksājumi!B:B,"1.1.1.1.i.2/1/23/I/CFLA/001")+COUNTIFS(Izejas_dati_finans_maksājumi!B:B,"1.1.1.1.i.2/2/25/I/CFLA/001"), COUNTIFS(Izejas_dati_finans_maksājumi!A:A,D34)) -> 2 | N34: =INDEX('Grafikam_M&T_Kopā'!H:H,MATCH(A34,'Grafikam_M&T_Kopā'!F:F,0)) -> Nobeiguma vēstule(s), ko izsniegusi Centrālā finanšu un līgumu aģentūra (CFLA) par digitālo jaunatnes darba sistēmu 42 pašvaldībās saistībā ar līgumu ar Starptautisko jaunatnes programmu aģentūru (SJPA). | O34: =IF(INDEX('Grafikam_M&T_Kopā'!P:P,MATCH(A34,'Grafikam_M&T_Kopā'!F:F,0))= "N", "N/A", INDEX('Grafikam_M&T_Kopā'!P:P,MATCH(A34,'Grafikam_M&T_Kopā'!F:F,0))) -> N/A | P34: =IF(ISNUMBER(INDEX('Grafikam_M&T_Kopā'!M:M,MATCH(A34,'Grafikam_M&T_Kopā'!F:F,0))), INDEX('Grafikam_M&T_Kopā'!M:M,MATCH(A34,'Grafikam_M&T_Kopā'!F:F,0)), INDEX('Grafikam_M&T_Kopā'!N:N,MATCH(A34,'Grafikam_M&T_Kopā'!F:F,0))) -> Pabeigšanas vēstules | Q34: =IF(ISNUMBER(INDEX('Grafikam_M&T_Kopā'!M:M,MATCH(A34,'Grafikam_M&T_Kopā'!F:F,0))), INDEX('Grafikam_M&T_Kopā'!S:S,MATCH(A34,'Grafikam_M&T_Kopā'!F:F,0)), INDEX('Grafikam_M&T_Kopā'!O:O,MATCH(A34,'Grafikam_M&T_Kopā'!F:F,0))) -> Procesā | R34: =IFERROR(Q34/P34,"Rādītājs teksta vērtība") -> Rādītājs teksta vērtība | U34: =IF(AND(C34="2026Q3",L34<50%,R34<50%),4, IF(OR(AND(C34="2026Q3",L34<50%),AND(L34<50%,R34<50%),AND(C34="2026Q3",R34<50%)),3, IF(OR(C34="2026Q3",L34<50%,R34<50%),2, 1)) )+T34 -> 3
A35: 83 | B35: Piekļuve ļoti augstas veiktspējas platjoslas tīkliem | C35: 2026Q3 | D35: 2.4.1.2.i | E35: Platjoslas jeb ļoti augstas veiktspējas tīklu “pēdējās jūdzes” infrastruktūras attīstībā | F35: =D35 &" "& E35 -> 2.4.1.2.i Platjoslas jeb ļoti augstas veiktspējas tīklu “pēdējās jūdzes” infrastruktūras attīstībā | G35: =INDEX('Grafikam_M&T_Kopā'!E:E,MATCH(A35,'Grafikam_M&T_Kopā'!F:F,0)) -> Investīcija | H35: Satiksmes ministrija | I35: =IF(D35="1.1.1.i", SUMIFS(Izejas_dati_finans_maksājumi!H:H,Izejas_dati_finans_maksājumi!B:B,"1.1.1.1.i.2/1/23/I/CFLA/001")+SUMIFS(Izejas_dati_finans_maksājumi!H:H,Izejas_dati_finans_maksājumi!B:B,"1.1.1.1.i.2/2/25/I/CFLA/001"), IF(D35="2.3.1.5.i",SUMIFS(Izejas_dati_finans_maksājumi!H:H,Izejas_dati_finans_maksājumi!B:B,"2.3.1.4.i.0/1/23/I/CFLA/001"), SUMIFS(Izejas_dati_finans_maksājumi!H:H,Izejas_dati_finans_maksājumi!A:A,D35))) -> 16235767 | J35: =IF(D35="1.1.1.i", SUMIFS(Maksājumi_statusa!K:K,Maksājumi_statusa!D:D,"1.1.1.1.i.2/1/23/I/CFLA/001")+SUMIFS(Maksājumi_statusa!K:K,Maksājumi_statusa!D:D,"1.1.1.1.i.2/2/25/I/CFLA/001"), IF(D35="2.3.1.5.i",SUMIFS(Maksājumi_statusa!K:K,Maksājumi_statusa!D:D,"2.3.1.4.i.0/1/23/I/CFLA/001"), SUMIFS(Maksājumi_statusa!K:K,Maksājumi_statusa!C:C,D35))) -> 6110552.4 | K35: =I35-J35 -> 10125215 | L35: =IF(G35= "Investīcija",J35/I35,1) -> 0.37636365 | M35: =IF(D35="1.1.1.i", COUNTIFS(Izejas_dati_finans_maksājumi!B:B,"1.1.1.1.i.2/1/23/I/CFLA/001")+COUNTIFS(Izejas_dati_finans_maksājumi!B:B,"1.1.1.1.i.2/2/25/I/CFLA/001"), COUNTIFS(Izejas_dati_finans_maksājumi!A:A,D35)) -> 5 | N35: =INDEX('Grafikam_M&T_Kopā'!H:H,MATCH(A35,'Grafikam_M&T_Kopā'!F:F,0)) -> Centrālās finanšu un līgumu aģentūras izdota(-as) pabeigšanas vēstule(-es) projektiem piecos Latvijas reģionos attiecībā uz piekļuvi ļoti augstas veiktspējas platjoslas tīkliem mājsaimniecībām un sociālekonomiskajiem virzītājspēkiem, piemēram, uzņēmumiem, skolām un slimnīcām. | O35: =IF(INDEX('Grafikam_M&T_Kopā'!P:P,MATCH(A35,'Grafikam_M&T_Kopā'!F:F,0))= "N", "N/A", INDEX('Grafikam_M&T_Kopā'!P:P,MATCH(A35,'Grafikam_M&T_Kopā'!F:F,0))) -> N/A | P35: =IF(ISNUMBER(INDEX('Grafikam_M&T_Kopā'!M:M,MATCH(A35,'Grafikam_M&T_Kopā'!F:F,0))), INDEX('Grafikam_M&T_Kopā'!M:M,MATCH(A35,'Grafikam_M&T_Kopā'!F:F,0)), INDEX('Grafikam_M&T_Kopā'!N:N,MATCH(A35,'Grafikam_M&T_Kopā'!F:F,0))) -> Pabeigšanas vēstules | Q35: =IF(ISNUMBER(INDEX('Grafikam_M&T_Kopā'!M:M,MATCH(A35,'Grafikam_M&T_Kopā'!F:F,0))), INDEX('Grafikam_M&T_Kopā'!S:S,MATCH(A35,'Grafikam_M&T_Kopā'!F:F,0)), INDEX('Grafikam_M&T_Kopā'!O:O,MATCH(A35,'Grafikam_M&T_Kopā'!F:F,0))) -> Procesā | R35: =IFERROR(Q35/P35,"Rādītājs teksta vērtība") -> Rādītājs teksta vērtība | U35: =IF(AND(C35="2026Q3",L35<50%,R35<50%),4, IF(OR(AND(C35="2026Q3",L35<50%),AND(L35<50%,R35<50%),AND(C35="2026Q3",R35<50%)),3, IF(OR(C35="2026Q3",L35<50%,R35<50%),2, 1)) )+T35 -> 3
A36: 20 | B36: Pieslēgumpunkti elektrotransportlīdzekļu uzlādei un mikroģenerācijas iekārtām | C36: 2026Q3 | D36: 1.2.1.5.i | E36: Elektroenerģijas pārvades un sadales tīklu modernizācija | F36: =D36 &" "& E36 -> 1.2.1.5.i Elektroenerģijas pārvades un sadales tīklu modernizācija | G36: =INDEX('Grafikam_M&T_Kopā'!E:E,MATCH(A36,'Grafikam_M&T_Kopā'!F:F,0)) -> Investīcija | H36: Ekonomikas ministrija | I36: =IF(D36="1.1.1.i", SUMIFS(Izejas_dati_finans_maksājumi!H:H,Izejas_dati_finans_maksājumi!B:B,"1.1.1.1.i.2/1/23/I/CFLA/001")+SUMIFS(Izejas_dati_finans_maksājumi!H:H,Izejas_dati_finans_maksājumi!B:B,"1.1.1.1.i.2/2/25/I/CFLA/001"), IF(D36="2.3.1.5.i",SUMIFS(Izejas_dati_finans_maksājumi!H:H,Izejas_dati_finans_maksājumi!B:B,"2.3.1.4.i.0/1/23/I/CFLA/001"), SUMIFS(Izejas_dati_finans_maksājumi!H:H,Izejas_dati_finans_maksājumi!A:A,D36))) -> 80000000 | J36: =IF(D36="1.1.1.i", SUMIFS(Maksājumi_statusa!K:K,Maksājumi_statusa!D:D,"1.1.1.1.i.2/1/23/I/CFLA/001")+SUMIFS(Maksājumi_statusa!K:K,Maksājumi_statusa!D:D,"1.1.1.1.i.2/2/25/I/CFLA/001"), IF(D36="2.3.1.5.i",SUMIFS(Maksājumi_statusa!K:K,Maksājumi_statusa!D:D,"2.3.1.4.i.0/1/23/I/CFLA/001"), SUMIFS(Maksājumi_statusa!K:K,Maksājumi_statusa!C:C,D36))) -> 72000000 | K36: =I36-J36 -> 8000000 | L36: =IF(G36= "Investīcija",J36/I36,1) -> 0.9 | M36: =IF(D36="1.1.1.i", COUNTIFS(Izejas_dati_finans_maksājumi!B:B,"1.1.1.1.i.2/1/23/I/CFLA/001")+COUNTIFS(Izejas_dati_finans_maksājumi!B:B,"1.1.1.1.i.2/2/25/I/CFLA/001"), COUNTIFS(Izejas_dati_finans_maksājumi!A:A,D36)) -> 2 | N36: =INDEX('Grafikam_M&T_Kopā'!H:H,MATCH(A36,'Grafikam_M&T_Kopā'!F:F,0)) -> 2060 izveidoti pieslēgumpunkti elektrotransportlīdzekļu un mikroģenerācijas iekārtu uzlādei | O36: =IF(INDEX('Grafikam_M&T_Kopā'!P:P,MATCH(A36,'Grafikam_M&T_Kopā'!F:F,0))= "N", "N/A", INDEX('Grafikam_M&T_Kopā'!P:P,MATCH(A36,'Grafikam_M&T_Kopā'!F:F,0))) -> Skaits | P36: =IF(ISNUMBER(INDEX('Grafikam_M&T_Kopā'!M:M,MATCH(A36,'Grafikam_M&T_Kopā'!F:F,0))), INDEX('Grafikam_M&T_Kopā'!M:M,MATCH(A36,'Grafikam_M&T_Kopā'!F:F,0)), INDEX('Grafikam_M&T_Kopā'!N:N,MATCH(A36,'Grafikam_M&T_Kopā'!F:F,0))) -> 2060 | Q36: =IF(ISNUMBER(INDEX('Grafikam_M&T_Kopā'!M:M,MATCH(A36,'Grafikam_M&T_Kopā'!F:F,0))), INDEX('Grafikam_M&T_Kopā'!S:S,MATCH(A36,'Grafikam_M&T_Kopā'!F:F,0)), INDEX('Grafikam_M&T_Kopā'!O:O,MATCH(A36,'Grafikam_M&T_Kopā'!F:F,0))) -> 520 | R36: =IFERROR(Q36/P36,"Rādītājs teksta vērtība") -> 0.25242718 | U36: =IF(AND(C36="2026Q3",L36<50%,R36<50%),4, IF(OR(AND(C36="2026Q3",L36<50%),AND(L36<50%,R36<50%),AND(C36="2026Q3",R36<50%)),3, IF(OR(C36="2026Q3",L36<50%,R36<50%),2, 1)) )+T36 -> 3
A37: 76 | B37: Apmeklētās apmācības | C37: 2026Q3 | D37: 2.3.2.2.i | E37: Valsts un pašvaldību digitālās transformācijas prasmju un spēju attīstība | F37: =D37 &" "& E37 -> 2.3.2.2.i Valsts un pašvaldību digitālās transformācijas prasmju un spēju attīstība | G37: =INDEX('Grafikam_M&T_Kopā'!E:E,MATCH(A37,'Grafikam_M&T_Kopā'!F:F,0)) -> Investīcija | H37: Viedās administrācijas un reģionālās attīstības ministrija | I37: =IF(D37="1.1.1.i", SUMIFS(Izejas_dati_finans_maksājumi!H:H,Izejas_dati_finans_maksājumi!B:B,"1.1.1.1.i.2/1/23/I/CFLA/001")+SUMIFS(Izejas_dati_finans_maksājumi!H:H,Izejas_dati_finans_maksājumi!B:B,"1.1.1.1.i.2/2/25/I/CFLA/001"), IF(D37="2.3.1.5.i",SUMIFS(Izejas_dati_finans_maksājumi!H:H,Izejas_dati_finans_maksājumi!B:B,"2.3.1.4.i.0/1/23/I/CFLA/001"), SUMIFS(Izejas_dati_finans_maksājumi!H:H,Izejas_dati_finans_maksājumi!A:A,D37))) -> 8250000 | J37: =IF(D37="1.1.1.i", SUMIFS(Maksājumi_statusa!K:K,Maksājumi_statusa!D:D,"1.1.1.1.i.2/1/23/I/CFLA/001")+SUMIFS(Maksājumi_statusa!K:K,Maksājumi_statusa!D:D,"1.1.1.1.i.2/2/25/I/CFLA/001"), IF(D37="2.3.1.5.i",SUMIFS(Maksājumi_statusa!K:K,Maksājumi_statusa!D:D,"2.3.1.4.i.0/1/23/I/CFLA/001"), SUMIFS(Maksājumi_statusa!K:K,Maksājumi_statusa!C:C,D37))) -> 1724728.6 | K37: =I37-J37 -> 6525271.3 | L37: =IF(G37= "Investīcija",J37/I37,1) -> 0.20905802 | M37: =IF(D37="1.1.1.i", COUNTIFS(Izejas_dati_finans_maksājumi!B:B,"1.1.1.1.i.2/1/23/I/CFLA/001")+COUNTIFS(Izejas_dati_finans_maksājumi!B:B,"1.1.1.1.i.2/2/25/I/CFLA/001"), COUNTIFS(Izejas_dati_finans_maksājumi!A:A,D37)) -> 1 | N37: =INDEX('Grafikam_M&T_Kopā'!H:H,MATCH(A37,'Grafikam_M&T_Kopā'!F:F,0)) -> Apmeklēto apmācību skaits, piemēram, šādās jomās: 1) digitalizācijas pārvaldība un attīstība; 2) digitālā satura veidošana; 3) kiberdrošība; 4) komunikācija un sadarbība; 5) informācijas un datu pratība; 6) transversālās prasmes. | O37: =IF(INDEX('Grafikam_M&T_Kopā'!P:P,MATCH(A37,'Grafikam_M&T_Kopā'!F:F,0))= "N", "N/A", INDEX('Grafikam_M&T_Kopā'!P:P,MATCH(A37,'Grafikam_M&T_Kopā'!F:F,0))) -> Skaits | P37: =IF(ISNUMBER(INDEX('Grafikam_M&T_Kopā'!M:M,MATCH(A37,'Grafikam_M&T_Kopā'!F:F,0))), INDEX('Grafikam_M&T_Kopā'!M:M,MATCH(A37,'Grafikam_M&T_Kopā'!F:F,0)), INDEX('Grafikam_M&T_Kopā'!N:N,MATCH(A37,'Grafikam_M&T_Kopā'!F:F,0))) -> 62900 | Q37: =IF(ISNUMBER(INDEX('Grafikam_M&T_Kopā'!M:M,MATCH(A37,'Grafikam_M&T_Kopā'!F:F,0))), INDEX('Grafikam_M&T_Kopā'!S:S,MATCH(A37,'Grafikam_M&T_Kopā'!F:F,0)), INDEX('Grafikam_M&T_Kopā'!O:O,MATCH(A37,'Grafikam_M&T_Kopā'!F:F,0))) -> 47729 | R37: =IFERROR(Q37/P37,"Rādītājs teksta vērtība") -> 0.75880763 | U37: =IF(AND(C37="2026Q3",L37<50%,R37<50%),4, IF(OR(AND(C37="2026Q3",L37<50%),AND(L37<50%,R37<50%),AND(C37="2026Q3",R37<50%)),3, IF(OR(C37="2026Q3",L37<50%,R37<50%),2, 1)) )+T37 -> 3
A38: 156 | B38: Uzraudzības ziņojumi | C38: 2026Q3 | D38: 5.1.1.1.i | E38: Atbalsts pilnvērtīgam inovāciju sistēmas pārvaldības modelim | F38: =D38 &" "& E38 -> 5.1.1.1.i Atbalsts pilnvērtīgam inovāciju sistēmas pārvaldības modelim | G38: =INDEX('Grafikam_M&T_Kopā'!E:E,MATCH(A38,'Grafikam_M&T_Kopā'!F:F,0)) -> Investīcija | H38: Ekonomikas ministrija | I38: =IF(D38="1.1.1.i", SUMIFS(Izejas_dati_finans_maksājumi!H:H,Izejas_dati_finans_maksājumi!B:B,"1.1.1.1.i.2/1/23/I/CFLA/001")+SUMIFS(Izejas_dati_finans_maksājumi!H:H,Izejas_dati_finans_maksājumi!B:B,"1.1.1.1.i.2/2/25/I/CFLA/001"), IF(D38="2.3.1.5.i",SUMIFS(Izejas_dati_finans_maksājumi!H:H,Izejas_dati_finans_maksājumi!B:B,"2.3.1.4.i.0/1/23/I/CFLA/001"), SUMIFS(Izejas_dati_finans_maksājumi!H:H,Izejas_dati_finans_maksājumi!A:A,D38))) -> 5025531 | J38: =IF(D38="1.1.1.i", SUMIFS(Maksājumi_statusa!K:K,Maksājumi_statusa!D:D,"1.1.1.1.i.2/1/23/I/CFLA/001")+SUMIFS(Maksājumi_statusa!K:K,Maksājumi_statusa!D:D,"1.1.1.1.i.2/2/25/I/CFLA/001"), IF(D38="2.3.1.5.i",SUMIFS(Maksājumi_statusa!K:K,Maksājumi_statusa!D:D,"2.3.1.4.i.0/1/23/I/CFLA/001"), SUMIFS(Maksājumi_statusa!K:K,Maksājumi_statusa!C:C,D38))) -> 1075679.6 | K38: =I38-J38 -> 3949851.4 | L38: =IF(G38= "Investīcija",J38/I38,1) -> 0.21404297 | M38: =IF(D38="1.1.1.i", COUNTIFS(Izejas_dati_finans_maksājumi!B:B,"1.1.1.1.i.2/1/23/I/CFLA/001")+COUNTIFS(Izejas_dati_finans_maksājumi!B:B,"1.1.1.1.i.2/2/25/I/CFLA/001"), COUNTIFS(Izejas_dati_finans_maksājumi!A:A,D38)) -> 2 | N38: =INDEX('Grafikam_M&T_Kopā'!H:H,MATCH(A38,'Grafikam_M&T_Kopā'!F:F,0)) -> Ekonomikas ministrija publicē: — divus ziņojumus par RIS3 jomām ar datiem, kas aptver vismaz vienu gadu, no kuriem vismaz vienā jāiekļauj arī Inovāciju atbalsta programmas novērtējums un ieteikumi. — vienu ziņojumu, kurā ietverts pētniecības atbalsta programmai un sadarbības tīklu atbalsta programmai izvēlēto privāto starpnieku darbības novērtējums, kā arī jaunā inovāciju pārvaldības modeļa darbības analīze. | O38: =IF(INDEX('Grafikam_M&T_Kopā'!P:P,MATCH(A38,'Grafikam_M&T_Kopā'!F:F,0))= "N", "N/A", INDEX('Grafikam_M&T_Kopā'!P:P,MATCH(A38,'Grafikam_M&T_Kopā'!F:F,0))) -> N/A | P38: =IF(ISNUMBER(INDEX('Grafikam_M&T_Kopā'!M:M,MATCH(A38,'Grafikam_M&T_Kopā'!F:F,0))), INDEX('Grafikam_M&T_Kopā'!M:M,MATCH(A38,'Grafikam_M&T_Kopā'!F:F,0)), INDEX('Grafikam_M&T_Kopā'!N:N,MATCH(A38,'Grafikam_M&T_Kopā'!F:F,0))) -> Publicētie uzraudzības ziņojumi | Q38: =IF(ISNUMBER(INDEX('Grafikam_M&T_Kopā'!M:M,MATCH(A38,'Grafikam_M&T_Kopā'!F:F,0))), INDEX('Grafikam_M&T_Kopā'!S:S,MATCH(A38,'Grafikam_M&T_Kopā'!F:F,0)), INDEX('Grafikam_M&T_Kopā'!O:O,MATCH(A38,'Grafikam_M&T_Kopā'!F:F,0))) -> Procesā | R38: =IFERROR(Q38/P38,"Rādītājs teksta vērtība") -> Rādītājs teksta vērtība | U38: =IF(AND(C38="2026Q3",L38<50%,R38<50%),4, IF(OR(AND(C38="2026Q3",L38<50%),AND(L38<50%,R38<50%),AND(C38="2026Q3",R38<50%)),3, IF(OR(C38="2026Q3",L38<50%,R38<50%),2, 1)) )+T38 -> 3
A39: 9 | B39: Primārās enerģijas patēriņa samazinājums daudzdzīvokļu mājās | C39: 2026Q3 | D39: 1.2.1.1.i | E39: Daudzdzīvokļu māju energoefektivitātes uzlabošana | F39: =D39 &" "& E39 -> 1.2.1.1.i Daudzdzīvokļu māju energoefektivitātes uzlabošana | G39: =INDEX('Grafikam_M&T_Kopā'!E:E,MATCH(A39,'Grafikam_M&T_Kopā'!F:F,0)) -> Investīcija | H39: Ekonomikas ministrija | I39: =IF(D39="1.1.1.i", SUMIFS(Izejas_dati_finans_maksājumi!H:H,Izejas_dati_finans_maksājumi!B:B,"1.1.1.1.i.2/1/23/I/CFLA/001")+SUMIFS(Izejas_dati_finans_maksājumi!H:H,Izejas_dati_finans_maksājumi!B:B,"1.1.1.1.i.2/2/25/I/CFLA/001"), IF(D39="2.3.1.5.i",SUMIFS(Izejas_dati_finans_maksājumi!H:H,Izejas_dati_finans_maksājumi!B:B,"2.3.1.4.i.0/1/23/I/CFLA/001"), SUMIFS(Izejas_dati_finans_maksājumi!H:H,Izejas_dati_finans_maksājumi!A:A,D39))) -> 57282000 | J39: =IF(D39="1.1.1.i", SUMIFS(Maksājumi_statusa!K:K,Maksājumi_statusa!D:D,"1.1.1.1.i.2/1/23/I/CFLA/001")+SUMIFS(Maksājumi_statusa!K:K,Maksājumi_statusa!D:D,"1.1.1.1.i.2/2/25/I/CFLA/001"), IF(D39="2.3.1.5.i",SUMIFS(Maksājumi_statusa!K:K,Maksājumi_statusa!D:D,"2.3.1.4.i.0/1/23/I/CFLA/001"), SUMIFS(Maksājumi_statusa!K:K,Maksājumi_statusa!C:C,D39))) -> 57282000 | K39: =I39-J39 -> 0 | L39: =IF(G39= "Investīcija",J39/I39,1) -> 1 | M39: =IF(D39="1.1.1.i", COUNTIFS(Izejas_dati_finans_maksājumi!B:B,"1.1.1.1.i.2/1/23/I/CFLA/001")+COUNTIFS(Izejas_dati_finans_maksājumi!B:B,"1.1.1.1.i.2/2/25/I/CFLA/001"), COUNTIFS(Izejas_dati_finans_maksājumi!A:A,D39)) -> 1 | N39: =INDEX('Grafikam_M&T_Kopā'!H:H,MATCH(A39,'Grafikam_M&T_Kopā'!F:F,0)) -> Primārās enerģijas patēriņa samazinājums daudzdzīvokļu mājās, kas tiek pierādīts ex ante un ex post ar ēkas energoefektivitātes sertifikātiem. | O39: =IF(INDEX('Grafikam_M&T_Kopā'!P:P,MATCH(A39,'Grafikam_M&T_Kopā'!F:F,0))= "N", "N/A", INDEX('Grafikam_M&T_Kopā'!P:P,MATCH(A39,'Grafikam_M&T_Kopā'!F:F,0))) -> MWh/gadā | P39: =IF(ISNUMBER(INDEX('Grafikam_M&T_Kopā'!M:M,MATCH(A39,'Grafikam_M&T_Kopā'!F:F,0))), INDEX('Grafikam_M&T_Kopā'!M:M,MATCH(A39,'Grafikam_M&T_Kopā'!F:F,0)), INDEX('Grafikam_M&T_Kopā'!N:N,MATCH(A39,'Grafikam_M&T_Kopā'!F:F,0))) -> 14423 | Q39: =IF(ISNUMBER(INDEX('Grafikam_M&T_Kopā'!M:M,MATCH(A39,'Grafikam_M&T_Kopā'!F:F,0))), INDEX('Grafikam_M&T_Kopā'!S:S,MATCH(A39,'Grafikam_M&T_Kopā'!F:F,0)), INDEX('Grafikam_M&T_Kopā'!O:O,MATCH(A39,'Grafikam_M&T_Kopā'!F:F,0))) -> 233.27 | R39: =IFERROR(Q39/P39,"Rādītājs teksta vērtība") -> 0.016173473 | U39: =IF(AND(C39="2026Q3",L39<50%,R39<50%),4, IF(OR(AND(C39="2026Q3",L39<50%),AND(L39<50%,R39<50%),AND(C39="2026Q3",R39<50%)),3, IF(OR(C39="2026Q3",L39<50%,R39<50%),2, 1)) )+T39 -> 3
A40: 103 | B40: Uzcelto dzīvokļu skaits | C40: 2026Q3 | D40: 3.1.1.4.i | E40: Finansēšanas fonda izveide zemas īres mājokļu būvniecībai | F40: =D40 &" "& E40 -> 3.1.1.4.i Finansēšanas fonda izveide zemas īres mājokļu būvniecībai | G40: =INDEX('Grafikam_M&T_Kopā'!E:E,MATCH(A40,'Grafikam_M&T_Kopā'!F:F,0)) -> Investīcija | H40: Ekonomikas ministrija | I40: =IF(D40="1.1.1.i", SUMIFS(Izejas_dati_finans_maksājumi!H:H,Izejas_dati_finans_maksājumi!B:B,"1.1.1.1.i.2/1/23/I/CFLA/001")+SUMIFS(Izejas_dati_finans_maksājumi!H:H,Izejas_dati_finans_maksājumi!B:B,"1.1.1.1.i.2/2/25/I/CFLA/001"), IF(D40="2.3.1.5.i",SUMIFS(Izejas_dati_finans_maksājumi!H:H,Izejas_dati_finans_maksājumi!B:B,"2.3.1.4.i.0/1/23/I/CFLA/001"), SUMIFS(Izejas_dati_finans_maksājumi!H:H,Izejas_dati_finans_maksājumi!A:A,D40))) -> 42900000 | J40: =IF(D40="1.1.1.i", SUMIFS(Maksājumi_statusa!K:K,Maksājumi_statusa!D:D,"1.1.1.1.i.2/1/23/I/CFLA/001")+SUMIFS(Maksājumi_statusa!K:K,Maksājumi_statusa!D:D,"1.1.1.1.i.2/2/25/I/CFLA/001"), IF(D40="2.3.1.5.i",SUMIFS(Maksājumi_statusa!K:K,Maksājumi_statusa!D:D,"2.3.1.4.i.0/1/23/I/CFLA/001"), SUMIFS(Maksājumi_statusa!K:K,Maksājumi_statusa!C:C,D40))) -> 42900000 | K40: =I40-J40 -> 0 | L40: =IF(G40= "Investīcija",J40/I40,1) -> 1 | M40: =IF(D40="1.1.1.i", COUNTIFS(Izejas_dati_finans_maksājumi!B:B,"1.1.1.1.i.2/1/23/I/CFLA/001")+COUNTIFS(Izejas_dati_finans_maksājumi!B:B,"1.1.1.1.i.2/2/25/I/CFLA/001"), COUNTIFS(Izejas_dati_finans_maksājumi!A:A,D40)) -> 1 | N40: =INDEX('Grafikam_M&T_Kopā'!H:H,MATCH(A40,'Grafikam_M&T_Kopā'!F:F,0)) -> 300 dzīvokļiem jābūt uzbūvētiem. | O40: =IF(INDEX('Grafikam_M&T_Kopā'!P:P,MATCH(A40,'Grafikam_M&T_Kopā'!F:F,0))= "N", "N/A", INDEX('Grafikam_M&T_Kopā'!P:P,MATCH(A40,'Grafikam_M&T_Kopā'!F:F,0))) -> Skaits | P40: =IF(ISNUMBER(INDEX('Grafikam_M&T_Kopā'!M:M,MATCH(A40,'Grafikam_M&T_Kopā'!F:F,0))), INDEX('Grafikam_M&T_Kopā'!M:M,MATCH(A40,'Grafikam_M&T_Kopā'!F:F,0)), INDEX('Grafikam_M&T_Kopā'!N:N,MATCH(A40,'Grafikam_M&T_Kopā'!F:F,0))) -> 300 | Q40: =IF(ISNUMBER(INDEX('Grafikam_M&T_Kopā'!M:M,MATCH(A40,'Grafikam_M&T_Kopā'!F:F,0))), INDEX('Grafikam_M&T_Kopā'!S:S,MATCH(A40,'Grafikam_M&T_Kopā'!F:F,0)), INDEX('Grafikam_M&T_Kopā'!O:O,MATCH(A40,'Grafikam_M&T_Kopā'!F:F,0))) -> 0 | R40: =IFERROR(Q40/P40,"Rādītājs teksta vērtība") -> 0 | U40: =IF(AND(C40="2026Q3",L40<50%,R40<50%),4, IF(OR(AND(C40="2026Q3",L40<50%),AND(L40<50%,R40<50%),AND(C40="2026Q3",R40<50%)),3, IF(OR(C40="2026Q3",L40<50%,R40<50%),2, 1)) )+T40 -> 3
... A45: 164 | B45: Parakstīti akadēmiskās karjeras un pētniecības grantu līgumi | C45: 2026Q3 | D45: 5.2.1.1.i | E45: Pētniecības, attīstības un konsolidācijas granti | F45: =D45 &" "& E45 -> 5.2.1.1.i Pētniecības, attīstības un konsolidācijas granti | G45: =INDEX('Grafikam_M&T_Kopā'!E:E,MATCH(A45,'Grafikam_M&T_Kopā'!F:F,0)) -> Investīcija | H45: Izglītības un zinātnes ministrija | I45: =IF(D45="1.1.1.i", SUMIFS(Izejas_dati_finans_maksājumi!H:H,Izejas_dati_finans_maksājumi!B:B,"1.1.1.1.i.2/1/23/I/CFLA/001")+SUMIFS(Izejas_dati_finans_maksājumi!H:H,Izejas_dati_finans_maksājumi!B:B,"1.1.1.1.i.2/2/25/I/CFLA/001"), IF(D45="2.3.1.5.i",SUMIFS(Izejas_dati_finans_maksājumi!H:H,Izejas_dati_finans_maksājumi!B:B,"2.3.1.4.i.0/1/23/I/CFLA/001"), SUMIFS(Izejas_dati_finans_maksājumi!H:H,Izejas_dati_finans_maksājumi!A:A,D45))) -> 82500000 | J45: =IF(D45="1.1.1.i", SUMIFS(Maksājumi_statusa!K:K,Maksājumi_statusa!D:D,"1.1.1.1.i.2/1/23/I/CFLA/001")+SUMIFS(Maksājumi_statusa!K:K,Maksājumi_statusa!D:D,"1.1.1.1.i.2/2/25/I/CFLA/001"), IF(D45="2.3.1.5.i",SUMIFS(Maksājumi_statusa!K:K,Maksājumi_statusa!D:D,"2.3.1.4.i.0/1/23/I/CFLA/001"), SUMIFS(Maksājumi_statusa!K:K,Maksājumi_statusa!C:C,D45))) -> 54432911 | K45: =I45-J45 -> 28067089 | L45: =IF(G45= "Investīcija",J45/I45,1) -> 0.65979286 | M45: =IF(D45="1.1.1.i", COUNTIFS(Izejas_dati_finans_maksājumi!B:B,"1.1.1.1.i.2/1/23/I/CFLA/001")+COUNTIFS(Izejas_dati_finans_maksājumi!B:B,"1.1.1.1.i.2/2/25/I/CFLA/001"), COUNTIFS(Izejas_dati_finans_maksājumi!A:A,D45)) -> 8 | N45: =INDEX('Grafikam_M&T_Kopā'!H:H,MATCH(A45,'Grafikam_M&T_Kopā'!F:F,0)) -> Augstākās izglītības iestādes vai pētniecības institūti ir parakstījuši 315 akadēmiskās karjeras grantu līgumus un 90 grantu līgumus pētniecībai. | O45: =IF(INDEX('Grafikam_M&T_Kopā'!P:P,MATCH(A45,'Grafikam_M&T_Kopā'!F:F,0))= "N", "N/A", INDEX('Grafikam_M&T_Kopā'!P:P,MATCH(A45,'Grafikam_M&T_Kopā'!F:F,0))) -> Parakstīto akadēmi | P45: =IF(ISNUMBER(INDEX('Grafikam_M&T_Kopā'!M:M,MATCH(A45,'Grafikam_M&T_Kopā'!F:F,0))), INDEX('Grafikam_M&T_Kopā'!M:M,MATCH(A45,'Grafikam_M&T_Kopā'!F:F,0)), INDEX('Grafikam_M&T_Kopā'!N:N,MATCH(A45,'Grafikam_M&T_Kopā'!F:F,0))) -> 405 | Q45: =IF(ISNUMBER(INDEX('Grafikam_M&T_Kopā'!M:M,MATCH(A45,'Grafikam_M&T_Kopā'!F:F,0))), INDEX('Grafikam_M&T_Kopā'!S:S,MATCH(A45,'Grafikam_M&T_Kopā'!F:F,0)), INDEX('Grafikam_M&T_Kopā'!O:O,MATCH(A45,'Grafikam_M&T_Kopā'!F:F,0))) -> 414 | R45: =IFERROR(Q45/P45,"Rādītājs teksta vērtība") -> 1.0222222 | U45: =IF(AND(C45="2026Q3",L45<50%,R45<50%),4, IF(OR(AND(C45="2026Q3",L45<50%),AND(L45<50%,R45<50%),AND(C45="2026Q3",R45<50%)),3, IF(OR(C45="2026Q3",L45<50%,R45<50%),2, 1)) )+T45 -> 2
A46: 23 | B46: Energoefektīvi katastrofu pārvaldības centri | C46: 2026Q1 | D46: 1.3.1.1.i | E46: Katastrofu pārvaldības sistēmas adaptācija klimata pārmaiņām, glābšanas un ātrās reaģēšanas dienesti | F46: =D46 &" "& E46 -> 1.3.1.1.i Katastrofu pārvaldības sistēmas adaptācija klimata pārmaiņām, glābšanas un ātrās reaģēšanas dienesti | G46: =INDEX('Grafikam_M&T_Kopā'!E:E,MATCH(A46,'Grafikam_M&T_Kopā'!F:F,0)) -> Investīcija | H46: Iekšlietu ministrija | I46: =IF(D46="1.1.1.i", SUMIFS(Izejas_dati_finans_maksājumi!H:H,Izejas_dati_finans_maksājumi!B:B,"1.1.1.1.i.2/1/23/I/CFLA/001")+SUMIFS(Izejas_dati_finans_maksājumi!H:H,Izejas_dati_finans_maksājumi!B:B,"1.1.1.1.i.2/2/25/I/CFLA/001"), IF(D46="2.3.1.5.i",SUMIFS(Izejas_dati_finans_maksājumi!H:H,Izejas_dati_finans_maksājumi!B:B,"2.3.1.4.i.0/1/23/I/CFLA/001"), SUMIFS(Izejas_dati_finans_maksājumi!H:H,Izejas_dati_finans_maksājumi!A:A,D46))) -> 36630000 | J46: =IF(D46="1.1.1.i", SUMIFS(Maksājumi_statusa!K:K,Maksājumi_statusa!D:D,"1.1.1.1.i.2/1/23/I/CFLA/001")+SUMIFS(Maksājumi_statusa!K:K,Maksājumi_statusa!D:D,"1.1.1.1.i.2/2/25/I/CFLA/001"), IF(D46="2.3.1.5.i",SUMIFS(Maksājumi_statusa!K:K,Maksājumi_statusa!D:D,"2.3.1.4.i.0/1/23/I/CFLA/001"), SUMIFS(Maksājumi_statusa!K:K,Maksājumi_statusa!C:C,D46))) -> 20487708 | K46: =I46-J46 -> 16142292 | L46: =IF(G46= "Investīcija",J46/I46,1) -> 0.55931498 | M46: =IF(D46="1.1.1.i", COUNTIFS(Izejas_dati_finans_maksājumi!B:B,"1.1.1.1.i.2/1/23/I/CFLA/001")+COUNTIFS(Izejas_dati_finans_maksājumi!B:B,"1.1.1.1.i.2/2/25/I/CFLA/001"), COUNTIFS(Izejas_dati_finans_maksājumi!A:A,D46)) -> 1 | N46: =INDEX('Grafikam_M&T_Kopā'!H:H,MATCH(A46,'Grafikam_M&T_Kopā'!F:F,0)) -> Parakstīts akts (akti) par gandrīz 0 enerģijas patēriņa katastrofu pārvaldības centru būvniecību pieņemšanu ekspluatācijā. | O46: =IF(INDEX('Grafikam_M&T_Kopā'!P:P,MATCH(A46,'Grafikam_M&T_Kopā'!F:F,0))= "N", "N/A", INDEX('Grafikam_M&T_Kopā'!P:P,MATCH(A46,'Grafikam_M&T_Kopā'!F:F,0))) -> N/A | P46: =IF(ISNUMBER(INDEX('Grafikam_M&T_Kopā'!M:M,MATCH(A46,'Grafikam_M&T_Kopā'!F:F,0))), INDEX('Grafikam_M&T_Kopā'!M:M,MATCH(A46,'Grafikam_M&T_Kopā'!F:F,0)), INDEX('Grafikam_M&T_Kopā'!N:N,MATCH(A46,'Grafikam_M&T_Kopā'!F:F,0))) -> Akts par pieņemšanu ekspluatācijā | Q46: =IF(ISNUMBER(INDEX('Grafikam_M&T_Kopā'!M:M,MATCH(A46,'Grafikam_M&T_Kopā'!F:F,0))), INDEX('Grafikam_M&T_Kopā'!S:S,MATCH(A46,'Grafikam_M&T_Kopā'!F:F,0)), INDEX('Grafikam_M&T_Kopā'!O:O,MATCH(A46,'Grafikam_M&T_Kopā'!F:F,0))) -> Procesā | R46: =IFERROR(Q46/P46,"Rādītājs teksta vērtība") -> Rādītājs teksta vērtība | S46: 22.07.2025 MK apstiprināts informatīvais ziņojums par mērķa īstenošanas termiņa pagarinājumu, kas paredz sasniegt mērķi Nr. 23, pilnībā pabeidzot Investīciju projektu ne vēlāk kā līdz 31.07.2026., kas ietver ne tikai ēku nodošanu ekspluatācijā, bet arī demontāžas darbu pabeigšanu, savukārt līdz 31.08.2026. nodrošināt visu atskaitēm nepieciešamās informācijas sagatavošanu un iesniegšanu KPVIS. | T46: 1 | U46: =IF(AND(C46="2026Q3",L46<50%,R46<50%),4, IF(OR(AND(C46="2026Q3",L46<50%),AND(L46<50%,R46<50%),AND(C46="2026Q3",R46<50%)),3, IF(OR(C46="2026Q3",L46<50%,R46<50%),2, 1)) )+T46 -> 2
A47: 221 | B47: Elektroenerģiju uzkrājošo bateriju sistēma (BESS) | C47: 2025Q4 | D47: 7.1.1.1.i | E47: Elektroenerģijas pārvades sistēmas sinhronizācija | F47: =D47 &" "& E47 -> 7.1.1.1.i Elektroenerģijas pārvades sistēmas sinhronizācija | G47: =INDEX('Grafikam_M&T_Kopā'!E:E,MATCH(A47,'Grafikam_M&T_Kopā'!F:F,0)) -> Investīcija | H47: Klimata un enerģētikas ministrija | I47: =IF(D47="1.1.1.i", SUMIFS(Izejas_dati_finans_maksājumi!H:H,Izejas_dati_finans_maksājumi!B:B,"1.1.1.1.i.2/1/23/I/CFLA/001")+SUMIFS(Izejas_dati_finans_maksājumi!H:H,Izejas_dati_finans_maksājumi!B:B,"1.1.1.1.i.2/2/25/I/CFLA/001"), IF(D47="2.3.1.5.i",SUMIFS(Izejas_dati_finans_maksājumi!H:H,Izejas_dati_finans_maksājumi!B:B,"2.3.1.4.i.0/1/23/I/CFLA/001"), SUMIFS(Izejas_dati_finans_maksājumi!H:H,Izejas_dati_finans_maksājumi!A:A,D47))) -> 60343378 | J47: =IF(D47="1.1.1.i", SUMIFS(Maksājumi_statusa!K:K,Maksājumi_statusa!D:D,"1.1.1.1.i.2/1/23/I/CFLA/001")+SUMIFS(Maksājumi_statusa!K:K,Maksājumi_statusa!D:D,"1.1.1.1.i.2/2/25/I/CFLA/001"), IF(D47="2.3.1.5.i",SUMIFS(Maksājumi_statusa!K:K,Maksājumi_statusa!D:D,"2.3.1.4.i.0/1/23/I/CFLA/001"), SUMIFS(Maksājumi_statusa!K:K,Maksājumi_statusa!C:C,D47))) -> 54309040 | K47: =I47-J47 -> 6034337.8 | L47: =IF(G47= "Investīcija",J47/I47,1) -> 0.9 | M47: =IF(D47="1.1.1.i", COUNTIFS(Izejas_dati_finans_maksājumi!B:B,"1.1.1.1.i.2/1/23/I/CFLA/001")+COUNTIFS(Izejas_dati_finans_maksājumi!B:B,"1.1.1.1.i.2/2/25/I/CFLA/001"), COUNTIFS(Izejas_dati_finans_maksājumi!A:A,D47)) -> 1 | N47: =INDEX('Grafikam_M&T_Kopā'!H:H,MATCH(A47,'Grafikam_M&T_Kopā'!F:F,0)) -> Parakstīts pabeigšanas sertifikāts par 60 MW akumulatoru enerģijas uzkrāšanas sistēmai (BESS) uzstādīšanu Rēzeknē. | O47: =IF(INDEX('Grafikam_M&T_Kopā'!P:P,MATCH(A47,'Grafikam_M&T_Kopā'!F:F,0))= "N", "N/A", INDEX('Grafikam_M&T_Kopā'!P:P,MATCH(A47,'Grafikam_M&T_Kopā'!F:F,0))) -> MW | P47: =IF(ISNUMBER(INDEX('Grafikam_M&T_Kopā'!M:M,MATCH(A47,'Grafikam_M&T_Kopā'!F:F,0))), INDEX('Grafikam_M&T_Kopā'!M:M,MATCH(A47,'Grafikam_M&T_Kopā'!F:F,0)), INDEX('Grafikam_M&T_Kopā'!N:N,MATCH(A47,'Grafikam_M&T_Kopā'!F:F,0))) -> 60 | Q47: =IF(ISNUMBER(INDEX('Grafikam_M&T_Kopā'!M:M,MATCH(A47,'Grafikam_M&T_Kopā'!F:F,0))), INDEX('Grafikam_M&T_Kopā'!S:S,MATCH(A47,'Grafikam_M&T_Kopā'!F:F,0)), INDEX('Grafikam_M&T_Kopā'!O:O,MATCH(A47,'Grafikam_M&T_Kopā'!F:F,0))) -> 0 | R47: =IFERROR(Q47/P47,"Rādītājs teksta vērtība") -> 0 | U47: =IF(AND(C47="2026Q3",L47<50%,R47<50%),4, IF(OR(AND(C47="2026Q3",L47<50%),AND(L47<50%,R47<50%),AND(C47="2026Q3",R47<50%)),3, IF(OR(C47="2026Q3",L47<50%,R47<50%),2, 1)) )+T47 -> 2
A48: 114 | B48: Valsts un pašvaldību ēku pielāgošana | C48: 2026Q2 | D48: 3.1.2.1.i | E48: Publisko pakalpojumu un nodarbinātības pieejamības veicināšanas pasākumi cilvēkiem ar funkcionāliem traucējumiem | F48: =D48 &" "& E48 -> 3.1.2.1.i Publisko pakalpojumu un nodarbinātības pieejamības veicināšanas pasākumi cilvēkiem ar funkcionāliem traucējumiem | G48: =INDEX('Grafikam_M&T_Kopā'!E:E,MATCH(A48,'Grafikam_M&T_Kopā'!F:F,0)) -> Investīcija | H48: Labklājības ministrija | I48: =IF(D48="1.1.1.i", SUMIFS(Izejas_dati_finans_maksājumi!H:H,Izejas_dati_finans_maksājumi!B:B,"1.1.1.1.i.2/1/23/I/CFLA/001")+SUMIFS(Izejas_dati_finans_maksājumi!H:H,Izejas_dati_finans_maksājumi!B:B,"1.1.1.1.i.2/2/25/I/CFLA/001"), IF(D48="2.3.1.5.i",SUMIFS(Izejas_dati_finans_maksājumi!H:H,Izejas_dati_finans_maksājumi!B:B,"2.3.1.4.i.0/1/23/I/CFLA/001"), SUMIFS(Izejas_dati_finans_maksājumi!H:H,Izejas_dati_finans_maksājumi!A:A,D48))) -> 13624131 | J48: =IF(D48="1.1.1.i", SUMIFS(Maksājumi_statusa!K:K,Maksājumi_statusa!D:D,"1.1.1.1.i.2/1/23/I/CFLA/001")+SUMIFS(Maksājumi_statusa!K:K,Maksājumi_statusa!D:D,"1.1.1.1.i.2/2/25/I/CFLA/001"), IF(D48="2.3.1.5.i",SUMIFS(Maksājumi_statusa!K:K,Maksājumi_statusa!D:D,"2.3.1.4.i.0/1/23/I/CFLA/001"), SUMIFS(Maksājumi_statusa!K:K,Maksājumi_statusa!C:C,D48))) -> 8133073.8 | K48: =I48-J48 -> 5491057.5 | L48: =IF(G48= "Investīcija",J48/I48,1) -> 0.59696091 | M48: =IF(D48="1.1.1.i", COUNTIFS(Izejas_dati_finans_maksājumi!B:B,"1.1.1.1.i.2/1/23/I/CFLA/001")+COUNTIFS(Izejas_dati_finans_maksājumi!B:B,"1.1.1.1.i.2/2/25/I/CFLA/001"), COUNTIFS(Izejas_dati_finans_maksājumi!A:A,D48)) -> 60 | N48: =INDEX('Grafikam_M&T_Kopā'!H:H,MATCH(A48,'Grafikam_M&T_Kopā'!F:F,0)) -> 63 valsts un pašvaldību ēku pieejamības pielāgošana | O48: =IF(INDEX('Grafikam_M&T_Kopā'!P:P,MATCH(A48,'Grafikam_M&T_Kopā'!F:F,0))= "N", "N/A", INDEX('Grafikam_M&T_Kopā'!P:P,MATCH(A48,'Grafikam_M&T_Kopā'!F:F,0))) -> Ēkas | P48: =IF(ISNUMBER(INDEX('Grafikam_M&T_Kopā'!M:M,MATCH(A48,'Grafikam_M&T_Kopā'!F:F,0))), INDEX('Grafikam_M&T_Kopā'!M:M,MATCH(A48,'Grafikam_M&T_Kopā'!F:F,0)), INDEX('Grafikam_M&T_Kopā'!N:N,MATCH(A48,'Grafikam_M&T_Kopā'!F:F,0))) -> 63 | Q48: =IF(ISNUMBER(INDEX('Grafikam_M&T_Kopā'!M:M,MATCH(A48,'Grafikam_M&T_Kopā'!F:F,0))), INDEX('Grafikam_M&T_Kopā'!S:S,MATCH(A48,'Grafikam_M&T_Kopā'!F:F,0)), INDEX('Grafikam_M&T_Kopā'!O:O,MATCH(A48,'Grafikam_M&T_Kopā'!F:F,0))) -> 16 | R48: =IFERROR(Q48/P48,"Rādītājs teksta vērtība") -> 0.25396825 | U48: =IF(AND(C48="2026Q3",L48<50%,R48<50%),4, IF(OR(AND(C48="2026Q3",L48<50%),AND(L48<50%,R48<50%),AND(C48="2026Q3",R48<50%)),3, IF(OR(C48="2026Q3",L48<50%,R48<50%),2, 1)) )+T48 -> 2
A49: 125 | B49: Ēku pielāgošana | C49: 2026Q1 | D49: 3.1.2.4.i | E49: Sociālās un profesionālās rehabilitācijas pakalpojumu sinerģiska attīstība personu ar funkcionāliem traucējumiem drošumspējas veicināšanai | F49: =D49 &" "& E49 -> 3.1.2.4.i Sociālās un profesionālās rehabilitācijas pakalpojumu sinerģiska attīstība personu ar funkcionāliem traucējumiem drošumspējas veicināšanai | G49: =INDEX('Grafikam_M&T_Kopā'!E:E,MATCH(A49,'Grafikam_M&T_Kopā'!F:F,0)) -> Investīcija | H49: Labklājības ministrija | I49: =IF(D49="1.1.1.i", SUMIFS(Izejas_dati_finans_maksājumi!H:H,Izejas_dati_finans_maksājumi!B:B,"1.1.1.1.i.2/1/23/I/CFLA/001")+SUMIFS(Izejas_dati_finans_maksājumi!H:H,Izejas_dati_finans_maksājumi!B:B,"1.1.1.1.i.2/2/25/I/CFLA/001"), IF(D49="2.3.1.5.i",SUMIFS(Izejas_dati_finans_maksājumi!H:H,Izejas_dati_finans_maksājumi!B:B,"2.3.1.4.i.0/1/23/I/CFLA/001"), SUMIFS(Izejas_dati_finans_maksājumi!H:H,Izejas_dati_finans_maksājumi!A:A,D49))) -> 6500000 | J49: =IF(D49="1.1.1.i", SUMIFS(Maksājumi_statusa!K:K,Maksājumi_statusa!D:D,"1.1.1.1.i.2/1/23/I/CFLA/001")+SUMIFS(Maksājumi_statusa!K:K,Maksājumi_statusa!D:D,"1.1.1.1.i.2/2/25/I/CFLA/001"), IF(D49="2.3.1.5.i",SUMIFS(Maksājumi_statusa!K:K,Maksājumi_statusa!D:D,"2.3.1.4.i.0/1/23/I/CFLA/001"), SUMIFS(Maksājumi_statusa!K:K,Maksājumi_statusa!C:C,D49))) -> 1593576.1 | K49: =I49-J49 -> 4906423.9 | L49: =IF(G49= "Investīcija",J49/I49,1) -> 0.24516556 | M49: =IF(D49="1.1.1.i", COUNTIFS(Izejas_dati_finans_maksājumi!B:B,"1.1.1.1.i.2/1/23/I/CFLA/001")+COUNTIFS(Izejas_dati_finans_maksājumi!B:B,"1.1.1.1.i.2/2/25/I/CFLA/001"), COUNTIFS(Izejas_dati_finans_maksājumi!A:A,D49)) -> 1 | N49: =INDEX('Grafikam_M&T_Kopā'!H:H,MATCH(A49,'Grafikam_M&T_Kopā'!F:F,0)) -> Ēku pielāgošana 2 adresēs, tostarp pieejamības nodrošināšana un energoefektivitātes uzlabošana, kā arī aprīkojuma iegāde. | O49: =IF(INDEX('Grafikam_M&T_Kopā'!P:P,MATCH(A49,'Grafikam_M&T_Kopā'!F:F,0))= "N", "N/A", INDEX('Grafikam_M&T_Kopā'!P:P,MATCH(A49,'Grafikam_M&T_Kopā'!F:F,0))) -> N/A | P49: =IF(ISNUMBER(INDEX('Grafikam_M&T_Kopā'!M:M,MATCH(A49,'Grafikam_M&T_Kopā'!F:F,0))), INDEX('Grafikam_M&T_Kopā'!M:M,MATCH(A49,'Grafikam_M&T_Kopā'!F:F,0)), INDEX('Grafikam_M&T_Kopā'!N:N,MATCH(A49,'Grafikam_M&T_Kopā'!F:F,0))) -> Ēku pielāgošana 2 adresēs | Q49: =IF(ISNUMBER(INDEX('Grafikam_M&T_Kopā'!M:M,MATCH(A49,'Grafikam_M&T_Kopā'!F:F,0))), INDEX('Grafikam_M&T_Kopā'!S:S,MATCH(A49,'Grafikam_M&T_Kopā'!F:F,0)), INDEX('Grafikam_M&T_Kopā'!O:O,MATCH(A49,'Grafikam_M&T_Kopā'!F:F,0))) -> Procesā | R49: =IFERROR(Q49/P49,"Rādītājs teksta vērtība") -> Rādītājs teksta vērtība | U49: =IF(AND(C49="2026Q3",L49<50%,R49<50%),4, IF(OR(AND(C49="2026Q3",L49<50%),AND(L49<50%,R49<50%),AND(C49="2026Q3",R49<50%)),3, IF(OR(C49="2026Q3",L49<50%,R49<50%),2, 1)) )+T49 -> 2
A50: 62 | B50: Augstākās izglītības studiju programmām paredzētie moduļi | C50: 2026Q3 | D50: 2.3.1.1.i | E50: Padziļinātu digitālo prasmju nodrošināšana | F50: =D50 &" "& E50 -> 2.3.1.1.i Padziļinātu digitālo prasmju nodrošināšana | G50: =INDEX('Grafikam_M&T_Kopā'!E:E,MATCH(A50,'Grafikam_M&T_Kopā'!F:F,0)) -> Investīcija | H50: Izglītības un zinātnes ministrija | I50: =IF(D50="1.1.1.i", SUMIFS(Izejas_dati_finans_maksājumi!H:H,Izejas_dati_finans_maksājumi!B:B,"1.1.1.1.i.2/1/23/I/CFLA/001")+SUMIFS(Izejas_dati_finans_maksājumi!H:H,Izejas_dati_finans_maksājumi!B:B,"1.1.1.1.i.2/2/25/I/CFLA/001"), IF(D50="2.3.1.5.i",SUMIFS(Izejas_dati_finans_maksājumi!H:H,Izejas_dati_finans_maksājumi!B:B,"2.3.1.4.i.0/1/23/I/CFLA/001"), SUMIFS(Izejas_dati_finans_maksājumi!H:H,Izejas_dati_finans_maksājumi!A:A,D50))) -> 17000000 | J50: =IF(D50="1.1.1.i", SUMIFS(Maksājumi_statusa!K:K,Maksājumi_statusa!D:D,"1.1.1.1.i.2/1/23/I/CFLA/001")+SUMIFS(Maksājumi_statusa!K:K,Maksājumi_statusa!D:D,"1.1.1.1.i.2/2/25/I/CFLA/001"), IF(D50="2.3.1.5.i",SUMIFS(Maksājumi_statusa!K:K,Maksājumi_statusa!D:D,"2.3.1.4.i.0/1/23/I/CFLA/001"), SUMIFS(Maksājumi_statusa!K:K,Maksājumi_statusa!C:C,D50))) -> 13035471 | K50: =I50-J50 -> 3964529.3 | L50: =IF(G50= "Investīcija",J50/I50,1) -> 0.7667924 | M50: =IF(D50="1.1.1.i", COUNTIFS(Izejas_dati_finans_maksājumi!B:B,"1.1.1.1.i.2/1/23/I/CFLA/001")+COUNTIFS(Izejas_dati_finans_maksājumi!B:B,"1.1.1.1.i.2/2/25/I/CFLA/001"), COUNTIFS(Izejas_dati_finans_maksājumi!A:A,D50)) -> 3 | N50: =INDEX('Grafikam_M&T_Kopā'!H:H,MATCH(A50,'Grafikam_M&T_Kopā'!F:F,0)) -> Augstākās izglītības studiju programmām tiks izstrādāti 20 moduļi, piemēram, augstas veiktspējas skaitļošanas, kvantu tehnoloģiju un valodu tehnoloģiju jomā. | O50: =IF(INDEX('Grafikam_M&T_Kopā'!P:P,MATCH(A50,'Grafikam_M&T_Kopā'!F:F,0))= "N", "N/A", INDEX('Grafikam_M&T_Kopā'!P:P,MATCH(A50,'Grafikam_M&T_Kopā'!F:F,0))) -> Skaits | P50: =IF(ISNUMBER(INDEX('Grafikam_M&T_Kopā'!M:M,MATCH(A50,'Grafikam_M&T_Kopā'!F:F,0))), INDEX('Grafikam_M&T_Kopā'!M:M,MATCH(A50,'Grafikam_M&T_Kopā'!F:F,0)), INDEX('Grafikam_M&T_Kopā'!N:N,MATCH(A50,'Grafikam_M&T_Kopā'!F:F,0))) -> 20 | Q50: =IF(ISNUMBER(INDEX('Grafikam_M&T_Kopā'!M:M,MATCH(A50,'Grafikam_M&T_Kopā'!F:F,0))), INDEX('Grafikam_M&T_Kopā'!S:S,MATCH(A50,'Grafikam_M&T_Kopā'!F:F,0)), INDEX('Grafikam_M&T_Kopā'!O:O,MATCH(A50,'Grafikam_M&T_Kopā'!F:F,0))) -> 20 | R50: =IFERROR(Q50/P50,"Rādītājs teksta vērtība") -> 1 | U50: =IF(AND(C50="2026Q3",L50<50%,R50<50%),4, IF(OR(AND(C50="2026Q3",L50<50%),AND(L50<50%,R50<50%),AND(C50="2026Q3",R50<50%)),3, IF(OR(C50="2026Q3",L50<50%,R50<50%),2, 1)) )+T50 -> 2
A51: 79a | B51: IKT aprīkojuma iegāde | C51: 2026Q3 | D51: 2.3.2.3.i | E51: Digitālās plaisas mazināšana sociāli neaizsargātajām grupām un izglītības iestādēs | F51: =D51 &" "& E51 -> 2.3.2.3.i Digitālās plaisas mazināšana sociāli neaizsargātajām grupām un izglītības iestādēs | G51: =INDEX('Grafikam_M&T_Kopā'!E:E,MATCH(A51,'Grafikam_M&T_Kopā'!F:F,0)) -> Investīcija | H51: Izglītības un zinātnes ministrija | I51: =IF(D51="1.1.1.i", SUMIFS(Izejas_dati_finans_maksājumi!H:H,Izejas_dati_finans_maksājumi!B:B,"1.1.1.1.i.2/1/23/I/CFLA/001")+SUMIFS(Izejas_dati_finans_maksājumi!H:H,Izejas_dati_finans_maksājumi!B:B,"1.1.1.1.i.2/2/25/I/CFLA/001"), IF(D51="2.3.1.5.i",SUMIFS(Izejas_dati_finans_maksājumi!H:H,Izejas_dati_finans_maksājumi!B:B,"2.3.1.4.i.0/1/23/I/CFLA/001"), SUMIFS(Izejas_dati_finans_maksājumi!H:H,Izejas_dati_finans_maksājumi!A:A,D51))) -> 15000000 | J51: =IF(D51="1.1.1.i", SUMIFS(Maksājumi_statusa!K:K,Maksājumi_statusa!D:D,"1.1.1.1.i.2/1/23/I/CFLA/001")+SUMIFS(Maksājumi_statusa!K:K,Maksājumi_statusa!D:D,"1.1.1.1.i.2/2/25/I/CFLA/001"), IF(D51="2.3.1.5.i",SUMIFS(Maksājumi_statusa!K:K,Maksājumi_statusa!D:D,"2.3.1.4.i.0/1/23/I/CFLA/001"), SUMIFS(Maksājumi_statusa!K:K,Maksājumi_statusa!C:C,D51))) -> 11336348 | K51: =I51-J51 -> 3663652.1 | L51: =IF(G51= "Investīcija",J51/I51,1) -> 0.75575653 | M51: =IF(D51="1.1.1.i", COUNTIFS(Izejas_dati_finans_maksājumi!B:B,"1.1.1.1.i.2/1/23/I/CFLA/001")+COUNTIFS(Izejas_dati_finans_maksājumi!B:B,"1.1.1.1.i.2/2/25/I/CFLA/001"), COUNTIFS(Izejas_dati_finans_maksājumi!A:A,D51)) -> 1 | N51: =INDEX('Grafikam_M&T_Kopā'!H:H,MATCH(A51,'Grafikam_M&T_Kopā'!F:F,0)) -> Izglītības un zinātnes ministrijas parakstīts rēķins(i) par IKT iekārtu iegādi par vismaz 3 miljoniem eiro. | O51: =IF(INDEX('Grafikam_M&T_Kopā'!P:P,MATCH(A51,'Grafikam_M&T_Kopā'!F:F,0))= "N", "N/A", INDEX('Grafikam_M&T_Kopā'!P:P,MATCH(A51,'Grafikam_M&T_Kopā'!F:F,0))) -> N/A | P51: =IF(ISNUMBER(INDEX('Grafikam_M&T_Kopā'!M:M,MATCH(A51,'Grafikam_M&T_Kopā'!F:F,0))), INDEX('Grafikam_M&T_Kopā'!M:M,MATCH(A51,'Grafikam_M&T_Kopā'!F:F,0)), INDEX('Grafikam_M&T_Kopā'!N:N,MATCH(A51,'Grafikam_M&T_Kopā'!F:F,0))) -> Rēķini | Q51: =IF(ISNUMBER(INDEX('Grafikam_M&T_Kopā'!M:M,MATCH(A51,'Grafikam_M&T_Kopā'!F:F,0))), INDEX('Grafikam_M&T_Kopā'!S:S,MATCH(A51,'Grafikam_M&T_Kopā'!F:F,0)), INDEX('Grafikam_M&T_Kopā'!O:O,MATCH(A51,'Grafikam_M&T_Kopā'!F:F,0))) -> Procesā | R51: =IFERROR(Q51/P51,"Rādītājs teksta vērtība") -> Rādītājs teksta vērtība | U51: =IF(AND(C51="2026Q3",L51<50%,R51<50%),4, IF(OR(AND(C51="2026Q3",L51<50%),AND(L51<50%,R51<50%),AND(C51="2026Q3",R51<50%)),3, IF(OR(C51="2026Q3",L51<50%,R51<50%),2, 1)) )+T51 -> 2
A52: 176 | B52: Dzelzceļa skeneri, kas savienoti ar BAXE informācijas sistēmu | C52: 2026Q1 | D52: 6.1.2.1.i | E52: Dzelzceļa rentgeniekārtu sasaiste ar BAXE un mākslīgā intelekta izmantošana dzelzceļu kravu skenēšanas attēlu analīzei | F52: =D52 &" "& E52 -> 6.1.2.1.i Dzelzceļa rentgeniekārtu sasaiste ar BAXE un mākslīgā intelekta izmantošana dzelzceļu kravu skenēšanas attēlu analīzei | G52: =INDEX('Grafikam_M&T_Kopā'!E:E,MATCH(A52,'Grafikam_M&T_Kopā'!F:F,0)) -> Investīcija | H52: Finanšu ministrija | I52: =IF(D52="1.1.1.i", SUMIFS(Izejas_dati_finans_maksājumi!H:H,Izejas_dati_finans_maksājumi!B:B,"1.1.1.1.i.2/1/23/I/CFLA/001")+SUMIFS(Izejas_dati_finans_maksājumi!H:H,Izejas_dati_finans_maksājumi!B:B,"1.1.1.1.i.2/2/25/I/CFLA/001"), IF(D52="2.3.1.5.i",SUMIFS(Izejas_dati_finans_maksājumi!H:H,Izejas_dati_finans_maksājumi!B:B,"2.3.1.4.i.0/1/23/I/CFLA/001"), SUMIFS(Izejas_dati_finans_maksājumi!H:H,Izejas_dati_finans_maksājumi!A:A,D52))) -> 3000000 | J52: =IF(D52="1.1.1.i", SUMIFS(Maksājumi_statusa!K:K,Maksājumi_statusa!D:D,"1.1.1.1.i.2/1/23/I/CFLA/001")+SUMIFS(Maksājumi_statusa!K:K,Maksājumi_statusa!D:D,"1.1.1.1.i.2/2/25/I/CFLA/001"), IF(D52="2.3.1.5.i",SUMIFS(Maksājumi_statusa!K:K,Maksājumi_statusa!D:D,"2.3.1.4.i.0/1/23/I/CFLA/001"), SUMIFS(Maksājumi_statusa!K:K,Maksājumi_statusa!C:C,D52))) -> 0 | K52: =I52-J52 -> 3000000 | L52: =IF(G52= "Investīcija",J52/I52,1) -> 0 | M52: =IF(D52="1.1.1.i", COUNTIFS(Izejas_dati_finans_maksājumi!B:B,"1.1.1.1.i.2/1/23/I/CFLA/001")+COUNTIFS(Izejas_dati_finans_maksājumi!B:B,"1.1.1.1.i.2/2/25/I/CFLA/001"), COUNTIFS(Izejas_dati_finans_maksājumi!A:A,D52)) -> 1 | N52: =INDEX('Grafikam_M&T_Kopā'!H:H,MATCH(A52,'Grafikam_M&T_Kopā'!F:F,0)) -> Parakstīts(-i) pabeigšanas sertifikāts(-i) dzelzceļa skeneru pieslēgšanai BAXE informācijas sistēmai muitas kontroles punktos Indrā un Kārsavā. | O52: =IF(INDEX('Grafikam_M&T_Kopā'!P:P,MATCH(A52,'Grafikam_M&T_Kopā'!F:F,0))= "N", "N/A", INDEX('Grafikam_M&T_Kopā'!P:P,MATCH(A52,'Grafikam_M&T_Kopā'!F:F,0))) -> N/A | P52: =IF(ISNUMBER(INDEX('Grafikam_M&T_Kopā'!M:M,MATCH(A52,'Grafikam_M&T_Kopā'!F:F,0))), INDEX('Grafikam_M&T_Kopā'!M:M,MATCH(A52,'Grafikam_M&T_Kopā'!F:F,0)), INDEX('Grafikam_M&T_Kopā'!N:N,MATCH(A52,'Grafikam_M&T_Kopā'!F:F,0))) -> Parakstīts pieņemšanas akts | Q52: =IF(ISNUMBER(INDEX('Grafikam_M&T_Kopā'!M:M,MATCH(A52,'Grafikam_M&T_Kopā'!F:F,0))), INDEX('Grafikam_M&T_Kopā'!S:S,MATCH(A52,'Grafikam_M&T_Kopā'!F:F,0)), INDEX('Grafikam_M&T_Kopā'!O:O,MATCH(A52,'Grafikam_M&T_Kopā'!F:F,0))) -> Procesā | R52: =IFERROR(Q52/P52,"Rādītājs teksta vērtība") -> Rādītājs teksta vērtība | U52: =IF(AND(C52="2026Q3",L52<50%,R52<50%),4, IF(OR(AND(C52="2026Q3",L52<50%),AND(L52<50%,R52<50%),AND(C52="2026Q3",R52<50%)),3, IF(OR(C52="2026Q3",L52<50%,R52<50%),2, 1)) )+T52 -> 2
A53: 130a | B53: 7,2 miljoni eiro piešķirti NRC “Vaivari”, lai sekmētu tehnisko palīglīdzekļu pieejamību | C53: 2026Q2 | D53: 3.1.2.6.i | E53: Tehnisko palīglīdzekļu pieejamības sekmēšana | F53: =D53 &" "& E53 -> 3.1.2.6.i Tehnisko palīglīdzekļu pieejamības sekmēšana | G53: =INDEX('Grafikam_M&T_Kopā'!E:E,MATCH(A53,'Grafikam_M&T_Kopā'!F:F,0)) -> Investīcija | H53: Labklājības ministrija | I53: =IF(D53="1.1.1.i", SUMIFS(Izejas_dati_finans_maksājumi!H:H,Izejas_dati_finans_maksājumi!B:B,"1.1.1.1.i.2/1/23/I/CFLA/001")+SUMIFS(Izejas_dati_finans_maksājumi!H:H,Izejas_dati_finans_maksājumi!B:B,"1.1.1.1.i.2/2/25/I/CFLA/001"), IF(D53="2.3.1.5.i",SUMIFS(Izejas_dati_finans_maksājumi!H:H,Izejas_dati_finans_maksājumi!B:B,"2.3.1.4.i.0/1/23/I/CFLA/001"), SUMIFS(Izejas_dati_finans_maksājumi!H:H,Izejas_dati_finans_maksājumi!A:A,D53))) -> 7196909 | J53: =IF(D53="1.1.1.i", SUMIFS(Maksājumi_statusa!K:K,Maksājumi_statusa!D:D,"1.1.1.1.i.2/1/23/I/CFLA/001")+SUMIFS(Maksājumi_statusa!K:K,Maksājumi_statusa!D:D,"1.1.1.1.i.2/2/25/I/CFLA/001"), IF(D53="2.3.1.5.i",SUMIFS(Maksājumi_statusa!K:K,Maksājumi_statusa!D:D,"2.3.1.4.i.0/1/23/I/CFLA/001"), SUMIFS(Maksājumi_statusa!K:K,Maksājumi_statusa!C:C,D53))) -> 4770129.3 | K53: =I53-J53 -> 2426779.7 | L53: =IF(G53= "Investīcija",J53/I53,1) -> 0.66280251 | M53: =IF(D53="1.1.1.i", COUNTIFS(Izejas_dati_finans_maksājumi!B:B,"1.1.1.1.i.2/1/23/I/CFLA/001")+COUNTIFS(Izejas_dati_finans_maksājumi!B:B,"1.1.1.1.i.2/2/25/I/CFLA/001"), COUNTIFS(Izejas_dati_finans_maksājumi!A:A,D53)) -> 1 | N53: =INDEX('Grafikam_M&T_Kopā'!H:H,MATCH(A53,'Grafikam_M&T_Kopā'!F:F,0)) -> Centrālās finanšu un līgumu aģentūras vēstule nozares ministrijai, kurā tā informē par veiktajiem maksājumiem finansējuma saņēmējam un izdrukas no KP VIS, kas apliecina, kādu finansējuma apmēru ir pieprasījis finansējuma saņēmējs un par kādu Centrālā finanšu un līgumu aģentūra ir veikusi maksājumus | O53: =IF(INDEX('Grafikam_M&T_Kopā'!P:P,MATCH(A53,'Grafikam_M&T_Kopā'!F:F,0))= "N", "N/A", INDEX('Grafikam_M&T_Kopā'!P:P,MATCH(A53,'Grafikam_M&T_Kopā'!F:F,0))) -> miljoni EUR | P53: =IF(ISNUMBER(INDEX('Grafikam_M&T_Kopā'!M:M,MATCH(A53,'Grafikam_M&T_Kopā'!F:F,0))), INDEX('Grafikam_M&T_Kopā'!M:M,MATCH(A53,'Grafikam_M&T_Kopā'!F:F,0)), INDEX('Grafikam_M&T_Kopā'!N:N,MATCH(A53,'Grafikam_M&T_Kopā'!F:F,0))) -> 7.2 | Q53: =IF(ISNUMBER(INDEX('Grafikam_M&T_Kopā'!M:M,MATCH(A53,'Grafikam_M&T_Kopā'!F:F,0))), INDEX('Grafikam_M&T_Kopā'!S:S,MATCH(A53,'Grafikam_M&T_Kopā'!F:F,0)), INDEX('Grafikam_M&T_Kopā'!O:O,MATCH(A53,'Grafikam_M&T_Kopā'!F:F,0))) -> 2.9 | R53: =IFERROR(Q53/P53,"Rādītājs teksta vērtība") -> 0.40277778 | U53: =IF(AND(C53="2026Q3",L53<50%,R53<50%),4, IF(OR(AND(C53="2026Q3",L53<50%),AND(L53<50%,R53<50%),AND(C53="2026Q3",R53<50%)),3, IF(OR(C53="2026Q3",L53<50%,R53<50%),2, 1)) )+T53 -> 2
A54: 120 | B54: Prognozēšanas rīka izstrāde | C54: 2026Q1 | D54: 3.1.2.2.i | E54: Prognozēšanas rīka izstrāde | F54: =D54 &" "& E54 -> 3.1.2.2.i Prognozēšanas rīka izstrāde | G54: =INDEX('Grafikam_M&T_Kopā'!E:E,MATCH(A54,'Grafikam_M&T_Kopā'!F:F,0)) -> Investīcija | H54: Labklājības ministrija | I54: =IF(D54="1.1.1.i", SUMIFS(Izejas_dati_finans_maksājumi!H:H,Izejas_dati_finans_maksājumi!B:B,"1.1.1.1.i.2/1/23/I/CFLA/001")+SUMIFS(Izejas_dati_finans_maksājumi!H:H,Izejas_dati_finans_maksājumi!B:B,"1.1.1.1.i.2/2/25/I/CFLA/001"), IF(D54="2.3.1.5.i",SUMIFS(Izejas_dati_finans_maksājumi!H:H,Izejas_dati_finans_maksājumi!B:B,"2.3.1.4.i.0/1/23/I/CFLA/001"), SUMIFS(Izejas_dati_finans_maksājumi!H:H,Izejas_dati_finans_maksājumi!A:A,D54))) -> 1563985 | J54: =IF(D54="1.1.1.i", SUMIFS(Maksājumi_statusa!K:K,Maksājumi_statusa!D:D,"1.1.1.1.i.2/1/23/I/CFLA/001")+SUMIFS(Maksājumi_statusa!K:K,Maksājumi_statusa!D:D,"1.1.1.1.i.2/2/25/I/CFLA/001"), IF(D54="2.3.1.5.i",SUMIFS(Maksājumi_statusa!K:K,Maksājumi_statusa!D:D,"2.3.1.4.i.0/1/23/I/CFLA/001"), SUMIFS(Maksājumi_statusa!K:K,Maksājumi_statusa!C:C,D54))) -> 315022.1 | K54: =I54-J54 -> 1248962.9 | L54: =IF(G54= "Investīcija",J54/I54,1) -> 0.20142271 | M54: =IF(D54="1.1.1.i", COUNTIFS(Izejas_dati_finans_maksājumi!B:B,"1.1.1.1.i.2/1/23/I/CFLA/001")+COUNTIFS(Izejas_dati_finans_maksājumi!B:B,"1.1.1.1.i.2/2/25/I/CFLA/001"), COUNTIFS(Izejas_dati_finans_maksājumi!A:A,D54)) -> 1 | N54: =INDEX('Grafikam_M&T_Kopā'!H:H,MATCH(A54,'Grafikam_M&T_Kopā'!F:F,0)) -> Ir parakstīts pieņemšanas – nodošanas akts starp Labklājības ministriju un programmatūras izstrādātāju par informācijas sistēmas izstrādi sociālās drošības sistēmas ilgtermiņa prognozēm. | O54: =IF(INDEX('Grafikam_M&T_Kopā'!P:P,MATCH(A54,'Grafikam_M&T_Kopā'!F:F,0))= "N", "N/A", INDEX('Grafikam_M&T_Kopā'!P:P,MATCH(A54,'Grafikam_M&T_Kopā'!F:F,0))) -> N/A | P54: =IF(ISNUMBER(INDEX('Grafikam_M&T_Kopā'!M:M,MATCH(A54,'Grafikam_M&T_Kopā'!F:F,0))), INDEX('Grafikam_M&T_Kopā'!M:M,MATCH(A54,'Grafikam_M&T_Kopā'!F:F,0)), INDEX('Grafikam_M&T_Kopā'!N:N,MATCH(A54,'Grafikam_M&T_Kopā'!F:F,0))) -> Izstrādāta informācijas sistēma sociālās drošības sistēmas ilgtermiņa prognozēm | Q54: =IF(ISNUMBER(INDEX('Grafikam_M&T_Kopā'!M:M,MATCH(A54,'Grafikam_M&T_Kopā'!F:F,0))), INDEX('Grafikam_M&T_Kopā'!S:S,MATCH(A54,'Grafikam_M&T_Kopā'!F:F,0)), INDEX('Grafikam_M&T_Kopā'!O:O,MATCH(A54,'Grafikam_M&T_Kopā'!F:F,0))) -> Procesā | R54: =IFERROR(Q54/P54,"Rādītājs teksta vērtība") -> Rādītājs teksta vērtība | U54: =IF(AND(C54="2026Q3",L54<50%,R54<50%),4, IF(OR(AND(C54="2026Q3",L54<50%),AND(L54<50%,R54<50%),AND(C54="2026Q3",R54<50%)),3, IF(OR(C54="2026Q3",L54<50%,R54<50%),2, 1)) )+T54 -> 2
A55: 142 | B55: Sekundārās ambulatorās veselības aprūpes pakalpojumu sniedzēji | C55: 2026Q3 | D55: 4.1.1.3.i | E55: Atbalsts sekundāro ambulatoro veselības aprūpes pakalpojumu sniedzēju infrastruktūrai vai aprīkojumam | F55: =D55 &" "& E55 -> 4.1.1.3.i Atbalsts sekundāro ambulatoro veselības aprūpes pakalpojumu sniedzēju infrastruktūrai vai aprīkojumam | G55: =INDEX('Grafikam_M&T_Kopā'!E:E,MATCH(A55,'Grafikam_M&T_Kopā'!F:F,0)) -> Investīcija | H55: Veselības ministrija | I55: =IF(D55="1.1.1.i", SUMIFS(Izejas_dati_finans_maksājumi!H:H,Izejas_dati_finans_maksājumi!B:B,"1.1.1.1.i.2/1/23/I/CFLA/001")+SUMIFS(Izejas_dati_finans_maksājumi!H:H,Izejas_dati_finans_maksājumi!B:B,"1.1.1.1.i.2/2/25/I/CFLA/001"), IF(D55="2.3.1.5.i",SUMIFS(Izejas_dati_finans_maksājumi!H:H,Izejas_dati_finans_maksājumi!B:B,"2.3.1.4.i.0/1/23/I/CFLA/001"), SUMIFS(Izejas_dati_finans_maksājumi!H:H,Izejas_dati_finans_maksājumi!A:A,D55))) -> 7704631.5 | J55: =IF(D55="1.1.1.i", SUMIFS(Maksājumi_statusa!K:K,Maksājumi_statusa!D:D,"1.1.1.1.i.2/1/23/I/CFLA/001")+SUMIFS(Maksājumi_statusa!K:K,Maksājumi_statusa!D:D,"1.1.1.1.i.2/2/25/I/CFLA/001"), IF(D55="2.3.1.5.i",SUMIFS(Maksājumi_statusa!K:K,Maksājumi_statusa!D:D,"2.3.1.4.i.0/1/23/I/CFLA/001"), SUMIFS(Maksājumi_statusa!K:K,Maksājumi_statusa!C:C,D55))) -> 6735768.2 | K55: =I55-J55 -> 968863.28 | L55: =IF(G55= "Investīcija",J55/I55,1) -> 0.87424924 | M55: =IF(D55="1.1.1.i", COUNTIFS(Izejas_dati_finans_maksājumi!B:B,"1.1.1.1.i.2/1/23/I/CFLA/001")+COUNTIFS(Izejas_dati_finans_maksājumi!B:B,"1.1.1.1.i.2/2/25/I/CFLA/001"), COUNTIFS(Izejas_dati_finans_maksājumi!A:A,D55)) -> 43 | N55: =INDEX('Grafikam_M&T_Kopā'!H:H,MATCH(A55,'Grafikam_M&T_Kopā'!F:F,0)) -> Centrālās finanšu un līgumu aģentūras izdotas pabeigšanas vēstules par 20 sekundāro ambulatoro pakalpojumu sniedzēju pabeigtajiem projektiem attiecībā uz infrastruktūru un aprīkojumu. | O55: =IF(INDEX('Grafikam_M&T_Kopā'!P:P,MATCH(A55,'Grafikam_M&T_Kopā'!F:F,0))= "N", "N/A", INDEX('Grafikam_M&T_Kopā'!P:P,MATCH(A55,'Grafikam_M&T_Kopā'!F:F,0))) -> Skaits | P55: =IF(ISNUMBER(INDEX('Grafikam_M&T_Kopā'!M:M,MATCH(A55,'Grafikam_M&T_Kopā'!F:F,0))), INDEX('Grafikam_M&T_Kopā'!M:M,MATCH(A55,'Grafikam_M&T_Kopā'!F:F,0)), INDEX('Grafikam_M&T_Kopā'!N:N,MATCH(A55,'Grafikam_M&T_Kopā'!F:F,0))) -> 40 | Q55: =IF(ISNUMBER(INDEX('Grafikam_M&T_Kopā'!M:M,MATCH(A55,'Grafikam_M&T_Kopā'!F:F,0))), INDEX('Grafikam_M&T_Kopā'!S:S,MATCH(A55,'Grafikam_M&T_Kopā'!F:F,0)), INDEX('Grafikam_M&T_Kopā'!O:O,MATCH(A55,'Grafikam_M&T_Kopā'!F:F,0))) -> 27 | R55: =IFERROR(Q55/P55,"Rādītājs teksta vērtība") -> 0.675 | U55: =IF(AND(C55="2026Q3",L55<50%,R55<50%),4, IF(OR(AND(C55="2026Q3",L55<50%),AND(L55<50%,R55<50%),AND(C55="2026Q3",R55<50%)),3, IF(OR(C55="2026Q3",L55<50%,R55<50%),2, 1)) )+T55 -> 2
A56: 137 | B56: Sabiedrības veselības politika, kas izstrādāta pēc pētījumiem antimikrobiālās rezistences (AMR), nevakcinācijas iemeslu un infekcijas slimību jomā. | C56: 2026Q3 | D56: 4.1.1.1.i | E56: Atbalsts sabiedrības veselības pētījumu veikšanai | F56: =D56 &" "& E56 -> 4.1.1.1.i Atbalsts sabiedrības veselības pētījumu veikšanai | G56: =INDEX('Grafikam_M&T_Kopā'!E:E,MATCH(A56,'Grafikam_M&T_Kopā'!F:F,0)) -> Investīcija | H56: Veselības ministrija | I56: =IF(D56="1.1.1.i", SUMIFS(Izejas_dati_finans_maksājumi!H:H,Izejas_dati_finans_maksājumi!B:B,"1.1.1.1.i.2/1/23/I/CFLA/001")+SUMIFS(Izejas_dati_finans_maksājumi!H:H,Izejas_dati_finans_maksājumi!B:B,"1.1.1.1.i.2/2/25/I/CFLA/001"), IF(D56="2.3.1.5.i",SUMIFS(Izejas_dati_finans_maksājumi!H:H,Izejas_dati_finans_maksājumi!B:B,"2.3.1.4.i.0/1/23/I/CFLA/001"), SUMIFS(Izejas_dati_finans_maksājumi!H:H,Izejas_dati_finans_maksājumi!A:A,D56))) -> 715000 | J56: =IF(D56="1.1.1.i", SUMIFS(Maksājumi_statusa!K:K,Maksājumi_statusa!D:D,"1.1.1.1.i.2/1/23/I/CFLA/001")+SUMIFS(Maksājumi_statusa!K:K,Maksājumi_statusa!D:D,"1.1.1.1.i.2/2/25/I/CFLA/001"), IF(D56="2.3.1.5.i",SUMIFS(Maksājumi_statusa!K:K,Maksājumi_statusa!D:D,"2.3.1.4.i.0/1/23/I/CFLA/001"), SUMIFS(Maksājumi_statusa!K:K,Maksājumi_statusa!C:C,D56))) -> 470599.33 | K56: =I56-J56 -> 244400.67 | L56: =IF(G56= "Investīcija",J56/I56,1) -> 0.65818088 | M56: =IF(D56="1.1.1.i", COUNTIFS(Izejas_dati_finans_maksājumi!B:B,"1.1.1.1.i.2/1/23/I/CFLA/001")+COUNTIFS(Izejas_dati_finans_maksājumi!B:B,"1.1.1.1.i.2/2/25/I/CFLA/001"), COUNTIFS(Izejas_dati_finans_maksājumi!A:A,D56)) -> 1 | N56: =INDEX('Grafikam_M&T_Kopā'!H:H,MATCH(A56,'Grafikam_M&T_Kopā'!F:F,0)) -> Pēc veiktajiem pētījumiem antimikrobiālās rezistences (AMR) jomā, par nevakcinācijas iemesliem un infekcijas slimībām, spēkā stājas grozījumi tiesību aktos, kas saistīti ar sabiedrības veselības politiku, vai tiek publicēti ieteikumi vai vadlīnijas slimnīcām vai mērķgrupām. | O56: =IF(INDEX('Grafikam_M&T_Kopā'!P:P,MATCH(A56,'Grafikam_M&T_Kopā'!F:F,0))= "N", "N/A", INDEX('Grafikam_M&T_Kopā'!P:P,MATCH(A56,'Grafikam_M&T_Kopā'!F:F,0))) -> N/A | P56: =IF(ISNUMBER(INDEX('Grafikam_M&T_Kopā'!M:M,MATCH(A56,'Grafikam_M&T_Kopā'!F:F,0))), INDEX('Grafikam_M&T_Kopā'!M:M,MATCH(A56,'Grafikam_M&T_Kopā'!F:F,0)), INDEX('Grafikam_M&T_Kopā'!N:N,MATCH(A56,'Grafikam_M&T_Kopā'!F:F,0))) -> Veikti grozījumi tiesību aktos un publicēti dokumenti sabiedrības veselības politikas jomā. | Q56: =IF(ISNUMBER(INDEX('Grafikam_M&T_Kopā'!M:M,MATCH(A56,'Grafikam_M&T_Kopā'!F:F,0))), INDEX('Grafikam_M&T_Kopā'!S:S,MATCH(A56,'Grafikam_M&T_Kopā'!F:F,0)), INDEX('Grafikam_M&T_Kopā'!O:O,MATCH(A56,'Grafikam_M&T_Kopā'!F:F,0))) -> Procesā | R56: =IFERROR(Q56/P56,"Rādītājs teksta vērtība") -> Rādītājs teksta vērtība | U56: =IF(AND(C56="2026Q3",L56<50%,R56<50%),4, IF(OR(AND(C56="2026Q3",L56<50%),AND(L56<50%,R56<50%),AND(C56="2026Q3",R56<50%)),3, IF(OR(C56="2026Q3",L56<50%,R56<50%),2, 1)) )+T56 -> 2
A57: 61 | B57: Individuālo mācību kontu pieeja | C57: 2026Q3 | D57: 2.3.1.r IZM | E57: Ilgtspējīgas un sociāli atbildīgas atbalsta sistēmas pieaugušo izglītībai attīstība | F57: =D57 &" "& E57 -> 2.3.1.r IZM Ilgtspējīgas un sociāli atbildīgas atbalsta sistēmas pieaugušo izglītībai attīstība | G57: =INDEX('Grafikam_M&T_Kopā'!E:E,MATCH(A57,'Grafikam_M&T_Kopā'!F:F,0)) -> Reforma | H57: Izglītības un zinātnes ministrija | I57: =IF(D57="1.1.1.i", SUMIFS(Izejas_dati_finans_maksājumi!H:H,Izejas_dati_finans_maksājumi!B:B,"1.1.1.1.i.2/1/23/I/CFLA/001")+SUMIFS(Izejas_dati_finans_maksājumi!H:H,Izejas_dati_finans_maksājumi!B:B,"1.1.1.1.i.2/2/25/I/CFLA/001"), IF(D57="2.3.1.5.i",SUMIFS(Izejas_dati_finans_maksājumi!H:H,Izejas_dati_finans_maksājumi!B:B,"2.3.1.4.i.0/1/23/I/CFLA/001"), SUMIFS(Izejas_dati_finans_maksājumi!H:H,Izejas_dati_finans_maksājumi!A:A,D57))) -> 0 | J57: =IF(D57="1.1.1.i", SUMIFS(Maksājumi_statusa!K:K,Maksājumi_statusa!D:D,"1.1.1.1.i.2/1/23/I/CFLA/001")+SUMIFS(Maksājumi_statusa!K:K,Maksājumi_statusa!D:D,"1.1.1.1.i.2/2/25/I/CFLA/001"), IF(D57="2.3.1.5.i",SUMIFS(Maksājumi_statusa!K:K,Maksājumi_statusa!D:D,"2.3.1.4.i.0/1/23/I/CFLA/001"), SUMIFS(Maksājumi_statusa!K:K,Maksājumi_statusa!C:C,D57))) -> 0 | K57: =I57-J57 -> 0 | L57: =IF(G57= "Investīcija",J57/I57,1) -> 1 | M57: =IF(D57="1.1.1.i", COUNTIFS(Izejas_dati_finans_maksājumi!B:B,"1.1.1.1.i.2/1/23/I/CFLA/001")+COUNTIFS(Izejas_dati_finans_maksājumi!B:B,"1.1.1.1.i.2/2/25/I/CFLA/001"), COUNTIFS(Izejas_dati_finans_maksājumi!A:A,D57)) -> 0 | N57: =INDEX('Grafikam_M&T_Kopā'!H:H,MATCH(A57,'Grafikam_M&T_Kopā'!F:F,0)) -> Izglītības un zinātnes ministrija publicē individuālā mācību konta pieejas novērtējumu, tostarp neatkarīga auditora analīzi. | O57: =IF(INDEX('Grafikam_M&T_Kopā'!P:P,MATCH(A57,'Grafikam_M&T_Kopā'!F:F,0))= "N", "N/A", INDEX('Grafikam_M&T_Kopā'!P:P,MATCH(A57,'Grafikam_M&T_Kopā'!F:F,0))) -> N/A | P57: =IF(ISNUMBER(INDEX('Grafikam_M&T_Kopā'!M:M,MATCH(A57,'Grafikam_M&T_Kopā'!F:F,0))), INDEX('Grafikam_M&T_Kopā'!M:M,MATCH(A57,'Grafikam_M&T_Kopā'!F:F,0)), INDEX('Grafikam_M&T_Kopā'!N:N,MATCH(A57,'Grafikam_M&T_Kopā'!F:F,0))) -> Izglītības un zinātnes ministrijas publicētais vērtējums | Q57: =IF(ISNUMBER(INDEX('Grafikam_M&T_Kopā'!M:M,MATCH(A57,'Grafikam_M&T_Kopā'!F:F,0))), INDEX('Grafikam_M&T_Kopā'!S:S,MATCH(A57,'Grafikam_M&T_Kopā'!F:F,0)), INDEX('Grafikam_M&T_Kopā'!O:O,MATCH(A57,'Grafikam_M&T_Kopā'!F:F,0))) -> Procesā | R57: =IFERROR(Q57/P57,"Rādītājs teksta vērtība") -> Rādītājs teksta vērtība | U57: =IF(AND(C57="2026Q3",L57<50%,R57<50%),4, IF(OR(AND(C57="2026Q3",L57<50%),AND(L57<50%,R57<50%),AND(C57="2026Q3",R57<50%)),3, IF(OR(C57="2026Q3",L57<50%,R57<50%),2, 1)) )+T57 -> 2
A58: 225 | B58: Apakšstacijas | C58: 2026Q2 | D58: 7.1.1.2.i | E58: Elektroenerģijas pārvades un sadales tīklu modernizācija | F58: =D58 &" "& E58 -> 7.1.1.2.i Elektroenerģijas pārvades un sadales tīklu modernizācija | G58: =INDEX('Grafikam_M&T_Kopā'!E:E,MATCH(A58,'Grafikam_M&T_Kopā'!F:F,0)) -> Investīcija | H58: Klimata un enerģētikas ministrija | I58: =IF(D58="1.1.1.i", SUMIFS(Izejas_dati_finans_maksājumi!H:H,Izejas_dati_finans_maksājumi!B:B,"1.1.1.1.i.2/1/23/I/CFLA/001")+SUMIFS(Izejas_dati_finans_maksājumi!H:H,Izejas_dati_finans_maksājumi!B:B,"1.1.1.1.i.2/2/25/I/CFLA/001"), IF(D58="2.3.1.5.i",SUMIFS(Izejas_dati_finans_maksājumi!H:H,Izejas_dati_finans_maksājumi!B:B,"2.3.1.4.i.0/1/23/I/CFLA/001"), SUMIFS(Izejas_dati_finans_maksājumi!H:H,Izejas_dati_finans_maksājumi!A:A,D58))) -> 72900000 | J58: =IF(D58="1.1.1.i", SUMIFS(Maksājumi_statusa!K:K,Maksājumi_statusa!D:D,"1.1.1.1.i.2/1/23/I/CFLA/001")+SUMIFS(Maksājumi_statusa!K:K,Maksājumi_statusa!D:D,"1.1.1.1.i.2/2/25/I/CFLA/001"), IF(D58="2.3.1.5.i",SUMIFS(Maksājumi_statusa!K:K,Maksājumi_statusa!D:D,"2.3.1.4.i.0/1/23/I/CFLA/001"), SUMIFS(Maksājumi_statusa!K:K,Maksājumi_statusa!C:C,D58))) -> 44519233 | K58: =I58-J58 -> 28380767 | L58: =IF(G58= "Investīcija",J58/I58,1) -> 0.61068907 | M58: =IF(D58="1.1.1.i", COUNTIFS(Izejas_dati_finans_maksājumi!B:B,"1.1.1.1.i.2/1/23/I/CFLA/001")+COUNTIFS(Izejas_dati_finans_maksājumi!B:B,"1.1.1.1.i.2/2/25/I/CFLA/001"), COUNTIFS(Izejas_dati_finans_maksājumi!A:A,D58)) -> 2 | N58: =INDEX('Grafikam_M&T_Kopā'!H:H,MATCH(A58,'Grafikam_M&T_Kopā'!F:F,0)) -> 1) Parakstīts pabeigšanas sertifikāts par digitālo apakšstaciju Kuldīgā 2) Parakstīts pabeigšanas sertifikāts par Carnikavas apakšstacijas atjaunošanu. | O58: =IF(INDEX('Grafikam_M&T_Kopā'!P:P,MATCH(A58,'Grafikam_M&T_Kopā'!F:F,0))= "N", "N/A", INDEX('Grafikam_M&T_Kopā'!P:P,MATCH(A58,'Grafikam_M&T_Kopā'!F:F,0))) -> N/A | P58: =IF(ISNUMBER(INDEX('Grafikam_M&T_Kopā'!M:M,MATCH(A58,'Grafikam_M&T_Kopā'!F:F,0))), INDEX('Grafikam_M&T_Kopā'!M:M,MATCH(A58,'Grafikam_M&T_Kopā'!F:F,0)), INDEX('Grafikam_M&T_Kopā'!N:N,MATCH(A58,'Grafikam_M&T_Kopā'!F:F,0))) -> Parakstīts pabeigšanas sertifikāts | Q58: =IF(ISNUMBER(INDEX('Grafikam_M&T_Kopā'!M:M,MATCH(A58,'Grafikam_M&T_Kopā'!F:F,0))), INDEX('Grafikam_M&T_Kopā'!S:S,MATCH(A58,'Grafikam_M&T_Kopā'!F:F,0)), INDEX('Grafikam_M&T_Kopā'!O:O,MATCH(A58,'Grafikam_M&T_Kopā'!F:F,0))) -> Procesā | R58: =IFERROR(Q58/P58,"Rādītājs teksta vērtība") -> Rādītājs teksta vērtība | U58: =IF(AND(C58="2026Q3",L58<50%,R58<50%),4, IF(OR(AND(C58="2026Q3",L58<50%),AND(L58<50%,R58<50%),AND(C58="2026Q3",R58<50%)),3, IF(OR(C58="2026Q3",L58<50%,R58<50%),2, 1)) )+T58 -> 1
... A65: 232 | B65: IT risinājums biometāna ievades punkta (BIP) pārvaldībai | C65: 2026Q2 | D65: 7.1.1.3.i | E65: Biometāna īpatsvara galapatēriņā palielināšana | F65: =D65 &" "& E65 -> 7.1.1.3.i Biometāna īpatsvara galapatēriņā palielināšana | G65: =INDEX('Grafikam_M&T_Kopā'!E:E,MATCH(A65,'Grafikam_M&T_Kopā'!F:F,0)) -> Investīcija | H65: Klimata un enerģētikas ministrija | I65: =IF(D65="1.1.1.i", SUMIFS(Izejas_dati_finans_maksājumi!H:H,Izejas_dati_finans_maksājumi!B:B,"1.1.1.1.i.2/1/23/I/CFLA/001")+SUMIFS(Izejas_dati_finans_maksājumi!H:H,Izejas_dati_finans_maksājumi!B:B,"1.1.1.1.i.2/2/25/I/CFLA/001"), IF(D65="2.3.1.5.i",SUMIFS(Izejas_dati_finans_maksājumi!H:H,Izejas_dati_finans_maksājumi!B:B,"2.3.1.4.i.0/1/23/I/CFLA/001"), SUMIFS(Izejas_dati_finans_maksājumi!H:H,Izejas_dati_finans_maksājumi!A:A,D65))) -> 1500000 | J65: =IF(D65="1.1.1.i", SUMIFS(Maksājumi_statusa!K:K,Maksājumi_statusa!D:D,"1.1.1.1.i.2/1/23/I/CFLA/001")+SUMIFS(Maksājumi_statusa!K:K,Maksājumi_statusa!D:D,"1.1.1.1.i.2/2/25/I/CFLA/001"), IF(D65="2.3.1.5.i",SUMIFS(Maksājumi_statusa!K:K,Maksājumi_statusa!D:D,"2.3.1.4.i.0/1/23/I/CFLA/001"), SUMIFS(Maksājumi_statusa!K:K,Maksājumi_statusa!C:C,D65))) -> 1350000 | K65: =I65-J65 -> 150000.01 | L65: =IF(G65= "Investīcija",J65/I65,1) -> 0.89999999 | M65: =IF(D65="1.1.1.i", COUNTIFS(Izejas_dati_finans_maksājumi!B:B,"1.1.1.1.i.2/1/23/I/CFLA/001")+COUNTIFS(Izejas_dati_finans_maksājumi!B:B,"1.1.1.1.i.2/2/25/I/CFLA/001"), COUNTIFS(Izejas_dati_finans_maksājumi!A:A,D65)) -> 1 | N65: =INDEX('Grafikam_M&T_Kopā'!H:H,MATCH(A65,'Grafikam_M&T_Kopā'!F:F,0)) -> Katra atskaites punkta un mērķrādītāja apraksts un skaidra definīcija Parakstīts(-i) sertifikāts(-i) par IT risinājumu iegādi biometāna ievades punkta pārvaldībai. Sertifikāts, ko izdevusi akreditēta iestāde, kas apliecina, ka ir pārbaudīti metāna un biometāna noplūdes detektori. | O65: =IF(INDEX('Grafikam_M&T_Kopā'!P:P,MATCH(A65,'Grafikam_M&T_Kopā'!F:F,0))= "N", "N/A", INDEX('Grafikam_M&T_Kopā'!P:P,MATCH(A65,'Grafikam_M&T_Kopā'!F:F,0))) -> N/A | P65: =IF(ISNUMBER(INDEX('Grafikam_M&T_Kopā'!M:M,MATCH(A65,'Grafikam_M&T_Kopā'!F:F,0))), INDEX('Grafikam_M&T_Kopā'!M:M,MATCH(A65,'Grafikam_M&T_Kopā'!F:F,0)), INDEX('Grafikam_M&T_Kopā'!N:N,MATCH(A65,'Grafikam_M&T_Kopā'!F:F,0))) -> IT risinājums iegādāts un ieinstalēts | Q65: =IF(ISNUMBER(INDEX('Grafikam_M&T_Kopā'!M:M,MATCH(A65,'Grafikam_M&T_Kopā'!F:F,0))), INDEX('Grafikam_M&T_Kopā'!S:S,MATCH(A65,'Grafikam_M&T_Kopā'!F:F,0)), INDEX('Grafikam_M&T_Kopā'!O:O,MATCH(A65,'Grafikam_M&T_Kopā'!F:F,0))) -> Procesā | R65: =IFERROR(Q65/P65,"Rādītājs teksta vērtība") -> Rādītājs teksta vērtība | U65: =IF(AND(C65="2026Q3",L65<50%,R65<50%),4, IF(OR(AND(C65="2026Q3",L65<50%),AND(L65<50%,R65<50%),AND(C65="2026Q3",R65<50%)),3, IF(OR(C65="2026Q3",L65<50%,R65<50%),2, 1)) )+T65 -> 1
A67: Finanšu ministrs | S67: A. Ašeradens
A69: A. Greiškāne 25696218
A70: aina.greiskane@fm.gov.lv

Sheet Grafiki
E1: Izpildāmo rādītāju vērtējums ministrijām (rādītāju skaits) | Z1: ="Rādītāji, kuriem zems maksājumu un rādītāju izpildes progress investīcijā un rādītāju plāno sasniegt attiecināmības beigās "& "("&Z13 & ") " -> Rādītāji, kuriem zems maksājumu un rādītāju izpildes progress investīcijā un rādītāju plāno sasniegt attiecināmības beigās (15) | AA1: ="Rādītāji, kuriem kāds no sasniegšanas kritērijiem ar zemu izpildes progresu vai plāno sasniegt attiecināmības beigās "& "("&AA13 & ") " -> Rādītāji, kuriem kāds no sasniegšanas kritērijiem ar zemu izpildes progresu vai plāno sasniegt attiecināmības beigās (29) | AB1: ="Rādītāji, kuriem nav identificēti pabeigšanas riski "& "("&AB13 & ") " -> Rādītāji, kuriem nav identificēti pabeigšanas riski (8) | AC1: Augsta riska rādītāji | AD1: Vidēja riska rādītāji | AE1: Zema riska rādītāji
V2: 10 | W2: =SUM(Z2:AB2) -> 0 | X2: Kultūras ministrija | Y2: ="KM"& "( "&W2 & ") " -> KM( 0) | Z2: =COUNTIFS(FMZINP_2_Radītāju_progress!$H:$H,X2,FMZINP_2_Radītāju_progress!$U:$U,">3") -> 0 | AA2: =COUNTIFS(FMZINP_2_Radītāju_progress!$H:$H,X2,FMZINP_2_Radītāju_progress!$U:$U,3)+COUNTIFS(FMZINP_2_Radītāju_progress!$H:$H,X2,FMZINP_2_Radītāju_progress!$U:$U,2) -> 0 | AB2: =COUNTIFS(FMZINP_2_Radītāju_progress!$H:$H,X2,FMZINP_2_Radītāju_progress!$U:$U,"<2") -> 0 | AC2: {=IF(Z2>=1, _xlfn.TEXTJOIN(";",TRUE,_xlfn.UNIQUE(_xlfn._xlws.FILTER(FMZINP_2_Radītāju_progress!$A$14:$A$65,(FMZINP_2_Radītāju_progress!$H$14:$H$65=X2)*(FMZINP_2_Radītāju_progress!$U$14:$U$65>3)))), "")} | AD2: {=IF(AA2>=1, _xlfn.TEXTJOIN(";",TRUE,_xlfn.UNIQUE(_xlfn._xlws.FILTER(FMZINP_2_Radītāju_progress!$A$14:$A$65,(FMZINP_2_Radītāju_progress!$H$14:$H$65=X2)*((FMZINP_2_Radītāju_progress!$U$14:$U$65=3)+(FMZINP_2_Radītāju_progress!$U$14:$U$65=2))))), "")} | AE2: {=IF(AB2>=1, _xlfn.TEXTJOIN(";",TRUE,_xlfn.UNIQUE(_xlfn._xlws.FILTER(FMZINP_2_Radītāju_progress!$A$14:$A$65,(FMZINP_2_Radītāju_progress!$H$14:$H$65=X2)*(FMZINP_2_Radītāju_progress!$U$14:$U$65<2)))), "")}
V3: =RANK(W3,$W$2:$W$12,0) -> 9 | W3: =SUM(Z3:AB3) -> 1 | X3: Zemkopības ministrija | Y3: ="ZM"& "( "&W3 & ") " -> ZM( 1) | Z3: =COUNTIFS(FMZINP_2_Radītāju_progress!$H:$H,X3,FMZINP_2_Radītāju_progress!$U:$U,">3") -> 0 | AA3: =COUNTIFS(FMZINP_2_Radītāju_progress!$H:$H,X3,FMZINP_2_Radītāju_progress!$U:$U,3)+COUNTIFS(FMZINP_2_Radītāju_progress!$H:$H,X3,FMZINP_2_Radītāju_progress!$U:$U,2) -> 1 | AB3: =COUNTIFS(FMZINP_2_Radītāju_progress!$H:$H,X3,FMZINP_2_Radītāju_progress!$U:$U,"<2") -> 0 | AC3: {=IF(Z3>=1, _xlfn.TEXTJOIN(";",TRUE,_xlfn.UNIQUE(_xlfn._xlws.FILTER(FMZINP_2_Radītāju_progress!$A$14:$A$65,(FMZINP_2_Radītāju_progress!$H$14:$H$65=X3)*(FMZINP_2_Radītāju_progress!$U$14:$U$65>3)))), "")} | AD3: {=IF(AA3>=1, _xlfn.TEXTJOIN(";",TRUE,_xlfn.UNIQUE(_xlfn._xlws.FILTER(FMZINP_2_Radītāju_progress!$A$14:$A$65,(FMZINP_2_Radītāju_progress!$H$14:$H$65=X3)*((FMZINP_2_Radītāju_progress!$U$14:$U$65=3)+(FMZINP_2_Radītāju_progress!$U$14:$U$65=2))))), "")} -> 26 | AE3: {=IF(AB3>=1, _xlfn.TEXTJOIN(";",TRUE,_xlfn.UNIQUE(_xlfn._xlws.FILTER(FMZINP_2_Radītāju_progress!$A$14:$A$65,(FMZINP_2_Radītāju_progress!$H$14:$H$65=X3)*(FMZINP_2_Radītāju_progress!$U$14:$U$65<2)))), "")}
V4: =RANK(W4,$W$2:$W$12,0) -> 9 | W4: =SUM(Z4:AB4) -> 1 | X4: Iekšlietu ministrija | Y4: ="IeM"& "( "&W4 & ") " -> IeM( 1) | Z4: =COUNTIFS(FMZINP_2_Radītāju_progress!$H:$H,X4,FMZINP_2_Radītāju_progress!$U:$U,">3") -> 0 | AA4: =COUNTIFS(FMZINP_2_Radītāju_progress!$H:$H,X4,FMZINP_2_Radītāju_progress!$U:$U,3)+COUNTIFS(FMZINP_2_Radītāju_progress!$H:$H,X4,FMZINP_2_Radītāju_progress!$U:$U,2) -> 1 | AB4: =COUNTIFS(FMZINP_2_Radītāju_progress!$H:$H,X4,FMZINP_2_Radītāju_progress!$U:$U,"<2") -> 0 | AC4: {=IF(Z4>=1, _xlfn.TEXTJOIN(";",TRUE,_xlfn.UNIQUE(_xlfn._xlws.FILTER(FMZINP_2_Radītāju_progress!$A$14:$A$65,(FMZINP_2_Radītāju_progress!$H$14:$H$65=X4)*(FMZINP_2_Radītāju_progress!$U$14:$U$65>3)))), "")} | AD4: {=IF(AA4>=1, _xlfn.TEXTJOIN(";",TRUE,_xlfn.UNIQUE(_xlfn._xlws.FILTER(FMZINP_2_Radītāju_progress!$A$14:$A$65,(FMZINP_2_Radītāju_progress!$H$14:$H$65=X4)*((FMZINP_2_Radītāju_progress!$U$14:$U$65=3)+(FMZINP_2_Radītāju_progress!$U$14:$U$65=2))))), "")} -> 23 | AE4: {=IF(AB4>=1, _xlfn.TEXTJOIN(";",TRUE,_xlfn.UNIQUE(_xlfn._xlws.FILTER(FMZINP_2_Radītāju_progress!$A$14:$A$65,(FMZINP_2_Radītāju_progress!$H$14:$H$65=X4)*(FMZINP_2_Radītāju_progress!$U$14:$U$65<2)))), "")}
V5: 8 | W5: =SUM(Z5:AB5) -> 4 | X5: Veselības ministrija | Y5: ="VM"& "( "&W5 & ") " -> VM( 4) | Z5: =COUNTIFS(FMZINP_2_Radītāju_progress!$H:$H,X5,FMZINP_2_Radītāju_progress!$U:$U,">3") -> 1 | AA5: =COUNTIFS(FMZINP_2_Radītāju_progress!$H:$H,X5,FMZINP_2_Radītāju_progress!$U:$U,3)+COUNTIFS(FMZINP_2_Radītāju_progress!$H:$H,X5,FMZINP_2_Radītāju_progress!$U:$U,2) -> 3 | AB5: =COUNTIFS(FMZINP_2_Radītāju_progress!$H:$H,X5,FMZINP_2_Radītāju_progress!$U:$U,"<2") -> 0 | AC5: {=IF(Z5>=1, _xlfn.TEXTJOIN(";",TRUE,_xlfn.UNIQUE(_xlfn._xlws.FILTER(FMZINP_2_Radītāju_progress!$A$14:$A$65,(FMZINP_2_Radītāju_progress!$H$14:$H$65=X5)*(FMZINP_2_Radītāju_progress!$U$14:$U$65>3)))), "")} -> 150 | AD5: {=IF(AA5>=1, _xlfn.TEXTJOIN(";",TRUE,_xlfn.UNIQUE(_xlfn._xlws.FILTER(FMZINP_2_Radītāju_progress!$A$14:$A$65,(FMZINP_2_Radītāju_progress!$H$14:$H$65=X5)*((FMZINP_2_Radītāju_progress!$U$14:$U$65=3)+(FMZINP_2_Radītāju_progress!$U$14:$U$65=2))))), "")} -> 140;142;137 | AE5: {=IF(AB5>=1, _xlfn.TEXTJOIN(";",TRUE,_xlfn.UNIQUE(_xlfn._xlws.FILTER(FMZINP_2_Radītāju_progress!$A$14:$A$65,(FMZINP_2_Radītāju_progress!$H$14:$H$65=X5)*(FMZINP_2_Radītāju_progress!$U$14:$U$65<2)))), "")}
V6: =RANK(W6,$W$2:$W$12,0) -> 8 | W6: =SUM(Z6:AB6) -> 3 | X6: Finanšu ministrija | Y6: ="FM"& "( "&W6 & ") " -> FM( 3) | Z6: =COUNTIFS(FMZINP_2_Radītāju_progress!$H:$H,X6,FMZINP_2_Radītāju_progress!$U:$U,">3") -> 2 | AA6: =COUNTIFS(FMZINP_2_Radītāju_progress!$H:$H,X6,FMZINP_2_Radītāju_progress!$U:$U,3)+COUNTIFS(FMZINP_2_Radītāju_progress!$H:$H,X6,FMZINP_2_Radītāju_progress!$U:$U,2) -> 1 | AB6: =COUNTIFS(FMZINP_2_Radītāju_progress!$H:$H,X6,FMZINP_2_Radītāju_progress!$U:$U,"<2") -> 0 | AC6: {=IF(Z6>=1, _xlfn.TEXTJOIN(";",TRUE,_xlfn.UNIQUE(_xlfn._xlws.FILTER(FMZINP_2_Radītāju_progress!$A$14:$A$65,(FMZINP_2_Radītāju_progress!$H$14:$H$65=X6)*(FMZINP_2_Radītāju_progress!$U$14:$U$65>3)))), "")} -> 183;177 | AD6: {=IF(AA6>=1, _xlfn.TEXTJOIN(";",TRUE,_xlfn.UNIQUE(_xlfn._xlws.FILTER(FMZINP_2_Radītāju_progress!$A$14:$A$65,(FMZINP_2_Radītāju_progress!$H$14:$H$65=X6)*((FMZINP_2_Radītāju_progress!$U$14:$U$65=3)+(FMZINP_2_Radītāju_progress!$U$14:$U$65=2))))), "")} -> 176 | AE6: {=IF(AB6>=1, _xlfn.TEXTJOIN(";",TRUE,_xlfn.UNIQUE(_xlfn._xlws.FILTER(FMZINP_2_Radītāju_progress!$A$14:$A$65,(FMZINP_2_Radītāju_progress!$H$14:$H$65=X6)*(FMZINP_2_Radītāju_progress!$U$14:$U$65<2)))), "")}
V7: =RANK(W7,$W$2:$W$12,0) -> 6 | W7: =SUM(Z7:AB7) -> 4 | X7: Satiksmes ministrija | Y7: ="SM"& "( "&W7 & ") " -> SM( 4) | Z7: =COUNTIFS(FMZINP_2_Radītāju_progress!$H:$H,X7,FMZINP_2_Radītāju_progress!$U:$U,">3") -> 3 | AA7: =COUNTIFS(FMZINP_2_Radītāju_progress!$H:$H,X7,FMZINP_2_Radītāju_progress!$U:$U,3)+COUNTIFS(FMZINP_2_Radītāju_progress!$H:$H,X7,FMZINP_2_Radītāju_progress!$U:$U,2) -> 1 | AB7: =COUNTIFS(FMZINP_2_Radītāju_progress!$H:$H,X7,FMZINP_2_Radītāju_progress!$U:$U,"<2") -> 0 | AC7: {=IF(Z7>=1, _xlfn.TEXTJOIN(";",TRUE,_xlfn.UNIQUE(_xlfn._xlws.FILTER(FMZINP_2_Radītāju_progress!$A$14:$A$65,(FMZINP_2_Radītāju_progress!$H$14:$H$65=X7)*(FMZINP_2_Radītāju_progress!$U$14:$U$65>3)))), "")} -> 3;4a;2 | AD7: {=IF(AA7>=1, _xlfn.TEXTJOIN(";",TRUE,_xlfn.UNIQUE(_xlfn._xlws.FILTER(FMZINP_2_Radītāju_progress!$A$14:$A$65,(FMZINP_2_Radītāju_progress!$H$14:$H$65=X7)*((FMZINP_2_Radītāju_progress!$U$14:$U$65=3)+(FMZINP_2_Radītāju_progress!$U$14:$U$65=2))))), "")} -> 83 | AE7: {=IF(AB7>=1, _xlfn.TEXTJOIN(";",TRUE,_xlfn.UNIQUE(_xlfn._xlws.FILTER(FMZINP_2_Radītāju_progress!$A$14:$A$65,(FMZINP_2_Radītāju_progress!$H$14:$H$65=X7)*(FMZINP_2_Radītāju_progress!$U$14:$U$65<2)))), "")}
V8: =RANK(W8,$W$2:$W$12,0) -> 5 | W8: =SUM(Z8:AB8) -> 6 | X8: Labklājības ministrija | Y8: ="LM"& "( "&W8 & ") " -> LM( 6) | Z8: =COUNTIFS(FMZINP_2_Radītāju_progress!$H:$H,X8,FMZINP_2_Radītāju_progress!$U:$U,">3") -> 2 | AA8: =COUNTIFS(FMZINP_2_Radītāju_progress!$H:$H,X8,FMZINP_2_Radītāju_progress!$U:$U,3)+COUNTIFS(FMZINP_2_Radītāju_progress!$H:$H,X8,FMZINP_2_Radītāju_progress!$U:$U,2) -> 4 | AB8: =COUNTIFS(FMZINP_2_Radītāju_progress!$H:$H,X8,FMZINP_2_Radītāju_progress!$U:$U,"<2") -> 0 | AC8: {=IF(Z8>=1, _xlfn.TEXTJOIN(";",TRUE,_xlfn.UNIQUE(_xlfn._xlws.FILTER(FMZINP_2_Radītāju_progress!$A$14:$A$65,(FMZINP_2_Radītāju_progress!$H$14:$H$65=X8)*(FMZINP_2_Radītāju_progress!$U$14:$U$65>3)))), "")} -> 123;117 | AD8: {=IF(AA8>=1, _xlfn.TEXTJOIN(";",TRUE,_xlfn.UNIQUE(_xlfn._xlws.FILTER(FMZINP_2_Radītāju_progress!$A$14:$A$65,(FMZINP_2_Radītāju_progress!$H$14:$H$65=X8)*((FMZINP_2_Radītāju_progress!$U$14:$U$65=3)+(FMZINP_2_Radītāju_progress!$U$14:$U$65=2))))), "")} -> 114;125;130a;120 | AE8: {=IF(AB8>=1, _xlfn.TEXTJOIN(";",TRUE,_xlfn.UNIQUE(_xlfn._xlws.FILTER(FMZINP_2_Radītāju_progress!$A$14:$A$65,(FMZINP_2_Radītāju_progress!$H$14:$H$65=X8)*(FMZINP_2_Radītāju_progress!$U$14:$U$65<2)))), "")}
V9: 4 | W9: =SUM(Z9:AB9) -> 7 | X9: Klimata un enerģētikas ministrija | Y9: ="KEM"& "( "&W9 & ") " -> KEM( 7) | Z9: =COUNTIFS(FMZINP_2_Radītāju_progress!$H:$H,X9,FMZINP_2_Radītāju_progress!$U:$U,">3") -> 0 | AA9: =COUNTIFS(FMZINP_2_Radītāju_progress!$H:$H,X9,FMZINP_2_Radītāju_progress!$U:$U,3)+COUNTIFS(FMZINP_2_Radītāju_progress!$H:$H,X9,FMZINP_2_Radītāju_progress!$U:$U,2) -> 3 | AB9: =COUNTIFS(FMZINP_2_Radītāju_progress!$H:$H,X9,FMZINP_2_Radītāju_progress!$U:$U,"<2") -> 4 | AC9: {=IF(Z9>=1, _xlfn.TEXTJOIN(";",TRUE,_xlfn.UNIQUE(_xlfn._xlws.FILTER(FMZINP_2_Radītāju_progress!$A$14:$A$65,(FMZINP_2_Radītāju_progress!$H$14:$H$65=X9)*(FMZINP_2_Radītāju_progress!$U$14:$U$65>3)))), "")} | AD9: {=IF(AA9>=1, _xlfn.TEXTJOIN(";",TRUE,_xlfn.UNIQUE(_xlfn._xlws.FILTER(FMZINP_2_Radītāju_progress!$A$14:$A$65,(FMZINP_2_Radītāju_progress!$H$14:$H$65=X9)*((FMZINP_2_Radītāju_progress!$U$14:$U$65=3)+(FMZINP_2_Radītāju_progress!$U$14:$U$65=2))))), "")} -> 224;226;221 | AE9: {=IF(AB9>=1, _xlfn.TEXTJOIN(";",TRUE,_xlfn.UNIQUE(_xlfn._xlws.FILTER(FMZINP_2_Radītāju_progress!$A$14:$A$65,(FMZINP_2_Radītāju_progress!$H$14:$H$65=X9)*(FMZINP_2_Radītāju_progress!$U$14:$U$65<2)))), "")} -> 225;227;231;232
V10: =RANK(W10,$W$2:$W$12,0) -> 3 | W10: =SUM(Z10:AB10) -> 7 | X10: Viedās administrācijas un reģionālās attīstības ministrija | Y10: ="VARAM"& "( "&W10 & ") " -> VARAM( 7) | Z10: =COUNTIFS(FMZINP_2_Radītāju_progress!$H:$H,X10,FMZINP_2_Radītāju_progress!$U:$U,">3") -> 3 | AA10: =COUNTIFS(FMZINP_2_Radītāju_progress!$H:$H,X10,FMZINP_2_Radītāju_progress!$U:$U,3)+COUNTIFS(FMZINP_2_Radītāju_progress!$H:$H,X10,FMZINP_2_Radītāju_progress!$U:$U,2) -> 2 | AB10: =COUNTIFS(FMZINP_2_Radītāju_progress!$H:$H,X10,FMZINP_2_Radītāju_progress!$U:$U,"<2") -> 2 | AC10: {=IF(Z10>=1, _xlfn.TEXTJOIN(";",TRUE,_xlfn.UNIQUE(_xlfn._xlws.FILTER(FMZINP_2_Radītāju_progress!$A$14:$A$65,(FMZINP_2_Radītāju_progress!$H$14:$H$65=X10)*(FMZINP_2_Radītāju_progress!$U$14:$U$65>3)))), "")} -> 96;34;30 | AD10: {=IF(AA10>=1, _xlfn.TEXTJOIN(";",TRUE,_xlfn.UNIQUE(_xlfn._xlws.FILTER(FMZINP_2_Radītāju_progress!$A$14:$A$65,(FMZINP_2_Radītāju_progress!$H$14:$H$65=X10)*((FMZINP_2_Radītāju_progress!$U$14:$U$65=3)+(FMZINP_2_Radītāju_progress!$U$14:$U$65=2))))), "")} -> 39;76 | AE10: {=IF(AB10>=1, _xlfn.TEXTJOIN(";",TRUE,_xlfn.UNIQUE(_xlfn._xlws.FILTER(FMZINP_2_Radītāju_progress!$A$14:$A$65,(FMZINP_2_Radītāju_progress!$H$14:$H$65=X10)*(FMZINP_2_Radītāju_progress!$U$14:$U$65<2)))), "")} -> 15;109
V11: =RANK(W11,$W$2:$W$12,0) -> 2 | W11: =SUM(Z11:AB11) -> 9 | X11: Izglītības un zinātnes ministrija | Y11: ="IZM"& "( "&W11 & ") " -> IZM( 9) | Z11: =COUNTIFS(FMZINP_2_Radītāju_progress!$H:$H,X11,FMZINP_2_Radītāju_progress!$U:$U,">3") -> 3 | AA11: =COUNTIFS(FMZINP_2_Radītāju_progress!$H:$H,X11,FMZINP_2_Radītāju_progress!$U:$U,3)+COUNTIFS(FMZINP_2_Radītāju_progress!$H:$H,X11,FMZINP_2_Radītāju_progress!$U:$U,2) -> 6 | AB11: =COUNTIFS(FMZINP_2_Radītāju_progress!$H:$H,X11,FMZINP_2_Radītāju_progress!$U:$U,"<2") -> 0 | AC11: {=IF(Z11>=1, _xlfn.TEXTJOIN(";",TRUE,_xlfn.UNIQUE(_xlfn._xlws.FILTER(FMZINP_2_Radītāju_progress!$A$14:$A$65,(FMZINP_2_Radītāju_progress!$H$14:$H$65=X11)*(FMZINP_2_Radītāju_progress!$U$14:$U$65>3)))), "")} -> 160;106;68a | AD11: {=IF(AA11>=1, _xlfn.TEXTJOIN(";",TRUE,_xlfn.UNIQUE(_xlfn._xlws.FILTER(FMZINP_2_Radītāju_progress!$A$14:$A$65,(FMZINP_2_Radītāju_progress!$H$14:$H$65=X11)*((FMZINP_2_Radītāju_progress!$U$14:$U$65=3)+(FMZINP_2_Radītāju_progress!$U$14:$U$65=2))))), "")} -> 163;73;164;62;79a;61 | AE11: {=IF(AB11>=1, _xlfn.TEXTJOIN(";",TRUE,_xlfn.UNIQUE(_xlfn._xlws.FILTER(FMZINP_2_Radītāju_progress!$A$14:$A$65,(FMZINP_2_Radītāju_progress!$H$14:$H$65=X11)*(FMZINP_2_Radītāju_progress!$U$14:$U$65<2)))), "")}
V12: =RANK(W12,$W$2:$W$12,0) -> 1 | W12: =SUM(Z12:AB12) -> 10 | X12: Ekonomikas ministrija | Y12: ="EM"& "( "&W12 & ") " -> EM( 10) | Z12: =COUNTIFS(FMZINP_2_Radītāju_progress!$H:$H,X12,FMZINP_2_Radītāju_progress!$U:$U,">3") -> 1 | AA12: =COUNTIFS(FMZINP_2_Radītāju_progress!$H:$H,X12,FMZINP_2_Radītāju_progress!$U:$U,3)+COUNTIFS(FMZINP_2_Radītāju_progress!$H:$H,X12,FMZINP_2_Radītāju_progress!$U:$U,2) -> 7 | AB12: =COUNTIFS(FMZINP_2_Radītāju_progress!$H:$H,X12,FMZINP_2_Radītāju_progress!$U:$U,"<2") -> 2 | AC12: {=IF(Z12>=1, _xlfn.TEXTJOIN(";",TRUE,_xlfn.UNIQUE(_xlfn._xlws.FILTER(FMZINP_2_Radītāju_progress!$A$14:$A$65,(FMZINP_2_Radītāju_progress!$H$14:$H$65=X12)*(FMZINP_2_Radītāju_progress!$U$14:$U$65>3)))), "")} -> 18 | AD12: {=IF(AA12>=1, _xlfn.TEXTJOIN(";",TRUE,_xlfn.UNIQUE(_xlfn._xlws.FILTER(FMZINP_2_Radītāju_progress!$A$14:$A$65,(FMZINP_2_Radītāju_progress!$H$14:$H$65=X12)*((FMZINP_2_Radītāju_progress!$U$14:$U$65=3)+(FMZINP_2_Radītāju_progress!$U$14:$U$65=2))))), "")} -> 109b;20;156;9;103;12;109a | AE12: {=IF(AB12>=1, _xlfn.TEXTJOIN(";",TRUE,_xlfn.UNIQUE(_xlfn._xlws.FILTER(FMZINP_2_Radītāju_progress!$A$14:$A$65,(FMZINP_2_Radītāju_progress!$H$14:$H$65=X12)*(FMZINP_2_Radītāju_progress!$U$14:$U$65<2)))), "")} -> 64;44a
Z13: =SUM(Z2:Z12) -> 15 | AA13: =SUM(AA2:AA12) -> 29 | AB13: =SUM(AB2:AB12) -> 8
Z17: ="Rādītāji, kuriem zems maksājumu un rādītāju izpildes progress investīcijā un rādītāju plāno sasniegt attiecināmības beigās "& "("&Z29 & ") " -> Rādītāji, kuriem zems maksājumu un rādītāju izpildes progress investīcijā un rādītāju plāno sasniegt attiecināmības beigās (15) | AA17: ="Rādītāji, kuriem kāds no sasniegšanas kritērijiem ar zemu izpildes progresu vai plāno sasniegt attiecināmības beigās "& "("&AA29 & ") " -> Rādītāji, kuriem kāds no sasniegšanas kritērijiem ar zemu izpildes progresu vai plāno sasniegt attiecināmības beigās (29) | AB17: ="Rādītāji, kuriem nav identificēti pabeigšanas riski "& "("&AB29 & ") " -> Rādītāji, kuriem nav identificēti pabeigšanas riski (8) | AC17: Augsta riska rādītāji | AD17: Vidēja riska rādītāji | AE17: Zema riska rādītāji
V18: 10 | W18: =SUM(Z18:AB18) -> 0 | X18: Kultūras ministrija | Y18: ="KM"& "( "&W18 & ") " -> KM( 0) | Z18: =COUNTIFS(FMZINP_2_Radītāju_progress!$H:$H,X18,FMZINP_2_Radītāju_progress!$U:$U,">3") -> 0 | AA18: =COUNTIFS(FMZINP_2_Radītāju_progress!$H:$H,X18,FMZINP_2_Radītāju_progress!$U:$U,3)+COUNTIFS(FMZINP_2_Radītāju_progress!$H:$H,X18,FMZINP_2_Radītāju_progress!$U:$U,2) -> 0 | AB18: =COUNTIFS(FMZINP_2_Radītāju_progress!$H:$H,X18,FMZINP_2_Radītāju_progress!$U:$U,"<2") -> 0 | AC18: {=IF(Z18>=1, _xlfn.TEXTJOIN(";",TRUE,_xlfn.UNIQUE(_xlfn._xlws.FILTER(FMZINP_2_Radītāju_progress!$A$14:$A$65,(FMZINP_2_Radītāju_progress!$H$14:$H$65=X18)*(FMZINP_2_Radītāju_progress!$U$14:$U$65>3)))), "")} | AD18: {=IF(AA18>=1, _xlfn.TEXTJOIN(";",TRUE,_xlfn.UNIQUE(_xlfn._xlws.FILTER(FMZINP_2_Radītāju_progress!$A$14:$A$65,(FMZINP_2_Radītāju_progress!$H$14:$H$65=X18)*((FMZINP_2_Radītāju_progress!$U$14:$U$65=3)+(FMZINP_2_Radītāju_progress!$U$14:$U$65=2))))), "")} | AE18: {=IF(AB18>=1, _xlfn.TEXTJOIN(";",TRUE,_xlfn.UNIQUE(_xlfn._xlws.FILTER(FMZINP_2_Radītāju_progress!$A$14:$A$65,(FMZINP_2_Radītāju_progress!$H$14:$H$65=X18)*(FMZINP_2_Radītāju_progress!$U$14:$U$65<2)))), "")}
V19: =RANK(W19,$W$2:$W$12,0) -> 9 | W19: =SUM(Z19:AB19) -> 1 | X19: Zemkopības ministrija | Y19: ="ZM"& "( "&W19 & ") " -> ZM( 1) | Z19: =COUNTIFS(FMZINP_2_Radītāju_progress!$H:$H,X19,FMZINP_2_Radītāju_progress!$U:$U,">3") -> 0 | AA19: =COUNTIFS(FMZINP_2_Radītāju_progress!$H:$H,X19,FMZINP_2_Radītāju_progress!$U:$U,3)+COUNTIFS(FMZINP_2_Radītāju_progress!$H:$H,X19,FMZINP_2_Radītāju_progress!$U:$U,2) -> 1 | AB19: =COUNTIFS(FMZINP_2_Radītāju_progress!$H:$H,X19,FMZINP_2_Radītāju_progress!$U:$U,"<2") -> 0 | AC19: {=IF(Z19>=1, _xlfn.TEXTJOIN(";",TRUE,_xlfn.UNIQUE(_xlfn._xlws.FILTER(FMZINP_2_Radītāju_progress!$A$14:$A$65,(FMZINP_2_Radītāju_progress!$H$14:$H$65=X19)*(FMZINP_2_Radītāju_progress!$U$14:$U$65>3)))), "")} | AD19: {=IF(AA19>=1, _xlfn.TEXTJOIN(";",TRUE,_xlfn.UNIQUE(_xlfn._xlws.FILTER(FMZINP_2_Radītāju_progress!$A$14:$A$65,(FMZINP_2_Radītāju_progress!$H$14:$H$65=X19)*((FMZINP_2_Radītāju_progress!$U$14:$U$65=3)+(FMZINP_2_Radītāju_progress!$U$14:$U$65=2))))), "")} -> 26 | AE19: {=IF(AB19>=1, _xlfn.TEXTJOIN(";",TRUE,_xlfn.UNIQUE(_xlfn._xlws.FILTER(FMZINP_2_Radītāju_progress!$A$14:$A$65,(FMZINP_2_Radītāju_progress!$H$14:$H$65=X19)*(FMZINP_2_Radītāju_progress!$U$14:$U$65<2)))), "")}
V20: =RANK(W20,$W$2:$W$12,0) -> 9 | W20: =SUM(Z20:AB20) -> 1 | X20: Iekšlietu ministrija | Y20: ="IeM"& "( "&W20 & ") " -> IeM( 1) | Z20: =COUNTIFS(FMZINP_2_Radītāju_progress!$H:$H,X20,FMZINP_2_Radītāju_progress!$U:$U,">3") -> 0 | AA20: =COUNTIFS(FMZINP_2_Radītāju_progress!$H:$H,X20,FMZINP_2_Radītāju_progress!$U:$U,3)+COUNTIFS(FMZINP_2_Radītāju_progress!$H:$H,X20,FMZINP_2_Radītāju_progress!$U:$U,2) -> 1 | AB20: =COUNTIFS(FMZINP_2_Radītāju_progress!$H:$H,X20,FMZINP_2_Radītāju_progress!$U:$U,"<2") -> 0 | AC20: {=IF(Z20>=1, _xlfn.TEXTJOIN(";",TRUE,_xlfn.UNIQUE(_xlfn._xlws.FILTER(FMZINP_2_Radītāju_progress!$A$14:$A$65,(FMZINP_2_Radītāju_progress!$H$14:$H$65=X20)*(FMZINP_2_Radītāju_progress!$U$14:$U$65>3)))), "")} | AD20: {=IF(AA20>=1, _xlfn.TEXTJOIN(";",TRUE,_xlfn.UNIQUE(_xlfn._xlws.FILTER(FMZINP_2_Radītāju_progress!$A$14:$A$65,(FMZINP_2_Radītāju_progress!$H$14:$H$65=X20)*((FMZINP_2_Radītāju_progress!$U$14:$U$65=3)+(FMZINP_2_Radītāju_progress!$U$14:$U$65=2))))), "")} -> 23 | AE20: {=IF(AB20>=1, _xlfn.TEXTJOIN(";",TRUE,_xlfn.UNIQUE(_xlfn._xlws.FILTER(FMZINP_2_Radītāju_progress!$A$14:$A$65,(FMZINP_2_Radītāju_progress!$H$14:$H$65=X20)*(FMZINP_2_Radītāju_progress!$U$14:$U$65<2)))), "")}
V21: 8 | W21: =SUM(Z21:AB21) -> 4 | X21: Veselības ministrija | Y21: ="VM"& "( "&W21 & ") " -> VM( 4) | Z21: =COUNTIFS(FMZINP_2_Radītāju_progress!$H:$H,X21,FMZINP_2_Radītāju_progress!$U:$U,">3") -> 1 | AA21: =COUNTIFS(FMZINP_2_Radītāju_progress!$H:$H,X21,FMZINP_2_Radītāju_progress!$U:$U,3)+COUNTIFS(FMZINP_2_Radītāju_progress!$H:$H,X21,FMZINP_2_Radītāju_progress!$U:$U,2) -> 3 | AB21: =COUNTIFS(FMZINP_2_Radītāju_progress!$H:$H,X21,FMZINP_2_Radītāju_progress!$U:$U,"<2") -> 0 | AC21: {=IF(Z21>=1, _xlfn.TEXTJOIN(";",TRUE,_xlfn.UNIQUE(_xlfn._xlws.FILTER(FMZINP_2_Radītāju_progress!$A$14:$A$65,(FMZINP_2_Radītāju_progress!$H$14:$H$65=X21)*(FMZINP_2_Radītāju_progress!$U$14:$U$65>3)))), "")} -> 150 | AD21: {=IF(AA21>=1, _xlfn.TEXTJOIN(";",TRUE,_xlfn.UNIQUE(_xlfn._xlws.FILTER(FMZINP_2_Radītāju_progress!$A$14:$A$65,(FMZINP_2_Radītāju_progress!$H$14:$H$65=X21)*((FMZINP_2_Radītāju_progress!$U$14:$U$65=3)+(FMZINP_2_Radītāju_progress!$U$14:$U$65=2))))), "")} -> 140;142;137 | AE21: {=IF(AB21>=1, _xlfn.TEXTJOIN(";",TRUE,_xlfn.UNIQUE(_xlfn._xlws.FILTER(FMZINP_2_Radītāju_progress!$A$14:$A$65,(FMZINP_2_Radītāju_progress!$H$14:$H$65=X21)*(FMZINP_2_Radītāju_progress!$U$14:$U$65<2)))), "")}
V22: =RANK(W22,$W$2:$W$12,0) -> 8 | W22: =SUM(Z22:AB22) -> 3 | X22: Finanšu ministrija | Y22: ="FM"& "( "&W22 & ") " -> FM( 3) | Z22: =COUNTIFS(FMZINP_2_Radītāju_progress!$H:$H,X22,FMZINP_2_Radītāju_progress!$U:$U,">3") -> 2 | AA22: =COUNTIFS(FMZINP_2_Radītāju_progress!$H:$H,X22,FMZINP_2_Radītāju_progress!$U:$U,3)+COUNTIFS(FMZINP_2_Radītāju_progress!$H:$H,X22,FMZINP_2_Radītāju_progress!$U:$U,2) -> 1 | AB22: =COUNTIFS(FMZINP_2_Radītāju_progress!$H:$H,X22,FMZINP_2_Radītāju_progress!$U:$U,"<2") -> 0 | AC22: {=IF(Z22>=1, _xlfn.TEXTJOIN(";",TRUE,_xlfn.UNIQUE(_xlfn._xlws.FILTER(FMZINP_2_Radītāju_progress!$A$14:$A$65,(FMZINP_2_Radītāju_progress!$H$14:$H$65=X22)*(FMZINP_2_Radītāju_progress!$U$14:$U$65>3)))), "")} -> 183;177 | AD22: {=IF(AA22>=1, _xlfn.TEXTJOIN(";",TRUE,_xlfn.UNIQUE(_xlfn._xlws.FILTER(FMZINP_2_Radītāju_progress!$A$14:$A$65,(FMZINP_2_Radītāju_progress!$H$14:$H$65=X22)*((FMZINP_2_Radītāju_progress!$U$14:$U$65=3)+(FMZINP_2_Radītāju_progress!$U$14:$U$65=2))))), "")} -> 176 | AE22: {=IF(AB22>=1, _xlfn.TEXTJOIN(";",TRUE,_xlfn.UNIQUE(_xlfn._xlws.FILTER(FMZINP_2_Radītāju_progress!$A$14:$A$65,(FMZINP_2_Radītāju_progress!$H$14:$H$65=X22)*(FMZINP_2_Radītāju_progress!$U$14:$U$65<2)))), "")}
V23: =RANK(W23,$W$2:$W$12,0) -> 6 | W23: =SUM(Z23:AB23) -> 4 | X23: Satiksmes ministrija | Y23: ="SM"& "( "&W23 & ") " -> SM( 4) | Z23: =COUNTIFS(FMZINP_2_Radītāju_progress!$H:$H,X23,FMZINP_2_Radītāju_progress!$U:$U,">3") -> 3 | AA23: =COUNTIFS(FMZINP_2_Radītāju_progress!$H:$H,X23,FMZINP_2_Radītāju_progress!$U:$U,3)+COUNTIFS(FMZINP_2_Radītāju_progress!$H:$H,X23,FMZINP_2_Radītāju_progress!$U:$U,2) -> 1 | AB23: =COUNTIFS(FMZINP_2_Radītāju_progress!$H:$H,X23,FMZINP_2_Radītāju_progress!$U:$U,"<2") -> 0 | AC23: {=IF(Z23>=1, _xlfn.TEXTJOIN(";",TRUE,_xlfn.UNIQUE(_xlfn._xlws.FILTER(FMZINP_2_Radītāju_progress!$A$14:$A$65,(FMZINP_2_Radītāju_progress!$H$14:$H$65=X23)*(FMZINP_2_Radītāju_progress!$U$14:$U$65>3)))), "")} -> 3;4a;2 | AD23: {=IF(AA23>=1, _xlfn.TEXTJOIN(";",TRUE,_xlfn.UNIQUE(_xlfn._xlws.FILTER(FMZINP_2_Radītāju_progress!$A$14:$A$65,(FMZINP_2_Radītāju_progress!$H$14:$H$65=X23)*((FMZINP_2_Radītāju_progress!$U$14:$U$65=3)+(FMZINP_2_Radītāju_progress!$U$14:$U$65=2))))), "")} -> 83 | AE23: {=IF(AB23>=1, _xlfn.TEXTJOIN(";",TRUE,_xlfn.UNIQUE(_xlfn._xlws.FILTER(FMZINP_2_Radītāju_progress!$A$14:$A$65,(FMZINP_2_Radītāju_progress!$H$14:$H$65=X23)*(FMZINP_2_Radītāju_progress!$U$14:$U$65<2)))), "")}
V24: =RANK(W24,$W$2:$W$12,0) -> 5 | W24: =SUM(Z24:AB24) -> 6 | X24: Labklājības ministrija | Y24: ="LM"& "( "&W24 & ") " -> LM( 6) | Z24: =COUNTIFS(FMZINP_2_Radītāju_progress!$H:$H,X24,FMZINP_2_Radītāju_progress!$U:$U,">3") -> 2 | AA24: =COUNTIFS(FMZINP_2_Radītāju_progress!$H:$H,X24,FMZINP_2_Radītāju_progress!$U:$U,3)+COUNTIFS(FMZINP_2_Radītāju_progress!$H:$H,X24,FMZINP_2_Radītāju_progress!$U:$U,2) -> 4 | AB24: =COUNTIFS(FMZINP_2_Radītāju_progress!$H:$H,X24,FMZINP_2_Radītāju_progress!$U:$U,"<2") -> 0 | AC24: {=IF(Z24>=1, _xlfn.TEXTJOIN(";",TRUE,_xlfn.UNIQUE(_xlfn._xlws.FILTER(FMZINP_2_Radītāju_progress!$A$14:$A$65,(FMZINP_2_Radītāju_progress!$H$14:$H$65=X24)*(FMZINP_2_Radītāju_progress!$U$14:$U$65>3)))), "")} -> 123;117 | AD24: {=IF(AA24>=1, _xlfn.TEXTJOIN(";",TRUE,_xlfn.UNIQUE(_xlfn._xlws.FILTER(FMZINP_2_Radītāju_progress!$A$14:$A$65,(FMZINP_2_Radītāju_progress!$H$14:$H$65=X24)*((FMZINP_2_Radītāju_progress!$U$14:$U$65=3)+(FMZINP_2_Radītāju_progress!$U$14:$U$65=2))))), "")} -> 114;125;130a;120 | AE24: {=IF(AB24>=1, _xlfn.TEXTJOIN(";",TRUE,_xlfn.UNIQUE(_xlfn._xlws.FILTER(FMZINP_2_Radītāju_progress!$A$14:$A$65,(FMZINP_2_Radītāju_progress!$H$14:$H$65=X24)*(FMZINP_2_Radītāju_progress!$U$14:$U$65<2)))), "")}
V25: 4 | W25: =SUM(Z25:AB25) -> 7 | X25: Klimata un enerģētikas ministrija | Y25: ="KEM"& "( "&W25 & ") " -> KEM( 7) | Z25: =COUNTIFS(FMZINP_2_Radītāju_progress!$H:$H,X25,FMZINP_2_Radītāju_progress!$U:$U,">3") -> 0 | AA25: =COUNTIFS(FMZINP_2_Radītāju_progress!$H:$H,X25,FMZINP_2_Radītāju_progress!$U:$U,3)+COUNTIFS(FMZINP_2_Radītāju_progress!$H:$H,X25,FMZINP_2_Radītāju_progress!$U:$U,2) -> 3 | AB25: =COUNTIFS(FMZINP_2_Radītāju_progress!$H:$H,X25,FMZINP_2_Radītāju_progress!$U:$U,"<2") -> 4 | AC25: {=IF(Z25>=1, _xlfn.TEXTJOIN(";",TRUE,_xlfn.UNIQUE(_xlfn._xlws.FILTER(FMZINP_2_Radītāju_progress!$A$14:$A$65,(FMZINP_2_Radītāju_progress!$H$14:$H$65=X25)*(FMZINP_2_Radītāju_progress!$U$14:$U$65>3)))), "")} | AD25: {=IF(AA25>=1, _xlfn.TEXTJOIN(";",TRUE,_xlfn.UNIQUE(_xlfn._xlws.FILTER(FMZINP_2_Radītāju_progress!$A$14:$A$65,(FMZINP_2_Radītāju_progress!$H$14:$H$65=X25)*((FMZINP_2_Radītāju_progress!$U$14:$U$65=3)+(FMZINP_2_Radītāju_progress!$U$14:$U$65=2))))), "")} -> 224;226;221 | AE25: {=IF(AB25>=1, _xlfn.TEXTJOIN(";",TRUE,_xlfn.UNIQUE(_xlfn._xlws.FILTER(FMZINP_2_Radītāju_progress!$A$14:$A$65,(FMZINP_2_Radītāju_progress!$H$14:$H$65=X25)*(FMZINP_2_Radītāju_progress!$U$14:$U$65<2)))), "")} -> 225;227;231;232
V26: =RANK(W26,$W$2:$W$12,0) -> 3 | W26: =SUM(Z26:AB26) -> 7 | X26: Viedās administrācijas un reģionālās attīstības ministrija | Y26: ="VARAM"& "( "&W26 & ") " -> VARAM( 7) | Z26: =COUNTIFS(FMZINP_2_Radītāju_progress!$H:$H,X26,FMZINP_2_Radītāju_progress!$U:$U,">3") -> 3 | AA26: =COUNTIFS(FMZINP_2_Radītāju_progress!$H:$H,X26,FMZINP_2_Radītāju_progress!$U:$U,3)+COUNTIFS(FMZINP_2_Radītāju_progress!$H:$H,X26,FMZINP_2_Radītāju_progress!$U:$U,2) -> 2 | AB26: =COUNTIFS(FMZINP_2_Radītāju_progress!$H:$H,X26,FMZINP_2_Radītāju_progress!$U:$U,"<2") -> 2 | AC26: {=IF(Z26>=1, _xlfn.TEXTJOIN(";",TRUE,_xlfn.UNIQUE(_xlfn._xlws.FILTER(FMZINP_2_Radītāju_progress!$A$14:$A$65,(FMZINP_2_Radītāju_progress!$H$14:$H$65=X26)*(FMZINP_2_Radītāju_progress!$U$14:$U$65>3)))), "")} -> 96;34;30 | AD26: {=IF(AA26>=1, _xlfn.TEXTJOIN(";",TRUE,_xlfn.UNIQUE(_xlfn._xlws.FILTER(FMZINP_2_Radītāju_progress!$A$14:$A$65,(FMZINP_2_Radītāju_progress!$H$14:$H$65=X26)*((FMZINP_2_Radītāju_progress!$U$14:$U$65=3)+(FMZINP_2_Radītāju_progress!$U$14:$U$65=2))))), "")} -> 39;76 | AE26: {=IF(AB26>=1, _xlfn.TEXTJOIN(";",TRUE,_xlfn.UNIQUE(_xlfn._xlws.FILTER(FMZINP_2_Radītāju_progress!$A$14:$A$65,(FMZINP_2_Radītāju_progress!$H$14:$H$65=X26)*(FMZINP_2_Radītāju_progress!$U$14:$U$65<2)))), "")} -> 15;109
V27: =RANK(W27,$W$2:$W$12,0) -> 2 | W27: =SUM(Z27:AB27) -> 9 | X27: Izglītības un zinātnes ministrija | Y27: ="IZM"& "( "&W27 & ") " -> IZM( 9) | Z27: =COUNTIFS(FMZINP_2_Radītāju_progress!$H:$H,X27,FMZINP_2_Radītāju_progress!$U:$U,">3") -> 3 | AA27: =COUNTIFS(FMZINP_2_Radītāju_progress!$H:$H,X27,FMZINP_2_Radītāju_progress!$U:$U,3)+COUNTIFS(FMZINP_2_Radītāju_progress!$H:$H,X27,FMZINP_2_Radītāju_progress!$U:$U,2) -> 6 | AB27: =COUNTIFS(FMZINP_2_Radītāju_progress!$H:$H,X27,FMZINP_2_Radītāju_progress!$U:$U,"<2") -> 0 | AC27: {=IF(Z27>=1, _xlfn.TEXTJOIN(";",TRUE,_xlfn.UNIQUE(_xlfn._xlws.FILTER(FMZINP_2_Radītāju_progress!$A$14:$A$65,(FMZINP_2_Radītāju_progress!$H$14:$H$65=X27)*(FMZINP_2_Radītāju_progress!$U$14:$U$65>3)))), "")} -> 160;106;68a | AD27: {=IF(AA27>=1, _xlfn.TEXTJOIN(";",TRUE,_xlfn.UNIQUE(_xlfn._xlws.FILTER(FMZINP_2_Radītāju_progress!$A$14:$A$65,(FMZINP_2_Radītāju_progress!$H$14:$H$65=X27)*((FMZINP_2_Radītāju_progress!$U$14:$U$65=3)+(FMZINP_2_Radītāju_progress!$U$14:$U$65=2))))), "")} -> 163;73;164;62;79a;61 | AE27: {=IF(AB27>=1, _xlfn.TEXTJOIN(";",TRUE,_xlfn.UNIQUE(_xlfn._xlws.FILTER(FMZINP_2_Radītāju_progress!$A$14:$A$65,(FMZINP_2_Radītāju_progress!$H$14:$H$65=X27)*(FMZINP_2_Radītāju_progress!$U$14:$U$65<2)))), "")}
V28: =RANK(W28,$W$2:$W$12,0) -> 1 | W28: =SUM(Z28:AB28) -> 10 | X28: Ekonomikas ministrija | Y28: ="EM"& "( "&W28 & ") " -> EM( 10) | Z28: =COUNTIFS(FMZINP_2_Radītāju_progress!$H:$H,X28,FMZINP_2_Radītāju_progress!$U:$U,">3") -> 1 | AA28: =COUNTIFS(FMZINP_2_Radītāju_progress!$H:$H,X28,FMZINP_2_Radītāju_progress!$U:$U,3)+COUNTIFS(FMZINP_2_Radītāju_progress!$H:$H,X28,FMZINP_2_Radītāju_progress!$U:$U,2) -> 7 | AB28: =COUNTIFS(FMZINP_2_Radītāju_progress!$H:$H,X28,FMZINP_2_Radītāju_progress!$U:$U,"<2") -> 2 | AC28: {=IF(Z28>=1, _xlfn.TEXTJOIN(";",TRUE,_xlfn.UNIQUE(_xlfn._xlws.FILTER(FMZINP_2_Radītāju_progress!$A$14:$A$65,(FMZINP_2_Radītāju_progress!$H$14:$H$65=X28)*(FMZINP_2_Radītāju_progress!$U$14:$U$65>3)))), "")} -> 18 | AD28: {=IF(AA28>=1, _xlfn.TEXTJOIN(";",TRUE,_xlfn.UNIQUE(_xlfn._xlws.FILTER(FMZINP_2_Radītāju_progress!$A$14:$A$65,(FMZINP_2_Radītāju_progress!$H$14:$H$65=X28)*((FMZINP_2_Radītāju_progress!$U$14:$U$65=3)+(FMZINP_2_Radītāju_progress!$U$14:$U$65=2))))), "")} -> 109b;20;156;9;103;12;109a | AE28: {=IF(AB28>=1, _xlfn.TEXTJOIN(";",TRUE,_xlfn.UNIQUE(_xlfn._xlws.FILTER(FMZINP_2_Radītāju_progress!$A$14:$A$65,(FMZINP_2_Radītāju_progress!$H$14:$H$65=X28)*(FMZINP_2_Radītāju_progress!$U$14:$U$65<2)))), "")} -> 64;44a
Z29: =SUM(Z18:Z28) -> 15 | AA29: =SUM(AA18:AA28) -> 29 | AB29: =SUM(AB18:AB28) -> 8
D37: Izpildāmo rādītāju vērtējums ministriju dalījumā (neizpildīto rādītāju kodi, ekspertiem)

Sheet Izejas_dati_finans_maksājumi
A1: Atveseļošanas fonda projekti (AF) finansējuma avots un projektos veiktie maksājumi.
A2: Tabulā dati grupēti atbilstoši no lielākā atlikušā maksājuma projektā
A3: Sagatavots 17.12.2025
A5: Reforma/Investīcija | B5: Projekta Kods | C5: Projekta Nosaukums | D5: Projekta līguma slēgšanas datums | E5: Projekta finansējuma saņēmējs | F5: Nozares ministrija | G5: Finansējuma avots | H5: AF | I5: AF | J5: AF
G6: Projektu statusi | H6: Finansēšanas plāna summa | I6: Veiktie_maksājumi | J6: Atlikušie maksājumi (AF)
A7: 1.1.1.i | B7: 1.1.1.1.i.2/2/25/I/CFLA/001 | C7: Uzlabot pasažieru infrastruktūru, izbūvējot Rīgas Centrālās dzelzceļa stacijas dienvidu daļu. | D7: 45965 | E7: Sabiedrība ar ierobežotu atbildību "EIROPAS DZELZCEĻA LĪNIJAS" | F7: Satiksmes ministrija | G7: Līgums | H7: 114627980 | I7: =SUMIFS(Maksājumi_statusa!K:K,Maksājumi_statusa!D:D,B7) -> 20000000 | J7: =H7-I7 -> 94627980
A8: 3.1.1.1.i | B8: 3.1.1.1.i.0/1/22/I/VARAM/001 | C8: Valsts reģionālo un vietējo autoceļu tīkla uzlabošana | D8: 45274 | E8: Satiksmes ministrija | F8: Viedās administrācijas un reģionālās attīstības ministrija | G8: Līgums | H8: 110300000 | I8: =SUMIFS(Maksājumi_statusa!K:K,Maksājumi_statusa!D:D,B8) -> 67168427 | J8: =H8-I8 -> 43131573
A9: 2.2.1.2.i | B9: 2.2.1.2.i.0/1/23/I/EM/001 | C9: Atbalsts procesu digitalizācijai | D9: 45079 | E9: Latvijas Investīciju un attīstības aģentūra | F9: Ekonomikas ministrija | G9: Līgums | H9: 36000000 | I9: =SUMIFS(Maksājumi_statusa!K:K,Maksājumi_statusa!D:D,B9) -> 3022984.2 | J9: =H9-I9 -> 32977016
A10: 4.1.1.2.i | B10: 4.1.1.2.i.0/1/22/I/CFLA/002 | C10: SIA “Rīgas Austrumu klīniskā universitātes slimnīca” infekciju slimību un plaušu veselības korpusa būvniecība | D10: 44862 | E10: SIA "Rīgas Austrumu klīniskā universitātes slimnīca" | F10: Veselības ministrija | G10: Līgums | H10: 38314676 | I10: =SUMIFS(Maksājumi_statusa!K:K,Maksājumi_statusa!D:D,B10) -> 5739696.5 | J10: =H10-I10 -> 32574980
A11: 3.1.1.7.i | B11: 3.1.1.7.i.0/1/25/FI/EM/001 | C11: Aizdevumi nekustamā īpašuma attīstītājiem zemas īres maksas mājokļu būvniecībai | D11: 45821 | E11: Akciju sabiedrība "Attīstības finanšu institūcija Altum" | F11: Ekonomikas ministrija | G11: Līgums | H11: 29020919 | I11: =SUMIFS(Maksājumi_statusa!K:K,Maksājumi_statusa!D:D,B11) -> 0 | J11: =H11-I11 -> 29020919
A12: 7.1.1.2.i | B12: 7.1.1.2.i.0/1/24/I/CFLA/001 | C12: AS "Sadales tīkls" elektroenerģijas sadales tīklu modernizācija | D12: 45583 | E12: Akciju sabiedrība "Sadales tīkls" | F12: Klimata un enerģētikas ministrija | G12: Līgums | H12: 60000000 | I12: =SUMIFS(Maksājumi_statusa!K:K,Maksājumi_statusa!D:D,B12) -> 34677302 | J12: =H12-I12 -> 25322698
A13: 1.1.1.i | B13: 1.1.1.1.i.2/1/23/I/CFLA/001 | C13: Dzelzceļa elektrificētā tīkla modernizācija un attīstība | D13: 45350 | E13: Valsts akciju sabiedrība "Latvijas dzelzceļš" | F13: Satiksmes ministrija | G13: Līgums | H13: 72700000 | I13: =SUMIFS(Maksājumi_statusa!K:K,Maksājumi_statusa!D:D,B13) -> 49014694 | J13: =H13-I13 -> 23685306
A14: 2.3.1.4.i | B14: 2.3.1.4.i.0/1/23/I/CFLA/001 | C14: Individuālo mācību kontu pieejas attīstība | D14: 45205 | E14: Valsts izglītības attīstības aģentūra | F14: Izglītības un zinātnes ministrija | G14: Līgums | H14: 18506000 | I14: =SUMIFS(Maksājumi_statusa!K:K,Maksājumi_statusa!D:D,B14) -> 1525896.4 | J14: =H14-I14 -> 16980104
A15: 4.1.1.2.i | B15: 4.1.1.2.i.0/1/22/I/CFLA/004 | C15: Mūsdienīgas infrastruktūras attīstība integrētu veselības aprūpes pakalpojumu nodrošināšanai P. Stradiņa slimnīcā | D15: 44875 | E15: Valsts sabiedrība ar ierobežotu atbildību "Paula Stradiņa klīniskā universitātes slimnīca" | F15: Veselības ministrija | G15: Līgums | H15: 34746476 | I15: =SUMIFS(Maksājumi_statusa!K:K,Maksājumi_statusa!D:D,B15) -> 18461474 | J15: =H15-I15 -> 16285002
A16: 1.3.1.1.i | B16: 1.3.1.1.i.0/1/23/I/IEM/001 | C16: “Glābšanas dienestu kapacitātes stiprināšana, īpaši Valsts ugunsdzēsības un glābšanas dienesta infrastruktūras un materiāltehniskās bāzes modernizācija” | D16: 44979 | E16: Nodrošinājuma valsts aģentūra | F16: Iekšlietu ministrija | G16: Līgums | H16: 36630000 | I16: =SUMIFS(Maksājumi_statusa!K:K,Maksājumi_statusa!D:D,B16) -> 20487708 | J16: =H16-I16 -> 16142292
A17: 5.2.1.1.i | B17: 5.2.1.1.i.0/2/24/I/CFLA/003 | C17: Konsolidācijas un pārvaldības izmaiņu ieviešana Rīgas Tehniskajā universitātē, Liepājas Universitātē, Rēzeknes Tehnoloģiju akadēmijā un Latvijas Jūras akadēmijā un Liepājas Jūrniecības koledžā virzībai uz izcilību augstākajā izglītībā, zinātnē un inovācijās | D17: 45470 | E17: Rīgas Tehniskā universitāte | F17: Izglītības un zinātnes ministrija | G17: Līgums | H17: 33420377 | I17: =SUMIFS(Maksājumi_statusa!K:K,Maksājumi_statusa!D:D,B17) -> 20142420 | J17: =H17-I17 -> 13277957
A18: 4.1.1.2.i | B18: 4.1.1.2.i.0/1/22/I/CFLA/006 | C18: VSIA “Bērnu klīniskā universitātes slimnīca” integrētās veselības aprūpes sistēmas attīstība | D18: 44888 | E18: Valsts sabiedrība ar ierobežotu atbildību "Bērnu klīniskā universitātes slimnīca" | F18: Veselības ministrija | G18: Līgums | H18: 33860399 | I18: =SUMIFS(Maksājumi_statusa!K:K,Maksājumi_statusa!D:D,B18) -> 21121776 | J18: =H18-I18 -> 12738623
... A128: 2.3.1.1.i | B128: 2.3.1.1.i.0/1/22/I/CFLA/001 | C128: Kvantu tehnoloģiju iniciatīva | D128: 44970 | E128: Latvijas Universitāte | F128: Izglītības un zinātnes ministrija | G128: Līgums | H128: 6000000 | I128: =SUMIFS(Maksājumi_statusa!K:K,Maksājumi_statusa!D:D,B128) -> 4431113.4 | J128: =H128-I128 -> 1568886.6
A129: 3.1.1.5.i | B129: 3.1.1.5.i.0/3/25/I/CFLA/002 | C129: Izglītības iestāžu infrastruktūras uzlabošana Priekulē un Vaiņodē | E129: Dienvidkurzemes novada pašvaldība | F129: Izglītības un zinātnes ministrija | G129: Apstiprināts | H129: 1559007 | I129: =SUMIFS(Maksājumi_statusa!K:K,Maksājumi_statusa!D:D,B129) -> 0 | J129: =H129-I129 -> 1559007
A130: 2.1.2.1.i | B130: 2.1.2.1.i.0/2/24/I/CFLA/005 | C130: Pašvaldību vēlēšanu un referendumu IS funkcionalitātes pilnveide | D130: 45747 | E130: Valsts digitālās attīstības aģentūra | F130: Viedās administrācijas un reģionālās attīstības ministrija | G130: Līgums | H130: 1583920 | I130: =SUMIFS(Maksājumi_statusa!K:K,Maksājumi_statusa!D:D,B130) -> 27479.02 | J130: =H130-I130 -> 1556441
A131: 2.2.1.1.i | B131: 2.2.1.1.i.0/1/23/I/CFLA/001 | C131: EDIC: atbalsts digitalizācijai un mākslīgā intelekta attīstībai Latvijā | D131: 45041 | E131: "Latvijas Informācijas tehnoloģiju klasteris" | F131: Ekonomikas ministrija | G131: Līgums | H131: 5000000 | I131: =SUMIFS(Maksājumi_statusa!K:K,Maksājumi_statusa!D:D,B131) -> 3447511.5 | J131: =H131-I131 -> 1552488.5
A132: 5.1.1.1.i | B132: 5.1.1.1.i.0/1/23/I/EM/001 | C132: Pilnvērtīga inovāciju sistēmas pārvaldības modeļa izstrāde un tā nepārtraukta darbināšana. | D132: 45327 | E132: Ekonomikas ministrija | F132: Ekonomikas ministrija | G132: Līgums | H132: 1765013 | I132: =SUMIFS(Maksājumi_statusa!K:K,Maksājumi_statusa!D:D,B132) -> 243807.49 | J132: =H132-I132 -> 1521205.5
A133: 1.1.1.i | B133: 1.1.1.2.i.1/1/23/I/CFLA/001 | C133: Emisiju samazināšana Rīgas valstspilsētā - elektroautobusu iegāde un elektrouzlādes tīkla attīstība. | D133: 45306 | E133: Rīgas pašvaldības sabiedrība ar ierobežotu atbildību "Rīgas satiksme" | F133: Satiksmes ministrija | G133: Līgums | H133: 14270000 | I133: =SUMIFS(Maksājumi_statusa!K:K,Maksājumi_statusa!D:D,B133) -> 12764995 | J133: =H133-I133 -> 1505004.6
A134: 2.1.2.1.i | B134: 2.1.2.1.i.0/1/23/I/VARAM/007 | C134: Cilvēkresursu vienotās pārvaldības sistēmas ieviešana | D134: 45322 | E134: Valsts kanceleja | F134: Viedās administrācijas un reģionālās attīstības ministrija | G134: Līgums | H134: 1680000 | I134: =SUMIFS(Maksājumi_statusa!K:K,Maksājumi_statusa!D:D,B134) -> 191168.17 | J134: =H134-I134 -> 1488831.8
A135: 2.1.2.1.i | B135: 2.1.2.1.i.0/1/23/I/VARAM/008 | C135: Mācīšanās un attīstības sistēmas ieviešana | D135: 45265 | E135: Valsts administrācijas skola | F135: Viedās administrācijas un reģionālās attīstības ministrija | G135: Līgums | H135: 1680000 | I135: =SUMIFS(Maksājumi_statusa!K:K,Maksājumi_statusa!D:D,B135) -> 239537.52 | J135: =H135-I135 -> 1440462.5
A136: 1.1.1.i | B136: 1.1.1.2.i.2/1/24/I/CFLA/003 | C136: Videi draudzīga mobilitātes punkta infrastruktūras izbūve Saulkrastos | D136: 45426 | E136: Saulkrastu novada pašvaldība | F136: Satiksmes ministrija | G136: Līgums | H136: 2465750 | I136: =SUMIFS(Maksājumi_statusa!K:K,Maksājumi_statusa!D:D,B136) -> 1077460.8 | J136: =H136-I136 -> 1388289.2
A137: 4.1.1.2.i | B137: 4.1.1.2.i.0/2/25/I/CFLA/001 | C137: “VSIA "Traumatoloģijas un ortopēdijas slimnīca" veselības aprūpes infrastruktūras stiprināšana, lai nodrošinātu visaptverošus un ilgtspējīgus veselības aprūpes pakalpojumus. | D137: 45761 | E137: Valsts sabiedrība ar ierobežotu atbildību "Traumatoloģijas un ortopēdijas slimnīca" | F137: Veselības ministrija | G137: Līgums | H137: 2711765 | I137: =SUMIFS(Maksājumi_statusa!K:K,Maksājumi_statusa!D:D,B137) -> 1326179.4 | J137: =H137-I137 -> 1385585.6
A138: 1.3.1.2.i | B138: 1.3.1.2.i.0/1/24/I/LAD/016 | C138: Valsts meliorācijas sistēmas Vēžu poldera sūkņu stacijas, meliorācijas kadastra kods S31550:001001 Salas pagastā, Jēkabpils novadā pārbūve | D138: 45481 | E138: Valsts sabiedrība ar ierobežotu atbildību "Zemkopības ministrijas nekustamie īpašumi" | F138: Zemkopības ministrija | G138: Līgums | H138: 1381189.6 | I138: =SUMIFS(Maksājumi_statusa!K:K,Maksājumi_statusa!D:D,B138) -> 0 | J138: =H138-I138 -> 1381189.6
A139: 3.1.1.5.i | B139: 3.1.1.5.i.0/3/25/I/CFLA/001 | C139: Jaunpils vidusskolas infrastruktūras pilnveide un aprīkošana | D139: 45957 | E139: Tukuma novada pašvaldība | F139: Izglītības un zinātnes ministrija | G139: Līgums | H139: 1376489 | I139: =SUMIFS(Maksājumi_statusa!K:K,Maksājumi_statusa!D:D,B139) -> 0 | J139: =H139-I139 -> 1376489
A140: 1.2.1.4.i | B140: 1.2.1.4.i.0/1/23/I/CFLA/003 | C140: Saules parks pašpatēriņa elektroenerģijas nodrošināšanai LNB | D140: 45289 | E140: Latvijas Nacionālā bibliotēka | F140: Ekonomikas ministrija | G140: Līgums | H140: 1428864.2 | I140: =SUMIFS(Maksājumi_statusa!K:K,Maksājumi_statusa!D:D,B140) -> 55122.76 | J140: =H140-I140 -> 1373741.4
A141: 3.1.1.5.i | B141: 3.1.1.5.i.0/1/24/I/CFLA/006 | C141: Lejasciema un Lizuma pamatskolu infrastruktūras pilnveide un aprīkošana | D141: 45519 | E141: Gulbenes novada pašvaldība | F141: Izglītības un zinātnes ministrija | G141: Līgums | H141: 2312758 | I141: =SUMIFS(Maksājumi_statusa!K:K,Maksājumi_statusa!D:D,B141) -> 943417.08 | J141: =H141-I141 -> 1369340.9
... A194: 2.1.2.1.i | B194: 2.1.2.1.i.0/2/23/I/CFLA/001 | C194: Prokuratūras informācijas sistēmas attīstība - E-lietas 2.posms | D194: 45345 | E194: Latvijas Republikas prokuratūra | F194: Viedās administrācijas un reģionālās attīstības ministrija | G194: Līgums | H194: 890000 | I194: =SUMIFS(Maksājumi_statusa!K:K,Maksājumi_statusa!D:D,B194) -> 329401.85 | J194: =H194-I194 -> 560598.15
A195: 2.1.3.1.i | B195: 2.1.3.1.i.0/1/25/I/VARAM/012 | C195: Energokopienu procesa digitalizācija | E195: Būvniecības valsts kontroles birojs | F195: Viedās administrācijas un reģionālās attīstības ministrija | G195: Iesniegts | H195: 541940 | I195: =SUMIFS(Maksājumi_statusa!K:K,Maksājumi_statusa!D:D,B195) -> 0 | J195: =H195-I195 -> 541940
A196: 5.1.1.2.i | B196: 5.1.1.2.i.0/1/22/A/CFLA/007 | C196: Meža nozares kompetences centrs | D196: 44946 | E196: SIA "Meža nozares kompetences centrs" | F196: Ekonomikas ministrija | G196: Līgums | H196: 3125000 | I196: =SUMIFS(Maksājumi_statusa!K:K,Maksājumi_statusa!D:D,B196) -> 2606145.9 | J196: =H196-I196 -> 518854.11
A197: 2.3.1.2.i | B197: 2.3.1.2.i.0/3/24/I/CFLA/002 | C197: Digitālās inovācijas un uzņēmējdarbības digitālo prasmju attīstība komersantiem | D197: 45681 | E197: Daugavpils Universitāte | F197: Ekonomikas ministrija | G197: Līgums | H197: 591225.65 | I197: =SUMIFS(Maksājumi_statusa!K:K,Maksājumi_statusa!D:D,B197) -> 75000 | J197: =H197-I197 -> 516225.65
A198: 3.1.2.1.i | B198: 3.1.2.1.i.0/1/22/I/CFLA/018 | C198: Labklājības ministrijas valdījumā esošo ēku vides pieejamības nodrošināšanas pasākumi. | D198: 45030 | E198: Valsts sabiedrība ar ierobežotu atbildību "Šampētera nams" | F198: Labklājības ministrija | G198: Līgums | H198: 1393122.2 | I198: =SUMIFS(Maksājumi_statusa!K:K,Maksājumi_statusa!D:D,B198) -> 896974.74 | J198: =H198-I198 -> 496147.44
A199: 4.2.1.1.i | B199: 4.2.1.1.i.0/1/24/I/VM/011 | C199: Simulāciju tehnoloģijas BKUS cilvēkresursu prasmju attīstīšanai | D199: 45757 | E199: Valsts sabiedrība ar ierobežotu atbildību "Bērnu klīniskā universitātes slimnīca" | F199: Veselības ministrija | G199: Līgums | H199: 493333 | I199: =SUMIFS(Maksājumi_statusa!K:K,Maksājumi_statusa!D:D,B199) -> 0 | J199: =H199-I199 -> 493333
A200: 4.2.1.1.i | B200: 4.2.1.1.i.0/1/24/I/VM/009 | C200: Simulācijās balstītas mācību vides attīstīšana PSKUS mācību centrā tālākizglītības procesu pilnveidošanai | D200: 45709 | E200: Valsts sabiedrība ar ierobežotu atbildību "Paula Stradiņa klīniskā universitātes slimnīca" | F200: Veselības ministrija | G200: Līgums | H200: 493333 | I200: =SUMIFS(Maksājumi_statusa!K:K,Maksājumi_statusa!D:D,B200) -> 0 | J200: =H200-I200 -> 493333
A201: 1.3.1.2.i | B201: 1.3.1.2.i.0/1/23/I/LAD/005 | C201: Valsts meliorācijas sistēmas Auces poldera aizsargdambja D-2, meliorācijas kadastra kods D30460:001001, pik. 00/00-39/03 Līvbērzes pagastā, Jelgavas novadā atjaunošana | D201: 45324 | E201: Valsts sabiedrība ar ierobežotu atbildību "Zemkopības ministrijas nekustamie īpašumi" | F201: Zemkopības ministrija | G201: Līgums | H201: 473867.37 | I201: =SUMIFS(Maksājumi_statusa!K:K,Maksājumi_statusa!D:D,B201) -> 0 | J201: =H201-I201 -> 473867.37
A202: 1.2.1.3.i | B202: 1.2.1.3.i.0/1/23/A/CFLA/015 | C202: Energoefektivitātes uzlabošana Talsu novada pašvaldības iestādes Pansionāts “Lauciene” ēkām | D202: 45357 | E202: Talsu novada pašvaldība | F202: Viedās administrācijas un reģionālās attīstības ministrija | G202: Līgums | H202: 1160946.8 | I202: =SUMIFS(Maksājumi_statusa!K:K,Maksājumi_statusa!D:D,B202) -> 696568.07 | J202: =H202-I202 -> 464378.72
A203: 5.2.1.1.i | B203: 5.2.1.1.i.0/2/24/I/CFLA/002 | C203: LBTU institucionālās kapacitātes stiprināšana izcilībai studijās un pētniecībā | D203: 45464 | E203: Latvijas Biozinātņu un tehnoloģiju universitāte | F203: Izglītības un zinātnes ministrija | G203: Līgums | H203: 3728808 | I203: =SUMIFS(Maksājumi_statusa!K:K,Maksājumi_statusa!D:D,B203) -> 3276461.8 | J203: =H203-I203 -> 452346.17
A204: 1.1.1.i | B204: 1.1.1.2.i.2/1/24/I/CFLA/002 | C204: Mobilitātes punkta infrastruktūras izveidošana Rīgas metropoles areālā - "Carnikava" | D204: 45407 | E204: Ādažu novada pašvaldība | F204: Satiksmes ministrija | G204: Līgums | H204: 1186500 | I204: =SUMIFS(Maksājumi_statusa!K:K,Maksājumi_statusa!D:D,B204) -> 740677.32 | J204: =H204-I204 -> 445822.68
A205: 1.2.1.3.i | B205: 1.2.1.3.i.0/1/23/A/CFLA/073 | C205: Ēku siltināšana Promenādes ielā 1a, Jūrmalā | D205: 45457 | E205: Sabiedrība ar ierobežotu atbildību "Jūrmalas ūdens" | F205: Viedās administrācijas un reģionālās attīstības ministrija | G205: Līgums | H205: 1074926.6 | I205: =SUMIFS(Maksājumi_statusa!K:K,Maksājumi_statusa!D:D,B205) -> 631160.21 | J205: =H205-I205 -> 443766.35
A206: 4.2.1.r | B206: 4.2.1.r.0/1/24/I/VM/001 | C206: Veselības darbaspēka stratēģisko attīstības risinājumu ieviešana | D206: 45476 | E206: Latvijas Republikas Veselības ministrija | F206: Veselības ministrija | G206: Līgums | H206: 500000 | I206: =SUMIFS(Maksājumi_statusa!K:K,Maksājumi_statusa!D:D,B206) -> 65349.99 | J206: =H206-I206 -> 434650.01
A207: 6.3.1.4.i | B207: 6.3.1.4.i.0/1/23/A/SIF/020 | C207: Trešās paaudzes universitāšu tīkla izveide Latvijā sabiedrības vecākās paaudzes sociālās labklājības un drošības vairošanas interesēs | D207: 45189 | E207: "Vidusdaugavas NVO centrs" | F207: Valsts kanceleja | G207: Līgums | H207: 429381 | I207: =SUMIFS(Maksājumi_statusa!K:K,Maksājumi_statusa!D:D,B207) -> 0 | J207: =H207-I207 -> 429381
... A297: 5.1.1.2.i | B297: 5.1.1.2.i.0/3/24/A/CFLA/001 | C297: Drukas un mediju sadarbības tīkls | D297: 45379 | E297: Latvijas Poligrāfijas uzņēmumu asociācija | F297: Ekonomikas ministrija | G297: Līgums | H297: 437325 | I297: =SUMIFS(Maksājumi_statusa!K:K,Maksājumi_statusa!D:D,B297) -> 348045.98 | J297: =H297-I297 -> 89279.02
A298: 2.1.3.1.i | B298: 2.1.3.1.i.0/1/25/I/VARAM/013 | C298: Aizsargātā lietotāja datu informācijas sistēmas procesu digitalizācija | E298: Būvniecības valsts kontroles birojs | F298: Viedās administrācijas un reģionālās attīstības ministrija | G298: Iesniegts | H298: 89060 | I298: =SUMIFS(Maksājumi_statusa!K:K,Maksājumi_statusa!D:D,B298) -> 0 | J298: =H298-I298 -> 89060
A299: 3.1.2.1.i | B299: 3.1.2.1.i.0/2/24/I/CFLA/038 | C299: Atbalsta pasākumi cilvēkiem ar invaliditāti mājokļu vides pieejamības nodrošināšanai Limbažu novadā | D299: 45513 | E299: Limbažu novada pašvaldība | F299: Labklājības ministrija | G299: Līgums | H299: 109794 | I299: =SUMIFS(Maksājumi_statusa!K:K,Maksājumi_statusa!D:D,B299) -> 20748 | J299: =H299-I299 -> 89046
A300: 4.1.1.3.i | B300: 4.1.1.3.i.0/1/23/I/CFLA/031 | C300: Sekundārās veselības aprūpes infrastruktūras uzlabošana AS “Veselības centru apvienība” veselības aprūpes pakalpojumu sniegšanas adresēs” | D300: 45338 | E300: AS "Veselības centru apvienība" | F300: Veselības ministrija | G300: Līgums | H300: 883172.64 | I300: =SUMIFS(Maksājumi_statusa!K:K,Maksājumi_statusa!D:D,B300) -> 794855.38 | J300: =H300-I300 -> 88317.26
A301: 2.3.1.2.i | B301: 2.3.1.2.i.0/2/23/A/CFLA/001 | C301: IKT un saistīto nozaru digitālo prasmju apmācību projekts | D301: 45457 | E301: Latvijas Datortehnoloģiju asociācija | F301: Ekonomikas ministrija | G301: Līgums | H301: 567000 | I301: =SUMIFS(Maksājumi_statusa!K:K,Maksājumi_statusa!D:D,B301) -> 480605.89 | J301: =H301-I301 -> 86394.11
A302: 6.3.1.4.i | B302: 6.3.1.4.i.0/1/23/A/SIF/014 | C302: Sociālās drošības interešu pārstāvības tīkls | D302: 45215 | E302: Fonds PLECS | F302: Valsts kanceleja | G302: Līgums | H302: 120107.5 | I302: =SUMIFS(Maksājumi_statusa!K:K,Maksājumi_statusa!D:D,B302) -> 36032.25 | J302: =H302-I302 -> 84075.25
A303: 3.1.2.1.i | B303: 3.1.2.1.i.0/1/22/I/CFLA/007 | C303: Vides pieejamības uzlabošana Salaspils novada Sociālajā dienestā Kalnu ielā 2 un Acones sociālajā centrā | D303: 44995 | E303: Salaspils novada pašvaldība | F303: Labklājības ministrija | G303: Līgums | H303: 309784 | I303: =SUMIFS(Maksājumi_statusa!K:K,Maksājumi_statusa!D:D,B303) -> 226284.47 | J303: =H303-I303 -> 83499.53
A304: 3.1.2.1.i | B304: 3.1.2.1.i.0/2/24/I/CFLA/028 | C304: Atbalsta pasākumu cilvēkiem ar invaliditāti mājokļu vides pieejamības nodrošināšana Dienvidkurzemes novadā | D304: 45503 | E304: Dienvidkurzemes novada pašvaldība | F304: Labklājības ministrija | G304: Līgums | H304: 109794 | I304: =SUMIFS(Maksājumi_statusa!K:K,Maksājumi_statusa!D:D,B304) -> 26640 | J304: =H304-I304 -> 83154
A305: 2.2.1.5.i | B305: 2.2.1.5.i.0/1/24/A/CFLA/001 | C305: “RĪGAS VIĻŅI mediju digitālās transformācijas projekts” | D305: 45646 | E305: Sabiedrība ar ierobežotu atbildību "IZDEVNIECĪBA RĪGAS VIĻŅI" | F305: Kultūras ministrija | G305: Līgums | H305: 735000 | I305: =SUMIFS(Maksājumi_statusa!K:K,Maksājumi_statusa!D:D,B305) -> 651930.26 | J305: =H305-I305 -> 83069.74
A306: 2.2.1.5.i | B306: 2.2.1.5.i.0/1/24/A/CFLA/008 | C306: Automatizētās televīzijas (TV) režijas studijas (production control room and newsroom) izveidošana un personalizētas reklāmas SIA All Media Latvia lineāro TV programmu risinājuma ieviešana digitālajās platformās | D306: 45678 | E306: SIA All Media Latvia | F306: Kultūras ministrija | G306: Līgums | H306: 749300.22 | I306: =SUMIFS(Maksājumi_statusa!K:K,Maksājumi_statusa!D:D,B306) -> 666519.62 | J306: =H306-I306 -> 82780.6
A307: 3.1.2.1.i | B307: 3.1.2.1.i.0/2/24/I/CFLA/033 | C307: Atbalsta pasākumi cilvēkiem ar invaliditāti mājokļu vides pieejamības nodrošināšanai Saldus novadā | D307: 45495 | E307: Saldus novada pašvaldība | F307: Labklājības ministrija | G307: Līgums | H307: 128093 | I307: =SUMIFS(Maksājumi_statusa!K:K,Maksājumi_statusa!D:D,B307) -> 47319.14 | J307: =H307-I307 -> 80773.86
A308: 5.1.1.2.i | B308: 5.1.1.2.i.0/3/24/A/CFLA/008 | C308: Latvijas Drošības un aizsardzības industriju sadarbības tīkla izveide | D308: 45400 | E308: "Latvijas Drošības un aizsardzības industriju federācija" | F308: Ekonomikas ministrija | G308: Līgums | H308: 437332.05 | I308: =SUMIFS(Maksājumi_statusa!K:K,Maksājumi_statusa!D:D,B308) -> 358712.47 | J308: =H308-I308 -> 78619.58
A309: 2.2.1.5.i | B309: 2.2.1.5.i.0/1/24/A/CFLA/011 | C309: Mediju uzņēmuma ražošanas un satura izplatīšanas cikla digitalizācija | D309: 45625 | E309: Sabiedrība ar ierobežotu atbildību "4.vara" | F309: Kultūras ministrija | G309: Līgums | H309: 749680 | I309: =SUMIFS(Maksājumi_statusa!K:K,Maksājumi_statusa!D:D,B309) -> 674712 | J309: =H309-I309 -> 74968
A310: 2.2.1.5.i | B310: 2.2.1.5.i.0/1/24/A/CFLA/006 | C310: TV24 darbības modernizēšana un digitalizēšana | D310: 45671 | E310: Akciju sabiedrība "TV LATVIJA" | F310: Kultūras ministrija | G310: Līgums | H310: 747069.8 | I310: =SUMIFS(Maksājumi_statusa!K:K,Maksājumi_statusa!D:D,B310) -> 672362.82 | J310: =H310-I310 -> 74706.98
... A471: 3.1.2.1.i | B471: 3.1.2.1.i.0/1/22/I/CFLA/017 | C471: Vides pieejamības prasību nodrošināšana ēkā Krišjāņa Valdemāra ielā 13, Daugavpilī | D471: 44910 | E471: Daugavpils valstspilsētas pašvaldība | F471: Labklājības ministrija | G471: Pabeigts | H471: 57163.86 | I471: =SUMIFS(Maksājumi_statusa!K:K,Maksājumi_statusa!D:D,B471) -> 90463.86 | J471: =H471-I471 -> -33300

Sheet Grafikam_M&T_Kopā
A1: Grafikam_M&T_Kopā_divmenesis
A3: Komponente Nosaukums | B3: Komponente Nosaukums angliski | C3: R/I Kods | D3: R/I CID kods | E3: R/I Reforma / Investīcija | F3: Rādītājs Kods | G3: Rādītājs CID kods | H3: Rādītājs Apraksts | I3: Rādītāja tips | J3: Nozares ministrija | K3: Statuss (Virsprojekts) | L3: Visp. MPEK atsauce | M3: Visp. Sasniedzamā vērtība | N3: Visp. Sasniedzamā teksta vērtība | O3: Visp. Aktuālā teksta vērtība | P3: Rādītāja mērvienība | Q3: Mērķa_gads | R3: Izpilde grafikiem | S3: Rādītāju vērtība
A4: Klimata pārmaiņas | B4: Climate change | C4: 1.1.1.r | D4: LV-C[C1]-R[1-1-1-r-] | E4: Reforma | F4: 1 | G4: LV-C[C1]-R[1-1-1-r-]-M[1] | H4: Vajadzīgo pasākumu pabeigšana, lai ieviestu koordinēto pieeju. Šādi pasākumi citu starpā ir: — darba grupas izveide Rīgas metropoles areāla sabiedriskā transporta plānošanas koordinācijai; — Rīgas metropoles areāla sabiedriskā transporta plāna pieņemšana atbilstoši pasažieru pārvadājumu pa dzelzceļu attīstībai Latvijā. | I4: Atskaites punkts | J4: Satiksmes ministrija | K4: Pabeigts | L4: 3 | N4: Ieviesta koordinēta pieeja pasažieru pārvadājumu plānošanai, pasūtīšanai un organizācijai Rīgas metropoles areālā | O4: Rīgas metropoles areāla sabiedriskā transporta plānošanas koordinācijas darba grupas ietvaros ir izstrādāts plāna projekts “Rīgas metropoles areāla ilgtspējīga integrēta sabiedriskā transporta plāns no 2024. līdz 2030.gadam”. 04.09.-19.09.2023. Vienotā tiesību aktu projektu izstrādes un saskaņošanas portāla (TAP portāls) ietvaros tika organizēta plāna publiskā apspriešana. Plāna projekts TAP portālā nodots starpinstitūciju saskaņošanai 08.12.2023.-22.12.2023., 09.01.2024.-16.01.2024., 08.02.2024.-19.02.2024. un 04.03.2024.-11.03.2024. 26.03.2024.organizēta starpinstitūciju sanāksme. 05.04.2024.-12.04.2024. plāna projekts tika atkārtoti nodots starpinstitūciju saskaņošanai. Plāna projekts tika precizēts atbilstoši starpinstitūciju saskaņošanas ietvaros saņemtajiem komentāriem. 23.04.2024. plāna projekts iesniegts Valsts kancelejā izskatīšanai Ministru kabinetā. 17.06.2024. tika saņemta Ministru prezidentes rezolūcija, uzdodot aktualizēt tiesību akta projektu attiecībā uz tajā ietverto informāciju par Rail Baltica projekta tvērumu un iesniegt precizētu tiesību akta projektu. 01.07.2024. atbilstoši Ministru prezidentes rezolūcijai precizētais plāna projekts atkārtoti iesniegts Valsts kancelejā izskatīšanai Ministru kabinetā. 27.09.2024. tika saņemta Ministru prezidentes rezolūcija, uzdodot precizēt plāna projektu, aktualizējot Rīgas metropoles transporta sistēmas attīstībai plānotās investīcijas atbilstoši aktuālajai situācijai un plāniem, to īstenošanas termiņus, finansējuma apmēru un avotus katram plānotajam pasākumam, t.sk. Rail Baltica projekta kontekstā. 12.11.2024. atbilstoši Ministru prezidentes rezolūcijai precizētais plāna projekts atkārtoti tika iesniegts Valsts kancelejā izskatīšanai Ministru kabinetā. 25.11.2024. tika saņemti Finanšu ministrijas iebildumi par plāna projektu. Plāna projekts tika precizēts atbilstoši Finanšu ministrijas komentāriem un 03.12.2024. atkārtoti iesniegts Valsts kancelejā izskatīšanai Ministru kabinetā. Plāns izskatīts un apstiprināts Ministru kabineta 03.12.2024.sēdē. | P4: N | Q4: 2023 | R4: Pabeigts | T4: =INDEX([1]Worksheet!$G:$G,MATCH(G4,[1]Worksheet!$D:$D,0)) -> 0
A5: Klimata pārmaiņas | B5: Climate change | C5: 1.1.1.r | D5: LV-C[C1]-R[1-1-1-r-] | E5: Reforma | F5: 2 | G5: LV-C[C1]-R[1-1-1-r-]-M[2] | H5: Sabiedriskā transporta padomes apstiprinātais valsts transporta maršrutu tīkla pārskats: - Vienotas sabiedriskā transporta atlaižu politikas valsts līmenī regulējošu tiesību aktu spēkā stāšanās; - Sabiedriskā transporta saskaņoto reģionālo autobusu un vilcienu maršrutu grafiku regulējošu tiesību aktu spēkā stāšanās, tostarp vienota tarifa un vienotas sabiedriskā transporta biļešu sistēmas ieviešana; - Vienotas biļetes pilotprojekta ieviešana sabiedriskajam transportam pilsētas sabiedriskajā transportā un vilcieniem Rīgas pašvaldībā. | I5: Atskaites punkts | J5: Satiksmes ministrija | K5: Procesā | L5: 5 | N5: Viena multimodāla sabiedriskā transporta maršruta tīkla Rīgas metropoles areālā izveide | O5: Procesā | P5: N | Q5: 2025 | R5: Procesā | T5: =INDEX([1]Worksheet!$G:$G,MATCH(G5,[1]Worksheet!$D:$D,0)) -> 0
A6: Klimata pārmaiņas | B6: Climate change | C6: 1.1.1.i | D6: LV-C[C1]-I[1-1-1-1-i-] | E6: Investīcija | F6: 3 | G6: LV-C[C1]-I[1-1-1-1-i-]-M[3] | H6: '- 100 km elektrificētu dzelzceļa līniju un modernizētas dzelzceļa infrastruktūras: - piegādāti 17 elektriskie autobusi; - uzbūvētas 7 autobusu uzlādes stacijas; - uzbūvēts viens transporta mezgls; - uzbūvēti astoņi mobilitātes punkti; - uzbūvēta 2,2 km tramvaja līnijas; - uzbūvēta 0,3 km trolejbusu līnijas; - 52 km no jauna uzbūvētas vai renovētas velosipēdu infrastruktūras Rīgā un Pierīgā. | I6: Atskaites punkts | J6: Satiksmes ministrija | K6: Procesā | L6: 5 | N6: Transporta projekti | O6: Procesā | P6: N | Q6: 2026 | R6: Procesā | T6: =INDEX([1]Worksheet!$G:$G,MATCH(G6,[1]Worksheet!$D:$D,0)) -> 0
A7: Klimata pārmaiņas | B7: Climate change | C7: 1.1.1.i | D7: LV-C[C1]-I[1-1-1-1-i-] | E7: Investīcija | F7: 4 | G7: LV-C[C1]-I[1-1-1-1-i-]-M[4] | H7: Līguma(u) par būvdarbiem Rīgas Centrālās dzelzceļa stacijas dienvidu daļā un to būvuzraudzību parakstīšana. Būvdarbi Rīgas Centrālās dzelzceļa stacijas dienvidu daļā ietver jumta likšanu, fasādi, platformas nojumes jumta būvniecību, apdares darbus, pasažieru piekļuves infrastruktūru, mehāniskos, elektromontāžas un sanitārtehniskos darbus. | I7: Atskaites punkts | J7: Satiksmes ministrija | K7: Pabeigts | L7: 5 | N7: Līgumi | O7: Procesā | P7: N | Q7: 2025 | R7: Pabeigts | T7: =INDEX([1]Worksheet!$G:$G,MATCH(G7,[1]Worksheet!$D:$D,0)) -> 0
A8: Klimata pārmaiņas | B8: Climate change | C8: 1.1.1.i | D8: LV-C[C1]-I[1-1-1-1-i-] | E8: Investīcija | F8: 4a | G8: LV-C[C1]-I[1-1-1-1-i-]-M[4a] | H8: Rīgas Centrālās dzelzceļa stacijas dienvidu daļā veiktie būvdarbi, kas saistīti ar: jumta ieklāšanu, fasādi, perona nojumes jumtu, apdares darbiem, pasažieru piekļuves infrastruktūras mehāniskajiem, elektroinstalācijas un santehnikas darbiem. | I8: Atskaites punkts | J8: Satiksmes ministrija | K8: Procesā | L8: 5 | N8: Pabeigti būvniecības darbi | O8: Procesā | P8: N | Q8: 2026 | R8: Procesā | T8: =INDEX([1]Worksheet!$G:$G,MATCH(G8,[1]Worksheet!$D:$D,0)) -> 0
A9: Klimata pārmaiņas | B9: Climate change | C9: 1.2.1.1.i | D9: LV-C[C1]-I[1-2-1-1-i-] | E9: Investīcija | F9: 7 | G9: LV-C[C1]-I[1-2-1-1-i-]-M[7] | H9: Atbalsta programmas dzīvojamo ēku energoefektivitātes uzlabošanai stāšanās spēkā, nosakot atbilstības kritērijus, lai atspoguļotu ANM regulas VI pielikuma piemērojamās intervences jomas “025a. Esošu mājokļu atjaunošana energoefektivitātes uzlabošanai, demonstrējuma projekti un atbalsta pasākumi, kas atbilst energoefektivitātes kritērijiem” prasības. | I9: Atskaites punkts | J9: Ekonomikas ministrija | K9: Pabeigts | L9: 2 | N9: Dzīvojamo ēku energoefektivitātes uzlabošanas atbalsta programmas stāšanās spēkā | O9: Eiropas Savienības Atveseļošanas un noturības mehānisma plāna 1.2.1.1.i. investīcijas "Daudzdzīvokļu māju energoefektivitātes uzlabošana un pāreja uz atjaunojamo energoresursu tehnoloģiju izmantošanu" MK noteikumi ir apstiprināti Ministru kabinetā 14.07.2022. Noteikumu gala redakcija 01.07.2022 ir nosūtīta saskaņošanai Eiropas Komisijai, lai varētu atzīmēt šo atskaites punktu kā izpildītu. Ir saņemts konceptuāls saskaņojums 18.08.2022 no Eiropas Komisijas. | P9: N | Q9: 2022 | R9: Pabeigts | T9: =INDEX([1]Worksheet!$G:$G,MATCH(G9,[1]Worksheet!$D:$D,0)) -> 0
A10: Klimata pārmaiņas | B10: Climate change | C10: 1.2.1.1.i | D10: LV-C[C1]-I[1-2-1-1-i-] | E10: Investīcija | F10: 8 | G10: LV-C[C1]-I[1-2-1-1-i-]-T[8] | H10: Altum parakstīti līgumi par vismaz 40 097 400 EUR | I10: Mērķis | J10: Ekonomikas ministrija | K10: Pabeigts | L10: 4 | M10: 40097400 | P10: EUR | Q10: 2024 | R10: Pabeigts | S10: 56959343 | T10: =INDEX([1]Worksheet!$G:$G,MATCH(G10,[1]Worksheet!$D:$D,0)) -> 40097400
A11: Klimata pārmaiņas | B11: Climate change | C11: 1.2.1.1.i | D11: LV-C[C1]-I[1-2-1-1-i-] | E11: Investīcija | F11: 9 | G11: LV-C[C1]-I[1-2-1-1-i-]-T[9] | H11: Primārās enerģijas patēriņa samazinājums daudzdzīvokļu mājās, kas tiek pierādīts ex ante un ex post ar ēkas energoefektivitātes sertifikātiem. | I11: Mērķis | J11: Ekonomikas ministrija | K11: Procesā | L11: 5 | M11: 14423 | P11: MWh/gadā | Q11: 2026 | R11: Procesā | S11: 233.27 | T11: =INDEX([1]Worksheet!$G:$G,MATCH(G11,[1]Worksheet!$D:$D,0)) -> 14423
A12: Klimata pārmaiņas | B12: Climate change | C12: 1.2.1.2.i | D12: LV-C[C1]-I[1-2-1-2-i-] | E12: Investīcija | F12: 10 | G12: LV-C[C1]-I[1-2-1-2-i-]-M[10] | H12: Stājas spēkā Ministru kabineta apstiprinātie noteikumi, kas atbalsta uzņēmumu energoefektivitātes paaugstināšanas programmu īstenošanu.Atbalsta programmas īsteno apvienota finanšu instrumenta veidā, kas ir atmaksājams aizdevums un kapitāla atlaide.Lai atspoguļotu ANM regulas VI pielikuma piemērojamās intervences jomas “024b. Energoefektivitāte un demonstrējuma projekti mazajos un vidējos uzņēmumos vai lielajos uzņēmumos un atbalsta pasākumi, kas atbilst energoefektivitātes kritērijiem [3]” prasības, atbalsta nosacījumos kā atbilstības kritērijus nosaka minimālo primārās enerģijas ietaupījumu 30 % apmērā ēku energoefektivitātes projektiem un iekārtām, vismaz 30 % no vidējā primārās enerģijas ietaupījuma ANM pasākuma projektu portfelī (ar vismaz 25 % ietaupījumu energoefektivitātes iekārtām).Lai nodrošinātu rezultātu sasniegšanu, nosacījumos kā projekta atbilstības kritēriju iekļauj enerģijas ietaupījuma minimālo robežvērtību uz vienu investētā publiskā finansējuma euro.Šie nosacījumi ietver atbilstības kritērijus, ar ko nodrošina atbilstību principam “nenodarīt būtisku kaitējumu” saskaņā ar Tehniskajiem norādījumiem par principa “nenodarīt būtisku kaitējumu” piemērošanu (2021/C58/01) un attiecīgajiem ES un valstu tiesību aktiem.Atbalstu sniedz, rīkojot piedāvājumu konkursus projektiem ar vislielāko paredzamo enerģijas ietaupījumu uz vienu investēto euro. | I12: Atskaites punkts | J12: Ekonomikas ministrija | K12: Pabeigts | L12: 2 | N12: Noteikumu stāšanās spēkā | O12: Tiesiskā regulējuma pieņemšana 2022.gada 20. septembrī un stāšanās spēkā 2022.gada 5.okobrī. | P12: N | Q12: 2022 | R12: Pabeigts | T12: =INDEX([1]Worksheet!$G:$G,MATCH(G12,[1]Worksheet!$D:$D,0)) -> 0
A13: Klimata pārmaiņas | B13: Climate change | C13: 1.2.1.2.i | D13: LV-C[C1]-I[1-2-1-2-i-] | E13: Investīcija | F13: 11 | G13: LV-C[C1]-I[1-2-1-2-i-]-T[11] | H13: Plānotais siltumnīcefekta gāzu emisiju ietaupījums, izteikts tonnās CO2 ekvivalentā gadā . | I13: Mērķis | J13: Ekonomikas ministrija | K13: Pabeigts | L13: 5 | M13: 11498 | P13: CO2 ekvivalents t/ga | Q13: 2026 | R13: Pabeigts | S13: 11937.15 | T13: =INDEX([1]Worksheet!$G:$G,MATCH(G13,[1]Worksheet!$D:$D,0)) -> 11498
A14: Klimata pārmaiņas | B14: Climate change | C14: 1.2.1.2.i | D14: LV-C[C1]-I[1-2-1-2-i-] | E14: Investīcija | F14: 12 | G14: LV-C[C1]-I[1-2-1-2-i-]-T[12] | H14: Parakstīti līgumi par vismaz 101 000 000 EUR. | I14: Mērķis | J14: Ekonomikas ministrija | K14: Nav pabeigts | L14: 5 | M14: 108000000 | P14: EUR | Q14: 2026 | R14: Procesā | S14: 93089845 | T14: =INDEX([1]Worksheet!$G:$G,MATCH(G14,[1]Worksheet!$D:$D,0)) -> 101000000
A15: Klimata pārmaiņas | B15: Climate change | C15: 1.2.1.3.i | D15: LV-C[C1]-I[1-2-1-3-i-] | E15: Investīcija | F15: 13 | G15: LV-C[C1]-I[1-2-1-3-i-]-M[13] | H15: Stājas spēkā Ministru kabineta noteikumi, kas nosaka pašvaldību ēku un infrastruktūras uzlabošanas īstenošanas nosacījumus, pārejas uz atjaunojamo energoresursu tehnoloģijām veicināšanu un energoefektivitātes uzlabošanu, ar atbilstības kritērijiem, lai atspoguļotu ANM regulas VI pielikuma piemērojamās intervences jomas “026a. Publiskās infrastruktūras atjaunošana energoefektivitātes uzlabošanai vai energoefektivitātes pasākumi, demonstrējuma projekti un atbalsta pasākumi, kas atbilst energoefektivitātes kritērijiem” prasības. | I15: Atskaites punkts | J15: Viedās administrācijas un reģionālās attīstības ministrija | K15: Pabeigts | L15: 2 | N15: Ministru kabineta noteikumu spēkā stāšanās | O15: Tiesiskā regulējuma pieņemšana 2022.gada 8.novembrī un stāšanās spēkā 2022.gada 25.novembrī. | P15: N | Q15: 2022 | R15: Pabeigts | T15: =INDEX([1]Worksheet!$G:$G,MATCH(G15,[1]Worksheet!$D:$D,0)) -> 0
A16: Klimata pārmaiņas | B16: Climate change | C16: 1.2.1.3.i | D16: LV-C[C1]-I[1-2-1-3-i-] | E16: Investīcija | F16: 14 | G16: LV-C[C1]-I[1-2-1-3-i-]-T[14] | H16: Paziņojums par līgumu slēgšanas tiesību piešķiršanu par vismaz 27 838 800 EUR. | I16: Mērķis | J16: Viedās administrācijas un reģionālās attīstības ministrija | K16: Pabeigts | L16: 4 | M16: 27838800 | P16: EUR | Q16: 2024 | R16: Pabeigts | S16: 27679953 | T16: =INDEX([1]Worksheet!$G:$G,MATCH(G16,[1]Worksheet!$D:$D,0)) -> 27838800
A17: Klimata pārmaiņas | B17: Climate change | C17: 1.2.1.3.i | D17: LV-C[C1]-I[1-2-1-3-i-] | E17: Investīcija | F17: 15 | G17: LV-C[C1]-I[1-2-1-3-i-]-T[15] | H17: Pašvaldību ēkās panāktais primārās enerģijas patēriņa samazinājums, kas tiek pierādīts ex ante un ex post ar ēkas energoefektivitātes sertifikātiem. | I17: Mērķis | J17: Viedās administrācijas un reģionālās attīstības ministrija | K17: Procesā | L17: 5 | M17: 4544563 | P17: KWh/gadā | Q17: 2025 | R17: Procesā | S17: 4300722.6 | T17: =INDEX([1]Worksheet!$G:$G,MATCH(G17,[1]Worksheet!$D:$D,0)) -> 4544563
A18: Klimata pārmaiņas | B18: Climate change | C18: 1.2.1.4.i | D18: LV-C[C1]-I[1-2-1-4-i-] | E18: Investīcija | F18: 16 | G18: LV-C[C1]-I[1-2-1-4-i-]-M[16] | H18: Valsts un vēsturisko ēku energoefektivitātes uzlabošanas atbalsta programmas stāšanās spēkā, nosakot atbilstības kritērijus, lai atspoguļotu ANM regulas VI pielikuma piemērojamās intervences jomas “026a. Publiskās infrastruktūras atjaunošana energoefektivitātes uzlabošanai vai energoefektivitātes pasākumi, demonstrējuma projekti un atbalsta pasākumi, kas atbilst energoefektivitātes kritērijiem” prasības. | I18: Atskaites punkts | J18: Ekonomikas ministrija | K18: Pabeigts | L18: 2 | N18: Ministru kabineta apstiprinātas valsts un vēsturisko ēku energoefektivitātes uzlabošanas atbalsta programmas stāšanās spēkā | O18: 2023.gada 8. augusta Ministru kabineta sēdē ir apstiprināti un 2023. gada 10. augustā publicēti Ministru kabineta 2023. gada 8. augusta noteikumi Nr. 443 "Eiropas Savienības Atveseļošanas un noturības mehānisma plāna 1.2. reformu un investīciju virziena "Energoefektivitātes uzlabošana" 1.2.1.4.i. investīcijas "Energoefektivitātes uzlabošana valsts sektora ēkās, t. sk. vēsturiskajās ēkās" īstenošanas noteikumi", kas stājās spēkā 2023. gada 11. augustā. | P18: N | Q18: 2022 | R18: Pabeigts | T18: =INDEX([1]Worksheet!$G:$G,MATCH(G18,[1]Worksheet!$D:$D,0)) -> 0
A19: Klimata pārmaiņas | B19: Climate change | C19: 1.2.1.4.i | D19: LV-C[C1]-I[1-2-1-4-i-] | E19: Investīcija | F19: 18 | G19: LV-C[C1]-I[1-2-1-4-i-]-T[18] | H19: Primārās enerģijas patēriņa samazinājums valsts ēkās, ko apliecina ēkas energosertifikāts pirms un pēc energoefektivitātes pasākumu īstenošanas | I19: Mērķis | J19: Ekonomikas ministrija | K19: Procesā | L19: 5 | M19: 3875 | P19: MWh/gadā | Q19: 2026 | R19: Procesā | S19: 146.99 | T19: =INDEX([1]Worksheet!$G:$G,MATCH(G19,[1]Worksheet!$D:$D,0)) -> 3875
A20: Klimata pārmaiņas | B20: Climate change | C20: 1.2.1.5.i | D20: LV-C[C1]-I[1-2-1-5-i-] | E20: Investīcija | F20: 19 | G20: LV-C[C1]-I[1-2-1-5-i-]-T[19] | H20: Paziņojums saņēmējiem par līgumu slēgšanas tiesību piešķiršanu apstiprinātiem projektiem par 80 000 000 EUR. | I20: Mērķis | J20: Ekonomikas ministrija | K20: Pabeigts | L20: 3 | M20: 80000000 | P20: EUR | Q20: 2023 | R20: Pabeigts | S20: 80000000 | T20: =INDEX([1]Worksheet!$G:$G,MATCH(G20,[1]Worksheet!$D:$D,0)) -> 80000000
A21: Klimata pārmaiņas | B21: Climate change | C21: 1.2.1.5.i | D21: LV-C[C1]-I[1-2-1-5-i-] | E21: Investīcija | F21: 20 | G21: LV-C[C1]-I[1-2-1-5-i-]-T[20] | H21: 2060 izveidoti pieslēgumpunkti elektrotransportlīdzekļu un mikroģenerācijas iekārtu uzlādei | I21: Mērķis | J21: Ekonomikas ministrija | K21: Procesā | L21: 5 | M21: 2060 | P21: Skaits | Q21: 2026 | R21: Procesā | S21: 520 | T21: =INDEX([1]Worksheet!$G:$G,MATCH(G21,[1]Worksheet!$D:$D,0)) -> 2060
A22: Klimata pārmaiņas | B22: Climate change | C22: 1.2.1.5.i | D22: LV-C[C1]-I[1-2-1-5-i-] | E22: Investīcija | F22: 21 | G22: LV-C[C1]-I[1-2-1-5-i-]-M[21] | H22: Stājas spēkā tiesību akti: a) paredzot nosacījumus apbūves tiesību piešķiršanai uz publiskas zemes vēja parku ierīkošanai un uzliekot par pienākumu apbūves tiesību piešķīrējam publicēt informāciju par izsolāmajiem neapbūvētajiem zemesgabaliem; b) atļaujot investoram iesniegt papildu informāciju gadījumā, ja sākotnējais ietekmes novērtējums ir noraidīts. | I22: Atskaites punkts | J22: Ekonomikas ministrija | K22: Pabeigts | L22: 4 | N22: Stājas spēkā tiesību akti: a) paredzot nosacījumus apbūves tiesību piešķiršanai uz publiskas zemes vēja parku ierīkošanai un uzliekot par pienākumu apbūves tiesību piešķīrējam publicēt informāciju par izsolāmajiem neapbūvētajiem zemesgabaliem; b) atļaujot investoram iesniegt papildu informāciju gadījumā, ja sākotnējais ietekmes novērtējums ir noraidīts. | O22: Tiesību akti apbūves tiesību piešķiršanai uz publiskas zemes vēja parku ierīkošanai, informācijas publicēšanai no apbūves tiesību piešķīrēja puses par izsolāmajiem neapbūvētajiem zemesgabaliem un nosacījumiem investoriem sākotnējam ietekmes uz vidi novērtējumam ir stājušies spēkā. | P22: N | Q22: 2024 | R22: Pabeigts | T22: =INDEX([1]Worksheet!$G:$G,MATCH(G22,[1]Worksheet!$D:$D,0)) -> 0
A23: Klimata pārmaiņas | B23: Climate change | C23: 1.3.1.r | D23: LV-C[C1]-R[1-3-1-r-] | E23: Reforma | F23: 22 | G23: LV-C[C1]-R[1-3-1-r-]-M[22] | H23: Vienojoties ar katastrofu pārvaldības sistēmā iesaistītajām institūcijām, Iekšlietu ministrija publicē informatīvu ziņojumu Ministru kabinetam par katastrofu pārvaldības centru būvlaukumiem, būvniecības platībām un izmaksām katrā būvlaukumā, kā arī orientējošu grafiku katrā teritorijā īstenojamo katastrofu pārvaldības plānu īstenošanai un par būvlīgumu slēgšanu, t. sk. ziņojumā. Ziņojumā iekļauj arī vispārēju reformas progresa ziņojumu un īstenošanas plānu attiecībā uz šādiem reformas komponentiem: i) tehniskās kapacitātes celšana (jo īpaši attiecībā uz specializēto reaģēšanas un glābšanas transportlīdzekļu modernizēšanu); ii) saistīto katastrofu pārvaldības IKT risinājumu īstenošanas grafiks un iii) progress mācību un preventīvo pasākumu īstenošanas jomā. | I23: Atskaites punkts | J23: Iekšlietu ministrija | K23: Pabeigts | L23: 2 | N23: Informatīva ziņojuma publicēšana par Ministru kabineta apstiprinātas katastrofu riska pārvaldības sistēmas ieviešanu | O23: Ziņojums tika apstiprināts Ministru kabinetā 2022.gada 14.jūnijā. | P23: N | Q23: 2022 | R23: Pabeigts | T23: =INDEX([1]Worksheet!$G:$G,MATCH(G23,[1]Worksheet!$D:$D,0)) -> 0
A24: Klimata pārmaiņas | B24: Climate change | C24: 1.3.1.r | D24: LV-C[C1]-R[1-3-1-r-] | E24: Reforma | F24: 24 | G24: LV-C[C1]-R[1-3-1-r-]-M[24] | H24: Spēkā stājušies grozījumi Civilās aizsardzības un katastrofas pārvaldīšanas likumā, kas paredz normu, ka elektronisko sakaru komersantiem, kuri nodrošina publisko mobilo elektronisko sakaru tīklu, nodrošina savu elektronisko sakaru tīklu savietojamību un sadarbspēju ar valsts agrīnās brīdināšanas sistēmu, lai normatīvajos aktos noteiktajā kārtībā varētu īstenot iedzīvotāju un atbildīgo institūciju agrīno brīdināšanu, izmantojot šūnu apraides tehnoloģiju. | I24: Atskaites punkts | J24: Iekšlietu ministrija | K24: Pabeigts | L24: 4 | N24: Stājas spēkā grozījumi Civilās aizsardzības un katastrofas pārvaldīšanas likumā | P24: N | Q24: 2025 | R24: Pabeigts | T24: =INDEX([1]Worksheet!$G:$G,MATCH(G24,[1]Worksheet!$D:$D,0)) -> 0
A25: Klimata pārmaiņas | B25: Climate change | C25: 1.3.1.1.i | D25: LV-C[C1]-I[1-3-1-1-i-] | E25: Investīcija | F25: 23 | G25: LV-C[C1]-I[1-3-1-1-i-]-M[23] | H25: Parakstīts akts (akti) par gandrīz 0 enerģijas patēriņa katastrofu pārvaldības centru būvniecību pieņemšanu ekspluatācijā. | I25: Atskaites punkts | J25: Iekšlietu ministrija | K25: Procesā | L25: 5 | N25: Akts par pieņemšanu ekspluatācijā | O25: Procesā | P25: N | Q25: 2026 | R25: Procesā | T25: =INDEX([1]Worksheet!$G:$G,MATCH(G25,[1]Worksheet!$D:$D,0)) -> 0
A26: Klimata pārmaiņas | B26: Climate change | C26: 1.3.1.2.i | D26: LV-C[C1]-I[1-3-1-2-i-] | E26: Investīcija | F26: 25 | G26: LV-C[C1]-I[1-3-1-2-i-]-T[25] | H26: 15 noslēgti būvniecības līgumi par plūdu riska mazināšanas projektiem | I26: Mērķis | J26: Zemkopības ministrija | K26: Pabeigts | L26: 4 | N26: N/A | O26: Uz 03.10.2025. investīciju īstenošanai noslēgti 22 projektu īstenošanas līgumi, tajā skaitā: ar būvniekiem noslēgti 22 līgumi par būvdarbu veikšanu, 2 objektos būvdarbi ir pabeigti un saņemti akti par būvju pieņemšanu ekspluatācijā. | P26: Skaits | Q26: 2024 | R26: Pabeigts | T26: =INDEX([1]Worksheet!$G:$G,MATCH(G26,[1]Worksheet!$D:$D,0)) -> 15
A27: Klimata pārmaiņas | B27: Climate change | C27: 1.3.1.2.i | D27: LV-C[C1]-I[1-3-1-2-i-] | E27: Investīcija | F27: 26 | G27: LV-C[C1]-I[1-3-1-2-i-]-M[26] | H27: Parakstīts akts par pieņemšanu ekspluatācijā, par 21 plūdu riska mazināšanas projektu: • astoņas sūkņu stacijas; • divpadsmit aizsargdambji; • viens kanāls. | I27: Atskaites punkts | J27: Zemkopības ministrija | K27: Procesā | L27: 5 | N27: Parakstīts akts par būvdarbu pieņemšanu ekspluatācijā | O27: Procesā | P27: N | Q27: 2026 | R27: Procesā | T27: =INDEX([1]Worksheet!$G:$G,MATCH(G27,[1]Worksheet!$D:$D,0)) -> 0
A28: Digitālā pārveide | C28: 2.1.1.r | D28: LV-C[C2]-R[2-1-1-r-] | E28: Reforma | F28: 27 | G28: LV-C[C2]-R[2-1-1-r-]-M[27] | H28: Stājās spēkā Ministru kabineta noteikumi, ar ko nosaka vienotu kārtību IKT attīstības pasākumu uzraudzībai.Lai jaunie noteikumi būtu piemērojami visiem IKT attīstības pasākumiem Latvijas atveseļošanas un noturības plāna pasākumu ietvaros (t. sk. pašvaldībās), tiek paplašināta Valsts informācijas sistēmu darbības joma. Ja likuma grozījumu pieņemšana kavējas, tiek izdoti pagaidu noteikumi, lai papildinātu īpašu normatīvo regulējumu attiecīgajiem IKT projektu pasākumiem. | I28: Atskaites punkts | J28: Viedās administrācijas un reģionālās attīstības ministrija | K28: Pabeigts | L28: 2 | N28: Tiesiskā regulējuma stāšanās spēkā | O28: Tiesiskā regulējuma stāšanās spēkā | P28: N | Q28: 2022 | R28: Pabeigts | T28: =INDEX([1]Worksheet!$G:$G,MATCH(G28,[1]Worksheet!$D:$D,0)) -> 0
A29: Digitālā pārveide | C29: 2.1.1.r | D29: LV-C[C2]-R[2-1-1-r-] | E29: Reforma | F29: 28 | G29: LV-C[C2]-R[2-1-1-r-]-M[28] | H29: Spēkā stājās Ministru kabineta noteikumi par atbalsta piešķiršanu publiskās pārvaldes procesu un pakalpojumu digitālās transformācijas jomā. | I29: Atskaites punkts | J29: Viedās administrācijas un reģionālās attīstības ministrija | K29: Pabeigts | L29: 2 | N29: Tiesiskā regulējuma stāšanās spēkā | O29: Tiesiskā regulējuma stāšanās spēkā 2022.gada 19.jūlijā. | P29: N | Q29: 2022 | R29: Pabeigts | T29: =INDEX([1]Worksheet!$G:$G,MATCH(G29,[1]Worksheet!$D:$D,0)) -> 0
A30: Digitālā pārveide | C30: 2.1.1.1.i | D30: LV-C[C2]-I[2-1-1-1-i-] | E30: Investīcija | F30: 29 | G30: LV-C[C2]-I[2-1-1-1-i-]-T[29] | H30: IKT risinājumu (sistēmu) apraksta koncepcijas modeļus izstrādā saskaņā ar pieņemto IKT pārvaldības tiesisko regulējumu. Apraksti definē IKT izstrādes darbības, lai izstrādātu vai modernizētu IKT risinājumus vismaz četrās šādās jomās: 1) iekšlietu nozare, tostarp civilā aizsardzība, ugunsdrošības uzraudzība un sabiedrības drošība; 2) kultūras nozare, tostarp arhīvu, bibliotēku, muzeju, kultūras pieminekļu un plašsaziņas līdzekļu satura mantojuma uzkrāšana; 3) ostu loģistikas pakalpojumu pārvaldība; 4) atbalsts IKT pārvaldības procesiem. | I30: Mērķis | J30: Viedās administrācijas un reģionālās attīstības ministrija | K30: Pabeigts | L30: 3 | M30: 11 | P30: Skaits | Q30: 2023 | R30: Pabeigts | S30: 12 | T30: =INDEX([1]Worksheet!$G:$G,MATCH(G30,[1]Worksheet!$D:$D,0)) -> 11
A31: Digitālā pārveide | C31: 2.1.1.1.i | D31: LV-C[C2]-I[2-1-1-1-i-] | E31: Investīcija | F31: 30 | G31: LV-C[C2]-I[2-1-1-1-i-]-T[30] | H31: IKT risinājumi vai sistēmas tiks nodrošinātas, piemēram, iekšlietu nozarē, kultūrā, ostu loģistikas pakalpojumu pārvaldībā, IKT pārvaldības procesos. | I31: Mērķis | J31: Viedās administrācijas un reģionālās attīstības ministrija | K31: Procesā | L31: 5 | M31: 11 | P31: Skaits | Q31: 2026 | R31: Procesā | S31: 3 | T31: =INDEX([1]Worksheet!$G:$G,MATCH(G31,[1]Worksheet!$D:$D,0)) -> 11
A32: Digitālā pārveide | C32: 2.1.2.r | D32: LV-C[C2]-R[2-1-r-] | E32: Reforma | F32: 31 | G32: LV-C[C2]-R[2-1-r-]-M[31] | H32: Tiesiskā regulējuma stāšanās spēkā attiecībā uz atbalsta piešķiršanu publiskās pārvaldes centrālo IT sistēmu un platformu izstrādes un datošanas infrastruktūras pakalpojumu konsolidācijas jomā. | I32: Atskaites punkts | J32: Viedās administrācijas un reģionālās attīstības ministrija | K32: Pabeigts | L32: 2 | N32: Tiesiskā regulējuma stāšanās spēkā | O32: Tiesiskā regulējuma stāšanās spēkā 2022.gada 19.jūlijā | P32: N | Q32: 2022 | R32: Pabeigts | T32: =INDEX([1]Worksheet!$G:$G,MATCH(G32,[1]Worksheet!$D:$D,0)) -> #N/A
A33: Digitālā pārveide | C33: 2.1.2.1.i | D33: LV-C[C2]-I[2-1-2-1-i-] | E33: Investīcija | F33: 32 | G33: LV-C[C2]-I[2-1-2-1-i-]-T[32] | H33: Pirms investīcijām centralizētu funkciju vai kopīgo pakalpojumu attīstībā atbildīgā institūcija sagatavo un saņem centralizētās IKT funkcijas vai kopīgo pakalpojumu attīstības plāna apstiprinājumu (tostarp attiecībā uz pakalpojumu finansēšanu). | I33: Mērķis | J33: Viedās administrācijas un reģionālās attīstības ministrija | K33: Pabeigts | L33: 3 | M33: 15 | P33: Skaits | Q33: 2023 | R33: Pabeigts | S33: 21 | T33: =INDEX([1]Worksheet!$G:$G,MATCH(G33,[1]Worksheet!$D:$D,0)) -> 15
A34: Digitālā pārveide | C34: 2.1.2.1.i | D34: LV-C[C2]-I[2-1-2-1-i-] | E34: Investīcija | F34: 33 | G34: LV-C[C2]-I[2-1-2-1-i-]-T[33] | H34: Saskaņotos aprakstus apstiprina, lai noteiktu centralizētu platformu un sistēmu IKT izstrādes darbības. IKT risinājumus (sistēmas) izstrādā saskaņā ar pieņemto IKT pārvaldības tiesisko regulējumu. | I34: Mērķis | J34: Viedās administrācijas un reģionālās attīstības ministrija | K34: Pabeigts | L34: 3 | M34: 15 | P34: Skaits | Q34: 2023 | R34: Pabeigts | S34: 25 | T34: =INDEX([1]Worksheet!$G:$G,MATCH(G34,[1]Worksheet!$D:$D,0)) -> 15
A35: Digitālā pārveide | C35: 2.1.2.1.i | D35: LV-C[C2]-I[2-1-2-1-i-] | E35: Investīcija | F35: 34 | G35: LV-C[C2]-I[2-1-2-1-i-]-T[34] | H35: Centralizētas IKT platformas, risinājumi vai sistēmas tiks nodrošinātas, piemēram, lai atbalstītu sabiedrisko pakalpojumu administratīvās funkcijas vai pārvaldību. | I35: Mērķis | J35: Viedās administrācijas un reģionālās attīstības ministrija | K35: Procesā | L35: 5 | M35: 15 | P35: Skaits | Q35: 2026 | R35: Procesā | S35: 1 | T35: =INDEX([1]Worksheet!$G:$G,MATCH(G35,[1]Worksheet!$D:$D,0)) -> 15
A36: Digitālā pārveide | C36: 2.1.2.2.i | D36: LV-C[C2]-I[2-1-2-2-i-] | E36: Investīcija | F36: 36 | G36: LV-C[C2]-I[2-1-2-2-i-]-T[36] | H36: Mākoņpakalpojumi tiks sniegti 6 valsts iestādēm. | I36: Mērķis | J36: Viedās administrācijas un reģionālās attīstības ministrija | K36: Pabeigts | L36: 4 | M36: 6 | P36: Skaits | Q36: 2026 | R36: Pabeigts | S36: 7 | T36: =INDEX([1]Worksheet!$G:$G,MATCH(G36,[1]Worksheet!$D:$D,0)) -> 6
A37: Digitālā pārveide | C37: 2.1.3.r | D37: LV-C[C2]-R[2-1-3-r-] | E37: Reforma | F37: 37 | G37: LV-C[C2]-R[2-1-3-r-]-M[37] | H37: Spēkā stājas Ministru kabineta saskaņotais Tiesiskais regulējums atbalsta piešķiršanai ekonomikas datu pārvaldības transformācijas jomā. | I37: Atskaites punkts | J37: Viedās administrācijas un reģionālās attīstības ministrija | K37: Pabeigts | L37: 2 | N37: Tiesiskā regulējuma stāšanās spēkā | O37: Tiesiskā regulējuma stāšanās spēkā 2022.gada 19.jūlijā | P37: N | Q37: 2022 | R37: Pabeigts | T37: =INDEX([1]Worksheet!$G:$G,MATCH(G37,[1]Worksheet!$D:$D,0)) -> 0
A38: Digitālā pārveide | C38: 2.1.3.r | D38: LV-C[C2]-R[2-1-3-r-] | E38: Reforma | F38: 38 | G38: LV-C[C2]-R[2-1-3-r-]-M[38] | H38: Reformas sekmīgu īstenošanu nodrošina tāda tiesiskā regulējuma stāšanās spēkā, kurā noteikti šādi valsts platformas aspekti:1. datu koplietošanas pārvaldība, tostarp datu apmaiņas process centrālajā datu apmaiņas platformā;2. iesaistīto iestāžu tiesības un pienākumi attiecībā uz datu koplietošanu un apriti centrālajā datu apmaiņas platformā;3. vienota un atvieglota personas datu apstrāde centrālajā datu apmaiņas platformā. | I38: Atskaites punkts | J38: Viedās administrācijas un reģionālās attīstības ministrija | K38: Pabeigts | L38: 3 | N38: Tiesiskā regulējuma stāšanās spēkā | O38: Tiesiskā regulējuma stāšanās spēkā 2023.gada 3.novembrī. | P38: N | Q38: 2023 | R38: Pabeigts | T38: =INDEX([1]Worksheet!$G:$G,MATCH(G38,[1]Worksheet!$D:$D,0)) -> 0
A39: Digitālā pārveide | C39: 2.1.3.1.i | D39: LV-C[C2]-I[2-1-3-1-i-] | E39: Investīcija | F39: 39 | G39: LV-C[C2]-I[2-1-3-1-i-]-T[39] | H39: Datu kopām jābūt pieejamām platformās, kas aptver vismaz 10 publiskās pārvaldes nozares, piemēram: uzņēmējdarbība, zinātne, vide, finanses, publiskais iepirkums, veselības aprūpe, veterinārija un lauksaimniecība. | I39: Mērķis | J39: Viedās administrācijas un reģionālās attīstības ministrija | K39: Procesā | L39: 5 | M39: 10 | P39: Skaits | Q39: 2026 | R39: Procesā | S39: 7 | T39: =INDEX([1]Worksheet!$G:$G,MATCH(G39,[1]Worksheet!$D:$D,0)) -> 10
A40: Digitālā pārveide | C40: 2.2.1.r | D40: LV-C[C2]-R[2-2-1-r-] | E40: Reforma | F40: 40 | G40: LV-C[C2]-R[2-2-1-r-]-M[40] | H40: EDIC darbojas saskaņā ar Digitālās Eiropas programmas prioritātēm un ir daļa no kopējā Eiropas Digitālās inovācijas centra tīkla. Tā ir vienas pieturas aģentūra uzņēmumu digitālās pārveides koordinēšanai. Tā mērķis ir nodrošināt kopīgu pieeju un informācijas apmaiņu starp reģionālajiem uzņēmējdarbības centriem, kas ir digitālās atbilstības tests un valsts atbalsts. | I40: Atskaites punkts | J40: Ekonomikas ministrija | K40: Pabeigts | L40: 2 | N40: Izveidots Eiropas Digitālās inovācijas centrs (EDIC) | O40: Eiropas Komisija atlases procedūrā ir apstiprinājusi abus Latvijas izvirzītos kandidātus. EDIC līgumi tiek saskaņoti ar Eiropas Komisiju. Ministru kabineta noteikumi par EDIC darbību ir apstiprināti Ministru kabinetā 2022. gada 13. septembrī un publicēti 2022. gada 21. septembrī. | P40: N | Q40: 2022 | R40: Pabeigts | T40: =INDEX([1]Worksheet!$G:$G,MATCH(G40,[1]Worksheet!$D:$D,0)) -> 0
