Workbook

Sheet KOPĀ
A1: Papildus nepieciešamais finansējums bāzes finansējuma palielināšanai (euro)*
A2: Budžeta programma/resors | B2: Normējamās izmaksas/DV izmaksas (saskaņā ar spēkā esošo aprēķinu) | C2: Normējamās izmaksas/DV izmaksas (saskaņā ar jauno aprēķinu) | D2: Starpība jeb nepieciešamais papildus finansējums
D3: 2023.gads | E3: 2024.gads | F3: 2025.gads un turpmāk
A4: Izglītības un zinātnes ministrijas budžeta programma 02.01.00. "Profesionālās izglītības programmu īstenošana" | B4: =Dienesta_viesnīca!C4+Norm_izmaksas!C4 -> 14516308 | C4: =Dienesta_viesnīca!D4+Norm_izmaksas!D4 -> 20815293 | D4: =F4/3 -> 2099661.7 | E4: =D4*2 -> 4199323.3 | F4: =C4-B4 -> 6298985
A5: Kultūras ministrijas budžeta programma 20.00.00. "Kultūrizglītība" | B5: =Norm_izmaksas!C5+Dienesta_viesnīca!C5 -> 1899373 | C5: =Norm_izmaksas!D5+Dienesta_viesnīca!D5 -> 2772384 | D5: =F5/3 -> 291003.67 | E5: =D5*2 -> 582007.33 | F5: =C5-B5 -> 873011
A6: Zemkopības ministrijas budžeta programma 22.01.00. "Profesionālā izglītība" | B6: =Norm_izmaksas!C6+Dienesta_viesnīca!C6 -> 162061 | C6: =Norm_izmaksas!D6+Dienesta_viesnīca!D6 -> 226197 | D6: =F6/3 -> 21378.667 | E6: =D6*2 -> 42757.333 | F6: =C6-B6 -> 64136
A7: Veselības ministrijas budžeta programma 02.03.00. "Augstākā medicīnas izglītība" | B7: =Norm_izmaksas!C7+Dienesta_viesnīca!C7 -> 101862.25 | C7: =Norm_izmaksas!D7+Dienesta_viesnīca!D7 -> 140623.15 | D7: =F7/3 -> 12920.299 | E7: =D7*2 -> 25840.598 | F7: =C7-B7 -> 38760.896
A8: Kopā | B8: =SUM(B4:B7) -> 16679604 | C8: =SUM(C4:C7) -> 23954497 | D8: 2424965 | E8: 4849928 | F8: 7274893
A9: *Aprēķini veikti, gatavojot prioritāro pasākumu pieteikumus 2022.gadam, aprēķini tiks aktualizēti, gatavojot pieteikumus prioritāro pasākumu īstenošanai 2023.gadam.

Sheet Dienesta_viesnīca
A1: Dienesta viesnīcā dzīvojošo izglītojamo uzturēšanas izmaksām nepieciešamais finansējums (euro)*
A2: Budžeta programma/resors | B2: Dienesta viesnīcās dzīvojošo izglītojamo skaits | C2: Dienesta viesnīcā dzīvojošo izglītojamo uzturēšanas izmaksas (saskaņā ar spēkā esošo aprēķinu - 282,23 euro) | D2: Dienesta viesnīcā dzīvojošo izglītojamo uzturēšanas izmaksas (saskaņā ar jauno aprēķinu - 351,69 euro) | E2: Starpība jeb nepieciešamais papildus finansējums
E3: 2023.gads | F3: 2024.gads | G3: 2025.gads un turpmāk
A4: Izglītības un zinātnes ministrijas budžeta programma 02.01.00. "Profesionālās izglītības programmu īstenošana" | B4: 7570** | C4: 2201841 | D4: 2727654 | E4: =G4/3 -> 175271 | F4: =E4*2 -> 350542 | G4: =D4-C4 -> 525813
A5: Kultūras ministrijas budžeta programma 20.00.00. "Kultūrizglītība" | B5: 304 | C5: 85797 | D5: 106913 | E5: =G5/3 -> 7038.6667 | F5: =E5*2 -> 14077.333 | G5: =D5-C5 -> 21116
A6: Zemkopības ministrijas budžeta programma 22.01.00. "Profesionālā izglītība" | B6: 190 | C6: 53623 | D6: 66822 | E6: =G6/3 -> 4399.6667 | F6: =E6*2 -> 8799.3333 | G6: =D6-C6 -> 13199
A7: Veselības ministrijas budžeta programma 02.03.00. "Augstākā medicīnas izglītība" | B7: 144 | C7: 40640.654 | D7: 50643.804 | E7: =G7/3 -> 3334.3835 | F7: =E7*2 -> 6668.7669 | G7: =D7-C7 -> 10003.15
A8: Kopā | B8: =SUM(B4:B7) -> 638 | C8: =SUM(C4:C7) -> 2381901.7 | D8: =SUM(D4:D7) -> 2952032.8 | E8: =SUM(E4:E7) -> 190043.72 | F8: =SUM(F4:F7) -> 380087.43 | G8: =SUM(G4:G7) -> 570131.15
A9: * Aprēķini veikti, gatavojot prioritāro pasākumu pieteikumus 2022.gadam, aprēķini tiks aktualizēti, gatavojot pieteikumus prioritāro pasākumu īstenošanai 2023.gadam. ** tai skaitā 72 Smiltenes tehnikuma dienesta viesnīcā dzīvojošajiem izglītojamiem ar invaliditāti, kuram nepieciešami rehabilitācijas pasākumi atbilstoši viņa funkcionālajiem traucējumiem un minētajiem izglītojamajiem papildus sniegto ēdināšanas pakalpojumu izmaksas (72*694,36+72*213,43=65 361 euro)

Sheet Norm_izmaksas
A1: Izglītības programmu grupas "Vadība un administrēšana" normējamām izmaksām nepieciešamais finansējums (euro)*
A2: Budžeta programma/resors | B2: Izglītojamo skaits vidēji gadā (valsts finansēto vietu skaits) | C2: Normējamās izmaksas (saskaņā ar spēkā esošo aprēķinu - 425,15 euro) | D2: Normējamās izmaksas (saskaņā ar jauno aprēķinu - 624,86 euro) | E2: Starpība jeb nepieciešamais papildus finansējums
E3: 2023.gads | F3: 2024.gads | G3: 2025.gads un turpmāk
A4: Izglītības un zinātnes ministrijas budžeta programma 02.01.00. "Profesionālās izglītības programmu īstenošana"** | B4: 20602 | C4: 12314467 | D4: 18087639 | E4: =G4/3 -> 1924390.7 | F4: =E4*2 -> 3848781.3 | G4: =D4-C4 -> 5773172
A5: Kultūras ministrijas budžeta programma 20.00.00. "Kultūrizglītība"*** | B5: 1838 | C5: 1813576 | D5: 2665471 | E5: =G5/3 -> 283965 | F5: =E5*2 -> 567930 | G5: =D5-C5 -> 851895
A6: Zemkopības ministrijas budžeta programma 22.01.00. "Profesionālā izglītība"*** | B6: 200 | C6: 108438 | D6: 159375 | E6: =G6/3 -> 16979 | F6: =E6*2 -> 33958 | G6: =D6-C6 -> 50937
A7: Veselības ministrijas budžeta programma 02.03.00. "Augstākā medicīnas izglītība" | B7: 144 | C7: 61221.6 | D7: 89979.346 | E7: =G7/3 -> 9585.9154 | F7: =E7*2 -> 19171.831 | G7: =D7-C7 -> 28757.746
A8: Kopā | B8: =SUM(B4:B7) -> 22784 | C8: =SUM(C4:C7) -> 14297703 | D8: =SUM(D4:D7) -> 21002464 | E8: =SUM(E4:E7) -> 2234920.6 | F8: =SUM(F4:F7) -> 4469841.2 | G8: =SUM(G4:G7) -> 6704761.7
A9: * Aprēķini veikti, gatavojot prioritāro pasākumu pieteikumus 2022.gadam, aprēķini tiks aktualizēti, gatavojot pieteikumus prioritāro pasākumu īstenošanai 2023.gadam. ** Finansējums tiek aprēķināts ņemot vērā izglītības iestāžu profesionālās izglītības programmu izmaksu vidējos koeficientus. *** Finansējums tiek aprēķināts ņemot vērā profesionālās izglītības programmu izmaksu koeficientus.
