Workbook

Sheet Kopsavilkums
B2: Papildus nepieciešamais finansējums VPC attīstībai 2026. gadam un 2027. gadam
C4: Papildus nepieciešamais finansējums 2026.gadam, euro | D4: Papildus nepieciešamais finansējums 2027.gadam, euro
B5: Digitalizācija | C5: ='1.Digitalizācija'!G13 -> 1647778
B6: Darbības nepārtrauktība | C6: =SUM('2.Darbības nepārtrauktība'!G4:G7) -> 247082 | D6: =SUM('2.Darbības nepārtrauktība'!G8) -> 30250
B7: Molekulārā patoloģija | C7: =SUM('3.Molekulārā patoloģ'!G4:G20) -> 139234.7 | D7: =SUM('3.Molekulārā patoloģ'!G21:G23) -> 459800
B8: Kvalitātes uzlabošana | C8: ='4.Kvalitātes uzlabošana'!F8+'4.Kvalitātes uzlabošana'!F9 -> 4537.5 | D8: =SUM('4.Kvalitātes uzlabošana'!F4:F7) -> 86519.84
C9: =ROUNDUP(SUM(C5:C8),0) -> 2038633 | D9: =ROUNDUP(SUM(D5:D8),0) -> 576570
B12: Pavisam kopā: | C12: =C9+D9 -> 2615203

Sheet 1.Digitalizācija
A2: Papildus nepieciešamais finansējums digitalizācijas procesu uzlabošanai un pilnveidošanai
A4: N.p.k. | B4: Nepieciešamās iekārtas/risinājumi | C4: Gads | D4: Cena, euro | E4: Skaits | F4: Kopā cena bez PVN, euro | G4: Kopā cena ar PVN, euro | H4: Pamatojums un skaidrojums
A5: 1 | B5: Audu mikropreparātu digitālie skeneri | C5: 2026 | D5: 330000 | E5: 2 | F5: =D5*E5 -> 660000 | G5: =F5*1.21 -> 798600 | H5: Digitalizācijai nepieciešami 2 skeneri (cena 1 ap 330000 EUR), skeneriem jābūt paredzētiem klīniskā materiāla skenēšanai, kas piemēroti gan H&E, gan IHĶ stiklu skenēšanai, maksimāli vienkārši lietojamiem, kas kopā spēj ieskenēt tuvu 2000 stikliem dienā.
A6: 2 | B6: IT risinājumi | C6: 2026 | D6: 50000 | E6: 1 | F6: =D6*E6 -> 50000 | G6: =F6*1.21 -> 60500 | H6: NGS informācijas apstrādei klīniskai lietošanai ietver licenci datu apstrādei.
A7: 3 | B7: Digitālo attēlu glabāšanas arhīvs | C7: 2026 | D7: 350000 | E7: 1 | F7: =D7*E7 -> 350000 | G7: =F7*1.21 -> 423500 | H7: Esošais digitālā arhīva apjoms ir nepietiekošs lielajam datu apjomam, nepieciešams, to paplašināt.
A8: 4 | B8: LIS programmatūras licence | C8: 2026 | D8: 25000 | E8: 1 | F8: =D8*E8 -> 25000 | G8: =F8*1.21 -> 30250 | H8: LIS uzlabojumi Licences.
A9: 5 | B9: Svītru kodu printers (stikliem) | C9: 2026 | D9: 25200 | E9: 4 | F9: =D9*E9 -> 100800 | G9: =F9*1.21 -> 121968 | H9: Stiklu skenēšanai viens no svarīgiem aspektiem ir svītru kodu kvalitāte, lai stikls būtu atpazīstams digitālā vidē. Esošie daudzkārt remontēti, neiztur nepieciešamu darba noslodzi.
A10: 6 | B10: Digitālais FISH mikroskops | C10: 2026 | D10: 120000 | E10: 1 | F10: =D10*E10 -> 120000 | G10: =F10*1.21 -> 145200 | H10: Šī pozīcija varētu būt ne tikai digitalizācijai, bet arī pie molekulārajiem izmeklējumiem, bet ļoti prioritāra kompleksai šo abu jomu attīstībai.
A11: 7 | B11: Ekrāns un aprīkojums apmācību auditorijā | C11: 2026 | D11: 16000 | E11: 1 | F11: =D11*E11 -> 16000 | G11: =F11*1.21 -> 19360 | H11: Apmācībai nepieciešama aprīkota telpa, kur iespējams mācīt gan studentus, gan rezidentus. Telpu trūkuma dēļ ir iespējams ierīkot tikai vienu šādu telpu.
A12: 8 | B12: Ekrāni patologiem digitālo attēlu izvērtēšanai | C12: 2026 | D12: 2000 | E12: 20 | F12: =D12*E12 -> 40000 | G12: =F12*1.21 -> 48400 | H12: Digitālo attēlu pārlūkošanai.
F13: Kopā: | G13: =SUM(G5:G12) -> 1647778

Sheet 2.Darbības nepārtrauktība
A2: Papildus nepieciešamais finansējums darbības nepārtrauktības nodrošināšanai
A3: N.p.k. | B3: Nepieciešamās iekārtas/risinājumi | C3: Gads | D3: Cena, euro | E3: Skaits | F3: Kopā cena bez PVN, euro | G3: Kopā cena ar PVN, euro | H3: Pamatojums un skaidrojums
A4: 1 | B4: Kasešu printeris | C4: 2026 | D4: 42600 | E4: 2 | F4: =D4*E4 -> 85200 | G4: =F4*1.21 -> 103092 | H4: Nepieciešams sakarā ar darba kapacitātes pieaugumu, katru jāizdrukā ap 1500 kasetes. Esošiem kasešu printeriem ir nepieciešams darbinieks, kas to nepārtraukti apkalpo darbības laikā, lēns drukāšanas ātrums, liels darbinieka pavadītais laiks pie printera.
A5: 2 | B5: Kaulu zāģis | C5: 2026 | D5: 43000 | E5: 1 | F5: =D5*E5 -> 43000 | G5: =F5*1.21 -> 52030 | H5: Palielinoties operāciju skaitam LOC galvas un kakla ķirurģijas nodaļā pieaug nepieciešamība sagatavot materiālu, kas satur kaula fragmentus diagnostikai. Lai to paveiktu, ir nepieciešami plāni un taisni kaulu griezumi, kas vieglāk tiek dekalcinēti un sniedz pārskatu par audzēja ieaugšanu kaulā.
A6: 3 | B6: Dekalcinators | C6: 2026 | D6: 20000 | E6: 1 | F6: =D6*E6 -> 20000 | G6: =F6*1.21 -> 24200 | H6: Ar kaulu zāģa darbību saistīta ierīce, kā nākošais posms cieto audu dekalcinācijai, kas dod iespēju audu griešanai un izmeklēšanai.
A7: 4 | B7: Mikroskopi | C7: 2026 | D7: 7000 | E7: 8 | F7: =D7*E7 -> 56000 | G7: =F7*1.21 -> 67760 | H7: Daudzi mikroskopi Patoloģijas centrā ir novecojuši, VM nepārtraukti uzņem jaunus rezidentu, mikroskopu kvalitāte ir kritiska jauno ārstu apmācībā un patologu darbā kā tādā.
A8: 5 | B8: Ūdens destilators | C8: 2027 | D8: 25000 | E8: 1 | F8: =D8*E8 -> 25000 | G8: =F8*1.21 -> 30250 | H8: Imūnhistoķīmijas aparātu tīrīšanai tiek izmantots destilēts ūdens, ko regulāri pērkam iepakojumos. Šī iekārta, samazinātu izmaksas un nepiesārņotu dabu ar plastmasas kannām.
F9: kopā: | G9: =SUM(G4:G8) -> 277332

Sheet 3.Molekulārā patoloģ
A2: Papildus nepieciešamais finansējums molekulārās patoloģijas attīstībai
A3: N.p.k. | B3: Nepieciešamās iekārtas/risinājumi | C3: Gads | D3: Cena, euro | E3: Skaits | F3: Kopā cena bez PVN, euro | G3: Kopā cena ar PVN, euro | H3: Pamatojums un skaidrojums
A4: 1 | B4: Mehāniskā pipete 1-kanālu pipetēšanai dažādu tilpumu. | C4: 2026 | D4: 280 | E4: 10 | F4: =D4*E4 -> 2800 | G4: =F4*1.21 -> 3388 | H4: Pārņemot molekulāro testēšanu no LIC laboratorijas, nav pipešu skaits produktīvam darbam, nav ar ko nomainīt bojātās un norakstītās pipetes
A5: 2 | B5: DNS/RNS UV attīrīšanas bokss | C5: 2026 | D5: 2300 | E5: 2 | F5: =D5*E5 -> 4600 | G5: =F5*1.21 -> 5566 | H5: Nepieciešams jauno molekulāro izmeklējumu veikšanai
A6: 3 | B6: Svari elektroniskie | C6: 2026 | D6: 750 | E6: 1 | F6: =D6*E6 -> 750 | G6: =F6*1.21 -> 907.5 | H6: Nepieciešams jauno molekulāro izmeklējumu veikšanai
A7: 4 | B7: Galda centrifūga 32 x 15ml stobriem | C7: 2026 | D7: 4000 | E7: 1 | F7: =D7*E7 -> 4000 | G7: =F7*1.21 -> 4840 | H7: Nepieciešams jauno molekulāro izmeklējumu veikšanai
A8: 5 | B8: Galda centrifūga 1,5ml stobriem | C8: 2026 | D8: 4000 | E8: 1 | F8: =D8*E8 -> 4000 | G8: =F8*1.21 -> 4840 | H8: Nepieciešams jauno molekulāro izmeklējumu veikšanai
A9: 6 | B9: Galda lampa ar palielinājuma stiklu (palielinājums x1,75) | C9: 2026 | D9: 80 | E9: 4 | F9: =D9*E9 -> 320 | G9: =F9*1.21 -> 387.2 | H9: Ārsta darba vides uzlabošanai audu izgriešanas procesā.
A10: 7 | B10: Vorteks-maisitajs | C10: 2026 | D10: 100 | E10: 1 | F10: =D10*E10 -> 100 | G10: =F10*1.21 -> 121 | H10: Procesa uzlabošanai
A11: 8 | B11: Šūnu skaitītāji | C11: 2026 | D11: 900 | E11: 3 | F11: =D11*E11 -> 2700 | G11: =F11*1.21 -> 3267 | H11: Bronhoalveolāras lavāžas skaitīšanai
A12: 9 | B12: Mini centrifūga/vortekss (piemēram, Biosan, FV-2400 Microspin) ar maināmiem adapteriem | C12: 2026 | D12: 300 | E12: 1 | F12: =D12*E12 -> 300 | G12: =F12*1.21 -> 363 | H12: Nepieciešams jauno molekulāro izmeklējumu veikšanai
A13: 10 | B13: Sausā bloka termostats | C13: 2026 | D13: 500 | E13: 1 | F13: =D13*E13 -> 500 | G13: =F13*1.21 -> 605 | H13: Nepieciešams jauno molekulāro izmeklējumu veikšanai
A14: 11 | B14: Daudzfunkcionāla centrifūga ar dzesētāju un maināmiem rotoriem, piemēram, Eppendorf Centrifuge 5430R, Keypad, 230V/ 50-60 Hz | C14: 2026 | D14: 7000 | E14: 1 | F14: =D14*E14 -> 7000 | G14: =F14*1.21 -> 8470 | H14: Nepieciešams jauno molekulāro izmeklējumu veikšanai
A15: 12 | B15: NanoDrop One UV-Vis Spectrophotometer - nukleīnskābju koncentrācijas mērīšanai | C15: 2026 | D15: 13000 | E15: 1 | F15: =D15*E15 -> 13000 | G15: =F15*1.21 -> 15730 | H15: Izdalīto nukleīnskābju koncentrācijas mērīšanai un kvalitātes izvērtēšanai
... A23: 20 | B23: Long read sekvenēšanas iekārta, piemēram, PacBio vai Oxford Nanopore sequencing | C23: 2027 | D23: 40000 | E23: 1 | F23: =D23*E23 -> 40000 | G23: =F23*1.21 -> 48400 | H23: Nepieciešams jauno molekulāro izmeklējumu veikšanai
F24: Kopā: | G24: =SUM(G4:G23) -> 599034.7

Sheet 4.Kvalitātes uzlabošana
A2: Papildus nepieciešamais finansējums kvalitātes procesa uzlabošanai
A3: Nepieciešamās iekārtas/risinājumi | B3: Gads | C3: Cena, euro | D3: Skaits | E3: Kopā cena bez PVN, euro | F3: Kopā cena ar PVN, euro | G3: Pamatojums un skaidrojums
A4: Segstikliņu līmētājs | B4: 2027 | C4: 36000 | D4: 1 | E4: =C4*D4 -> 36000 | F4: =E4*1.21 -> 43560 | G4: Pieaugot izmeklājumu skaitam un AV klāstam darbinieku atslodzei.
A5: HEM & EOZ Cito automātiskā krāsošanas iekārta | B5: 2027 | C5: 30000 | D5: 1 | E5: =C5*D5 -> 30000 | F5: =E5*1.21 -> 36300 | G5: Lai nodrošinātu Cito laboratorijas darbu LOC operāciju blokā un mazinātu darba kaitīgumu tur strādājošajam biomedicīnas laborantam. Nepieciešams automatizēt krtāsošanas procesu.
A6: parafīna noņēmējs no kasetēm | B6: 2027 | C6: 726 | D6: 4 | E6: =C6*D6 -> 2904 | F6: =E6*1.21 -> 3513.84 | G6: Nepieciešams audu ieliešanas procesā, lai optimizētu laboranta drabu.
A7: Objektīvs – Achromat klases objektīviem ar norādītām vai augstākām NA un WD, izkoriģētām hromatiskām aberācijām ar redzes lauku 22mm saderīgs ar Nikon mikroskopu Achromat 60X EU, N.A. 0.80, W.D. 0.30mm | B7: 2027 | C7: 650 | D7: 4 | E7: =C7*D7 -> 2600 | F7: =E7*1.21 -> 3146 | G7: Mikroskopu papildinājums šķidruma citoloģijas metodei
A8: Centrifūga citologiem | B8: 2026 | C8: 3000 | D8: 1 | E8: =C8*D8 -> 3000 | F8: =E8*1.21 -> 3630 | G8: Nepieciešams lai pilnvērtīgi strādātu ar šķidruma citoloģijas metodi.
A9: Svari elektroniskie | B9: 2026 | C9: 750 | D9: 1 | E9: =C9*D9 -> 750 | F9: =E9*1.21 -> 907.5 | G9: Nepieciešami jauno izmeklējumu veikšanai
E10: Kopā: | F10: =SUM(F4:F9) -> 91057.34
