Workbook

Sheet OIM
A1: A | B1: B | D1: D | E1: E | F1: F | G1: G
I2: Pielikums Informatīvajam ziņojumam "“Par kompetentās iestādes noteikšanu oglekļa ievedkorekcijas mehānisma ieviešanai”
B3: Prioritārā pasākuma pieteikums vidējam termiņam
B5: Ministrija vai cita centrālā valsts iestāde: | D5: Finanšu ministrija
B6: Prioritārā pasākuma nosaukums: | D6: Oglekļa ievedkorekcijas mehānisma piemērošana Latvijā
B7: Kods: | C7: xx_xx_x_x
A9: Nr. | B9: Prioritārā pasākuma rādītāji un pamatojums
A10: 1. | B10: Prioritārā pasākuma mērķis: | C10: Nodrošināt nepieciešamo finansējumu VID, lai nodrošinātu Eiropas zaļā kursa (Green Deal) pasākuma - oglekļa ievedkorekcijas mehānisma piemērošana Latvijā
A11: 2. | B11: Prioritārā pasākuma apraksts: | C11: Eiropas Parlamenta un Padomes Regula 2023/956/ES, ar ko izveido oglekļa ievedkorekcijas mehānismu (turpmāk – OIM regula), ir pieņemta 2023.gada 10.maijā, stāsies spēkā 2023.gada 1.oktobrī un būs tieši piemērojama visās dalībvalstīs. Regulas mērķis ir veicināt atsevišķu nozaru produktu iekšējā tirgus aizsardzību, kā arī ārējās tirdzniecības konkurētspējas uzlabošanu, salīdzinot ar tādiem trešo valstu tirgiem, kur šo produktu ražošanai netiek prasītas papildus investīcijas siltumnīcefekta gāzu samazināšanai, līdz ar ko šo emisiju cena netiek iekļauta produktu cenā. OIM tiks attiecināts uz specifiskām nozarēm (cements, mēslošanas līdzekļi, dzelzs un tērauds, alumīnijs, ūdeņradis un elektroenerģijas ražošana) jeb tām nozarēm, kuras ir visvairāk oglekļa ietilpīgas un kurās ir augstākais oglekļa emisiju pārvirzes risks (risk of carbon leakage). Papildus OIM regulā noteiktajiem muitas administrāciju pienākumiem, dalībvalstīm ir jāizraugās kompetentā iestāde (turpmāk - KI), kas pilda citas regulā noteiktās funkcijas un pienākumus. KI galvenās funkcijas ir sadarbība ar Komisiju, dažādu pārkāpumu izmeklēšana, OIM atzītā statusa piešķiršana, OIM deklarāciju pārbaude, nepieciešamo OIM sertifikātu skaita nodrošināšana, sodu piemērošana par termiņā nenodotiem OIM sertifikātiem, kā arī pārejas periodā OIM ziņojumu pārbaude. VID nosakot kā KI OIM regulas kontekstā, tā ir jauna, VID neraksturīga funkcija, kas saistīta ar specifiskiem pienākumiem vides jomā. To veikšana prasa padziļinātas nodarbināto zināšanas, lai veiktu emisiju aprēķināšanu (iegultās emisijas, netiešās emisijas, faktiskās emisijas) un pārbaudi. VID amatpersonām šobrīd esošo pienākumu pildīšanai šādas specifiskas zināšanas nav nepieciešamas.
A12: 3. | B12: Valdības rīcības plāns: | C12: Deklarācijas par Artura Krišjāņa Kariņa vadītā Ministru kabineta iecerēto darbību sadaļa un rīcības joma: III. ENERĢĒTIKA, KLIMATS UN VIDE Klimats un vide; deklarācijā dotais uzdevums Nr.107: Vispusīgi un sociāli taisnīgi ieviesīsim Eiropas zaļo kursu, virzoties uz klimatneitralitātes sasniegšanu līdz 2050. gadam, Eiropas zaļā kursa pakotnē noteikto mērķu un "Gatavi mērķrādītājam 55%" ("Fit for 55") klimata mērķu īstenošanu, ņemot vērā valsts attīstības mērķus un sociālo drošību, par prioritāti izvirzot Latvijas konkurētspēju reģionā un sabalansētas un ilgtspējīgas tautsaimniecības attīstību. Nodrošināsim zinātnē balstītu lēmumu pieņemšanu, regulāru sabiedrības līdzdalību un mehānismus publiskā finansējuma izsekojamībai Eiropas zaļā kursa mērķu sasniegšanā.
A13: 4. | B13: Atbilstība vidēja termiņa budžeta ietvara likumā noteiktajiem budžeta mērķiem un prioritārajiem attīstības virzieniem:
A14: 5. | B14: 5.1. Ietekme uz tautsaimniecību, tai skaitā nacionālo drošību, un ekonomiskās izaugsmes veicināšanu: | C14: Ietekme ir tieša | E14: Realizējot prioritāro pasākumu, tiks aizsargāts, saglabāts un stiprināts ES, t.sk. Latvijas, dabas kapitāls un aizsargāta iedzīvotāju veselība un labklājība no riska faktoriem un ietekmes, kas saistīti ar vidi.
B15: 5.2. Strukturālo reformu īstenošana: | C15: Reformas netiek īstenotas
A16: 6. | B16: Prioritārā pasākuma būtiskākie politikas rezultatīvie rādītāji (tai skaitā to mērvienība), uz kuru sasniegšanu ir vērsts prioritārais pasākums: | F16: Attīstības plānošanas dokumenti un normatīvie akti, kuros ir minēti attiecīgie politikas rezultatīvie rādītāji:
B17: Latvijas klimatneitralitāte 2050. gadā. Stratēģiskie mērķi: 1) SEG emisiju samazināšana visos tautsaimniecības sektoros; 2) CO2 piesaistes palielināšana | F17: 2020.gada 28.janvārī MK apstiprinātā “Latvijas stratēģija klimatneitralitātes sasniegšanai līdz 2050. gadam”
A19: 7. | B19: Finanšu rādītāji, informācija par amata vietām
E20: 2024. gads | F20: 2025. gads | G20: 2026. gads | H20: Turpmākā laikposmā līdz pasākuma pabeigšanai (ja tas ir terminēts) | I20: Turpmāk katru gadu (ja pasākums nav terminēts) | J20: Pasākuma pabeigšanas gads (ja tas ir terminēts)
B21: Ieņēmumi kopā, euro1
B22: Izdevumi kopā, euro | E22: 1024434 | F22: 1353968.2 | G22: 1336245.6 | I22: 965340.64
B23: tai skaitā atlīdzība | E23: 369313.31 | F23: 529457.62 | G23: 729638 | I23: 729638
B24: Izdevumi kopā sadalījumā pa finansēšanas avotiem:
B25: finansējums tiks rasts ministrijas budžeta ietvaros
B26: papildus nepieciešamais valsts budžeta finansējums | E26: 1024434 | F26: 1353968.2 | G26: 1336245.6 | I26: 965340.64
B27: Ar prioritārā pasākuma ieviešanu saistītās amata vietu skaita izmaiņas (+/-) pret 2023. gadu | E27: 7 | F27: 11 | G27: 16 | I27: 16
A28: 8. | B28: Prioritārā pasākuma raksturojošākie darbības rezultāti un to rezultatīvie rādītāji
B29: Darbības rezultāts | E29: Darbības rezultatīvais rādītājs | H29: 2024. gads | I29: 2025. gads | J29: 2026. gads
B30: Deklarētāja informēšana muitas deklarācijas iesniegšanas brīdī par pienākumu iesniegt ceturkšņa ziņojumu EK | E30: Paziņojumu skaits | H30: vidēji par 30 deklarācijām dienā vai 1000 komersantiem | I30: vidēji par 30 deklarācijām dienā vai 1000 komersantiem | J30: 0
B31: Komersantu ziņojumu izskatīšana pēc EK pieprasījuma (saziņa ar komersantiem, lai novērstu neatbilstības ziņojumos) | E31: Apstrādāto ziņojumu skaits | H31: 500 | I31: 500 | J31: 0
B32: Muitas deklarāciju pārbaudes, laižot brīvam apgrozījumam OIM regulējumam pakļautās preces | E32: Pārbaudīto deklarāciju skaits | H32: 0 | I32: 0 | J32: 11000
B33: Atzītā OIM deklarētāja statusa piešķiršana - iesniegumu izskatīšana un pārbaude, reģistrācija vai atteikumu sagatavošana (t.sk. ziņošana citām dalībvalstīm) | E33: Izskatīto un apstrādāto iesniegumu skaits | H33: 0 | I33: 1000 | J33: 10
E34: Pārbaužu skaits atzītā OIM deklarētāja statusa piešķiršanai | H34: 0 | I34: 1000 | J34: 10
E35: Atzīto OIM deklarētāju skaits | H35: 0 | I35: 1000 | J35: 10
B36: OIM sertifikātu izsniegšana, nodošana, pārdošana, atpirkšana, anulēšana, uzskaite un uzskaite izmantojot OIM reģistru, konkrētām precēm | E36: Ierakstu OIM reģistrā skaits | H36: 0 | I36: 0 | J36: 1500
B37: Atzītā OIM deklarētāja statusa uzraudzība, t.sk., sertifikātu skaita nodrošināšana, anulēšana (sadarbībā ar EK), pārbaudes, pārkāpumu izmeklēšana - OIM deklarētāja gada deklarācijas par importētajām precēm iegultajām emisijām pārbaude, nodoto OIM sertifikātu, kas atbilst šīm deklarētajām emisijām, pārbaude, pieprasījumu par OIM sertifikātu skaita samazinājumu par oglekļa cenu, kas citur maksāta par šīm emisijām, pārbaude, sodu piemērošana par pārkāpumiem | E37: Pārbaude atzītā OIM deklarētāja statusa uzraudzībai 2027.gadā par 2026.gadu (skaits) | H37: 0 | I37: 0 | J37: 0
E38: OIM deklarāciju pārbaudes 2027.gadā par 2026.gadu (skaits) | H38: 0 | I38: 0 | J38: 0
A39: 9. | B39: Ja kapitālie izdevumi ir saistīti ar ēkas, būves, zemes, inženiertehniskās un tehnoloģiskās iekārtas, specializētās iekārtas vai operatīvā transporta iegādi, būvniecību vai atjaunošanu, norāda:
B40: objekta veids
B41: veicamā darbība
B42: ieguldījuma teritorija (vietējā pašvaldība)
B43: Vai pēdējo 3 gadu laikā ir bijis piešķirts finansējums šādam mērķim?
A45: 10. | B45: Cita būtiska informācija (piemēram, papildu skaidrojums par ministrijas iespējām līdzfinansēt pasākumu no ministrijas budžeta (pārskatot citas aktivitātes); ES prasību nodrošināšana; tiesvedības riski; iespējas līdzfinansēt no ES fondiem; informācija par apstiprinātiem normatīvajiem aktiem, kas jāfinansē no valsts budžeta, kā arī atbilstība Ministru kabineta rīkojumiem un protokollēmumiem attiecībā uz pieprasīto finansējumu; detalizēti aprēķini, tai skaitā par izdevumiem, vai atsauce uz atbilstošo pamatojošo dokumentu, kurā pieejami attiecīgie aprēķini; skaidrojums par amata vietu skaita izmaiņām): Saskaņā ar Ministru kabineta noteikumu Nr.817 "Klimata un enerģētikas ministrijas nolikums" 1.punktu Klimata un enerģētikas ministrija ir vadošā valsts pārvaldes iestāde klimata politikas un enerģētikas politikas jomā, savukārt saskaņā ar Ministru kabineta noteikumu Nr.434 "Vides aizsardzības un reģionālās attīstības ministrijas nolikums" 1.punktu vadošā valsts pārvaldes iestāde vides aizsardzības jomā ir Vides aizsardzības un reģionālās attīstības ministrija. Būtiski, lai jomas politikas veidošanas un nacionālo normatīvo aktu izstrādes procesu, t.sk, oglekļa ievedkorekcijas mehānisma piemērošanai, par nozari atbildīgās ministrijas savlaicīgi uzsāktu, atbilstoši koordinētu un savstarpēji saskaņotu starp nozares ministriju un nacionālo KI OIM regulas kontekstā. Vienlaikus KI jānodrošina līdzdalība īstenošanas normatīvo aktu izstrādē attiecīgā Eiropas Komisijas komitejā un dalība ekspertu darba grupās. Oglekļa ievedkorekcijas mehānisma piemērošana nodrošinās papildu valsts budžeta ieņēmumus (25% apmērā no iemaksātās summas), bet potenciālie ieņēmumi šobrīd nav aprēķināmi.
B46: Sagatavoja: Valsts ieņēmumu dienesta Finanšu pārvaldes Budžeta administrēšanas daļas vadītāja vietnieks
B47: (amats)
B48: Linda Gudļevska
B49: (vārds, uzvārds) (paraksts2)
B50: 31.08.2023.
B51: (datums2)
B52: 67120250, linda.gudlevska@vid.gov.lv
B53: (tālrunis, elektroniskā pasta adrese)
A54: Piezīmes. 1 Norāda prognozēto kopējo ieņēmumu izmaiņas prioritārajam pasākumam, kura īstenošana ir vērsta uz jauna veida nodokļu vai nenodokļu ieņēmumu veidu radīšanu vai ieņēmumu no esoša ieņēmumu veida apmēra izmaiņām. Pārējās ieņēmumu izmaiņas no prioritārā pasākuma īstenošanas nenosaka. 2 Dokumenta rekvizītus "paraksts" un "datums" neaizpilda, ja elektroniskais dokuments ir sagatavots atbilstoši normatīvajiem aktiem par elektronisko dokumentu noformēšanu.”.
B56: Finanšu ministrs | H56: A.Ašeradens

Sheet izmaksas
A1: Oglekļa ievedkorekcijas mehānisma ieviešanai IS izstrāde un uzturēšana, papildus amata vietu izveide un uzturēšana
A3: Pozīcija | C3: Vienreizējie izdevumi (EUR) | D3: 2024.gada izdevumi (EUR) | E3: 2025.gada izdevumi (EUR) | F3: 2026.gada izdevumi (EUR) | G3: Izdevumi turpmāk ik gadu (EUR) | H3: Piezīmes
A5: Amata vietu skaits | D5: 7 | E5: 11 | F5: 16 | G5: 16
A6: Kopā | C6: =C7+C12+C28 -> 1754720 | D6: =D7+D12+D28 -> 1024434 | E6: =E7+E12+E28 -> 1353968.2 | F6: =F7+F12+F28 -> 1336245.6 | G6: =G7+G12+G28 -> 965340.64
A7: EKK 1000 Atlīdzība | C7: =C8 -> 0 | D7: =D8 -> 369313.31 | E7: =E8 -> 529457.62 | F7: =F8 -> 729638 | G7: =G8 -> 729638
A8: 1 | B8: Atlīdzība | D8: =SUM(D9:D11) -> 369313.31 | E8: =SUM(E9:E11) -> 529457.62 | F8: =SUM(F9:F11) -> 729638 | G8: =SUM(G9:G11) -> 729638
A9: 1.1. | B9: Mēnešalga un piemaksas | D9: =Atlidz._aprekins!O11+Atlidz._aprekins!W11+Atlidz._aprekins!AE11+Atlidz._aprekins!G11/13*4 -> 286832.92 | E9: =Atlidz._aprekins!O11+Atlidz._aprekins!W11+Atlidz._aprekins!AE11+Atlidz._aprekins!G11/13*8 -> 411229.85 | F9: =Atlidz._aprekins!AG11 -> 566726 | G9: =Atlidz._aprekins!AG11 -> 566726
A10: 1.2. | B10: Sociālās garantijas | D10: =Atlidz._aprekins!O17+Atlidz._aprekins!W17+Atlidz._aprekins!AE17+Atlidz._aprekins!G17/13*4 -> 70153.462 | E10: =Atlidz._aprekins!O17+Atlidz._aprekins!W17+Atlidz._aprekins!AE17+Atlidz._aprekins!G17/13*8 -> 100527.92 | F10: =Atlidz._aprekins!AG22 -> 24416 | G10: =Atlidz._aprekins!AG22 -> 24416
A11: 1.3. | B11: Darba devēja VSAOI, 23,59% | D11: =Atlidz._aprekins!O22+Atlidz._aprekins!W21+Atlidz._aprekins!AE21+Atlidz._aprekins!G22/13*4 -> 12326.923 | E11: =Atlidz._aprekins!O22+Atlidz._aprekins!W21+Atlidz._aprekins!AE21+Atlidz._aprekins!G22/13*8 -> 17699.846 | F11: =Atlidz._aprekins!AG17 -> 138496 | G11: =Atlidz._aprekins!AG17 -> 138496
A12: EKK 2000 Preces un pakalpojumi | C12: =SUM(C13:C27) -> 35520 | D12: =SUM(D13:D27) -> 46720.66 | E12: =SUM(E13:E27) -> 119710.54 | F12: =SUM(F13:F27) -> 200607.64 | G12: =SUM(G13:G27) -> 235702.64
A13: 2. | B13: Komunālo pakalpojumu nodrošināšana | D13: =D5*119*12 -> 9996 | E13: =E5*119*12 -> 15708 | F13: =F5*119*12 -> 22848 | G13: =G5*119*12 -> 22848 | H13: 1 amata vietas uzturēšana: * 2024.gadā, 2025.gadā un turpmāk ik gadu Talejas iela 1, Rīga - 119 EUR/mēn (ūdens un elektrības izdevumi). Apsaimniekošanas izdevumi ir iekļauti Talejas ielas 1, Rīgā nomas maksā, tāpēc pie amata vietu uzturēšanas izdevumiem tie nav norādīti.
A14: 3. | B14: Apmācības | D14: =D5*150 -> 1050 | E14: =$E$5*150 -> 1650 | F14: =$F$5*150 -> 2400 | G14: =$G$5*150 -> 2400 | H14: Mācību izmaksas 150 EUR vienam darbiniekam gadā
A15: 4. | B15: Kanceleja (kancelejas preces, biroja papīrs) | D15: =D5*5.97 -> 41.79 | E15: =$E$5*5.97 -> 65.67 | F15: =$F$5*5.97 -> 95.52 | G15: =$G$5*5.97 -> 95.52 | H15: 1,50 EUR limits gadā uz vienu amata vietu 4,47 EUR Biroja papīra iegāde uz vienu amata vietu gadā
A16: 5. | B16: Stacionārā pieslēguma nodrošināšana | D16: =D5*0.74*12 -> 62.16 | E16: =$E$5*0.74*12 -> 97.68 | F16: =$F$5*0.74*12 -> 142.08 | G16: =$G$5*0.74*12 -> 142.08 | H16: Vidējās izmaksas mēnesī 0,74 EUR
A17: 6. | B17: Mobilā pieslēguma nodrošināšana | D17: =D5*4.72*12 -> 396.48 | E17: =E5*4.72*12 -> 623.04 | F17: =F5*4.72*12 -> 906.24 | G17: =G5*4.72*12 -> 906.24 | H17: Vidējās izmaksas mēnesī 4,72 EUR
A18: 7. | B18: Formas tērpu iegāde | D18: =5*1995 -> 9975 | E18: =9*1995 -> 17955 | F18: =14*1995 -> 27930 | G18: =14*1995 -> 27930 | H18: Vidējās viena MP biroja darbinieka formas tērpa komplekta izmaksas 1 995,00 EUR.
A19: 8. | B19: Galdu iegāde | C19: =16*439 -> 7024 | D19: =D5*439 -> 3073 | E19: =E5*439-D19 -> 1756 | F19: =F5*439-D19-E19 -> 2195 | H19: Vidējā vienas vienības cena 439 EUR. Vienreizēji izdevumi
A20: 9. | B20: Krēslu iegāde | C20: =16*367 -> 5872 | D20: =D5*367 -> 2569 | E20: =E5*367-D20 -> 1468 | F20: =F5*367-D20-E20 -> 1835 | H20: Vidējā vienas vienības cena 367 EUR. Vienreizējie izdevumi
A21: 10. | B21: Degviela | D21: =51.16*12 -> 613.92 | E21: =51.16*12 -> 613.92 | F21: =51.16*12 -> 613.92 | G21: =51.16*12 -> 613.92 | H21: Izmaksas aprēķinātas, ņemot vērā viena transportlīdzekļa noteikto nobraukuma normu 6,50 litri uz 100 km un pašreizējo degvielas tirgus cenu 1,574 EUR/l. Tādējādi 100 km izmaksas ir 10,231 EUR. Prognozētais nobraukums mēnesī - 500 km. Aprēķins 500 km: 500 km * 6,50/100 = 32,50 litri 32,50 * 1,574 = 51,16 EUR
A22: 11. | B22: Pārējie transportlīdzekļa uzturēšanas izdevumi (noma + mazgāšana) | D22: =(433.5*12)+(24.2*6) -> 5347.2 | E22: =(433.5*12)+(24.2*6) -> 5347.2 | F22: =(433.5*12)+(24.2*6) -> 5347.2 | G22: =(433.5*12)+(24.2*6) -> 5347.2 | H22: Viena transportlīdzekļa nomas maksa mēnesī 433,50 EUR. Viena transportlīdzekļa mazgāšana un salona tīrīšana 24,20 EUR/vidēji 1 reize 2 mēnešos.
A23: 12. | B23: Izdevumi par standartprogrammatūras (Microsoft) licenšu nomu | D23: =D5*301.73 -> 2112.11 | E23: =E5*301.73 -> 3319.03 | F23: =F5*301.73 -> 4827.68 | G23: =G5*301.73 -> 4827.68 | H23: Licenču izmaksas gadā (kopā - 301,73 EUR): MS Core CAL licence - 21,49 EUR MS Teams u.c. Web cloud aplikācijas - 72,60 EUR MS Office 365 licence - 138,09 EUR MS Windows Enterprise licence - 69,55 EUR
A24: 13. | B24: Datortehnikas piederumi | D24: =D5*37 -> 259 | E24: =E5*37 -> 407 | F24: =F5*37 -> 592 | G24: =G5*37 -> 592 | H24: Vidējās izmaksas gadā 37 EUR vienai amata vietai
A25: 14. | B25: Monitoru iegāde | C25: =16*164 -> 2624 | D25: =D5*175 -> 1225 | E25: =E5*175-D25 -> 700 | F25: =F5*175-D25-E25 -> 875 | H25: Pēdējā pasūtījuma 2023.gada jūnijā vienas vienības cena 175 EUR. Vienreizējie izdevumi.
A26: 15. | B26: Informēšanas kampaņa | C26: 20000 | D26: 10000 | E26: 10000 | H26: Vienreizējie izdevumi
A27: 16. | B27: Sistēmas uzturēšana | E27: =D30*10% -> 60000 | F27: =(D30+E30)*10% -> 130000 | G27: =(D30+E30+F30)*10% -> 170000 | H27: 10% no izstrādes izmaksām
B28: EKK 5000 Kapitālie izdevumi | C28: =SUM(C29:C30) -> 1719200 | D28: =SUM(D29:D30) -> 608400 | E28: =SUM(E29:E30) -> 704800 | F28: =SUM(F29:F30) -> 406000 | G28: =SUM(G29:G30) -> 0
A29: 17. | B29: Datoru iegāde | C29: =16*1200 -> 19200 | D29: =D5*1200 -> 8400 | E29: =E5*1200-D29 -> 4800 | F29: =F5*1200-D29-E29 -> 6000 | H29: Vienreizējie izdevumi Vidējā vienas vienības cena 1 200 EUR
A30: 18. | B30: Sistēmas izstrāde | C30: 1700000 | D30: 600000 | E30: 700000 | F30: 400000 | H30: Vienreizējie izdevumi

Sheet Atlidz._aprekins
A1: Papildus amata vietu izveide oglekļa ievedkorekcijas mehānisma ieviešanai
A3: 2024.gada viduspunkts
A5: Muitas pārvalde | F5: Amata vietu skaits | I5: Muitas pārvalde | N5: Amata vietu skaits | Q5: Informātikas pārvalde | V5: Amata vietu skaits | Y5: Informātikas pārvalde | AD5: Amata vietu skaits | AG5: amata vietu skaits KOPĀ
A6: Vecākais muitas eksperts (28.3.saime, V līmenis, 10.mēnešalgu grupa) | F6: 13 | I6: Daļas vadītājs (28.3.saime, VII līmenis, 12.mēnešalgu grupa) | N6: 1 | Q6: Sistēmanalītiķis (21.4.saime, III līmenis, 11.mēnešalgu grupa) | V6: 1 | Y6: Informācijas sistēmu administrators (21.5.saime, IV līmenis, 11.mēnešalgu grupa) | AD6: 1 | AG6: =F6+N6+V6+AD6 -> 16
C8: Koeficients | D8: 1 | K8: Koeficients | L8: 1 | S8: Koeficients | T8: 1.5 | AA8: Koeficients | AB8: 1.5
A9: Ekonomiskās klasifikācijas kods | B9: Ekonomiskās klasifikācijas nosaukums | C9: 1 amata vieta mēnesī, EUR (bez koeficienta) | D9: 1 amata vieta mēnesī, EUR | E9: 1 amata vieta gadā, EUR | F9: amata vietas gadā, EUR | I9: Ekonomiskās klasifikācijas kods | J9: Ekonomiskās klasifikācijas nosaukums | K9: 1 amata vieta mēnesī, EUR (bez koeficienta) | L9: 1 amata vieta mēnesī, EUR | M9: 1 amata vieta gadā, EUR | N9: amata vieta gadā, EUR | Q9: Ekonomiskās klasifikācijas kods | R9: Ekonomiskās klasifikācijas nosaukums | S9: 1 amata vieta mēnesī, EUR (bez koeficienta) | T9: 1 amata vieta mēnesī, EUR | U9: 1 amata vieta gadā, EUR | V9: amata vieta gadā, EUR | Y9: Ekonomiskās klasifikācijas kods | Z9: Ekonomiskās klasifikācijas nosaukums | AA9: 1 amata vieta mēnesī, EUR (bez koeficienta) | AB9: 1 amata vieta mēnesī, EUR | AC9: 1 amata vieta gadā, EUR | AD9: amata vieta gadā, EUR | AG9: Finansējums KOPĀ gadā, EUR
A10: 1000 | B10: Atlīdzība kopā | C10: =C11+C16 -> 3399.41 | D10: =D11+D16 -> 3399.41 | E10: =E11+E16 -> 40792.67 | F10: =F11+F16 -> 520469 | G10: Atalgojums | I10: 1000 | J10: Atlīdzība kopā | K10: =K11+K16 -> 5230.39 | L10: =L11+L16 -> 5230.39 | M10: =M11+M16 -> 62764.5 | N10: =N11+N16 -> 62007 | O10: Atalgojums | Q10: 1000 | R10: Atlīdzība kopā | S10: =S11+S15 -> 4151.76 | T10: =T11+T15 -> 6194.87 | U10: =U11+U15 -> 74338.16 | V10: =V11+V15 -> 73581 | W10: Atalgojums | Y10: 1000 | Z10: Atlīdzība kopā | AA10: =AA11+AA15 -> 4151.76 | AB10: =AB11+AB15 -> 6194.87 | AC10: =AC11+AC15 -> 74338.16 | AD10: =AD11+AD15 -> 73581 | AE10: Atalgojums | AG10: =F10+N10+V10+AD10 -> 729638
A11: 1100 | B11: Atalgojums kopā | C11: =SUM(C12:C15) -> 2591.6 | D11: =SUM(D12:D15) -> 2591.6 | E11: =SUM(E12:E15) -> 31099.2 | F11: =SUM(F12:F15) -> 404290 | G11: =F11 -> 404290 | I11: 1100 | J11: Atalgojums kopā | K11: =SUM(K12:K15) -> 4014.4 | L11: =SUM(L12:L15) -> 4014.4 | M11: =SUM(M12:M15) -> 48172.8 | N11: =SUM(N12:N15) -> 48172 | O11: =N11 -> 48172 | Q11: 1100 | R11: Atalgojums kopā | S11: =SUM(S12:S14) -> 3174 | T11: =SUM(T12:T14) -> 4761 | U11: =SUM(U12:U14) -> 57132 | V11: =SUM(V12:V14) -> 57132 | W11: =V11 -> 57132 | Y11: 1100 | Z11: Atalgojums kopā | AA11: =SUM(AA12:AA14) -> 3174 | AB11: =SUM(AB12:AB14) -> 4761 | AC11: =SUM(AC12:AC14) -> 57132 | AD11: =SUM(AD12:AD14) -> 57132 | AE11: =AD11 -> 57132 | AG11: =AE11+W11+O11+G11 -> 566726
A12: 1115 | B12: Specializētā valsts civildienesta ierēdņu mēnešalga | C12: 2118 | D12: =C12*D8 -> 2118 | E12: =ROUND(D12*12,0) -> 25416 | F12: =ROUND(E12*F6,0) -> 330408 | I12: 1115 | J12: Specializētā valsts civildienesta ierēdņu mēnešalga | K12: 3292 | L12: =K12*L8 -> 3292 | M12: =ROUND(L12*12,0) -> 39504 | N12: =ROUND(M12*N6,0) -> 39504 | Q12: 1119 | R12: Pārējo darbinieku mēnešalga (darba alga) | S12: 2645 | T12: =S12*T8 -> 3967.5 | U12: =ROUND(T12*12,0) -> 47610 | V12: =ROUND(U12*V6,0) -> 47610 | Y12: 1119 | Z12: Pārējo darbinieku mēnešalga (darba alga) | AA12: 2645 | AB12: =AA12*AB8 -> 3967.5 | AC12: =ROUND(AB12*12,0) -> 47610 | AD12: =ROUND(AC12*AD6,0) -> 47610
A13: 1143 | B13: Piemaksas par speciālo dienesta pakāpi | C13: 50 | D13: =C13 -> 50 | E13: =ROUND(D13*12,0) -> 600 | F13: =ROUND(E13*F6,0) -> 7800 | I13: 1143 | J13: Piemaksas par speciālo dienesta pakāpi | K13: 64 | L13: =K13 -> 64 | M13: =ROUND(L13*12,0) -> 768 | N13: =ROUND(M13*N6,0) -> 768 | Q13: 1148 | R13: Prēmijas un naudas balvas (10% no mēnešalgas) | S13: =ROUND(S12*10%,2) -> 264.5 | T13: =ROUND(T12*10%,2) -> 396.75 | U13: =ROUND(T13*12,2) -> 4761 | V13: =ROUND(U13*V6,0) -> 4761 | Y13: 1148 | Z13: Prēmijas un naudas balvas (10% no mēnešalgas) | AA13: =ROUND(AA12*10%,2) -> 264.5 | AB13: =ROUND(AB12*10%,2) -> 396.75 | AC13: =ROUND(AB13*12,2) -> 4761 | AD13: =ROUND(AC13*AD6,0) -> 4761
A14: 1148 | B14: Prēmijas un naudas balvas (10% no mēnešalgas) | C14: =ROUND(C12*10%,2) -> 211.8 | D14: =ROUND(D12*10%,2) -> 211.8 | E14: =ROUND(D14*12,2) -> 2541.6 | F14: =ROUND(E14*F6,0) -> 33041 | I14: 1148 | J14: Prēmijas un naudas balvas (10% no mēnešalgas) | K14: =ROUND(K12*10%,2) -> 329.2 | L14: =ROUND(L12*10%,2) -> 329.2 | M14: =ROUND(L14*12,2) -> 3950.4 | N14: =ROUND(M14*N6,0) -> 3950 | Q14: 1149 | R14: Piemaksa par nozīmīgu ieguldījumu institūcijas stratēģisko mērķu sasniegšanā (10% no mēnešalgas) | S14: =ROUND(S12*10%,2) -> 264.5 | T14: =ROUND(T12*10%,2) -> 396.75 | U14: =ROUND(T14*12,2) -> 4761 | V14: =ROUND(U14*V6,0) -> 4761 | Y14: 1149 | Z14: Piemaksa par nozīmīgu ieguldījumu institūcijas stratēģisko mērķu sasniegšanā (10% no mēnešalgas) | AA14: =ROUND(AA12*10%,2) -> 264.5 | AB14: =ROUND(AB12*10%,2) -> 396.75 | AC14: =ROUND(AB14*12,2) -> 4761 | AD14: =ROUND(AC14*AD6,0) -> 4761
A15: 1149 | B15: Piemaksa par nozīmīgu ieguldījumu institūcijas stratēģisko mērķu sasniegšanā (10% no mēnešalgas) | C15: =ROUND(C12*10%,2) -> 211.8 | D15: =ROUND(D12*10%,2) -> 211.8 | E15: =ROUND(D15*12,2) -> 2541.6 | F15: =ROUND(E15*F6,0) -> 33041 | I15: 1149 | J15: Piemaksa par nozīmīgu ieguldījumu institūcijas stratēģisko mērķu sasniegšanā (10% no mēnešalgas) | K15: =ROUND(K12*10%,2) -> 329.2 | L15: =ROUND(L12*10%,2) -> 329.2 | M15: =ROUND(L15*12,2) -> 3950.4 | N15: =ROUND(M15*N6,0) -> 3950 | Q15: 1200 | R15: Darba devēja valsts sociālās apdrošināšanas obligātās iemaksas, pabalsti un kompensācijas kopā | S15: =SUM(S16:S21) -> 977.76 | T15: =SUM(T16:T21) -> 1433.87 | U15: =SUM(U16:U21) -> 17206.16 | V15: =SUM(V16:V21) -> 16449 | Y15: 1200 | Z15: Darba devēja valsts sociālās apdrošināšanas obligātās iemaksas, pabalsti un kompensācijas kopā | AA15: =SUM(AA16:AA21) -> 977.76 | AB15: =SUM(AB16:AB21) -> 1433.87 | AC15: =SUM(AC16:AC21) -> 17206.16 | AD15: =SUM(AD16:AD21) -> 16449
A16: 1200 | B16: Darba devēja valsts sociālās apdrošināšanas obligātās iemaksas, pabalsti un kompensācijas kopā | C16: =SUM(C17:C22) -> 807.81 | D16: =SUM(D17:D22) -> 807.81 | E16: =SUM(E17:E22) -> 9693.47 | F16: =SUM(F17:F22) -> 116179 | G16: darba devēja VSAOI | I16: 1200 | J16: Darba devēja valsts sociālās apdrošināšanas obligātās iemaksas, pabalsti un kompensācijas kopā | K16: =SUM(K17:K22) -> 1215.99 | L16: =SUM(L17:L22) -> 1215.99 | M16: =SUM(M17:M22) -> 14591.7 | N16: =SUM(N17:N22) -> 13835 | O16: darba devēja VSAOI | Q16: 1210 | R16: Darba devēja valsts sociālās apdrošināšanas obligātās iemaksas (23,59%) | S16: =ROUND((S11+S17+S18)*23.59%,2) -> 783.02 | T16: =ROUND((T11+T17+T18)*23.59%,2) -> 1173 | U16: =ROUND((U11+U17+U18)*23.59%,2) -> 14075.96 | V16: =ROUND((V11+V17+V18)*23.59%,0) -> 13996 | W16: darba devēja VSAOI | Y16: 1210 | Z16: Darba devēja valsts sociālās apdrošināšanas obligātās iemaksas (23,59%) | AA16: =ROUND((AA11+AA17+AA18)*23.59%,2) -> 783.02 | AB16: =ROUND((AB11+AB17+AB18)*23.59%,2) -> 1173 | AC16: =ROUND((AC11+AC17+AC18)*23.59%,2) -> 14075.96 | AD16: =ROUND((AD11+AD17+AD18)*23.59%,0) -> 13996 | AE16: darba devēja VSAOI
A17: 1210 | B17: Darba devēja valsts sociālās apdrošināšanas obligātās iemaksas (23,59%) | C17: =ROUND((C11+C18+C19)*23.59%,2) -> 639.42 | D17: =ROUND((D11+D18+D19)*23.59%,2) -> 639.42 | E17: =ROUND((E11+E18+E19)*23.59%,2) -> 7673.03 | F17: =ROUND((F11+F18+F19)*23.59%,0) -> 98717 | G17: =F17 -> 98717 | I17: 1210 | J17: Darba devēja valsts sociālās apdrošināšanas obligātās iemaksas (23,59%) | K17: =ROUND((K11+K18+K19)*23.59%,2) -> 988.9 | L17: =ROUND((L11+L18+L19)*23.59%,2) -> 988.9 | M17: =ROUND((M11+M18+M19)*23.59%,2) -> 11866.86 | N17: =ROUND((N11+N18+N19)*23.59%,0) -> 11787 | O17: =N17 -> 11787 | Q17: 12211 | R17: Pabalsts, aizejot ikgadējā apmaksātā atvaļinājumā (nepārsniedzot 5% no mēnešalgas) | S17: =ROUND(S12*5%,2)-17.78 -> 114.47 | T17: =ROUND(T12*5%,2)-T19 -> 180.6 | U17: =ROUND(T17*12,2) -> 2167.2 | V17: =ROUND(U17*V6,0) -> 2167 | W17: =V16 -> 13996 | Y17: 12211 | Z17: Pabalsts, aizejot ikgadējā apmaksātā atvaļinājumā (nepārsniedzot 5% no mēnešalgas) | AA17: =ROUND(AA12*5%,2)-17.78 -> 114.47 | AB17: =ROUND(AB12*5%,2)-AB19 -> 180.6 | AC17: =ROUND(AB17*12,2) -> 2167.2 | AD17: =ROUND(AC17*AD6,0) -> 2167 | AE17: =AD16 -> 13996 | AG17: =AE17+W17+O17+G17 -> 138496
A18: 12211 | B18: Pabalsts, aizejot ikgadējā apmaksātā atvaļinājumā (nepārsniedzot 5% no mēnešalgas) | C18: =ROUND(C12*5%,2)-17.78 -> 88.12 | D18: =ROUND(D12*5%,2)-D20 -> 88.12 | E18: =ROUND(D18*12,2) -> 1057.44 | F18: =ROUND(E18*F6,0) -> 13747 | I18: 12211 | J18: Pabalsts, aizejot ikgadējā apmaksātā atvaļinājumā (nepārsniedzot 5% no mēnešalgas) | K18: =ROUND(K12*5%,2)-17.78 -> 146.82 | L18: =ROUND(L12*5%,2)-L20 -> 146.82 | M18: =ROUND(L18*12,2) -> 1761.84 | N18: =ROUND(M18*N6,0) -> 1762 | Q18: 12214 | R18: Pabalsti darbinieka ģimenes locekļa vai apgādājamā nāves gadījumā virs EUR 250,00 (obligāti maksājamais pabalsts - Atlīdzības likuma 20.pants) | S18: =ROUND((620-250)/12,2) -> 30.83 | T18: =S18 -> 30.83 | U18: =ROUND(T18*12,0) -> 370 | V18: =ROUND(U18*V6*9%,0) -> 33 | Y18: 12214 | Z18: Pabalsti darbinieka ģimenes locekļa vai apgādājamā nāves gadījumā virs EUR 250,00 (obligāti maksājamais pabalsts - Atlīdzības likuma 20.pants) | AA18: =ROUND((620-250)/12,2) -> 30.83 | AB18: =AA18 -> 30.83 | AC18: =ROUND(AB18*12,0) -> 370 | AD18: =ROUND(AC18*AD6*9%,0) -> 33
A19: 12214 | B19: Pabalsti darbinieka ģimenes locekļa vai apgādājamā nāves gadījumā virs EUR 250,00 (obligāti maksājamais pabalsts - Atlīdzības likuma 20.pants) | C19: =ROUND((620-250)/12,2) -> 30.83 | D19: =C19 -> 30.83 | E19: =ROUND(D19*12,0) -> 370 | F19: =ROUND(E19*F6*9%,0) -> 433 | I19: 12214 | J19: Pabalsti darbinieka ģimenes locekļa vai apgādājamā nāves gadījumā virs EUR 250,00 (obligāti maksājamais pabalsts - Atlīdzības likuma 20.pants) | K19: =ROUND((620-250)/12,2) -> 30.83 | L19: =K19 -> 30.83 | M19: =ROUND(L19*12,0) -> 370 | N19: =ROUND(M19*N6*9%,0) -> 33 | Q19: 1227 | R19: Darba devēja izdevumi veselības, dzīvības un nelaimes gadījumu apdrošināšanai (Atlīdzības likuma 37.panta 1.daļa) (nepārsniedzot 5% no mēnešalgas) | S19: 17.78 | T19: 17.78 | U19: =ROUND(T19*12,0) -> 213 | V19: =ROUND(U19*V6,0) -> 213 | Y19: 1227 | Z19: Darba devēja izdevumi veselības, dzīvības un nelaimes gadījumu apdrošināšanai (Atlīdzības likuma 37.panta 1.daļa) (nepārsniedzot 5% no mēnešalgas) | AA19: 17.78 | AB19: 17.78 | AC19: =ROUND(AB19*12,0) -> 213 | AD19: =ROUND(AC19*AD6,0) -> 213
A20: 1227 | B20: Darba devēja izdevumi veselības, dzīvības un nelaimes gadījumu apdrošināšanai (Atlīdzības likuma 37.panta 1.daļa) (nepārsniedzot 5% no mēnešalgas) | C20: 17.78 | D20: 17.78 | E20: =ROUND(D20*12,0) -> 213 | F20: =ROUND(E20*F6,0) -> 2769 | I20: 1227 | J20: Darba devēja izdevumi veselības, dzīvības un nelaimes gadījumu apdrošināšanai (Atlīdzības likuma 37.panta 1.daļa) (nepārsniedzot 5% no mēnešalgas) | K20: 17.78 | L20: 17.78 | M20: =ROUND(L20*12,0) -> 213 | N20: =ROUND(M20*N6,0) -> 213 | Q20: 12282 | R20: Pabalsts darbinieka nāves gadījumā vai viņa ģimenes locekļa vai apgādājamā nāves gadījumā summā līdz EUR 250 (obligāti maksājamais pabalsts - Atlīdzības likuma 20.pants) | S20: =ROUND((620-370)/12,2) -> 20.83 | T20: =S20 -> 20.83 | U20: =ROUND(T20*12,0) -> 250 | V20: =ROUND(U20*V6*9%,0) -> 23 | Y20: 12282 | Z20: Pabalsts darbinieka nāves gadījumā vai viņa ģimenes locekļa vai apgādājamā nāves gadījumā summā līdz EUR 250 (obligāti maksājamais pabalsts - Atlīdzības likuma 20.pants) | AA20: =ROUND((620-370)/12,2) -> 20.83 | AB20: =AA20 -> 20.83 | AC20: =ROUND(AB20*12,0) -> 250 | AD20: =ROUND(AC20*AD6*9%,0) -> 23
A21: 12282 | B21: Pabalsts darbinieka nāves gadījumā vai viņa ģimenes locekļa vai apgādājamā nāves gadījumā summā līdz EUR 250 (obligāti maksājamais pabalsts - Atlīdzības likuma 20.pants) | C21: =ROUND((620-370)/12,2) -> 20.83 | D21: =C21 -> 20.83 | E21: =ROUND(D21*12,0) -> 250 | F21: =ROUND(E21*F6*9%,0) -> 293 | I21: 12282 | J21: Pabalsts darbinieka nāves gadījumā vai viņa ģimenes locekļa vai apgādājamā nāves gadījumā summā līdz EUR 250 (obligāti maksājamais pabalsts - Atlīdzības likuma 20.pants) | K21: =ROUND((620-370)/12,2) -> 20.83 | L21: =K21 -> 20.83 | M21: =ROUND(L21*12,0) -> 250 | N21: =ROUND(M21*N6*9%,0) -> 23 | Q21: 12286 | R21: Optisko redzes korekcijas līdzekļu iegādes kompensācija (obligātais maksājums - MK 06.08.2002.noteikumi Nr. 343 14.punkts) | S21: =ROUND(10.83,2) -> 10.83 | T21: =ROUND(10.83,2) -> 10.83 | U21: =ROUND(T21*12,0) -> 130 | V21: =ROUND(U21*V6*13%,0) -> 17 | W21: =V17+V18+V19+V20+V21 -> 2453 | Y21: 12286 | Z21: Optisko redzes korekcijas līdzekļu iegādes kompensācija (obligātais maksājums - MK 06.08.2002.noteikumi Nr. 343 14.punkts) | AA21: =ROUND(10.83,2) -> 10.83 | AB21: =ROUND(10.83,2) -> 10.83 | AC21: =ROUND(AB21*12,0) -> 130 | AD21: =ROUND(AC21*AD6*13%,0) -> 17 | AE21: =AD17+AD18+AD19+AD20+AD21 -> 2453
A22: 12286 | B22: Optisko redzes korekcijas līdzekļu iegādes kompensācija (obligātais maksājums - MK 06.08.2002.noteikumi Nr. 343 14.punkts) | C22: =ROUND(10.83,2) -> 10.83 | D22: =ROUND(10.83,2) -> 10.83 | E22: =ROUND(D22*12,0) -> 130 | F22: =ROUND(E22*F6*13%,0) -> 220 | G22: =F18+F19+F20+F21+F22 -> 17462 | I22: 12286 | J22: Optisko redzes korekcijas līdzekļu iegādes kompensācija (obligātais maksājums - MK 06.08.2002.noteikumi Nr. 343 14.punkts) | K22: =ROUND(10.83,2) -> 10.83 | L22: =ROUND(10.83,2) -> 10.83 | M22: =ROUND(L22*12,0) -> 130 | N22: =ROUND(M22*N6*13%,0) -> 17 | O22: =N18+N19+N20+N21+N22 -> 2048 | AG22: =AE21+W21+O22+G22 -> 24416

Sheet Šabloni
A1: Ietekme uz tautsaimniecību
A2: Ietekme ir tieša
A3: Ietekme ir pastarpināta
A4: Nav attiecināms
A5: Ietekme uz tautsaimniecību ir tieša / pastarpināta/ nav attiecināma
A7: Reformas
A8: Reformas tiek īstenotas
A9: Reformas netiek īstenotas
A10: Reformas tiek / netiek īstenotas
A12: Iestādes
A13: (nosaukums)
A14: Valsts prezidenta kanceleja
... A50: Nē
