Workbook
Name _1_2_d_NMP_lim: #REF!
Name _Hlk199328070: Kopsavilkums!$C$78
Name _Hlk200019317: Kopsavilkums!$C$45
Name _Hlk200028924: Kopsavilkums!$C$66
Name _msoanchor_1: Kopsavilkums!$O$34
Name aa: #REF!
Name b: #REF!
Name bt: #REF!
Name BX: #REF!
Name CalendarYear: #REF!
Name ccc: #REF!
Name d: #REF!
Name D_Evija3: #REF!
Name DaysAndWeeks: {0,1,2,3,4,5,6} + {0;1;2;3;4;5}*7
Name DaysAndWeeks: {0,1,2,3,4,5,6} + {0;1;2;3;4;5}*7
Name DaysAndWeeks: {0,1,2,3,4,5,6} + {0;1;2;3;4;5}*7
Name de: #REF!
Name dff: #NAME?
Name DRGNAMES: #REF!
Name e: #REF!
Name ee: #REF!
Name Excel_BuiltIn__FilterDatabase_2: #REF!
Name Excel_BuiltIn__FilterDatabase_3: #REF!
Name Excel_BuiltIn_Print_Titles_2: #REF!
Name Excel_BuiltIn_Print_Titles_3: #REF!
Name gad_skaits: #REF!
Name gad_skaits_1: #REF!
Name gala: {0,1,2,3,4,5,6} + {0;1;2;3;4;5}*7
Name gala: {0,1,2,3,4,5,6} + {0;1;2;3;4;5}*7
Name gala: {0,1,2,3,4,5,6} + {0;1;2;3;4;5}*7
Name Gala_kopsavilkums: #REF!
Name gggg: #REF!
Name ghy: #REF!
Name h: #REF!
Name hh: #REF!
Name hjh: #REF!
Name hyh: #REF!
Name i: #REF!
Name izm.kods: #REF!
Name izm.kods_1: [2]izm.posteni!$A$2:$A$216
Name izm.nos: #REF!
Name izm.nos_1: [2]izm.posteni!$B$2:$B$216
Name jhg: #REF!
Name kk: #REF!
Name l: #REF!
Name Limeni_7_9group: #REF!
Name Macro1: #REF!
Name Macro2: #REF!
Name Macro3: #REF!
Name Macro4: #REF!
Name Macro5: #REF!
Name Macro6: #REF!
Name Macro7: #REF!
Name Macro8: #REF!
Name n: #REF!
Name P_Dati_rikojums: #REF!
Name pp: #REF!
Name Recover: [3]Macro1!$A$135
Name Rikojums2222: [4]Macro1!$A$106
Name rr: #REF!

Sheet Kopsavilkums
M2: Pielikums Sirds un asinsvadu veselības uzlabošanas rīcības plāns 2025.–2027. gadam
A4: Nr.p.k. | B4: Pasākums | C4: Darbības rezultāts | D4: Rezultatīvais rādītājs | E4: Budžeta programmas (apakšprogrammas kods un nosaukums) | F4: Uzdevumu īstenošanai plānotais finansējums atbilstoši likumam "Par valsts budžetu 2025.gadam un budžeta ietvaru 2025., 2026. un 2027.gadam" | I4: Nepieciešamais papildu finansējums | N4: Atbildīgā institūcija | O4: Līdzatbildīgās institūcijas | P4: Finansējuma avots | Q4: Termiņš
F5: 2025.gads | G5: 2026.gads | H5: 2027.gads | I5: 2025.gads | J5: 2026.gads | K5: 2027.gads | L5: Turpmākajā laikposmā līdz pasākuma pabeigšanai (ja pasākuma īstenošana ir terminēta) | M5: Turpmāk ik gadu (ja pasākuma izpilde nav terminēta)
A6: KOPĒJAIS NEPIECIEŠAMAIS FINANSĒJUMS PLĀNA REALIZĀCIJAI: | F6: =F10+F11 -> 1.1493315e+08 | G6: =G10+G11 -> 1.1555592e+08 | H6: =H10+H11 -> 1.1638814e+08 | I6: =I10+I11 -> 0 | J6: =J10+J11 -> 41342157 | K6: =K10+K11 -> 46198636 | L6: =L10+L11 -> 0 | M6: =M10+M11 -> 47128222
B7: Finansējums valsts pamatfunkciju īstenošanai | F7: =F10 -> 1.1493315e+08 | G7: =G10 -> 1.1537442e+08 | H7: =H10 -> 1.1556534e+08 | I7: =I10 -> 0 | J7: =J10 -> 41342157 | K7: =K10 -> 46198636 | L7: =L10 -> 0 | M7: =M10 -> 47128222
B8: Finansējums ES politiku instrumentu un pārējās ĀFP līdzfinansēto un finansēto projektu un pasākumu īstenošanai | F8: =F11 -> 0 | G8: =G11 -> 181500 | H8: =H11 -> 822800 | I8: =I11 -> 0 | J8: =J11 -> 0 | K8: =K11 -> 0 | L8: =L11 -> 0 | M8: =M11 -> 0
B9: Veselības ministrija | F9: =F10+F11 -> 1.1493315e+08 | G9: =G10+G11 -> 1.1555592e+08 | H9: =H10+H11 -> 1.1638814e+08 | I9: =I10+I11 -> 0 | J9: =J10+J11 -> 41342157 | K9: =K10+K11 -> 46198636 | L9: =L10+L11 -> 0 | M9: =M10+M11 -> 47128222
B10: VBF | F10: =F12+F13+F14+F15+F16+F17+F18+F19 -> 1.1493315e+08 | G10: =G12+G13+G14+G15+G16+G17+G18+G19 -> 1.1537442e+08 | H10: =H12+H13+H14+H15+H16+H17+H18+H19 -> 1.1556534e+08 | I10: =I12+I13+I14+I15+I16+I17+I18+I19 -> 0 | J10: =J12+J13+J14+J15+J16+J17+J18+J19 -> 41342157 | K10: =K12+K13+K14+K15+K16+K17+K18+K19 -> 46198636 | L10: =L12+L13+L14+L15+L16+L17+L18+L19 -> 0 | M10: =M12+M13+M14+M15+M16+M17+M18+M19 -> 47128222
B11: ES fondi | F11: =F20 -> 0 | G11: =G20 -> 181500 | H11: =H20 -> 822800 | I11: =I20 -> 0 | J11: =J20 -> 0 | K11: =K20 -> 0 | L11: =L20 -> 0 | M11: =M20 -> 0
E12: 33.03.00 "Kompensējamo medikamentu un materiālu apmaksāšana" | F12: =F51+F61+F64+F65+F66+F69 -> 50705470 | G12: =G51+G61+G64+G65+G66+G69 -> 50872681 | H12: =H51+H61+H64+H65+H66+H69 -> 51039892 | I12: =I51+I61+I64+I65+I66+I69 -> 0 | J12: =J51+J61+J64+J65+J66+J69+J62+J63 -> 15181192 | K12: =K51+K61+K64+K65+K66+K69+K62+K63 -> 16162130 | L12: =L51+L61+L64+L65+L66+L69+L62+L63 -> 0 | M12: =M51+M61+M64+M65+M66+M69+M62+M63 -> 16326107
E13: 33.04.00 "Centralizēta medikamentu un materiālu iegāde" | F13: =F26 -> 2402897 | G13: =G26 -> 2402897 | H13: =H26 -> 2402897 | I13: =I26 -> 0 | J13: =J26 -> 1625170 | K13: =K26 -> 1826238 | L13: =L26 -> 0 | M13: =M26 -> 2038011.9
E14: 33.14.00 "Primārās ambulatorās veselības aprūpes nodrošināšana" | F14: =F27 -> 693592 | G14: =G27 -> 693592 | H14: =H27 -> 693592 | I14: =I27 -> 0 | J14: =J27 -> 167371 | K14: =K27 -> 167371 | L14: =L27 -> 0 | M14: =M27 -> 167371.2
E15: 33.15.00 "Laboratorisko izmeklējumu nodrošināšana ambulatorajā aprūpē" | F15: =F33+F36+F53 -> 722263 | G15: =G33+G36+G53 -> 722263 | H15: =H33+H36+H53 -> 722263 | I15: =I33+I36+I53 -> 0 | J15: =J33+J36+J53 -> 3675787.9 | K15: =K33+K36+K53 -> 3636655.8 | L15: =L33+L36+L53 -> 0 | M15: =M33+M36+M53 -> 3692702.2
E16: 33.16.00 "Pārējo ambulatoro veselības aprūpes pakalpojumu nodrošināšana" | F16: =F37+F39+F42+F44+F47+F50+F54+F77+F79 -> 34351241 | G16: =G37+G39+G42+G44+G47+G50+G54+G77+G79 -> 34374957 | H16: =H37+H39+H42+H44+H47+H50+H54+H77+H79 -> 34398673 | I16: =I37+I39+I42+I44+I47+I50+I54+I77+I79 -> 0 | J16: =J37+J39+J42+J44+J47+J50+J54+J77+J79 -> 8947240.6 | K16: =K37+K39+K42+K44+K47+K50+K54+K77+K79 -> 9235804.5 | L16: =L37+L39+L42+L44+L47+L50+L54+L77+L79 -> 0 | M16: =M37+M39+M42+M44+M47+M50+M54+M77+M79 -> 9283875.3
E17: 33.18.00 "Plānveida stacionāro veselības aprūpes pakalpojumu nodrošināšana" | F17: =F38+F43+F67+F76+F78+F80+F81+F82 -> 26057682 | G17: =G38+G43+G67+G76+G78+G80+G81+G82 -> 26308026 | H17: =H38+H43+H67+H76+H78+H80+H81+H82 -> 26308026 | I17: =I38+I43+I67+I76+I78+I80+I81+I82 -> 0 | J17: =J38+J43+J67+J76+J78+J80+J81+J82 -> 11745396 | K17: =K38+K43+K67+K76+K78+K80+K81+K82 -> 15170437 | L17: =L38+L43+L67+L76+L78+L80+L81+L82 -> 0 | M17: =M38+M43+M67+M76+M78+M80+M81+M82 -> 15620154
E18: 45.01.00 "Veselības aprūpes finansējuma administrēšana un ekonomiskā novērtēšana" | F18: =F31+F32+F72+F73+F74+F83+F84+F85 -> 0 | G18: =G31+G32+G72+G73+G74+G83+G84+G85 -> 0 | H18: =H31+H32+H72+H73+H74+H83+H84+H85 -> 0 | I18: =I31+I32+I72+I73+I74+I83+I84+I85 -> 0 | J18: =J31+J32+J72+J73+J74+J83+J84+J85 -> 0 | K18: =K31+K32+K72+K73+K74+K83+K84+K85 -> 0 | L18: =L31+L32+L72+L73+L74+L83+L84+L85 -> 0 | M18: =M31+M32+M72+M73+M74+M83+M84+M85 -> 0
E19: 46.03.00 "Slimību profilakses nodrošināšana" | F19: =F23+F25+F28 -> 0 | G19: =G23+G25+G28 -> 0 | H19: =H23+H25+H28 -> 0 | I19: =I23+I25+I28 -> 0 | J19: =J23+J25+J28 -> 0 | K19: =K23+K25+K28 -> 0 | L19: =L23+L25+L28 -> 0 | M19: =M23+M25+M28 -> 0
E20: 63.08.00 Eiropas Sociālā fonda Plus (ESF+) projektu īstenošana (2021-2027) | F20: =F24+F34+F41+F45+F48+F49+F52+F55+F56+F57+F71+F98+F99+F100+F101+F102+F103+F40+F94 -> 0 | G20: =G24+G34+G41+G45+G48+G49+G52+G55+G56+G57+G71+G98+G99+G100+G101+G102+G103+G40+G94 -> 181500 | H20: =H24+H34+H41+H45+H48+H49+H52+H55+H56+H57+H71+H98+H99+H100+H101+H102+H103+H40+H94 -> 822800 | I20: =I24+I34+I41+I45+I48+I49+I52+I55+I56+I57+I71+I98+I99+I100+I101+I102+I103+I40+I94 -> 0 | J20: =J24+J34+J41+J45+J48+J49+J52+J55+J56+J57+J71+J98+J99+J100+J101+J102+J103+J40+J94 -> 0 | K20: =K24+K34+K41+K45+K48+K49+K52+K55+K56+K57+K71+K98+K99+K100+K101+K102+K103+K40+K94 -> 0 | L20: =L24+L34+L41+L45+L48+L49+L52+L55+L56+L57+L71+L98+L99+L100+L101+L102+L103+L40+L94 -> 0 | M20: =M24+M34+M41+M45+M48+M49+M52+M55+M56+M57+M71+M98+M99+M100+M101+M102+M103+M40+M94 -> 0
A21: 1. Rīcības virziens | C21: SAS profilakse, tās veicināšana un riska faktoru ietekmes mazināšana | F21: =SUM(F22) -> 3096489 | G21: =SUM(G22) -> 3114639 | H21: =SUM(H22) -> 3114639 | I21: =SUM(I22) -> 0 | J21: =SUM(J22) -> 1792541 | K21: =SUM(K22) -> 1993609 | L21: =SUM(L22) -> 0 | M21: =SUM(M22) -> 2205383.1
A22: 1.1. Veselību veicinošo paradumu uzlabošana populācijas līmenī | F22: =SUM(F23:F28) -> 3096489 | G22: =SUM(G23:G28) -> 3114639 | H22: =SUM(H23:H28) -> 3114639 | I22: =SUM(I23:I28) -> 0 | J22: =SUM(J23:J28) -> 1792541 | K22: =SUM(K23:K28) -> 1993609 | L22: =SUM(L23:L28) -> 0 | M22: =SUM(M23:M28) -> 2205383.1
A23: 1.1.1. | B23: Īstenot veselības veicināšanas un slimību profilakses pasākumus, lai mazinātu SAS riska faktorus, ievērojot veselīgu dzīvesveidu. | C23: Veicināta Latvijas iedzīvotāju veselību ietekmējošo paradumu maiņa, mazinot SAS riska faktorus. | D23: Īstenots vismaz viens veselības veicināšanas un slimību profilakses pasākums gadā (piemēram, tiešsaistes diskusija ar veselības jomas speciālistiem, tematiskās dienas aktivitātes u.tml.) SAS riska faktoru novēršanai un veselīga dzīvesveida veicināšanai. | E23: 46.03.00 "Slimību profilakses nodrošināšana" | F23: 0 | G23: 0 | H23: 0 | J23: 0 | K23: 0 | L23: 0 | M23: 0 | N23: SPKC | O23: LKB, Pacientu biedrība “Parsirdi.lv” | P23: Esošā budžeta ietvaros | Q23: 2027. gada II pusgads. (Turpmāk ik gadu?)
A24: 1.1.2. | B24: Izglītot iedzīvotājus par regulāras paškontroles veikšanu SAS profilaksei, lai mazinātu negatīvo ietekmi uz veselību. | C24: Palielinājusies iedzīvotāju izpratne par paškontroles veikšanu SAS profilaksei, kā arī līdzestība savas veselības veicināšanā. | D24: Sadarbībā ar veselības jomas speciālistiem un pacientu organizācijām īstenoti vismaz divi sabiedrības informēšanas pasākumi pacientu līdzestības dienā par regulāras paškontroles veikšanu SAS profilaksei un negatīvās ietekmes uz veselību mazināšanai. | E24: 63.08.00 Eiropas Sociālā fonda Plus (ESF+) projektu īstenošana (2021-2027) | F24: 0 | G24: ='1.1.2'!B5 -> 18150 | H24: ='1.1.2'!C5 -> 18150 | J24: 0 | K24: 0 | L24: 0 | M24: 0 | N24: SPKC, VM | O24: LKB, Pacientu biedrība “Parsirdi.lv” | P24: ESF+ projekts Nr. 4.1.2.7. pasākums "Pilnveidot pacientu drošību un aprūpes kvalitāti" | Q24: 2026.gada II pusgads 2027. gada II pusgads (Turpmāk ik gadu)
A25: 1.1.3. | B25: Pilnveidot komunikāciju ar sabiedrību par veselīga dzīvesveida nozīmi ikdienā un SAS attīstības riskiem (t.sk. infarkta vai insulta pazīmju atpazīšana, riska faktori, diabētu veicinošie faktori u.c.) un to novēršanu. | C25: Palielinājusies zinātnē balstītas informācijas par veselīgu dzīvesveidu un SAS riska faktoriem izmantošana Latvijas iedzīvotāju vidū. | D25: Pilnveidoti komunikācijas kanāli (piemēram, tīmekļa vietnes) ar veselību saistītas informācijas pieejamības, atpazīstamības un uzticamības uzlabošanai, kā arī iedzīvotāju izpratnes par SAS riska faktoru ierobežošanas un veselīga dzīvesveida nozīmi veicināšanai. | E25: 46.03.00 "Slimību profilakses nodrošināšana" | F25: 0 | G25: 0 | H25: 0 | J25: 0 | K25: 0 | L25: 0 | M25: 0 | N25: SPKC, VM | O25: LKB, Pacientu biedrība “Parsirdi.lv”, BKUS, NVO | P25: Esošā budžeta ietvaros | Q25: 2027. gada II pusgads (Turpmāk ik gadu)
A26: 1.1.4. | B26: Samazināt saslimstību ar gripu un tās izraisīto komplikāciju skaitu | C26: 1.1.4.1. Palielināt valsts apmaksāto devu skaitu riska grupu vakcinācijai pret gripu | D26: Vakcinācijas pret gripu aptveres palielinājums par 30% riska grupās attiecībā pret iepriekšējā sezonā izlietoto vakcīnu devu skaitu | E26: 33.04.00 Centralizēta medikamentu un materiālu iegāde | F26: 2402897 | G26: 2402897 | H26: 2402897 | J26: =SUM('1.1.4.'!C6) -> 1625170 | K26: =SUM('1.1.4.'!D6) -> 1826238 | L26: 0 | M26: =SUM('1.1.4.'!E6) -> 2038011.9 | N26: NVD, SPKC, VM | P26: VBF | Q26: 2026. gada I pusgads (turpmāk ik gadu)
E27: 33.14.00 Primārās ambulatorās veselības aprūpes nodrošināšana | F27: 693592 | G27: 693592 | H27: 693592 | J27: =SUM('1.1.4.'!C7) -> 167371 | K27: =SUM('1.1.4.'!D7) -> 167371 | L27: 0 | M27: =SUM('1.1.4.'!E7) -> 167371.2
C28: 1.1.4.2. Īstenot gripas profilakses kampaņu gripas vakcinācijas aptveres palielināšanai | D28: Veikta vismaz viena sabiedrības informēšanas kampaņa pirms gripas sezonas sākuma | E28: 46.03.00 "Slimību profilakses nodrošināšana" | F28: 0 | G28: 0 | H28: 0 | J28: 0 | K28: 0 | L28: 0 | M28: 0 | N28: SPKC | P28: VBF | Q28: 2026. gada II pusgads (turpmāk ik gadu)
A29: 2. Rīcības virziens | C29: Savlaicīga riska faktoru atklāšana, agrīna slimību diagnostika, ārstēšana un rehabilitācija | F29: =F30+F46+F60+F70+F87+F92 -> 1.1183666e+08 | G29: =G30+G46+G60+G70+G87+G92 -> 1.1244128e+08 | H29: =H30+H46+H60+H70+H87+H92 -> 1.1318905e+08 | I29: =I30+I46+I60+I70+I87+I92 -> 0 | J29: =J30+J46+J60+J70+J87+J92 -> 39549616 | K29: =K30+K46+K60+K70+K87+K92 -> 44205027 | L29: =L30+L46+L60+L70+L87+L92 -> 0 | M29: =M30+M46+M60+M70+M87+M92 -> 44922838
A30: 2.1. Savlaicīga riska faktoru un slimību agrīna diagnostika | F30: =SUM(F31:F45) -> 5945137 | G30: =SUM(G31:G45) -> 5981437 | H30: =SUM(H31:H45) -> 6012655 | I30: =SUM(I31:I45) -> 0 | J30: =SUM(J31:J45) -> 2179958.8 | K30: =SUM(K31:K45) -> 1898588.1 | L30: =SUM(L31:L45) -> 0 | M30: =SUM(M31:M45) -> 1699056
A31: 2.1.1. | B31: Pilnveidot kardiovaskulārā riska noteikšanu PVA | C31: 2.1.1.1.Pārskatīts esošā SCORE algoritms PVA un izstrādāts SCORE algoritms atbilstoši aktualizētajam SCORE2 algoritmam (augsta riska mirstības valstīm) | D31: Izstrādāts aktualizēts algoritms lietošanai PVA un rekomendācijas SCORE ieviešanai | E31: 45.01.00 "Veselības aprūpes finansējuma administrēšana un ekonomiskā novērtēšana" | F31: 0 | G31: 0 | H31: 0 | J31: 0 | K31: 0 | L31: 0 | M31: 0 | N31: MVI KJ | O31: LĢĀA, LLĢĀA, LKB | P31: Esošā budžeta ietvaros | Q31: 2025. gada II pusgads
C32: 2.1.1.2. Palielināta pacientu iesaiste SCORE programmas veikšanā | D32: Izstrādāts pasākumu plāns pacientu iesaistīšanā SCORE noteikšanā, tostarp izvērtētas iespējas izmantot digitālos rīkus | E32: 45.01.00 "Veselības aprūpes finansējuma administrēšana un ekonomiskā novērtēšana" | F32: 0 | G32: 0 | H32: 0 | J32: 0 | K32: 0 | L32: 0 | M32: 0 | N32: SPKC, NVD, LDVC | O32: Pacientu organizācija “parsirdi.lv”, SIFFA, LĢĀA, LLĢĀA | P32: Esošā budžeta ietvaros | Q32: 2027. gada I pusgads
A33: 2.1.2. | B33: Uzlabot cukura diabēta diagnostiku PVA | C33: 2.1.2.1. Paplašināta cukura diabēta un prediabēta skrīninga programma | D33: 27 430 pacientiem vecumā no 35-39 gadiem veikts cukura diabēta skrīnings (2026. gads); 34 600 pacientiem vecumā no 35-39 gadiem veikts cukura diabēta skrīnings (2027.gads); 41 771 pacientiem vecumā no 35-39 gadiem veikts cukura diabēta skrīnings (2028.gads). | E33: 33.15.00 Laboratorisko izmeklējumu nodrošināšana ambulatorajā aprūpē | F33: 66229 | G33: 66229 | H33: 66229 | J33: =SUM('2.1.2.1.'!C5) -> 38995.9 | K33: =SUM('2.1.2.1.'!D5) -> 47987.2 | L33: 0 | M33: =SUM('2.1.2.1.'!E5) -> 56973.05 | N33: NVD | O33: LEA | P33: VBF | Q33: 2026.gada II pusgads (turpmāk ik gadu)
C34: 2.1.2.2. Uzlabota cukura diabēta pacientu diagnostika, skaidri nodalot ģimenes ārsta un endokrinologa pacientu plūsmu | D34: Izstrādāts savlaicīga cukura diabēta diagnostikas algoritms, kā arī pacienta ceļš diagnostikai | E34: 63.08.00 Eiropas Sociālā fonda Plus (ESF+) projektu īstenošana (2021-2027) | F34: 0 | G34: ='2.1.2.2'!B5 -> 36300 | H34: 0 | J34: 0 | K34: 0 | L34: 0 | M34: 0 | N34: VM | O34: LEA, LLĢĀA, LĢĀA | P34: ESF+ projekts Nr. 4.1.2.7. pasākums "Pilnveidot pacientu drošību un aprūpes kvalitāti" | Q34: 2026.gada II pusgads
A35: 2.1.3. | B35: Papildināt obligāto veselības pārbaudes laikā nosakāmo izmeklējumu klāstu | C35: Izvērtēta iespēja obligāto veselības pārbaužu laboratorisko izmeklējumu sarakstā, iekļaut glikozes līmeņa un kopējā holesterīna noteikšanu tukšā dūšā | D35: Veikti grozījumi Ministru kabineta noteikumos Nr. 219 “Kārtība, kādā veicama obligātā veselības pārbaude” | F35: 0 | G35: 0 | H35: 0 | J35: 0 | K35: 0 | L35: 0 | M35: 0 | N35: VM | O35: LLĢĀA, LĢĀA, LKB, LEA | P35: Esošā budžeta ietvaros | Q35: 2027. gada I pusgads (turpmāk ik gadu)
A36: 2.1.4. | B36: Veicināt ģimenes hiperholesterinēmijas un citu smagu primāru vai komplicētu hiperlipidēmiju pacientu novērtēšanu, diagnostiku, uzraudzību, uzskaiti, ārstēšanu un kaskādes skrīninga organizēšanu | C36: 2.1.4.1. Ieviest valsts apmaksātu lipoproteīna (a) noteikšanu pacientiem no 40-75 gadiem vienreiz mūžā | D36: Noteikts lipoproteīns (a) 266 915 pacientiem no 40-75 gadiem (2026.gads); Noteikts lipoproteīns (a) 191 927 pacientiem no 40-75 gadiem (2027.gads); Noteikts lipoproteīns (a) 140 441 pacientiem no 40-75 gadiem (2028.gads). | E36: 33.15.00 Laboratorisko izmeklējumu nodrošināšana ambulatorajā aprūpē | F36: 365 | G36: 365 | H36: 365 | J36: =SUM('2.1.4.1.'!C5) -> 1081006 | K36: =SUM('2.1.4.1.'!D5) -> 777304 | L36: 0 | M36: =SUM('2.1.4.1.'!E5) -> 568786 | N36: NVD, MVI kardioloģijā | O36: LKB | P36: VBF | Q36: 2026. gada II pusgads (turpmāk ik gadu)
C37: 2.1.4.2. Attīstīts ģimenes hiperholisterinēmijas komandas pakalpojums | D37: Izveidota lipīdu klīnikas vienība vienotai pacientu aprūpei (PSKUS) 4064 pacienti saņēmuši ĢH speciālista konsultāciju | E37: 33.16.00 Pārējo ambulatoro veselības aprūpes pakalpojumu nodrošināšana | F37: 0 | G37: 0 | H37: 0 | J37: =SUM('2.1.4.2.'!C5) -> 73945.15 | K37: =SUM('2.1.4.2.'!D5) -> 87285.15 | L37: 0 | M37: =SUM('2.1.4.2.'!E5) -> 87285.15 | N37: NVD, MVI kardioloģijā | O37: LKB | P37: VBF | Q37: 2026. gada II pusgads
A38: 2.1.5. | B38: Uzlabot SAS izmeklējumu pieejamību SAVA | C38: 2.1.5.1. Nodrošināta SAVA diagnostikas (veloergometrijas, ehokardiogrāfijas) apmaksa atbilstoši faktiskajām izmaksām | D38: Pārskatīti SAS diagnostikas (veloergometrijas, ehokardiogrāfijas) izmeklējumu tarifi. 2026.gadā un turpmāk ik gadu - stacionārā - 20 798 pacientiem un ambulatori - 105 964 pacientiem veikti izmeklējumi | E38: 33.18.00 Plānveida stacionāro veselības aprūpes pakalpojumu nodrošināšana | F38: 1045810 | G38: 1045810 | H38: 1045810 | J38: =SUM('2.1.5.1.'!C6) -> 205157.88 | K38: =SUM('2.1.5.1.'!D6) -> 205157.88 | L38: 0 | M38: =SUM('2.1.5.1.'!D6) -> 205157.88 | N38: VM, NVD, MVI KJ, LĀB | O38: LKB | P38: VBF | Q38: 2027.gada I pusgads (turpmāk ik gadu)
E39: 33.16.00 Pārējo ambulatoro veselības aprūpes pakalpojumu nodrošināšana | F39: 4830207 | G39: 4830207 | H39: 4830207 | J39: =SUM('2.1.5.1.'!C7) -> 682625.91 | K39: =SUM('2.1.5.1.'!D7) -> 682625.91 | L39: 0 | M39: =SUM('2.1.5.1.'!D7) -> 682625.91
C40: 2.1.5.2. Definēta pacientu plūsma un uzlabota kvalitāte doplerogrāfijas izmeklējuma saņemšanai | D40: Izstrādāti vienoti doplerogrāfijas (galvas, kakla un kāju asinsvadiem) izmeklējumu apraksti un pacientu ceļi | E40: 63.08.00 Eiropas Sociālā fonda Plus (ESF+) projektu īstenošana (2021-2027) | F40: 0 | G40: 0 | H40: ='2.1.5.2'!C5 -> 33759 | J40: 0 | K40: 0 | L40: 0 | M40: 0 | N40: VM, LAB | O40: LDVC, LAĶB | P40: ESF+ projekts Nr. 4.1.2.7. pasākums "Pilnveidot pacientu drošību un aprūpes kvalitāti" | Q40: 2027.gada I pusgads
C41: 2.1.5.3.Definēta pacientu plūsma ehokardiogrāfijas izmeklējumu saņemšanai | D41: Pārskatīta ārstu kompetence ehokardiogrāfijas izmeklējumu veikšanai un definētas prasības iekārtām | F41: 0 | G41: 0 | H41: 0 | J41: 0 | K41: 0 | L41: 0 | M41: 0 | N41: VM, VI, MVI KJ | O41: LKB | P41: Esošā budžeta ietvaros | Q41: 2027.gada II pusgads
A42: 2.1.6. | B42: Attīstīt rezistentas arteriālās hipertensijas diagnostiku | C42: Nodrošināts valsts apmaksāts 18-24h asinsspiediena monitorēšanas pakalpojums | D42: 3 350 pacienti saņēmuši no 18-24h asinsspiediena monitorēšanu | E42: 33.16.00 Pārējo ambulatoro veselības aprūpes pakalpojumu nodrošināšana | F42: 0 | G42: 0 | H42: 0 | J42: =SUM('2.1.6.'!C6) -> 83080 | K42: =SUM('2.1.6.'!D6) -> 83080 | L42: 0 | M42: =SUM('2.1.6.'!D6) -> 83080 | N42: NVD | P42: VBF | Q42: 2026.gada I pusgads (turpmāk ik gadu)
...

Sheet 1.1.2
J1: Pielikums Nr.1.1.2.
A2: Sabiedrības informēšanas pasākumi pacientu līdzestības dienā par regulāras paškontroles veikšanu SAS profilaksei un negatīvās ietekmes uz veselību mazināšanai
A3: Pasākums | B3: Finansējums ar PVN, euro
B4: 2026.gads* | C4: 2027.gads*
A5: Sadarbībā ar veselības jomas speciālistiem un pacientu organizācijām īstenoti vismaz divi sabiedrības informēšanas pasākumi pacientu līdzestības dienā par regulāras paškontroles veikšanu SAS profilaksei un negatīvās ietekmes uz veselību mazināšanai. | B5: =15000*1.21 -> 18150 | C5: =15000*1.21 -> 18150
A6: *Eiropas Sociālā fonda (ESF+) finansējums, 2021.-2027.gada plānošanas perioda Darbības programmas 4.1.2.SAM “Uzlabot vienlīdzīgu un savlaicīgu piekļuvi kvalitatīviem, ilgtspējīgiem un izmaksu ziņā pieejamiem veselības aprūpes, veselības veicināšanas un slimību profilakses pakalpojumiem, uzlabojot veselības aprūpes sistēmu efektivitāti un izturētspēju” 4.1.2.7. pasākums "Pilnveidot pacientu drošību un aprūpes kvalitāti"
A10: Sabiedrības informēšanas pasākumi pacientu līdzestības dienā par regulāras paškontroles veikšanu SAS profilaksei un negatīvās ietekmes uz veselību mazināšanai
B11: Pasākums | C11: Darbības rezultāts | D11: Rezultatīvais rādītājs | E11: Plānotie nodevumi | F11: Plānoto nodevumu skaits | G11: Vienas vienības summa bez PVN, euro | H11: KOPĀ bez PVN, euro | I11: PVN likme (%) | J11: Vienas vienības summa ar PVN, euro | K11: KOPĀ ar PVN, euro*
A12: Sabiedrības informēšanas pasākumi | B12: Sadarbībā ar veselības jomas speciālistiem un pacientu organizācijām īstenoti vismaz divi sabiedrības informēšanas pasākumi pacientu līdzestības dienā par regulāras paškontroles veikšanu SAS profilaksei un negatīvās ietekmes uz veselību mazināšanai. | E12: Pasākums | F12: 2 | G12: 15000 | H12: =F12*G12 -> 30000 | I12: 21 | J12: =G12*1.21 -> 18150 | K12: =F12*J12 -> 36300
H13: =SUM(H12:H12) -> 30000 | K13: =SUM(K12:K12) -> 36300
A14: *Eiropas Sociālā fonda (ESF+) finansējums, 2021.-2027.gada plānošanas perioda Darbības programmas 4.1.2.SAM “Uzlabot vienlīdzīgu un savlaicīgu piekļuvi kvalitatīviem, ilgtspējīgiem un izmaksu ziņā pieejamiem veselības aprūpes, veselības veicināšanas un slimību profilakses pakalpojumiem, uzlabojot veselības aprūpes sistēmu efektivitāti un izturētspēju” 4.1.2.7. pasākums "Pilnveidot pacientu drošību un aprūpes kvalitāti"

Sheet 1.1.4.
F1: Pielikums Nr.1.1.4.
A3: Valsts apmaksāto devu skaitu riska grupu vakcinācijai pret gripu pieejamības nodrošināšana
A5: Apakšprogrammas nosaukums | C5: Papildus nepieciešamais finansējums 2026.gadam | D5: Papildus nepieciešamais finansējums 2027.gadam | E5: Papildu nepieciešamais finansējums 2028.gadam | F5: Papildus nepieciešamais finansējums turpmāk ik gadu (ja pasākums nav terminēts)
A6: 33.04.00 Centralizēta medikamentu un materiālu iegāde | C6: =SUM(F26) -> 1625170 | D6: =SUM(F44) -> 1826238 | E6: =SUM(F64) -> 2038011.9 | F6: =SUM(E6) -> 2038011.9
A7: 33.14.00 Primārās ambulatorās veselības aprūpes nodrošināšana | C7: =SUM(F27) -> 167371 | D7: =SUM(F45) -> 167371 | E7: =SUM(F65) -> 167371.2 | F7: =SUM(E7) -> 167371.2
A10: 2026.gads
A11: Sezona | B11: Vakcīnas tips | C11: Vakcīnu skaits | D11: Cena ar PVN | E11: Apskate un vakcīnu ievade | F11: Kopā ar PVN
A12: 2026/2027 | B12: Intranazālā (Fluenz) | C12: 6816 | D12: 30.26 | E12: 5.31 | F12: =SUM(C12*D12)+E12*C12 -> 242445.12
B13: Augstas devas (Efluelda vai Fluad) | C13: 78366 | D13: 42.69 | E13: 5.31 | F13: =SUM(C13*D13)+E13*C13 -> 3761568
B14: Standarta (influvac) | C14: 76958 | D14: 6.19 | E14: 5.31 | F14: =SUM(C14*D14)+E14*C14 -> 885017
C15: Kopā: | F15: =SUM(F12:F14) -> 4889030.1
C16: no tā:
C17: Budžeta apakšprogramma 33.04.00 | F17: =SUM(C12*D12)+(C13*D13)+(C14*D14) -> 4028066.7
C18: Budžeta apakšprogramma 33.14.00 | F18: =SUM(C12+C13+C14)*E12 -> 860963.4
C20: Bāzes finansējums
C21: Budžeta apakšprogramma 33.04.00 | F21: 2402897
C22: Budžeta apakšprogramma 33.14.00 | F22: =130620*E12 -> 693592.2
C24: Papildu nepieciešamais finansējums 2026.gadam: | F24: =ROUND(SUM(F15)-F21-F22,0) -> 1792541
C25: no tā:
C26: Budžeta apakšprogramma 33.04.00 | F26: =ROUND(SUM(F17-F21),0) -> 1625170
C27: Budžeta apakšprogramma 33.14.00 | F27: =ROUND(SUM(F18-F22),0) -> 167371
A29: 2027.gads
A30: Sezona | B30: Vakcīnas tips | C30: Vakcīnu skaits | D30: Cena ar PVN* | E30: Apskate un vakcīnu ievade | F30: Kopā ar PVN
A31: 2027/2028 | B31: Intranazālā (Fluenz) | C31: 6816 | D31: 31.77 | E31: 5.31 | F31: =SUM(C31*D31)+E31*C31 -> 252737.28
B32: Augstas devas (Efluelda vai Fluad) | C32: 78366 | D32: 44.82 | E32: 5.31 | F32: =SUM(C32*D32)+E32*C32 -> 3928487.6
B33: Standarta (influvac) | C33: 76958 | D33: 6.5 | E33: 5.31 | F33: =SUM(C33*D33)+E33*C33 -> 908873.98
A34: Kopā: | F34: =SUM(F31:F33) -> 5090098.8
C35: no tā:
C36: Budžeta apakšprogramma 33.04.00 | F36: =SUM(C31*D31)+(C32*D32)+(C33*D33) -> 4229135.4
C37: Budžeta apakšprogramma 33.14.00 | F37: =SUM(C31+C32+C33)*E31 -> 860963.4
C38: Bāzes finansējums
C39: Budžeta apakšprogramma 33.04.00 | F39: 2402897
C40: Budžeta apakšprogramma 33.14.00 | F40: =130620*E31 -> 693592.2
C42: Papildu nepieciešamais finansējums 2027.gadam: | F42: =ROUND(SUM(F34)-F39-F40,0) -> 1993610
C43: no tā:
C44: Budžeta apakšprogramma 33.04.00 | F44: =ROUND(SUM(F36-F39),0) -> 1826238
C45: Budžeta apakšprogramma 33.14.00 | F45: =ROUND(SUM(F37-F40),0) -> 167371
A47: * cenai piemērots koeficients 1.05, jo ik gadu pieaug gripas vakcīnas cena
A49: 2028.gads un turpmāk ik gadu
A50: Sezona | B50: Vakcīnas tips | C50: Vakcīnu skaits | D50: Cena ar PVN | E50: Apskate un vakcīnu ievade | F50: Kopā ar PVN
...

Sheet 2.1.2.1.
J1: Pielikums Nr.2.1.2.1.
C2: Cukura diabēta un prediabēta skrīninga programmas paplašinājums
A4: Apakšprogrammas nosaukums | B4: Esošais finansējums | C4: Papildus nepieciešamais finansējums 2026. gadam | D4: Papildus nepieciešamais finansējums 2027. gadam | E4: Papildus nepieciešamais finansējums 2028. gadam un turpmāk ik gadu (ja pasākums nav terminēts)
A5: 33.15.00 Laboratorisko izmeklējumu nodrošināšana ambulatorajā aprūpē | B5: =(C10*C25)+(C11*C31) -> 66229.4 | C5: =F10+F11 -> 38995.9 | D5: =H10+H11 -> 47987.2 | E5: =J10+J11 -> 56973.05
A9: Manipulācijas nosaukums | B9: Manipulācijas kods | C9: Tarifs, euro | D9: Plānotais manipulāciju skaits pacientam gadā | E9: Plānotais pacientu skaits 2026. gadā, ja atsaucība ir 50 % | F9: Papildus nepieciešamais finansējums 2026. gadā, ja atsaucība ir 50 %, euro | G9: Plānotais pacientu skaits 2027. gadā, ja atsaucība ir 55 % | H9: Papildus nepieciešamais finansējums 2027. gadā, ja atsaucība ir 55 %, euro | I9: Plānotais pacientu skaits 2028. gadam un turpmāk ik gadu, ja atsaucība ir 60 % | J9: Papildus nepieciešamais finansējums 2028. gadā un turpmāk ik gadu, ja atsaucība ir 60 %, euro
A10: Glikoze asinīs | B10: 41095 | C10: 1.15 | D10: 1 | E10: =ROUND(B15*0.5,0)-C25 -> 27430 | F10: =C10*D10*E10 -> 31544.5 | G10: =ROUND(B15*0.55,0)-C25 -> 34600 | H10: =G10*C10 -> 39790 | I10: =ROUND(B15*0.6,0)-C25 -> 41771 | J10: =I10*C10 -> 48036.65
A11: Glikozes slodzes tests | B11: 41096 | C11: 6.6 | D11: 1 | E11: =ROUND(((B15-C31)*0.016)*0.5,0) -> 1129 | F11: =C11*E11*D11 -> 7451.4 | G11: =ROUND(((B15-C31)*0.016)*0.55,0) -> 1242 | H11: =G11*C11 -> 8197.2 | I11: =ROUND(((B15-C31)*0.016)*0.6,0) -> 1354 | J11: =C11*I11 -> 8936.4
F12: =F10+F11 -> 38995.9 | H12: =H10+H11 -> 47987.2 | J12: =J10+J11 -> 56973.05
A15: Iedzīvotāju skaits vecuma grupā 35-39 gadi | B15: 143411
A16: 10 % iedzīvotāju skaita vecuma grupā 35-39 gadi | B16: =ROUND(0.1*143411,0) -> 14341
A18: 2024. gadā unikālajaiem pacientiem veiktais manipulāciju skaits vecuma grupās
A19: Manipulācijas kods | B19: Vecums | C19: Unikālo pacientu skaits
A20: 41095 | B20: 35 | C20: 8136
B21: 36 | C21: 8750
B22: 37 | C22: 9210
B23: 38 | C23: 9135
B24: 39 | C24: 9045
B25: Kopā | C25: =SUM(C20:C24) -> 44276
A26: 41096 | B26: 35 | C26: 552
B27: 36 | C27: 528
B28: 37 | C28: 455
B29: 38 | C29: 411
B30: 39 | C30: 374
B31: Kopā | C31: =SUM(C26:C30) -> 2320

Sheet 2.1.2.2
K1: Pielikums Nr.2.1.2.2.
A2: Izstrādāts savlaicīga cukura diabēta diagnostikas algoritms, kā arī pacienta ceļš diagnostikai
A3: Pasākums | B3: Finansējums ar PVN, euro
B4: 2026.gads* | C4: 2027.gads*
A5: Izstrādāts savlaicīga cukura diabēta diagnostikas algoritms, kā arī pacienta ceļš diagnostikai | B5: =30000*1.21 -> 36300 | C5: 0
A6: *Eiropas Sociālā fonda (ESF+) finansējums, 2021.-2027.gada plānošanas perioda Darbības programmas 4.1.2.SAM “Uzlabot vienlīdzīgu un savlaicīgu piekļuvi kvalitatīviem, ilgtspējīgiem un izmaksu ziņā pieejamiem veselības aprūpes, veselības veicināšanas un slimību profilakses pakalpojumiem, uzlabojot veselības aprūpes sistēmu efektivitāti un izturētspēju” 4.1.2.7. pasākums "Pilnveidot pacientu drošību un aprūpes kvalitāti"
A10: Izstrādāts savlaicīga cukura diabēta diagnostikas algoritms, kā arī pacienta ceļš diagnostikai
B11: Pasākums | C11: Darbības rezultāts | D11: Rezultatīvais rādītājs | E11: Plānotie nodevumi | F11: Plānoto nodevumu skaits | G11: Vienas vienības summa bez PVN, euro | H11: KOPĀ bez PVN, euro | I11: PVN likme (%) | J11: Vienas vienības summa ar PVN, euro | K11: KOPĀ ar PVN, euro*
A12: Algoritmi | B12: Izstrādāts savlaicīga cukura diabēta diagnostikas algoritms, kā arī pacienta ceļš diagnostikai | E12: Algoritms | F12: 1 | G12: 13950 | H12: =F12*G12 -> 13950 | I12: 21 | J12: =G12*1.21 -> 16879.5 | K12: =F12*J12 -> 16879.5
E13: Ceļš | F13: 1 | G13: 13950 | H13: =F13*G13 -> 13950 | I13: 21 | J13: =G13*1.21 -> 16879.5 | K13: =F13*J13 -> 16879.5
E14: Indikators | F14: 3 | G14: 700 | H14: =F14*G14 -> 2100 | I14: 21 | J14: =G14*1.21 -> 847 | K14: =F14*J14 -> 2541
H15: =SUM(H12:H14) -> 30000 | K15: =SUM(K12:K14) -> 36300
A16: *Eiropas Sociālā fonda (ESF+) finansējums, 2021.-2027.gada plānošanas perioda Darbības programmas 4.1.2.SAM “Uzlabot vienlīdzīgu un savlaicīgu piekļuvi kvalitatīviem, ilgtspējīgiem un izmaksu ziņā pieejamiem veselības aprūpes, veselības veicināšanas un slimību profilakses pakalpojumiem, uzlabojot veselības aprūpes sistēmu efektivitāti un izturētspēju” 4.1.2.7. pasākums "Pilnveidot pacientu drošību un aprūpes kvalitāti"

Sheet 2.1.4.1.
O1: Pielikums Nr.2.1.4.1.
B2: Lipoproteīna (a) noteikšana pacientiem no 40-75 gadiem vienreiz mūžā
A4: Apakšprogrammas nosaukums | B4: Esošais finansējums* | C4: Papildus nepieciešamais finansējums 2026.gadam | D4: Papildus nepieciešamais finansējums 2027.gadam | E4: Papildus nepieciešamais finansējums 2028. gadam un turpmāk ik gadu (ja pasākums nav terminēts)
A5: 33.15.00 Laboratorisko izmeklējumu nodrošināšana ambulatorajā aprūpē | B5: =ROUND(C12*88,0) -> 356 | C5: =ROUND(G12,0) -> 1081006 | D5: =ROUND(I12,0) -> 777304 | E5: =ROUND(K12,0) -> 568786
A7: * 2024. gadā Lipoproteīna (a) analīze veikta 88 reizes
A11: Manipulācijas kods | B11: Manipulācijas nosaukums | C11: Manip. tarifs, eiro | D11: Pacienta līdmaksājums, eiro | E11: Plānotais manipulāciju skaits vienam pacientam gadā | F11: Plānotais ambulatoro pacientu skaits 2026. gadam* | G11: Papildus nepieciešamais finansējums 2026. gadā, euro | H11: Plānotais ambulatoro pacientu skaits 2027. gadam* | I11: Papildus nepieciešamais finansējums 2027. gadā, euro | J11: Plānotais ambulatoro pacientu skaits 2028. gadam un turpmāk ik gadu* | K11: Papildus nepieciešamais finansējums 2028.gadā un turpmāk ik gadu, euro | L11: Plānotais ambulatoro pacientu skaits 2029. gadam | M11: Papildus nepieciešamais finansējums 2029.gadā, euro | N11: Plānotais ambulatoro pacientu skaits 2030. gadam un turpmāk ik gadu | O11: Papildus nepieciešamais finansējums 2030. gadā un turpmāk ik gadu, euro
A12: 41051 | B12: Lipoproteīns (a) | C12: 4.05 | D12: =R9 -> 0 | E12: 1 | F12: =C16 -> 266915 | G12: =F12*C12 -> 1081005.8 | H12: =C17 -> 191927 | I12: =ROUND(H12*C12,0) -> 777304 | J12: =C18 -> 140441 | K12: =ROUND(J12*C12,0) -> 568786 | L12: =C19 -> 104923 | M12: =L12*C12 -> 424938.15 | N12: =C20 -> 78735 | O12: =ROUND(C20*C12,0) -> 318877
A13: * pieņemot, ka atsaucība būtu 30 % ik gadu
A15: Gads | B15: Vecums 2025. gadā | C15: Pacientu skaits | D15: Finansējums
A16: 2026 | B16: 39-74 gadi | C16: =SUM(C29:C64) -> 266915 | D16: =$C$12*C16 -> 1081005.8
A17: 2027 | B17: 38-73 gadi | C17: =SUM(E29:E63)+C28 -> 191927 | D17: =$C$12*C17 -> 777304.35 | E17: 38 gadus veci pacienti nebūs testējušies 2026. gadā, tāpēc pieskaitīti 30 % par 2026. gadu
A18: 2028 | B18: 37-72 gadi | C18: =SUM(G29:G62)+E28+C27 -> 140441 | D18: =$C$12*C18 -> 568786.05 | E18: 37 gadus veci pacienti nebūs testējušies 2026. un 2027. gadā, tāpēc pieskaitīti 30 % par 2026. gadu, 38 gadus veci pacienti pirmo reizi testēti 2027. gadā, tāpēc pieskaitīti 30 % par 2027. gadu
A19: 2029 | B19: 36-71 gadi | C19: =SUM(I29:I61)+G28+E27+C26 -> 104923 | D19: =$C$12*C19 -> 424938.15
A20: 2030 | B20: 35-70 gadi | C20: =SUM(K29:K59)+C25+E26+G27+I28 -> 78735 | D20: =$C$12*C20 -> 318876.75
A23: 2025. gada statistikas dati no data.stat.gov.lv | C23: 2026 | E23: 2027 | G23: 2028 un turpmāk | I23: 2029 | K23: 2030
C24: 0.3 | D24: 0.7 | E24: 0.3 | F24: 0.7 | G24: 0.3 | H24: 0.7 | I24: 0.3 | J24: 0.7 | K24: 0.3 | L24: 0.7
A25: 35 gadi | B25: 27470 | C25: =ROUND(B25*0.3,0) -> 8241 | D25: =B25-C25 -> 19229 | E25: =ROUND(D25*0.3,0) -> 5769 | F25: =D25-E25 -> 13460 | G25: =ROUND(F25*0.3,0) -> 4038 | H25: =F25-G25 -> 9422 | I25: =ROUND(H25*0.3,0) -> 2827 | J25: =H25-I25 -> 6595 | K25: =ROUND(J25*0.3,0) -> 1979 | L25: =J25-K25 -> 4616
A26: 36 gadi | B26: 28696 | C26: =ROUND(B26*0.3,0) -> 8609 | D26: =B26-C26 -> 20087 | E26: =ROUND(D26*0.3,0) -> 6026 | F26: =D26-E26 -> 14061 | G26: =ROUND(F26*0.3,0) -> 4218 | H26: =F26-G26 -> 9843 | I26: =ROUND(H26*0.3,0) -> 2953 | J26: =H26-I26 -> 6890 | K26: =ROUND(J26*0.3,0) -> 2067 | L26: =J26-K26 -> 4823
A27: 37 gadi | B27: 29540 | C27: =ROUND(B27*0.3,0) -> 8862 | D27: =B27-C27 -> 20678 | E27: =ROUND(D27*0.3,0) -> 6203 | F27: =D27-E27 -> 14475 | G27: =ROUND(F27*0.3,0) -> 4343 | H27: =F27-G27 -> 10132 | I27: =ROUND(H27*0.3,0) -> 3040 | J27: =H27-I27 -> 7092 | K27: =ROUND(J27*0.3,0) -> 2128 | L27: =J27-K27 -> 4964
A28: 38 gadi | B28: 29410 | C28: =ROUND(B28*0.3,0) -> 8823 | D28: =B28-C28 -> 20587 | E28: =ROUND(D28*0.3,0) -> 6176 | F28: =D28-E28 -> 14411 | G28: =ROUND(F28*0.3,0) -> 4323 | H28: =F28-G28 -> 10088 | I28: =ROUND(H28*0.3,0) -> 3026 | J28: =H28-I28 -> 7062 | K28: =ROUND(J28*0.3,0) -> 2119 | L28: =J28-K28 -> 4943
A29: 39 gadi | B29: 28295 | C29: =ROUND(B29*0.3,0) -> 8489 | D29: =B29-C29 -> 19806 | E29: =ROUND(D29*0.3,0) -> 5942 | F29: =D29-E29 -> 13864 | G29: =ROUND(F29*0.3,0) -> 4159 | H29: =F29-G29 -> 9705 | I29: =ROUND(H29*0.3,0) -> 2912 | J29: =H29-I29 -> 6793 | K29: =ROUND(J29*0.3,0) -> 2038 | L29: =J29-K29 -> 4755
A30: 40 gadi | B30: 28492 | C30: =ROUND(B30*0.3,0) -> 8548 | D30: =B30-C30 -> 19944 | E30: =ROUND(D30*0.3,0) -> 5983 | F30: =D30-E30 -> 13961 | G30: =ROUND(F30*0.3,0) -> 4188 | H30: =F30-G30 -> 9773 | I30: =ROUND(H30*0.3,0) -> 2932 | J30: =H30-I30 -> 6841 | K30: =ROUND(J30*0.3,0) -> 2052 | L30: =J30-K30 -> 4789
A31: 41 gads | B31: 28566 | C31: =ROUND(B31*0.3,0) -> 8570 | D31: =B31-C31 -> 19996 | E31: =ROUND(D31*0.3,0) -> 5999 | F31: =D31-E31 -> 13997 | G31: =ROUND(F31*0.3,0) -> 4199 | H31: =F31-G31 -> 9798 | I31: =ROUND(H31*0.3,0) -> 2939 | J31: =H31-I31 -> 6859 | K31: =ROUND(J31*0.3,0) -> 2058 | L31: =J31-K31 -> 4801
A32: 42 gadi | B32: 26507 | C32: =ROUND(B32*0.3,0) -> 7952 | D32: =B32-C32 -> 18555 | E32: =ROUND(D32*0.3,0) -> 5567 | F32: =D32-E32 -> 12988 | G32: =ROUND(F32*0.3,0) -> 3896 | H32: =F32-G32 -> 9092 | I32: =ROUND(H32*0.3,0) -> 2728 | J32: =H32-I32 -> 6364 | K32: =ROUND(J32*0.3,0) -> 1909 | L32: =J32-K32 -> 4455
A33: 43 gadi | B33: 25656 | C33: =ROUND(B33*0.3,0) -> 7697 | D33: =B33-C33 -> 17959 | E33: =ROUND(D33*0.3,0) -> 5388 | F33: =D33-E33 -> 12571 | G33: =ROUND(F33*0.3,0) -> 3771 | H33: =F33-G33 -> 8800 | I33: =ROUND(H33*0.3,0) -> 2640 | J33: =H33-I33 -> 6160 | K33: =ROUND(J33*0.3,0) -> 1848 | L33: =J33-K33 -> 4312
A34: 44 gadi | B34: 25200 | C34: =ROUND(B34*0.3,0) -> 7560 | D34: =B34-C34 -> 17640 | E34: =ROUND(D34*0.3,0) -> 5292 | F34: =D34-E34 -> 12348 | G34: =ROUND(F34*0.3,0) -> 3704 | H34: =F34-G34 -> 8644 | I34: =ROUND(H34*0.3,0) -> 2593 | J34: =H34-I34 -> 6051 | K34: =ROUND(J34*0.3,0) -> 1815 | L34: =J34-K34 -> 4236
A35: 45 gadi | B35: 24571 | C35: =ROUND(B35*0.3,0) -> 7371 | D35: =B35-C35 -> 17200 | E35: =ROUND(D35*0.3,0) -> 5160 | F35: =D35-E35 -> 12040 | G35: =ROUND(F35*0.3,0) -> 3612 | H35: =F35-G35 -> 8428 | I35: =ROUND(H35*0.3,0) -> 2528 | J35: =H35-I35 -> 5900 | K35: =ROUND(J35*0.3,0) -> 1770 | L35: =J35-K35 -> 4130
A36: 46 gadi | B36: 24172 | C36: =ROUND(B36*0.3,0) -> 7252 | D36: =B36-C36 -> 16920 | E36: =ROUND(D36*0.3,0) -> 5076 | F36: =D36-E36 -> 11844 | G36: =ROUND(F36*0.3,0) -> 3553 | H36: =F36-G36 -> 8291 | I36: =ROUND(H36*0.3,0) -> 2487 | J36: =H36-I36 -> 5804 | K36: =ROUND(J36*0.3,0) -> 1741 | L36: =J36-K36 -> 4063
... A65: 75 gadi | B65: 18467 | C65: =ROUND(B65*0.3,0) -> 5540 | D65: =B65-C65 -> 12927 | E65: =ROUND(D65*0.3,0) -> 3878 | F65: =D65-E65 -> 9049 | G65: =ROUND(F65*0.3,0) -> 2715 | H65: =F65-G65 -> 6334 | I65: =ROUND(H65*0.3,0) -> 1900 | J65: =H65-I65 -> 4434 | K65: =ROUND(J65*0.3,0) -> 1330 | L65: =J65-K65 -> 3104

Sheet 2.1.4.2.
H1: Pielikums Nr.2.1.4.2.
C2: Attīstīts ģimenes hiperholisterinēmijas komandas pakalpojums
A4: Apakšprogrammas nosaukums | B4: Esošais finansējums | C4: Papildus nepieciešamais finansējums 2026. gadam | D4: Papildus nepieciešamais finansējums 2027. gadam | E4: Papildus nepieciešamais finansējums 2028. gadam un turpmāk ik gadu (ja pasākums nav terminēts)
A5: 33.16.00 Pārējo ambulatoro veselības aprūpes pakalpojumu nodrošināšana | B5: 0 | C5: =H14+E19 -> 73945.15 | D5: =SUM(H14+G19) -> 87285.15 | E5: =D5 -> 87285.15
B8: Ārsts | C8: Māsa | D8: Palīgpersonāls | E8: Soc.nodoklis
A9: Mēneša darba samaksa | B9: 2304 | C9: 1388 | D9: 925
A10: 1 minūtes vērtība darba samaksai | B10: =ROUND(B9/9600,4) -> 0.24 | C10: =ROUND(C9/9600,4) -> 0.1446 | D10: =ROUND(D9/9600,4) -> 0.0964 | E10: 0.2359
A12: Koordinators
A13: Slodze | C13: Alga mēnesī* | D13: Soc. nodoklis | E13: Alga ar soc. nodokli mēnesī | F13: Alga gadā | G13: Soc. nodoklis gadā | H13: Alga ar soc. nodokli gadā
A14: 1 | C14: =C9 -> 1388 | D14: =ROUND(C14*E10,2) -> 327.43 | E14: =C14+D14 -> 1715.43 | F14: =C14*12 -> 16656 | G14: =F14*E10 -> 3929.1504 | H14: =F14+G14 -> 20585.15
A15: *koordinatoram tiek piemērota māsas alga
A17: Aprūpes epizodes
A18: Specialitāte | C18: Aprūpes epizodes tarifs | D18: 2026.gada pacientu skaits | E18: Izmaksas 2026.gadā | F18: 2027.gadā un turpmāk ik gadu pacientu skaits | G18: Izmaksas 2027. gadā un turpmāk ik gadu
A19: Kardiologs | C19: 26.68 | D19: 2000 | E19: =C19*D19 -> 53360 | F19: 2500 | G19: =SUM(F19*C19) -> 66700
A20: **16 pacienti dienā, gadā 254 darba dienas

Sheet 2.1.5.1.
R1: Pielikums Nr.2.1.5.1.
D3: Nodrošināta SAVA diagnostikas (veloergometrijas, ehokardiogrāfijas) apmaksa atbilstoši faktiskajām izmaksām
A5: Apakšprogrammas nosaukums | B5: Esošais finansējums | C5: Papildus nepieciešamais finansējums 2026. gadam | D5: Papildus nepieciešamais finansējums 2027. gadā un turpmāk ik gadu (ja pasākums nav terminēts)
A6: 33.18.00 Plānveida stacionāro veselības aprūpes pakalpojumu nodrošināšana | B6: =(L26*D26)+(L27*D27)+(L28*D28)+(L29*D29)+(L30*D30) -> 1045810.2 | C6: =SUM(O26:O30) -> 205157.88 | D6: =C6 -> 205157.88
A7: 33.16.00 Pārējo ambulatoro veselības aprūpes pakalpojumu nodrošināšana | B7: =(J26*D26)+(J27*D27)+(J28*D28)+(J29*D29)+(J30*D30) -> 4830207.4 | C7: =SUM(M26:M30) -> 682625.91 | D7: =C7 -> 682625.91
F10: Ārsts | G10: Māsa | H10: Palīgpersonāls | I10: Soc.nodoklis | N10: Pieskaitāmās un netiešās ražošanas izmaksas | O10: Administratīvās izmaksas | P10: Pārējo pamatlīdzekļu amortizācija
E11: Mēneša darba samaksa | F11: 2304 | G11: 1388 | H11: 925
E12: 1 minūtes vērtība darba samaksai | F12: =ROUND(F11/9600,4) -> 0.24 | G12: =ROUND(G11/9600,4) -> 0.1446 | H12: =ROUND(H11/9600,4) -> 0.0964 | I12: 0.2359 | M12: Koeficienti | N12: 0.2857 | O12: 0.0202 | P12: 0.0322
A14: Manipulācijas kods | B14: Manipulācijas nosaukums | C14: Mainīgās izmaksas | Q14: Kopējās izmaksas, euro | R14: Pacienta līdzmaksājums, euro | S14: Tarifs, euro
C15: Darba laiks (minūtes) | F15: Darba samaksa D, euro | I15: Valsts sociālās apdrošināšanas obligātās iemaksas S, euro | J15: Ārstniecības līdzekļi M, euro | M15: Iekārtu amortizācija N, euro | N15: Pieskaitāmās un netiešās ražošanas izmaksas U, euro | O15: Administratīvās izmaksas A, euro | P15: Pārējo pamatlīdzekļu amortizācija n, euro
C16: ārstam | D16: māsai | E16: jaunākajam personālām | F16: ārstam | G16: māsai | H16: jaunākajam personālam | I16: ārstam, māsai un jaunākajam personālām kopā | J16: M kopā | K16: Medikamenti | L16: Materiāli
A17: =0&6021 -> 06021 | B17: Veloergometrijas slodzes tests | C17: 45 | D17: 45 | E17: 0 | F17: =C17*$F$12 -> 10.8 | G17: =D17*$G$12 -> 6.507 | H17: 0 | I17: =(F17+G17)*$I$12 -> 4.0827213 | J17: =K17+L17 -> 3.2 | K17: 0.93 | L17: 2.27 | M17: 2.24 | N17: =ROUNDUP((F17+G17)*$N$12,2) -> 4.95 | O17: =(F17+G17)*$O$12 -> 0.3496014 | P17: =(F17+G17)*$P$12 -> 0.5572854 | Q17: =ROUND(F17+G17+I17+J17+M17+N17+O17+P17,2) -> 32.69 | R17: 4 | S17: =ROUND(Q17-R17,2) -> 28.69
A18: =0&6033 -> 06033 | B18: Ehokardiogrāfija ar doplerogrāfiju | C18: 81 | D18: 50 | E18: 0 | F18: =C18*$F$12 -> 19.44 | G18: =D18*$G$12 -> 7.23 | H18: 0 | I18: =(F18+G18)*$I$12 -> 6.291453 | J18: =K18+L18 -> 7.87 | K18: 1.83 | L18: 6.04 | M18: 12.94 | N18: =(F18+G18)*$N$12 -> 7.619619 | O18: =(F18+G18)*$O$12 -> 0.538734 | P18: =(F18+G18)*$P$12 -> 0.858774 | Q18: =ROUND(F18+G18+I18+J18+M18+N18+O18+P18,2) -> 62.79 | R18: 4 | S18: =ROUND(Q18-R18,2) -> 58.79
A19: =0&6034 -> 06034 | B19: Stresehokardiogrāfija ar fizisku slodzi vai medicīniskām provēm. Nenorādīt kopā ar manipulācijām 06011, 06012 un 06021 | C19: 110 | D19: 110 | E19: 0 | F19: =C19*$F$12 -> 26.4 | G19: =D19*$G$12 -> 15.906 | H19: 0 | I19: =(F19+G19)*$I$12 -> 9.9799854 | J19: =K19+L19 -> 18.29 | K19: 11.65 | L19: 6.64 | M19: 23.03 | N19: =(F19+G19)*$N$12 -> 12.086824 | O19: =(F19+G19)*$O$12 -> 0.8545812 | P19: =(F19+G19)*$P$12 -> 1.3622532 | Q19: =ROUND(F19+G19+I19+J19+M19+N19+O19+P19,2) -> 107.91 | R19: 4 | S19: =ROUND(Q19-R19,2) -> 103.91
A20: =0&6035 -> 06035 | B20: Skrīningehokardiogrāfija | C20: 46 | D20: 46 | E20: 0 | F20: =ROUND(C20*$F$12,2) -> 11.04 | G20: =ROUND(D20*$G$12,2) -> 6.65 | H20: 0 | I20: =(F20+G20)*$I$12 -> 4.173071 | J20: =K20+L20 -> 5.23 | K20: 1.64 | L20: 3.59 | M20: 11.69 | N20: =(F20+G20)*$N$12 -> 5.054033 | O20: =(F20+G20)*$O$12 -> 0.357338 | P20: =(F20+G20)*$P$12 -> 0.569618 | Q20: =ROUND(F20+G20+I20+J20+M20+N20+O20+P20,2) -> 44.76 | R20: 4 | S20: =ROUND(Q20-R20,2) -> 40.76
A21: =0&6041 -> 06041 | B21: Transezofageāla ehokardiogrāfija M un B režīmos ar krāsas doplerogrāfiju, spektra analīzi un hemodinamikas rādītāju noteikšana | C21: 85 | D21: 55 | E21: 0 | F21: =ROUND(C21*$F$12,2) -> 20.4 | G21: =ROUND(D21*$G$12,2) -> 7.95 | H21: 0 | I21: =(F21+G21)*$I$12 -> 6.687765 | J21: =K21+L21 -> 21.99 | K21: 13.69 | L21: 8.3 | M21: 26.78 | N21: =(F21+G21)*$N$12 -> 8.099595 | O21: =(F21+G21)*$O$12 -> 0.57267 | P21: =(F21+G21)*$P$12 -> 0.91287 | Q21: =ROUND(F21+G21+I21+J21+M21+N21+O21+P21,2) -> 93.39 | R21: 4 | S21: =ROUND(Q21-R21,2) -> 89.39
A24: Manipulācijas kods | B24: Manipulācijas pašreizējais nosaukums | C24: Manipulācijas plānotais nosaukums | D24: Manipulācijas pašreizējais tarifs | E24: Manipulācijas pārrēķinātais tarifs** | F24: Plānotais pacientu skaits gadā | G24: Plānotais manipulāciju skaits vienam pacientam gadā | H24: Tarifa pieaugumam nepieciešamais finansējums | I24: Nepieciešamais papildus finansējums gadā, eiro | J24: Plānotie apmaksas nosacījumi* | M24: Finansējuma sadalījums pa apakšprogrammām
J25: Ambulatori | K25: Dienas stacionārā | L25: Stacionārā | M25: Ambulatori | N25: Dienas stacionārā | O25: Stacionārā
A26: =0&6021 -> 06021 | B26: =B17 -> Veloergometrijas slodzes tests | C26: Bez izmaiņām | D26: 26.23 | E26: =S17 -> 28.69 | F26: =J26+L26 -> 25704 | G26: 1 | H26: =E26-D26 -> 2.46 | I26: =F26*H26 -> 63231.84 | J26: 25296 | K26: 0 | L26: 408 | M26: =J26*H26 -> 62228.16 | N26: 0 | O26: =L26*H26 -> 1003.68
A27: =0&6033 -> 06033 | B27: Ehokardiogrāfija ar doplerogrāfiju | C27: Bez izmaiņām | D27: 51.33 | E27: =S18 -> 58.79 | F27: =J27+L27 -> 95952 | G27: 1 | H27: =E27-D27 -> 7.46 | I27: =F27*H27 -> 715801.92 | J27: 79472 | K27: 0 | L27: 16480 | M27: =J27*H27 -> 592861.12 | N27: 0 | O27: =L27*H27 -> 122940.8
A28: =0&6034 -> 06034 | B28: Stresehokardiogrāfija ar fizisku slodzi vai medicīniskām provēm. Nenorādīt kopā ar manipulācijām 06011, 06012 un 06021 | C28: Bez izmaiņām | D28: 85.88 | E28: =S19 -> 103.91 | F28: =J28+L28 -> 600 | G28: 1 | H28: =E28-D28 -> 18.03 | I28: =F28*H28 -> 10818 | J28: 596 | K28: 0 | L28: 4 | M28: =J28*H28 -> 10745.88 | N28: 0 | O28: =L28*H28 -> 72.12
A29: =0&6035 -> 06035 | B29: Skrīningehokardiogrāfija | C29: Bez izmaiņām | D29: 30.63 | E29: =S20 -> 40.76 | F29: =J29+L29 -> 1641 | G29: 1 | H29: =E29-D29 -> 10.13 | I29: =F29*H29 -> 16623.33 | J29: 13 | K29: 0 | L29: 1628 | M29: =J29*H29 -> 131.69 | N29: 0 | O29: =L29*H29 -> 16491.64
A30: =0&6041 -> 06041 | B30: Transezofageāla ehokardiogrāfija M un B režīmos ar krāsas doplerogrāfiju, spektra analīzi un hemodinamikas rādītāju noteikšana | C30: Bez izmaiņām | D30: 61.01 | E30: =S21 -> 89.39 | F30: =J30+L30 -> 2865 | G30: 1 | H30: =E30-D30 -> 28.38 | I30: =F30*H30 -> 81308.7 | J30: 587 | K30: 0 | L30: 2278 | M30: =J30*H30 -> 16659.06 | N30: 0 | O30: =L30*H30 -> 64649.64
A31: * Pacientu skaits un sadalījums sadalījums atbilstoši 2024. gada statistikai | I31: =SUM(I26:I30) -> 887783.79 | J31: =SUM(J26:J30) -> 105964 | L31: =SUM(L26:L30) -> 20798 | M31: =SUM(M26:M30) -> 682625.91 | O31: =SUM(O26:O30) -> 205157.88
A32: ** atbilstoši VSIA "Paula Stradiņa klīniskā universitātes slimnīca" iesniegumiem

Sheet 2.1.5.2
J1: Pielikums Nr.2.1.5.2.
A2: Izstrādāti vienoti doplerogrāfijas (galvas, kakla un kāju asinsvadiem) izmeklējumu apraksti un pacientu ceļi
A3: Pasākums | B3: Finansējums ar PVN, euro
B4: 2026.gads* | C4: 2027.gads*
A5: Izstrādāti vienoti doplerogrāfijas (galvas, kakla un kāju asinsvadiem) izmeklējumu apraksti un pacientu ceļi | B5: 0 | C5: =27900*1.21 -> 33759
A6: *Eiropas Sociālā fonda (ESF+) finansējums, 2021.-2027.gada plānošanas perioda Darbības programmas 4.1.2.SAM “Uzlabot vienlīdzīgu un savlaicīgu piekļuvi kvalitatīviem, ilgtspējīgiem un izmaksu ziņā pieejamiem veselības aprūpes, veselības veicināšanas un slimību profilakses pakalpojumiem, uzlabojot veselības aprūpes sistēmu efektivitāti un izturētspēju” 4.1.2.7. pasākums "Pilnveidot pacientu drošību un aprūpes kvalitāti"
J9: Pielikums Nr.
A10: Izstrādāti vienoti doplerogrāfijas (galvas, kakla un kāju asinsvadiem) izmeklējumu apraksti un pacientu ceļi
B11: Pasākums | C11: Darbības rezultāts | D11: Rezultatīvais rādītājs | E11: Plānotie nodevumi | F11: Plānoto nodevumu skaits | G11: Vienas vienības summa bez PVN, euro | H11: KOPĀ bez PVN, euro | I11: PVN likme (%) | J11: Vienas vienības summa ar PVN, euro | K11: KOPĀ ar PVN, euro*
A12: Algoritmi | B12: Izstrādāti vienoti doplerogrāfijas (galvas, kakla un kāju asinsvadiem) izmeklējumu apraksti un pacientu ceļi | E12: Algoritms | F12: 1 | G12: 13950 | H12: =F12*G12 -> 13950 | I12: 21 | J12: =G12*1.21 -> 16879.5 | K12: =F12*J12 -> 16879.5
E13: Ceļš | F13: 1 | G13: 13950 | H13: =F13*G13 -> 13950 | I13: 21 | J13: =G13*1.21 -> 16879.5 | K13: =F13*J13 -> 16879.5
H14: =SUM(H12:H13) -> 27900 | K14: =SUM(K12:K13) -> 33759
A15: *Eiropas Sociālā fonda (ESF+) finansējums, 2021.-2027.gada plānošanas perioda Darbības programmas 4.1.2.SAM “Uzlabot vienlīdzīgu un savlaicīgu piekļuvi kvalitatīviem, ilgtspējīgiem un izmaksu ziņā pieejamiem veselības aprūpes, veselības veicināšanas un slimību profilakses pakalpojumiem, uzlabojot veselības aprūpes sistēmu efektivitāti un izturētspēju” 4.1.2.7. pasākums "Pilnveidot pacientu drošību un aprūpes kvalitāti"

Sheet 2.1.6.
Q1: Pielikums Nr.2.1.6.
E3: Nodrošināts valsts apmaksāts 18-24h asinsspiediena monitorēšanas pakalpojums
A5: Apakšprogrammas nosaukums | B5: Esošais finansējums | C5: Papildus nepieciešamais finansējums 2026.gadam | D5: Papildus nepieciešamais finansējums 2028. gadam un turpmāk ik gadu (ja pasākums nav terminēts)
A6: 33.16.00 Pārējo ambulatoro veselības aprūpes pakalpojumu nodrošināšana | B6: 0 | C6: =H22 -> 83080 | D6: =C6 -> 83080
B9: Ārsts | C9: Māsa | D9: Palīgpersonāls | E9: Soc.nodoklis | J9: Pieskaitāmās un netiešās ražošanas izmaksas | K9: Administratīvās izmaksas | L9: Pārējo pamatlīdzekļu amortizācija
A10: Mēneša darba samaksa | B10: 2304 | C10: 1388 | D10: 925
A11: 1 minūtes vērtība darba samaksai | B11: =ROUND(B10/9600,4) -> 0.24 | C11: =ROUND(C10/9600,4) -> 0.1446 | D11: =ROUND(D10/9600,4) -> 0.0964 | E11: 0.2359 | I11: Koeficienti | J11: 0.2857 | K11: 0.0202 | L11: 0.0322
A13: Manipulācijas kods | B13: Manipulācijas nosaukums | C13: Mainīgās izmaksas | Q13: Kopējās izmaksas, euro | R13: Pacienta līdzmaksājums, euro* | S13: Tarifs, euro
C14: Darba laiks (minūtes) | F14: Darba samaksa D, euro | I14: Valsts sociālās apdrošināšanas obligātās iemaksas S, euro | J14: Ārstniecības līdzekļi M, euro | M14: Iekārtu amortizācija N, euro | N14: Pieskaitāmās un netiešās ražošanas izmaksas U, euro | O14: Administratīvās izmaksas A, euro | P14: Pārējo pamatlīdzekļu amortizācija n, euro
C15: ārstam | D15: māsai | E15: jaunākajam personālām | F15: ārstam | G15: māsai | H15: jaunākajam personālam | I15: ārstam, māsai un jaunākajam personālām kopā | J15: M kopā | K15: Medikamenti | L15: Materiāli
A16: JAUNS | B16: Neinvazīvā asinspiediena monitorēšana no 18 līdz 24 stundām | C16: 20 | D16: 40 | E16: 0 | F16: =ROUND((C16*B11),2) -> 4.8 | G16: =ROUND((D16*C11),2) -> 5.78 | H16: =ROUND((E16*D11),2) -> 0 | I16: =ROUND(((F16+G16+H16)*E11),2) -> 2.5 | J16: =K16+L16 -> 3.76 | K16: 0.6 | L16: 3.16 | M16: 8.39 | N16: =ROUND(((F16+G16+H16)*J11),2) -> 3.02 | O16: =ROUND(((F16+G16+H16)*K11),2) -> 0.21 | P16: =ROUND(((F16+G16+H16)*L11),2) -> 0.34 | Q16: =ROUND((F16+G16+H16+I16+J16+M16+N16+O16+P16),2) -> 28.8 | R16: 4 | S16: =Q16-R16 -> 24.8
A17: *Atbilstoši MK Nr.555 13.pielikuma 7.2. punktam
A20: Manipulācijas kods | B20: Manipulācijas nosaukums | C20: Manip. tarifs, eiro | D20: Plānotais manipulāciju skaits vienam pacientam gadā | E20: Provizoriskais pacientu skaits** | H20: Nepieciešamais finansējums gadā, eiro
E21: Ambulatori | F21: Dienas stacionārā | G21: Stacionārā
A22: JAUNS | B22: Neinvazīvā asinspiediena monitorēšana no 18 līdz 24 stundām | C22: =S16 -> 24.8 | D22: 1 | E22: 3350 | F22: 0 | G22: 0 | H22: =C22*E22 -> 83080
A23: ** Latvijas Kardiologu biedrības sniegtā informācija

Sheet 2.1.7.
O1: Pielikums Nr.2.1.7.
D3: Nodrošināts valsts apmaksāts kardiopulmonālā testa izmeklējums
C5: Esošais finansējums | D5: Papildus nepieciešamais finansējums 2026. gadam | E5: Papildus nepieciešamais finansējums 2027. gadā un turpmāk ik gadu (ja pasākums nav terminēts)
B6: 33.18.00 Plānveida stacionāro veselības aprūpes pakalpojumu nodrošināšana | C6: =ROUND(I23*C23,0) -> 534 | D6: =ROUND(P25,0) -> 4560 | E6: =ROUND(D6,0) -> 4560
B7: 33.16.00 Pārējo ambulatoro veselības aprūpes pakalpojumu nodrošināšana | C7: =ROUND(C23*K23,0) -> 1992 | D7: =ROUND(N25,0) -> 10588 | E7: =ROUND(D7,0) -> 10588
F10: Ārsts | G10: Māsa | H10: Palīgpersonāls | I10: Soc.nodoklis | N10: Pieskaitāmās un netiešās ražošanas izmaksas | O10: Administratīvās izmaksas | P10: Pārējo pamatlīdzekļu amortizācija
E11: Mēneša darba samaksa | F11: 2304 | G11: 1388 | H11: 925
E12: 1 minūtes vērtība darba samaksai | F12: =ROUND(F11/9600,4) -> 0.24 | G12: =ROUND(G11/9600,4) -> 0.1446 | H12: =ROUND(H11/9600,4) -> 0.0964 | I12: 0.2359 | M12: Koeficienti | N12: 0.2857 | O12: 0.0202 | P12: 0.0322
A13: Tarifa pārrēķins
A14: Manipulācijas kods | B14: Manipulācijas nosaukums | C14: Mainīgās izmaksas | Q14: Kopējās izmaksas, euro | R14: Pacienta līdzmaksājums, euro | S14: Tarifs, euro
C15: Darba laiks (minūtes) | F15: Darba samaksa D, euro | I15: Valsts sociālās adrošināšanas obligātās iemaksas S, euro | J15: Ārstniecības līdzekļi M, euro | M15: Iekārtu amortizācija N, euro | N15: Pieskaitāmās un netiešās ražošanas izmaksas U, euro | O15: Administratīvās izmaksas A, euro | P15: Pārējo pamatlīdzekļu amortizācija n, euro
C16: ārstam | D16: māsai | E16: jaunākajam personālām | F16: ārstam | G16: māsai | H16: jaunākajam personālam | I16: ārstam, māsai un jaunākajam personālām kopā | J16: M kopā | K16: Medikamenti | L16: Materiāli | T16: D | U16: S | V16: M | W16: E | X16: U | Y16: A | Z16: N | AA16: P | AB16: Kopējās izmaksas | AC16: Pacienta līdzmaksājums | AD16: Tarifs
A17: 07045 | B17: Kardiopulmonālais slodžu tests | C17: 75 | D17: 75 | E17: 0 | F17: =ROUND((C17*$F$12),2) -> 18 | G17: =ROUND((D17*$G$12),2) -> 10.85 | H17: =ROUND((E17*$H$12),2) -> 0 | I17: =ROUND(((F17+G17+H17)*$I$12),2) -> 6.81 | J17: =K17+L17 -> 3.98 | K17: 0.27 | L17: 3.71 | M17: 5.67 | N17: =ROUND((F17+G17+H17)*$N$12,2) -> 8.24 | O17: =ROUND((F17+G17+H17)*$O$12,2) -> 0.58 | P17: =ROUND((F17+G17+H17)*$P$12,2) -> 0.93 | Q17: =ROUND((F17+G17+H17+I17+J17+M17+N17+O17+P17),2) -> 55.06 | R17: 0 | S17: =Q17-R17 -> 55.06 | T17: =F17+G17+H17 -> 28.85 | U17: =I17 -> 6.81 | V17: =J17 -> 3.98 | X17: =N17 -> 8.24 | Y17: =O17 -> 0.58 | Z17: =M17+P17 -> 6.6 | AB17: =SUM(T17:AA17) -> 55.06 | AC17: =R17 -> 0 | AD17: =AB17-AC17 -> 55.06
A20: Sadalījums ambulatori un stacionāri
A21: Manipulācijas kods | B21: Manipulācijas nosaukums | C21: Manip. tarifs, EUR | D21: Aprēķinātais tarifs, EUR | E21: Papildus manip.tarifam nepieciešamais finansējums, EUR | F21: Plānotais pacientu skaits gadā*, ** | G21: Plānotais manipulāciju skaits vienam pacientam gadā | H21: Nepieciešamais finansējums gadā, EUR | I21: Pacientu sadalījums pa apakšprogrammām | L21: Apmaksas nosacījumi | N21: Finansējuma sadalījums pa apakšprogrammām, EUR
I22: Ambulatori | J22: Dienas stacionārā | K22: Stacionārā | N22: Ambulatori | O22: Dienas stacionārā | P22: Stacionārā
A23: 07045 | B23: Kardiopulmonālais slodžu tests (līdzšinējie apmaksas nosacījumi) | C23: 35.58 | D23: =S17 -> 55.06 | E23: =D23-C23 -> 19.48 | F23: =I23+J23+K23 -> 71 | G23: 1 | H23: =E23*F23*G23 -> 1383.08 | I23: 15 | J23: 0 | K23: 56 | L23: Ambulatori samaksa par šo manipulāciju tiek veikta, ja to norāda pneimonologi, bērnu pneimonologi, alergologi, bērnu alergologi, ģimenes ārsti. | N23: =I23*E23 -> 292.2 | O23: 0 | P23: =E23*K23 -> 1090.88
A24: 07045 | B24: Kardiopulmonālais slodžu tests (apmaksas nosacījumi no 2026. gada) | C24: 0 | D24: =S17 -> 55.06 | E24: =D24-C24 -> 55.06 | F24: =I24+J24+K24 -> 250 | G24: 1 | H24: =E24*F24*G24 -> 13765 | I24: =ROUNDDOWN(250*0.75,0) -> 187 | J24: 0 | K24: =ROUND(250*0.25,0) -> 63 | L24: Ambulatori samaksa par šo manipulāciju tiek veikta, ja to norāda pneimonologi, bērnu pneimonologi, alergologi, bērnu alergologi, ģimenes ārsti, kardiologi. | N24: =I24*E24 -> 10296.22 | O24: 0 | P24: =K24*E24 -> 3468.78
F25: =SUM(F23:F24) -> 321 | G25: KOPĀ: | H25: =SUM(H23:H24) -> 15148.08 | N25: =N23+N24 -> 10588.42 | P25: =P23+P24 -> 4559.66
A26: * 2024. gada oficiālā statistika - 71 pacients. Finanšu ietekmi veido tarifa pieaugums.
A27: ** Plānotais skaita pieaugums no apmaksas nosacījumu paplašināšanas - 250 pacienti (MVI sniegtā informācija). Finanšu ietekmi veido kardiologa pacientu skaita reizinājums ar pilnu tarifu.

Sheet 2.1.8.
J1: Pielikums Nr.2.1.8.
A2: Izstrādāts klīniskais algoritms un pacientu ceļš perifēro artēriju slimību, kakla asinsvadu aterosklerozes un aortas aneirismu diagnostikai
A3: Pasākums | B3: Finansējums ar PVN, euro
B4: 2026.gads* | C4: 2027.gads*
A5: Izstrādāts klīniskais algoritms un pacientu ceļš perifēro artēriju slimību, kakla asinsvadu aterosklerozes un aortas aneirismu diagnostikai | B5: 0 | C5: =27900*1.21 -> 33759
A6: *Eiropas Sociālā fonda (ESF+) finansējums, 2021.-2027.gada plānošanas perioda Darbības programmas 4.1.2.SAM “Uzlabot vienlīdzīgu un savlaicīgu piekļuvi kvalitatīviem, ilgtspējīgiem un izmaksu ziņā pieejamiem veselības aprūpes, veselības veicināšanas un slimību profilakses pakalpojumiem, uzlabojot veselības aprūpes sistēmu efektivitāti un izturētspēju” 4.1.2.7. pasākums "Pilnveidot pacientu drošību un aprūpes kvalitāti"
A11: Izstrādāts klīniskais algoritms un pacientu ceļš perifēro artēriju slimību, kakla asinsvadu aterosklerozes un aortas aneirismu diagnostikai
B12: Pasākums | C12: Darbības rezultāts | D12: Rezultatīvais rādītājs | E12: Plānotie nodevumi | F12: Plānoto nodevumu skaits | G12: Vienas vienības summa bez PVN, euro | H12: KOPĀ bez PVN, euro | I12: PVN likme (%) | J12: Vienas vienības summa ar PVN, euro | K12: KOPĀ ar PVN, euro*
A13: Algoritmi | B13: Izstrādāti vienoti doplerogrāfijas (galvas, kakla un kāju asinsvadiem) izmeklējumu apraksti un pacientu ceļi | E13: Algoritms | F13: 1 | G13: 13950 | H13: =F13*G13 -> 13950 | I13: 21 | J13: =G13*1.21 -> 16879.5 | K13: =F13*J13 -> 16879.5
E14: Ceļš | F14: 1 | G14: 13950 | H14: =F14*G14 -> 13950 | I14: 21 | J14: =G14*1.21 -> 16879.5 | K14: =F14*J14 -> 16879.5
H15: =SUM(H13:H14) -> 27900 | K15: =SUM(K13:K14) -> 33759
A17: *Eiropas Sociālā fonda (ESF+) finansējums, 2021.-2027.gada plānošanas perioda Darbības programmas 4.1.2.SAM “Uzlabot vienlīdzīgu un savlaicīgu piekļuvi kvalitatīviem, ilgtspējīgiem un izmaksu ziņā pieejamiem veselības aprūpes, veselības veicināšanas un slimību profilakses pakalpojumiem, uzlabojot veselības aprūpes sistēmu efektivitāti un izturētspēju” 4.1.2.7. pasākums "Pilnveidot pacientu drošību un aprūpes kvalitāti"

Sheet 2.2.1.
X1: Pielikums Nr.2.2.1.
D2: Nodrošināta hronisko pacientu dinamiskā novērošana ar hronisku slimību slimojošiem pacientiem pēc akūta notikuma vai intervences
A4: Apakšprogrammas nosaukums | B4: Esošais finansējums | C4: Papildus nepieciešamais finansējums 2026.gadam | D4: Papildus nepieciešamais finansējums 2027.gadam un turpmāk ik gadu (ja pasākums nav terminēts)
A5: 33.16.00 Pārējo ambulatoro veselības aprūpes pakalpojumu nodrošināšana | B5: 21010828 | C5: =Y30+Y58+Y68 -> 2254308.3 | D5: =C5 -> 2254308.3
B7: Ārsts | C7: Māsa | D7: Palīgpersonāls | E7: Soc.nodoklis | H7: Pieskaitāmās un netiešās ražošanas izmaksas | I7: Administratīvās izmaksas | J7: Pārējo pamatlīdzekļu amortizācija
A8: Mēneša darba samaksa | B8: 2304 | C8: 1388 | D8: 925
A9: 1 minūtes vērtība darba samaksai | B9: =ROUND(B8/9600,4) -> 0.24 | C9: =ROUND(C8/9600,4) -> 0.1446 | D9: =ROUND(D8/9600,4) -> 0.0964 | E9: 0.2359 | G9: Koeficienti | H9: 0.2857 | I9: 0.0202 | J9: 0.0322
A12: 5 000 pacientu saņēmuši hroniskas slimības intensificētu dinamisko novērošanu
B13: Manipulācijas kods | C13: Manipulācijas nosaukums | D13: Mainīgās izmaksas | R13: Kopējās izmaksas, euro | S13: Pacienta līdzmaksājums, euro* | T13: Tarifs, euro | U13: Starpība | V13: Pacientu skaits** | W13: Reižu skaits vienam pacientam** | X13: Reizes kopā | Y13: Summa
D14: Darba laiks (minūtes) | G14: Darba samaksa D, euro | J14: Valsts sociālās apdrošināšanas obligātās iemaksas S, euro | K14: Ārstniecības līdzekļi M, euro | N14: Iekārtu amortizācija N, euro | O14: Pieskaitāmās un netiešās ražošanas izmaksas U, euro | P14: Administratīvās izmaksas A, euro | Q14: Pārējo pamatlīdzekļu amortizācija n, euro
D15: ārstam | E15: māsai | F15: jaunākajam personālām | G15: ārstam | H15: māsai | I15: jaunākajam personālam | J15: ārstam, māsai un jaunākajam personālām kopā | K15: M kopā | L15: Medikamenti | M15: Materiāli
A16: Pārrēķins | B16: =0&6033 -> 06033 | C16: Ehokardiogrāfija ar doplerogrāfiju | D16: 81 | E16: 50 | F16: 0 | G16: =D16*$B$9 -> 19.44 | H16: =E16*$C$9 -> 7.23 | I16: 0 | J16: =(G16+H16)*$E$9 -> 6.291453 | K16: =L16+M16 -> 7.87 | L16: 1.83 | M16: 6.04 | N16: 12.94 | O16: =(G16+H16+I16)*$H$9 -> 7.619619 | P16: =(G16+H16+I16)*$I$9 -> 0.538734 | Q16: =(G16+H16+I16)*$J$9 -> 0.858774 | R16: =G16+H16+I16+J16+K16+N16+O16+P16+Q16 -> 62.78858 | S16: 4 | T16: =R16-S16 -> 58.78858 | U16: =T16-T17 -> 7.45858 | V16: 5000 | W16: 1.3 | X16: =V16*W16 -> 6500 | Y16: =X16*T16 -> 382125.77
A17: Esošais tarifs | B17: =0&6033 -> 06033 | C17: Ehokardiogrāfija ar doplerogrāfiju | D17: 81 | E17: 50 | F17: 0 | G17: =D17*$B$9 -> 19.44 | H17: =E17*$C$9 -> 7.23 | I17: 0 | J17: =(G17+H17)*$E$9 -> 6.291453 | K17: 0.86 | L17: 0 | M17: 0.86 | N17: 8.49 | O17: =(G17+H17+I17)*$H$9+4 -> 11.619619 | P17: =(G17+H17+I17)*$I$9 -> 0.538734 | Q17: =(G17+H17+I17)*$J$9 -> 0.858774 | R17: =G17+H17+I17+J17+K17+N17+O17+P17+Q17 -> 55.32858 | S17: 4 | T17: =ROUND(R17-S17,2) -> 51.33
