Workbook

Sheet Kopsavilkums
E1: pielikums Informatīvajam ziņojumam “Par papildus gultu izvēršanu un resursiem Covid-19 pacientu ārstēšanai”
B3: Ārsniecības iestāde | C3: Papildus nepieciešamais finansējums 2021.gadā (avanss), euro | D3: Papildus nepieciešamais finansējums 2022.gadā, euro | E3: Papildus nepieciešamais finansējums, euro
B4: VSIA "Slimnīca "Ģintermuiža"" | C4: =Gintermuiza!E15 -> 26502 | E4: =Gintermuiza!E13 -> 26502
B5: SIA "Aizkraukles medicīnas centrs" | D5: =Aizkraukle!E12 -> 40325 | E5: =Aizkraukle!E8 -> 40325
B6: SIA "Saldus medicīnas centrs" | C6: =Saldus!E11 -> 1247 | D6: =Saldus!E12 -> 11223 | E6: =Saldus!E9 -> 12470
B7: SIA “Ludzas medicīnas centrs” | C7: =Ludza!E23 -> 125120 | E7: =Ludza!E20 -> 125120
B8: SIA "Rīgas 1. slimnīca" | C8: ='Rīgas 1.slimnica'!E21 -> 108446 | E8: ='Rīgas 1.slimnica'!E19 -> 108446
B9: SIA "Balvu un Gulbenes slimnīcu apvienība" | C9: ='BALVI un Gulbene'!E12 -> 11000 | E9: ='BALVI un Gulbene'!E10 -> 11000
B10: VSIA "Rīgas Psihiatrijas un narkoloģijas centrs" | C10: =RPNC_Moduļu_aprikojums!F36+RPNC_Slimnica!F29 -> 192865 | E10: =RPNC_Moduļu_aprikojums!F36+RPNC_Slimnica!F27 -> 192865
B11: SIA "Jūras medicīnas centrs" | C11: =Jūras_medicinas_centrs!E12 -> 32110 | D11: =Jūras_medicinas_centrs!E13 -> 17666 | E11: =Jūras_medicinas_centrs!E10 -> 49776
B12: SIA "Rīgas Dzemdību nams" | C12: =DZEMDIBU_NAMS!F20 -> 119288 | D12: =DZEMDIBU_NAMS!F21 -> 51124 | E12: =DZEMDIBU_NAMS!F18 -> 170412
C13: =SUM(C4:C12) -> 616578 | D13: =SUM(D4:D12) -> 120338 | E13: =SUM(E4:E12) -> 736916
B15: Papildus nepieciešamais finansējums 2021.gadā (oktobris, novembris, decembris) avanss | E15: =Saldus!E11+Ludza!E23+Jūras_medicinas_centrs!E12+'Rīgas 1.slimnica'!E21+'BALVI un Gulbene'!E12+DZEMDIBU_NAMS!F20 -> 397211
B16: Papildus nepieciešamais finansējums 2022.gadā (janvāris, februāris, marts) | E16: =Aizkraukle!E12+Saldus!E12+Jūras_medicinas_centrs!E13+DZEMDIBU_NAMS!F21 -> 120338 | G16: =E15+E18 -> 616578 | H16: =E15+E16+E18 -> 736916
B18: Pamatkapitālā ieguldīšana | E18: =Gintermuiza!E15+RPNC_Moduļu_aprikojums!F38+RPNC_Slimnica!F29 -> 219367

Sheet Gintermuiza
E1: 1.1 pielikums Informatīvajam ziņojumam “Par papildus gultu izvēršanu un resursiem Covid-19 pacientu ārstēšanai”
A3: VSIA "Slimnīca "Ģintermuiža"" nepieciešamās iekārtas un aprīkojums papildu Covid-19 pacientu gultu aprīkošanai.
B5: Iekārtas nosaukums | C5: Skaits | D5: Cena (EUR) | E5: Summa (EUR) | F5: Pasākuma īstenošanas termiņi
B6: Defibrilators ( + Kardiostimulators + Nellcor SpO2 mērīšana) | C6: 1 | D6: 5046 | E6: 5046 | F6: oktobris, novembris, decembris
B9: Skābekļa koncentrators oxy 6000 | C9: 2 | D9: 1098 | E9: 2196 | F9: oktobris, novembris, decembris
B10: Elektriski regulējama gulta | C10: 10 | D10: 1500 | E10: 15000 | F10: oktobris, novembris, decembris
B11: Pasīvais pret-izgulējumu matracis | C11: 10 | D11: 131 | E11: 1310 | F11: oktobris, novembris, decembris
B12: Telpu dezifektors (Max kapacitāte 750 m3 , Dezinfekcija 1 m3/8 s ) | C12: 1 | D12: 2950 | E12: 2950 | F12: oktobris, novembris, decembris
E13: =SUM(E6:E12) -> 26502
B15: Papildus nepieciešamais finansējums 2021.gadā (oktobris, novembris, decembris) avanss | E15: =E13 -> 26502

Sheet Aizkraukle
E1: 1.2. pielikums Informatīvajam ziņojumam “Par papildus gultu izvēršanu un resursiem Covid-19 pacientu ārstēšanai”
A3: SIA "Aizkraukles medicīnas centrs" nepieciešamās iekārtas un aprīkojums papildu Covid-19 pacientu gultu aprīkošanai.
B4: Aprīkojums | C4: Daudzums, gab. | D4: Cena EUR ar PVN | E4: Kopā (EUR) | F4: Pasākuma īstenošanas termiņi
B5: Funkcionālās gultas | C5: 11 | D5: 3025 | E5: 33275 | F5: 2022.gada I ceturksnis
B6: Dezinficējams skapītis pie gultas | C6: 11 | D6: 305 | E6: 3355 | F6: 2022.gada I ceturksnis
B7: Vitālo funkciju novērošanas monitors | C7: 1 | D7: 3695 | E7: 3695 | F7: 2022.gada I ceturksnis
B8: KOPĀ (EUR) | E8: 40325
B11: Papildus nepieciešamais finansējums 2021.gadā (oktobris, novembris, decembris) avanss
B12: Papildus nepieciešamais finansējums 2022.gadā (janvāris, februāris, marts) | E12: =E8 -> 40325

Sheet Saldus
F1: 1.3. pielikums Informatīvajam ziņojumam “Par papildus gultu izvēršanu un resursiem Covid-19 pacientu ārstēšanai”
A2: SIA "Saldus medicīnas centrs" nepieciešamās iekārtas un aprīkojums papildu Covid-19 pacientu gultu aprīkošanai.
B4: Iekārtas nosaukums | C4: Skaits | D4: Cena (EUR) | E4: Summa (EUR) | F4: Pasākuma īstenošanas termiņi
B5: vitālo funkciju monitorēšanai | C5: 3 | D5: 211.7 | E5: =C5*D5 -> 635.1 | F5: decembris, janvāris
B6: pulsoksimetrs | C6: 10 | D6: 25.87 | E6: =C6*D6 -> 258.7 | F6: novembris, decembris
B7: papildus 6 skābekļa padeves ligzdu ierīkošana | C7: 1 | D7: 988.4 | E7: =C7*D7 -> 988.4 | F7: novembris, decembris
B8: funkcionālās gultas | C8: 5 | D8: 2117.5 | E8: =C8*D8 -> 10587.5 | F8: decembris, janvāris
E9: =ROUND(SUM(E5:E8),0) -> 12470
B11: Papildus nepieciešamais finansējums 2021.gadā (oktobris, novembris, decembris) avanss | E11: =ROUND(E6+E7,0) -> 1247
B12: Papildus nepieciešamais finansējums 2022.gadā (janvāris, februāris, marts) | E12: =ROUND(E5+E8,0) -> 11223

Sheet Ludza
E1: 1.4. pielikums Informatīvajam ziņojumam “Par papildus gultu izvēršanu un resursiem Covid-19 pacientu ārstēšanai”
B2: SIA “Ludzas medicīnas centrs” nepieciešamās iekārtas un aprīkojums papildu Covid-19 pacientu gultu aprīkošanai.
B3: Nosaukums | C3: Daudzums | D3: Vienības cena ar PVN | E3: Kopā ar PVN | F3: Pasākuma īstenošanas termiņi
B4: Dubultais skābekļa plūsmas regulators (15l/min) | C4: 30 | D4: 140 | E4: =C4*D4 -> 4200 | F4: 12.2021.
B5: Augstas plūsmas skābekļa regulators (25l/min) | C5: 6 | D5: 95 | E5: =C5*D5 -> 570 | F5: 12.2021.
B6: Pacientu vitāli svarīgo dzīvības funkciju novērošanas monitors | C6: 6 | D6: 3295 | E6: =C6*D6 -> 19770 | F6: 11.2021.
B7: Portatīva MPV iekārta ar neinvazīvo ventilācijas funkciju | C7: 2 | D7: 14100 | E7: =C7*D7 -> 28200 | F7: 11.2021.
B8: Medikamentu galdiņš | C8: 10 | D8: 215 | E8: =C8*D8 -> 2150 | F8: 11.2021.
B9: Aizslietnis 2 daļīgs | C9: 8 | D9: 250 | E9: =C9*D9 -> 2000 | F9: 11.2021.
B10: Aizslietnis 1 daļīgs | C10: 4 | D10: 150 | E10: =C10*D10 -> 600 | F10: 11.2021.
B11: Pulsa oksimetrs ar iznesamo sensoru | C11: 5 | D11: 560 | E11: =C11*D11 -> 2800 | F11: 11.2021.
B12: Gultas | C12: 12 | D12: 3800 | E12: =C12*D12 -> 45600 | F12: 12.2021.
B13: Statīvi | C13: 30 | D13: 120 | E13: =C13*D13 -> 3600 | F13: 12.2021.
B14: Baktericīdā mašīna | C14: 1 | D14: 5145 | E14: =C14*D14 -> 5145 | F14: 11.2021.
B15: transportēšanas rati | C15: 1 | D15: 2600 | E15: =C15*D15 -> 2600 | F15: 12.2021.
... B19: Miskastes turētāji | C19: 12 | D19: 100 | E19: =C19*D19 -> 1200 | F19: 12.2021.
E20: =SUM(E4:E19) -> 125120
B23: Papildus nepieciešamais finansējums 2021.gadā (oktobris, novembris, decembris) avanss | E23: =E20 -> 125120
B24: Papildus nepieciešamais finansējums 2022.gadā (janvāris, februāris, marts)

Sheet Jūras_medicinas_centrs
F1: 1.5. pielikums Informatīvajam ziņojumam “Par papildus gultu izvēršanu un resursiem Covid-19 pacientu ārstēšanai”
A2: Jūras medicīnas centrs nepieciešamās iekārtas un aprīkojums papildu Covid-19 pacientu gultu aprīkošanai.
A3: N.P.K. | B3: Medicīnas iekārta/ierīce | C3: Skaits | D3: Cena | E3: Kopā nepieciešamais finansējums, euro | F3: Pasākuma īstenošanas termiņi
A4: 1 | B4: Neinvazīvais ventilators ar CO2 funkciju | C4: 1 | D4: 16456 | E4: =C4*D4 -> 16456 | F4: janvāris, februāris, marts
A5: 2 | B5: Pacientu vitālo funkciju monitors | C5: 4 | D5: 2178 | E5: =C5*D5 -> 8712 | F5: oktobris, novembris, decembris
A6: 3 | B6: Pulsa oksimetri ar neinvazīvo asisspiediena mērīšanu | C6: 8 | D6: 822.8 | E6: =C6*D6 -> 6582.4 | F6: oktobris, novembris, decembris
A7: 4 | B7: Perfuzori | C7: 6 | D7: 907.5 | E7: =C7*D7 -> 5445 | F7: oktobris, novembris, decembris
A8: 5 | B8: Laringoskopa komplekts COVD 19 pacientiem | C8: 1 | D8: 1210 | E8: =C8*D8 -> 1210 | F8: janvāris, februāris, marts
A9: 6 | B9: Skābekļa sistēmas izveide papildus 24. gultām. | C9: 1 | D9: 11370.14 | E9: =C9*D9 -> 11370.14 | F9: oktobris, novembris, decembris
E10: =ROUND(SUM(E4:E9),0) -> 49776
B12: Papildus nepieciešamais finansējums 2021.gadā (oktobris, novembris, decembris) avanss | E12: =ROUND(E5+E6+E7+E9,0) -> 32110
B13: Papildus nepieciešamais finansējums 2022.gadā (janvāris, februāris, marts) | E13: =E4+E8 -> 17666

Sheet Rīgas 1.slimnica
F1: 1.6. pielikums Informatīvajam ziņojumam “Par papildus gultu izvēršanu un resursiem Covid-19 pacientu ārstēšanai”
A2: SIA "Rīgas 1. slimnīcai" nepieciešamās iekārtas un aprīkojums papildu Covid-19 pacientu gultu aprīkošanai.
B3: 9., 10., 11. un 12. nodaļu pielāgošanas darbi | C3: Skaits | D3: Cena | E3: summa ar PVN | F3: Pasākuma īstenošanas termiņi
B4: Covid-19 pacientu uzņemšanai | D4: (EUR) | E4: (EUR)
B5: Nerūsējoša tērauda ratiņi ar ritenīšiem | C5: 15 | D5: 181.5 | E5: =C5*D5 -> 2722.5 | F5: novembris, decembris
B6: Pacienta transporta rati | C6: 2 | D6: 2420 | E6: =C6*D6 -> 4840 | F6: novembris, decembris
B7: Palātu / pacientu informatīvais sienas monitors (māsu postenis) | C7: 2 | D7: 1210 | E7: =C7*D7 -> 2420 | F7: novembris, decembris
B8: Dušas guļrati | C8: 1 | D8: 3025 | E8: =C8*D8 -> 3025 | F8: novembris, decembris
B9: Slīddēlis | C9: 1 | D9: 200 | E9: =C9*D9 -> 200 | F9: novembris, decembris
B10: Līķu maisi | C10: 100 | D10: 3.63 | E10: =C10*D10 -> 363 | F10: novembris, decembris
B11: Rācijas | C11: 20 | D11: 70 | E11: =C11*D11 -> 1400 | F11: novembris, decembris
B12: Asins gāzu analizators | C12: 4 | D12: 8470 | E12: =C12*D12 -> 33880 | F12: novembris, decembris
B13: Asins gāzu analizatoru šļirce | C13: 4000 | D13: 2.42 | E13: =C13*D13 -> 9680 | F13: novembris, decembris
B14: Gāzes analizatoru kārtridži | C14: 4000 | D14: 9 | E14: =C14*D14 -> 36000 | F14: novembris, decembris
B15: Galvas mazgāšanas vanna | C15: 2 | D15: 121 | E15: =C15*D15 -> 242 | F15: novembris, decembris
B16: Aprūpes rati | C16: 2 | D16: 726 | E16: =C16*D16 -> 1452 | F16: novembris, decembris
... B18: Līķu rati | C18: 2 | D18: 4840 | E18: =C18*D18 -> 9680 | F18: novembris, decembris
E19: =ROUNDUP(SUM(E5:E18),0) -> 108446
B21: Papildus nepieciešamais finansējums 2021.gadā (oktobris, novembris, decembris) avanss | E21: =E19 -> 108446
B22: Papildus nepieciešamais finansējums 2022.gadā (janvāris, februāris, marts)

Sheet BALVI un Gulbene
E1: 1.7. pielikums Informatīvajam ziņojumam “Par papildus gultu izvēršanu un resursiem Covid-19 pacientu ārstēšanai”
A3: SIA “Balvu un Gulbenes slimnīcu apvienība” nepieciešamās iekārtas un aprīkojums papildu Covid-19 pacientu gultu aprīkošanai.
B4: Nosaukums | C4: Mērvienība (m2/gab) | D4: Cena, euro | E4: Summa, euro | F4: Pasākuma īstenošanas termiņi
A5: 1 | B5: Baktericīdais recirkulators NEXA Prolux G M30WA ar statīvu (izolators) | C5: 8 | D5: 118.75 | E5: =C5*D5 -> 950 | F5: 2021.gada 17.novembris
A6: 2 | B6: Pacientu monitors | C6: 2 | D6: 2500 | E6: =C6*D6 -> 5000 | F6: 2021.gada 15.decembris
A7: 3 | B7: Perfuzors | C7: 2 | D7: 1150 | E7: =C7*D7 -> 2300 | F7: 2021.gada 19.novembris
A8: 4 | B8: Slūžas | C8: 14m2 | D8: 750 | E8: =D8 -> 750 | F8: 2021.gada 17.novembris
A9: 5 | B9: Pretizgulējumu matrači | C9: 10 | D9: 200 | E9: =C9*D9 -> 2000 | F9: 2021.gada 3.decembris
E10: =SUM(E5:E9) -> 11000
B12: Papildus nepieciešamais finansējums 2021.gadā (oktobris, novembris, decembris) avanss | E12: =E10 -> 11000
B13: Papildus nepieciešamais finansējums 2022.gadā (janvāris, februāris, marts)

Sheet RPNC_Moduļu_aprikojums
E1: 1.8. pielikums Informatīvajam ziņojumam “Par papildus gultu izvēršanu un resursiem Covid-19 pacientu ārstēšanai”
A3: Valsts sabiedrība ar ierobežotu atbildību “Rīgas psihiatrijas un narkoloģijas centrs” nepieciešamās iekārtas un aprīkojums papildu Covid-19 pacientu gultu aprīkošanai (moduļu ēka)
A4: Medicīnas ierīce | B4: Cena EUR bez PVN | C4: Cena EUR ar PVN | D4: Skaits | E4: Kopā EUR (bez PVN) | F4: Kopā EUR (ar PVN) | G4: Pasākuma īstenošanas termiņi
A5: Funkcionālā gulta | B5: 1500 | C5: =B5*1.21 -> 1815 | D5: 12 | E5: =B5*D5 -> 18000 | F5: =D5*C5 -> 21780 | G5: 2022.gada I pusgads
A6: Matracis | B6: 300 | C6: =B6*1.21 -> 363 | D6: 7 | E6: =B6*D6 -> 2100 | F6: =D6*C6 -> 2541
A7: Slīdmatracis pacientu pārvietošanai | B7: 454 | C7: =B7*1.21 -> 549.34 | D7: 1 | E7: =B7*D7 -> 454 | F7: =D7*C7 -> 549.34
A8: Aktīvais pretizgulējumu matracis ar kompresoru | B8: 1000 | C8: =B8*1.21 -> 1210 | D8: 5 | E8: =B8*D8 -> 5000 | F8: =D8*C8 -> 6050
A9: Pacientu monitori ar pulsaoksimetriem, ar asinsspiediena automātisko mērīšanu un EKG | B9: 2500 | C9: =B9*1.21 -> 3025 | D9: 2 | E9: =B9*D9 -> 5000 | F9: =D9*C9 -> 6050
A10: Pulsoksimetri ar lādētāju | B10: 60 | C10: =B10*1.21 -> 72.6 | D10: 5 | E10: =B10*D10 -> 300 | F10: =D10*C10 -> 363
A11: Stacionārie pulsoksimetri | B11: 500 | C11: =B11*1.21 -> 605 | D11: 1 | E11: =B11*D11 -> 500 | F11: =D11*C11 -> 605
A12: Procedūru galds (pārvietojamais) | B12: 2000 | C12: =B12*1.21 -> 2420 | D12: 1 | E12: =B12*D12 -> 2000 | F12: =D12*C12 -> 2420
A13: Slūžu aizkari | B13: 1500 | C13: =B13*1.21 -> 1815 | D13: 1 | E13: =B13*D13 -> 1500 | F13: =D13*C13 -> 1815
A14: Mobilās telpu dezinfekcijas iekārtas | B14: 4200 | C14: =B14*1.21 -> 5082 | D14: 1 | E14: =B14*D14 -> 4200 | F14: =D14*C14 -> 5082
A15: Skābekļa koncentratori | B15: 950 | C15: =B15*1.21 -> 1149.5 | D15: 1 | E15: =B15*D15 -> 950 | F15: =D15*C15 -> 1149.5
A16: Medicīniskie perfuzori | B16: 1000 | C16: =B16*1.21 -> 1210 | D16: 2 | E16: =B16*D16 -> 2000 | F16: =D16*C16 -> 2420
A17: Pacientu sēdrati | B17: 500 | C17: =B17*1.21 -> 605 | D17: 1 | E17: =B17*D17 -> 500 | F17: =D17*C17 -> 605
... A35: Bīstamo atkritumu statīvs | B35: 760 | C35: =B35*1.21 -> 919.6 | D35: 1 | E35: =B35*D35 -> 760 | F35: =D35*C35 -> 919.6
D36: KOPĀ | E36: =SUM(E5:E35) -> 59424 | F36: =ROUNDUP(SUM(F5:F35),0) -> 71904
A38: Papildus nepieciešamais finansējums 2021.gadā (oktobris, novembris, decembris) avanss | F38: =F36 -> 71904

Sheet RPNC_Slimnica
E1: 1.9. pielikums Informatīvajam ziņojumam “Par papildus gultu izvēršanu un resursiem Covid-19 pacientu ārstēšanai”
A3: Valsts sabiedrība ar ierobežotu atbildību “Rīgas psihiatrijas un narkoloģijas centrs” nepieciešamās iekārtas un aprīkojums papildu Covid-19 pacientu gultu aprīkošanai (nodaļas, uzņemšana)
A4: Medicīnas ierīce | B4: Cena EUR bez PVN | C4: Cena EUR ar PVN | D4: Skaits | E4: Kopā EUR (bez PVN) | F4: Kopā EUR (ar PVN) | G4: Pasākuma īstenošanas termiņi
A5: Funkcionālā gulta | B5: 1500 | C5: =B5*1.21 -> 1815 | D5: 10 | E5: =B5*D5 -> 15000 | F5: =D5*C5 -> 18150 | G5: 2022.gada I pusgads
A6: Aktīvais pretizgulējumu matracis ar kompresoru | B6: 1000 | C6: =B6*1.21 -> 1210 | D6: 10 | E6: =B6*D6 -> 10000 | F6: =D6*C6 -> 12100
A7: Stacionārie pulsoksimetri | B7: 500 | C7: =B7*1.21 -> 605 | D7: 1 | E7: =B7*D7 -> 500 | F7: =D7*C7 -> 605
A8: Aizslietņi | B8: 200 | C8: =B8*1.21 -> 242 | D8: 4 | E8: =B8*D8 -> 800 | F8: =D8*C8 -> 968
A9: Medicīniskie perfuzori | B9: 1000 | C9: =B9*1.21 -> 1210 | D9: 6 | E9: =B9*D9 -> 6000 | F9: =D9*C9 -> 7260
A10: Pacientu vitālo funkciju novērošanas monitors | B10: 1714 | C10: =B10*1.21 -> 2073.94 | D10: 2 | E10: =B10*D10 -> 3428 | F10: =D10*C10 -> 4147.88
A11: Automātiskie tonometri | B11: 105 | C11: =B11*1.21 -> 127.05 | D11: 5 | E11: =B11*D11 -> 525 | F11: =D11*C11 -> 635.25
A12: Fonendoskopi | B12: 25 | C12: =B12*1.21 -> 30.25 | D12: 5 | E12: =B12*D12 -> 125 | F12: =D12*C12 -> 151.25
A13: Vakuuma sūknis | B13: 2000 | C13: =B13*1.21 -> 2420 | D13: 1 | E13: =B13*D13 -> 2000 | F13: =D13*C13 -> 2420
A14: Automātiskā virsmas dezinfekcijas iekārta | B14: 5000 | C14: =B14*1.21 -> 6050 | D14: 1 | E14: =B14*D14 -> 5000 | F14: =D14*C14 -> 6050
A15: Pacientu sēdrati | B15: 500 | C15: =B15*1.21 -> 605 | D15: 1 | E15: =B15*D15 -> 500 | F15: =D15*C15 -> 605
A16: Dušas krēsls | B16: 130 | C16: =B16*1.21 -> 157.3 | D16: 4 | E16: =B16*D16 -> 520 | F16: =D16*C16 -> 629.2
A17: Skābekļa koncentratori | B17: 950 | C17: =B17*1.21 -> 1149.5 | D17: 1 | E17: =B17*D17 -> 950 | F17: =D17*C17 -> 1149.5
... A26: Mobilās telpu dezinfekcijas iekārtas | B26: 4200 | C26: =B26*1.21 -> 5082 | D26: 2 | E26: =B26*D26 -> 8400 | F26: =D26*C26 -> 10164
D27: KOPĀ | E27: =SUM(E5:E26) -> 99968 | F27: =ROUND(SUM(F5:F26),0) -> 120961
A29: Papildus nepieciešamais finansējums 2021.gadā (oktobris, novembris, decembris) avanss | F29: =F27 -> 120961

Sheet DZEMDIBU_NAMS
E1: 1.10. pielikums Informatīvajam ziņojumam “Par papildus gultu izvēršanu un resursiem Covid-19 pacientu ārstēšanai”
A2: SIA "Rīgas Dzemdību nams" nepieciešamās iekārtas un aprīkojums papildu Covid-19 pacientu gultu aprīkošanai.
B3: Nosaukums | C3: Iepērkamais daudzums | D3: Cena par vienu vienību bez PVN, EUR | E3: Kopējā līgumcena bez PVN, EUR | F3: Kopējā līgumcena ar PVN, EUR | G3: Pasākuma īstenošanas termiņi
B4: Elektriski regulējama dzemdību gulta-galds | C4: 2 | D4: 17200 | E4: =C4*D4 -> 34400 | F4: =E4*1.21 -> 41624 | G4: oktobris, novembris, decembris, janvāris, februāris
B5: Perfuzors – infūzijas sūknis dozētai medikamentu ievadei | C5: 4 | D5: 567.5 | E5: =C5*D5 -> 2270 | F5: =E5*1.21 -> 2746.7 | G5: oktobris, novembris, decembris, janvāris, februāris
B6: Termostats infūziju šķīdumu sildīšanai | C6: 1 | D6: 850 | E6: =C6*D6 -> 850 | F6: =E6*1.21 -> 1028.5 | G6: oktobris, novembris, decembris, janvāris, februāris
B7: Ķirurģiskais vakuumsūknis | C7: 2 | D7: 2500 | E7: =C7*D7 -> 5000 | F7: =E7*1.21 -> 6050 | G7: oktobris, novembris, decembris, janvāris, februāris
B8: Pacienta vitālo funkciju novērošanas monitors | C8: 3 | D8: 3870 | E8: =C8*D8 -> 11610 | F8: =E8*1.21 -> 14048.1 | G8: oktobris, novembris, decembris, janvāris, februāris
B9: Virsmu dezinfekcijas iekārta automātiskai virsmu dezinfekcijai | C9: 1 | D9: 4509.6 | E9: =C9*D9 -> 4509.6 | F9: =E9*1.21 -> 5456.616 | G9: oktobris, novembris, decembris, janvāris, februāris
B10: Kardiotokogrāfs (bezvadu) | C10: 3 | D10: 8950 | E10: =C10*D10 -> 26850 | F10: =E10*1.21 -> 32488.5 | G10: oktobris, novembris, decembris, janvāris, februāris
B11: Elektriskā gaisa attīrīšanas ierīce | C11: 1 | D11: 4475 | E11: =C11*D11 -> 4475 | F11: =E11*1.21 -> 5414.75 | G11: oktobris, novembris, decembris, janvāris, februāris
B12: Izmeklējumu lampa LED uz statīva | C12: 2 | D12: 1170 | E12: =C12*D12 -> 2340 | F12: =E12*1.21 -> 2831.4 | G12: oktobris, novembris, decembris, janvāris, februāris
B13: Elektrokoagulators ar nepieciešamajiem aksesuāriem | C13: 1 | D13: 2077.44 | E13: =C13*D13 -> 2077.44 | F13: =E13*1.21 -> 2513.7024 | G13: oktobris, novembris, decembris, janvāris, februāris
B14: Elektroniskie zīdaiņu (jaundzimušo) medicīniskie svari | C14: 3 | D14: 248 | E14: =C14*D14 -> 744 | F14: =E14*1.21 -> 900.24 | G14: oktobris, novembris, decembris, janvāris, februāris
B15: Galdiņš (procedūru) medikamentu, materiāla un aprūpes priekšmetu novietošanai | C15: 3 | D15: 770 | E15: =C15*D15 -> 2310 | F15: =E15*1.21 -> 2795.1 | G15: oktobris, novembris, decembris, janvāris, februāris
... B17: Augstas plūsmas skābekļa padeves iekārta | C17: 1 | D17: 5400 | E17: =C17*D17 -> 5400 | F17: =E17*1.21 -> 6534 | G17: oktobris, novembris, decembris, janvāris, februāris
E18: =ROUNDUP(SUM(E4:E17),0) -> 140837 | F18: =ROUNDUP(SUM(F4:F17),0) -> 170412
B20: Papildus nepieciešamais finansējums 2021.gadā (oktobris, novembris, decembris) avanss | F20: =ROUND(F18*0.7,0) -> 119288
B21: Papildus nepieciešamais finansējums 2022.gadā (janvāris, februāris, marts) | F21: =ROUNDUP(F18*0.3,0) -> 51124
