Workbook
Name __xlfn_SUMIFS: #N/A
Name _1_2_d_NMP_lim: #REF!
Name aa: #REF!
Name an: #REF!
Name b: #REF!
Name bt: #REF!
Name BX: #REF!
Name CalendarYear: #REF!
Name ccc: #REF!
Name d: #REF!
Name D_Evija3: #REF!
Name DaysAndWeeks: {0,1,2,3,4,5,6} + {0;1;2;3;4;5}*7
Name DaysAndWeeks: {0,1,2,3,4,5,6} + {0;1;2;3;4;5}*7
Name de: #REF!
Name dff: #NAME?
Name dgdfs: #REF!
Name DRGNAMES: #REF!
Name e: #REF!
Name ee: #REF!
Name Excel_BuiltIn__FilterDatabase_2: #REF!
Name Excel_BuiltIn__FilterDatabase_3: #REF!
Name Excel_BuiltIn_Print_Titles_2: #REF!
Name Excel_BuiltIn_Print_Titles_3: #REF!
Name FF: {0,1,2,3,4,5,6} + {0;1;2;3;4;5}*7
Name gad_skaits: #REF!
Name gad_skaits_1: #REF!
Name gala: {0,1,2,3,4,5,6} + {0;1;2;3;4;5}*7
Name gala: {0,1,2,3,4,5,6} + {0;1;2;3;4;5}*7
Name Gala_kopsavilkums: #REF!
Name gggg: #REF!
Name ghy: #REF!
Name h: #REF!
Name hh: #REF!
Name hjgd: #REF!
Name hjh: #REF!
Name hyh: #REF!
Name i: #REF!
Name izm.kods: #REF!
Name izm.kods_1: [2]izm.posteni!$A$2:$A$216
Name izm.kods_1: [2]izm.posteni!$A$2:$A$216
Name izm.nos: #REF!
Name izm.nos_1: [2]izm.posteni!$B$2:$B$216
Name izm.nos_1: [2]izm.posteni!$B$2:$B$216
Name jhg: #REF!
Name kfy: #REF!
Name kgd: #REF!
Name kk: #REF!
Name kkk: [3]Macro1!$A$74
Name l: #REF!
Name Limeni_7_9group: #REF!
Name Macro1: #REF!
Name Macro2: #REF!
Name Macro3: #REF!
Name Macro4: #REF!
Name Macro5: #REF!
Name Macro6: #REF!
Name Macro7: #REF!
Name Macro8: #REF!
Name med: {0,1,2,3,4,5,6} + {0;1;2;3;4;5}*7
Name MEDIK_1: #REF!

Sheet KOPSAVILKUMS
M1: Pielikums "Plāns reto slimību jomā 2026. – 2027. gadam"
A2: Nr. p.k. | B2: Pasākums | C2: Darbības rezultāts | D2: Rezultatīvais rādītājs | E2: Budžeta programmas (apakšprogrammas kods un nosaukums) | F2: Uzdevumu īstenošanai plānotais finansējums atbilstoši likumam "Par valsts budžetu 2025.gadam un budžeta ietvaru 2025., 2026. un 2027.gadam"** | I2: Nepieciešamais papildu finansējums | M2: Atbildīgā institūcija | N2: Līdzatbildīgās institūcijas | O2: Finansējuma avots | P2: Izpildes termiņš
F3: 2026.gads | G3: 2027.gads | H3: 2028.gads | I3: 2026.gads | J3: 2027.gads | K3: Turpmākajā laikposmā līdz pasākuma pabeigšanai (ja pasākuma īstenošana ir terminēta) | L3: Turpmāk ik gadu (ja pasākuma izpilde nav terminēta)
A4: KOPĒJAIS NEPIECIEŠAMAIS FINANSĒJUMS PLĀNA REALIZĀCIJAI: | F4: =F5+F6 -> 19557770 | G4: =G5+G6 -> 19557770 | H4: =H5+H6 -> 19557770 | I4: =I5+I6 -> 218000 | J4: =J5+J6 -> 32041462 | K4: =K5+K6 -> 0 | L4: =L5+L6 -> 35431262
B5: Finansējums valsts pamatfunkciju īstenošanai | F5: =F8+F18 -> 19557770 | G5: =G8+G18 -> 19557770 | H5: =H8+H18 -> 19557770 | I5: =I8+I18 -> 0 | J5: =J8+J18 -> 31734295 | K5: =K8+K18 -> 0 | L5: =L8+L18 -> 35396382
B6: Finansējums ES politiku instrumentu un pārējās ĀFP līdzfinansēto un finansēto projektu un pasākumu īstenošanai | F6: =F9+F19 -> 0 | G6: =G9+G19 -> 0 | H6: =H9+H19 -> 0 | I6: =I9+I19 -> 218000 | J6: =J9+J19 -> 307167 | K6: =K9+K19 -> 0 | L6: =L9+L19 -> 34880
B7: Veselības ministrija | F7: =F8+F9 -> 19557770 | G7: =G8+G9 -> 19557770 | H7: =H8+H9 -> 19557770 | I7: =I8+I9 -> 0 | J7: =J8+J9 -> 32006582 | K7: =K8+K9 -> 0 | L7: =L8+L9 -> 35396382
D8: VBF | F8: =F10+F11+F12+F13+F14+F15 -> 19557770 | G8: =G10+G11+G12+G13+G14+G15 -> 19557770 | H8: =H10+H11+H12+H13+H14+H15 -> 19557770 | I8: =I10+I11+I12+I13+I14+I15 -> 0 | J8: =J10+J11+J12+J13+J14+J15 -> 31734295 | K8: =K10+K11+K12+K13+K14+K15 -> 0 | L8: =L10+L11+L12+L13+L14+L15 -> 35396382
D9: ES fondi | F9: =F16 -> 0 | G9: =G16 -> 0 | H9: =H16 -> 0 | I9: =I16 -> 0 | J9: =J16 -> 272287 | K9: =K16 -> 0 | L9: =L16 -> 0
E10: 33.03.00 "Kompensējamo medikamentu un materiālu apmaksāšana" | F10: =F48 -> 16798958 | G10: =G48 -> 16798958 | H10: =H48 -> 16798958 | I10: =I48 -> 0 | J10: =J48 -> 28249964 | K10: =K48 -> 0 | L10: =L48 -> 32162051
E11: 33.04.00 "Centralizēta medikamentu un materiālu iegāde" | F11: =F52 -> 0 | G11: =G52 -> 0 | H11: =H52 -> 0 | I11: =I52 -> 0 | J11: =J52 -> 31682 | K11: =K52 -> 0 | L11: =L52 -> 31682
E12: 33.14.00 "Primārās ambulatorās veselības aprūpes nodrošināšana" | F12: =F40+F53 -> 10000 | G12: =G40+G53 -> 10000 | H12: =H40+H53 -> 10000 | I12: =I40+I53 -> 0 | J12: =J40+J53 -> 5576 | K12: =K40+K53 -> 0 | L12: =L40+L53 -> 5576
E13: 33.15.00 "Laboratorisko izmeklējumu nodrošināšana ambulatorajā aprūpē" | F13: =F22+F30+F31 -> 2270035 | G13: =G22+G30+G31 -> 2270035 | H13: =H22+H30+H31 -> 2270035 | I13: =I22+I30+I31 -> 0 | J13: =J22+J30+J31 -> 360977 | K13: =K22+K30+K31 -> 0 | L13: =L22+L30+L31 -> 360977
E14: 33.16.00 "Pārējo ambulatoro veselības aprūpes pakalpojumu nodrošināšana" | F14: =F26+F27+F29+F35+F36 -> 310777 | G14: =G26+G27+G29+G35+G36 -> 310777 | H14: =H26+H27+H29+H35+H36 -> 310777 | I14: =I26+I27+I29+I35+I36 -> 0 | J14: =J26+J27+J29+J35+J36 -> 2836096 | K14: =K26+K27+K29+K35+K36 -> 0 | L14: =L26+L27+L29+L35+L36 -> 2836096
E15: 33.21.00 "Stacionāro veselības aprūpes pakalpojumu nodrošināšana" | F15: =F23+F54 -> 168000 | G15: =G23+G54 -> 168000 | H15: =H23+H54 -> 168000 | I15: =I23+I54 -> 0 | J15: =J23+J54 -> 250000 | K15: =K23+K54 -> 0 | L15: =L23+L54 -> 0
E16: 63.08.00 "Eiropas Sociālā fonda Plus (ESF+) projektu īstenošana (2021-2027)" | F16: =F44+F50+F73 -> 0 | G16: =G44+G50+G73 -> 0 | H16: =H44+H50+H73 -> 0 | I16: =I44+I50+I73 -> 0 | J16: =J44+J50+J73 -> 272287 | K16: =K44+K50+K73 -> 0 | L16: =L44+L50+L73 -> 0
B17: Finanšu ministrija | F17: =F18+F19 -> 0 | G17: =G18+G19 -> 0 | H17: =H18+H19 -> 0 | I17: =I18+I19 -> 218000 | J17: =J18+J19 -> 34880 | K17: =K18+K19 -> 0 | L17: =L18+L19 -> 34880
D18: VBF
D19: ES fondi | F19: =F20 -> 0 | G19: =G20 -> 0 | H19: =H20 -> 0 | I19: =I20 -> 218000 | J19: =J20 -> 34880 | K19: =K20 -> 0 | L19: =L20 -> 34880
E20: 62.10.00 “Eiropas Reģionālās attīstības fonda (ERAF) avansa maksājumi un atmaksas finansējuma saņēmējiem (2021 - 2027)” | F20: =F62 -> 0 | G20: =G62 -> 0 | H20: =H62 -> 0 | I20: =I62 -> 218000 | J20: =J62 -> 34880 | K20: =K62 -> 0 | L20: =L62 -> 34880
A21: 1. Rīcības virziens | C21: RS agrīna un savlaicīga diagnostika | F21: =SUM(F22:F32) -> 2580812 | G21: =SUM(G22:G32) -> 2580812 | H21: =SUM(H22:H32) -> 2580812 | I21: =SUM(I22:I32) -> 0 | J21: =SUM(J22:J32) -> 3290029 | K21: =SUM(K22:K32) -> 0 | L21: =SUM(L22:L32) -> 3040029
A22: 1.1. | B22: Paplašināts jaundzimušo skrīnings, pilnveidota tā nodrošināšana un ieviesta monitorēšana | C22: 1.1.1. Paplašināt visu jaundzimušo skrīningu | D22: Visu jaundzimušo skrīnings paplašināts, iekļaujot vēl divu slimību analīzes | E22: 33.15.00 "Laboratorisko izmeklējumu nodrošināšana ambulatorajā aprūpē" (Veselības ministrija) | F22: 245014 | G22: 245014 | H22: 245014 | I22: 0 | J22: 0 | K22: 0 | L22: 0 | M22: VM | N22: BKUS, NVD | O22: Esošā budžeta ietvaros | P22: 2026.gads
C23: 1.1.2. Nodrošināta jaundzimušo skrīninga nepārtrauktība un tehnoloģiskā attīstība | D23: Iegādātas nepieciešamās iekārtas jaundzimušo skrīninga nepārtrauktības un tehnoloģiskās attīstības nodrošināšanai | E23: 33.21.00 Stacionāro veselības aprūpes pakalpojumu nodrošināšana (Veselības ministrija) | F23: 0 | G23: 0 | H23: 0 | I23: ='1.1.2.'!D4 -> 0 | J23: ='1.1.2.'!E4 -> 250000 | K23: 0 | L23: ='1.1.2.'!F4 -> 0 | M23: NVD | N23: VM, BKUS | O23: VBF | P23: 2027.gads
C24: 1.1.3. Nodrošināta vienota pieeja skrīninga izmeklējumu veikšanai iepriekš neskrīnētiem bērniem. | D24: 1) Izstrādāti kritēriji jaundzimušo skrīninga veikšanai bērniem, kuriem jaundzimušo skrīnings nav veikts vai ir veikts citā valstī. | F24: 0 | G24: 0 | H24: 0 | I24: 0 | J24: 0 | K24: 0 | L24: 0 | M24: NVD, VM | N24: BKUS | O24: Esošā budžeta ietvaros | P24: 2026.gads
D25: 2) Izstrādāts rīcības algoritmu par bērniem, kuriem jaundzimušo skrīnings nav veikts | F25: 0 | G25: 0 | H25: 0 | I25: 0 | J25: 0 | K25: 0 | L25: 0 | O25: Esošā budžeta ietvaros
A26: 1.2. | B26: Nodrošināta valsts apmaksāta preimplantācijas ģenētiskā testēšana | C26: 1.2.1. No valsts budžeta līdzekļiem segtas izmaksas par preimplantācijas ģenētisko diagnostiku (PGT-M, PGT-A, PGT-SR) ģimenēm ar pārmantotu ģenētisku slimību | D26: Preimplantācijas ģenētiskā diagnostika ik gadu nodrošināta vismaz 20 ģimenēm ar pārmantotu ģenētisku slimību | E26: 33.16.00 Pārējo ambulatoro veselības aprūpes pakalpojumu nodrošināšana (Veselības ministrija) | F26: 310777 | G26: 310777 | H26: 310777 | I26: 0 | J26: 0 | K26: 0 | L26: 0 | M26: NVD | N26: BKUS | O26: Esošā budžeta ietvaros | P26: 2026. gads
C27: 1.2.2. Paplašināta valsts apmaksātas medicīniskās apaugļošanas pakalpojumā ietvertie pasākumi, nodrošinot visu embriju PGT-A testēšanu, tādējādi uzlabojot veiksmīgu grūtniecību skaitu | D27: Valsts apmaksātās medicīniskās apaugļošanas pakalpojums ietver visu embriju PGT-A testēšanu | E27: 33.16.00 Pārējo ambulatoro veselības aprūpes pakalpojumu nodrošināšana (Veselības ministrija) | F27: 0 | G27: 0 | H27: 0 | I27: 0 | J27: ='1.2.2.'!C4 -> 2627081 | K27: 0 | L27: =J27 -> 2627081 | M27: NVD | N27: BKUS | O27: VBF | P27: 2027. gads
C28: 1.2.3. Izvērtēta iespēja ieviest SMN1 gēna mutācijas nesēju skrīningu pāriem, kuri plāno grūtniecību | D28: Sagatavoti un iesniegti priekšlikumi normatīvo aktu grozījumiem par SMN1 gēna mutācijas nesēju skrīninga ieviešanu, iekļaujot informāciju par mērķgrupu, skrīninga veikšanas kritērijiem, izmeklējumu veikšanas un finansēšanas kārtību. | F28: 0 | G28: 0 | H28: 0 | I28: 0 | J28: 0 | K28: 0 | L28: 0 | M28: VM, NVD | N28: BKUS | O28: Esošā budžeta ietvaros | P28: 2027. gads
A29: 1.3. | B29: Uzlabota molekulāro ģenētisko izmeklējumu pieejamība | C29: Uzlabota medicīniskās ģenētikas pakalpojumu pieejamība un efektivitāte, palielinot nodrošināto molekulāro ģenētisko izmeklējumu skaitu un paplašinot lokāli (valsts līmenī) veikto izmeklējumu klāstu, tādējādi nodrošinot savlaicīgu un precīzu diagnostiku | D29: Palielināts gadā nodrošināto molekulāro ģenētisko izmeklējumu skaits un paplašināts Latvijā lokāli veicamo molekulāro ģenētisko izmeklējumu klāsts | E29: 33.16.00 Pārējo ambulatoro veselības aprūpes pakalpojumu nodrošināšana (Veselības ministrija) | F29: 0 | G29: 0 | H29: 0 | I29: 0 | J29: ='1.3.'!B4 -> 51971 | L29: ='1.3.'!C4 -> 51971 | M29: VM, NVD | N29: PSKUS, RAKUS, BKUS | O29: VBF | P29: 2027.gads
E30: 33.15.00 Laboratorisko izmeklējumu nodrošināšana ambulatorajā aprūpē (Veselības ministrija) | F30: 2025021 | G30: 2025021 | H30: 2025021 | I30: 0 | J30: ='1.3.'!B5 -> 301262 | L30: ='1.3.'!C5 -> 301262
A31: 1.4. | B31: Paplašināt no valsts budžeta līdzekļiem apmaksājamo laboratorisko izmeklējumu "grozu" | C31: Pakāpeniski paplašināts no valsts budžeta līdzekļiem apmaksājamo laboratorisko izmeklējumu grozs | D31: Palielināts gadā nodrošināto laboratorisko izmeklējumu skaits un pieejamo izmeklējumu klāsts reto slimību pacientiem | E31: 33.15.00 Laboratorisko izmeklējumu nodrošināšana ambulatorajā aprūpē (Veselības ministrija) | F31: 0 | G31: 0 | H31: 0 | I31: 0 | J31: ='1.4.'!B4 -> 59715 | K31: 0 | L31: ='1.4.'!C4 -> 59715 | M31: VM, NVD | N31: PSKUS, RAKUS, BKUS | O31: VBF | P31: 2027.gads
A32: 1.5. | B32: Ieviesti instrumenti nediagnosticēto pacientu atpazīšanai | C32: Izstrādāta nediagnosticēto pacientu programma, kas paredzēta pacientiem ar augsta līmeņa aizdomām par ģenētisku slimību, kuru cēloni nav izdevies noteikt ar pieejamām diagnostikas metodēm | D32: Identificēti nediagnosticētie reto slimību pacienti | F32: 0 | G32: 0 | H32: 0 | I32: 0 | J32: 0 | K32: 0 | L32: 0 | M32: SPKC, NVD | N32: BKUS | O32: Esošā budžeta ietvaros | P32: 2027.gads
A33: 2. Rīcības virziens | C33: Ārstniecības pieejamības un kvalitātes uzlabošana | F33: =SUM(F34:F54) -> 16976958 | G33: =SUM(G34:G54) -> 16976958 | H33: =SUM(H34:H54) -> 16976958 | I33: =SUM(I34:I54) -> 0 | J33: =SUM(J34:J54) -> 28675901 | K33: =SUM(K34:K54) -> 0 | L33: =SUM(L34:L54) -> 32356353
A34: 2.1. | B34: Nodrošināta speciālistu pieejamību un definētas RS aprūpes komandas, nodrošināta speciālistu pieejamība | C34: 2.1.1 KUS definētas RS pacientu aprūpes komandas un nodrošināta speciālistu un pakalpojumu pieejamība | D34: Katras pieaugušo KUS līgumā ar NVD ir noteiktas konkrētas RS grupas, par kurām slimnīca ir atbildīga, nodrošinot šīm grupām atbilstošu speciālistu pieejamību un nepieciešamos veselības aprūpes pakalpojumus | F34: 0 | G34: 0 | H34: 0 | I34: 0 | J34: 0 | K34: 0 | L34: 0 | M34: NVD | N34: BKUS, PSKUS, RAKUS | O34: Esošā budžeta ietvaros | P34: 2027. gads
C35: 2.1.2. Atbilstoši pacientu skaitam nodrošināta speciālistu pieejamība, t.sk. psihologu, pediatrs | D35: RS pacientiem mazinās rinda RS kabineta pakalpojumiem | E35: 33.16.00 Pārējo ambulatoro veselības aprūpes pakalpojumu nodrošināšana (Veselības ministrija) | F35: 0 | G35: 0 | H35: 0 | I35: 0 | J35: ='2.1.2.'!B4 -> 125718 | K35: 0 | L35: ='2.1.2.'!C4 -> 125718 | M35: NVD | N35: BKUS | O35: VBF | P35: 2027. gads
C36: 2.1.3. Stiprināta funkcionālo speciālistu un citu ārstniecības personu iesaiste reto slimību aprūpē bērniem, t.sk. tehniskā ortopēda un podologa pakalpojumi | D36: Podologa pakalpojumi nodrošināti 150 bērniem ar RS gadā. | E36: 33.16.00 Pārējo ambulatoro veselības aprūpes pakalpojumu nodrošināšana (Veselības ministrija) | F36: 0 | G36: 0 | H36: 0 | I36: 0 | J36: ='2.1.3.'!B4 -> 31326 | K36: 0 | L36: ='2.1.3.'!C4 -> 31326 | M36: NVD | N36: BKUS | O36: VBF | P36: 2027. gads
A37: 2.2. | B37: Paplašināt reto slimību kabineta koordinatora funkcijas un pienākumus | C37: Izvērtēt iespēju paplašināt reto slimību kabineta koordinatora funkcijas un pienākumus | D37: 1) Izstrādāti pacienta ceļi reto slimību pacientiem starpsektoriālu pakalpojumu saņemšanai | F37: 0 | G37: 0 | H37: 0 | I37: 0 | J37: 0 | K37: 0 | L37: 0 | M37: VM, LM | N37: BKUS, PSKUS, RAKUS, NVD | O37: Esošā budžeta ietvaros | P37: 2027. gads
D38: 2) Reto slimību kabineta un atbalsta vienībau koordinatori veicina starpsektoriālu pakalpojumu sniegšanu | F38: 0 | G38: 0 | H38: 0 | I38: 0 | J38: 0 | K38: 0 | L38: 0 | M38: NVD | N38: BKUS, PSKUS, RAKUS | O38: Esošā budžeta ietvaros | P38: 2027. gads
A39: 2.3. | B39: Uzlabotu zobārstniecības pakalpojumu pieejamību | C39: 2.3.1. Pieaugušiem RS pacientiem ar funkcionēšanas un garīgās attīstības traucējumiem, kuri neatrodas psihiatriskā profila stacionāros, pieejamas valsts apmaksātāss zobārstniecības vizītes, tostarp ārstēšana vispārējā anestēzijā (narkozē), pielāgojot pakalpojumu atbilstoši katra pacienta individuālajām vajadzībām. | D39: 100 pieaugušiem pacientiem ar RS un funkcionēšanas vai garīgās attīstības traucējumiem ārpus psihiatriskā profila slimnīcām izvērtēts mutes veselības stāvoklis valsts apmaksātu zobārstniecības pakalpojumu saņemšanai 2) Izstrādāti priekšlikumi pieaugušo RS pacientu zobārstniecības pakalpojumu pieejamības nodrošināšanai ar RSKC nosūtījumu | F39: 0 | G39: 0 | H39: 0 | I39: 0 | J39: 0 | K39: 0 | L39: 0 | M39: NVD | N39: RSU Stomatoloģijas institūts | O39: Esošā budžeta ietvaros | P39: 2027. gads
C40: 2.3.2. Nodrošināt zobārstniecības pakalpojumus bērniem ar retām cieto zobu audu patoloģijām | D40: Ik gadu 10 pacientiem nodrošināti zobārstniecības pakalpojumi retu zobu cieto audu patoloģiju gadījumā | E40: 33.14.00 Primārās ambulatorās veselības aprūpes nodrošināšana (Veselības ministrija) | F40: 10000 | G40: 10000 | H40: 10000 | I40: 0 | J40: 0 | K40: 0 | L40: 0 | M40: NVD | N40: RSU Stomatoloģijas institūts | O40: Esošā budžeta ietvaros | P40: 2026. gads
...

Sheet 1.1.2.
F1: Pielikums Nr.1.1.2.
A2: Iegādātas nepieciešamās iekārtas jaundzimušo skrīninga nepārtrauktības un tehnoloģiskās attīstības nodrošināšanai
A3: Apakšprogrammas nosaukums | D3: Papildus nepieciešamais finansējums 2026.gadam, euro | E3: Papildus nepieciešamais finansējums 2027.gadam, euro | F3: Turpmāk ik gadu (ja pasākums nav terminēts)
A4: 33.21.00 “Stacionāro veselības aprūpes pakalpojumu nodrošināšana“ | D4: 0 | E4: =SUM(F8) -> 250000 | F4: 0
A7: Nosaukums | D7: Daudzums | E7: Cena, euro | F7: Summa, euro
A8: Tandēm-masspektrometrs savietojams ar esošo hromatogrāfijas sistēmu | D8: 1 | E8: 250000 | F8: =SUM(D8*E8) -> 250000

Sheet 1.2.2.
AC1: Pielikums Nr.1.2.2.
A2: Paplašināta valsts apmaksātas medicīniskās apaugļošanas pakalpojumā ietvertie pasākumi, nodrošinot visu embriju PGT-A testēšanu
B3: Papildus nepieciešamais finansējums 2027.gadam, euro | C3: Papildus nepieciešamais finansējums turpmāk ik gadu, euro (ja pasākums nav terminēts)
A4: 33.16.00 Pārējo ambulatoro veselības aprūpes pakalpojumu nodrošināšana | B4: =J20 -> 2627081 | C4: =B4 -> 2627081
K6: Ārsta darba samaksa, euro | L6: Māsas darba samaksa, euro | M6: Palīgpersonāla darba samaksa, euro | N6: Soc.nodoklis, % | Q6: Pieskaitāmās un netiešās ražošanas izmaksas | R6: Administratīvās izmaksas | S6: Pārējo pamatlīdzekļu amortizācija
J7: Mēneša darba samaksa | K7: 2304 | L7: 1388 | M7: 925 | Q7: 0.2857 | R7: 0.0202 | S7: 0.0322
J8: 1 minūtes vērtība darba samaksai | K8: =ROUND(K7/9600,4) -> 0.24 | L8: =ROUND(L7/9600,4) -> 0.1446 | M8: =ROUND(M7/9600,4) -> 0.0964 | N8: 0.2359 | P8: Koeficienti
B10: Manipulācijas kods | C10: Manipulācijas nosaukums | D10: Mainīgās izmaksas | R10: Kopējās izmaksas, euro | S10: Pacienta līdzmaksājums, euro | T10: Tarifs, euro | U10: D | V10: S | W10: M | X10: E | Y10: U | Z10: A | AA10: N | AB10: P | AC10: Kopējās izmaksas | AD10: Pacienta līdzmaksājums
D11: Darba laiks (minūtes) | G11: Darba samaksa D, euro | J11: Valsts sociālās adrošināšanas obligātās iemaksas S, euro | K11: Ārstniecības līdzekļi M, euro | N11: Iekārtu amortizācija N, euro | O11: Pieskaitāmās un netiešās ražošanas izmaksas U, euro | P11: Administratīvās izmaksas A, euro | Q11: Pārējo pamatlīdzekļu amortizācija n, euro
D12: ārstam | E12: māsai | F12: jaunākajam personālām | G12: ārstam | H12: māsai | I12: jaunākajam personālam | J12: ārstam, māsai un jaunākajam personālām kopā | K12: M kopā | L12: Medikamenti | M12: Materiāli
B13: JAUNS_5 | C13: PGT-A embriju testēšana vienam paraugam | D13: 90 | E13: 1010 | F13: 0 | G13: =ROUND(D13*K$8,2) -> 21.6 | H13: =ROUND(E13*L$8,2) -> 146.05 | I13: =ROUND(F13*M$8,2) -> 0 | J13: =ROUND((G13+H13+I13)*N$8,2) -> 39.55 | K13: =L13+M13 -> 135.99 | L13: 0 | M13: 135.99 | N13: 37.09 | O13: =ROUND((G13+H13+I13)*Q$7,2) -> 47.9 | P13: =ROUND((G13+H13+I13)*R$7,2) -> 3.39 | Q13: =ROUND((G13+H13+I13)*S$7,2) -> 5.4 | R13: =G13+H13+I13+J13+K13+N13+O13+P13+Q13 -> 436.97 | S13: 0 | T13: =R13+S13 -> 436.97 | U13: =G13+H13+I13 -> 167.65 | V13: =J13 -> 39.55 | W13: =K13 -> 135.99 | X13: 0 | Y13: =O13 -> 47.9 | Z13: =P13 -> 3.39 | AA13: =N13+Q13 -> 42.49 | AB13: 0 | AC13: =U13+V13+W13+X13+Y13+Z13+AA13+AB13 -> 436.97 | AD13: 0
B14: JAUNS_6 | C14: Embrija biopsija | D14: 250 | E14: 0 | F14: 0 | G14: =ROUND(D14*K$8,2) -> 60 | H14: =ROUND(E14*L$8,2) -> 0 | I14: =ROUND(F14*M$8,2) -> 0 | J14: =ROUND((G14+H14+I14)*N$8,2) -> 14.15 | K14: =L14+M14 -> 41.21 | L14: 0 | M14: 41.21 | N14: 17.48 | O14: =ROUND((G14+H14+I14)*Q$7,2) -> 17.14 | P14: =ROUND((G14+H14+I14)*R$7,2) -> 1.21 | Q14: =ROUND((G14+H14+I14)*S$7,2) -> 1.93 | R14: =G14+H14+I14+J14+K14+N14+O14+P14+Q14 -> 153.12 | S14: 0 | T14: =R14+S14 -> 153.12 | U14: =G14+H14+I14 -> 60 | V14: =J14 -> 14.15 | W14: =K14 -> 41.21 | X14: 0 | Y14: =O14 -> 17.14 | Z14: =P14 -> 1.21 | AA14: =N14+Q14 -> 19.41 | AB14: 0 | AC14: =U14+V14+W14+X14+Y14+Z14+AA14+AB14 -> 153.12 | AD14: 0
B16: Manipulācijas kods | C16: Manipulācijas nosaukums | D16: Manip. tarifs, euro | E16: Aprēķinātais tarifs, euro | F16: Pacienta līdzmaksājums, euro | G16: Papildus manip.tarifam nepieciešamais finansējums, euro | H16: Plānotais pacientu skaits gadā | I16: Plānotais manipulāciju skaits vienam pacientam gadā | J16: Nepieciešamais finansējums gadā, euro | K16: Papildu informācija par finanšu ietekmes aprēķināšanu | L16: Plānotie apmaksas nosacījumi
L17: Ambulatori | M17: Dienas stacionārā | N17: Stacionārā | O17: Zvaigznītes (* vai **) | P17: Lielā ķirurģiskā operācija | Q17: Citi apmaksas nosacījumi
B18: JAUNS_5 | C18: PGT-A embriju testēšana vienam paraugam | D18: 0 | E18: =T13 -> 436.97 | F18: 0 | G18: =E18-F18 -> 436.97 | H18: 1113 | I18: 4 | J18: =G18*H18*I18 -> 1945390.4 | L18: 1113 | M18: 0 | N18: 0 | Q18: Samaksa par manipulāciju tiek veikta tikai tad, ja to norāda ārstniecības iestādes, kurām ir līgums ar dienestu par medicīniskās apaugļošanas veikšanu.
B19: JAUNS_6 | C19: Embrija biopsija | D19: 0 | E19: =T14 -> 153.12 | F19: 0 | G19: =E19-F19 -> 153.12 | H19: 1113 | I19: 4 | J19: =G19*H19*I19 -> 681690.24 | L19: 1113 | M19: 0 | N19: 0 | Q19: Samaksa par manipulāciju tiek veikta tikai tad, ja to norāda ārstniecības iestādes, kurām ir līgums ar dienestu par medicīniskās apaugļošanas veikšanu.
I20: Kopā | J20: =ROUND(SUM(J18:J19),0) -> 2627081

Sheet 1.3.
E1: Pielikums Nr.1.3.
A2: Uzlabota molekulāro ģenētisko izmeklējumu pieejamība
A3: Apakšprogrammas nosaukums | B3: Papildus nepieciešamais finansējums 2027.gadam, euro | C3: Papildus nepieciešamais finansējums turpmāk ik gadu, euro (ja pasākums nav terminēts)
A4: 33.16.00 Pārējo ambulatoro veselības aprūpes pakalpojumu nodrošināšana | B4: =E13 -> 51971 | C4: =B4 -> 51971
A5: 33.15.00 Laboratorisko izmeklējumu nodrošināšana ambulatorajā aprūpē | B5: =D16 -> 301262 | C5: =B5 -> 301262
A6: Kopā, euro: | B6: =B4+B5 -> 353233 | C6: =C4+C5 -> 353233
A8: 1) Uzlabota ģenētisko konsutāciju pieejamība
A9: Pakalpojumu programma | B9: Ārstniecības iestāde | C9: Viena pakalpojuma vidējās izmaksas, euro | D9: Papildus konsultāciju skaits | E9: Finanšu ietekme, euro
A10: Ģenētiskā konsultēšana | B10: Bērnu klīniskā universitātes slimnīca, Valsts sabiedrība ar ierobežotu atbildību | C10: 107.85973 | D10: =D20 -> 358.6 | E10: =C10*D10 -> 38678.5
B11: Paula Stradiņa klīniskā universitātes slimnīca, Valsts sabiedrība ar ierobežotu atbildību | C11: 107.85973 | D11: =D21 -> 40.241153 | E11: =C11*D11 -> 4340.4
B12: Rīgas Austrumu klīniskā universitātes slimnīca, Sabiedrība ar ierobežotu atbildību | C12: 107.85973 | D12: =D22 -> 83 | E12: =C12*D12 -> 8952.3577
E13: =ROUND(SUM(E10:E12),0) -> 51971
A14: 2) Uzlabota ģenētisko laboratorijas izmeklējumu pieejamība
A15: Pakalpojumu programma | B15: Vidējās izmeklējuma izmaksas*, euro | C15: Papildus laboratorijas izmeklējumu skaits* | D15: Finanšu ietekme, euro
A16: AP133 - Reto slimību laboratoriskā diagnostika | B16: 625.23 | C16: =D20+D21+D22 -> 481.84115 | D16: =ROUND(B16*C16,0) -> 301262
A17: *atbilstoši 2025.gada 9 mēnešu statsitikai par izmaksām uz 1 unikālo pacientu uz reto slimību laboratoriskajiem izmeklējumiem
A19: Pakalpojumu programma | B19: Ārstniecības iestāde | C19: Plānotais konsultāciju skaits 2025.gadā | D19: Papildus nepieciešamo konsultāciju skaits**
A20: Ģenētiskā konsultēšana | B20: Bērnu klīniskā universitātes slimnīca, Valsts sabiedrība ar ierobežotu atbildību | C20: 1793 | D20: =C20*20% -> 358.6
B21: Paula Stradiņa klīniskā universitātes slimnīca, Valsts sabiedrība ar ierobežotu atbildību | C21: 201.20577 | D21: =C21*20% -> 40.241153
B22: Rīgas Austrumu klīniskā universitātes slimnīca, Sabiedrība ar ierobežotu atbildību | C22: 415 | D22: =C22*20% -> 83
A23: **Papildus nepieciešamais konsultāciju skaits atbilstoši VSIA "Bērnu klīniskā universitātes slimnīca" un Nacionālā veselības dienesta pieņēmumiem un prognozei

Sheet 1.4.
D1: Pielikums Nr.1.4.
A2: Pakāpeniski paplašināts no valsts budžeta līdzekļiem apmaksājamo laboratorisko izmeklējumu grozs
B3: Papildus nepieciešamais finansējums 2027.gadam, euro | C3: Papildus nepieciešamais finansējums turpmāk ik gadu, euro (ja pasākums nav terminēts)
A4: 33.15.00 Laboratorisko izmeklējumu nodrošināšana ambulatorajā aprūpē | B4: =D11 -> 59715 | C4: =B4 -> 59715
A6: Izmeklējums | B6: Prognozējamais tarifs* | C6: Pacientu skaits | D6: Finanšu ietekme, euro
A7: Jauns izmeklējums - IgG4 antivielas neiropātiju gadījumā | B7: 200 | C7: 40 | D7: =B7*C7 -> 8000
A8: Oreksīna noteikšana cerebrospinālajā šķidrumā | B8: 420 | C8: 10 | D8: =B8*C8 -> 4200
A9: LEA izstrādātie reto endokrīno slimību diagnostiskie testi (Kušinga slimības diagnostika) tikai PSKUS | B9: 11.2 | C9: 671 | D9: =B9*C9 -> 7515.2
A10: Biopsijas materiāla, tai skaitā sirds biopsijas, izmeklēšana ārzemēs, ja nav iespējama specifiska izvērtēšana Latvijā | B10: 1000 | C10: 40 | D10: =B10*C10 -> 40000
D11: =ROUND(SUM(D7:D10),0) -> 59715
A12: *Izmeklējumu prognozējamais tarifs atbilstoši iestāžu iesniegtajai informācijai

Sheet 2.1.2.
F1: Pielikums Nr.2.1.2.
A2: Atbilstoši pacientu skaitam nodrošināta psihologa un pediatra pieejamība
A3: Apakšprogrammas nosaukums | B3: Papildus nepieciešamais finansējums 2027.gadam, euro | C3: Papildus nepieciešamais finansējums turpmāk ik gadu, euro (ja pasākums nav terminēts)
A4: 33.16.00 Pārējo ambulatoro veselības aprūpes pakalpojumu nodrošināšana | B4: =F9 -> 125718 | C4: =B4 -> 125718
A6: Ārtsniecības iestāde | B6: Aprūpes epizodes/ Manipulācijas kods | C6: Manipulācijas nosaukums | D6: Tarifs, euro | E6: Skaits* | F6: Finanšu ietekme, euro
A7: VSIA "Bērnu klīniskā universitātes slimnīca" | B7: AE | C7: Pediatra aprūpes epizode** | D7: 33.77 | E7: =8*21*12 -> 2016 | F7: =D7*E7 -> 68080.32
B8: 13028 | C8: Klīniskā un veselības psihologa konsultācija | D8: 28.59 | E8: =8*21*12 -> 2016 | F8: =D8*E8 -> 57637.44
F9: =ROUND(SUM(F7:F8),0) -> 125718
A10: *Papildus nepieciešamais konsutltāciju skaits atbilstoši VSIA "Bērnu klīniskā universitātes slimnīca" un Nacionālā veselības dienesta pieņēmumiem un prognozei
A11: **Atbilstoši Ministru kabineta 2018. gada 28. augusta noteikumu Nr. 555 "Veselības aprūpes pakalpojumu organizēšanas un samaksas kārtība"" 4.pielikumam.

Sheet 2.1.3.
I1: Pielikums Nr.2.1.3.
A2: Stiprināta funkcionālo speciālistu un citu ārstniecības personu iesaiste reto slimību aprūpē bērniem, t.sk. tehniskā ortopēda un podologa pakalpojumi
A3: Apakšprogrammas nosaukums | B3: Papildus nepieciešamais finansējums 2027.gadam, euro | C3: Papildus nepieciešamais finansējums turpmāk ik gadu, euro (ja pasākums nav terminēts)
A4: 33.16.00 Pārējo ambulatoro veselības aprūpes pakalpojumu nodrošināšana | B4: =I12 -> 31326 | C4: =B4 -> 31326
B6: Ārsts | C6: Māsa | D6: Palīgpersonāls | E6: Soc.nodoklis
A7: Mēneša darba samaksa, euro | B7: 2304 | C7: 1388 | D7: 925 | E7: 0.2359
A9: Ārtsniecības iestāde | B9: Kabineta nosaukums | C9: Kabineta plānotais darbības periods mēnešos, gadā | D9: Slodžu plāns gadam | E9: Darba samaksa gadā, euro | F9: VSAOI , euro | G9: Darba samaksa+VSAOI, euro | H9: Kabineta uzturēšanās maksājums, euro*** | I9: Papildus nepieciešamais finansējums gadam, euro
A10: VSIA "Bērnu klīniskā universitātes slimnīca" | B10: Reto slimību kabinets - tehniskais ortopēds* | C10: 12 | D10: 0.5 | E10: =C10*D10*B7 -> 13824 | F10: =E10*E7 -> 3261.0816 | G10: =E10+F10 -> 17085.082 | H10: 1868 | I10: =G10+H10 -> 18953.082
A11: VSIA "Bērnu klīniskā universitātes slimnīca" | B11: Reto slimību kabinets - podologs** | C11: 12 | D11: 0.5 | E11: =C11*D11*C7 -> 8328 | F11: =E11*E7 -> 1964.5752 | G11: =E11+F11 -> 10292.575 | H11: 2080 | I11: =G11+H11 -> 12372.575
I12: =ROUND(SUM(I10:I11),0) -> 31326
A13: *Analoģija Funkcionālo speciālistu kabinetam
A14: **Analoģija Diabētiskās pēdas aprūpes kabinetam
A15: ***Atbilstoši Ministru kabineta 2018. gada 28. augusta noteikumu Nr. 555 "Veselības aprūpes pakalpojumu organizēšanas un samaksas kārtība"" 10.pielikumam.

Sheet 2.4.2.
B1: Pielikums Nr.2.4.2.
A2: Ārstniecības iestādēm un speciālistiem pieejami standartizēti, uz pierādījumiem balstīti klīniskie algoritmi un ceļi reto slimību diagnostikai, ārstēšanai un pacientu aprūpei
A3: Pasākums | B3: Nepieciešamais papildu finansējums, euro*
B4: 2027.gads
A5: Ārstniecības iestādēm un speciālistiem pieejami standartizēti, uz pierādījumiem balstīti klīniskie algoritmi un ceļi reto slimību diagnostikai, ārstēšanai un pacientu aprūpei | B5: 156635
A6: *Eiropas Sociālā fonda (ESF+) finansējums, 2021.-2027.gada plānošanas perioda Darbības programmas 4.1.2.SAM “Uzlabot vienlīdzīgu un savlaicīgu piekļuvi kvalitatīviem, ilgtspējīgiem un izmaksu ziņā pieejamiem veselības aprūpes, veselības veicināšanas un slimību profilakses pakalpojumiem, uzlabojot veselības aprūpes sistēmu efektivitāti un izturētspēju” 4.1.2.7. pasākums "Pilnveidot pacientu drošību un aprūpes kvalitāti". Finansējums atkarīgs no iepirkuma organizēšanas un rezultāta.

Sheet 2.5.3.
G1: Pielikums Nr.2.5.3.
A2: Pacientiem tiek nodrošināti jauni nepieciešamie izmaksu efektīvie reto slimību medikamenti
A3: Grupa | B3: 2027.gads | D3: 2028.gads un turpmāk ik gadu | F3: Nepieciešamais finansējums 2027.gads, euro | G3: Papildus nepieciešamais finansējums turpmāk ik gadu, euro (ja pasākums nav terminēts) | H3: Apakšprogrammas nosaukums
B4: Plānotais pacientu skaits | C4: Vidējās 1 pacienta izmaksas, euro | D4: Plānotais pacientu skaits | E4: Vidējās 1 pacienta izmaksas, euro
A5: Jauni izmaksu efektīvi reto slimību medikamenti | B5: 628 | C5: 44984.019 | D5: 693 | E5: 46409.886 | F5: =ROUND(B5*C5,0) -> 28249964 | G5: =ROUND(D5*E5,0) -> 32162051 | H5: 33.03.00 "Kompensējamo medikamentu un materiālu apmaksāšana"

Sheet 2.6.
B1: Pielikums Nr.2.6.
A2: Veikts reto slimību medikamentu nozīmēšanas, lietošanas un pārtrauksanas izvērtējums
A3: Pasākums | B3: Nepieciešamais papildu finansējums, euro*
B4: 2027.gads
A5: Veikts reto slimību medikamentu nozīmēšanas, lietošanas un pārtrauksanas izvērtējums | B5: 75000
A6: *Eiropas Sociālā fonda (ESF+) finansējums, 2021.-2027.gada plānošanas perioda Darbības programmas 4.1.2.SAM “Uzlabot vienlīdzīgu un savlaicīgu piekļuvi kvalitatīviem, ilgtspējīgiem un izmaksu ziņā pieejamiem veselības aprūpes, veselības veicināšanas un slimību profilakses pakalpojumiem, uzlabojot veselības aprūpes sistēmu efektivitāti un izturētspēju” 4.1.2.7. pasākums "Pilnveidot pacientu drošību un aprūpes kvalitāti".

Sheet 2.7.2.
E1: Pielikums Nr.2.7.2.
A2: Noteiktu diagnožu pieaugušajiem RS pacientiem nodrošināt valsts apmaksātu vakcīnu pret pneimokoku infekciju un Varicella zoster infekciju
B3: Apakšprogrammas nosaukums | C3: Papildus nepieciešamais finansējums 2027.gadam un turpmāk ik gadu | D3: Papildus nepieciešamais finansējums turpmāk ik gadu, euro (ja pasākums nav terminēts)
B4: 33.04.00 "Centralizēta medikamentu un materiālu iegāde" | C4: =ROUND((E9*C17)+(E10*C18),0) -> 31682 | D4: =C4 -> 31682
B5: 33.14.00 Primārās ambulatorās veselības aprūpes nodrošināšana | C5: =ROUND((D13+D14)*(C17+C18),0) -> 5576 | D5: =C5 -> 5576
B6: Kopā, euro: | C6: =C4+C5 -> 37258 | D6: =C6 -> 37258
B8: Vakcīna | C8: Cena bez PVN, eiro | D8: Ar 10% pieaugumu, eiro | E8: Summa ar PVN, eiro
B9: Pret pneimokoku infekciju | C9: 18.18 | D9: =ROUND(C9*1.1,2) -> 20 | E9: =ROUND(D9*1.12,2) -> 22.4
B10: Pret Varicella zoster infekciju | E10: 185.63
B12: Manipulācijas kods | C12: Manipulācijas nosaukums | D12: Tarifs, eiro
B13: 01018 | C13: Konsultācija pirms vakcinācijas | D13: 4.06
B14: 03081 | C14: Vakcīnas ievade | D14: 1.25
B16: Vakcīna | C16: Devu skaits ik gadu*
B17: Pret pneimokoku infekciju | C17: 1000
B18: Pret Varicella zoster infekciju | C18: 50
B19: *Devu skaits saskaņā ar RAKUS sniegto informāciju

Sheet 4.1.1.
C1: Pielikums Nr.4.1.1.
A2: Izstrādāts un ieviests populācijā balstīts RS reģistrs
A3: Pasākums | B3: Nepieciešamais papildu finansējums, euro*
B4: 2026.gads | C4: 2027.gads un turpmāk ik gadu**
A5: Izstrādāts un ieviests populācijā balstīts RS reģistrs | B5: 218000 | C5: 34880
A6: Kopā, euro: | B6: =B5 -> 218000 | C6: =C5 -> 34880
A7: *Attiecīgais finansējums ir indikatīvs un var mainīties precizējot Eiropas Savienības kohēzijas politikas programmas 2021.–2027. gadam 4.1.1.4. pasākums 1. kārtas projekta - Digitālās veselības pakalpojumu attīstīšana (Vienotās veselības nozares elektroniskās informācijas sistēmas pilnveidošana) iekļaujamos uzdevumus.
A8: **Pamatojoties uz 2024. gada 26. novembra Ministru kabineta noteikumu Nr. 747 "Eiropas Savienības kohēzijas politikas programmas 2021.–2027. gadam 4.1.1. specifiskā atbalsta mērķa "Nodrošināt vienlīdzīgu piekļuvi veselības aprūpei un stiprināt veselības sistēmu, tostarp primārās veselības aprūpes noturību" 4.1.1.4. pasākuma "Veselības aprūpes pārvaldības sistēmas stiprināšana un digitalizācija, attīstot digitālos risinājumus" pirmās un otrās projektu iesniegumu atlases kārtas īstenošanas noteikumi" 31. punktu, pasākuma ietvaros projektu īsteno saskaņā ar vienošanos vai līgumu par projekta īstenošanu, bet ne ilgāk kā līdz 2029. gada 31. decembrim.

Sheet 4.4.2.
B1: Pielikums Nr.4.4.2
A2: Īstenotas tālākizglītības programmas ārstniecības personām reto slimību jomā
A3: Pasākums | B3: Nepieciešamais papildu finansējums, euro*
B4: 2027.gads
A5: Īstenotas tālākizglītības programmas ārstniecības personām reto slimību jomā | B5: 40652
A6: *Eiropas Sociālā fonda projekts Nr. 4.1.2.6 “Izglītības iespēju nodrošināšana ārstniecībā iesaistītajām personām”.
