Workbook

Sheet Kopā
H1: 6.pielikums Informatīvajam ziņojumam par izmaiņām slimnīcu tīklā
B2: Gultas dienu tarifs, atbilstoši pārskatītajiem pakalpojumu profiliem
B4: Profilu tarifs (jaunais, no 01.04.24)
D5: D | E5: S | F5: M | G5: E | H5: U | I5: A | J5: N | K5: Papildus izmeklējumi (USG, RTG, EKG)
B6: =ĶIRURĢIJA!B2 -> ĶIRURĢIJA | C6: =ĶIRURĢIJA!N26 -> 140.43 | D6: =ĶIRURĢIJA!F20 -> 66.65 | E6: =ĶIRURĢIJA!G20 -> 15.72 | F6: =ĶIRURĢIJA!H20 -> 10.84 | G6: =ĶIRURĢIJA!I20 -> 7 | H6: =ĶIRURĢIJA!J20 -> 25.14 | I6: =ĶIRURĢIJA!K20 -> 9.57 | J6: =ĶIRURĢIJA!L20+ĶIRURĢIJA!M20 -> 3.86 | K6: =ĶIRURĢIJA!N25 -> 1.65
B7: =GINEKOLOĢIJA!B2 -> GINEKOLOĢIJA | C7: =GINEKOLOĢIJA!N26 -> 142.54 | D7: =GINEKOLOĢIJA!F20 -> 65.95 | E7: =GINEKOLOĢIJA!G20 -> 15.56 | F7: =GINEKOLOĢIJA!H20 -> 10.84 | G7: =GINEKOLOĢIJA!I20 -> 7 | H7: =GINEKOLOĢIJA!J20 -> 24.88 | I7: =GINEKOLOĢIJA!K20 -> 9.47 | J7: =GINEKOLOĢIJA!L20+GINEKOLOĢIJA!M20 -> 5.6 | K7: =GINEKOLOĢIJA!N25 -> 3.24
B8: ='GRŪTNIEČU PAT'!B2 -> GRŪTNIEČU PATOLOĢIJA | C8: ='GRŪTNIEČU PAT'!N26 -> 137.38 | D8: ='GRŪTNIEČU PAT'!F20 -> 64.48 | E8: ='GRŪTNIEČU PAT'!G20 -> 15.21 | F8: ='GRŪTNIEČU PAT'!H20 -> 8.43 | G8: ='GRŪTNIEČU PAT'!I20 -> 7 | H8: ='GRŪTNIEČU PAT'!J20 -> 24.32 | I8: ='GRŪTNIEČU PAT'!K20 -> 9.26 | J8: ='GRŪTNIEČU PAT'!L20+'GRŪTNIEČU PAT'!M20 -> 6.83 | K8: ='GRŪTNIEČU PAT'!N25 -> 1.85
B9: ='DZEMDĪBU PALĪDZĪBA'!B2 -> DZEMDĪBU APRŪPE | C9: ='DZEMDĪBU PALĪDZĪBA'!N26 -> 164.9 | D9: ='DZEMDĪBU PALĪDZĪBA'!F20 -> 79.85 | E9: ='DZEMDĪBU PALĪDZĪBA'!G20 -> 18.83 | F9: ='DZEMDĪBU PALĪDZĪBA'!H20 -> 8.43 | G9: ='DZEMDĪBU PALĪDZĪBA'!I20 -> 7 | H9: ='DZEMDĪBU PALĪDZĪBA'!J20 -> 30.11 | I9: ='DZEMDĪBU PALĪDZĪBA'!K20 -> 11.46 | J9: ='DZEMDĪBU PALĪDZĪBA'!L20+'DZEMDĪBU PALĪDZĪBA'!M20 -> 7.37 | K9: ='DZEMDĪBU PALĪDZĪBA'!N25 -> 1.85
B10: =Pediatrija_specializēta!B2 -> SPECIALIZĒTĀ PEDIATRIJA (BKUS) | C10: =Pediatrija_specializēta!N26 -> 175.06 | D10: =Pediatrija_specializēta!F20 -> 82.79 | E10: =Pediatrija_specializēta!G20 -> 19.53 | F10: =Pediatrija_specializēta!H20 -> 18.23 | G10: =Pediatrija_specializēta!I20 -> 7 | H10: =Pediatrija_specializēta!J20 -> 31.23 | I10: =Pediatrija_specializēta!K20 -> 11.89 | J10: =Pediatrija_specializēta!L20+Pediatrija_specializēta!M20 -> 3.51 | K10: =Pediatrija_specializēta!N25 -> 0.88
B11: ='PEDIATRIJA '!B2 -> PEDIATRIJA | C11: ='PEDIATRIJA '!N26 -> 95.37 | D11: ='PEDIATRIJA '!F20 -> 42.78 | E11: ='PEDIATRIJA '!G20 -> 10.09 | F11: ='PEDIATRIJA '!H20 -> 10.23 | G11: ='PEDIATRIJA '!I20 -> 7 | H11: ='PEDIATRIJA '!J20 -> 16.13 | I11: ='PEDIATRIJA '!K20 -> 6.14 | J11: ='PEDIATRIJA '!L20+'PEDIATRIJA '!M20 -> 2.12 | K11: ='PEDIATRIJA '!N25 -> 0.88
B12: =TERAPIJA!B2 -> TERAPIJA | C12: =TERAPIJA!N26 -> 103.96 | D12: =TERAPIJA!F20 -> 39.38 | E12: =TERAPIJA!G20 -> 9.29 | F12: =TERAPIJA!H20 -> 11.25 | G12: =TERAPIJA!I20 -> 7 | H12: =TERAPIJA!J20 -> 14.85 | I12: =TERAPIJA!K20 -> 5.65 | J12: =TERAPIJA!L20+TERAPIJA!M20 -> 14.07 | K12: =TERAPIJA!N25 -> 2.47
B13: =TRAUMATOLOĢIJA!B2 -> TRAUMATOLOĢIJA | C13: =TRAUMATOLOĢIJA!N26 -> 134.46 | D13: =TRAUMATOLOĢIJA!F20 -> 62.54 | E13: =TRAUMATOLOĢIJA!G20 -> 14.75 | F13: =TRAUMATOLOĢIJA!H20 -> 10.31 | G13: =TRAUMATOLOĢIJA!I20 -> 7 | H13: =TRAUMATOLOĢIJA!J20 -> 23.58 | I13: =TRAUMATOLOĢIJA!K20 -> 8.97 | J13: =TRAUMATOLOĢIJA!L20+TRAUMATOLOĢIJA!M20 -> 4.94 | K13: =TRAUMATOLOĢIJA!N25 -> 2.37
B15: Slimnīcu profilu tarifs (šobrīd spēkā esošais līdz 31.03.2024.)
D16: Darba samaksa | E16: Valsts sociālās apdrošināšanas obligātās iemaksas | F16: Ārstniecības līdzekļi | G16: Izdevumi, saistīti ar pacientu ēdināšanu | H16: Pieskaitāmās un netiešās ražošanas izmaksas | I16: Administratīvie izdevumi | J16: Nolietojums
D17: D | E17: S | F17: M | G17: E | H17: U | I17: A | J17: N
B18: Bērnu klīniskā universitātes slimnīca | C18: 253.68 | D18: 157.02 | E18: 37.04 | F18: 15.34 | G18: 3 | H18: 32.51 | I18: 4.98 | J18: 3.79
B19: Universitātes slimnīcas | C19: 141.55 | D19: 90.72 | E19: 21.4 | F19: 1.73 | G19: 3 | H19: 19.64 | I19: 2.87 | J19: 2.19
B20: Reģionālās slimnīcas | C20: 128.71 | D20: 82.09 | E20: 19.36 | F20: 1.73 | G20: 3 | H20: 17.95 | I20: 2.6 | J20: 1.98
B21: Lokālās slimnīcas | C21: 97.44 | D21: 61.42 | E21: 14.49 | F21: 1.18 | G21: 3 | H21: 13.93 | I21: 1.94 | J21: 1.48
B22: Traumatoloģijas un ortopēdijas slimnīca | C22: 124.5 | D22: 79.04 | E22: 18.65 | F22: 2.03 | G22: 3 | H22: 17.36 | I22: 2.51 | J22: 1.91
B23: Rīgas 2. slimnīca | C23: 124.5 | D23: 79.04 | E23: 18.65 | F23: 2.03 | G23: 3 | H23: 17.36 | I23: 2.51 | J23: 1.91
B24: Nacionālais rehabilitācijas centrs, Vaivari | C24: 106.23 | D24: 67.01 | E24: 15.81 | F24: 1.62 | G24: 3 | H24: 15.04 | I24: 2.13 | J24: 1.62
B25: Rīgas Dzemdību nams | C25: 116.04 | D25: 73.63 | E25: 17.37 | F25: 1.6 | G25: 3 | H25: 16.32 | I25: 2.34 | J25: 1.78
B26: Specializētās slimnīcas psihiatrijā un narkoloģijā | C26: 88.84 | D26: 57.19 | E26: 13.49 | F26: 1.31 | G26: 3 | H26: 11.21 | I26: 1.5 | J26: 1.14
B27: Aprūpes slimnīcas | C27: 55.2 | D27: 33.51 | E27: 7.91 | F27: 1.95 | G27: 3 | H27: 7.31 | I27: 0.86 | J27: 0.66
B28: Hronisko pacientu aprūpe ar ārstēšanās ilgumu līdz 14 gultasdienām | C28: 69.31 | D28: 42.5 | E28: 10.02 | F28: 1.52 | G28: 3 | H28: 9.98 | I28: 1.3 | J28: 0.99
B29: Hronisko pacientu aprūpe no 15. ārstēšanās dienas | C29: 82.29 | D29: 48.56 | E29: 11.45 | F29: 4.83 | G29: 3 | H29: 11.68 | I29: 1.57 | J29: 1.2
... B31: Vienas gultasdienas tarifs zāļu rezistenta tuberkulozes pacienta paliatīvā aprūpei | C31: 55.2 | D31: 33.51 | E31: 7.91 | F31: 1.95 | G31: 3 | H31: 7.31 | I31: 0.86 | J31: 0.66

Sheet ĶIRURĢIJA
N1: 6.1. pielikums
B2: ĶIRURĢIJA | F2: Gultu skaits uz vienu ārstniecības personu | H2: Ārsti - P03 Ķirurgs | I2: Māsa/ ārsta palīgs / vecmāte | J2: Māsas palīgs
F3: ĶIRURĢIJA | H3: 6 | I3: =H3 -> 6 | J3: 5
F4: 16.00-8.00 | H4: dežūrārsti | I4: 6 | J4: 5
C6: Ārstniecības personu slodzes diennaktī | D6: Cilvēkresursa nodrošinājums
E7: Ārstniecības personu laiks (min) gadā | F7: Gd skaits gadā ar 75% noslogotību | G7: Ārstniecības personu laiks (min.) 1 gd
B8: Ārsti (8.00-16.00) | C8: 1 | D8: 1 | E8: =C8*9600*12 -> 115200 | F8: =H3*365*0.75 -> 1642.5 | G8: =ROUND(E8/F8,0) -> 70
B9: Ārstniecības un pacientu aprūpes personas (diena) (MĀSAS) | C9: 1 | D9: 1 | E9: =C9*9600*12 -> 115200 | F9: =I3*365*0.75 -> 1642.5 | G9: =ROUND(E9/F9,0) -> 70
B10: Ārstniecības un pacientu aprūpes atbalsta personas (diena) (MĀSAS PALĪGI) | C10: 1 | D10: 1 | E10: =C10*9600*12 -> 115200 | F10: =J3*365*0.75 -> 1368.75 | G10: =ROUND(E10/F10,0) -> 84
B11: Ārstniecības un pacientu aprūpes personas (16.00-8.00) MĀSAS | C11: 1 | D11: 1 | E11: =C11*9600*12 -> 115200 | F11: =I4*365*0.75 -> 1642.5 | G11: =ROUND(E11/F11,0) -> 70
B12: Ārstniecības un pacientu aprūpes atbalsta persona MĀSU PALĪGI | C12: 1 | D12: 1 | E12: =C12*9600*12 -> 115200 | F12: =J4*365*0.75 -> 1368.75 | G12: =ROUND(E12/F12,0) -> 84
B14: Darba samaksa mēnesī pēc MK555, EUR | C14: 2083 | D14: 1303 | E14: 865
B15: Vienas minūtes vērtība (aprēķinā tikai laboratorijai), EUR | C15: =ROUND(C14/9600,4) -> 0.217 | D15: =ROUND(D14/9600,4) -> 0.1357 | E15: =ROUND(E14/9600,4) -> 0.0901
B16: 16.00-8.00 (no tā 8h nakts darbs un brīvdienas) | D16: ='Darba algas'!BE11 -> 0.1752 | E16: ='Darba algas'!BE14 -> 0.1149
B17: Vienas minūtes vērtība ar atvaļinājuma rezervi, svētku dienām un riska piemaksu, EUR | C17: ='Darba algas'!BE7 -> 0.2319 | D17: ='Darba algas'!BE10 -> 0.1428 | E17: ='Darba algas'!BE13 -> 0.0936 | G17: 0.2359 | H17: Netiešo izmaksu koeficienti | J17: 0.3771 | K17: 0.1435 | L17: 0.0349 | N17: euro
C18: Ārsta laiks (min) | D18: Ārstniecības un pacientu aprūpes personu laiks (min) MĀSAS | E18: Ārstniecības un pacientu aprūpes personu laiks (min) MĀSU PALĪGI | F18: Darba samaksa | G18: Valsts sociālās apdrošināšanas obligātās iemaksas | H18: Ārstniecības līdzekļi | I18: Izdevumi, saistīti ar pacientu ēdināšanu | J18: Pieskaitāmās un netiešās ražošanas izmaksas | K18: Administratīvie izdevumi | L18: Nolietojums | M18: Ierīču nolietojums | N18: Kopā
F19: D | G19: S | H19: M | I19: E | J19: U | K19: A | L19: n | M19: N
F20: =SUM(F21:F24) -> 66.65 | G20: =SUM(G21:G24) -> 15.72 | H20: =SUM(H21:H24) -> 10.84 | I20: =SUM(I21:I24) -> 7 | J20: =SUM(J21:J24) -> 25.14 | K20: =SUM(K21:K24) -> 9.57 | L20: =SUM(L21:L24) -> 2.33 | M20: =SUM(M21:M24) -> 1.53
B21: ĶIRURĢIJA PIEAUGUŠAJIEM - P03 | C21: =G8 -> 70 | D21: =G9 -> 70 | E21: =G10 -> 84 | F21: =ROUND(C21*C$17+D21*D$17+E21*E$17,2) -> 34.09 | G21: =ROUND(F21*G$17,2) -> 8.04 | H21: 8.25 | I21: 7 | J21: =ROUND(F21*$J$17,2) -> 12.86 | K21: =ROUND(F21*$K$17,2) -> 4.89 | L21: =ROUND(F21*$L$17,2) -> 1.19 | M21: 0.96 | N21: =ROUND(SUM(F21:M21),2) -> 77.28
B22: Papildus speciālists (1/2) internists | C22: =C21/2 -> 35 | F22: =ROUND(C22*C$17+D22*D$17+E22*E$17,2) -> 8.12 | G22: =ROUND(F22*G$17,2) -> 1.92 | J22: =ROUND(F22*$J$17,2) -> 3.06 | K22: =ROUND(F22*$K$17,2) -> 1.17 | L22: =ROUND(F22*$L$17,2) -> 0.28 | M22: 0 | N22: =ROUND(SUM(F22:M22),2) -> 14.55
B23: 16.00-8.00 | D23: =G11 -> 70 | E23: =G12 -> 84 | F23: =ROUND(C23*C$16+D23*D$16+E23*E$16,2) -> 21.92 | G23: =ROUND(F23*G$17,2) -> 5.17 | J23: =ROUND(F23*$J$17,2) -> 8.27 | K23: =ROUND(F23*$K$17,2) -> 3.15 | L23: =ROUND(F23*$L$17,2) -> 0.77 | M23: 0 | N23: =ROUND(SUM(F23:M23),2) -> 39.28
B24: LABORATORIJA | C24: 6 | D24: 9 | E24: 0 | F24: =ROUND(C24*C$15+D24*D$15+E24*E$15,2) -> 2.52 | G24: =ROUND(F24*G$17,2) -> 0.59 | H24: 2.59 | J24: =ROUND(F24*$J$17,2) -> 0.95 | K24: =ROUND(F24*$K$17,2) -> 0.36 | L24: =ROUND(F24*$L$17,2) -> 0.09 | M24: =0.66-L24 -> 0.57 | N24: =ROUND(SUM(F24:M24),2) -> 7.67
L25: RTG, USG, EKG | N25: 1.65
M26: KOPĀ GD, EUR | N26: =SUM(N21:N25) -> 140.43

Sheet GINEKOLOĢIJA
N1: 6.2. pielikums
B2: GINEKOLOĢIJA | F2: Gultu skaits uz vienu ārstniecības personu | H2: P14 Ginekologs, dzemdību speciālists | I2: Māsa/ ārsta palīgs / vecmāte | J2: Māsas palīgs
F3: GINEKOLOĢIJA | H3: 6 | I3: =H3 -> 6 | J3: 5
F4: 16.00-8.00 | H4: dežūrārsti | I4: =I3 -> 6 | J4: =J3 -> 5
C6: Ārstniecības personu slodzes diennaktī | D6: Cilvēkresursa nodrošinājums
E7: Ārstniecības personu laiks (min) gadā | F7: Gd skaits gadā ar 75% noslogotību | G7: Ārstniecības personu laiks (min.) 1 gd
B8: Ārsti (8.00-16.00) | C8: 1 | D8: 1 | E8: =C8*9600*12 -> 115200 | F8: =H3*365*0.75 -> 1642.5 | G8: =ROUND(E8/F8,0) -> 70
B9: Ārstniecības un pacientu aprūpes personas (diena) (MĀSAS) | C9: 1 | D9: 1 | E9: =C9*9600*12 -> 115200 | F9: =I3*365*0.75 -> 1642.5 | G9: =ROUND(E9/F9,0) -> 70
B10: Ārstniecības un pacientu aprūpes atbalsta personas (diena) (MĀSAS PALĪGI) | C10: 1 | D10: 1 | E10: =C10*9600*12 -> 115200 | F10: =J3*365*0.75 -> 1368.75 | G10: =ROUND(E10/F10,0) -> 84
B11: Ārstniecības un pacientu aprūpes personas (16.00-8.00) MĀSAS | C11: 1 | D11: 1 | E11: =C11*9600*12 -> 115200 | F11: =I4*365*0.75 -> 1642.5 | G11: =ROUND(E11/F11,0) -> 70
B12: Ārstniecības un pacientu aprūpes atbalsta persona MĀSU PALĪGI | C12: 1 | D12: 1 | E12: =C12*9600*12 -> 115200 | F12: =J4*365*0.75 -> 1368.75 | G12: =ROUND(E12/F12,0) -> 84
B14: Darba samaksa mēnesī, EUR | C14: 2083 | D14: 1303 | E14: 865
B15: Vienas minūtes vērtība (laboratorija), EUR | C15: =ROUND(C14/9600,4) -> 0.217 | D15: =ROUND(D14/9600,4) -> 0.1357 | E15: =ROUND(E14/9600,4) -> 0.0901
B16: 16.00-8.00 | D16: ='Darba algas'!BE11 -> 0.1752 | E16: ='Darba algas'!BE14 -> 0.1149
B17: Vienas minūtes vērtība ar atvaļinājuma rezervi, svētku dienām un riska piemaksu, EUR | C17: ='Darba algas'!BE7 -> 0.2319 | D17: ='Darba algas'!BE10 -> 0.1428 | E17: ='Darba algas'!BE13 -> 0.0936 | G17: 0.2359 | H17: Netiešo izmaksu koeficienti | J17: 0.3771 | K17: 0.1435 | L17: 0.0349 | N17: euro
C18: Ārsta laiks (min) | D18: Ārstniecības un pacientu aprūpes personu laiks (min) MĀSAS | E18: Ārstniecības un pacientu aprūpes personu laiks (min) MĀSU PALĪGI | F18: Darba samaksa | G18: Valsts sociālās apdrošināšanas obligātās iemaksas | H18: Ārstniecības līdzekļi | I18: Izdevumi, saistīti ar pacientu ēdināšanu | J18: Pieskaitāmās un netiešās ražošanas izmaksas | K18: Administratīvie izdevumi | L18: Nolietojums | M18: Ierīču nolietojums | N18: Kopā
F19: D | G19: S | H19: M | I19: E | J19: U | K19: A | L19: n | M19: N
F20: =SUM(F21:F24) -> 65.95 | G20: =SUM(G21:G24) -> 15.56 | H20: =SUM(H21:H24) -> 10.84 | I20: =SUM(I21:I24) -> 7 | J20: =SUM(J21:J24) -> 24.88 | K20: =SUM(K21:K24) -> 9.47 | L20: =SUM(L21:L24) -> 2.3 | M20: =SUM(M21:M24) -> 3.3
B21: GINEKOLOĢIJA - P14 | C21: =G8 -> 70 | D21: =G9 -> 70 | E21: =G10 -> 84 | F21: =ROUND(C21*C$17+D21*D$17+E21*E$17,2) -> 34.09 | G21: =ROUND(F21*G$17,2) -> 8.04 | H21: 8.25 | I21: 7 | J21: =ROUND(F21*$J$17,2) -> 12.86 | K21: =ROUND(F21*$K$17,2) -> 4.89 | L21: =ROUND(F21*$L$17,2) -> 1.19 | M21: 2.7 | N21: =ROUND(SUM(F21:M21),2) -> 79.02
B22: Papildus speciālists (1/2) | C22: =C21/2 -> 35 | F22: =ROUND(C22*C$17+D22*D$17+E22*E$17,2) -> 8.12 | G22: =ROUND(F22*G$17,2) -> 1.92 | J22: =ROUND(F22*$J$17,2) -> 3.06 | K22: =ROUND(F22*$K$17,2) -> 1.17 | L22: =ROUND(F22*$L$17,2) -> 0.28 | M22: 0 | N22: =ROUND(SUM(F22:M22),2) -> 14.55
B23: 16.00-8.00 | D23: =G11 -> 70 | E23: =G12 -> 84 | F23: =ROUND(C23*C$16+D23*D$16+E23*E$16,2) -> 21.92 | G23: =ROUND(F23*G$17,2) -> 5.17 | J23: =ROUND(F23*$J$17,2) -> 8.27 | K23: =ROUND(F23*$K$17,2) -> 3.15 | L23: =ROUND(F23*$L$17,2) -> 0.77 | M23: 0 | N23: =ROUND(SUM(F23:M23),2) -> 39.28
B24: LABORATORIJA | C24: 4 | D24: 7 | E24: =G15 -> 0 | F24: =ROUND(C24*C$15+D24*D$15+E24*E$15,2) -> 1.82 | G24: =ROUND(F24*G$17,2) -> 0.43 | H24: 2.59 | J24: =ROUND(F24*$J$17,2) -> 0.69 | K24: =ROUND(F24*$K$17,2) -> 0.26 | L24: =ROUND(F24*$L$17,2) -> 0.06 | M24: =0.66-L24 -> 0.6 | N24: =ROUND(SUM(F24:M24),2) -> 6.45
L25: RTG, USG, EKG | N25: 3.24
M26: KOPĀ GD, EUR | N26: =SUM(N21:N25) -> 142.54

Sheet GRŪTNIEČU PAT
N1: 6.3. pielikums
B2: GRŪTNIEČU PATOLOĢIJA | F2: Gultu skaits uz vienu ārstniecības personu | H2: P14 Ginekologs, dzemdību speciālists | I2: Māsa/ ārsta palīgs / vecmāte | J2: Māsas palīgs
F3: Grūtniecības patoloģija | H3: 6 | I3: =H3 -> 6 | J3: 5
F4: 16.00-8.00 | H4: dežūrārsti | I4: 6 | J4: 5
C6: Ārstniecības personu slodzes diennaktī | D6: Cilvēkresursa nodrošinājums
E7: Ārstniecības personu laiks (min) gadā | F7: Gd skaits gadā ar 75% noslogotību | G7: Ārstniecības personu laiks (min.) 1 gd
B8: Ārsti (8.00-16.00) | C8: 1 | D8: 1 | E8: =C8*9600*12 -> 115200 | F8: =H3*365*0.75 -> 1642.5 | G8: =ROUND(E8/F8,0) -> 70
B9: Ārstniecības un pacientu aprūpes personas (diena) (MĀSAS / VECMĀTES) | C9: 1 | D9: 1 | E9: =C9*9600*12 -> 115200 | F9: =I3*365*0.75 -> 1642.5 | G9: =ROUND(E9/F9,0) -> 70
B10: Ārstniecības un pacientu aprūpes atbalsta personas (diena) (MĀSAS PALĪGI) | C10: 1 | D10: 1 | E10: =C10*9600*12 -> 115200 | F10: =J3*365*0.75 -> 1368.75 | G10: =ROUND(E10/F10,0) -> 84
B11: Ārstniecības un pacientu aprūpes personas (16.00-8.00) MĀSAS | C11: 1 | D11: 1 | E11: =C11*9600*12 -> 115200 | F11: =I4*365*0.75 -> 1642.5 | G11: =ROUND(E11/F11,0) -> 70
B12: Ārstniecības un pacientu aprūpes atbalsta persona MĀSU PALĪGI | C12: 1 | D12: 1 | E12: =C12*9600*12 -> 115200 | F12: =J4*365*0.75 -> 1368.75 | G12: =ROUND(E12/F12,0) -> 84
B14: Darba samaksa mēnesī, EUR | C14: 2083 | D14: 1303 | E14: 865
B15: Vienas minūtes vērtība (laboratorija), EUR | C15: =ROUND(C14/9600,4) -> 0.217 | D15: =ROUND(D14/9600,4) -> 0.1357 | E15: =ROUND(E14/9600,4) -> 0.0901
B16: 16.00-8.00 | D16: ='Darba algas'!BE11 -> 0.1752 | E16: ='Darba algas'!BE14 -> 0.1149
B17: Vienas minūtes vērtība ar atvaļinājuma rezervi, svētku dienām un riska piemaksu, EUR | C17: ='Darba algas'!BE7 -> 0.2319 | D17: ='Darba algas'!BE10 -> 0.1428 | E17: ='Darba algas'!BE13 -> 0.0936 | G17: 0.2359 | H17: Netiešo izmaksu koeficienti | J17: 0.3771 | K17: 0.1435 | L17: 0.0349 | N17: euro
C18: Ārsta laiks (min) | D18: Ārstniecības un pacientu aprūpes personu laiks (min) MĀSAS / VECMĀTES | E18: Ārstniecības un pacientu aprūpes personu laiks (min) MĀSU PALĪGI | F18: Darba samaksa | G18: Valsts sociālās apdrošināšanas obligātās iemaksas | H18: Ārstniecības līdzekļi | I18: Izdevumi, saistīti ar pacientu ēdināšanu | J18: Pieskaitāmās un netiešās ražošanas izmaksas | K18: Administratīvie izdevumi | L18: Nolietojums | M18: Ierīču nolietojums | N18: Kopā
F19: D | G19: S | H19: M | I19: E | J19: U | K19: A | L19: n | M19: N
F20: =SUM(F21:F24) -> 64.48 | G20: =SUM(G21:G24) -> 15.21 | H20: =SUM(H21:H24) -> 8.43 | I20: =SUM(I21:I24) -> 7 | J20: =SUM(J21:J24) -> 24.32 | K20: =SUM(K21:K24) -> 9.26 | L20: =SUM(L21:L24) -> 2.25 | M20: =SUM(M21:M24) -> 4.58
B21: GRŪTNIEČU PATOLOĢIJA - P14 | C21: =G8 -> 70 | D21: =G9 -> 70 | E21: =G10 -> 84 | F21: =ROUND(C21*C$17+D21*D$17+E21*E$17,2) -> 34.09 | G21: =ROUND(F21*G$17,2) -> 8.04 | H21: 8.25 | I21: 7 | J21: =ROUND(F21*$J$17,2) -> 12.86 | K21: =ROUND(F21*$K$17,2) -> 4.89 | L21: =ROUND(F21*$L$17,2) -> 1.19 | M21: 4.55 | N21: =ROUND(SUM(F21:M21),2) -> 80.87
B22: Papildus speciālists (1/2) | C22: =C21/2 -> 35 | F22: =ROUND(C22*C$17+D22*D$17+E22*E$17,2) -> 8.12 | G22: =ROUND(F22*G$17,2) -> 1.92 | J22: =ROUND(F22*$J$17,2) -> 3.06 | K22: =ROUND(F22*$K$17,2) -> 1.17 | L22: =ROUND(F22*$L$17,2) -> 0.28 | M22: 0 | N22: =ROUND(SUM(F22:M22),2) -> 14.55
B23: 16.00-8.00 | D23: =G11 -> 70 | E23: =G12 -> 84 | F23: =ROUND(C23*C$16+D23*D$16+E23*E$16,2) -> 21.92 | G23: =ROUND(F23*G$17,2) -> 5.17 | J23: =ROUND(F23*$J$17,2) -> 8.27 | K23: =ROUND(F23*$K$17,2) -> 3.15 | L23: =ROUND(F23*$L$17,2) -> 0.77 | M23: 0 | N23: =ROUND(SUM(F23:M23),2) -> 39.28
B24: LABORATORIJA | C24: 1 | D24: 1 | E24: =G15 -> 0 | F24: =ROUND(C24*C$15+D24*D$15+E24*E$15,2) -> 0.35 | G24: =ROUND(F24*G$17,2) -> 0.08 | H24: 0.18 | J24: =ROUND(F24*$J$17,2) -> 0.13 | K24: =ROUND(F24*$K$17,2) -> 0.05 | L24: =ROUND(F24*$L$17,2) -> 0.01 | M24: 0.03 | N24: =ROUND(SUM(F24:M24),2) -> 0.83
L25: RTG, USG, EKG | N25: 1.85
M26: KOPĀ GD, EUR | N26: =SUM(N21:N25) -> 137.38

Sheet DZEMDĪBU PALĪDZĪBA
N1: 6.4. pielikums
B2: DZEMDĪBU APRŪPE | F2: Gultu skaits uz vienu ārstniecības personu | H2: P14 Ginekologs, dzemdību speciālists | I2: Māsa/ ārsta palīgs / vecmāte | J2: Māsas palīgs
F3: DZEMDĪBU APRŪPE | H3: 20 | I3: 2 | J3: 16
F4: 16.00-8.00 | H4: dežūrārsti | I4: 2 | J4: 16
C6: Ārstniecības personu slodzes diennaktī | D6: Cilvēkresursa nodrošinājums
E7: Ārstniecības personu laiks (min) gadā | F7: Gd skaits gadā ar 75% noslogotību | G7: Ārstniecības personu laiks (min.) 1 gd
B8: Ārsti (8.00-16.00) | C8: 1 | D8: 1 | E8: =C8*9600*12 -> 115200 | F8: =H3*365*0.75 -> 5475 | G8: =ROUND(E8/F8,0) -> 21
B9: Ārstniecības un pacientu aprūpes personas (diena) (MĀSAS / VECMĀTES) | C9: 1 | D9: 1 | E9: =C9*9600*12 -> 115200 | F9: =I3*365*0.75 -> 547.5 | G9: =ROUND(E9/F9,0) -> 210
B10: Ārstniecības un pacientu aprūpes atbalsta personas (diena) (MĀSAS PALĪGI) | C10: 1 | D10: 1 | E10: =C10*9600*12 -> 115200 | F10: =J3*365*0.75 -> 4380 | G10: =ROUND(E10/F10,0) -> 26
B11: Ārstniecības un pacientu aprūpes personas (16.00-8.00) MĀSAS | C11: 1 | D11: 1 | E11: =C11*9600*12 -> 115200 | F11: =I4*365*0.75 -> 547.5 | G11: =ROUND(E11/F11,0) -> 210
B12: Ārstniecības un pacientu aprūpes atbalsta persona MĀSU PALĪGI | C12: 1 | D12: 1 | E12: =C12*9600*12 -> 115200 | F12: =J4*365*0.75 -> 4380 | G12: =ROUND(E12/F12,0) -> 26
B14: Darba samaksa mēnesī, EUR | C14: 2083 | D14: 1303 | E14: 865
B15: Vienas minūtes vērtība (laboratorija), EUR | C15: =ROUND(C14/9600,4) -> 0.217 | D15: =ROUND(D14/9600,4) -> 0.1357 | E15: =ROUND(E14/9600,4) -> 0.0901
B16: 16.00-8.00 | D16: ='Darba algas'!BE11 -> 0.1752 | E16: ='Darba algas'!BE14 -> 0.1149
B17: Vienas minūtes vērtība ar atvaļinājuma rezervi, svētku dienām un riska piemaksu, EUR | C17: ='Darba algas'!BE7 -> 0.2319 | D17: ='Darba algas'!BE10 -> 0.1428 | E17: ='Darba algas'!BE13 -> 0.0936 | G17: 0.2359 | H17: Netiešo izmaksu koeficienti | J17: 0.3771 | K17: 0.1435 | L17: 0.0349 | N17: euro
C18: Ārsta laiks (min) | D18: Ārstniecības un pacientu aprūpes personu laiks (min) MĀSAS / VECMĀTES | E18: Ārstniecības un pacientu aprūpes personu laiks (min) MĀSU PALĪGI | F18: Darba samaksa | G18: Valsts sociālās apdrošināšanas obligātās iemaksas | H18: Ārstniecības līdzekļi | I18: Izdevumi, saistīti ar pacientu ēdināšanu | J18: Pieskaitāmās un netiešās ražošanas izmaksas | K18: Administratīvie izdevumi | L18: Nolietojums | M18: Ierīču nolietojums | N18: Kopā
F19: D | G19: S | H19: M | I19: E | J19: U | K19: A | L19: n | M19: N
F20: =SUM(F21:F24) -> 79.85 | G20: =SUM(G21:G24) -> 18.83 | H20: =SUM(H21:H24) -> 8.43 | I20: =SUM(I21:I24) -> 7 | J20: =SUM(J21:J24) -> 30.11 | K20: =SUM(K21:K24) -> 11.46 | L20: =SUM(L21:L24) -> 2.78 | M20: =SUM(M21:M24) -> 4.59
B21: DZEMDĪBU APRŪPE - P14 | C21: =G8 -> 21 | D21: =G9 -> 210 | E21: =G10 -> 26 | F21: =ROUND(C21*C$17+D21*D$17+E21*E$17,2) -> 37.29 | G21: =ROUND(F21*G$17,2) -> 8.8 | H21: 8.25 | I21: 7 | J21: =ROUND(F21*$J$17,2) -> 14.06 | K21: =ROUND(F21*$K$17,2) -> 5.35 | L21: =ROUND(F21*$L$17,2) -> 1.3 | M21: 4.55 | N21: =ROUND(SUM(F21:M21),2) -> 86.6
B22: Papildus speciālists (1/2) | C22: =C21/2 -> 10.5 | F22: =ROUND(C22*C$17+D22*D$17+E22*E$17,2) -> 2.43 | G22: =ROUND(F22*G$17,2) -> 0.57 | J22: =ROUND(F22*$J$17,2) -> 0.92 | K22: =ROUND(F22*$K$17,2) -> 0.35 | L22: =ROUND(F22*$L$17,2) -> 0.08 | M22: 0 | N22: =ROUND(SUM(F22:M22),2) -> 4.35
B23: 16.00-8.00 | D23: =G11 -> 210 | E23: =G12 -> 26 | F23: =ROUND(C23*C$16+D23*D$16+E23*E$16,2) -> 39.78 | G23: =ROUND(F23*G$17,2) -> 9.38 | J23: =ROUND(F23*$J$17,2) -> 15 | K23: =ROUND(F23*$K$17,2) -> 5.71 | L23: =ROUND(F23*$L$17,2) -> 1.39 | M23: 0 | N23: =ROUND(SUM(F23:M23),2) -> 71.26
B24: LABORATORIJA | C24: 1 | D24: 1 | E24: =G15 -> 0 | F24: =ROUND(C24*C$15+D24*D$15+E24*E$15,2) -> 0.35 | G24: =ROUND(F24*G$17,2) -> 0.08 | H24: 0.18 | J24: =ROUND(F24*$J$17,2) -> 0.13 | K24: =ROUND(F24*$K$17,2) -> 0.05 | L24: =ROUND(F24*$L$17,2) -> 0.01 | M24: 0.04 | N24: =ROUND(SUM(F24:M24),2) -> 0.84
L25: RTG, USG, EKG | N25: 1.85
M26: KOPĀ GD, EUR | N26: =SUM(N21:N25) -> 164.9

Sheet Pediatrija_specializēta
N1: 6.5. pielikums
B2: SPECIALIZĒTĀ PEDIATRIJA (BKUS) | F2: Gultu skaits uz vienu ārstniecības personu | H2: P15 Pediatrs | I2: Māsa/ ārsta palīgs / vecmāte | J2: Māsas palīgs
F3: PEDIATRIJA | H3: 4.6 | I3: 5.4 | J3: 6
F4: 16.00-8.00 | H4: dežūrārsti | I4: 5.4 | J4: 6
C6: Ārstniecības personu slodzes diennaktī | D6: Cilvēkresursa nodrošinājums
E7: Ārstniecības personu laiks (min) gadā | F7: Gd skaits gadā ar 75% noslogotību | G7: Ārstniecības personu laiks (min.) 1 gd
B8: Ārsti (8.00-16.00) | C8: 1 | D8: 1 | E8: =C8*9600*12 -> 115200 | F8: =H3*365*0.75 -> 1259.25 | G8: =ROUND(E8/F8,0) -> 91
B9: Ārstniecības un pacientu aprūpes personas (diena) | C9: 1 | D9: 1 | E9: =C9*9600*12 -> 115200 | F9: =I3*365*0.75 -> 1478.25 | G9: =ROUND(E9/F9,0) -> 78
B10: Ārstniecības un pacientu aprūpes atbalsta personas (diena) | C10: 1 | D10: 1 | E10: =C10*9600*12 -> 115200 | F10: =J3*365*0.75 -> 1642.5 | G10: =ROUND(E10/F10,0) -> 70
B11: Ārstniecības un pacientu aprūpes personas (16.00-8.00) | C11: 1 | D11: 1 | E11: =C11*9600*12 -> 115200 | F11: =I4*365*0.75 -> 1478.25 | G11: =ROUND(E11/F11,0) -> 78
B12: Ārstniecības un pacientu aprūpes atbalsta personas v | C12: 1 | D12: 1 | E12: =C12*9600*12 -> 115200 | F12: =J4*365*0.75 -> 1642.5 | G12: =ROUND(E12/F12,0) -> 70
B14: Darba samaksa mēnesī, EUR | C14: 2083 | D14: 1303 | E14: 865
B15: Vienas minūtes vērtība (laboratorija), EUR | C15: =ROUND(C14/9600,4) -> 0.217 | D15: =ROUND(D14/9600,4) -> 0.1357 | E15: =ROUND(E14/9600,4) -> 0.0901
B16: 16.00-8.00 | D16: ='[1]Darba algas'!BE9 -> 0.1752 | E16: ='[1]Darba algas'!BE12 -> 0.1149
B17: Vienas minūtes vērtība ar atvaļinājuma rezervi, svētku dienām un riska piemaksu, EUR | C17: ='[1]Darba algas'!BE5 -> 0.2319 | D17: ='[1]Darba algas'!BE8 -> 0.1428 | E17: ='[1]Darba algas'!BE11 -> 0.0936 | G17: 0.2359 | H17: Netiešo izmaksu koeficienti | J17: 0.3771 | K17: 0.1435 | L17: 0.0349 | N17: euro
C18: Ārsta laiks (min) | D18: Ārstniecības un pacientu aprūpes personu laiks (min) | E18: Ārstniecības un pacientu aprūpes personu laiks (min) | F18: Darba samaksa | G18: Valsts sociālās apdrošināšanas obligātās iemaksas | H18: Ārstniecības līdzekļi | I18: Izdevumi, saistīti ar pacientu ēdināšanu | J18: Pieskaitāmās un netiešās ražošanas izmaksas | K18: Administratīvie izdevumi | L18: Nolietojums | M18: Ierīču nolietojums | N18: Kopā
F19: D | G19: S | H19: M | I19: E | J19: U | K19: A | L19: n | M19: N
F20: =SUM(F21:F24) -> 82.79 | G20: =SUM(G21:G24) -> 19.53 | H20: =SUM(H21:H24) -> 18.23 | I20: =SUM(I21:I24) -> 7 | J20: =SUM(J21:J24) -> 31.23 | K20: =SUM(K21:K24) -> 11.89 | L20: =SUM(L21:L24) -> 2.89 | M20: =SUM(M21:M24) -> 0.62
B21: PEDIATRIJA - P15 | C21: =G8 -> 91 | D21: =G9 -> 78 | E21: =G10 -> 70 | F21: =ROUND(C21*C$17+D21*D$17+E21*E$17,2) -> 38.79 | G21: =ROUND(F21*G$17,2) -> 9.15 | H21: 16.25 | I21: 7 | J21: =ROUND(F21*$J$17,2) -> 14.63 | K21: =ROUND(F21*$K$17,2) -> 5.57 | L21: =ROUND(F21*$L$17,2) -> 1.35 | M21: 0.06 | N21: =ROUND(SUM(F21:M21),2) -> 92.8
B22: Papildus speciālists | C22: =C21 -> 91 | F22: =ROUND(C22*C$17+D22*D$17+E22*E$17,2) -> 21.1 | G22: =ROUND(F22*G$17,2) -> 4.98 | J22: =ROUND(F22*$J$17,2) -> 7.96 | K22: =ROUND(F22*$K$17,2) -> 3.03 | L22: =ROUND(F22*$L$17,2) -> 0.74 | M22: 0 | N22: =ROUND(SUM(F22:M22),2) -> 37.81
B23: 16.00-8.00 | D23: =G11 -> 78 | E23: =G12 -> 70 | F23: =ROUND(C23*C$16+D23*D$16+E23*E$16,2) -> 21.71 | G23: =ROUND(F23*G$17,2) -> 5.12 | J23: =ROUND(F23*$J$17,2) -> 8.19 | K23: =ROUND(F23*$K$17,2) -> 3.12 | L23: =ROUND(F23*$L$17,2) -> 0.76 | M23: 0 | N23: =ROUND(SUM(F23:M23),2) -> 38.9
B24: LABORATORIJA | C24: 3 | D24: 4 | E24: =G15 -> 0 | F24: =ROUND(C24*C$15+D24*D$15+E24*E$15,2) -> 1.19 | G24: =ROUND(F24*G$17,2) -> 0.28 | H24: 1.98 | J24: =ROUND(F24*$J$17,2) -> 0.45 | K24: =ROUND(F24*$K$17,2) -> 0.17 | L24: =ROUND(F24*$L$17,2) -> 0.04 | M24: 0.56 | N24: =ROUND(SUM(F24:M24),2) -> 4.67
L25: RTG, USG, EKG | N25: 0.88
M26: KOPĀ GD, EUR | N26: =SUM(N21:N25) -> 175.06

Sheet PEDIATRIJA 
N1: 6.6. pielikums
B2: PEDIATRIJA | F2: Gultu skaits uz vienu ārstniecības personu | H2: P15 Pediatrs | I2: Māsa/ ārsta palīgs / vecmāte | J2: Māsas palīgs
F3: PEDIATRIJA | H3: 10 | I3: 10 | J3: 10
F4: 16.00-8.00 | H4: dežūrārsti | I4: 10 | J4: 10
C6: Ārstniecības personu slodzes diennaktī | D6: Cilvēkresursa nodrošinājums
E7: Ārstniecības personu laiks (min) gadā | F7: Gd skaits gadā ar 75% noslogotību | G7: Ārstniecības personu laiks (min.) 1 gd
B8: Ārsti (8.00-16.00) | C8: 1 | D8: 1 | E8: =C8*9600*12 -> 115200 | F8: =H3*365*0.75 -> 2737.5 | G8: =ROUND(E8/F8,0) -> 42
B9: Ārstniecības un pacientu aprūpes personas (diena) (MĀSAS) | C9: 1 | D9: 1 | E9: =C9*9600*12 -> 115200 | F9: =I3*365*0.75 -> 2737.5 | G9: =ROUND(E9/F9,0) -> 42
B10: Ārstniecības un pacientu aprūpes atbalsta personas (diena) (MĀSAS PALĪGI) | C10: 1 | D10: 1 | E10: =C10*9600*12 -> 115200 | F10: =J3*365*0.75 -> 2737.5 | G10: =ROUND(E10/F10,0) -> 42
B11: Ārstniecības un pacientu aprūpes personas (16.00-8.00) MĀSAS | C11: 1 | D11: 1 | E11: =C11*9600*12 -> 115200 | F11: =I4*365*0.75 -> 2737.5 | G11: =ROUND(E11/F11,0) -> 42
B12: Ārstniecības un pacientu aprūpes atbalsta persona MĀSU PALĪGI | C12: 1 | D12: 1 | E12: =C12*9600*12 -> 115200 | F12: =J4*365*0.75 -> 2737.5 | G12: =ROUND(E12/F12,0) -> 42
B14: Darba samaksa mēnesī, EUR | C14: 2083 | D14: 1303 | E14: 865
B15: Vienas minūtes vērtība (laboratorija), EUR | C15: =ROUND(C14/9600,4) -> 0.217 | D15: =ROUND(D14/9600,4) -> 0.1357 | E15: =ROUND(E14/9600,4) -> 0.0901
B16: 16.00-8.00 | D16: ='Darba algas'!BE11 -> 0.1752 | E16: ='Darba algas'!BE14 -> 0.1149
B17: Vienas minūtes vērtība ar atvaļinājuma rezervi, svētku dienām un riska piemaksu, EUR | C17: ='Darba algas'!BE7 -> 0.2319 | D17: ='Darba algas'!BE10 -> 0.1428 | E17: ='Darba algas'!BE13 -> 0.0936 | G17: 0.2359 | H17: Netiešo izmaksu koeficienti | J17: 0.3771 | K17: 0.1435 | L17: 0.0349 | N17: euro
C18: Ārsta laiks (min) | D18: Ārstniecības un pacientu aprūpes personu laiks (min) MĀSAS | E18: Ārstniecības un pacientu aprūpes personu laiks (min) MĀSU PALĪGI | F18: Darba samaksa | G18: Valsts sociālās apdrošināšanas obligātās iemaksas | H18: Ārstniecības līdzekļi | I18: Izdevumi, saistīti ar pacientu ēdināšanu | J18: Pieskaitāmās un netiešās ražošanas izmaksas | K18: Administratīvie izdevumi | L18: Nolietojums | M18: Ierīču nolietojums | N18: Kopā
F19: D | G19: S | H19: M | I19: E | J19: U | K19: A | L19: n | M19: N
F20: =SUM(F21:F24) -> 42.78 | G20: =SUM(G21:G24) -> 10.09 | H20: =SUM(H21:H24) -> 10.23 | I20: =SUM(I21:I24) -> 7 | J20: =SUM(J21:J24) -> 16.13 | K20: =SUM(K21:K24) -> 6.14 | L20: =SUM(L21:L24) -> 1.5 | M20: =SUM(M21:M24) -> 0.62
B21: PEDIATRIJA - P15 | C21: =G8 -> 42 | D21: =G9 -> 42 | E21: =G10 -> 42 | F21: =ROUND(C21*C$17+D21*D$17+E21*E$17,2) -> 19.67 | G21: =ROUND(F21*G$17,2) -> 4.64 | H21: 8.25 | I21: 7 | J21: =ROUND(F21*$J$17,2) -> 7.42 | K21: =ROUND(F21*$K$17,2) -> 2.82 | L21: =ROUND(F21*$L$17,2) -> 0.69 | M21: 0.06 | N21: =ROUND(SUM(F21:M21),2) -> 50.55
B22: Papildus speciālists | C22: =C21 -> 42 | F22: =ROUND(C22*C$17+D22*D$17+E22*E$17,2) -> 9.74 | G22: =ROUND(F22*G$17,2) -> 2.3 | J22: =ROUND(F22*$J$17,2) -> 3.67 | K22: =ROUND(F22*$K$17,2) -> 1.4 | L22: =ROUND(F22*$L$17,2) -> 0.34 | M22: 0 | N22: =ROUND(SUM(F22:M22),2) -> 17.45
B23: 16.00-8.00 | D23: =G11 -> 42 | E23: =G12 -> 42 | F23: =ROUND(C23*C$16+D23*D$16+E23*E$16,2) -> 12.18 | G23: =ROUND(F23*G$17,2) -> 2.87 | J23: =ROUND(F23*$J$17,2) -> 4.59 | K23: =ROUND(F23*$K$17,2) -> 1.75 | L23: =ROUND(F23*$L$17,2) -> 0.43 | M23: 0 | N23: =ROUND(SUM(F23:M23),2) -> 21.82
B24: LABORATORIJA | C24: 3 | D24: 4 | E24: =G15 -> 0 | F24: =ROUND(C24*C$15+D24*D$15+E24*E$15,2) -> 1.19 | G24: =ROUND(F24*G$17,2) -> 0.28 | H24: 1.98 | J24: =ROUND(F24*$J$17,2) -> 0.45 | K24: =ROUND(F24*$K$17,2) -> 0.17 | L24: =ROUND(F24*$L$17,2) -> 0.04 | M24: 0.56 | N24: =ROUND(SUM(F24:M24),2) -> 4.67
L25: RTG, USG, EKG | N25: 0.88
M26: KOPĀ GD, EUR | N26: =SUM(N21:N25) -> 95.37

Sheet TERAPIJA
N1: 6.7. pielikums
B2: TERAPIJA | F2: Gultu skaits uz vienu ārstniecības personu | H2: P01 Internists | I2: Māsa/ ārsta palīgs / vecmāte | J2: Māsas palīgs
F3: TERAPIJA | H3: 10 | I3: 10 | J3: 10
F4: 16.00-8.00 | H4: dežūrārsti | I4: 10 | J4: 10
C6: Ārstniecības personu slodzes diennaktī | D6: Cilvēkresursa nodrošinājums
E7: Ārstniecības personu laiks (min) gadā | F7: Gd skaits gadā ar 75% noslogotību | G7: Ārstniecības personu laiks (min.) 1 gd
B8: Ārsti (8.00-16.00) | C8: 1 | D8: 1 | E8: =C8*9600*12 -> 115200 | F8: =H3*365*0.75 -> 2737.5 | G8: =ROUND(E8/F8,0) -> 42
B9: Ārstniecības un pacientu aprūpes personas (diena) (MĀSAS) | C9: 1 | D9: 1 | E9: =C9*9600*12 -> 115200 | F9: =I3*365*0.75 -> 2737.5 | G9: =ROUND(E9/F9,0) -> 42
B10: Ārstniecības un pacientu aprūpes atbalsta personas (diena) (MĀSAS PALĪGI) | C10: 1 | D10: 1 | E10: =C10*9600*12 -> 115200 | F10: =J3*365*0.75 -> 2737.5 | G10: =ROUND(E10/F10,0) -> 42
B11: Ārstniecības un pacientu aprūpes personas (16.00-8.00) MĀSAS | C11: 1 | D11: 1 | E11: =C11*9600*12 -> 115200 | F11: =I4*365*0.75 -> 2737.5 | G11: =ROUND(E11/F11,0) -> 42
B12: Ārstniecības un pacientu aprūpes atbalsta persona MĀSU PALĪGI | C12: 1 | D12: 1 | E12: =C12*9600*12 -> 115200 | F12: =J4*365*0.75 -> 2737.5 | G12: =ROUND(E12/F12,0) -> 42
B14: Darba samaksa mēnesī, EUR | C14: 2083 | D14: 1303 | E14: 865
B15: Vienas minūtes vērtība (laboratorija), EUR | C15: =ROUND(C14/9600,4) -> 0.217 | D15: =ROUND(D14/9600,4) -> 0.1357 | E15: =ROUND(E14/9600,4) -> 0.0901
B16: 16.00-8.00 | D16: ='Darba algas'!BE11 -> 0.1752 | E16: ='Darba algas'!BE14 -> 0.1149
B17: Vienas minūtes vērtība ar atvaļinājuma rezervi, svētku dienām un riska piemaksu, EUR | C17: ='Darba algas'!BE7 -> 0.2319 | D17: ='Darba algas'!BE10 -> 0.1428 | E17: ='Darba algas'!BE13 -> 0.0936 | G17: 0.2359 | H17: Netiešo izmaksu koeficienti | J17: 0.3771 | K17: 0.1435 | L17: 0.0349 | N17: euro
C18: Ārsta laiks (min) | D18: Ārstniecības un pacientu aprūpes personu laiks (min) MĀSAS | E18: Ārstniecības un pacientu aprūpes personu laiks (min) MĀSU PALĪGI | F18: Darba samaksa | G18: Valsts sociālās apdrošināšanas obligātās iemaksas | H18: Ārstniecības līdzekļi | I18: Izdevumi, saistīti ar pacientu ēdināšanu | J18: Pieskaitāmās un netiešās ražošanas izmaksas | K18: Administratīvie izdevumi | L18: Nolietojums | M18: Ierīču nolietojums | N18: Kopā
F19: D | G19: S | H19: M | I19: E | J19: U | K19: A | L19: n | M19: N
F20: =SUM(F21:F24) -> 39.38 | G20: =SUM(G21:G24) -> 9.29 | H20: =SUM(H21:H24) -> 11.25 | I20: =SUM(I21:I24) -> 7 | J20: =SUM(J21:J24) -> 14.85 | K20: =SUM(K21:K24) -> 5.65 | L20: =SUM(L21:L24) -> 1.38 | M20: =SUM(M21:M24) -> 12.69
B21: TERAPIJA - P01 | C21: =G8 -> 42 | D21: =G9 -> 42 | E21: =G10 -> 42 | F21: =ROUND(C21*C$17+D21*D$17+E21*E$17,2) -> 19.67 | G21: =ROUND(F21*G$17,2) -> 4.64 | H21: 8.25 | I21: 7 | J21: =ROUND(F21*$J$17,2) -> 7.42 | K21: =ROUND(F21*$K$17,2) -> 2.82 | L21: =ROUND(F21*$L$17,2) -> 0.69 | M21: 9.94 | N21: =ROUND(SUM(F21:M21),2) -> 60.43
B22: Papildus speciālists (1/2) | C22: =C21/2 -> 21 | F22: =ROUND(C22*C$17+D22*D$17+E22*E$17,2) -> 4.87 | G22: =ROUND(F22*G$17,2) -> 1.15 | J22: =ROUND(F22*$J$17,2) -> 1.84 | K22: =ROUND(F22*$K$17,2) -> 0.7 | L22: =ROUND(F22*$L$17,2) -> 0.17 | M22: 0 | N22: =ROUND(SUM(F22:M22),2) -> 8.73
B23: 16.00-8.00 | D23: =G11 -> 42 | E23: =G12 -> 42 | F23: =ROUND(C23*C$16+D23*D$16+E23*E$16,2) -> 12.18 | G23: =ROUND(F23*G$17,2) -> 2.87 | J23: =ROUND(F23*$J$17,2) -> 4.59 | K23: =ROUND(F23*$K$17,2) -> 1.75 | L23: =ROUND(F23*$L$17,2) -> 0.43 | M23: 0 | N23: =ROUND(SUM(F23:M23),2) -> 21.82
B24: LABORATORIJA | C24: 6 | D24: 10 | E24: =G15 -> 0 | F24: =ROUND(C24*C$15+D24*D$15+E24*E$15,2) -> 2.66 | G24: =ROUND(F24*G$17,2) -> 0.63 | H24: 3 | J24: =ROUND(F24*$J$17,2) -> 1 | K24: =ROUND(F24*$K$17,2) -> 0.38 | L24: =ROUND(F24*$L$17,2) -> 0.09 | M24: 2.75 | N24: =ROUND(SUM(F24:M24),2) -> 10.51
L25: RTG, USG, EKG | N25: 2.47
M26: KOPĀ GD, EUR | N26: =SUM(N21:N25) -> 103.96

Sheet TRAUMATOLOĢIJA
N1: 6.8. pielikums
B2: TRAUMATOLOĢIJA | F2: Gultu skaits uz vienu ārstniecības personu | H2: P13 Traumatologs, ortopēds | I2: Māsa/ ārsta palīgs / vecmāte | J2: Māsas palīgs
F3: Traumatoloģija, ortopēdija | H3: 6 | I3: 6 | J3: 6
F4: 16.00-8.00 | H4: dežūrārsti | I4: 6 | J4: 6
C6: Ārstniecības personu slodzes diennaktī | D6: Cilvēkresursa nodrošinājums
E7: Ārstniecības personu laiks (min) gadā | F7: Gd skaits gadā ar 75% noslogotību | G7: Ārstniecības personu laiks (min.) 1 gd
B8: Ārsti (8.00-16.00) | C8: 1 | D8: 1 | E8: =C8*9600*12 -> 115200 | F8: =H3*365*0.75 -> 1642.5 | G8: =ROUND(E8/F8,0) -> 70
B9: Ārstniecības un pacientu aprūpes personas (diena) (MĀSAS) | C9: 1 | D9: 1 | E9: =C9*9600*12 -> 115200 | F9: =I3*365*0.75 -> 1642.5 | G9: =ROUND(E9/F9,0) -> 70
B10: Ārstniecības un pacientu aprūpes atbalsta personas (diena) (MĀSAS PALĪGI) | C10: 1 | D10: 1 | E10: =C10*9600*12 -> 115200 | F10: =J3*365*0.75 -> 1642.5 | G10: =ROUND(E10/F10,0) -> 70
B11: Ārstniecības un pacientu aprūpes personas (16.00-8.00) MĀSAS | C11: 1 | D11: 1 | E11: =C11*9600*12 -> 115200 | F11: =I4*365*0.75 -> 1642.5 | G11: =ROUND(E11/F11,0) -> 70
B12: Ārstniecības un pacientu aprūpes atbalsta persona MĀSU PALĪGI | C12: 1 | D12: 1 | E12: =C12*9600*12 -> 115200 | F12: =J4*365*0.75 -> 1642.5 | G12: =ROUND(E12/F12,0) -> 70
B14: Darba samaksa mēnesī, EUR | C14: 2083 | D14: 1303 | E14: 865
B15: Vienas minūtes vērtība (laboratorija), EUR | C15: =ROUND(C14/9600,4) -> 0.217 | D15: =ROUND(D14/9600,4) -> 0.1357 | E15: =ROUND(E14/9600,4) -> 0.0901
B16: 16.00-8.00 | D16: ='Darba algas'!BE11 -> 0.1752 | E16: ='Darba algas'!BE14 -> 0.1149
B17: Vienas minūtes vērtība ar atvaļinājuma rezervi, svētku dienām un riska piemaksu, EUR | C17: ='Darba algas'!BE7 -> 0.2319 | D17: ='Darba algas'!BE10 -> 0.1428 | E17: ='Darba algas'!BE13 -> 0.0936 | G17: 0.2359 | H17: Netiešo izmaksu koeficienti | J17: 0.3771 | K17: 0.1435 | L17: 0.0349 | N17: euro
C18: Ārsta laiks (min) | D18: Ārstniecības un pacientu aprūpes personu laiks (min) MĀSAS | E18: Ārstniecības un pacientu aprūpes personu laiks (min) MĀSU PALĪGI | F18: Darba samaksa | G18: Valsts sociālās apdrošināšanas obligātās iemaksas | H18: Ārstniecības līdzekļi | I18: Izdevumi, saistīti ar pacientu ēdināšanu | J18: Pieskaitāmās un netiešās ražošanas izmaksas | K18: Administratīvie izdevumi | L18: Nolietojums | M18: Ierīču nolietojums | N18: Kopā
F19: D | G19: S | H19: M | I19: E | J19: U | K19: A | L19: n | M19: N
F20: =SUM(F21:F24) -> 62.54 | G20: =SUM(G21:G24) -> 14.75 | H20: =SUM(H21:H24) -> 10.31 | I20: =SUM(I21:I24) -> 7 | J20: =SUM(J21:J24) -> 23.58 | K20: =SUM(K21:K24) -> 8.97 | L20: =SUM(L21:L24) -> 2.18 | M20: =SUM(M21:M24) -> 2.76
B21: TRAUMATOLOĢIJA - P13 | C21: =G8 -> 70 | D21: =G9 -> 70 | E21: =G10 -> 70 | F21: =ROUND(C21*C$17+D21*D$17+E21*E$17,2) -> 32.78 | G21: =ROUND(F21*G$17,2) -> 7.73 | H21: 8.25 | I21: 7 | J21: =ROUND(F21*$J$17,2) -> 12.36 | K21: =ROUND(F21*$K$17,2) -> 4.7 | L21: =ROUND(F21*$L$17,2) -> 1.14 | M21: 2.42 | N21: =ROUND(SUM(F21:M21),2) -> 76.38
B22: Papildus speciālists (1/2) | C22: =C21/2 -> 35 | F22: =ROUND(C22*C$17+D22*D$17+E22*E$17,2) -> 8.12 | G22: =ROUND(F22*G$17,2) -> 1.92 | J22: =ROUND(F22*$J$17,2) -> 3.06 | K22: =ROUND(F22*$K$17,2) -> 1.17 | L22: =ROUND(F22*$L$17,2) -> 0.28 | M22: 0 | N22: =ROUND(SUM(F22:M22),2) -> 14.55
B23: 16.00-8.00 | D23: =G11 -> 70 | E23: =G12 -> 70 | F23: =ROUND(C23*C$16+D23*D$16+E23*E$16,2) -> 20.31 | G23: =ROUND(F23*G$17,2) -> 4.79 | J23: =ROUND(F23*$J$17,2) -> 7.66 | K23: =ROUND(F23*$K$17,2) -> 2.91 | L23: =ROUND(F23*$L$17,2) -> 0.71 | M23: 0 | N23: =ROUND(SUM(F23:M23),2) -> 36.38
B24: LABORATORIJA | C24: 3 | D24: 5 | E24: =G15 -> 0 | F24: =ROUND(C24*C$15+D24*D$15+E24*E$15,2) -> 1.33 | G24: =ROUND(F24*G$17,2) -> 0.31 | H24: 2.06 | J24: =ROUND(F24*$J$17,2) -> 0.5 | K24: =ROUND(F24*$K$17,2) -> 0.19 | L24: =ROUND(F24*$L$17,2) -> 0.05 | M24: 0.34 | N24: =ROUND(SUM(F24:M24),2) -> 4.78
L25: RTG, USG, EKG | N25: 2.37
M26: KOPĀ GD, EUR | N26: =SUM(N21:N25) -> 134.46

Sheet Darba algas
BF1: 6.9. pielikums
B3: Posteņu, slodžu, darba stundu skaits un apmaksas nosacījumi NMPON darba nodrošināšanai | BF3: 153.1. ārstiem un funkcionālajiem speciālistiem – 1 963,00 euro; | BG3: 2083
AH4: =365*8+(15*8) -> 3040 | BA4: 0.5 | BB4: 1 | BC4: 0.05 | BF4: 153.2. ārstniecības un pacientu aprūpes personām un funkcionālo speciālistu asistentiem – 1 183,00 euro; | BG4: 1303
H5: Pirmdienās | L5: Otrdienās | P5: Trešdienās | T5: Ceturtdienās | X5: Piektdienās | AB5: Sestdienās | AF5: Svētdienās | AJ5: Svētku un brīvdienās | AO5: Stundas vidēji gadā | BF5: 153.3. ārstniecības un pacientu aprūpes atbalsta personām – 745,00 euro. | BG5: 854
B6: Posteņa nosaukums | D6: Nedēļas dienas | E6: Posteņa veids | F6: % iesaiste, ja atbalsta postenis | G6: Posteņu skaits | H6: no | I6: līdz | J6: darba st | K6: t.sk. nakts st | L6: no | M6: līdz | N6: darba st | O6: t.sk. nakts st | P6: no | Q6: līdz | R6: darba st | S6: t.sk. nakts st | T6: no | U6: līdz | V6: darba st | W6: t.sk. nakts st | X6: no | Y6: līdz | Z6: darba st | AA6: t.sk. nakts st | AB6: no | AC6: līdz | AD6: darba st | AE6: t.sk. nakts st | AF6: no | AG6: līdz | AH6: darba st | AI6: t.sk. nakts st | AJ6: no | AK6: līdz | AL6: darba st | AM6: t.sk. nakts st | AN6: Tehniskā | AO6: Darba sundas | AP6: no tām nakts | AQ6: no tām svētku | AR6: slodzes | AS6: Atvaļinājuma rezerve | AT6: KOPĀ | AU6: Slodzes pa amatiem, atbilstoši AVS | AV6: Piezīmes | AW6: DR komentāri | AX6: Mēnešalga | AY6: Stundas likme (vidējā) | AZ6: Samaksa gadā, EUR | BA6: Par Nakts stundām, EUR gadā | BB6: Par Svētku stundām, EUR gadā | BC6: Īpašā riska piemaksa gadā, EUR | BD6: Vidējā mēneša alga ar piemaksām | BE6: Vidējā minūtes vērtība
A7: ĀRSTS | B7: Diena | G7: 1 | H7: 8 | I7: 16 | J7: =IF(H7="",0,IF((I7-H7<=0),(24-H7+I7),(I7-H7))) -> 8 | L7: 8 | M7: 16 | N7: =IF(L7="",0,IF((M7-L7<=0),(24-L7+M7),(M7-L7))) -> 8 | P7: 8 | Q7: 16 | R7: =IF(P7="",0,IF((Q7-P7<=0),(24-P7+Q7),(Q7-P7))) -> 8 | T7: 8 | U7: 16 | V7: =IF(T7="",0,IF((U7-T7<=0),(24-T7+U7),(U7-T7))) -> 8 | X7: 8 | Y7: 16 | Z7: =IF(X7="",0,IF((Y7-X7<=0),(24-X7+Y7),(Y7-X7))) -> 8 | AD7: =IF(AB7="",0,IF((AC7-AB7<=0),(24-AB7+AC7),(AC7-AB7))) -> 0 | AH7: =IF(AF7="",0,IF((AG7-AF7<=0),(24-AF7+AG7),(AG7-AF7))) -> 0 | AJ7: 8 | AK7: 16 | AL7: =IF(AJ7="",0,IF((AK7-AJ7<=0),(24-AJ7+AK7),(AK7-AJ7))) -> 8 | AN7: =J7+N7+R7+V7+Z7+AD7+AH7+AL7 -> 48 | AO7: =IF(AN7=0,0,((J7*$C$72)+($D$72*N7)+(R7*$E$72)+(V7*$F$72)+($G$72*Z7)+(AD7*$H$73)+($I$74*AH7)+(AL7*$J$75)*G7)) -> 2144 | AP7: =IF(AN7=0,0,((K7*$C$72)+($D$72*O7)+(S7*$E$72)+(W7*$F$72)+($G$72*AA7)+(AE7*$H$73)+($I$74*AI7)+(AM7*$J$75)*G7)) -> 0 | AQ7: =AL7*$J$75*G7 -> 144 | AR7: =AO7/$L$71 -> 1.0698603 | AS7: =AR7*0.09091 -> 0.097260998 | AT7: =AS7+AR7 -> 1.1671213 | AW7: Jāizlemj - vai liekam 24h tiešo posteni, vai 8h tiešais un pēc tam mājas dežūras | AX7: =BG3 -> 2083 | AY7: =AX7/160 -> 13.01875 | AZ7: =AY7*AO7 -> 27912.2 | BA7: =$BA$4*AY7*AP7 -> 0 | BB7: =AY7*AQ7 -> 1874.7 | BC7: =AY7*$BC$4*AO7 -> 1395.61 | BD7: =(AZ7+BA7+BB7+BC7)/12/AT7 -> 2226.4546 | BE7: =ROUND(BD7/160/60,4) -> 0.2319 | BF7: =(AZ7+BA7+BB7+BC7)/AT7 -> 26717.455
B8: Diena+nakts | G8: 1 | H8: 16 | I8: 8 | J8: =IF(H8="",0,IF((I8-H8<=0),(24-H8+I8),(I8-H8))) -> 16 | K8: 8 | L8: 16 | M8: 8 | N8: =IF(L8="",0,IF((M8-L8<=0),(24-L8+M8),(M8-L8))) -> 16 | O8: 8 | P8: 16 | Q8: 8 | R8: =IF(P8="",0,IF((Q8-P8<=0),(24-P8+Q8),(Q8-P8))) -> 16 | S8: 8 | T8: 16 | U8: 8 | V8: =IF(T8="",0,IF((U8-T8<=0),(24-T8+U8),(U8-T8))) -> 16 | W8: 8 | X8: 16 | Y8: 8 | Z8: =IF(X8="",0,IF((Y8-X8<=0),(24-X8+Y8),(Y8-X8))) -> 16 | AA8: 8 | AB8: 16 | AC8: 8 | AD8: =IF(AB8="",0,IF((AC8-AB8<=0),(24-AB8+AC8),(AC8-AB8))) -> 16 | AE8: 8 | AF8: 16 | AG8: 8 | AH8: =IF(AF8="",0,IF((AG8-AF8<=0),(24-AF8+AG8),(AG8-AF8))) -> 16 | AI8: 8 | AJ8: 16 | AK8: 8 | AL8: =IF(AJ8="",0,IF((AK8-AJ8<=0),(24-AJ8+AK8),(AK8-AJ8))) -> 16 | AM8: 8 | AN8: =J8+N8+R8+V8+Z8+AD8+AH8+AL8 -> 128 | AO8: =IF(AN8=0,0,((J8*$C$72)+($D$72*N8)+(R8*$E$72)+(V8*$F$72)+($G$72*Z8)+(AD8*$H$73)+($I$74*AH8)+(AL8*$J$75)*G8)) -> 5824 | AP8: =IF(AN8=0,0,((K8*$C$72)+($D$72*O8)+(S8*$E$72)+(W8*$F$72)+($G$72*AA8)+(AE8*$H$73)+($I$74*AI8)+(AM8*$J$75)*G8)) -> 2912 | AQ8: =AL8*$J$75*G8 -> 288 | AR8: =AO8/$L$71 -> 2.9061876 | AS8: =AR8*0.09091 -> 0.26420152 | AT8: =AS8+AR8 -> 3.1703891 | AW8: Jāizlemj - vai liekam 24h tiešo posteni, vai 8h tiešais un pēc tam mājas dežūras | AX8: =BG3 -> 2083 | AY8: =AX8/160 -> 13.01875 | AZ8: =AY8*AO8 -> 75821.2 | BA8: =$BA$4*AY8*AP8 -> 18955.3 | BB8: =AY8*AQ8 -> 3749.4 | BC8: =AY8*$BC$4*AO8 -> 3791.06 | BD8: =(AZ8+BA8+BB8+BC8)/12/AT8 -> 2689.3902 | BE8: =ROUND(BD8/160/60,4) -> 0.2801
B9: Diennakts | G9: 1 | H9: 8 | I9: 8 | J9: =IF(H9="",0,IF((I9-H9<=0),(24-H9+I9),(I9-H9))) -> 24 | K9: 8 | L9: 8 | M9: 8 | N9: =IF(L9="",0,IF((M9-L9<=0),(24-L9+M9),(M9-L9))) -> 24 | O9: 8 | P9: 8 | Q9: 8 | R9: =IF(P9="",0,IF((Q9-P9<=0),(24-P9+Q9),(Q9-P9))) -> 24 | S9: 8 | T9: 8 | U9: 8 | V9: =IF(T9="",0,IF((U9-T9<=0),(24-T9+U9),(U9-T9))) -> 24 | W9: 8 | X9: 8 | Y9: 8 | Z9: =IF(X9="",0,IF((Y9-X9<=0),(24-X9+Y9),(Y9-X9))) -> 24 | AA9: 8 | AB9: 8 | AC9: 8 | AD9: =IF(AB9="",0,IF((AC9-AB9<=0),(24-AB9+AC9),(AC9-AB9))) -> 24 | AE9: 8 | AF9: 8 | AG9: 8 | AH9: =IF(AF9="",0,IF((AG9-AF9<=0),(24-AF9+AG9),(AG9-AF9))) -> 24 | AI9: 8 | AJ9: 8 | AK9: 8 | AL9: =IF(AJ9="",0,IF((AK9-AJ9<=0),(24-AJ9+AK9),(AK9-AJ9))) -> 24 | AM9: 8 | AN9: =J9+N9+R9+V9+Z9+AD9+AH9+AL9 -> 192 | AO9: =IF(AN9=0,0,((J9*$C$72)+($D$72*N9)+(R9*$E$72)+(V9*$F$72)+($G$72*Z9)+(AD9*$H$73)+($I$74*AH9)+(AL9*$J$75)*G9)) -> 8736 | AP9: =IF(AN9=0,0,((K9*$C$72)+($D$72*O9)+(S9*$E$72)+(W9*$F$72)+($G$72*AA9)+(AE9*$H$73)+($I$74*AI9)+(AM9*$J$75)*G9)) -> 2912 | AQ9: =AL9*$J$75*G9 -> 432 | AR9: =AO9/$L$71 -> 4.3592814 | AS9: =AR9*0.09091 -> 0.39630228 | AT9: =AS9+AR9 -> 4.7555837 | AX9: =BG3 -> 2083 | AY9: =AX9/160 -> 13.01875 | AZ9: =AY9*AO9 -> 113731.8 | BA9: =$BA$4*AY9*AP9 -> 18955.3 | BB9: =AY9*AQ9 -> 5624.1 | BC9: =AY9*$BC$4*AO9 -> 5686.59 | BD9: =(AZ9+BA9+BB9+BC9)/12/AT9 -> 2523.3108 | BE9: =ROUND(BD9/160/60,4) -> 0.2628
A10: MĀSA | B10: Diena | G10: 1 | H10: 8 | I10: 16 | J10: =IF(H10="",0,IF((I10-H10<=0),(24-H10+I10),(I10-H10))) -> 8 | L10: 8 | M10: 16 | N10: =IF(L10="",0,IF((M10-L10<=0),(24-L10+M10),(M10-L10))) -> 8 | P10: 8 | Q10: 16 | R10: =IF(P10="",0,IF((Q10-P10<=0),(24-P10+Q10),(Q10-P10))) -> 8 | T10: 8 | U10: 16 | V10: =IF(T10="",0,IF((U10-T10<=0),(24-T10+U10),(U10-T10))) -> 8 | X10: 8 | Y10: 16 | Z10: =IF(X10="",0,IF((Y10-X10<=0),(24-X10+Y10),(Y10-X10))) -> 8 | AB10: 8 | AC10: 16 | AD10: =IF(AB10="",0,IF((AC10-AB10<=0),(24-AB10+AC10),(AC10-AB10))) -> 8 | AF10: 8 | AG10: 16 | AH10: =IF(AF10="",0,IF((AG10-AF10<=0),(24-AF10+AG10),(AG10-AF10))) -> 8 | AJ10: 8 | AK10: 16 | AL10: =IF(AJ10="",0,IF((AK10-AJ10<=0),(24-AJ10+AK10),(AK10-AJ10))) -> 8 | AN10: =J10+N10+R10+V10+Z10+AD10+AH10+AL10 -> 64 | AO10: =IF(AN10=0,0,((J10*$C$72)+($D$72*N10)+(R10*$E$72)+(V10*$F$72)+($G$72*Z10)+(AD10*$H$73)+($I$74*AH10)+(AL10*$J$75)*G10)) -> 2912 | AP10: =IF(AN10=0,0,((K10*$C$72)+($D$72*O10)+(S10*$E$72)+(W10*$F$72)+($G$72*AA10)+(AE10*$H$73)+($I$74*AI10)+(AM10*$J$75)*G10)) -> 0 | AQ10: =AL10*$J$75*G10 -> 144 | AR10: =AO10/$L$71 -> 1.4530938 | AS10: =AR10*0.09091 -> 0.13210076 | AT10: =AS10+AR10 -> 1.5851946 | AW10: Jāizlemj - vai liekam 24h tiešo posteni, vai 8h tiešais un pēc tam mājas dežūras | AX10: =BG4 -> 1303 | AY10: =AX10/160 -> 8.14375 | AZ10: =AY10*AO10 -> 23714.6 | BA10: =$BA$4*AY10*AP10 -> 0 | BB10: =AY10*AQ10 -> 1172.7 | BC10: =AY10*$BC$4*AO10 -> 1185.73 | BD10: =(AZ10+BA10+BB10+BC10)/12/AT10 -> 1370.6535 | BE10: =ROUND(BD10/160/60,4) -> 0.1428
B11: Diena+nakts | G11: 1 | H11: 16 | I11: 8 | J11: =IF(H11="",0,IF((I11-H11<=0),(24-H11+I11),(I11-H11))) -> 16 | K11: 8 | L11: 16 | M11: 8 | N11: =IF(L11="",0,IF((M11-L11<=0),(24-L11+M11),(M11-L11))) -> 16 | O11: 8 | P11: 16 | Q11: 8 | R11: =IF(P11="",0,IF((Q11-P11<=0),(24-P11+Q11),(Q11-P11))) -> 16 | S11: 8 | T11: 16 | U11: 8 | V11: =IF(T11="",0,IF((U11-T11<=0),(24-T11+U11),(U11-T11))) -> 16 | W11: 8 | X11: 16 | Y11: 8 | Z11: =IF(X11="",0,IF((Y11-X11<=0),(24-X11+Y11),(Y11-X11))) -> 16 | AA11: 8 | AB11: 16 | AC11: 8 | AD11: =IF(AB11="",0,IF((AC11-AB11<=0),(24-AB11+AC11),(AC11-AB11))) -> 16 | AE11: 8 | AF11: 16 | AG11: 8 | AH11: =IF(AF11="",0,IF((AG11-AF11<=0),(24-AF11+AG11),(AG11-AF11))) -> 16 | AI11: 8 | AJ11: 16 | AK11: 8 | AL11: =IF(AJ11="",0,IF((AK11-AJ11<=0),(24-AJ11+AK11),(AK11-AJ11))) -> 16 | AM11: 8 | AN11: =J11+N11+R11+V11+Z11+AD11+AH11+AL11 -> 128 | AO11: =IF(AN11=0,0,((J11*$C$72)+($D$72*N11)+(R11*$E$72)+(V11*$F$72)+($G$72*Z11)+(AD11*$H$73)+($I$74*AH11)+(AL11*$J$75)*G11)) -> 5824 | AP11: =IF(AN11=0,0,((K11*$C$72)+($D$72*O11)+(S11*$E$72)+(W11*$F$72)+($G$72*AA11)+(AE11*$H$73)+($I$74*AI11)+(AM11*$J$75)*G11)) -> 2912 | AQ11: =AL11*$J$75*G11 -> 288 | AR11: =AO11/$L$71 -> 2.9061876 | AS11: =AR11*0.09091 -> 0.26420152 | AT11: =AS11+AR11 -> 3.1703891 | AW11: Jāizlemj - vai liekam 24h tiešo posteni, vai 8h tiešais un pēc tam mājas dežūras | AX11: =BG4 -> 1303 | AY11: =AX11/160 -> 8.14375 | AZ11: =AY11*AO11 -> 47429.2 | BA11: =$BA$4*AY11*AP11 -> 11857.3 | BB11: =AY11*AQ11 -> 2345.4 | BC11: =AY11*$BC$4*AO11 -> 2371.46 | BD11: =(AZ11+BA11+BB11+BC11)/12/AT11 -> 1682.3213 | BE11: =ROUND(BD11/160/60,4) -> 0.1752
B12: Diennakts | G12: 1 | H12: 8 | I12: 8 | J12: =IF(H12="",0,IF((I12-H12<=0),(24-H12+I12),(I12-H12))) -> 24 | K12: 8 | L12: 8 | M12: 8 | N12: =IF(L12="",0,IF((M12-L12<=0),(24-L12+M12),(M12-L12))) -> 24 | O12: 8 | P12: 8 | Q12: 8 | R12: =IF(P12="",0,IF((Q12-P12<=0),(24-P12+Q12),(Q12-P12))) -> 24 | S12: 8 | T12: 8 | U12: 8 | V12: =IF(T12="",0,IF((U12-T12<=0),(24-T12+U12),(U12-T12))) -> 24 | W12: 8 | X12: 8 | Y12: 8 | Z12: =IF(X12="",0,IF((Y12-X12<=0),(24-X12+Y12),(Y12-X12))) -> 24 | AA12: 8 | AB12: 8 | AC12: 8 | AD12: =IF(AB12="",0,IF((AC12-AB12<=0),(24-AB12+AC12),(AC12-AB12))) -> 24 | AE12: 8 | AF12: 8 | AG12: 8 | AH12: =IF(AF12="",0,IF((AG12-AF12<=0),(24-AF12+AG12),(AG12-AF12))) -> 24 | AI12: 8 | AJ12: 8 | AK12: 8 | AL12: =IF(AJ12="",0,IF((AK12-AJ12<=0),(24-AJ12+AK12),(AK12-AJ12))) -> 24 | AM12: 8 | AN12: =J12+N12+R12+V12+Z12+AD12+AH12+AL12 -> 192 | AO12: =IF(AN12=0,0,((J12*$C$72)+($D$72*N12)+(R12*$E$72)+(V12*$F$72)+($G$72*Z12)+(AD12*$H$73)+($I$74*AH12)+(AL12*$J$75)*G12)) -> 8736 | AP12: =IF(AN12=0,0,((K12*$C$72)+($D$72*O12)+(S12*$E$72)+(W12*$F$72)+($G$72*AA12)+(AE12*$H$73)+($I$74*AI12)+(AM12*$J$75)*G12)) -> 2912 | AQ12: =AL12*$J$75*G12 -> 432 | AR12: =AO12/$L$71 -> 4.3592814 | AS12: =AR12*0.09091 -> 0.39630228 | AT12: =AS12+AR12 -> 4.7555837 | AX12: =BG4 -> 1303 | AY12: =AX12/160 -> 8.14375 | AZ12: =AY12*AO12 -> 71143.8 | BA12: =$BA$4*AY12*AP12 -> 11857.3 | BB12: =AY12*AQ12 -> 3518.1 | BC12: =AY12*$BC$4*AO12 -> 3557.19 | BD12: =(AZ12+BA12+BB12+BC12)/12/AT12 -> 1578.4321 | BE12: =ROUND(BD12/160/60,4) -> 0.1644
A13: MĀSAS PALĪGI | B13: Diena | G13: 1 | H13: 8 | I13: 16 | J13: =IF(H13="",0,IF((I13-H13<=0),(24-H13+I13),(I13-H13))) -> 8 | L13: 8 | M13: 16 | N13: =IF(L13="",0,IF((M13-L13<=0),(24-L13+M13),(M13-L13))) -> 8 | P13: 8 | Q13: 16 | R13: =IF(P13="",0,IF((Q13-P13<=0),(24-P13+Q13),(Q13-P13))) -> 8 | T13: 8 | U13: 16 | V13: =IF(T13="",0,IF((U13-T13<=0),(24-T13+U13),(U13-T13))) -> 8 | X13: 8 | Y13: 16 | Z13: =IF(X13="",0,IF((Y13-X13<=0),(24-X13+Y13),(Y13-X13))) -> 8 | AB13: 8 | AC13: 16 | AD13: =IF(AB13="",0,IF((AC13-AB13<=0),(24-AB13+AC13),(AC13-AB13))) -> 8 | AF13: 8 | AG13: 16 | AH13: =IF(AF13="",0,IF((AG13-AF13<=0),(24-AF13+AG13),(AG13-AF13))) -> 8 | AJ13: 8 | AK13: 16 | AL13: =IF(AJ13="",0,IF((AK13-AJ13<=0),(24-AJ13+AK13),(AK13-AJ13))) -> 8 | AN13: =J13+N13+R13+V13+Z13+AD13+AH13+AL13 -> 64 | AO13: =IF(AN13=0,0,((J13*$C$72)+($D$72*N13)+(R13*$E$72)+(V13*$F$72)+($G$72*Z13)+(AD13*$H$73)+($I$74*AH13)+(AL13*$J$75)*G13)) -> 2912 | AP13: =IF(AN13=0,0,((K13*$C$72)+($D$72*O13)+(S13*$E$72)+(W13*$F$72)+($G$72*AA13)+(AE13*$H$73)+($I$74*AI13)+(AM13*$J$75)*G13)) -> 0 | AQ13: =AL13*$J$75*G13 -> 144 | AR13: =AO13/$L$71 -> 1.4530938 | AS13: =AR13*0.09091 -> 0.13210076 | AT13: =AS13+AR13 -> 1.5851946 | AW13: Jāizlemj - vai liekam 24h tiešo posteni, vai 8h tiešais un pēc tam mājas dežūras | AX13: =BG5 -> 854 | AY13: =AX13/160 -> 5.3375 | AZ13: =AY13*AO13 -> 15542.8 | BA13: =$BA$4*AY13*AP13 -> 0 | BB13: =AY13*AQ13 -> 768.6 | BC13: =AY13*$BC$4*AO13 -> 777.14 | BD13: =(AZ13+BA13+BB13+BC13)/12/AT13 -> 898.34083 | BE13: =ROUND(BD13/160/60,4) -> 0.0936
B14: Diena+nakts | G14: 1 | H14: 16 | I14: 8 | J14: =IF(H14="",0,IF((I14-H14<=0),(24-H14+I14),(I14-H14))) -> 16 | K14: 8 | L14: 16 | M14: 8 | N14: =IF(L14="",0,IF((M14-L14<=0),(24-L14+M14),(M14-L14))) -> 16 | O14: 8 | P14: 16 | Q14: 8 | R14: =IF(P14="",0,IF((Q14-P14<=0),(24-P14+Q14),(Q14-P14))) -> 16 | S14: 8 | T14: 16 | U14: 8 | V14: =IF(T14="",0,IF((U14-T14<=0),(24-T14+U14),(U14-T14))) -> 16 | W14: 8 | X14: 16 | Y14: 8 | Z14: =IF(X14="",0,IF((Y14-X14<=0),(24-X14+Y14),(Y14-X14))) -> 16 | AA14: 8 | AB14: 16 | AC14: 8 | AD14: =IF(AB14="",0,IF((AC14-AB14<=0),(24-AB14+AC14),(AC14-AB14))) -> 16 | AE14: 8 | AF14: 16 | AG14: 8 | AH14: =IF(AF14="",0,IF((AG14-AF14<=0),(24-AF14+AG14),(AG14-AF14))) -> 16 | AI14: 8 | AJ14: 16 | AK14: 8 | AL14: =IF(AJ14="",0,IF((AK14-AJ14<=0),(24-AJ14+AK14),(AK14-AJ14))) -> 16 | AM14: 8 | AN14: =J14+N14+R14+V14+Z14+AD14+AH14+AL14 -> 128 | AO14: =IF(AN14=0,0,((J14*$C$72)+($D$72*N14)+(R14*$E$72)+(V14*$F$72)+($G$72*Z14)+(AD14*$H$73)+($I$74*AH14)+(AL14*$J$75)*G14)) -> 5824 | AP14: =IF(AN14=0,0,((K14*$C$72)+($D$72*O14)+(S14*$E$72)+(W14*$F$72)+($G$72*AA14)+(AE14*$H$73)+($I$74*AI14)+(AM14*$J$75)*G14)) -> 2912 | AQ14: =AL14*$J$75*G14 -> 288 | AR14: =AO14/$L$71 -> 2.9061876 | AS14: =AR14*0.09091 -> 0.26420152 | AT14: =AS14+AR14 -> 3.1703891 | AW14: Jāizlemj - vai liekam 24h tiešo posteni, vai 8h tiešais un pēc tam mājas dežūras | AX14: =BG5 -> 854 | AY14: =AX14/160 -> 5.3375 | AZ14: =AY14*AO14 -> 31085.6 | BA14: =$BA$4*AY14*AP14 -> 7771.4 | BB14: =AY14*AQ14 -> 1537.2 | BC14: =AY14*$BC$4*AO14 -> 1554.28 | BD14: =(AZ14+BA14+BB14+BC14)/12/AT14 -> 1102.6112 | BE14: =ROUND(BD14/160/60,4) -> 0.1149
B15: Diennakts | G15: 1 | H15: 8 | I15: 8 | J15: =IF(H15="",0,IF((I15-H15<=0),(24-H15+I15),(I15-H15))) -> 24 | K15: 8 | L15: 8 | M15: 8 | N15: =IF(L15="",0,IF((M15-L15<=0),(24-L15+M15),(M15-L15))) -> 24 | O15: 8 | P15: 8 | Q15: 8 | R15: =IF(P15="",0,IF((Q15-P15<=0),(24-P15+Q15),(Q15-P15))) -> 24 | S15: 8 | T15: 8 | U15: 8 | V15: =IF(T15="",0,IF((U15-T15<=0),(24-T15+U15),(U15-T15))) -> 24 | W15: 8 | X15: 8 | Y15: 8 | Z15: =IF(X15="",0,IF((Y15-X15<=0),(24-X15+Y15),(Y15-X15))) -> 24 | AA15: 8 | AB15: 8 | AC15: 8 | AD15: =IF(AB15="",0,IF((AC15-AB15<=0),(24-AB15+AC15),(AC15-AB15))) -> 24 | AE15: 8 | AF15: 8 | AG15: 8 | AH15: =IF(AF15="",0,IF((AG15-AF15<=0),(24-AF15+AG15),(AG15-AF15))) -> 24 | AI15: 8 | AJ15: 8 | AK15: 8 | AL15: =IF(AJ15="",0,IF((AK15-AJ15<=0),(24-AJ15+AK15),(AK15-AJ15))) -> 24 | AM15: 8 | AN15: =J15+N15+R15+V15+Z15+AD15+AH15+AL15 -> 192 | AO15: =IF(AN15=0,0,((J15*$C$72)+($D$72*N15)+(R15*$E$72)+(V15*$F$72)+($G$72*Z15)+(AD15*$H$73)+($I$74*AH15)+(AL15*$J$75)*G15)) -> 8736 | AP15: =IF(AN15=0,0,((K15*$C$72)+($D$72*O15)+(S15*$E$72)+(W15*$F$72)+($G$72*AA15)+(AE15*$H$73)+($I$74*AI15)+(AM15*$J$75)*G15)) -> 2912 | AQ15: =AL15*$J$75*G15 -> 432 | AR15: =AO15/$L$71 -> 4.3592814 | AS15: =AR15*0.09091 -> 0.39630228 | AT15: =AS15+AR15 -> 4.7555837 | AX15: =BG5 -> 854 | AY15: =AX15/160 -> 5.3375 | AZ15: =AY15*AO15 -> 46628.4 | BA15: =$BA$4*AY15*AP15 -> 7771.4 | BB15: =AY15*AQ15 -> 2305.8 | BC15: =AY15*$BC$4*AO15 -> 2331.42 | BD15: =(AZ15+BA15+BB15+BC15)/12/AT15 -> 1034.5211 | BE15: =ROUND(BD15/160/60,4) -> 0.1078
B16: 2023. gada darba dienu kalendārs
B17: Nedēļas diena / Mēnesis | C17: P | D17: O | E17: T | F17: C | G17: P | H17: S | I17: Sv | J17: KOPĀ dienas | K17: Darba dienas | L17: Darba stundas | M17: Svētku dienas | N17: Pārceltā brīvdiena
B18: Janvāris | I18: 1 | K18: 22 | L18: 176 | M18: 1
C19: =I18+1 -> 2 | D19: =C19+1 -> 3 | E19: =D19+1 -> 4 | F19: =E19+1 -> 5 | G19: =F19+1 -> 6 | H19: =G19+1 -> 7 | I19: =H19+1 -> 8
C20: =I19+1 -> 9 | D20: =C20+1 -> 10 | E20: =D20+1 -> 11 | F20: =E20+1 -> 12 | G20: =F20+1 -> 13 | H20: =G20+1 -> 14 | I20: =H20+1 -> 15
C21: =I20+1 -> 16 | D21: =C21+1 -> 17 | E21: =D21+1 -> 18 | F21: =E21+1 -> 19 | G21: =F21+1 -> 20 | H21: =G21+1 -> 21 | I21: =H21+1 -> 22
C22: =I21+1 -> 23 | D22: =C22+1 -> 24 | E22: =D22+1 -> 25 | F22: =E22+1 -> 26 | G22: =F22+1 -> 27 | H22: =G22+1 -> 28 | I22: =H22+1 -> 29
B23: Februāris | C23: =I22+1 -> 30 | D23: =C23+1 -> 31 | E23: 1 | F23: =E23+1 -> 2 | G23: =F23+1 -> 3 | H23: =G23+1 -> 4 | I23: =H23+1 -> 5 | K23: 20 | L23: 160
C24: =I23+1 -> 6 | D24: =C24+1 -> 7 | E24: =D24+1 -> 8 | F24: =E24+1 -> 9 | G24: =F24+1 -> 10 | H24: =G24+1 -> 11 | I24: =H24+1 -> 12
C25: =I24+1 -> 13 | D25: =C25+1 -> 14 | E25: =D25+1 -> 15 | F25: =E25+1 -> 16 | G25: =F25+1 -> 17 | H25: =G25+1 -> 18 | I25: =H25+1 -> 19
C26: =I25+1 -> 20 | D26: =C26+1 -> 21 | E26: =D26+1 -> 22 | F26: =E26+1 -> 23 | G26: =F26+1 -> 24 | H26: =G26+1 -> 25 | I26: =H26+1 -> 26
B27: Marts | C27: =I26+1 -> 27 | D27: =C27+1 -> 28 | E27: 1 | F27: =E27+1 -> 2 | G27: =F27+1 -> 3 | H27: =G27+1 -> 4 | I27: =H27+1 -> 5 | K27: 23 | L27: 184
C28: =I27+1 -> 6 | D28: =C28+1 -> 7 | E28: =D28+1 -> 8 | F28: =E28+1 -> 9 | G28: =F28+1 -> 10 | H28: =G28+1 -> 11 | I28: =H28+1 -> 12
C29: =I28+1 -> 13 | D29: =C29+1 -> 14 | E29: =D29+1 -> 15 | F29: =E29+1 -> 16 | G29: =F29+1 -> 17 | H29: =G29+1 -> 18 | I29: =H29+1 -> 19
C30: =I29+1 -> 20 | D30: =C30+1 -> 21 | E30: =D30+1 -> 22 | F30: =E30+1 -> 23 | G30: =F30+1 -> 24 | H30: =G30+1 -> 25 | I30: =H30+1 -> 26
B31: Aprīlis | C31: =I30+1 -> 27 | D31: =C31+1 -> 28 | E31: =D31+1 -> 29 | F31: =E31+1 -> 30 | G31: =F31+1 -> 31 | H31: 1 | I31: =H31+1 -> 2
C32: =I31+1 -> 3 | D32: =C32+1 -> 4 | E32: =D32+1 -> 5 | F32: =E32+1 -> 6 | G32: =F32+1 -> 7 | H32: =G32+1 -> 8 | I32: =H32+1 -> 9 | K32: 18 | L32: 143 | M32: 3
C33: =I32+1 -> 10 | D33: =C33+1 -> 11 | E33: =D33+1 -> 12 | F33: =E33+1 -> 13 | G33: =F33+1 -> 14 | H33: =G33+1 -> 15 | I33: =H33+1 -> 16
C34: =I33+1 -> 17 | D34: =C34+1 -> 18 | E34: =D34+1 -> 19 | F34: =E34+1 -> 20 | G34: =F34+1 -> 21 | H34: =G34+1 -> 22 | I34: =H34+1 -> 23
C35: =I34+1 -> 24 | D35: =C35+1 -> 25 | E35: =D35+1 -> 26 | F35: =E35+1 -> 27 | G35: =F35+1 -> 28 | H35: =G35+1 -> 29 | I35: =H35+1 -> 30
B36: Maijs | C36: 1 | D36: =C36+1 -> 2 | E36: =D36+1 -> 3 | F36: =E36+1 -> 4 | G36: =F36+1 -> 5 | H36: =G36+1 -> 6 | I36: =H36+1 -> 7 | K36: 21 | L36: 167 | M36: 4 | N36: 1
C37: =I36+1 -> 8 | D37: =C37+1 -> 9 | E37: =D37+1 -> 10 | F37: =E37+1 -> 11 | G37: =F37+1 -> 12 | H37: =G37+1 -> 13 | I37: =H37+1 -> 14
C38: =I37+1 -> 15 | D38: =C38+1 -> 16 | E38: =D38+1 -> 17 | F38: =E38+1 -> 18 | G38: =F38+1 -> 19 | H38: =G38+1 -> 20 | I38: =H38+1 -> 21
C39: =I38+1 -> 22 | D39: =C39+1 -> 23 | E39: =D39+1 -> 24 | F39: =E39+1 -> 25 | G39: =F39+1 -> 26 | H39: =G39+1 -> 27 | I39: =H39+1 -> 28
B40: Jūnijs | C40: =I39+1 -> 29 | D40: =C40+1 -> 30 | E40: =D40+1 -> 31 | F40: 1 | G40: =F40+1 -> 2 | H40: =G40+1 -> 3 | I40: =H40+1 -> 4 | K40: 21 | L40: 167 | M40: 2
C41: =I40+1 -> 5 | D41: =C41+1 -> 6 | E41: =D41+1 -> 7 | F41: =E41+1 -> 8 | G41: =F41+1 -> 9 | H41: =G41+1 -> 10 | I41: =H41+1 -> 11
C42: =I41+1 -> 12 | D42: =C42+1 -> 13 | E42: =D42+1 -> 14 | F42: =E42+1 -> 15 | G42: =F42+1 -> 16 | H42: =G42+1 -> 17 | I42: =H42+1 -> 18
C43: =I42+1 -> 19 | D43: =C43+1 -> 20 | E43: =D43+1 -> 21 | F43: =E43+1 -> 22 | G43: =F43+1 -> 23 | H43: =G43+1 -> 24 | I43: =H43+1 -> 25
B44: Jūlijs | C44: =I43+1 -> 26 | D44: =C44+1 -> 27 | E44: =D44+1 -> 28 | F44: =E44+1 -> 29 | G44: =F44+1 -> 30 | H44: 1 | I44: =H44+1 -> 2 | K44: 20 | L44: 160 | M44: 2
C45: =I44+1 -> 3 | D45: =C45+1 -> 4 | E45: =D45+1 -> 5 | F45: =E45+1 -> 6 | G45: =F45+1 -> 7 | H45: =G45+1 -> 8 | I45: =H45+1 -> 9
C46: =I45+1 -> 10 | D46: =C46+1 -> 11 | E46: =D46+1 -> 12 | F46: =E46+1 -> 13 | G46: =F46+1 -> 14 | H46: =G46+1 -> 15 | I46: =H46+1 -> 16
C47: =I46+1 -> 17 | D47: =C47+1 -> 18 | E47: =D47+1 -> 19 | F47: =E47+1 -> 20 | G47: =F47+1 -> 21 | H47: =G47+1 -> 22 | I47: =H47+1 -> 23
C48: =I47+1 -> 24 | D48: =C48+1 -> 25 | E48: =D48+1 -> 26 | F48: =E48+1 -> 27 | G48: =F48+1 -> 28 | H48: =G48+1 -> 29 | I48: =H48+1 -> 30
B49: Augusts | C49: =I48+1 -> 31 | D49: 1 | E49: =D49+1 -> 2 | F49: =E49+1 -> 3 | G49: =F49+1 -> 4 | H49: =G49+1 -> 5 | I49: =H49+1 -> 6 | K49: 23 | L49: 184
C50: =I49+1 -> 7 | D50: =C50+1 -> 8 | E50: =D50+1 -> 9 | F50: =E50+1 -> 10 | G50: =F50+1 -> 11 | H50: =G50+1 -> 12 | I50: =H50+1 -> 13
C51: =I50+1 -> 14 | D51: =C51+1 -> 15 | E51: =D51+1 -> 16 | F51: =E51+1 -> 17 | G51: =F51+1 -> 18 | H51: =G51+1 -> 19 | I51: =H51+1 -> 20
C52: =I51+1 -> 21 | D52: =C52+1 -> 22 | E52: =D52+1 -> 23 | F52: =E52+1 -> 24 | G52: =F52+1 -> 25 | H52: =G52+1 -> 26 | I52: =H52+1 -> 27
B53: Septembris | C53: =I52+1 -> 28 | D53: =C53+1 -> 29 | E53: =D53+1 -> 30 | F53: =E53+1 -> 31 | G53: 1 | H53: =G53+1 -> 2 | I53: =H53+1 -> 3 | K53: 21 | L53: 168
C54: =I53+1 -> 4 | D54: =C54+1 -> 5 | E54: =D54+1 -> 6 | F54: =E54+1 -> 7 | G54: =F54+1 -> 8 | H54: =G54+1 -> 9 | I54: =H54+1 -> 10
C55: =I54+1 -> 11 | D55: =C55+1 -> 12 | E55: =D55+1 -> 13 | F55: =E55+1 -> 14 | G55: =F55+1 -> 15 | H55: =G55+1 -> 16 | I55: =H55+1 -> 17
C56: =I55+1 -> 18 | D56: =C56+1 -> 19 | E56: =D56+1 -> 20 | F56: =E56+1 -> 21 | G56: =F56+1 -> 22 | H56: =G56+1 -> 23 | I56: =H56+1 -> 24
B57: Oktobris | C57: =I56+1 -> 25 | D57: =C57+1 -> 26 | E57: =D57+1 -> 27 | F57: =E57+1 -> 28 | G57: =F57+1 -> 29 | H57: =G57+1 -> 30 | I57: 1 | K57: 22 | L57: 176
C58: =I57+1 -> 2 | D58: =C58+1 -> 3 | E58: =D58+1 -> 4 | F58: =E58+1 -> 5 | G58: =F58+1 -> 6 | H58: =G58+1 -> 7 | I58: =H58+1 -> 8
C59: =I58+1 -> 9 | D59: =C59+1 -> 10 | E59: =D59+1 -> 11 | F59: =E59+1 -> 12 | G59: =F59+1 -> 13 | H59: =G59+1 -> 14 | I59: =H59+1 -> 15
C60: =I59+1 -> 16 | D60: =C60+1 -> 17 | E60: =D60+1 -> 18 | F60: =E60+1 -> 19 | G60: =F60+1 -> 20 | H60: =G60+1 -> 21 | I60: =H60+1 -> 22
C61: =I60+1 -> 23 | D61: =C61+1 -> 24 | E61: =D61+1 -> 25 | F61: =E61+1 -> 26 | G61: =F61+1 -> 27 | H61: =G61+1 -> 28 | I61: =H61+1 -> 29
B62: Novembris | C62: =I61+1 -> 30 | D62: =C62+1 -> 31 | E62: 1 | F62: =E62+1 -> 2 | G62: =F62+1 -> 3 | H62: =G62+1 -> 4 | I62: =H62+1 -> 5 | K62: 21 | L62: 167 | M62: 2
C63: =I62+1 -> 6 | D63: =C63+1 -> 7 | E63: =D63+1 -> 8 | F63: =E63+1 -> 9 | G63: =F63+1 -> 10 | H63: =G63+1 -> 11 | I63: =H63+1 -> 12
C64: =I63+1 -> 13 | D64: =C64+1 -> 14 | E64: =D64+1 -> 15 | F64: =E64+1 -> 16 | G64: =F64+1 -> 17 | H64: =G64+1 -> 18 | I64: =H64+1 -> 19
C65: =I64+1 -> 20 | D65: =C65+1 -> 21 | E65: =D65+1 -> 22 | F65: =E65+1 -> 23 | G65: =F65+1 -> 24 | H65: =G65+1 -> 25 | I65: =H65+1 -> 26
B66: Decembris | C66: =I65+1 -> 27 | D66: =C66+1 -> 28 | E66: =D66+1 -> 29 | F66: =E66+1 -> 30 | G66: 1 | H66: =G66+1 -> 2 | I66: =H66+1 -> 3 | K66: 19 | L66: 152 | M66: 4
C67: =I66+1 -> 4 | D67: =C67+1 -> 5 | E67: =D67+1 -> 6 | F67: =E67+1 -> 7 | G67: =F67+1 -> 8 | H67: =G67+1 -> 9 | I67: =H67+1 -> 10
C68: =I67+1 -> 11 | D68: =C68+1 -> 12 | E68: =D68+1 -> 13 | F68: =E68+1 -> 14 | G68: =F68+1 -> 15 | H68: =G68+1 -> 16 | I68: =H68+1 -> 17
C69: =I68+1 -> 18 | D69: =C69+1 -> 19 | E69: =D69+1 -> 20 | F69: =E69+1 -> 21 | G69: =F69+1 -> 22 | H69: =G69+1 -> 23 | I69: =H69+1 -> 24
C70: =I69+1 -> 25 | D70: =C70+1 -> 26 | E70: =D70+1 -> 27 | F70: =E70+1 -> 28 | G70: =F70+1 -> 29 | H70: =G70+1 -> 30 | I70: =H70+1 -> 31
B71: Dienu skaits kopā | C71: =COUNT(C18:C70) -> 52 | D71: =COUNT(D18:D70) -> 52 | E71: =COUNT(E18:E70) -> 52 | F71: =COUNT(F18:F70) -> 52 | G71: =COUNT(G18:G70) -> 52 | H71: =COUNT(H18:H70) -> 52 | I71: =COUNT(I18:I70) -> 53 | J71: =SUM(C71:I71) -> 365 | K71: =SUM(K18:K70) -> 251 | L71: =SUM(L18:L70) -> 2004 | M71: =SUM(M18:M70) -> 18 | N71: =SUM(N18:N70) -> 1
B72: Darba dienu skaits | C72: =C71-C73-C74-C75-C76 -> 47 | D72: =D71-D73-D74-D75-D76 -> 51 | E72: =E71-E73-E74-E75-E76 -> 52 | F72: =F71-F73-F74-F75-F76 -> 51 | G72: =G71-G73-G74-G75-G76 -> 49 | H72: =H71-H73-H74-H75-H76 -> 1 | I72: =I71-I73-I74-I75-I76 -> 0 | J72: =SUM(C72:I72) -> 251 | K72: 1 | L72: =L71/12 -> 167
B73: Sestdienu skaits | H73: =H71-H75 -> 50 | J73: =SUM(C73:I73) -> 50 | K73: 1
B74: Svētdienu skaits | I74: =I71-I75 -> 46 | J74: =SUM(C74:I74) -> 46 | K74: 1
B75: Svētku dienas | C75: 5 | D75: 1 | E75: 0 | F75: =COUNT(F69) -> 1 | G75: 2 | H75: 2 | I75: 7 | J75: =SUM(C75:I75) -> 18 | K75: 2
B76: Pārceltās brīvdienas | G76: 1 | H76: -1 | J76: =SUM(D76:I76) -> 0
