Workbook
Name JĀ: #REF!
Name Nē: #REF!

Sheet Atlidziba_aprekins_2026
A2: Iestāde | B2: Valsts tiesu ekspertīžu birojs | F2: 03.04. 00 Tiesu ekspertīžu veikšana
A4: Nr.p.k. | B4: Struktūrvienība | C4: Amats | D4: Amatu skaits | E4: Slodze | F4: Darbinieka statuss | G4: Mēnešalgas grupa | H4: Noteiktā mēnešalga (vidējais VTEB/VPGKrPP KP) | I4: Mēnešalga atbilstoši slodzei un amatu skaitam
A5: 1 | B5: 2 | C5: 3 | D5: 4 | E5: 5 | F5: 6 | G5: 7 | H5: 8 | I5: 9=4*5*8
A6: 1 | B6: Administratīvais personāls | C6: Direktors | D6: 1 | E6: 1 | F6: I | G6: 14 | H6: 4600 | I6: =D6*E6*H6 -> 4600
A7: 2 | B7: Administratīvais personāls | C7: Direktora vietnieks | D7: 2 | E7: 1 | F7: I | G7: 13 | H7: 3150 | I7: =D7*E7*H7 -> 6300
A8: 3 | B8: Administratīvais personāls | C8: Jurists | D8: 1 | E8: 1 | F8: D | G8: 11 | H8: 2340 | I8: =D8*E8*H8 -> 2340
A9: 4 | B9: Administratīvais personāls | C9: Lietvedis | D9: 3 | E9: 1 | F9: D | G9: 8 | H9: 1305 | I9: =D9*E9*H9 -> 3915
A10: 5 | B10: Administratīvais personāls | C10: Kvalitātes vadītājs | D10: 1 | E10: 1 | F10: D | G10: 11 | H10: 2540 | I10: =D10*E10*H10 -> 2540
A11: 6 | B11: Administratīvais personāls | C11: Personāla vadītājs | D11: 1 | E11: 1 | F11: D | G11: 9 | H11: 1710 | I11: =D11*E11*H11 -> 1710
A12: 7 | B12: Administratīvais personāls | C12: Finansists | D12: 1 | E12: 1 | F12: D | G12: 11 | H12: 2550 | I12: =D12*E12*H12 -> 2550
A13: 8 | B13: Administratīvais personāls | C13: Vecākie speciālistis: Iepirkumu speciālists/IS sistēmas/kvalitāte | D13: 5 | E13: 1 | F13: D | G13: 9 | H13: 1710 | I13: =D13*E13*H13 -> 8550
A14: 9 | B14: Administratīvais personāls | C14: Risku vadītājs | D14: 1 | E14: 1 | F14: D | G14: 11 | H14: 2613 | I14: =D14*E14*H14 -> 2613
A15: 10 | B15: Administratīvais personāls | C15: Nodaļas vadītājs | D15: 1 | E15: 1 | F15: D | G15: 11 | H15: 2613 | I15: =D15*E15*H15 -> 2613
A16: 11 | B16: Atbalsta personāls | C16: Saimniecības pārzinis | D16: 1 | E16: 1 | F16: D | G16: 7 | H16: 1250 | I16: =D16*E16*H16 -> 1250
A17: 12 | B17: Atbalsta personāls | C17: Apkopēja | D17: 6 | E17: 1 | F17: D | G17: 2 | H17: 780 | I17: =D17*E17*H17 -> 4680
... A22: 17 | B22: Satura personāls | C22: Laborants/vec.speciālisti | D22: 7 | E22: 1 | F22: D | G22: 7 | H22: 1305 | I22: =D22*E22*H22 -> 9135
D23: =SUM(D6:D22) -> 153
G25: 6 | H25: Ierēdņi | I25: =SUMIF(F6:F24,"i",I6:I24) -> 18919
G26: 147 | H26: Darbinieki | I26: =SUMIF(F6:F24,"d",I6:I24) -> 302430
H27: KOPĀ mēnesī | I27: =SUM(I25:I26) -> 321349
H28: KOPĀ gadā | I28: =I27*12 -> 3856188
F30: Ierēdņi | G30: Darbinieki | H30: KOPĀ- nepieciešamais finansējums | I30: VTEB budžets 2025.gads | J30: VPGKrPP KP finansējums, kas plānots pārdalīt VTEB | K30: Kopā 2025. gada finansējums saskaņā ar likumu | L30: Papildus nepieciešmais finansējums 2026. gadā (pilnam gadam) | M30: Papildus nepieciešmais finansējums 2026.gadā- no 1.jūlija (pusgadam)
A31: 1000 | B31: Atlīdzība | F31: =F32+F46 -> 335638 | G31: =G32+G46 -> 5425028 | H31: =H32+H46 -> 5760666 | I31: =I32+I46 -> 1660376 | J31: =J32+J46 -> 3424906 | K31: =I31+J31 -> 5085282 | L31: =L32+L46 -> 675384 | M31: =M32+M46 -> 352184
A32: 1100 | B32: Atalgojums | F32: =F33+F34+F45 -> 261082 | G32: =G33+G34+G45 -> 4224996 | H32: =H33+H34+H45 -> 4486078 | I32: 1266472 | J32: 2636876 | K32: =I32+J32 -> 3903348 | L32: =H32-K32 -> 582730 | M32: =L32/2 -> 291365
A33: 1110 | B33: Mēnešalga | F33: =I25*12 -> 227028 | G33: =I26*12 -> 3629160 | H33: =F33+G33 -> 3856188
A34: 1140 | B34: Piemaksas, prēmijas un naudas balvas | F34: =F39+F42+F43+F36+F35+F40+F41+F44 -> 34054 | G34: =G39+G42+G43+G36+G35+G40+G41+G44 -> 595836 | H34: =H39+H42+H43+H36+H35+H40+H41+H44 -> 629890
A35: 1141 | B35: Piemaksa par naksts darbu | F35: 0 | G35: 0 | H35: =ROUND(SUM(F35:G35),0) -> 0
A36: 1142 | B36: Samaksa par virsstundu darbu un darbu svētku dienās | F36: =F37+F38 -> 0 | G36: =G37+G38 -> 0 | H36: =SUM(B36:G36) -> 0
A37: 11421 | B37: Samaksa par virsstundu darbu | F37: 0 | G37: 0 | H37: =ROUND(SUM(F37:G37),0) -> 0
A38: 11422 | B38: Samaksa par darbu svētku dienās | F38: 0 | G38: 0 | H38: =ROUND(SUM(F38:G38),0) -> 0
A39: 1143 | B39: Piemaksas par speciālo dienesta pakāpi un diplomātisko rangu | F39: 0 | G39: 0 | H39: =SUM(B39:G39) -> 0
A40: 1144 | B40: Piemaksa par izdienu | F40: 0 | G40: 0 | H40: =SUM(B40:G40) -> 0
A41: 1145 | B41: Piemaksa par darbu īpašos apstākļos, speciālās piemaksas | F41: 0 | G41: =ROUND((I18+I22)*25%*12,0) -> 51462 | H41: =ROUND(SUM(F41:G41),0) -> 51462
A42: 1147 | B42: Piemaksa par papildu darbu | C42: aizvietošana uz atvaļi.periodu | H42: =ROUND(SUM(F42:G42),0) -> 0
A43: 1148 | B43: Prēmijas un naudas balvas | F43: =ROUND((I25*12)*10%,0) -> 22703 | G43: =ROUND((I26*12)*10%,0) -> 362916 | H43: =ROUND(SUM(F43:G43),0) -> 385619
A44: 1149 | B44: Citas normatīvajos aktos noteiktās piemaksas, kas nav iepriekš klasificētas | F44: =ROUND((I25*12)*5%,0) -> 11351 | G44: =ROUND((I26*12)*5%,0) -> 181458 | H44: =ROUND(SUM(F44:G44),0) -> 192809
A45: 1150 | B45: Atalgojums fiz. pers .uz tiesiskās attiecības regulējošu dokumentu pamata | F45: 0 | G45: 0 | H45: 0 | K45: =I45+J45 -> 0
A46: 1200 | B46: Darba devēja VSAOI, pabalsti un kompensācijas | F46: =F47+F49 -> 74556 | G46: =G47+G49 -> 1200032 | H46: =ROUND(SUM(F46:G46),0) -> 1274588 | I46: 393904 | J46: 788030 | K46: =I46+J46 -> 1181934 | L46: =H46-K46 -> 92654 | M46: 60819
A47: 1210 | B47: Darba devēja valsts sociālās apdrošināšanas obligātās iemaksas | F47: =F48 -> 63205 | G47: =G48 -> 1018574 | H47: =SUM(F47:G47) -> 1081779
A48: 12101 | B48: Darba devēja VSAOI | F48: =ROUND((F32+F50)*0.2359,0) -> 63205 | G48: =ROUND((G32+G50)*0.2359,0) -> 1018574 | H48: =SUM(F48:G48) -> 1081779
A49: 1220 | B49: Darba devēja pabalsti, kompensācijas un citi maksājumi | F49: =F50+F56+F60+F61 -> 11351 | G49: =G50+G56+G60+G61 -> 181458 | H49: =ROUND(SUM(F49:G49),0) -> 192809
A50: 1221 | B50: Darba devēja pabalsti un komp., no kuriem aprēķina IIN un VSAOI | F50: =ROUND((I25*12)*5%,0)-F60 -> 6851 | G50: =ROUND((I26*12)*5%,0)-G60 -> 92823 | H50: =ROUND(SUM(F50:G50),0) -> 99674
A51: 12211 | B51: Darba nespējas lapas (slimības nauda) | H51: =ROUND(SUM(F51:G51),0) -> 0
A52: 12212 | B52: Darba devēja pabalsti | H52: =SUM(H53:H55) -> 0
A53: 122121 | B53: Atvaļinājuma pabalsti | H53: =ROUND(SUM(F53:G53),0) -> 0
A54: 122122 | B54: Atlaišanas (atvaļināšanas) pabalsti | H54: =SUM(B54:G54) -> 0
A55: 122129 | B55: Pārējie iepriekš neklasificētie darba devēja sociāla rakstura pabalsti | H55: =SUM(B55:G55) -> 0
A56: 1224 | B56: Ārvalstīs nodarbināto amatpersonu (darbinieku) pabalsti un komp. | F56: =SUM(F57:F59) -> 0 | G56: =SUM(G57:G59) -> 0 | H56: =SUM(B56:G56) -> 0
A57: 12243 | B57: Algas pabalsts par dienestu ārvalstīs | H57: =SUM(B57:G57) -> 0
A58: 12244 | B58: Pabalsts par bērna, laulātā uzturēšanos ārvalstī | H58: =SUM(B58:G58) -> 0
A59: 12245 | B59: Pabalsts par izmantojamo transportu | H59: =SUM(B59:G59) -> 0
A60: 1227 | B60: Darba devēja izdevumi veselības, dzīvības un nelaimes gadījumu apdr. | F60: =ROUND(750*G25,0) -> 4500 | G60: =SUM(G26-31)*750+1635 -> 88635 | H60: =ROUND(SUM(F60:G60),0) -> 93135
A61: 1228 | B61: Darba devēja pabalsti un komp., no kā neaprēķina IIN un VSAOI | F61: 0 | G61: 0 | H61: =SUM(B61:G61) -> 0

Sheet Atlidziba_aprekins_2027
A2: Iestāde | B2: Valsts tiesu ekspertīžu birojs | F2: 03.04. 00 Tiesu ekspertīžu veikšana
A4: Nr.p.k. | B4: Struktūrvienība | C4: Amats | D4: Amatu skaits | E4: Slodze | F4: Darbinieka statuss | G4: Mēnešalgas grupa | H4: Noteiktā mēnešalga (vidējais VTEB/VPGKrPP KP) | I4: Mēnešalga atbilstoši slodzei un amatu skaitam | J4: nosakot atbilstoši VK publicētajai algu skalas viduspunktam
A5: 1 | B5: 2 | C5: 3 | D5: 4 | E5: 5 | F5: 6 | G5: 7 | H5: 8 | I5: 9=4*5*8
A6: 1 | B6: Administratīvais personāls | C6: Direktors | D6: 1 | E6: 1 | F6: I | G6: 14 | H6: 5284 | I6: =H6*E6*D6 -> 5284
A7: 2 | B7: Administratīvais personāls | C7: Direktora vietnieks | D7: 2 | E7: 1 | F7: I | G7: 13 | H7: 4417 | I7: =H7*E7*D7 -> 8834
A8: 3 | B8: Administratīvais personāls | C8: Jurists | D8: 1 | E8: 1 | F8: D | G8: 11 | H8: 2863 | I8: =H8*E8*D8 -> 2863
A9: 4 | B9: Administratīvais personāls | C9: Lietvedis | D9: 3 | E9: 1 | F9: D | G9: 8 | H9: 1592 | I9: =H9*E9*D9 -> 4776
A10: 5 | B10: Administratīvais personāls | C10: Kvalitātes vadītājs | D10: 1 | E10: 1 | F10: D | G10: 11 | H10: 2863 | I10: =H10*E10*D10 -> 2863
A11: 6 | B11: Administratīvais personāls | C11: Personāla vadītājs | D11: 1 | E11: 1 | F11: D | G11: 9 | H11: 1896 | I11: =H11*E11*D11 -> 1896
A12: 7 | B12: Administratīvais personāls | C12: Finansists | D12: 1 | E12: 1 | F12: D | G12: 11 | H12: 2863 | I12: =H12*E12*D12 -> 2863
A13: 8 | B13: Administratīvais personāls | C13: Vecākie speciālistis: Iepirkumu speciālists/IS sistēmas/kvalitāte | D13: 5 | E13: 1 | F13: D | G13: 9 | H13: 1896 | I13: =H13*E13*D13 -> 9480
A14: 9 | B14: Administratīvais personāls | C14: Risku vadītājs | D14: 1 | E14: 1 | F14: D | G14: 11 | H14: 2863 | I14: =H14*E14*D14 -> 2863
A15: 10 | B15: Administratīvais personāls | C15: Nodaļas vadītājs | D15: 1 | E15: 1 | F15: D | G15: 11 | H15: 2863 | I15: =H15*E15*D15 -> 2863
A16: 11 | B16: Atbalsta personāls | C16: Saimniecības pārzinis | D16: 1 | E16: 1 | F16: D | G16: 7 | H16: 1483 | I16: =H16*E16*D16 -> 1483
A17: 12 | B17: Atbalsta personāls | C17: Apkopēja | D17: 6 | E17: 1 | F17: D | G17: 2 | H17: 820 | I17: =H17*E17*D17 -> 4920
... A22: 17 | B22: Satura personāls | C22: Laborants/vec.speciālisti | D22: 7 | E22: 1 | F22: D | G22: 7 | H22: 1483 | I22: =H22*E22*D22 -> 10381
D23: =SUM(D6:D22) -> 153
G25: 6 | H25: Ierēdņi | I25: =SUMIF(F6:F24,"i",I6:I24) -> 24804
G26: 147 | H26: Darbinieki | I26: =SUMIF(F6:F24,"d",I6:I24) -> 370542
H27: KOPĀ mēnesī | I27: =SUM(I25:I26) -> 395346
H28: KOPĀ gadā | I28: =I27*12 -> 4744152
F31: Ierēdņi | G31: Darbinieki | H31: KOPĀ- nepieciešamais finansējums | I31: VTEB budžets 2025.gads | J31: VPGKrPP KP finansējums, kas plānots pārdalīt VTEB | K31: Kopā 2025. gada finansējums saskaņā ar likumu | L31: Papildus nepieciešmais finansējums 2027.gadā
A32: 1000 | B32: Atlīdzība | F32: =F33+F59 -> 440374 | G32: =G33+G59 -> 6651721 | H32: =H33+H59 -> 7092095 | I32: =I33+I59 -> 1660376 | J32: =J33+J59 -> 3424906 | K32: =K33+K59 -> 5085282 | L32: =L33+L59 -> 2006813
A33: 1100 | B33: Atalgojums | F33: =F34+F47+F58 -> 342295 | G33: =G34+G47+G58 -> 5176680 | H33: =H34+H47+H58 -> 5518975 | I33: 1266472 | J33: 2636876 | K33: 3903348 | L33: =H33-K33 -> 1615627
A34: 1110 | B34: Mēnešalga | F34: =F38+F44+F41+F35 -> 297648 | G34: =G38+G44+G41+G35 -> 4446504 | H34: =H38+H44+H41+H35 -> 4744152
A35: 1113 | B35: MK locekļu, valsts ministru un ministriju parlamentāro sekretāru mēnešalga | F35: =SUM(F36:F37) -> 0 | G35: =SUM(G36:G37) -> 0 | H35: =SUM(B35:G35) -> 0
A36: 11131 | B36: MK locekļu, valsts ministru un parlamentāro sekretāru mēnešalga | H36: =SUM(B36:G36) -> 0
A37: 11132 | B37: MK locekļu, valsts ministru un parlamentāro sekretāru atvaļinājuma nauda | H37: =SUM(B37:G37) -> 0
A38: 1114 | B38: Valsts civildienesta ierēdņu mēnešalga | F38: =F39+F40 -> 297648 | G38: =G39+G40 -> 0 | H38: =H39+H40 -> 297648
A39: 11141 | B39: Valsts civildienesta ierēdņu mēnešalga | F39: =ROUND(I25*11,0) -> 272844 | H39: =ROUND(SUM(F39:G39),0) -> 272844
A40: 11142 | B40: Valsts civildienesta ierēdņu atvaļinājuma nauda | F40: =ROUND(I25,0) -> 24804 | H40: =ROUND(SUM(F40:G40),0) -> 24804
A41: 1116 | B41: Mēnešalga amatpersonām ar speciālajām dienesta pakāpēm | F41: =SUM(F42:F43) -> 0 | G41: =SUM(G42:G43) -> 0 | H41: =SUM(B41:G41) -> 0
A42: 11161 | B42: Mēneša amatalga amatpersonām ar speciālajām dienesta pakāpēm | H42: =SUM(B42:G42) -> 0
A43: 11192 | B43: Atvaļinājuma nauda amatpersonām ar speciālajām dienesta pakāpēm | H43: =SUM(B43:G43) -> 0
A44: 1119 | B44: Pārējo darbinieku mēnešalga (darba alga) | F44: =SUM(F45:F46) -> 0 | G44: =SUM(G45:G46) -> 4446504 | H44: =SUM(F44:G44) -> 4446504
A45: 11191 | B45: Pārējo darbinieku mēnešalga | G45: =ROUND(I26*11,0) -> 4075962 | H45: =ROUND(SUM(F45:G45),0) -> 4075962
A46: 11192 | B46: Pārējo darbinieku atvaļinājuma nauda | G46: =ROUND(I26,0) -> 370542 | H46: =ROUND(SUM(F46:G46),0) -> 370542
A47: 1140 | B47: Piemaksas, prēmijas un naudas balvas | F47: =F52+F55+F56+F49+F48+F53+F54+F57 -> 44647 | G47: =G52+G55+G56+G49+G48+G53+G54+G57 -> 730176 | H47: =H52+H55+H56+H49+H48+H53+H54+H57 -> 774823
A48: 1141 | B48: Piemaksa par naksts darbu | F48: 0 | G48: 0 | H48: =ROUND(SUM(F48:G48),0) -> 0
A49: 1142 | B49: Samaksa par virsstundu darbu un darbu svētku dienās | F49: =F50+F51 -> 0 | G49: =G50+G51 -> 0 | H49: =SUM(B49:G49) -> 0
A50: 11421 | B50: Samaksa par virsstundu darbu | F50: 0 | G50: 0 | H50: =ROUND(SUM(F50:G50),0) -> 0
A51: 11422 | B51: Samaksa par darbu svētku dienās | F51: 0 | G51: 0 | H51: =ROUND(SUM(F51:G51),0) -> 0
A52: 1143 | B52: Piemaksas par speciālo dienesta pakāpi un diplomātisko rangu | F52: 0 | G52: 0 | H52: =SUM(B52:G52) -> 0
A53: 1144 | B53: Piemaksa par izdienu | F53: 0 | G53: 0 | H53: =SUM(B53:G53) -> 0
A54: 1145 | B54: Piemaksa par darbu īpašos apstākļos, speciālās piemaksas | F54: 0 | G54: =ROUND((I18+I22)*25%*12,0) -> 63201 | H54: =ROUND(SUM(F54:G54),0) -> 63201
A55: 1147 | B55: Piemaksa par papildu darbu | C55: aizvietošana uz atvaļi.periodu | H55: =ROUND(SUM(F55:G55),0) -> 0
A56: 1148 | B56: Prēmijas un naudas balvas | F56: =ROUND((I25*12)*10%,0) -> 29765 | G56: =ROUND((I26*12)*10%,0) -> 444650 | H56: =ROUND(SUM(F56:G56),0) -> 474415
A57: 1149 | B57: Citas normatīvajos aktos noteiktās piemaksas, kas nav iepriekš klasificētas | F57: =ROUND((I25*12)*5%,0) -> 14882 | G57: =ROUND((I26*12)*5%,0) -> 222325 | H57: =ROUND(SUM(F57:G57),0) -> 237207
A58: 1150 | B58: Atalgojums fiz. pers .uz tiesiskās attiecības regulējošu dokumentu pamata | F58: 0 | G58: 0 | H58: =SUM(B58:G58) -> 0
A59: 1200 | B59: Darba devēja VSAOI, pabalsti un kompensācijas | F59: =F60+F62 -> 98079 | G59: =G60+G62 -> 1475041 | H59: =ROUND(SUM(F59:G59),0) -> 1573120 | I59: 393904 | J59: 788030 | K59: 1181934 | L59: =H59-K59 -> 391186
A60: 1210 | B60: Darba devēja valsts sociālās apdrošināšanas obligātās iemaksas | F60: =F61 -> 83197 | G60: =G61 -> 1252716 | H60: =SUM(F60:G60) -> 1335913
A61: 12101 | B61: Darba devēja VSAOI | F61: =ROUND((F33+F63)*0.2359,0) -> 83197 | G61: =ROUND((G33+G63)*0.2359,0) -> 1252716 | H61: =SUM(F61:G61) -> 1335913
A62: 1220 | B62: Darba devēja pabalsti, kompensācijas un citi maksājumi | F62: =F63+F69+F70+F71 -> 14882 | G62: =G63+G69+G70+G71 -> 222325 | H62: =ROUND(SUM(F62:G62),0) -> 237207
A63: 1221 | B63: Darba devēja pabalsti un komp., no kuriem aprēķina IIN un VSAOI | F63: =ROUND((I25*12)*5%,0)-F70 -> 10382 | G63: =ROUND((I26*12)*5%,0)-G70 -> 133690 | H63: =ROUND(SUM(F63:G63),0) -> 144072
A64: 12211 | B64: Darba nespējas lapas (slimības nauda) | H64: =ROUND(SUM(F64:G64),0) -> 0
A65: 12212 | B65: Darba devēja pabalsti | H65: =SUM(H66:H68) -> 0
A66: 122121 | B66: Atvaļinājuma pabalsti | H66: =ROUND(SUM(F66:G66),0) -> 0
A67: 122122 | B67: Atlaišanas (atvaļināšanas) pabalsti | H67: =SUM(B67:G67) -> 0
A68: 122129 | B68: Pārējie iepriekš neklasificētie darba devēja sociāla rakstura pabalsti | H68: =SUM(B68:G68) -> 0
A69: 1224 | B69: Ārvalstīs nodarbināto amatpersonu (darbinieku) pabalsti un komp. | F69: 0 | G69: 0 | H69: =SUM(B69:G69) -> 0
A70: 1227 | B70: Darba devēja izdevumi veselības, dzīvības un nelaimes gadījumu apdr. | F70: =ROUND(750*G25,0) -> 4500 | G70: =SUM(G26-31)*750+1635 -> 88635 | H70: =ROUND(SUM(F70:G70),0) -> 93135
A71: 1228 | B71: Darba devēja pabalsti un komp., no kā neaprēķina IIN un VSAOI | F71: 0 | G71: 0 | H71: =SUM(B71:G71) -> 0

Sheet VTEI
A3: Papildu finansējuma aprēķins Tieslietu ministrijas 03.04. 00 budžeta apakšprogrammai "Tiesu ekspertīžu veikšana"
A7: Kods* | B7: Rādītājs/koda nosaukums | C7: VTEB budžets 2025.gads | D7: VPGKrPP KP 2025. | E7: Kopā 2025. gada finansējums | F7: VTEI budžets 2026. gadā* | G7: Papildus 2026.g. (1/2 no gada summas - ar 1. jūliju) | H7: Papildus vienreizējie izdevumi 2026. | I7: Papildus 2026. (kopā) | J7: VTEI budžets 2027. gadā | K7: Papildus 2027. gads un turpmāk | L7: Papildus vienreizējie izdevumi 2027. | M7: Papildus 2027. (kopā) | N7: Piezīmes aprēķiniem
A8: 1000-9000 | B8: IZDEVUMI - KOPĀ | C8: =SUM(C9+C149) -> 2128599 | D8: =SUM(D9+D149) -> 3771599 | E8: =SUM(E9+E149) -> 5900198 | F8: =SUM(F9+F149) -> 7045534 | G8: =SUM(G9+G149) -> 1004436 | H8: =SUM(H9+H149) -> 140900 | I8: =SUM(I9+I149) -> 1145336 | J8: =SUM(J9+J149) -> 8999862 | ... M8: =SUM(M9+M149) -> 3099664
A9: 1000–4000; 6000–7000 | B9: Uzturēšanas izdevumi | C9: =SUM(C10+C146) -> 2099801 | D9: =SUM(D10+D146) -> 3771599 | E9: =SUM(E10+E146) -> 5871400 | F9: =SUM(F10+F146) -> 6966936 | G9: =SUM(G10+G146) -> 1004436 | H9: =SUM(H10+H146) -> 91100 | I9: =SUM(I10+I146) -> 1095536 | J9: =SUM(J10+J146) -> 8845064 | ... M9: =SUM(M10+M146) -> 2973664
A10: 1000–2000 | B10: Kārtējie izdevumi | C10: =SUM(C11+C40) -> 2095676 | D10: =SUM(D11+D40) -> 3771599 | E10: =SUM(E11+E40) -> 5867275 | F10: =SUM(F11+F40) -> 6962811 | G10: =SUM(G11+G40) -> 1004436 | H10: =SUM(H11+H40) -> 91100 | I10: =SUM(I11+I40) -> 1095536 | J10: =SUM(J11+J40) -> 8840939 | ... M10: =SUM(M11+M40) -> 2973664
A11: 1000 | B11: Atlīdzība | C11: =C12+C29 -> 1660376 | D11: =D12+D29 -> 3424906 | E11: =C11+D11 -> 5085282 | F11: =F12+F29 -> 5437466 | G11: =SUM(G12+G29) -> 352184 | I11: =SUM(G11:H11) -> 352184 | J11: =J12+J29 -> 7092095 | K11: =SUM(K12+K29) -> 2006813 | M11: =SUM(K11:L11) -> 2006813 | N11: Saskaņā ar "Atlīdzība_aprekins_2026" un "Atlīdzība_aprekins_2027", t.sk 2026. gadā palielinājums ar 1. jūliju, 6 mēneši
A12: 1100 | B12: Atalgojums | C12: =C13+C17+C28 -> 1266472 | D12: =D13+D17+D28 -> 2636876 | E12: =E13+E17+E28 -> 3903348 | F12: =SUM(E12+G12) -> 4194713 | G12: 291365 | I12: =SUM(G12:H12) -> 291365 | J12: =J13+J17 -> 5518975 | K12: =SUM(J12-E12) -> 1615627 | M12: =SUM(K12:L12) -> 1615627 | N12: 2026. gadā: 4486078 euro -3903348 euro = 582730 euro/2=291365 euro
A13: 1110 | B13: Mēnešalga | C13: =SUM(C14:C16) -> 1183200 | D13: =SUM(D14:D16) -> 2407356 | E13: =SUM(E14:E16) -> 3590556 | I13: =SUM(G13:H13) -> 0 | J13: =SUM(J14:J16) -> 4744152 | K13: =SUM(J13-E13) -> 1153596 | M13: =SUM(K13:L13) -> 1153596
A14: 1114 | B14: Valsts civildienesta ierēdņu mēnešalga | C14: 267655 | E14: =C14+D14 -> 267655 | J14: =Atlidziba_aprekins_2027!H38 -> 297648 | M14: =SUM(K14:L14) -> 0
A15: 1116 | B15: Mēnešalga amatpersonām ar speciālajām dienesta pakāpēm | C15: 0 | D15: 1174872 | E15: =C15+D15 -> 1174872
A16: 1119 | B16: Pārējo darbinieku mēnešalga (darba alga) | C16: 915545 | D16: 1232484 | E16: =C16+D16 -> 2148029 | J16: =Atlidziba_aprekins_2027!H44 -> 4446504
A17: 1140 | B17: Piemaksas, prēmijas un naudas balvas | C17: =SUM(C18:C27) -> 81322 | D17: =SUM(D18:D27) -> 229520 | E17: =C17+D17 -> 310842 | I17: =SUM(G17:H17) -> 0 | J17: =SUM(J18:J27) -> 774823 | K17: =SUM(J17-E17) -> 463981 | M17: =SUM(K17:L17) -> 463981
A18: 1141 | B18: Piemaksa par nakts darbu | C18: 0 | E18: =C18+D18 -> 0
A19: 1143 | B19: Piemaksas par speciālo dienesta pakāpi un diplomātisko rangu | C19: 0 | E19: =C19+D19 -> 0
A20: 1144 | B20: Piemaksa par izdienu | C20: 0 | E20: =C20+D20 -> 0
A21: 1142 | B21: Samaksa par virsstundu darbu un darbu svētku dienās | C21: 0 | E21: =C21+D21 -> 0 | J21: =Atlidziba_aprekins_2027!H49 -> 0
A22: 1143 | B22: Piemaksas par speciālo dienesta pakāpi un diplomātisko rangu | D22: 55956 | E22: =C22+D22 -> 55956 | J22: 0
A23: 1145 | B23: Piemaksa par darbu īpašos apstākļos, speciālās piemaksas | C23: 0 | D23: 173564 | E23: =C23+D23 -> 173564 | J23: =Atlidziba_aprekins_2027!H54 -> 63201
A24: 1146 | B24: Piemaksa par personisko darba ieguldījumu un darba kvalitāti | C24: 0 | E24: =C24+D24 -> 0 | J24: 0
A25: 1147 | B25: Piemaksa par papildu darbu | C25: 13430 | E25: =C25+D25 -> 13430 | J25: =Atlidziba_aprekins_2027!H55 -> 0
A26: 1148 | B26: Prēmijas un naudas balvas | C26: =15266+50350 -> 65616 | E26: =C26+D26 -> 65616 | J26: =Atlidziba_aprekins_2027!H56 -> 474415
A27: 1149 | B27: Citas normatīvajos aktos noteiktās piemaksas, kas nav iepriekš klasificētas | C27: 2276 | E27: =C27+D27 -> 2276 | J27: =Atlidziba_aprekins_2027!H57 -> 237207
A28: 1150 | B28: Atalgojums fiziskām personām uz tiesiskās attiecības regulējošu dokumentu pamata | C28: 1950 | E28: =C28+D28 -> 1950 | F28: 0 | I28: =SUM(G28:H28) -> 0 | J28: 0
A29: 1200 | B29: Darba devēja valsts sociālās apdrošināšanas obligātās iemaksas, pabalsti un kompensācijas | C29: =C30+C31 -> 393904 | D29: =D30+D31 -> 788030 | E29: =E30+E31 -> 1181934 | F29: =SUM(E29+G29) -> 1242753 | G29: =SUM(G30:G31) -> 60819 | I29: =SUM(G29:H29) -> 60819 | J29: =J30+J31 -> 1573120 | K29: =SUM(J29-E29) -> 391186 | M29: =SUM(K29:L29) -> 391186 | N29: Saskaņā ar "Atlīdzība_aprekins_2026" un "Atlīdzība_aprekins_2027", t.sk 2026. gadā palielinājums ar 1. jūliju, 6 mēneši
A30: 1210 | B30: Darba devēja valsts sociālās apdrošināšanas obligātās iemaksas | C30: 311620 | D30: 645696 | E30: =D30+C30 -> 957316 | G30: 62232 | I30: =SUM(G30:H30) -> 62232 | J30: =Atlidziba_aprekins_2027!H60 -> 1335913 | K30: =SUM(J30-E30) -> 378597 | M30: =SUM(K30:L30) -> 378597 | N30: 2026. gadā: 1081779 euro -957316 euro = 124463 euro/2=62232 euro
A31: 1220 | B31: Darba devēja pabalsti, kompensācijas un citi maksājumi | C31: =SUM(C32:C39) -> 82284 | D31: =SUM(D32:D39) -> 142334 | E31: =SUM(E32:E39) -> 224618 | G31: -1413 | I31: =SUM(G31:H31) -> -1413 | J31: =SUM(J32:J39) -> 237207 | K31: =SUM(J31-E31+K38) -> 12589 | M31: =SUM(K31:L31) -> 12589 | N31: 2026. gadā: 192809 euro -224618 euro =-31809 euro/2=-15905 euro + 14492 euro (apdrošināšana gadam) =-1413 euro
A32: 1221 | B32: Darba devēja pabalsti un kompensācijas, no kuriem aprēķina iedzīvotāju ienākuma nodokli un valsts sociālās apdrošināšanas obligātās iemaksas | C32: =12666+45316 -> 57982 | D32: 100334 | E32: =C32+D32 -> 158316 | J32: =Atlidziba_aprekins_2027!H63 -> 144072
A33: 1222 | B33: Studējošo kredītu dzēšana no piešķirtajiem budžeta līdzekļiem | E33: =C33+D33 -> 0
A34: 1223 | B34: Mācību maksas kompensācija | E34: =C34+D34 -> 0
A35: 1224 | B35: Ārvalstīs nodarbināto amatpersonu (darbinieku) pabalsti | E35: =C35+D35 -> 0
A36: 1225 | B36: Darba devēja uzturdevas kompensācija | E36: =C36+D36 -> 0
A37: 1226 | B37: Dienesta pienākumu izpildei nepieciešamā apģērba iegādes kompensācija | E37: =C37+D37 -> 0
A38: 1227 | B38: Darba devēja izdevumi veselības, dzīvības un nelaimes gadījumu apdrošināšanai | C38: =3408+18744 -> 22152 | D38: 42000 | E38: =C38+D38 -> 64152 | J38: =SUM(Atlidziba_aprekins_2027!H70) -> 93135 | N38: Veselības apdrošināšanas un nelaimes gadījumu apdrošināšanas polisēm papildus nepieciešams finansējums 28 983 euro (93135 euro - 64152 euro), t.sk. 2026. gadā pilnā apmērā (polise jāpērk VPGKrPP KP darbiniekiem)
A39: 1228 | B39: Darba devēja pabalsti un kompensācijas, no kā neaprēķina iedzīvotāju ienākuma nodokli un valsts sociālās apdrošināšanas obligātās iemaksas | C39: =430+1720 -> 2150 | E39: =C39+D39 -> 2150
A40: 2000 | B40: Preces un pakalpojumi | C40: =SUM(C41+C48+C113+C143) -> 435300 | D40: =SUM(D41+D48+D113+D143) -> 346693 | E40: =SUM(C40:D40) -> 781993 | F40: =SUM(F41+F48+F113+F143) -> 1525345 | G40: =SUM(G41+G48+G113+G143) -> 652252 | H40: =SUM(H41+H48+H113+H143) -> 91100 | I40: =SUM(I41+I48+I113+I143) -> 743352 | J40: =SUM(J41+J48+J113+J143) -> 1748844 | K40: =SUM(K41+K48+K113+K143) -> 791221 | L40: =SUM(L41+L48+L113+L143) -> 175630 | M40: =SUM(M41+M48+M113+M143) -> 966851
A41: 2100 | B41: Mācību, darba un dienesta komandējumi, darba braucieni | C41: =SUM(C42+C45) -> 23064 | D41: =SUM(D42+D45) -> 4500 | E41: =SUM(C41:D41) -> 27564 | F41: =SUM(F42+F45) -> 37064 | G41: =SUM(G42+G45) -> 9500 | H41: =SUM(H42+H45) -> 0 | I41: =SUM(I42+I45) -> 9500 | J41: =SUM(J42+J45) -> 46564 | K41: =SUM(K42+K45) -> 19000 | L41: =SUM(L42+L45) -> 0 | M41: =SUM(M42+M45) -> 19000 | N41: 2026. gadā 6 mēneši, 2027. gads
A42: 2110 | B42: Iekšzemes mācību, darba un dienesta komandējumi, darba braucieni | C42: =C43+C44 -> 86 | D42: =D43+D44 -> 0 | E42: =SUM(C42:D42) -> 86 | F42: =F43+F44 -> 86 | G42: =G43+G44 -> 0 | H42: =H43+H44 -> 0 | I42: =I43+I44 -> 0 | J42: =J43+J44 -> 86 | K42: =K43+K44 -> 0 | L42: =L43+L44 -> 0 | M42: =M43+M44 -> 0
A43: 2111 | B43: Dienas nauda | C43: 32 | E43: =SUM(C43:D43) -> 32 | F43: 32 | J43: 32 | M43: =SUM(K43:L43) -> 0
A44: 2112 | B44: Pārējie komandējumu un darba braucienu izdevumi | C44: 54 | E44: =SUM(C44:D44) -> 54 | F44: 54 | J44: 54 | M44: =SUM(K44:L44) -> 0
A45: 2120 | B45: Ārvalstu mācību, darba un dienesta komandējumi, darba braucieni | C45: =SUM(C46:C47) -> 22978 | D45: =SUM(D46:D47) -> 4500 | E45: =SUM(C45:D45) -> 27478 | F45: =SUM(F46:F47) -> 36978 | G45: =SUM(G46:G47) -> 9500 | H45: =SUM(H46:H47) -> 0 | I45: =SUM(I46:I47) -> 9500 | J45: =SUM(J46:J47) -> 46478 | K45: =SUM(K46:K47) -> 19000 | L45: =SUM(L46:L47) -> 0 | M45: =SUM(M46:M47) -> 19000 | N45: Tiesu ekspertu kvalifikācijas paaugstināšanā būtiska nozīme ir tiesu ekspertu aktīvai dalībai Eiropas Tiesu ekspertīžu iestāžu asociācijā – dalība Vadības komitejās, tiesu ekspertu darba grupās un projektos.
A46: 2121 | B46: Dienas nauda | C46: 4725 | D46: 600 | E46: =SUM(C46:D46) -> 5325 | F46: 6937 | G46: 1612 | I46: =SUM(G46:H46) -> 1612 | J46: 8550 | K46: 3225 | M46: =SUM(K46:L46) -> 3225 | N46: dienas nauda vidēji 50 euro dienā x 171 dienas
A47: 2122 | B47: Pārējie komandējumu un darba braucienu izdevumi | C47: 18253 | D47: 3900 | E47: =SUM(C47:D47) -> 22153 | F47: 30041 | G47: 7888 | I47: =SUM(G47:H47) -> 7888 | J47: 37928 | K47: 15775 | M47: =SUM(K47:L47) -> 15775 | N47: ceļa izdevumi ~400 euro x 31 komandējumi = 12400 euro, viesnīcas izdevumi ~120 euro par nakti x 131= 15720 euro, dalības maksa vid.400 x 23= 9200euro, vietējā transporta izdevumi ~19 x 23 euro =437 euro, apdrošināšana 171 dienas x 1 euro=171 euro
A48: 2200 | B48: Pakalpojumi | C48: =SUM(C49+C55+C60+C79+C104+C109) -> 324012 | D48: =SUM(D49+D55+D60+D79+D104+D109) -> 146903 | E48: =SUM(E49+E55+E60+E79+E104+E109) -> 470915 | F48: =SUM(F49+F55+F60+F79+F104+F109) -> 1183667 | G48: =SUM(G49+G55+G60+G79+G104+G109) -> 642752 | H48: =SUM(H49+H55+H60+H79+H104+H109) -> 70000 | I48: =SUM(G48:H48) -> 712752 | J48: =SUM(J49+J55+J60+J79+J104+J109) -> 1302136 | K48: =SUM(K49+K55+K60+K79+K104+K109) -> 772221 | L48: =SUM(L49+L55+L60+L79+L104+L109) -> 59000 | M48: =SUM(K48:L48) -> 831221
A49: 2210 | B49: Izdevumi par sakaru pakalpojumiem | C49: =SUM(C50:C54) -> 9415 | D49: =SUM(D50:D54) -> 196 | E49: =SUM(C49:D49) -> 9611 | F49: =SUM(F50:F54) -> 10001 | G49: =SUM(G50:G54) -> 390 | I49: =SUM(G49:G49) -> 390 | J49: =SUM(J50:J54) -> 10391 | K49: =SUM(K50:K54) -> 780 | L49: =SUM(L50:L54) -> 0 | M49: =SUM(K49:L49) -> 780
A50: 22101 | B50: Pasta pakalpojumi | C50: 308 | D50: 54 | E50: =SUM(C50:D50) -> 362 | F50: 362 | I50: =SUM(G50:G50) -> 0 | J50: 362 | M50: =SUM(K50:L50) -> 0
A51: 22102 | B51: Fiksēto tālruņu sakaru pakalpojumu abonēšana, sarunas un citi pakalpojumi | C51: 1983 | E51: =SUM(C51:D51) -> 1983 | F51: 2373 | G51: 390 | I51: =SUM(G51:G51) -> 390 | J51: 2763 | K51: 780 | M51: =SUM(K51:L51) -> 780 | N51: Sakaru pakalpojumu nodrošināšanai papildus nepieciešams 2026.gads 20 darbiniekiem - stacionārais telefons x 3.25 euro= 65 euro x 6 mēn.= 390 euro, 2027. gads 20 x 3,25 euro x 12 mēn. =780 euro
A52: 22103 | B52: Mobilo sakaru pakalpojumu abonēšana, sarunas un citi pakalpojumi | C52: 460 | D52: 142 | E52: =SUM(C52:D52) -> 602 | F52: 602 | I52: =SUM(G52:G52) -> 0 | J52: 602 | M52: =SUM(K52:L52) -> 0
A53: 22104 | B53: Informatīvo pakalpojumu un datu bāžu abonēšana | C53: 6546 | E53: =SUM(C53:D53) -> 6546 | F53: 6546 | I53: =SUM(G53:G53) -> 0 | J53: 6546 | M53: =SUM(K53:L53) -> 0
A54: 22109 | B54: Pārējie iepriekš neklasificētie sakaru pakalpojumi | C54: 118 | E54: =SUM(C54:D54) -> 118 | F54: 118 | I54: =SUM(G54:G54) -> 0 | J54: 118 | M54: =SUM(K54:L54) -> 0
A55: 2220 | B55: Izdevumi par komunālajiem pakalpojumiem | C55: =C56+C57+C58+C59 -> 52184 | D55: =D56+D57+D58+D59 -> 426 | E55: =SUM(C55:D55) -> 52610 | F55: =F56+F57+F58+F59 -> 148264 | G55: =G56+G57+G58+G59 -> 95654 | H55: =H56+H57+H58+H59 -> 0 | I55: =SUM(G55:H55) -> 95654 | J55: =J56+J57+J58+J59 -> 212924 | K55: =K56+K57+K58+K59 -> 160314 | L55: =L56+L57+L58+L59 -> 0 | M55: =SUM(K55:L55) -> 160314
A56: 2221 | B56: Izdevumi par siltumenerģiju | C56: 19630 | E56: =SUM(C56:D56) -> 19630 | F56: 56872 | G56: 37242 | I56: =SUM(G56:G56) -> 37242 | J56: 81434 | K56: 61804 | M56: =SUM(K56:L56) -> 61804 | N56: Invalīdu iela 1, Laboratoriju ēkā apkurināmā platība par 1572.9 m² ir lielāka, apkures sezona 6 mēneši, plānotais patērētais siltums vidēji ~60 mWh mēnesī x 6 mēneši = 360 Mwh x 89.75 euro = 32 310 euro, budžetā plānots 19 630 euro, apkurei nepieciešams papildu finansējums 12 680 euro; VPGKrPP KP budžetā nav ietverti nekustamo īpašumu komunālie izdevumi, nekustamo īpašumu apsaimnieko Nodrošinājuma valsts aģentūra (turpmāk NVA). Saskaņā ar NVA sniegto informāciju VPGKrPP KP izmanto 4990,19 m² (Valmiera, Dārza iela 2, Liepāja, Bāriņu iela 3, Daugavpils, 18.novembra iela 39, Rīga, Rājumsila iela 3, Kleistu iela 46, Stabu iela 89, Bruņinieku iela 72B ) no 38012,9 m² platības. NVA sniegtā informācija par apkures izdevumiem tiesu ekspertīžu telpām 49124 euro gadā.
A57: 2222 | B57: Izdevumi par ūdensapgādi un kanalizāciju | C57: 1350 | E57: =SUM(C57:D57) -> 1350 | F57: 3757 | G57: 2407 | I57: =SUM(G57:G57) -> 2407 | J57: 6165 | K57: 4815 | M57: =SUM(K57:L57) -> 4815 | N57: NVA sniegtā informācija par izdevumiem ūdensapgādei un kanalizācijai tiesu ekspertīžu telpām 4815 euro gadā.
A58: 2223 | B58: Izdevumi par elektroenerģiju | C58: 28914 | E58: =SUM(C58:D58) -> 28914 | F58: 81330 | G58: 52416 | I58: =SUM(G58:G58) -> 52416 | J58: 115432 | K58: 86518 | M58: =SUM(K58:L58) -> 86518 | N58: Invalīdu iela 1 elektroenerģijai budžetā plānots 28 914 euro, elektroenerģijas gada patēriņš plānots ~170 500 kWh x 0.277 = 47 229 euro, papildus nepieciešams 18 315 euro; NVA sniegtā informācija par elektroenerģijas izdevumiem tiesu ekspertīžu telpām 68203 euro gadā.
A59: 2224 | B59: Izdevumi par atkritumu savākšanu, izvešanu no apdzīvotām vietām un teritorijām ārpus apdzīvotām vietām un atkritumu utilizāciju | C59: 2290 | D59: 426 | E59: =SUM(C59:D59) -> 2716 | F59: 6305 | G59: 3589 | I59: =SUM(G59:G59) -> 3589 | J59: 9893 | K59: 7177 | M59: =SUM(K59:L59) -> 7177 | N59: NVA sniegtā informācija par izdevumiem atkritumu savākšanai, izvešanai tiesu ekspertīžu nodrošināšanai 7177 euro gadā.
A60: 2230 | B60: Dažādi pakalpojumi | C60: =C61+C64+C68+C69+C71+C73+C74 -> 23474 | D60: =D61+D64+D68+D69+D71+D73+D74 -> 11363 | E60: =E61+E64+E68+E69+E71+E73+E74 -> 34837 | F60: =F61+F64+F68+F69+F71+F73+F74 -> 106354 | G60: =G61+G64+G68+G69+G71+G73+G74 -> 1517 | H60: =H61+H64+H68+H69+H71+H73+H74 -> 70000 | I60: =I61+I64+I68+I69+I71+I73+I74 -> 71517 | J60: =J61+J64+J68+J69+J71+J73+J74 -> 96871 | ... M60: =M61+M64+M68+M69+M71+M73+M74 -> 62034
A61: 2231 | B61: Izdevumi iestādes sabiedrisko aktivitāšu īstenošanai | C61: =C62+C63 -> 1820 | D61: =D62+D63 -> 963 | E61: =SUM(C61:D61) -> 2783 | F61: =F62+F63 -> 2783 | G61: =G62+G63 -> 0 | I61: =SUM(G61:G61) -> 0 | J61: =J62+J63 -> 2783 | K61: =K62+K63 -> 0 | L61: =L62+L63 -> 0 | M61: =SUM(K61:L61) -> 0
A62: 22311 | B62: Semināru, konferenču, apspriežu, u.c. līdzīgu pasākumu organizēšana | C62: 1120 | E62: =SUM(C62:D62) -> 1120 | F62: 1120 | I62: =SUM(G62:G62) -> 0 | J62: 1120 | M62: =SUM(K62:L62) -> 0
A63: 22313 | B63: Dalības maksas iekšzemes institūcijām un citām organizācijām | C63: 700 | D63: 963 | E63: =SUM(C63:D63) -> 1663 | F63: 1663 | I63: =SUM(G63:G63) -> 0 | J63: 1663 | M63: =SUM(K63:L63) -> 0
A64: 2232 | B64: Izdevumi par profesionālās darbības pakalpojumiem | C64: =SUM(C65:C67) -> 16260 | D64: =SUM(D65:D67) -> 3540 | E64: =SUM(C64:D64) -> 19800 | F64: =SUM(F65:F67) -> 20817 | G64: 1017 | I64: =SUM(G64:G64) -> 1017 | J64: =SUM(J65:J67) -> 22334 | K64: =SUM(K65:K67) -> 2534 | L64: =SUM(L65:L67) -> 0 | M64: =SUM(K64:L64) -> 2534
A65: 22325 | B65: Darba aizsardzības un ugunsdrošības ekspertu pakalpojumi | C65: 1540 | E65: =SUM(C65:D65) -> 1540 | F65: 1540 | I65: =SUM(G65:G65) -> 0 | J65: 1540 | M65: =SUM(K65:L65) -> 0
A66: 22326 | B66: Datu aizsardzības ekspertu pakalpojumi | C66: 11640 | E66: =SUM(C66:D66) -> 11640 | F66: 11640 | I66: =SUM(G66:G66) -> 0 | J66: 11640 | M66: =SUM(K66:L66) -> 0
A67: 22329 | B67: Pārējie iestādes administratīvie izdevumi | C67: 3080 | D67: 3540 | E67: =SUM(C67:D67) -> 6620 | F67: 7637 | G67: 1017 | I67: =SUM(G67:G67) -> 1017 | J67: 9154 | K67: 2534 | M67: =SUM(K67:L67) -> 2534 | N67: Tiesu ekspertu kvalifikācija - dalības maksa testos 5 x 100 euro; NVA sniegtā informācija par izdevumiem profesionālās darbības pakalpojumiem 2034 euro gadā.
A68: 2233 | B68: Izdevumi par transporta pakalpojumiem | C68: 60 | D68: 0 | E68: =SUM(C68:D68) -> 60 | F68: 60 | I68: =SUM(G68:G68) -> 0 | J68: 60 | M68: =SUM(K68:L68) -> 0
A69: 2234 | B69: Normatīvajos aktos noteiktie veselības un fiziskās sagatavotības pārbaudes izdevumi | C69: =SUM(C70) -> 0 | D69: =SUM(D70) -> 0 | E69: =SUM(C69:D69) -> 0 | F69: =SUM(F70) -> 500 | G69: =SUM(G70:G70) -> 500 | H69: =SUM(H70:H70) -> 0 | I69: =SUM(I70:I70) -> 500 | J69: =SUM(J70) -> 500 | K69: =SUM(K70:K70) -> 500 | L69: =SUM(L70:L70) -> 0 | M69: =SUM(M70:M70) -> 500
A70: 22343 | B70: Izdevumi, kas saistīti ar darbinieku obligāto veselības pārbaudi | E70: =SUM(C70:D70) -> 0 | F70: 500 | G70: 500 | H70: 0 | I70: =SUM(G70:H70) -> 500 | J70: 500 | K70: 500 | M70: =SUM(K70:L70) -> 500 | N70: 10 darbinieki x 50 euro
A71: 2235 | B71: Izdevumi par saņemtajiem mācību pakalpojumiem | C71: =C72 -> 1660 | D71: =D72 -> 2500 | E71: =SUM(C71:D71) -> 4160 | F71: =F72 -> 4160 | I71: =SUM(G71:G71) -> 0 | J71: =J72 -> 4160 | M71: =SUM(K71:L71) -> 0
A72: 22352 | B72: Izdevumi par pārējiem saņemtajiem mācību ārpakalpojumiem | C72: 1660 | D72: 2500 | E72: =SUM(C72:D72) -> 4160 | F72: 4160 | I72: =SUM(G72:G72) -> 0 | J72: 4160 | M72: =SUM(K72:L72) -> 0
A73: 2236 | B73: Maksājumu pakalpojumi un komisijas | C73: 27 | D73: 0 | E73: =SUM(C73:D73) -> 27 | F73: 27 | I73: =SUM(G73:G73) -> 0 | J73: 27 | M73: =SUM(K73:L73) -> 0
A74: 2239 | B74: Pārējie neklasificētie pakalpojumi | C74: =C75+C76+C77+C78 -> 3647 | D74: =D75+D76+D77+D78 -> 4360 | E74: =SUM(C74:D74) -> 8007 | F74: =F75+F76+F77+F78 -> 78007 | G74: =G75+G76+G77+G78 -> 0 | H74: =H75+H76+H77+H78 -> 70000 | I74: =SUM(G74:H74) -> 70000 | J74: =J75+J76+J77+J78 -> 67007 | K74: =K75+K76+K77+K78 -> 0 | L74: =L75+L76+L77+L78 -> 59000 | M74: =SUM(K74:L74) -> 59000
A75: 22391 | B75: Starplaboratoriju testēšana, gravēšanas darbi | D75: 360 | E75: =SUM(C75:D75) -> 360 | F75: 360 | I75: =SUM(G75:H75) -> 0 | J75: 360 | M75: =SUM(K75:L75) -> 0
A76: 22393 | B76: Izdevumi par periodiskās preses, literatūras iegādi | C76: 384 | E76: =SUM(C76:D76) -> 384 | F76: 384 | I76: =SUM(G76:H76) -> 0 | J76: 384 | M76: =SUM(K76:L76) -> 0
A77: 22394 | B77: Izdevumi par dzeramā ūdens iegādi | C77: 607 | E77: =SUM(C77:D77) -> 607 | F77: 607 | I77: =SUM(G77:H77) -> 0 | J77: 607 | M77: =SUM(K77:L77) -> 0
A78: 22399 | B78: Pārējie iepriekš neklasificētie iestādes administratīvie un ar iestādes darbības nodrošināšanu saistītie izdevumi: | C78: 2656 | D78: 4000 | E78: =SUM(C78:D78) -> 6656 | F78: 76656 | G78: 0 | H78: 70000 | I78: =SUM(G78:H78) -> 70000 | J78: 65656 | K78: 0 | L78: 59000 | M78: =SUM(K78:L78) -> 59000 | N78: Laboratoriju aprīkojuma, inventāra un ekspertīžu iekārtu pārvietošana (nepieciešama speciālistu iesaiste (demontāža, transportēšana, pārvietošana, montāža, pārbaude) no Bruņinieku iela 72B, Latgales priekšpilsēta, Rīga uz Invalīdu iela 1, 2026. gadā ~ 70000 euro, 2027. gadā ~ 59000 euro.
A79: 2240 | B79: Remontdarbi un iestāžu uzturēšanas pakalpojumi (izņemot kapitālo remontu) | C79: =C80+C81+C88+C97+C102 -> 36708 | D79: =D80+D81+D88+D97+D102 -> 50406 | E79: =SUM(C79:D79) -> 87114 | F79: =F80+F81+F88+F97+F102 -> 160029 | G79: =G80+G81+G88+G97+G102 -> 72915 | H79: =H80+H81+H88+H97+H102 -> 0 | I79: =SUM(G79:H79) -> 72915 | J79: =J80+J81+J88+J97+J102 -> 221786 | K79: =K80+K81+K88+K97+K102 -> 134672 | L79: =L80+L81+L88+L97+L102 -> 0 | M79: =SUM(K79:L79) -> 134672
A80: 2241 | B80: Ēku, būvju un telpu būvdarbi | C80: 0 | D80: 0 | E80: =SUM(C80:D80) -> 0 | F80: 3535 | G80: 3535 | I80: =SUM(G80:G80) -> 3535 | J80: 7069 | K80: 7069 | M80: =SUM(K80:L80) -> 7069 | N80: NVA sniegtā informācija par izdevumiem ēku, būvju un telpu būvdarbiem 7069 euro gadā.
A81: 2242 | B81: Transportlīdzekļu uzturēšana un remonts | C81: =SUM(C82:C87) -> 1963 | D81: =SUM(D82:D87) -> 1306 | E81: =SUM(C81:D81) -> 3269 | F81: =SUM(F82:F87) -> 3269 | G81: =SUM(G82:G87) -> 0 | H81: =SUM(H82:H87) -> 0 | I81: =SUM(G81:H81) -> 0 | J81: =SUM(J82:J87) -> 3269 | K81: =SUM(K82:K87) -> 0 | L81: =SUM(L82:L87) -> 0 | M81: =SUM(K81:L81) -> 0
A82: 22421 | B82: Transportlīdzekļu remonts un tehniskā apkope | C82: 635 | D82: 1306 | E82: =SUM(C82:D82) -> 1941 | F82: 1941 | I82: =SUM(G82:H82) -> 0 | J82: 1941 | M82: =SUM(K82:L82) -> 0
A83: 22422 | B83: Transportlīdzekļu uzkopšana | C83: 90 | E83: =SUM(C83:D83) -> 90 | F83: 90 | I83: =SUM(G83:H83) -> 0 | J83: 90 | M83: =SUM(K83:L83) -> 0
A84: 22423 | B84: Maksas stāvvietu uzturēšana, caurlaides | C84: 16 | E84: =SUM(C84:D84) -> 16 | F84: 16 | I84: =SUM(G84:H84) -> 0 | J84: 16 | M84: =SUM(K84:L84) -> 0
A85: 22424 | B85: Transportlīdzekļu tehniskās apskates | C85: 302 | E85: =SUM(C85:D85) -> 302 | F85: 302 | I85: =SUM(G85:H85) -> 0 | J85: 302 | M85: =SUM(K85:L85) -> 0
A86: 22425 | B86: Transportlīdzekļu KASKO apdrošināšana | C86: 711 | E86: =SUM(C86:D86) -> 711 | F86: 711 | I86: =SUM(G86:H86) -> 0 | J86: 711 | M86: =SUM(K86:L86) -> 0
A87: 22426 | B87: Transportlīdzekļu OCTA apdrošināšana | C87: 209 | E87: =SUM(C87:D87) -> 209 | F87: 209 | I87: =SUM(G87:H87) -> 0 | J87: 209 | M87: =SUM(K87:L87) -> 0
A88: 2243 | B88: Iekārtas, inventāra un aparatūras remonts, tehniskā apkalpošana | C88: =C90+C91+C92+C93+C94+C95+C89 -> 28260 | D88: =D90+D91+D92+D93+D94+D95+D89 -> 48260 | E88: =E90+E91+E92+E93+E94+E95+E89 -> 76520 | F88: =F90+F91+F92+F93+F94+F95+F89 -> 78416 | G88: =SUM(G89:G96) -> 1896 | H88: =H90+H91+H92+H93+H94+H95+H89 -> 0 | I88: =SUM(G88:H88) -> 1896 | J88: =J90+J91+J92+J93+J94+J95+J89 -> 80312 | K88: =SUM(K89:K96) -> 3792 | L88: =L90+L91+L92+L93+L94+L95+L89 -> 0 | M88: =SUM(K88:L88) -> 3792
A89: 22431 | B89: Datortehnikas, printeru, serveru, biroja tehnikas uzturēšanas, tehniskās apkalpošanas un remonta izdevumi | C89: 655 | E89: =SUM(C89:D89) -> 655 | F89: 655 | I89: =SUM(G89:H89) -> 0 | J89: 655 | M89: =SUM(K89:L89) -> 0
A90: 22432 | B90: Sakaru un pasta tehnikas uzturēšanas, tehniskās apkalpošanas un remonta izdevumi | C90: 0 | E90: =SUM(C90:D90) -> 0 | F90: =SUM(D90:E90) -> 0 | I90: =SUM(G90:H90) -> 0 | J90: =SUM(H90:I90) -> 0 | M90: =SUM(K90:L90) -> 0
A91: 22433 | B91: Kondicionieru uzturēšanas, tehniskās apkalpošanas un remonta izdevumi | C91: 305 | E91: =SUM(C91:D91) -> 305 | F91: 305 | I91: =SUM(G91:H91) -> 0 | J91: 305 | M91: =SUM(K91:L91) -> 0
A92: 22434 | B92: Laboratorijas iekārtu, medicīnisko ierīču, iekārtu, aparatūras uzturēšanas, tehniskās apkalpošanas un remonta izdevumi,mērišanas līdzekļu verificēšana un kalibrēšana | C92: 26785 | D92: 48260 | E92: =SUM(C92:D92) -> 75045 | F92: 75045 | I92: =SUM(G92:H92) -> 0 | J92: 75045 | M92: =SUM(K92:L92) -> 0
A93: 22435 | B93: Virtuves un pārējo saimniecisko iekārtu remonta un tehniskās apkalpošanas izdevumi | C93: 229 | E93: =SUM(C93:D93) -> 229 | F93: 229 | I93: =SUM(G93:H93) -> 0 | J93: 229 | M93: =SUM(K93:L93) -> 0
A94: 22436 | B94: Ugunsdrošības sistēmas uzturēšana, ugunsdzēšamo aparātu apkope, uzpildīšana un remonts | C94: 211 | E94: =SUM(C94:D94) -> 211 | F94: 211 | I94: =SUM(G94:H94) -> 0 | J94: 211 | M94: =SUM(K94:L94) -> 0
A95: 22439 | B95: Pārējie iepriekš neklasificētie izdevumi | C95: 75 | E95: =SUM(C95:D95) -> 75 | F95: 1971 | G95: 1896 | I95: =SUM(G95:H95) -> 1896 | J95: 3867 | K95: 3792 | M95: =SUM(K95:L95) -> 3792 | N95: NVA sniegtā informācija par izdevumiem ēku, būvju un telpu tehniskajai apkalpošanai 3792 euro gadā.
A96: 22439 | B96: Dīzeļģeneratoru tehniskā apkope | C96: 0 | D96: 0 | E96: =SUM(C96:D96) -> 0 | F96: 0 | I96: =SUM(G96:H96) -> 0 | J96: 0 | M96: =SUM(K96:L96) -> 0
A97: 2244 | B97: Nekustamā īpašuma uzturēšana | C97: =C98+C99+C100+C101 -> 4185 | D97: =D98+D99+D100+D101 -> 840 | E97: =E98+E99+E100+E101 -> 5025 | F97: =F98+F99+F100+F101 -> 70209 | G97: =G98+G99+G100+G101 -> 65184 | H97: =H98+H99+H100+H101 -> 0 | I97: =SUM(G97:H97) -> 65184 | J97: =J98+J99+J100+J101 -> 126536 | K97: =K98+K99+K100+K101 -> 121511 | L97: =L98+L99+L100+L101 -> 0 | M97: =SUM(K97:L97) -> 121511
A98: 22441 | B98: Apsardzes un apsardzes infrastruktūras uzturēšanas izdevumi | C98: 1360 | E98: =SUM(C98:D98) -> 1360 | F98: 10216 | G98: 8856 | I98: =SUM(G98:H98) -> 8856 | J98: 10216 | K98: 8856 | M98: =SUM(K98:L98) -> 8856 | N98: Drošības sistēmas tehniskā apkope jaunajā laboratoriju ēkā. Laboratoriju ēkā ir uzstādīta apsardzes signalizācija, videonovērošanas un piekļuves kontroles sistēma. Sistēmas apkopes izmaksas mēnesī 738 euro, kopā gadā papildus nepieciešami 8 856 euro, šādi izdevumi iepriekšējos gados nav bijuši aktuāli.
A99: 22442 | B99: Izdevumi par ēku, būvju, telpu, teritorijas un liftu uzkopšanu | C99: 2100 | E99: =SUM(C99:D99) -> 2100 | F99: 2100 | I99: =SUM(G99:H99) -> 0 | J99: 2100 | M99: =SUM(K99:L99) -> 0
A100: 22444 | B100: Paklāju noma, maiņa un tīrīšana | C100: 725 | D100: 840 | E100: =SUM(C100:D100) -> 1565 | F100: 1565 | I100: =SUM(G100:H100) -> 0 | J100: 1565 | M100: =SUM(K100:L100) -> 0
A101: 22449 | B101: Pārējie iepriekš neklasificētie ēku, būvju un telpu uzturēšanas izdevumi | F101: 56328 | G101: 56328 | I101: =SUM(G101:H101) -> 56328 | J101: 112655 | K101: 112655 | M101: =SUM(K101:L101) -> 112655 | N101: NVA sniegtā informācija par izdevumiem ēku, būvju un telpu apsaimniekošanai 112 655 euro gadā.
A102: 2247 | B102: Apdrošināšanas izdevumi | C102: =C103 -> 2300 | D102: =D103 -> 0 | E102: =E103 -> 2300 | F102: =F103 -> 4600 | G102: 2300 | H102: =H103 -> 0 | I102: =SUM(G102:H102) -> 2300 | J102: =J103 -> 4600 | K102: 2300 | L102: =L103 -> 0 | M102: =SUM(K102:L102) -> 2300
A103: 22473 | B103: Iekārtu apdrošināšana | C103: 2300 | E103: =SUM(C103:D103) -> 2300 | F103: 4600 | G103: 2300 | I103: =SUM(G103:H103) -> 2300 | J103: 4600 | K103: 2300 | M103: =SUM(K103:L103) -> 2300 | N103: Ekspertīžu iekārtu kopsumma 10 257 415 euro, apdrošināšanas izmaksas plānojas 4600 euro, papildus nepieciešams 2 300 euro
A104: 2250 | B104: Informācijas tehnoloģiju pakalpojumi | C104: =SUM(C105:C108) -> 50133 | D104: =SUM(D105:D108) -> 83792 | E104: =SUM(C104:D104) -> 133925 | F104: =SUM(F105:F108) -> 135072 | G104: =SUM(G105:G108) -> 1147 | H104: =SUM(H105:H108) -> 0 | I104: =SUM(I105:I108) -> 1147 | J104: =SUM(J105:J108) -> 136217 | K104: =SUM(K105:K108) -> 2292 | L104: =SUM(L105:L108) -> 0 | M104: =SUM(M105:M108) -> 2292
A105: 22501 | B105: Licenču uzturēšana, papildināšana un noma. | C105: 2425 | D105: 83792 | E105: =SUM(C105:D105) -> 86217 | F105: 86217 | I105: =SUM(G105:H105) -> 0 | J105: 86217 | M105: =SUM(K105:L105) -> 0
...

Sheet Īsais
A3: Papildu finansējuma aprēķins Tieslietu ministrijas 03.04. 00 budžeta apakšprogrammai "Tiesu ekspertīžu veikšana"
A7: Kods* | B7: Rādītājs/koda nosaukums | C7: VTEB budžets 2025.gads | D7: VPGKrPP KP 2025. | E7: Kopā 2025. gada finansējums | F7: VTEI budžets 2026. gadā* | G7: Papildus 2026.g. (1/2 no gada summas - ar 1. jūliju) | H7: Papildus vienreizējie izdevumi 2026. | I7: Papildus nepieciešmais finansējums 2026.gadā- no 1.jūlija (pusgadam) | J7: VTEI budžets 2027. gadā | K7: Papildus 2027. gads un turpmāk | L7: Papildus vienreizējie izdevumi 2027. | M7: Papildus nepieciešmais finansējums 2027.gadā | N7: Piezīmes aprēķiniem | O7: Papildus nepieciešmais finansējums 2028. gadā un turpmāk
A8: 1000-9000 | B8: IZDEVUMI - KOPĀ | C8: =SUM(C9+C149) -> 2128599 | D8: =SUM(D9+D149) -> 3771599 | E8: =SUM(E9+E149) -> 5900198 | F8: =SUM(F9+F149) -> 7045534 | G8: =SUM(G9+G149) -> 1004436 | H8: =SUM(H9+H149) -> 140900 | I8: =SUM(I9+I149) -> 1145336 | J8: =SUM(J9+J149) -> 8999862 | ... M8: =SUM(M9+M149) -> 3099664 | O8: 2798034
A9: 1000–4000; 6000–7000 | B9: Uzturēšanas izdevumi | C9: =SUM(C10+C146) -> 2099801 | D9: =SUM(D10+D146) -> 3771599 | E9: =SUM(E10+E146) -> 5871400 | F9: =SUM(F10+F146) -> 6966936 | G9: =SUM(G10+G146) -> 1004436 | H9: =SUM(H10+H146) -> 91100 | I9: =SUM(I10+I146) -> 1095536 | J9: =SUM(J10+J146) -> 8845064 | ... M9: =SUM(M10+M146) -> 2973664 | O9: 2798034
A10: 1000–2000 | B10: Kārtējie izdevumi | C10: =SUM(C11+C40) -> 2095676 | D10: =SUM(D11+D40) -> 3771599 | E10: =SUM(E11+E40) -> 5867275 | F10: =SUM(F11+F40) -> 6962811 | G10: =SUM(G11+G40) -> 1004436 | H10: =SUM(H11+H40) -> 91100 | I10: =SUM(I11+I40) -> 1095536 | J10: =SUM(J11+J40) -> 8840939 | ... M10: =SUM(M11+M40) -> 2973664 | O10: 2798034
A11: 1000 | B11: Atlīdzība | C11: =C12+C29 -> 1660376 | D11: =D12+D29 -> 3424906 | E11: =C11+D11 -> 5085282 | F11: =F12+F29 -> 5437466 | G11: =SUM(G12+G29) -> 352184 | I11: =SUM(G11:H11) -> 352184 | J11: =J12+J29 -> 7092095 | K11: =SUM(K12+K29) -> 2006813 | M11: =SUM(K11:L11) -> 2006813 | N11: Saskaņā ar "Atlīdzība_aprekins_2026" un "Atlīdzība_aprekins_2027", t.sk 2026. gadā palielinājums ar 1. jūliju, 6 mēneši | O11: 2006813
A12: 1100 | B12: Atalgojums | C12: =C13+C17+C28 -> 1266472 | D12: =D13+D17+D28 -> 2636876 | E12: =E13+E17+E28 -> 3903348 | F12: =SUM(E12+G12) -> 4194713 | G12: 291365 | I12: =SUM(G12:H12) -> 291365 | J12: =J13+J17 -> 5518975 | K12: =SUM(J12-E12) -> 1615627 | M12: =SUM(K12:L12) -> 1615627 | N12: 2026. gadā: 4486078 euro -3903348 euro = 582730 euro/2=291365 euro | O12: 1615627
A13: 1110 | B13: Mēnešalga | C13: =SUM(C14:C16) -> 1183200 | D13: =SUM(D14:D16) -> 2407356 | E13: =SUM(E14:E16) -> 3590556 | I13: =SUM(G13:H13) -> 0 | J13: =SUM(J14:J16) -> 4744152 | K13: =SUM(J13-E13) -> 1153596 | M13: =SUM(K13:L13) -> 1153596 | O13: 1153596
A14: 1114 | B14: Valsts civildienesta ierēdņu mēnešalga | C14: 267655 | E14: =C14+D14 -> 267655 | J14: =Atlidziba_aprekins_2027!H38 -> 297648 | M14: =SUM(K14:L14) -> 0
A15: 1116 | B15: Mēnešalga amatpersonām ar speciālajām dienesta pakāpēm | C15: 0 | D15: 1174872 | E15: =C15+D15 -> 1174872
A16: 1119 | B16: Pārējo darbinieku mēnešalga (darba alga) | C16: 915545 | D16: 1232484 | E16: =C16+D16 -> 2148029 | J16: =Atlidziba_aprekins_2027!H44 -> 4446504
A17: 1140 | B17: Piemaksas, prēmijas un naudas balvas | C17: =SUM(C18:C27) -> 81322 | D17: =SUM(D18:D27) -> 229520 | E17: =C17+D17 -> 310842 | I17: =SUM(G17:H17) -> 0 | J17: =SUM(J18:J27) -> 774823 | K17: =SUM(J17-E17) -> 463981 | M17: =SUM(K17:L17) -> 463981 | O17: 463981
A18: 1141 | B18: Piemaksa par nakts darbu | C18: 0 | E18: =C18+D18 -> 0
A19: 1143 | B19: Piemaksas par speciālo dienesta pakāpi un diplomātisko rangu | C19: 0 | E19: =C19+D19 -> 0
A20: 1144 | B20: Piemaksa par izdienu | C20: 0 | E20: =C20+D20 -> 0
A21: 1142 | B21: Samaksa par virsstundu darbu un darbu svētku dienās | C21: 0 | E21: =C21+D21 -> 0 | J21: =Atlidziba_aprekins_2027!H49 -> 0
A22: 1143 | B22: Piemaksas par speciālo dienesta pakāpi un diplomātisko rangu | D22: 55956 | E22: =C22+D22 -> 55956 | J22: 0
A23: 1145 | B23: Piemaksa par darbu īpašos apstākļos, speciālās piemaksas | C23: 0 | D23: 173564 | E23: =C23+D23 -> 173564 | J23: =Atlidziba_aprekins_2027!H54 -> 63201
A24: 1146 | B24: Piemaksa par personisko darba ieguldījumu un darba kvalitāti | C24: 0 | E24: =C24+D24 -> 0 | J24: 0
A25: 1147 | B25: Piemaksa par papildu darbu | C25: 13430 | E25: =C25+D25 -> 13430 | J25: =Atlidziba_aprekins_2027!H55 -> 0
A26: 1148 | B26: Prēmijas un naudas balvas | C26: =15266+50350 -> 65616 | E26: =C26+D26 -> 65616 | J26: =Atlidziba_aprekins_2027!H56 -> 474415
A27: 1149 | B27: Citas normatīvajos aktos noteiktās piemaksas, kas nav iepriekš klasificētas | C27: 2276 | E27: =C27+D27 -> 2276 | J27: =Atlidziba_aprekins_2027!H57 -> 237207
A28: 1150 | B28: Atalgojums fiziskām personām uz tiesiskās attiecības regulējošu dokumentu pamata | C28: 1950 | E28: =C28+D28 -> 1950 | F28: 0 | I28: =SUM(G28:H28) -> 0 | J28: 0
A29: 1200 | B29: Darba devēja valsts sociālās apdrošināšanas obligātās iemaksas, pabalsti un kompensācijas | C29: =C30+C31 -> 393904 | D29: =D30+D31 -> 788030 | E29: =E30+E31 -> 1181934 | F29: =SUM(E29+G29) -> 1242753 | G29: =SUM(G30:G31) -> 60819 | I29: =SUM(G29:H29) -> 60819 | J29: =J30+J31 -> 1573120 | K29: =SUM(J29-E29) -> 391186 | M29: =SUM(K29:L29) -> 391186 | N29: Saskaņā ar "Atlīdzība_aprekins_2026" un "Atlīdzība_aprekins_2027", t.sk 2026. gadā palielinājums ar 1. jūliju, 6 mēneši | O29: 391186
A30: 1210 | B30: Darba devēja valsts sociālās apdrošināšanas obligātās iemaksas | C30: 311620 | D30: 645696 | E30: =D30+C30 -> 957316 | G30: 62232 | I30: =SUM(G30:H30) -> 62232 | J30: =Atlidziba_aprekins_2027!H60 -> 1335913 | K30: =SUM(J30-E30) -> 378597 | M30: =SUM(K30:L30) -> 378597 | N30: 2026. gadā: 1081779 euro -957316 euro = 124463 euro/2=62232 euro | O30: 378597
A31: 1220 | B31: Darba devēja pabalsti, kompensācijas un citi maksājumi | C31: =SUM(C32:C39) -> 82284 | D31: =SUM(D32:D39) -> 142334 | E31: =SUM(E32:E39) -> 224618 | G31: -1413 | I31: =SUM(G31:H31) -> -1413 | J31: =SUM(J32:J39) -> 237207 | K31: =SUM(J31-E31+K38) -> 12589 | M31: =SUM(K31:L31) -> 12589 | N31: 2026. gadā: 192809 euro -224618 euro =-31809 euro/2=-15905 euro + 14492 euro (apdrošināšana gadam) =-1413 euro | O31: 12589
A32: 1221 | B32: Darba devēja pabalsti un kompensācijas, no kuriem aprēķina iedzīvotāju ienākuma nodokli un valsts sociālās apdrošināšanas obligātās iemaksas | C32: =12666+45316 -> 57982 | D32: 100334 | E32: =C32+D32 -> 158316 | J32: =Atlidziba_aprekins_2027!H63 -> 144072
A33: 1222 | B33: Studējošo kredītu dzēšana no piešķirtajiem budžeta līdzekļiem | E33: =C33+D33 -> 0
A34: 1223 | B34: Mācību maksas kompensācija | E34: =C34+D34 -> 0
A35: 1224 | B35: Ārvalstīs nodarbināto amatpersonu (darbinieku) pabalsti | E35: =C35+D35 -> 0
A36: 1225 | B36: Darba devēja uzturdevas kompensācija | E36: =C36+D36 -> 0
A37: 1226 | B37: Dienesta pienākumu izpildei nepieciešamā apģērba iegādes kompensācija | E37: =C37+D37 -> 0
A38: 1227 | B38: Darba devēja izdevumi veselības, dzīvības un nelaimes gadījumu apdrošināšanai | C38: =3408+18744 -> 22152 | D38: 42000 | E38: =C38+D38 -> 64152 | J38: =SUM(Atlidziba_aprekins_2027!H70) -> 93135 | N38: Veselības apdrošināšanas un nelaimes gadījumu apdrošināšanas polisēm papildus nepieciešams finansējums 28 983 euro (93135 euro - 64152 euro), t.sk. 2026. gadā pilnā apmērā (polise jāpērk VPGKrPP KP darbiniekiem)
A39: 1228 | B39: Darba devēja pabalsti un kompensācijas, no kā neaprēķina iedzīvotāju ienākuma nodokli un valsts sociālās apdrošināšanas obligātās iemaksas | C39: =430+1720 -> 2150 | E39: =C39+D39 -> 2150
A40: 2000 | B40: Preces un pakalpojumi | C40: =SUM(C41+C48+C113+C143) -> 435300 | D40: =SUM(D41+D48+D113+D143) -> 346693 | E40: =SUM(C40:D40) -> 781993 | F40: =SUM(F41+F48+F113+F143) -> 1525345 | G40: =SUM(G41+G48+G113+G143) -> 652252 | H40: =SUM(H41+H48+H113+H143) -> 91100 | I40: =SUM(I41+I48+I113+I143) -> 743352 | J40: =SUM(J41+J48+J113+J143) -> 1748844 | K40: =SUM(K41+K48+K113+K143) -> 791221 | L40: =SUM(L41+L48+L113+L143) -> 175630 | M40: =SUM(M41+M48+M113+M143) -> 966851 | O40: 791221
A41: 2100 | B41: Mācību, darba un dienesta komandējumi, darba braucieni | C41: =SUM(C42+C45) -> 23064 | D41: =SUM(D42+D45) -> 4500 | E41: =SUM(C41:D41) -> 27564 | F41: =SUM(F42+F45) -> 37064 | G41: =SUM(G42+G45) -> 9500 | H41: =SUM(H42+H45) -> 0 | I41: =SUM(I42+I45) -> 9500 | J41: =SUM(J42+J45) -> 46564 | K41: =SUM(K42+K45) -> 19000 | L41: =SUM(L42+L45) -> 0 | M41: =SUM(M42+M45) -> 19000 | N41: 2026. gadā 6 mēneši, 2027. gads | O41: 19000
A42: 2110 | B42: Iekšzemes mācību, darba un dienesta komandējumi, darba braucieni | C42: =C43+C44 -> 86 | D42: =D43+D44 -> 0 | E42: =SUM(C42:D42) -> 86 | F42: =F43+F44 -> 86 | G42: =G43+G44 -> 0 | H42: =H43+H44 -> 0 | I42: =I43+I44 -> 0 | J42: =J43+J44 -> 86 | K42: =K43+K44 -> 0 | L42: =L43+L44 -> 0 | M42: =M43+M44 -> 0 | O42: 0
A43: 2111 | B43: Dienas nauda | C43: 32 | E43: =SUM(C43:D43) -> 32 | F43: 32 | J43: 32 | M43: =SUM(K43:L43) -> 0
A44: 2112 | B44: Pārējie komandējumu un darba braucienu izdevumi | C44: 54 | E44: =SUM(C44:D44) -> 54 | F44: 54 | J44: 54 | M44: =SUM(K44:L44) -> 0
A45: 2120 | B45: Ārvalstu mācību, darba un dienesta komandējumi, darba braucieni | C45: =SUM(C46:C47) -> 22978 | D45: =SUM(D46:D47) -> 4500 | E45: =SUM(C45:D45) -> 27478 | F45: =SUM(F46:F47) -> 36978 | G45: =SUM(G46:G47) -> 9500 | H45: =SUM(H46:H47) -> 0 | I45: =SUM(I46:I47) -> 9500 | J45: =SUM(J46:J47) -> 46478 | K45: =SUM(K46:K47) -> 19000 | L45: =SUM(L46:L47) -> 0 | M45: =SUM(M46:M47) -> 19000 | N45: Tiesu ekspertu kvalifikācijas paaugstināšanā būtiska nozīme ir tiesu ekspertu aktīvai dalībai Eiropas Tiesu ekspertīžu iestāžu asociācijā – dalība Vadības komitejās, tiesu ekspertu darba grupās un projektos. | O45: 19000
A46: 2121 | B46: Dienas nauda | C46: 4725 | D46: 600 | E46: =SUM(C46:D46) -> 5325 | F46: 6937 | G46: 1612 | I46: =SUM(G46:H46) -> 1612 | J46: 8550 | K46: 3225 | M46: =SUM(K46:L46) -> 3225 | N46: dienas nauda vidēji 50 euro dienā x 171 dienas | O46: 3225
A47: 2122 | B47: Pārējie komandējumu un darba braucienu izdevumi | C47: 18253 | D47: 3900 | E47: =SUM(C47:D47) -> 22153 | F47: 30041 | G47: 7888 | I47: =SUM(G47:H47) -> 7888 | J47: 37928 | K47: 15775 | M47: =SUM(K47:L47) -> 15775 | N47: ceļa izdevumi ~400 euro x 31 komandējumi = 12400 euro, viesnīcas izdevumi ~120 euro par nakti x 131= 15720 euro, dalības maksa vid.400 x 23= 9200euro, vietējā transporta izdevumi ~19 x 23 euro =437 euro, apdrošināšana 171 dienas x 1 euro=171 euro | O47: 15775
A48: 2200 | B48: Pakalpojumi | C48: =SUM(C49+C55+C60+C79+C104+C109) -> 324012 | D48: =SUM(D49+D55+D60+D79+D104+D109) -> 146903 | E48: =SUM(E49+E55+E60+E79+E104+E109) -> 470915 | F48: =SUM(F49+F55+F60+F79+F104+F109) -> 1183667 | G48: =SUM(G49+G55+G60+G79+G104+G109) -> 642752 | H48: =SUM(H49+H55+H60+H79+H104+H109) -> 70000 | I48: =SUM(G48:H48) -> 712752 | J48: =SUM(J49+J55+J60+J79+J104+J109) -> 1302136 | K48: =SUM(K49+K55+K60+K79+K104+K109) -> 772221 | L48: =SUM(L49+L55+L60+L79+L104+L109) -> 59000 | M48: =SUM(K48:L48) -> 831221 | O48: 772221
A49: 2210 | B49: Izdevumi par sakaru pakalpojumiem | C49: =SUM(C50:C54) -> 9415 | D49: =SUM(D50:D54) -> 196 | E49: =SUM(C49:D49) -> 9611 | F49: =SUM(F50:F54) -> 10001 | G49: =SUM(G50:G54) -> 390 | I49: =SUM(G49:G49) -> 390 | J49: =SUM(J50:J54) -> 10391 | K49: =SUM(K50:K54) -> 780 | L49: =SUM(L50:L54) -> 0 | M49: =SUM(K49:L49) -> 780 | O49: 780
A50: 22101 | B50: Pasta pakalpojumi | C50: 308 | D50: 54 | E50: =SUM(C50:D50) -> 362 | F50: 362 | I50: =SUM(G50:G50) -> 0 | J50: 362 | M50: =SUM(K50:L50) -> 0
A51: 22102 | B51: Fiksēto tālruņu sakaru pakalpojumu abonēšana, sarunas un citi pakalpojumi | C51: 1983 | E51: =SUM(C51:D51) -> 1983 | F51: 2373 | G51: 390 | I51: =SUM(G51:G51) -> 390 | J51: 2763 | K51: 780 | M51: =SUM(K51:L51) -> 780 | N51: Sakaru pakalpojumu nodrošināšanai papildus nepieciešams 2026.gads 20 darbiniekiem - stacionārais telefons x 3.25 euro= 65 euro x 6 mēn.= 390 euro, 2027. gads 20 x 3,25 euro x 12 mēn. =780 euro | O51: 780
A52: 22103 | B52: Mobilo sakaru pakalpojumu abonēšana, sarunas un citi pakalpojumi | C52: 460 | D52: 142 | E52: =SUM(C52:D52) -> 602 | F52: 602 | I52: =SUM(G52:G52) -> 0 | J52: 602 | M52: =SUM(K52:L52) -> 0
A53: 22104 | B53: Informatīvo pakalpojumu un datu bāžu abonēšana | C53: 6546 | E53: =SUM(C53:D53) -> 6546 | F53: 6546 | I53: =SUM(G53:G53) -> 0 | J53: 6546 | M53: =SUM(K53:L53) -> 0
A54: 22109 | B54: Pārējie iepriekš neklasificētie sakaru pakalpojumi | C54: 118 | E54: =SUM(C54:D54) -> 118 | F54: 118 | I54: =SUM(G54:G54) -> 0 | J54: 118 | M54: =SUM(K54:L54) -> 0
A55: 2220 | B55: Izdevumi par komunālajiem pakalpojumiem | C55: =C56+C57+C58+C59 -> 52184 | D55: =D56+D57+D58+D59 -> 426 | E55: =SUM(C55:D55) -> 52610 | F55: =F56+F57+F58+F59 -> 148264 | G55: =G56+G57+G58+G59 -> 95654 | H55: =H56+H57+H58+H59 -> 0 | I55: =SUM(G55:H55) -> 95654 | J55: =J56+J57+J58+J59 -> 212924 | K55: =K56+K57+K58+K59 -> 160314 | L55: =L56+L57+L58+L59 -> 0 | M55: =SUM(K55:L55) -> 160314 | O55: 160314
A56: 2221 | B56: Izdevumi par siltumenerģiju | C56: 19630 | E56: =SUM(C56:D56) -> 19630 | F56: 56872 | G56: 37242 | I56: =SUM(G56:G56) -> 37242 | J56: 81434 | K56: 61804 | M56: =SUM(K56:L56) -> 61804 | N56: Invalīdu iela 1, Laboratoriju ēkā apkurināmā platība par 1572.9 m² ir lielāka, apkures sezona 6 mēneši, plānotais patērētais siltums vidēji ~60 mWh mēnesī x 6 mēneši = 360 Mwh x 89.75 euro = 32 310 euro, budžetā plānots 19 630 euro, apkurei nepieciešams papildu finansējums 12 680 euro; VPGKrPP KP budžetā nav ietverti nekustamo īpašumu komunālie izdevumi, nekustamo īpašumu apsaimnieko Nodrošinājuma valsts aģentūra (turpmāk NVA). Saskaņā ar NVA sniegto informāciju VPGKrPP KP izmanto 4990,19 m² (Valmiera, Dārza iela 2, Liepāja, Bāriņu iela 3, Daugavpils, 18.novembra iela 39, Rīga, Rājumsila iela 3, Kleistu iela 46, Stabu iela 89, Bruņinieku iela 72B ) no 38012,9 m² platības. NVA sniegtā informācija par apkures izdevumiem tiesu ekspertīžu telpām 49124 euro gadā. | O56: 61804
A57: 2222 | B57: Izdevumi par ūdensapgādi un kanalizāciju | C57: 1350 | E57: =SUM(C57:D57) -> 1350 | F57: 3757 | G57: 2407 | I57: =SUM(G57:G57) -> 2407 | J57: 6165 | K57: 4815 | M57: =SUM(K57:L57) -> 4815 | N57: NVA sniegtā informācija par izdevumiem ūdensapgādei un kanalizācijai tiesu ekspertīžu telpām 4815 euro gadā. | O57: 4815
A58: 2223 | B58: Izdevumi par elektroenerģiju | C58: 28914 | E58: =SUM(C58:D58) -> 28914 | F58: 81330 | G58: 52416 | I58: =SUM(G58:G58) -> 52416 | J58: 115432 | K58: 86518 | M58: =SUM(K58:L58) -> 86518 | N58: Invalīdu iela 1 elektroenerģijai budžetā plānots 28 914 euro, elektroenerģijas gada patēriņš plānots ~170 500 kWh x 0.277 = 47 229 euro, papildus nepieciešams 18 315 euro; NVA sniegtā informācija par elektroenerģijas izdevumiem tiesu ekspertīžu telpām 68203 euro gadā. | O58: 86518
A59: 2224 | B59: Izdevumi par atkritumu savākšanu, izvešanu no apdzīvotām vietām un teritorijām ārpus apdzīvotām vietām un atkritumu utilizāciju | C59: 2290 | D59: 426 | E59: =SUM(C59:D59) -> 2716 | F59: 6305 | G59: 3589 | I59: =SUM(G59:G59) -> 3589 | J59: 9893 | K59: 7177 | M59: =SUM(K59:L59) -> 7177 | N59: NVA sniegtā informācija par izdevumiem atkritumu savākšanai, izvešanai tiesu ekspertīžu nodrošināšanai 7177 euro gadā. | O59: 7177
A60: 2230 | B60: Dažādi pakalpojumi | C60: =C61+C64+C68+C69+C71+C73+C74 -> 23474 | D60: =D61+D64+D68+D69+D71+D73+D74 -> 11363 | E60: =E61+E64+E68+E69+E71+E73+E74 -> 34837 | F60: =F61+F64+F68+F69+F71+F73+F74 -> 106354 | G60: =G61+G64+G68+G69+G71+G73+G74 -> 1517 | H60: =H61+H64+H68+H69+H71+H73+H74 -> 70000 | I60: =I61+I64+I68+I69+I71+I73+I74 -> 71517 | J60: =J61+J64+J68+J69+J71+J73+J74 -> 96871 | ... M60: =M61+M64+M68+M69+M71+M73+M74 -> 62034 | O60: 3034
A61: 2231 | B61: Izdevumi iestādes sabiedrisko aktivitāšu īstenošanai | C61: =C62+C63 -> 1820 | D61: =D62+D63 -> 963 | E61: =SUM(C61:D61) -> 2783 | F61: =F62+F63 -> 2783 | G61: =G62+G63 -> 0 | I61: =SUM(G61:G61) -> 0 | J61: =J62+J63 -> 2783 | K61: =K62+K63 -> 0 | L61: =L62+L63 -> 0 | M61: =SUM(K61:L61) -> 0 | O61: 0
A62: 22311 | B62: Semināru, konferenču, apspriežu, u.c. līdzīgu pasākumu organizēšana | C62: 1120 | E62: =SUM(C62:D62) -> 1120 | F62: 1120 | I62: =SUM(G62:G62) -> 0 | J62: 1120 | M62: =SUM(K62:L62) -> 0
A63: 22313 | B63: Dalības maksas iekšzemes institūcijām un citām organizācijām | C63: 700 | D63: 963 | E63: =SUM(C63:D63) -> 1663 | F63: 1663 | I63: =SUM(G63:G63) -> 0 | J63: 1663 | M63: =SUM(K63:L63) -> 0
A64: 2232 | B64: Izdevumi par profesionālās darbības pakalpojumiem | C64: =SUM(C65:C67) -> 16260 | D64: =SUM(D65:D67) -> 3540 | E64: =SUM(C64:D64) -> 19800 | F64: =SUM(F65:F67) -> 20817 | G64: 1017 | I64: =SUM(G64:G64) -> 1017 | J64: =SUM(J65:J67) -> 22334 | K64: =SUM(K65:K67) -> 2534 | L64: =SUM(L65:L67) -> 0 | M64: =SUM(K64:L64) -> 2534 | O64: 2534
A65: 22325 | B65: Darba aizsardzības un ugunsdrošības ekspertu pakalpojumi | C65: 1540 | E65: =SUM(C65:D65) -> 1540 | F65: 1540 | I65: =SUM(G65:G65) -> 0 | J65: 1540 | M65: =SUM(K65:L65) -> 0
A66: 22326 | B66: Datu aizsardzības ekspertu pakalpojumi | C66: 11640 | E66: =SUM(C66:D66) -> 11640 | F66: 11640 | I66: =SUM(G66:G66) -> 0 | J66: 11640 | M66: =SUM(K66:L66) -> 0
A67: 22329 | B67: Pārējie iestādes administratīvie izdevumi | C67: 3080 | D67: 3540 | E67: =SUM(C67:D67) -> 6620 | F67: 7637 | G67: 1017 | I67: =SUM(G67:G67) -> 1017 | J67: 9154 | K67: 2534 | M67: =SUM(K67:L67) -> 2534 | N67: Tiesu ekspertu kvalifikācija - dalības maksa testos 5 x 100 euro; NVA sniegtā informācija par izdevumiem profesionālās darbības pakalpojumiem 2034 euro gadā. | O67: 2534
A68: 2233 | B68: Izdevumi par transporta pakalpojumiem | C68: 60 | D68: 0 | E68: =SUM(C68:D68) -> 60 | F68: 60 | I68: =SUM(G68:G68) -> 0 | J68: 60 | M68: =SUM(K68:L68) -> 0
A69: 2234 | B69: Normatīvajos aktos noteiktie veselības un fiziskās sagatavotības pārbaudes izdevumi | C69: =SUM(C70) -> 0 | D69: =SUM(D70) -> 0 | E69: =SUM(C69:D69) -> 0 | F69: =SUM(F70) -> 500 | G69: =SUM(G70:G70) -> 500 | H69: =SUM(H70:H70) -> 0 | I69: =SUM(I70:I70) -> 500 | J69: =SUM(J70) -> 500 | K69: =SUM(K70:K70) -> 500 | L69: =SUM(L70:L70) -> 0 | M69: =SUM(M70:M70) -> 500 | O69: 500
A70: 22343 | B70: Izdevumi, kas saistīti ar darbinieku obligāto veselības pārbaudi | E70: =SUM(C70:D70) -> 0 | F70: 500 | G70: 500 | H70: 0 | I70: =SUM(G70:H70) -> 500 | J70: 500 | K70: 500 | M70: =SUM(K70:L70) -> 500 | N70: 10 darbinieki x 50 euro | O70: 500
A71: 2235 | B71: Izdevumi par saņemtajiem mācību pakalpojumiem | C71: =C72 -> 1660 | D71: =D72 -> 2500 | E71: =SUM(C71:D71) -> 4160 | F71: =F72 -> 4160 | I71: =SUM(G71:G71) -> 0 | J71: =J72 -> 4160 | M71: =SUM(K71:L71) -> 0
A72: 22352 | B72: Izdevumi par pārējiem saņemtajiem mācību ārpakalpojumiem | C72: 1660 | D72: 2500 | E72: =SUM(C72:D72) -> 4160 | F72: 4160 | I72: =SUM(G72:G72) -> 0 | J72: 4160 | M72: =SUM(K72:L72) -> 0
A73: 2236 | B73: Maksājumu pakalpojumi un komisijas | C73: 27 | D73: 0 | E73: =SUM(C73:D73) -> 27 | F73: 27 | I73: =SUM(G73:G73) -> 0 | J73: 27 | M73: =SUM(K73:L73) -> 0
A74: 2239 | B74: Pārējie neklasificētie pakalpojumi | C74: =C75+C76+C77+C78 -> 3647 | D74: =D75+D76+D77+D78 -> 4360 | E74: =SUM(C74:D74) -> 8007 | F74: =F75+F76+F77+F78 -> 78007 | G74: =G75+G76+G77+G78 -> 0 | H74: =H75+H76+H77+H78 -> 70000 | I74: =SUM(G74:H74) -> 70000 | J74: =J75+J76+J77+J78 -> 67007 | K74: =K75+K76+K77+K78 -> 0 | L74: =L75+L76+L77+L78 -> 59000 | M74: =SUM(K74:L74) -> 59000 | O74: 0
A75: 22391 | B75: Starplaboratoriju testēšana, gravēšanas darbi | D75: 360 | E75: =SUM(C75:D75) -> 360 | F75: 360 | I75: =SUM(G75:H75) -> 0 | J75: 360 | M75: =SUM(K75:L75) -> 0
A76: 22393 | B76: Izdevumi par periodiskās preses, literatūras iegādi | C76: 384 | E76: =SUM(C76:D76) -> 384 | F76: 384 | I76: =SUM(G76:H76) -> 0 | J76: 384 | M76: =SUM(K76:L76) -> 0
A77: 22394 | B77: Izdevumi par dzeramā ūdens iegādi | C77: 607 | E77: =SUM(C77:D77) -> 607 | F77: 607 | I77: =SUM(G77:H77) -> 0 | J77: 607 | M77: =SUM(K77:L77) -> 0
A78: 22399 | B78: Pārējie iepriekš neklasificētie iestādes administratīvie un ar iestādes darbības nodrošināšanu saistītie izdevumi: | C78: 2656 | D78: 4000 | E78: =SUM(C78:D78) -> 6656 | F78: 76656 | G78: 0 | H78: 70000 | I78: =SUM(G78:H78) -> 70000 | J78: 65656 | K78: 0 | L78: 59000 | M78: =SUM(K78:L78) -> 59000 | N78: Laboratoriju aprīkojuma, inventāra un ekspertīžu iekārtu pārvietošana (nepieciešama speciālistu iesaiste (demontāža, transportēšana, pārvietošana, montāža, pārbaude) no Bruņinieku iela 72B, Latgales priekšpilsēta, Rīga uz Invalīdu iela 1, 2026. gadā ~ 70000 euro, 2027. gadā ~ 59000 euro. | O78: 0
A79: 2240 | B79: Remontdarbi un iestāžu uzturēšanas pakalpojumi (izņemot kapitālo remontu) | C79: =C80+C81+C88+C97+C102 -> 36708 | D79: =D80+D81+D88+D97+D102 -> 50406 | E79: =SUM(C79:D79) -> 87114 | F79: =F80+F81+F88+F97+F102 -> 160029 | G79: =G80+G81+G88+G97+G102 -> 72915 | H79: =H80+H81+H88+H97+H102 -> 0 | I79: =SUM(G79:H79) -> 72915 | J79: =J80+J81+J88+J97+J102 -> 221786 | K79: =K80+K81+K88+K97+K102 -> 134672 | L79: =L80+L81+L88+L97+L102 -> 0 | M79: =SUM(K79:L79) -> 134672 | O79: 134672
A80: 2241 | B80: Ēku, būvju un telpu būvdarbi | C80: 0 | D80: 0 | E80: =SUM(C80:D80) -> 0 | F80: 3535 | G80: 3535 | I80: =SUM(G80:G80) -> 3535 | J80: 7069 | K80: 7069 | M80: =SUM(K80:L80) -> 7069 | N80: NVA sniegtā informācija par izdevumiem ēku, būvju un telpu būvdarbiem 7069 euro gadā. | O80: 7069
A81: 2242 | B81: Transportlīdzekļu uzturēšana un remonts | C81: =SUM(C82:C87) -> 1963 | D81: =SUM(D82:D87) -> 1306 | E81: =SUM(C81:D81) -> 3269 | F81: =SUM(F82:F87) -> 3269 | G81: =SUM(G82:G87) -> 0 | H81: =SUM(H82:H87) -> 0 | I81: =SUM(G81:H81) -> 0 | J81: =SUM(J82:J87) -> 3269 | K81: =SUM(K82:K87) -> 0 | L81: =SUM(L82:L87) -> 0 | M81: =SUM(K81:L81) -> 0 | O81: 0
A82: 22421 | B82: Transportlīdzekļu remonts un tehniskā apkope | C82: 635 | D82: 1306 | E82: =SUM(C82:D82) -> 1941 | F82: 1941 | I82: =SUM(G82:H82) -> 0 | J82: 1941 | M82: =SUM(K82:L82) -> 0
A83: 22422 | B83: Transportlīdzekļu uzkopšana | C83: 90 | E83: =SUM(C83:D83) -> 90 | F83: 90 | I83: =SUM(G83:H83) -> 0 | J83: 90 | M83: =SUM(K83:L83) -> 0
A84: 22423 | B84: Maksas stāvvietu uzturēšana, caurlaides | C84: 16 | E84: =SUM(C84:D84) -> 16 | F84: 16 | I84: =SUM(G84:H84) -> 0 | J84: 16 | M84: =SUM(K84:L84) -> 0
A85: 22424 | B85: Transportlīdzekļu tehniskās apskates | C85: 302 | E85: =SUM(C85:D85) -> 302 | F85: 302 | I85: =SUM(G85:H85) -> 0 | J85: 302 | M85: =SUM(K85:L85) -> 0
A86: 22425 | B86: Transportlīdzekļu KASKO apdrošināšana | C86: 711 | E86: =SUM(C86:D86) -> 711 | F86: 711 | I86: =SUM(G86:H86) -> 0 | J86: 711 | M86: =SUM(K86:L86) -> 0
A87: 22426 | B87: Transportlīdzekļu OCTA apdrošināšana | C87: 209 | E87: =SUM(C87:D87) -> 209 | F87: 209 | I87: =SUM(G87:H87) -> 0 | J87: 209 | M87: =SUM(K87:L87) -> 0
A88: 2243 | B88: Iekārtas, inventāra un aparatūras remonts, tehniskā apkalpošana | C88: =C90+C91+C92+C93+C94+C95+C89 -> 28260 | D88: =D90+D91+D92+D93+D94+D95+D89 -> 48260 | E88: =E90+E91+E92+E93+E94+E95+E89 -> 76520 | F88: =F90+F91+F92+F93+F94+F95+F89 -> 78416 | G88: =SUM(G89:G96) -> 1896 | H88: =H90+H91+H92+H93+H94+H95+H89 -> 0 | I88: =SUM(G88:H88) -> 1896 | J88: =J90+J91+J92+J93+J94+J95+J89 -> 80312 | K88: =SUM(K89:K96) -> 3792 | L88: =L90+L91+L92+L93+L94+L95+L89 -> 0 | M88: =SUM(K88:L88) -> 3792 | O88: 3792
A89: 22431 | B89: Datortehnikas, printeru, serveru, biroja tehnikas uzturēšanas, tehniskās apkalpošanas un remonta izdevumi | C89: 655 | E89: =SUM(C89:D89) -> 655 | F89: 655 | I89: =SUM(G89:H89) -> 0 | J89: 655 | M89: =SUM(K89:L89) -> 0
A90: 22432 | B90: Sakaru un pasta tehnikas uzturēšanas, tehniskās apkalpošanas un remonta izdevumi | C90: 0 | E90: =SUM(C90:D90) -> 0 | F90: =SUM(D90:E90) -> 0 | I90: =SUM(G90:H90) -> 0 | J90: =SUM(H90:I90) -> 0 | M90: =SUM(K90:L90) -> 0
A91: 22433 | B91: Kondicionieru uzturēšanas, tehniskās apkalpošanas un remonta izdevumi | C91: 305 | E91: =SUM(C91:D91) -> 305 | F91: 305 | I91: =SUM(G91:H91) -> 0 | J91: 305 | M91: =SUM(K91:L91) -> 0
A92: 22434 | B92: Laboratorijas iekārtu, medicīnisko ierīču, iekārtu, aparatūras uzturēšanas, tehniskās apkalpošanas un remonta izdevumi,mērišanas līdzekļu verificēšana un kalibrēšana | C92: 26785 | D92: 48260 | E92: =SUM(C92:D92) -> 75045 | F92: 75045 | I92: =SUM(G92:H92) -> 0 | J92: 75045 | M92: =SUM(K92:L92) -> 0
A93: 22435 | B93: Virtuves un pārējo saimniecisko iekārtu remonta un tehniskās apkalpošanas izdevumi | C93: 229 | E93: =SUM(C93:D93) -> 229 | F93: 229 | I93: =SUM(G93:H93) -> 0 | J93: 229 | M93: =SUM(K93:L93) -> 0
A94: 22436 | B94: Ugunsdrošības sistēmas uzturēšana, ugunsdzēšamo aparātu apkope, uzpildīšana un remonts | C94: 211 | E94: =SUM(C94:D94) -> 211 | F94: 211 | I94: =SUM(G94:H94) -> 0 | J94: 211 | M94: =SUM(K94:L94) -> 0
A95: 22439 | B95: Pārējie iepriekš neklasificētie izdevumi | C95: 75 | E95: =SUM(C95:D95) -> 75 | F95: 1971 | G95: 1896 | I95: =SUM(G95:H95) -> 1896 | J95: 3867 | K95: 3792 | M95: =SUM(K95:L95) -> 3792 | N95: NVA sniegtā informācija par izdevumiem ēku, būvju un telpu tehniskajai apkalpošanai 3792 euro gadā. | O95: 3792
A96: 22439 | B96: Dīzeļģeneratoru tehniskā apkope | C96: 0 | D96: 0 | E96: =SUM(C96:D96) -> 0 | F96: 0 | I96: =SUM(G96:H96) -> 0 | J96: 0 | M96: =SUM(K96:L96) -> 0
A97: 2244 | B97: Nekustamā īpašuma uzturēšana | C97: =C98+C99+C100+C101 -> 4185 | D97: =D98+D99+D100+D101 -> 840 | E97: =E98+E99+E100+E101 -> 5025 | F97: =F98+F99+F100+F101 -> 70209 | G97: =G98+G99+G100+G101 -> 65184 | H97: =H98+H99+H100+H101 -> 0 | I97: =SUM(G97:H97) -> 65184 | J97: =J98+J99+J100+J101 -> 126536 | K97: =K98+K99+K100+K101 -> 121511 | L97: =L98+L99+L100+L101 -> 0 | M97: =SUM(K97:L97) -> 121511 | O97: 121511
A98: 22441 | B98: Apsardzes un apsardzes infrastruktūras uzturēšanas izdevumi | C98: 1360 | E98: =SUM(C98:D98) -> 1360 | F98: 10216 | G98: 8856 | I98: =SUM(G98:H98) -> 8856 | J98: 10216 | K98: 8856 | M98: =SUM(K98:L98) -> 8856 | N98: Drošības sistēmas tehniskā apkope jaunajā laboratoriju ēkā. Laboratoriju ēkā ir uzstādīta apsardzes signalizācija, videonovērošanas un piekļuves kontroles sistēma. Sistēmas apkopes izmaksas mēnesī 738 euro, kopā gadā papildus nepieciešami 8 856 euro, šādi izdevumi iepriekšējos gados nav bijuši aktuāli. | O98: 8856
A99: 22442 | B99: Izdevumi par ēku, būvju, telpu, teritorijas un liftu uzkopšanu | C99: 2100 | E99: =SUM(C99:D99) -> 2100 | F99: 2100 | I99: =SUM(G99:H99) -> 0 | J99: 2100 | M99: =SUM(K99:L99) -> 0
A100: 22444 | B100: Paklāju noma, maiņa un tīrīšana | C100: 725 | D100: 840 | E100: =SUM(C100:D100) -> 1565 | F100: 1565 | I100: =SUM(G100:H100) -> 0 | J100: 1565 | M100: =SUM(K100:L100) -> 0
A101: 22449 | B101: Pārējie iepriekš neklasificētie ēku, būvju un telpu uzturēšanas izdevumi | F101: 56328 | G101: 56328 | I101: =SUM(G101:H101) -> 56328 | J101: 112655 | K101: 112655 | M101: =SUM(K101:L101) -> 112655 | N101: NVA sniegtā informācija par izdevumiem ēku, būvju un telpu apsaimniekošanai 112 655 euro gadā. | O101: 112655
A102: 2247 | B102: Apdrošināšanas izdevumi | C102: =C103 -> 2300 | D102: =D103 -> 0 | E102: =E103 -> 2300 | F102: =F103 -> 4600 | G102: 2300 | H102: =H103 -> 0 | I102: =SUM(G102:H102) -> 2300 | J102: =J103 -> 4600 | K102: 2300 | L102: =L103 -> 0 | M102: =SUM(K102:L102) -> 2300 | O102: 2300
A103: 22473 | B103: Iekārtu apdrošināšana | C103: 2300 | E103: =SUM(C103:D103) -> 2300 | F103: 4600 | G103: 2300 | I103: =SUM(G103:H103) -> 2300 | J103: 4600 | K103: 2300 | M103: =SUM(K103:L103) -> 2300 | N103: Ekspertīžu iekārtu kopsumma 10 257 415 euro, apdrošināšanas izmaksas plānojas 4600 euro, papildus nepieciešams 2 300 euro | O103: 2300
A104: 2250 | B104: Informācijas tehnoloģiju pakalpojumi | C104: =SUM(C105:C108) -> 50133 | D104: =SUM(D105:D108) -> 83792 | E104: =SUM(C104:D104) -> 133925 | F104: =SUM(F105:F108) -> 135072 | G104: =SUM(G105:G108) -> 1147 | H104: =SUM(H105:H108) -> 0 | I104: =SUM(I105:I108) -> 1147 | J104: =SUM(J105:J108) -> 136217 | K104: =SUM(K105:K108) -> 2292 | L104: =SUM(L105:L108) -> 0 | M104: =SUM(M105:M108) -> 2292 | O104: 2292
A105: 22501 | B105: Licenču uzturēšana, papildināšana un noma. | C105: 2425 | D105: 83792 | E105: =SUM(C105:D105) -> 86217 | F105: 86217 | I105: =SUM(G105:H105) -> 0 | J105: 86217 | M105: =SUM(K105:L105) -> 0
...
