Workbook
Name JĀ: #REF!
Name Nē: #REF!

Sheet Atlidziba_aprekins_2026
A2: Iestāde | B2: Valsts tiesu ekspertīžu birojs | F2: 03.04. 00 Tiesu ekspertīžu veikšana
A4: Nr.p.k. | B4: Struktūrvienība | C4: Amats | D4: Amatu skaits | E4: Slodze | F4: Darbinieka statuss | G4: Mēnešalgas grupa | H4: Noteiktā mēnešalga (vidējais VTEB/VPGKrPP KP) | I4: Mēnešalga atbilstoši slodzei un amatu skaitam
A5: 1 | B5: 2 | C5: 3 | D5: 4 | E5: 5 | F5: 6 | G5: 7 | H5: 8 | I5: 9=4*5*8
A6: 1 | B6: Administratīvais personāls | C6: Direktors | D6: 1 | E6: 1 | F6: I | G6: 14 | H6: 4600 | I6: =D6*E6*H6 -> 4600
A7: 2 | B7: Administratīvais personāls | C7: Direktora vietnieks | D7: 2 | E7: 1 | F7: I | G7: 13 | H7: 3150 | I7: =D7*E7*H7 -> 6300
A8: 3 | B8: Administratīvais personāls | C8: Jurists | D8: 1 | E8: 1 | F8: D | G8: 11 | H8: 2340 | I8: =D8*E8*H8 -> 2340
A9: 4 | B9: Administratīvais personāls | C9: Lietvedis | D9: 3 | E9: 1 | F9: D | G9: 8 | H9: 1305 | I9: =D9*E9*H9 -> 3915
A10: 5 | B10: Administratīvais personāls | C10: Kvalitātes vadītājs | D10: 1 | E10: 1 | F10: D | G10: 11 | H10: 2540 | I10: =D10*E10*H10 -> 2540
A11: 6 | B11: Administratīvais personāls | C11: Personāla vadītājs | D11: 1 | E11: 1 | F11: D | G11: 9 | H11: 1710 | I11: =D11*E11*H11 -> 1710
A12: 7 | B12: Administratīvais personāls | C12: Finansists | D12: 1 | E12: 1 | F12: D | G12: 11 | H12: 2550 | I12: =D12*E12*H12 -> 2550
A13: 8 | B13: Administratīvais personāls | C13: Vecākie speciālistis: Iepirkumu speciālists/IS sistēmas/kvalitāte | D13: 5 | E13: 1 | F13: D | G13: 9 | H13: 1710 | I13: =D13*E13*H13 -> 8550
A14: 9 | B14: Administratīvais personāls | C14: Risku vadītājs | D14: 1 | E14: 1 | F14: D | G14: 11 | H14: 2613 | I14: =D14*E14*H14 -> 2613
A15: 10 | B15: Administratīvais personāls | C15: Nodaļas vadītājs | D15: 1 | E15: 1 | F15: D | G15: 11 | H15: 2613 | I15: =D15*E15*H15 -> 2613
A16: 11 | B16: Atbalsta personāls | C16: Saimniecības pārzinis | D16: 1 | E16: 1 | F16: D | G16: 7 | H16: 1250 | I16: =D16*E16*H16 -> 1250
A17: 12 | B17: Atbalsta personāls | C17: Apkopēja | D17: 6 | E17: 1 | F17: D | G17: 2 | H17: 780 | I17: =D17*E17*H17 -> 4680
... A22: 17 | B22: Satura personāls | C22: Laborants/vec.speciālisti | D22: 7 | E22: 1 | F22: D | G22: 7 | H22: 1305 | I22: =D22*E22*H22 -> 9135
D23: =SUM(D6:D22) -> 153
G25: 6 | H25: Ierēdņi | I25: =SUMIF(F6:F24,"i",I6:I24) -> 18919
G26: 147 | H26: Darbinieki | I26: =SUMIF(F6:F24,"d",I6:I24) -> 302430
H27: KOPĀ mēnesī | I27: =SUM(I25:I26) -> 321349
H28: KOPĀ gadā | I28: =I27*12 -> 3856188
F30: Ierēdņi | G30: Darbinieki | H30: KOPĀ- nepieciešamais finansējums | I30: VTEB budžets 2025.gads | J30: VPGKrPP KP finansējums, kas plānots pārdalīt VTEB | K30: Kopā 2025. gada finansējums saskaņā ar likumu | L30: Papildus nepieciešmais finansējums 2026. gadā (pilnam gadam) | M30: Papildus nepieciešmais finansējums 2026.gadā- no 1.jūlija (pusgadam)
A31: 1000 | B31: Atlīdzība | F31: =F32+F46 -> 335638 | G31: =G32+G46 -> 5425028 | H31: =H32+H46 -> 5760666 | I31: =I32+I46 -> 1660376 | J31: =J32+J46 -> 3424906 | K31: =I31+J31 -> 5085282 | L31: =L32+L46 -> 675384 | M31: =M32+M46 -> 352184
A32: 1100 | B32: Atalgojums | F32: =F33+F34+F45 -> 261082 | G32: =G33+G34+G45 -> 4224996 | H32: =H33+H34+H45 -> 4486078 | I32: 1266472 | J32: 2636876 | K32: =I32+J32 -> 3903348 | L32: =H32-K32 -> 582730 | M32: =L32/2 -> 291365
A33: 1110 | B33: Mēnešalga | F33: =I25*12 -> 227028 | G33: =I26*12 -> 3629160 | H33: =F33+G33 -> 3856188
A34: 1140 | B34: Piemaksas, prēmijas un naudas balvas | F34: =F39+F42+F43+F36+F35+F40+F41+F44 -> 34054 | G34: =G39+G42+G43+G36+G35+G40+G41+G44 -> 595836 | H34: =H39+H42+H43+H36+H35+H40+H41+H44 -> 629890
A35: 1141 | B35: Piemaksa par naksts darbu | F35: 0 | G35: 0 | H35: =ROUND(SUM(F35:G35),0) -> 0
A36: 1142 | B36: Samaksa par virsstundu darbu un darbu svētku dienās | F36: =F37+F38 -> 0 | G36: =G37+G38 -> 0 | H36: =SUM(B36:G36) -> 0
A37: 11421 | B37: Samaksa par virsstundu darbu | F37: 0 | G37: 0 | H37: =ROUND(SUM(F37:G37),0) -> 0
A38: 11422 | B38: Samaksa par darbu svētku dienās | F38: 0 | G38: 0 | H38: =ROUND(SUM(F38:G38),0) -> 0
A39: 1143 | B39: Piemaksas par speciālo dienesta pakāpi un diplomātisko rangu | F39: 0 | G39: 0 | H39: =SUM(B39:G39) -> 0
A40: 1144 | B40: Piemaksa par izdienu | F40: 0 | G40: 0 | H40: =SUM(B40:G40) -> 0
A41: 1145 | B41: Piemaksa par darbu īpašos apstākļos, speciālās piemaksas | F41: 0 | G41: =ROUND((I18+I22)*25%*12,0) -> 51462 | H41: =ROUND(SUM(F41:G41),0) -> 51462
A42: 1147 | B42: Piemaksa par papildu darbu | C42: aizvietošana uz atvaļi.periodu | H42: =ROUND(SUM(F42:G42),0) -> 0
A43: 1148 | B43: Prēmijas un naudas balvas | F43: =ROUND((I25*12)*10%,0) -> 22703 | G43: =ROUND((I26*12)*10%,0) -> 362916 | H43: =ROUND(SUM(F43:G43),0) -> 385619
A44: 1149 | B44: Citas normatīvajos aktos noteiktās piemaksas, kas nav iepriekš klasificētas | F44: =ROUND((I25*12)*5%,0) -> 11351 | G44: =ROUND((I26*12)*5%,0) -> 181458 | H44: =ROUND(SUM(F44:G44),0) -> 192809
A45: 1150 | B45: Atalgojums fiz. pers .uz tiesiskās attiecības regulējošu dokumentu pamata | F45: 0 | G45: 0 | H45: 0 | K45: =I45+J45 -> 0
A46: 1200 | B46: Darba devēja VSAOI, pabalsti un kompensācijas | F46: =F47+F49 -> 74556 | G46: =G47+G49 -> 1200032 | H46: =ROUND(SUM(F46:G46),0) -> 1274588 | I46: 393904 | J46: 788030 | K46: =I46+J46 -> 1181934 | L46: =H46-K46 -> 92654 | M46: 60819
A47: 1210 | B47: Darba devēja valsts sociālās apdrošināšanas obligātās iemaksas | F47: =F48 -> 63205 | G47: =G48 -> 1018574 | H47: =SUM(F47:G47) -> 1081779
A48: 12101 | B48: Darba devēja VSAOI | F48: =ROUND((F32+F50)*0.2359,0) -> 63205 | G48: =ROUND((G32+G50)*0.2359,0) -> 1018574 | H48: =SUM(F48:G48) -> 1081779
...

Sheet Atlidziba_aprekins_2027
A2: Iestāde | B2: Valsts tiesu ekspertīžu birojs | F2: 03.04. 00 Tiesu ekspertīžu veikšana
A4: Nr.p.k. | B4: Struktūrvienība | C4: Amats | D4: Amatu skaits | E4: Slodze | F4: Darbinieka statuss | G4: Mēnešalgas grupa | H4: Noteiktā mēnešalga (vidējais VTEB/VPGKrPP KP) | I4: Mēnešalga atbilstoši slodzei un amatu skaitam | J4: nosakot atbilstoši VK publicētajai algu skalas viduspunktam
A5: 1 | B5: 2 | C5: 3 | D5: 4 | E5: 5 | F5: 6 | G5: 7 | H5: 8 | I5: 9=4*5*8
A6: 1 | B6: Administratīvais personāls | C6: Direktors | D6: 1 | E6: 1 | F6: I | G6: 14 | H6: 5284 | I6: =H6*E6*D6 -> 5284
A7: 2 | B7: Administratīvais personāls | C7: Direktora vietnieks | D7: 2 | E7: 1 | F7: I | G7: 13 | H7: 4417 | I7: =H7*E7*D7 -> 8834
A8: 3 | B8: Administratīvais personāls | C8: Jurists | D8: 1 | E8: 1 | F8: D | G8: 11 | H8: 2863 | I8: =H8*E8*D8 -> 2863
A9: 4 | B9: Administratīvais personāls | C9: Lietvedis | D9: 3 | E9: 1 | F9: D | G9: 8 | H9: 1592 | I9: =H9*E9*D9 -> 4776
A10: 5 | B10: Administratīvais personāls | C10: Kvalitātes vadītājs | D10: 1 | E10: 1 | F10: D | G10: 11 | H10: 2863 | I10: =H10*E10*D10 -> 2863
A11: 6 | B11: Administratīvais personāls | C11: Personāla vadītājs | D11: 1 | E11: 1 | F11: D | G11: 9 | H11: 1896 | I11: =H11*E11*D11 -> 1896
A12: 7 | B12: Administratīvais personāls | C12: Finansists | D12: 1 | E12: 1 | F12: D | G12: 11 | H12: 2863 | I12: =H12*E12*D12 -> 2863
A13: 8 | B13: Administratīvais personāls | C13: Vecākie speciālistis: Iepirkumu speciālists/IS sistēmas/kvalitāte | D13: 5 | E13: 1 | F13: D | G13: 9 | H13: 1896 | I13: =H13*E13*D13 -> 9480
A14: 9 | B14: Administratīvais personāls | C14: Risku vadītājs | D14: 1 | E14: 1 | F14: D | G14: 11 | H14: 2863 | I14: =H14*E14*D14 -> 2863
A15: 10 | B15: Administratīvais personāls | C15: Nodaļas vadītājs | D15: 1 | E15: 1 | F15: D | G15: 11 | H15: 2863 | I15: =H15*E15*D15 -> 2863
A16: 11 | B16: Atbalsta personāls | C16: Saimniecības pārzinis | D16: 1 | E16: 1 | F16: D | G16: 7 | H16: 1483 | I16: =H16*E16*D16 -> 1483
A17: 12 | B17: Atbalsta personāls | C17: Apkopēja | D17: 6 | E17: 1 | F17: D | G17: 2 | H17: 820 | I17: =H17*E17*D17 -> 4920
... A22: 17 | B22: Satura personāls | C22: Laborants/vec.speciālisti | D22: 7 | E22: 1 | F22: D | G22: 7 | H22: 1483 | I22: =H22*E22*D22 -> 10381
D23: =SUM(D6:D22) -> 153
G25: 6 | H25: Ierēdņi | I25: =SUMIF(F6:F24,"i",I6:I24) -> 24804
G26: 147 | H26: Darbinieki | I26: =SUMIF(F6:F24,"d",I6:I24) -> 370542
H27: KOPĀ mēnesī | I27: =SUM(I25:I26) -> 395346
H28: KOPĀ gadā | I28: =I27*12 -> 4744152
F31: Ierēdņi | G31: Darbinieki | H31: KOPĀ- nepieciešamais finansējums | I31: VTEB budžets 2025.gads | J31: VPGKrPP KP finansējums, kas plānots pārdalīt VTEB | K31: Kopā 2025. gada finansējums saskaņā ar likumu | L31: Papildus nepieciešmais finansējums 2027.gadā
A32: 1000 | B32: Atlīdzība | F32: =F33+F59 -> 440374 | G32: =G33+G59 -> 6651721 | H32: =H33+H59 -> 7092095 | I32: =I33+I59 -> 1660376 | J32: =J33+J59 -> 3424906 | K32: =K33+K59 -> 5085282 | L32: =L33+L59 -> 2006813
A33: 1100 | B33: Atalgojums | F33: =F34+F47+F58 -> 342295 | G33: =G34+G47+G58 -> 5176680 | H33: =H34+H47+H58 -> 5518975 | I33: 1266472 | J33: 2636876 | K33: 3903348 | L33: =H33-K33 -> 1615627
A34: 1110 | B34: Mēnešalga | F34: =F38+F44+F41+F35 -> 297648 | G34: =G38+G44+G41+G35 -> 4446504 | H34: =H38+H44+H41+H35 -> 4744152
A35: 1113 | B35: MK locekļu, valsts ministru un ministriju parlamentāro sekretāru mēnešalga | F35: =SUM(F36:F37) -> 0 | G35: =SUM(G36:G37) -> 0 | H35: =SUM(B35:G35) -> 0
A36: 11131 | B36: MK locekļu, valsts ministru un parlamentāro sekretāru mēnešalga | H36: =SUM(B36:G36) -> 0
A37: 11132 | B37: MK locekļu, valsts ministru un parlamentāro sekretāru atvaļinājuma nauda | H37: =SUM(B37:G37) -> 0
A38: 1114 | B38: Valsts civildienesta ierēdņu mēnešalga | F38: =F39+F40 -> 297648 | G38: =G39+G40 -> 0 | H38: =H39+H40 -> 297648
A39: 11141 | B39: Valsts civildienesta ierēdņu mēnešalga | F39: =ROUND(I25*11,0) -> 272844 | H39: =ROUND(SUM(F39:G39),0) -> 272844
A40: 11142 | B40: Valsts civildienesta ierēdņu atvaļinājuma nauda | F40: =ROUND(I25,0) -> 24804 | H40: =ROUND(SUM(F40:G40),0) -> 24804
A41: 1116 | B41: Mēnešalga amatpersonām ar speciālajām dienesta pakāpēm | F41: =SUM(F42:F43) -> 0 | G41: =SUM(G42:G43) -> 0 | H41: =SUM(B41:G41) -> 0
A42: 11161 | B42: Mēneša amatalga amatpersonām ar speciālajām dienesta pakāpēm | H42: =SUM(B42:G42) -> 0
A43: 11192 | B43: Atvaļinājuma nauda amatpersonām ar speciālajām dienesta pakāpēm | H43: =SUM(B43:G43) -> 0
A44: 1119 | B44: Pārējo darbinieku mēnešalga (darba alga) | F44: =SUM(F45:F46) -> 0 | G44: =SUM(G45:G46) -> 4446504 | H44: =SUM(F44:G44) -> 4446504
A45: 11191 | B45: Pārējo darbinieku mēnešalga | G45: =ROUND(I26*11,0) -> 4075962 | H45: =ROUND(SUM(F45:G45),0) -> 4075962
A46: 11192 | B46: Pārējo darbinieku atvaļinājuma nauda | G46: =ROUND(I26,0) -> 370542 | H46: =ROUND(SUM(F46:G46),0) -> 370542
A47: 1140 | B47: Piemaksas, prēmijas un naudas balvas | F47: =F52+F55+F56+F49+F48+F53+F54+F57 -> 44647 | G47: =G52+G55+G56+G49+G48+G53+G54+G57 -> 730176 | H47: =H52+H55+H56+H49+H48+H53+H54+H57 -> 774823
A48: 1141 | B48: Piemaksa par naksts darbu | F48: 0 | G48: 0 | H48: =ROUND(SUM(F48:G48),0) -> 0
A49: 1142 | B49: Samaksa par virsstundu darbu un darbu svētku dienās | F49: =F50+F51 -> 0 | G49: =G50+G51 -> 0 | H49: =SUM(B49:G49) -> 0
...

Sheet VTEI
A3: Papildu finansējuma aprēķins Tieslietu ministrijas 03.04. 00 budžeta apakšprogrammai "Tiesu ekspertīžu veikšana"
A7: Kods* | B7: Rādītājs/koda nosaukums | C7: VTEB budžets 2025.gads | D7: VPGKrPP KP 2025. | E7: Kopā 2025. gada finansējums | F7: VTEI budžets 2026. gadā* | G7: Papildus 2026.g. (1/2 no gada summas - ar 1. jūliju) | H7: Papildus vienreizējie izdevumi 2026. | I7: Papildus 2026. (kopā) | J7: VTEI budžets 2027. gadā | K7: Papildus 2027. gads un turpmāk | L7: Papildus vienreizējie izdevumi 2027. | M7: Papildus 2027. (kopā) | N7: Piezīmes aprēķiniem
A8: 1000-9000 | B8: IZDEVUMI - KOPĀ | C8: =SUM(C9+C149) -> 2128599 | D8: =SUM(D9+D149) -> 3771599 | E8: =SUM(E9+E149) -> 5900198 | F8: =SUM(F9+F149) -> 7045534 | G8: =SUM(G9+G149) -> 1004436 | H8: =SUM(H9+H149) -> 140900 | I8: =SUM(I9+I149) -> 1145336 | J8: =SUM(J9+J149) -> 8999862 | ... M8: =SUM(M9+M149) -> 3099664
A9: 1000–4000; 6000–7000 | B9: Uzturēšanas izdevumi | C9: =SUM(C10+C146) -> 2099801 | D9: =SUM(D10+D146) -> 3771599 | E9: =SUM(E10+E146) -> 5871400 | F9: =SUM(F10+F146) -> 6966936 | G9: =SUM(G10+G146) -> 1004436 | H9: =SUM(H10+H146) -> 91100 | I9: =SUM(I10+I146) -> 1095536 | J9: =SUM(J10+J146) -> 8845064 | ... M9: =SUM(M10+M146) -> 2973664
A10: 1000–2000 | B10: Kārtējie izdevumi | C10: =SUM(C11+C40) -> 2095676 | D10: =SUM(D11+D40) -> 3771599 | E10: =SUM(E11+E40) -> 5867275 | F10: =SUM(F11+F40) -> 6962811 | G10: =SUM(G11+G40) -> 1004436 | H10: =SUM(H11+H40) -> 91100 | I10: =SUM(I11+I40) -> 1095536 | J10: =SUM(J11+J40) -> 8840939 | ... M10: =SUM(M11+M40) -> 2973664
A11: 1000 | B11: Atlīdzība | C11: =C12+C29 -> 1660376 | D11: =D12+D29 -> 3424906 | E11: =C11+D11 -> 5085282 | F11: =F12+F29 -> 5437466 | G11: =SUM(G12+G29) -> 352184 | I11: =SUM(G11:H11) -> 352184 | J11: =J12+J29 -> 7092095 | K11: =SUM(K12+K29) -> 2006813 | M11: =SUM(K11:L11) -> 2006813 | N11: Saskaņā ar "Atlīdzība_aprekins_2026" un "Atlīdzība_aprekins_2027", t.sk 2026. gadā palielinājums ar 1. jūliju, 6 mēneši
A12: 1100 | B12: Atalgojums | C12: =C13+C17+C28 -> 1266472 | D12: =D13+D17+D28 -> 2636876 | E12: =E13+E17+E28 -> 3903348 | F12: =SUM(E12+G12) -> 4194713 | G12: 291365 | I12: =SUM(G12:H12) -> 291365 | J12: =J13+J17 -> 5518975 | K12: =SUM(J12-E12) -> 1615627 | M12: =SUM(K12:L12) -> 1615627 | N12: 2026. gadā: 4486078 euro -3903348 euro = 582730 euro/2=291365 euro
A13: 1110 | B13: Mēnešalga | C13: =SUM(C14:C16) -> 1183200 | D13: =SUM(D14:D16) -> 2407356 | E13: =SUM(E14:E16) -> 3590556 | I13: =SUM(G13:H13) -> 0 | J13: =SUM(J14:J16) -> 4744152 | K13: =SUM(J13-E13) -> 1153596 | M13: =SUM(K13:L13) -> 1153596
A14: 1114 | B14: Valsts civildienesta ierēdņu mēnešalga | C14: 267655 | E14: =C14+D14 -> 267655 | J14: =Atlidziba_aprekins_2027!H38 -> 297648 | M14: =SUM(K14:L14) -> 0
A15: 1116 | B15: Mēnešalga amatpersonām ar speciālajām dienesta pakāpēm | C15: 0 | D15: 1174872 | E15: =C15+D15 -> 1174872
A16: 1119 | B16: Pārējo darbinieku mēnešalga (darba alga) | C16: 915545 | D16: 1232484 | E16: =C16+D16 -> 2148029 | J16: =Atlidziba_aprekins_2027!H44 -> 4446504
A17: 1140 | B17: Piemaksas, prēmijas un naudas balvas | C17: =SUM(C18:C27) -> 81322 | D17: =SUM(D18:D27) -> 229520 | E17: =C17+D17 -> 310842 | I17: =SUM(G17:H17) -> 0 | J17: =SUM(J18:J27) -> 774823 | K17: =SUM(J17-E17) -> 463981 | M17: =SUM(K17:L17) -> 463981
A18: 1141 | B18: Piemaksa par nakts darbu | C18: 0 | E18: =C18+D18 -> 0
A19: 1143 | B19: Piemaksas par speciālo dienesta pakāpi un diplomātisko rangu | C19: 0 | E19: =C19+D19 -> 0
A20: 1144 | B20: Piemaksa par izdienu | C20: 0 | E20: =C20+D20 -> 0
A21: 1142 | B21: Samaksa par virsstundu darbu un darbu svētku dienās | C21: 0 | E21: =C21+D21 -> 0 | J21: =Atlidziba_aprekins_2027!H49 -> 0
A22: 1143 | B22: Piemaksas par speciālo dienesta pakāpi un diplomātisko rangu | D22: 55956 | E22: =C22+D22 -> 55956 | J22: 0
A23: 1145 | B23: Piemaksa par darbu īpašos apstākļos, speciālās piemaksas | C23: 0 | D23: 173564 | E23: =C23+D23 -> 173564 | J23: =Atlidziba_aprekins_2027!H54 -> 63201
A24: 1146 | B24: Piemaksa par personisko darba ieguldījumu un darba kvalitāti | C24: 0 | E24: =C24+D24 -> 0 | J24: 0
A25: 1147 | B25: Piemaksa par papildu darbu | C25: 13430 | E25: =C25+D25 -> 13430 | J25: =Atlidziba_aprekins_2027!H55 -> 0
A26: 1148 | B26: Prēmijas un naudas balvas | C26: =15266+50350 -> 65616 | E26: =C26+D26 -> 65616 | J26: =Atlidziba_aprekins_2027!H56 -> 474415
A27: 1149 | B27: Citas normatīvajos aktos noteiktās piemaksas, kas nav iepriekš klasificētas | C27: 2276 | E27: =C27+D27 -> 2276 | J27: =Atlidziba_aprekins_2027!H57 -> 237207
A28: 1150 | B28: Atalgojums fiziskām personām uz tiesiskās attiecības regulējošu dokumentu pamata | C28: 1950 | E28: =C28+D28 -> 1950 | F28: 0 | I28: =SUM(G28:H28) -> 0 | J28: 0
A29: 1200 | B29: Darba devēja valsts sociālās apdrošināšanas obligātās iemaksas, pabalsti un kompensācijas | C29: =C30+C31 -> 393904 | D29: =D30+D31 -> 788030 | E29: =E30+E31 -> 1181934 | F29: =SUM(E29+G29) -> 1242753 | G29: =SUM(G30:G31) -> 60819 | I29: =SUM(G29:H29) -> 60819 | J29: =J30+J31 -> 1573120 | K29: =SUM(J29-E29) -> 391186 | M29: =SUM(K29:L29) -> 391186 | N29: Saskaņā ar "Atlīdzība_aprekins_2026" un "Atlīdzība_aprekins_2027", t.sk 2026. gadā palielinājums ar 1. jūliju, 6 mēneši
A30: 1210 | B30: Darba devēja valsts sociālās apdrošināšanas obligātās iemaksas | C30: 311620 | D30: 645696 | E30: =D30+C30 -> 957316 | G30: 62232 | I30: =SUM(G30:H30) -> 62232 | J30: =Atlidziba_aprekins_2027!H60 -> 1335913 | K30: =SUM(J30-E30) -> 378597 | M30: =SUM(K30:L30) -> 378597 | N30: 2026. gadā: 1081779 euro -957316 euro = 124463 euro/2=62232 euro
A31: 1220 | B31: Darba devēja pabalsti, kompensācijas un citi maksājumi | C31: =SUM(C32:C39) -> 82284 | D31: =SUM(D32:D39) -> 142334 | E31: =SUM(E32:E39) -> 224618 | G31: -1413 | I31: =SUM(G31:H31) -> -1413 | J31: =SUM(J32:J39) -> 237207 | K31: =SUM(J31-E31+K38) -> 12589 | M31: =SUM(K31:L31) -> 12589 | N31: 2026. gadā: 192809 euro -224618 euro =-31809 euro/2=-15905 euro + 14492 euro (apdrošināšana gadam) =-1413 euro
A32: 1221 | B32: Darba devēja pabalsti un kompensācijas, no kuriem aprēķina iedzīvotāju ienākuma nodokli un valsts sociālās apdrošināšanas obligātās iemaksas | C32: =12666+45316 -> 57982 | D32: 100334 | E32: =C32+D32 -> 158316 | J32: =Atlidziba_aprekins_2027!H63 -> 144072
A33: 1222 | B33: Studējošo kredītu dzēšana no piešķirtajiem budžeta līdzekļiem | E33: =C33+D33 -> 0
A34: 1223 | B34: Mācību maksas kompensācija | E34: =C34+D34 -> 0
A35: 1224 | B35: Ārvalstīs nodarbināto amatpersonu (darbinieku) pabalsti | E35: =C35+D35 -> 0
A36: 1225 | B36: Darba devēja uzturdevas kompensācija | E36: =C36+D36 -> 0
A37: 1226 | B37: Dienesta pienākumu izpildei nepieciešamā apģērba iegādes kompensācija | E37: =C37+D37 -> 0
A38: 1227 | B38: Darba devēja izdevumi veselības, dzīvības un nelaimes gadījumu apdrošināšanai | C38: =3408+18744 -> 22152 | D38: 42000 | E38: =C38+D38 -> 64152 | J38: =SUM(Atlidziba_aprekins_2027!H70) -> 93135 | N38: Veselības apdrošināšanas un nelaimes gadījumu apdrošināšanas polisēm papildus nepieciešams finansējums 28 983 euro (93135 euro - 64152 euro), t.sk. 2026. gadā pilnā apmērā (polise jāpērk VPGKrPP KP darbiniekiem)
A39: 1228 | B39: Darba devēja pabalsti un kompensācijas, no kā neaprēķina iedzīvotāju ienākuma nodokli un valsts sociālās apdrošināšanas obligātās iemaksas | C39: =430+1720 -> 2150 | E39: =C39+D39 -> 2150
A40: 2000 | B40: Preces un pakalpojumi | C40: =SUM(C41+C48+C113+C143) -> 435300 | D40: =SUM(D41+D48+D113+D143) -> 346693 | E40: =SUM(C40:D40) -> 781993 | F40: =SUM(F41+F48+F113+F143) -> 1525345 | G40: =SUM(G41+G48+G113+G143) -> 652252 | H40: =SUM(H41+H48+H113+H143) -> 91100 | I40: =SUM(I41+I48+I113+I143) -> 743352 | J40: =SUM(J41+J48+J113+J143) -> 1748844 | K40: =SUM(K41+K48+K113+K143) -> 791221 | L40: =SUM(L41+L48+L113+L143) -> 175630 | M40: =SUM(M41+M48+M113+M143) -> 966851
A41: 2100 | B41: Mācību, darba un dienesta komandējumi, darba braucieni | C41: =SUM(C42+C45) -> 23064 | D41: =SUM(D42+D45) -> 4500 | E41: =SUM(C41:D41) -> 27564 | F41: =SUM(F42+F45) -> 37064 | G41: =SUM(G42+G45) -> 9500 | H41: =SUM(H42+H45) -> 0 | I41: =SUM(I42+I45) -> 9500 | J41: =SUM(J42+J45) -> 46564 | K41: =SUM(K42+K45) -> 19000 | L41: =SUM(L42+L45) -> 0 | M41: =SUM(M42+M45) -> 19000 | N41: 2026. gadā 6 mēneši, 2027. gads
A42: 2110 | B42: Iekšzemes mācību, darba un dienesta komandējumi, darba braucieni | C42: =C43+C44 -> 86 | D42: =D43+D44 -> 0 | E42: =SUM(C42:D42) -> 86 | F42: =F43+F44 -> 86 | G42: =G43+G44 -> 0 | H42: =H43+H44 -> 0 | I42: =I43+I44 -> 0 | J42: =J43+J44 -> 86 | K42: =K43+K44 -> 0 | L42: =L43+L44 -> 0 | M42: =M43+M44 -> 0
A43: 2111 | B43: Dienas nauda | C43: 32 | E43: =SUM(C43:D43) -> 32 | F43: 32 | J43: 32 | M43: =SUM(K43:L43) -> 0
A44: 2112 | B44: Pārējie komandējumu un darba braucienu izdevumi | C44: 54 | E44: =SUM(C44:D44) -> 54 | F44: 54 | J44: 54 | M44: =SUM(K44:L44) -> 0
A45: 2120 | B45: Ārvalstu mācību, darba un dienesta komandējumi, darba braucieni | C45: =SUM(C46:C47) -> 22978 | D45: =SUM(D46:D47) -> 4500 | E45: =SUM(C45:D45) -> 27478 | F45: =SUM(F46:F47) -> 36978 | G45: =SUM(G46:G47) -> 9500 | H45: =SUM(H46:H47) -> 0 | I45: =SUM(I46:I47) -> 9500 | J45: =SUM(J46:J47) -> 46478 | K45: =SUM(K46:K47) -> 19000 | L45: =SUM(L46:L47) -> 0 | M45: =SUM(M46:M47) -> 19000 | N45: Tiesu ekspertu kvalifikācijas paaugstināšanā būtiska nozīme ir tiesu ekspertu aktīvai dalībai Eiropas Tiesu ekspertīžu iestāžu asociācijā – dalība Vadības komitejās, tiesu ekspertu darba grupās un projektos.
...

Sheet Īsais
A3: Papildu finansējuma aprēķins Tieslietu ministrijas 03.04. 00 budžeta apakšprogrammai "Tiesu ekspertīžu veikšana"
A7: Kods* | B7: Rādītājs/koda nosaukums | C7: VTEB budžets 2025.gads | D7: VPGKrPP KP 2025. | E7: Kopā 2025. gada finansējums | F7: VTEI budžets 2026. gadā* | G7: Papildus 2026.g. (1/2 no gada summas - ar 1. jūliju) | H7: Papildus vienreizējie izdevumi 2026. | I7: Papildus nepieciešmais finansējums 2026.gadā- no 1.jūlija (pusgadam) | J7: VTEI budžets 2027. gadā | K7: Papildus 2027. gads un turpmāk | L7: Papildus vienreizējie izdevumi 2027. | M7: Papildus nepieciešmais finansējums 2027.gadā | N7: Piezīmes aprēķiniem | O7: Papildus nepieciešmais finansējums 2028. gadā un turpmāk
A8: 1000-9000 | B8: IZDEVUMI - KOPĀ | C8: =SUM(C9+C149) -> 2128599 | D8: =SUM(D9+D149) -> 3771599 | E8: =SUM(E9+E149) -> 5900198 | F8: =SUM(F9+F149) -> 7045534 | G8: =SUM(G9+G149) -> 1004436 | H8: =SUM(H9+H149) -> 140900 | I8: =SUM(I9+I149) -> 1145336 | J8: =SUM(J9+J149) -> 8999862 | ... M8: =SUM(M9+M149) -> 3099664 | O8: 2798034
A9: 1000–4000; 6000–7000 | B9: Uzturēšanas izdevumi | C9: =SUM(C10+C146) -> 2099801 | D9: =SUM(D10+D146) -> 3771599 | E9: =SUM(E10+E146) -> 5871400 | F9: =SUM(F10+F146) -> 6966936 | G9: =SUM(G10+G146) -> 1004436 | H9: =SUM(H10+H146) -> 91100 | I9: =SUM(I10+I146) -> 1095536 | J9: =SUM(J10+J146) -> 8845064 | ... M9: =SUM(M10+M146) -> 2973664 | O9: 2798034
A10: 1000–2000 | B10: Kārtējie izdevumi | C10: =SUM(C11+C40) -> 2095676 | D10: =SUM(D11+D40) -> 3771599 | E10: =SUM(E11+E40) -> 5867275 | F10: =SUM(F11+F40) -> 6962811 | G10: =SUM(G11+G40) -> 1004436 | H10: =SUM(H11+H40) -> 91100 | I10: =SUM(I11+I40) -> 1095536 | J10: =SUM(J11+J40) -> 8840939 | ... M10: =SUM(M11+M40) -> 2973664 | O10: 2798034
A11: 1000 | B11: Atlīdzība | C11: =C12+C29 -> 1660376 | D11: =D12+D29 -> 3424906 | E11: =C11+D11 -> 5085282 | F11: =F12+F29 -> 5437466 | G11: =SUM(G12+G29) -> 352184 | I11: =SUM(G11:H11) -> 352184 | J11: =J12+J29 -> 7092095 | K11: =SUM(K12+K29) -> 2006813 | M11: =SUM(K11:L11) -> 2006813 | N11: Saskaņā ar "Atlīdzība_aprekins_2026" un "Atlīdzība_aprekins_2027", t.sk 2026. gadā palielinājums ar 1. jūliju, 6 mēneši | O11: 2006813
A12: 1100 | B12: Atalgojums | C12: =C13+C17+C28 -> 1266472 | D12: =D13+D17+D28 -> 2636876 | E12: =E13+E17+E28 -> 3903348 | F12: =SUM(E12+G12) -> 4194713 | G12: 291365 | I12: =SUM(G12:H12) -> 291365 | J12: =J13+J17 -> 5518975 | K12: =SUM(J12-E12) -> 1615627 | M12: =SUM(K12:L12) -> 1615627 | N12: 2026. gadā: 4486078 euro -3903348 euro = 582730 euro/2=291365 euro | O12: 1615627
A13: 1110 | B13: Mēnešalga | C13: =SUM(C14:C16) -> 1183200 | D13: =SUM(D14:D16) -> 2407356 | E13: =SUM(E14:E16) -> 3590556 | I13: =SUM(G13:H13) -> 0 | J13: =SUM(J14:J16) -> 4744152 | K13: =SUM(J13-E13) -> 1153596 | M13: =SUM(K13:L13) -> 1153596 | O13: 1153596
A14: 1114 | B14: Valsts civildienesta ierēdņu mēnešalga | C14: 267655 | E14: =C14+D14 -> 267655 | J14: =Atlidziba_aprekins_2027!H38 -> 297648 | M14: =SUM(K14:L14) -> 0
A15: 1116 | B15: Mēnešalga amatpersonām ar speciālajām dienesta pakāpēm | C15: 0 | D15: 1174872 | E15: =C15+D15 -> 1174872
A16: 1119 | B16: Pārējo darbinieku mēnešalga (darba alga) | C16: 915545 | D16: 1232484 | E16: =C16+D16 -> 2148029 | J16: =Atlidziba_aprekins_2027!H44 -> 4446504
A17: 1140 | B17: Piemaksas, prēmijas un naudas balvas | C17: =SUM(C18:C27) -> 81322 | D17: =SUM(D18:D27) -> 229520 | E17: =C17+D17 -> 310842 | I17: =SUM(G17:H17) -> 0 | J17: =SUM(J18:J27) -> 774823 | K17: =SUM(J17-E17) -> 463981 | M17: =SUM(K17:L17) -> 463981 | O17: 463981
A18: 1141 | B18: Piemaksa par nakts darbu | C18: 0 | E18: =C18+D18 -> 0
A19: 1143 | B19: Piemaksas par speciālo dienesta pakāpi un diplomātisko rangu | C19: 0 | E19: =C19+D19 -> 0
A20: 1144 | B20: Piemaksa par izdienu | C20: 0 | E20: =C20+D20 -> 0
A21: 1142 | B21: Samaksa par virsstundu darbu un darbu svētku dienās | C21: 0 | E21: =C21+D21 -> 0 | J21: =Atlidziba_aprekins_2027!H49 -> 0
A22: 1143 | B22: Piemaksas par speciālo dienesta pakāpi un diplomātisko rangu | D22: 55956 | E22: =C22+D22 -> 55956 | J22: 0
A23: 1145 | B23: Piemaksa par darbu īpašos apstākļos, speciālās piemaksas | C23: 0 | D23: 173564 | E23: =C23+D23 -> 173564 | J23: =Atlidziba_aprekins_2027!H54 -> 63201
A24: 1146 | B24: Piemaksa par personisko darba ieguldījumu un darba kvalitāti | C24: 0 | E24: =C24+D24 -> 0 | J24: 0
A25: 1147 | B25: Piemaksa par papildu darbu | C25: 13430 | E25: =C25+D25 -> 13430 | J25: =Atlidziba_aprekins_2027!H55 -> 0
A26: 1148 | B26: Prēmijas un naudas balvas | C26: =15266+50350 -> 65616 | E26: =C26+D26 -> 65616 | J26: =Atlidziba_aprekins_2027!H56 -> 474415
A27: 1149 | B27: Citas normatīvajos aktos noteiktās piemaksas, kas nav iepriekš klasificētas | C27: 2276 | E27: =C27+D27 -> 2276 | J27: =Atlidziba_aprekins_2027!H57 -> 237207
A28: 1150 | B28: Atalgojums fiziskām personām uz tiesiskās attiecības regulējošu dokumentu pamata | C28: 1950 | E28: =C28+D28 -> 1950 | F28: 0 | I28: =SUM(G28:H28) -> 0 | J28: 0
A29: 1200 | B29: Darba devēja valsts sociālās apdrošināšanas obligātās iemaksas, pabalsti un kompensācijas | C29: =C30+C31 -> 393904 | D29: =D30+D31 -> 788030 | E29: =E30+E31 -> 1181934 | F29: =SUM(E29+G29) -> 1242753 | G29: =SUM(G30:G31) -> 60819 | I29: =SUM(G29:H29) -> 60819 | J29: =J30+J31 -> 1573120 | K29: =SUM(J29-E29) -> 391186 | M29: =SUM(K29:L29) -> 391186 | N29: Saskaņā ar "Atlīdzība_aprekins_2026" un "Atlīdzība_aprekins_2027", t.sk 2026. gadā palielinājums ar 1. jūliju, 6 mēneši | O29: 391186
A30: 1210 | B30: Darba devēja valsts sociālās apdrošināšanas obligātās iemaksas | C30: 311620 | D30: 645696 | E30: =D30+C30 -> 957316 | G30: 62232 | I30: =SUM(G30:H30) -> 62232 | J30: =Atlidziba_aprekins_2027!H60 -> 1335913 | K30: =SUM(J30-E30) -> 378597 | M30: =SUM(K30:L30) -> 378597 | N30: 2026. gadā: 1081779 euro -957316 euro = 124463 euro/2=62232 euro | O30: 378597
A31: 1220 | B31: Darba devēja pabalsti, kompensācijas un citi maksājumi | C31: =SUM(C32:C39) -> 82284 | D31: =SUM(D32:D39) -> 142334 | E31: =SUM(E32:E39) -> 224618 | G31: -1413 | I31: =SUM(G31:H31) -> -1413 | J31: =SUM(J32:J39) -> 237207 | K31: =SUM(J31-E31+K38) -> 12589 | M31: =SUM(K31:L31) -> 12589 | N31: 2026. gadā: 192809 euro -224618 euro =-31809 euro/2=-15905 euro + 14492 euro (apdrošināšana gadam) =-1413 euro | O31: 12589
A32: 1221 | B32: Darba devēja pabalsti un kompensācijas, no kuriem aprēķina iedzīvotāju ienākuma nodokli un valsts sociālās apdrošināšanas obligātās iemaksas | C32: =12666+45316 -> 57982 | D32: 100334 | E32: =C32+D32 -> 158316 | J32: =Atlidziba_aprekins_2027!H63 -> 144072
A33: 1222 | B33: Studējošo kredītu dzēšana no piešķirtajiem budžeta līdzekļiem | E33: =C33+D33 -> 0
A34: 1223 | B34: Mācību maksas kompensācija | E34: =C34+D34 -> 0
A35: 1224 | B35: Ārvalstīs nodarbināto amatpersonu (darbinieku) pabalsti | E35: =C35+D35 -> 0
A36: 1225 | B36: Darba devēja uzturdevas kompensācija | E36: =C36+D36 -> 0
A37: 1226 | B37: Dienesta pienākumu izpildei nepieciešamā apģērba iegādes kompensācija | E37: =C37+D37 -> 0
A38: 1227 | B38: Darba devēja izdevumi veselības, dzīvības un nelaimes gadījumu apdrošināšanai | C38: =3408+18744 -> 22152 | D38: 42000 | E38: =C38+D38 -> 64152 | J38: =SUM(Atlidziba_aprekins_2027!H70) -> 93135 | N38: Veselības apdrošināšanas un nelaimes gadījumu apdrošināšanas polisēm papildus nepieciešams finansējums 28 983 euro (93135 euro - 64152 euro), t.sk. 2026. gadā pilnā apmērā (polise jāpērk VPGKrPP KP darbiniekiem)
A39: 1228 | B39: Darba devēja pabalsti un kompensācijas, no kā neaprēķina iedzīvotāju ienākuma nodokli un valsts sociālās apdrošināšanas obligātās iemaksas | C39: =430+1720 -> 2150 | E39: =C39+D39 -> 2150
A40: 2000 | B40: Preces un pakalpojumi | C40: =SUM(C41+C48+C113+C143) -> 435300 | D40: =SUM(D41+D48+D113+D143) -> 346693 | E40: =SUM(C40:D40) -> 781993 | F40: =SUM(F41+F48+F113+F143) -> 1525345 | G40: =SUM(G41+G48+G113+G143) -> 652252 | H40: =SUM(H41+H48+H113+H143) -> 91100 | I40: =SUM(I41+I48+I113+I143) -> 743352 | J40: =SUM(J41+J48+J113+J143) -> 1748844 | K40: =SUM(K41+K48+K113+K143) -> 791221 | L40: =SUM(L41+L48+L113+L143) -> 175630 | M40: =SUM(M41+M48+M113+M143) -> 966851 | O40: 791221
A41: 2100 | B41: Mācību, darba un dienesta komandējumi, darba braucieni | C41: =SUM(C42+C45) -> 23064 | D41: =SUM(D42+D45) -> 4500 | E41: =SUM(C41:D41) -> 27564 | F41: =SUM(F42+F45) -> 37064 | G41: =SUM(G42+G45) -> 9500 | H41: =SUM(H42+H45) -> 0 | I41: =SUM(I42+I45) -> 9500 | J41: =SUM(J42+J45) -> 46564 | K41: =SUM(K42+K45) -> 19000 | L41: =SUM(L42+L45) -> 0 | M41: =SUM(M42+M45) -> 19000 | N41: 2026. gadā 6 mēneši, 2027. gads | O41: 19000
A42: 2110 | B42: Iekšzemes mācību, darba un dienesta komandējumi, darba braucieni | C42: =C43+C44 -> 86 | D42: =D43+D44 -> 0 | E42: =SUM(C42:D42) -> 86 | F42: =F43+F44 -> 86 | G42: =G43+G44 -> 0 | H42: =H43+H44 -> 0 | I42: =I43+I44 -> 0 | J42: =J43+J44 -> 86 | K42: =K43+K44 -> 0 | L42: =L43+L44 -> 0 | M42: =M43+M44 -> 0 | O42: 0
A43: 2111 | B43: Dienas nauda | C43: 32 | E43: =SUM(C43:D43) -> 32 | F43: 32 | J43: 32 | M43: =SUM(K43:L43) -> 0
A44: 2112 | B44: Pārējie komandējumu un darba braucienu izdevumi | C44: 54 | E44: =SUM(C44:D44) -> 54 | F44: 54 | J44: 54 | M44: =SUM(K44:L44) -> 0
A45: 2120 | B45: Ārvalstu mācību, darba un dienesta komandējumi, darba braucieni | C45: =SUM(C46:C47) -> 22978 | D45: =SUM(D46:D47) -> 4500 | E45: =SUM(C45:D45) -> 27478 | F45: =SUM(F46:F47) -> 36978 | G45: =SUM(G46:G47) -> 9500 | H45: =SUM(H46:H47) -> 0 | I45: =SUM(I46:I47) -> 9500 | J45: =SUM(J46:J47) -> 46478 | K45: =SUM(K46:K47) -> 19000 | L45: =SUM(L46:L47) -> 0 | M45: =SUM(M46:M47) -> 19000 | N45: Tiesu ekspertu kvalifikācijas paaugstināšanā būtiska nozīme ir tiesu ekspertu aktīvai dalībai Eiropas Tiesu ekspertīžu iestāžu asociācijā – dalība Vadības komitejās, tiesu ekspertu darba grupās un projektos. | O45: 19000
...
