Workbook

Sheet Darbinieku skaits
B2: Darbinieku skaits (saskaņā ar gada pārskatiem)
C3: 2019 | D3: 2020 | E3: 2021 | F3: 2022 | G3: 2023 | H3: 2024
B4: Kurekss SIA | C4: 199 | D4: 189 | E4: 177 | F4: 171 | G4: 159 | H4: 149
B5: Piebalgas SIA | C5: 63 | D5: 63 | E5: 63 | F5: 62 | G5: 57 | H5: 57
B6: Pata Jēkabpils SIA | C6: 1 | D6: 1 | E6: 11 | F6: 49 | G6: 62 | H6: 117
B7: Gaujas koks SIA | C7: 343 | D7: 357 | E7: 466 | F7: 484 | G7: 425 | H7: 467
B8: Pata Saldus SIA | C8: 238 | D8: 237 | E8: 246 | F8: 217 | G8: 178 | H8: 160
B9: Vika Wood SIA | C9: 132 | D9: 135 | E9: 134 | F9: 140 | G9: 137 | H9: 136
B10: Stora Enso Latvija AS | C10: 169 | D10: 190 | E10: 222 | F10: 228 | G10: 222 | H10: 220
B11: BSW Latvia SIA | C11: 166 | D11: 165 | E11: 170 | F11: 169 | G11: 185 | H11: 191
B12: Smiltene Impex SIA | C12: 55 | D12: 56 | E12: 92 | F12: 94 | G12: 80 | H12: 87
B13: AKZ SIA | C13: 281 | D13: 278 | E13: 280 | F13: 272 | G13: 253 | H13: 253
B14: Rettenmeier Baltic Timber SIA | C14: 295 | D14: 273 | E14: 263 | F14: 244 | G14: 236 | H14: 237
B15: Krauzers SIA | C15: 170 | D15: 181 | E15: 196 | F15: 205 | G15: 213 | H15: 226
... B17: Vudlande SIA | C17: 111 | D17: 104 | E17: 115 | F17: 135 | G17: 102 | H17: 108
B18: Kopā | C18: =SUM(C4:C17) -> 2266 | D18: =SUM(D4:D17) -> 2270 | E18: =SUM(E4:E17) -> 2479 | F18: =SUM(F4:F17) -> 2514 | G18: =SUM(G4:G17) -> 2343 | H18: =SUM(H4:H17) -> 2443
B19: Vidēji | C19: =AVERAGE(C4:C17) -> 162 | D19: =AVERAGE(D4:D17) -> 162 | E19: =AVERAGE(E4:E17) -> 177 | F19: =AVERAGE(F4:F17) -> 180 | G19: =AVERAGE(G4:G17) -> 167 | H19: =AVERAGE(H4:H17) -> 175
B21: Darbinieku skaita izmaiņas pret iepriekšējo gadu % (saskaņā ar gada pārskatiem)
C22: 2020 | D22: 2021 | E22: 2022 | F22: 2023 | G22: 2024
B23: Kurekss SIA | C23: =(D4-C4)/C4 -> -0.05 | D23: =(E4-D4)/D4 -> -0.063 | E23: =(F4-E4)/E4 -> -0.034 | F23: =(G4-F4)/F4 -> -0.07 | G23: =(H4-G4)/G4 -> -0.063
B24: Piebalgas SIA | C24: =(D5-C5)/C5 -> 0 | D24: =(E5-D5)/D5 -> 0 | E24: =(F5-E5)/E5 -> -0.016 | F24: =(G5-F5)/F5 -> -0.081 | G24: =(H5-G5)/G5 -> 0
B25: Pata Jēkabpils SIA | C25: =(D6-C6)/C6 -> 0 | D25: =(E6-D6)/D6 -> 10 | E25: =(F6-E6)/E6 -> 3.455 | F25: =(G6-F6)/F6 -> 0.265 | G25: =(H6-G6)/G6 -> 0.887 | H25: *uzņēmums uzsācis darbību 2019. gadā, tam bijis straujš darbinieku skaita pieaugums
B26: Gaujas koks SIA | C26: =(D7-C7)/C7 -> 0.041 | D26: =(E7-D7)/D7 -> 0.305 | E26: =(F7-E7)/E7 -> 0.039 | F26: =(G7-F7)/F7 -> -0.122 | G26: =(H7-G7)/G7 -> 0.099
B27: Pata Saldus SIA | C27: =(D8-C8)/C8 -> -0.004 | D27: =(E8-D8)/D8 -> 0.038 | E27: =(F8-E8)/E8 -> -0.118 | F27: =(G8-F8)/F8 -> -0.18 | G27: =(H8-G8)/G8 -> -0.101
B28: Vika Wood SIA | C28: =(D9-C9)/C9 -> 0.023 | D28: =(E9-D9)/D9 -> -0.007 | E28: =(F9-E9)/E9 -> 0.045 | F28: =(G9-F9)/F9 -> -0.021 | G28: =(H9-G9)/G9 -> -0.007
B29: Stora Enso Latvija AS | C29: =(D10-C10)/C10 -> 0.124 | D29: =(E10-D10)/D10 -> 0.168 | E29: =(F10-E10)/E10 -> 0.027 | F29: =(G10-F10)/F10 -> -0.026 | G29: =(H10-G10)/G10 -> -0.009
B30: BSW Latvia SIA | C30: =(D11-C11)/C11 -> -0.006 | D30: =(E11-D11)/D11 -> 0.03 | E30: =(F11-E11)/E11 -> -0.006 | F30: =(G11-F11)/F11 -> 0.095 | G30: =(H11-G11)/G11 -> 0.032
B31: Smiltene Impex SIA | C31: =(D12-C12)/C12 -> 0.018 | D31: =(E12-D12)/D12 -> 0.643 | E31: =(F12-E12)/E12 -> 0.022 | F31: =(G12-F12)/F12 -> -0.149 | G31: =(H12-G12)/G12 -> 0.088
B32: AKZ SIA | C32: =(D13-C13)/C13 -> -0.011 | D32: =(E13-D13)/D13 -> 0.007 | E32: =(F13-E13)/E13 -> -0.029 | F32: =(G13-F13)/F13 -> -0.07 | G32: =(H13-G13)/G13 -> 0
B33: Rettenmeier Baltic Timber SIA | C33: =(D14-C14)/C14 -> -0.075 | D33: =(E14-D14)/D14 -> -0.037 | E33: =(F14-E14)/E14 -> -0.072 | F33: =(G14-F14)/F14 -> -0.033 | G33: =(H14-G14)/G14 -> 0.004
B34: Krauzers SIA | C34: =(D15-C15)/C15 -> 0.065 | D34: =(E15-D15)/D15 -> 0.083 | E34: =(F15-E15)/E15 -> 0.046 | F34: =(G15-F15)/F15 -> 0.039 | G34: =(H15-G15)/G15 -> 0.061
B35: Silpec SIA | C35: =(D16-C16)/C16 -> -0.047 | D35: =(E16-D16)/D16 -> 0.073 | E35: =(F16-E16)/E16 -> 0 | F35: =(G16-F16)/F16 -> -0.227 | G35: =(H16-G16)/G16 -> 0.029
B36: Vudlande SIA | C36: =(D17-C17)/C17 -> -0.063 | D36: =(E17-D17)/D17 -> 0.106 | E36: =(F17-E17)/E17 -> 0.174 | F36: =(G17-F17)/F17 -> -0.244 | G36: =(H17-G17)/G17 -> 0.059
B37: Kopā | C37: =(D18-C18)/C18 -> 0.002 | D37: =(E18-D18)/D18 -> 0.092 | E37: =(F18-E18)/E18 -> 0.014 | F37: =(G18-F18)/F18 -> -0.068 | G37: =(H18-G18)/G18 -> 0.043
B39: Darbinieku skaita izmaiņas kopā
C40: 2020 | D40: 2021 | E40: 2022 | F40: 2023 | G40: 2024
B41: Darbinieki kopā | C41: =D18 -> 2270 | D41: =E18 -> 2479 | E41: =F18 -> 2514 | F41: =G18 -> 2343 | G41: =H18 -> 2443
B42: Skaita izmaiņa pret iepriekšējo gadu | C42: =D18-C18 -> 4 | D42: =E18-D18 -> 209 | E42: =F18-E18 -> 35 | F42: =G18-F18 -> -171 | G42: =H18-G18 -> 100
B43: % izmaiņas pret iepriekšējo gadu | C43: =C37 -> 0.002 | D43: =D37 -> 0.092 | E43: =E37 -> 0.014 | F43: =F37 -> -0.068 | G43: =G37 -> 0.043
B44: helper | C44: 0 | D44: 0 | E44: 0 | F44: 0 | G44: 0

Sheet Peļņa
B2: Pārskata gada peļņa/zaudējumi
C3: 2022 | D3: 2023
B4: Kurekss SIA | C4: ='Kurekss SIA'!C31 -> 2009893 | D4: ='Kurekss SIA'!D31 -> -704359
B5: Piebalgas SIA | C5: ='Piebalgas SIA '!C31 -> 459276 | D5: ='Piebalgas SIA '!D31 -> -360808
B6: Pata Jēkabpils SIA | C6: ='Pata Jēkabpils SIA'!C31 -> 128258 | D6: ='Pata Jēkabpils SIA'!D31 -> -8089381
B7: Gaujas koks SIA | C7: ='Gaujas Koks SIA'!C31 -> 24593900 | D7: ='Gaujas Koks SIA'!D31 -> 193076
B8: Pata Saldus SIA | C8: ='Pata Saldus SIA'!C31 -> 1759773 | D8: ='Pata Saldus SIA'!D31 -> -5519053
B9: Vika Wood SIA | C9: ='Vika Wood SIA'!C32 -> 18497438 | D9: ='Vika Wood SIA'!D32 -> -2740099
B10: Stora Enso Latvija AS | C10: ='Stora Enso Latvija AS'!C31 -> 4280535 | D10: ='Stora Enso Latvija AS'!D31 -> 11356868
B11: BSW Latvia SIA | C11: ='BSW Latvia SIA'!C31 -> -1715248 | D11: ='BSW Latvia SIA'!D31 -> 3637933
B12: Smiltene Impex SIA | C12: ='Smiltene Impex SIA'!C31 -> 41192 | D12: ='Smiltene Impex SIA'!D31 -> -1617148
B13: AKZ SIA | C13: ='AKZ SIA'!C31 -> 19614940 | D13: ='AKZ SIA'!D31 -> 4968899
B14: Rettenmeier Baltic Timber SIA | C14: ='Rettenmeier Baltic Timber SIA'!C31 -> 12680568 | D14: ='Rettenmeier Baltic Timber SIA'!D31 -> -3155151
B15: Krauzers SIA | C15: ='SIA Krauzers'!C31 -> 3314732 | D15: ='SIA Krauzers'!D31 -> 133533
B16: Silpec SIA | C16: ='SIA Silpec'!C31 -> 1333016 | D16: ='SIA Silpec'!D31 -> 718919
B17: Vudlande SIA | C17: ='SIA Vudlande'!C31 -> 10093 | D17: ='SIA Vudlande'!D31 -> -5479309
B18: Kopā | C18: =SUM(C4:C14) -> 82350525 | D18: =SUM(D4:D14) -> -2029223
B19: Vidēji | C19: =AVERAGE(C4:C14) -> 7486411 | D19: =AVERAGE(D4:D14) -> -184475

Sheet Kurekss SIA
B2: Kurekss SIA
B3: Rādītājs | C3: 2022 | D3: 2023 | E3: Rādītāja izmaiņas, EUR/ skal. vienīb. | F3: Rādītāja izmaiņas, % | G3: Punkti | H3: Vērtējums
B4: EBITDA | C4: =C30+C28+C29 -> 9432802 | D4: =D30+D28+D29 -> 4976274 | E4: =D4-C4 -> -4456528 | F4: =E4/C4 -> -0.4725 | G4: 0-1 | H4: =IF(D4>0,1,0) -> 1
B5: Debt/EBITDA | C5: =C14/C4 -> 2.7 | D5: =D14/D4 -> 4.51 | E5: =D5-C5 -> 1.81 | F5: =E5/C5 -> 0.6704 | G5: 0-1 | H5: =IF(AND(D5>0,D5<4),1,0) -> 0
B6: Kopējais likviditātes rādītājs | C6: =C11/C12 -> 3.72 | D6: =D11/D12 -> 5.95 | E6: =D6-C6 -> 2.23 | F6: =E6/C6 -> 0.5995 | G6: 0-2 | H6: =IF(D6<1,0,IF(D6<2,1,2)) -> 2
B7: Pašu kapitāla koeficients | C7: =C14/C16 -> 0.56 | D7: =D14/D16 -> 0.43 | E7: =D7-C7 -> -0.13 | F7: =E7/C7 -> -0.2321 | G7: 0-1 | H7: =IF(D7<0.7,1,0) -> 1
B8: DSCR | C8: =C4/(C28+C27+C26) -> 7 | D8: =D4/(D28+D27+D26) -> 2.39 | E8: =D8-C8 -> -4.61 | F8: =E8/C8 -> -0.6586 | G8: 0-1 | H8: =IF(D8<1.2,0,1) -> 1
B9: Bankrota iespējamība (Altmana Z modelis) | C9: =(0.717*((C11-C12))/C15)+(0.847*(C32/C15))+(3.107*((C30+C28)/C15))+(0.42*(C16/(C12+C13)))+(0.998*(C19/C15)) -> 2.72 | D9: =(0.717*((D11-D12))/D15)+(0.847*(D32/D15))+(3.107*((D30+D28)/D15))+(0.42*(D16/(D12+D13)))+(0.998*(D19/D15)) -> 2.34 | E9: =D9-C9 -> -0.38 | F9: =E9/C9 -> -0.1397 | G9: 0-2 | H9: =IF(D9<1.23,0,IF(D9<2.9,1,2)) -> 1
B10: Quick Ratio | C10: =(C24+C18)/C12 -> 2.46 | D10: =(D24+D18)/D12 -> 3.76 | E10: =D10-C10 -> 1.3 | F10: =E10/C10 -> 0.5285 | G10: 0-1 | H10: =IF(D10>1,1,0) -> 1
B11: Apgrozāmie līdzekļi | C11: 38610484 | D11: 36872013 | E11: =D11-C11 -> -1738471 | F11: =E11/C11 -> -0.045
B12: Īstermiņa saistības | C12: 10387165 | D12: 6195864 | E12: =D12-C12 -> -4191301 | F12: =E12/C12 -> -0.4035
B13: Ilgtermiņa saistības | C13: 15100462 | D13: 16262149 | E13: =D13-C13 -> 1161687 | F13: =E13/C13 -> 0.0769 | G13: Maksimālie iespējamie punkti = | I13: 9
B14: Visas saistības | C14: =C12+C13 -> 25487627 | D14: =D12+D13 -> 22458013 | E14: =D14-C14 -> -3029614 | F14: =E14/C14 -> -0.1189 | G14: Rekomendētais punktu skaits = | I14: 5
B15: Bilances kopsumma | C15: 70833651 | D15: 74293343 | E15: =D15-C15 -> 3459692 | F15: =E15/C15 -> 0.0488 | G15: Minimālais punktu skaits = | I15: 0
B16: Pašu kapitāls | C16: 45346024 | D16: 51835330 | E16: =D16-C16 -> 6489306 | F16: =E16/C16 -> 0.1431 | G16: Iegūtie punkti = | I16: =SUM(H4:H10) -> 7
B17: Aktīvu vidējā vērtība | C17: 76065681 | D17: 77023524 | E17: =D17-C17 -> 957843 | F17: =E17/C17 -> 0.0126
B18: Debitori | C18: 6509632 | D18: 7486195 | E18: =D18-C18 -> 976563 | F18: =E18/C18 -> 0.15
B19: Neto apgrozījums | C19: 89425807 | D19: 62659444 | E19: =D19-C19 -> -26766363 | F19: =E19/C19 -> -0.2993
B20: Pārdotās produkcijas ražošanas izmaksas | C20: 74203227 | D20: 62790010 | E20: =D20-C20 -> -11413217 | F20: =E20/C20 -> -0.1538
B21: Bruto peļņa | C21: 15222580 | D21: -130566 | E21: =D21-C21 -> -15353146 | F21: =E21/C21 -> -1.0086
B22: Administrācijas izmaksas | C22: 2738552 | D22: 2064473 | E22: =D22-C22 -> -674079 | F22: =E22/C22 -> -0.2461
B23: Pārējie saimnieciskās darbības ieņēmumi | C23: 1078843 | D23: 1573412 | E23: =D23-C23 -> 494569 | F23: =E23/C23 -> 0.4584
B24: Naudas līdzekļi | C24: 19075060 | D24: 15837655 | E24: =D24-C24 -> -3237405 | F24: =E24/C24 -> -0.1697
B25: Pārējie saimnieciskās darbības izdevumi | C25: 1270041 | D25: 1469649 | E25: =D25-C25 -> 199608 | F25: =E25/C25 -> 0.1572
B26: Izdevumi aizņēmumu atmaksāšanai | C26: 1119750 | D26: 1958063 | E26: =D26-C26 -> 838313 | F26: =E26/C26 -> 0.7487
B27: Izdevumi nomāta pamatlīdzekļa izpirkumam | C27: 165125 | D27: 96309 | E27: =D27-C27 -> -68816 | F27: =E27/C27 -> -0.4168
B28: Procentu maksājumi un tml. izmaksas | C28: 63147 | D28: 30163 | E28: =D28-C28 -> -32984 | F28: =E28/C28 -> -0.5223
... B33: Darbinieku skaits | C33: 171 | D33: 159 | E33: =D33-C33 -> -12 | F33: =E33/C33 -> -0.0702

Sheet Piebalgas SIA 
B2: Piebalgas SIA
B3: Rādītājs | C3: 2022 | D3: 2023 | E3: Rādītāja izmaiņas, EUR/ skal. vienīb. | F3: Rādītāja izmaiņas, % | G3: Punkti | H3: Vērtējums
B4: EBITDA | C4: =C30+C28+C29 -> 745212 | D4: =D30+D28+D29 -> -102069 | E4: =D4-C4 -> -847281 | F4: =E4/C4 -> -1.137 | G4: 0-1 | H4: =IF(D4>0,1,0) -> 0
B5: Debt/EBITDA | C5: =C14/C4 -> 1.06 | D5: =D14/D4 -> -7.47 | E5: =D5-C5 -> -8.53 | F5: =E5/C5 -> -8.0472 | G5: 0-1 | H5: =IF(AND(D5>0,D5<4),1,0) -> 0
B6: Kopējais likviditātes rādītājs | C6: =C11/C12 -> 5.04 | D6: =D11/D12 -> 4.34 | E6: =D6-C6 -> -0.7 | F6: =E6/C6 -> -0.1389 | G6: 0-2 | H6: =IF(D6<1,0,IF(D6<2,1,2)) -> 2
B7: Pašu kapitāla koeficients | C7: =C14/C16 -> 0.22 | D7: =D14/D16 -> 0.25 | E7: =D7-C7 -> 0.03 | F7: =E7/C7 -> 0.1364 | G7: 0-1 | H7: =IF(D7<0.7,1,0) -> 1
B8: DSCR | C8: =C4/(C28+C27+C26) -> 7.09 | D8: =D4/(D28+D27+D26) -> -1.4 | E8: =D8-C8 -> -8.49 | F8: =E8/C8 -> -1.1975 | G8: 0-1 | H8: =IF(D8<1.2,0,1) -> 0
B9: Bankrota iespējamība (Altmana Z modelis) | C9: =(0.717*((C11-C12))/C15)+(0.847*(C32/C15))+(3.107*((C30+C28)/C15))+(0.42*(C16/(C12+C13)))+(0.998*(C19/C15)) -> 5.13 | D9: =(0.717*((D11-D12))/D15)+(0.847*(D32/D15))+(3.107*((D30+D28)/D15))+(0.42*(D16/(D12+D13)))+(0.998*(D19/D15)) -> 4.04 | E9: =D9-C9 -> -1.09 | F9: =E9/C9 -> -0.2125 | G9: 0-2 | H9: =IF(D9<1.23,0,IF(D9<2.9,1,2)) -> 2
B10: Quick Ratio | C10: =(C24+C18)/C12 -> 3.26 | D10: =(D24+D18)/D12 -> 2.46 | E10: =D10-C10 -> -0.8 | F10: =E10/C10 -> -0.2454 | G10: 0-1 | H10: =IF(D10>1,1,0) -> 1
B11: Apgrozāmie līdzekļi | C11: 3342867 | D11: 2952209 | E11: =D11-C11 -> -390658 | F11: =E11/C11 -> -0.1169
B12: Īstermiņa saistības | C12: 662637 | D12: 680229 | E12: =D12-C12 -> 17592 | F12: =E12/C12 -> 0.0265
B13: Ilgtermiņa saistības | C13: 130302 | D13: 81998 | E13: =D13-C13 -> -48304 | F13: =E13/C13 -> -0.3707 | G13: Maksimālie iespējamie punkti = | I13: 9
B14: Visas saistības | C14: 792939 | D14: 762227 | E14: =D14-C14 -> -30712 | F14: =E14/C14 -> -0.0387 | G14: Rekomendētais punktu skaits = | I14: 5
B15: Bilances kopsumma | C15: 4440448 | D15: 3818279 | E15: =D15-C15 -> -622169 | F15: =E15/C15 -> -0.1401 | G15: Minimālais punktu skaits = | I15: 0
B16: Pašu kapitāls | C16: 3647509 | D16: 3056052 | E16: =D16-C16 -> -591457 | F16: =E16/C16 -> -0.1622 | G16: Iegūtie punkti = | I16: =SUM(H4:H10) -> 6
B17: Aktīvu vidējā vērtība | C17: 4328270 | D17: 4129363 | E17: =D17-C17 -> -198907 | F17: =E17/C17 -> -0.046
B18: Debitori | C18: 435475 | D18: 418969 | E18: =D18-C18 -> -16506 | F18: =E18/C18 -> -0.0379
B19: Neto apgrozījums | C19: 9545132 | D19: 6933267 | E19: =D19-C19 -> -2611865 | F19: =E19/C19 -> -0.2736
B20: Pārdotās produkcijas ražošanas izmaksas | C20: 8412199 | D20: 6931432 | E20: =D20-C20 -> -1480767 | F20: =E20/C20 -> -0.176
B21: Bruto peļņa | C21: 1132933 | D21: 1835 | E21: =D21-C21 -> -1131098 | F21: =E21/C21 -> -0.9984
B22: Administrācijas izmaksas | C22: 213037 | D22: 237328 | E22: =D22-C22 -> 24291 | F22: =E22/C22 -> 0.114
B23: Pārējie saimnieciskās darbības ieņēmumi | C23: 93540 | D23: 32869 | E23: =D23-C23 -> -60671 | F23: =E23/C23 -> -0.6486
B24: Naudas līdzekļi | C24: 1726418 | D24: 1251327 | E24: =D24-C24 -> -475091 | F24: =E24/C24 -> -0.2752
B25: Pārējie saimnieciskās darbības izdevumi | C25: 543880 | D25: 147643 | E25: =D25-C25 -> -396237 | F25: =E25/C25 -> -0.7285
B26: Izdevumi aizņēmumu atmaksāšanai | C26: 0 | D26: 0 | E26: =D26-C26 -> 0 | F26: =E26/C26 -> #DIV/0!
B27: Izdevumi nomāta pamatlīdzekļa izpirkumam | C27: 96058 | D27: 64664 | E27: =D27-C27 -> -31394 | F27: =E27/C27 -> -0.3268
B28: Procentu maksājumi un tml. izmaksas | C28: 9023 | D28: 8273 | E28: =D28-C28 -> -750 | F28: =E28/C28 -> -0.0831
... B33: Darbinieku skaits | C33: 62 | D33: 57 | E33: =D33-C33 -> -5 | F33: =E33/C33 -> -0.0806

Sheet Pata Jēkabpils SIA
B2: Pata Jēkabpils SIA
B3: Rādītājs | C3: 2022 | D3: 2023 | E3: Rādītāja izmaiņas, EUR/ skal. vienīb. | F3: Rādītāja izmaiņas, % | G3: Punkti | H3: Vērtējums
B4: EBITDA | C4: =C30+C28+C29 -> 566041 | D4: =D30+D28+D29 -> -7571242 | E4: =D4-C4 -> -8137283 | F4: =E4/C4 -> -14.3758 | G4: 0-1 | H4: =IF(D4>0,1,0) -> 0
B5: Debt/EBITDA | C5: =C14/C4 -> 55.67 | D5: =D14/D4 -> -5.28 | E5: =D5-C5 -> -60.95 | F5: =E5/C5 -> -1.0948 | G5: 0-1 | H5: =IF(AND(D5>0,D5<4),1,0) -> 0
B6: Kopējais likviditātes rādītājs | C6: =C11/C12 -> 0.39 | D6: =D11/D12 -> 0.34 | E6: =D6-C6 -> -0.05 | F6: =E6/C6 -> -0.1282 | G6: 0-2 | H6: =IF(D6<1,0,IF(D6<2,1,2)) -> 0
B7: Pašu kapitāla koeficients | C7: =C14/C16 -> 15.25 | D7: =D14/D16 -> 20.22 | E7: =D7-C7 -> 4.97 | F7: =E7/C7 -> 0.3259 | G7: 0-1 | H7: =IF(D7<0.7,1,0) -> 0
B8: DSCR | C8: =C4/(C28+C27+C26) -> 10.24 | D8: =D4/(D28+D27+D26) -> -15.81 | E8: =D8-C8 -> -26.05 | F8: =E8/C8 -> -2.5439 | G8: 0-1 | H8: =IF(D8<1.2,0,1) -> 0
B9: Bankrota iespējamība (Altmana Z modelis) | C9: =(0.717*((C11-C12))/C15)+(0.847*(C32/C15))+(3.107*((C30+C28)/C15))+(0.42*(C16/(C12+C13)))+(0.998*(C19/C15)) -> 0.86 | D9: =(0.717*((D11-D12))/D15)+(0.847*(D32/D15))+(3.107*((D30+D28)/D15))+(0.42*(D16/(D12+D13)))+(0.998*(D19/D15)) -> -0.53 | E9: =D9-C9 -> -1.39 | F9: =E9/C9 -> -1.6163 | G9: 0-2 | H9: =IF(D9<1.23,0,IF(D9<2.9,1,2)) -> 0
B10: Quick Ratio | C10: =(C24+C18)/C12 -> 0.26 | D10: =(D24+D18)/D12 -> 0.01 | E10: =D10-C10 -> -0.25 | F10: =E10/C10 -> -0.9615 | G10: 0-1 | H10: =IF(D10>1,1,0) -> 0
B11: Apgrozāmie līdzekļi | C11: 8623941 | D11: 10482028 | E11: =D11-C11 -> 1858087 | F11: =E11/C11 -> 0.2155
B12: Īstermiņa saistības | C12: 21944682 | D12: 30752926 | E12: =D12-C12 -> 8808244 | F12: =E12/C12 -> 0.4014 | G12: *lielāko daļu veido parādi radniecīgām sabiedrībām
B13: Ilgtermiņa saistības | C13: 9567421 | D13: 9205158 | E13: =D13-C13 -> -362263 | F13: =E13/C13 -> -0.0379 | G13: Maksimālie iespējamie punkti = | I13: 9
B14: Visas saistības | C14: 31512103 | D14: 39958084 | E14: =D14-C14 -> 8445981 | F14: =E14/C14 -> 0.268 | G14: Rekomendētais punktu skaits = | I14: 5
B15: Bilances kopsumma | C15: 33577964 | D15: 41934564 | E15: =D15-C15 -> 8356600 | F15: =E15/C15 -> 0.2489 | G15: Minimālais punktu skaits = | I15: 0
B16: Pašu kapitāls | C16: 2065861 | D16: 1976480 | E16: =D16-C16 -> -89381 | F16: =E16/C16 -> -0.0433 | G16: Iegūtie punkti = | I16: =SUM(H4:H10) -> 0
B17: Aktīvu vidējā vērtība | C17: 18231329 | D17: 37756264 | E17: =D17-C17 -> 19524935 | F17: =E17/C17 -> 1.071
B18: Debitori | C18: 5226879 | D18: 315301 | E18: =D18-C18 -> -4911578 | F18: =E18/C18 -> -0.9397
B19: Neto apgrozījums | C19: 37091655 | D19: 16452174 | E19: =D19-C19 -> -20639481 | F19: =E19/C19 -> -0.5564
B20: Pārdotās produkcijas ražošanas izmaksas | C20: 36313215 | D20: 23560579 | E20: =D20-C20 -> -12752636 | F20: =E20/C20 -> -0.3512
B21: Bruto peļņa | C21: 778440 | D21: -7108405 | E21: =D21-C21 -> -7886845 | F21: =E21/C21 -> -10.1316
B22: Administrācijas izmaksas | C22: 347537 | D22: 516620 | E22: =D22-C22 -> 169083 | F22: =E22/C22 -> 0.4865
B23: Pārējie saimnieciskās darbības ieņēmumi | C23: 2000 | D23: 0 | E23: =D23-C23 -> -2000 | F23: =E23/C23 -> -1
B24: Naudas līdzekļi | C24: 394101 | D24: 3618 | E24: =D24-C24 -> -390483 | F24: =E24/C24 -> -0.9908
B25: Pārējie saimnieciskās darbības izdevumi | C25: 294558 | D25: 426679 | E25: =D25-C25 -> 132121 | F25: =E25/C25 -> 0.4485
B26: Izdevumi aizņēmumu atmaksāšanai | C26: 0 | D26: 379167 | E26: =D26-C26 -> 379167 | F26: =E26/C26 -> #DIV/0!
B27: Izdevumi nomāta pamatlīdzekļa izpirkumam | C27: 44500 | D27: 57289 | E27: =D27-C27 -> 12789 | F27: =E27/C27 -> 0.2874
B28: Procentu maksājumi un tml. izmaksas | C28: 10765 | D28: 42544 | E28: =D28-C28 -> 31779 | F28: =E28/C28 -> 2.9521
... B33: Darbinieku skaits | C33: 49 | D33: 62 | E33: =D33-C33 -> 13 | F33: =E33/C33 -> 0.2653

Sheet Pata Saldus SIA
B2: Pata Saldus SIA
B3: Rādītājs | C3: 2022 | D3: 2023 | E3: Rādītāja izmaiņas, EUR/ skal. vienīb. | F3: Rādītāja izmaiņas, % | G3: Punkti | H3: Vērtējums
B4: EBITDA | C4: =C30+C28+C29 -> 4397858 | D4: =D30+D28+D29 -> -2472783 | E4: =D4-C4 -> -6870641 | F4: =E4/C4 -> -1.5623 | G4: 0-1 | H4: =IF(D4>0,1,0) -> 0
B5: Debt/EBITDA | C5: =C14/C4 -> 5.67 | D5: =D14/D4 -> -13.74 | E5: =D5-C5 -> -19.41 | F5: =E5/C5 -> -3.4233 | G5: 0-1 | H5: =IF(AND(D5>0,D5<4),1,0) -> 0
B6: Kopējais likviditātes rādītājs | C6: =C11/C12 -> 1.11 | D6: =D11/D12 -> 0.62 | E6: =D6-C6 -> -0.49 | F6: =E6/C6 -> -0.4414 | G6: 0-2 | H6: =IF(D6<1,0,IF(D6<2,1,2)) -> 0
B7: Pašu kapitāla koeficients | C7: =C14/C16 -> 0.98 | D7: =D14/D16 -> 1.89 | E7: =D7-C7 -> 0.91 | F7: =E7/C7 -> 0.9286 | G7: 0-1 | H7: =IF(D7<0.7,1,0) -> 0
B8: DSCR | C8: =C4/(C28+C27+C26) -> 2.12 | D8: =D4/(D28+D27+D26) -> -1.58 | E8: =D8-C8 -> -3.7 | F8: =E8/C8 -> -1.7453 | G8: 0-1 | H8: =IF(D8<1.2,0,1) -> 0
B9: Bankrota iespējamība (Altmana Z modelis) | C9: =(0.717*((C11-C12))/C15)+(0.847*(C32/C15))+(3.107*((C30+C28)/C15))+(0.42*(C16/(C12+C13)))+(0.998*(C19/C15)) -> 2.76 | D9: =(0.717*((D11-D12))/D15)+(0.847*(D32/D15))+(3.107*((D30+D28)/D15))+(0.42*(D16/(D12+D13)))+(0.998*(D19/D15)) -> 1.4 | E9: =D9-C9 -> -1.36 | F9: =E9/C9 -> -0.4928 | G9: 0-2 | H9: =IF(D9<1.23,0,IF(D9<2.9,1,2)) -> 1
B10: Quick Ratio | C10: =(C24+C18)/C12 -> 0.14 | D10: =(D24+D18)/D12 -> 0.22 | E10: =D10-C10 -> 0.08 | F10: =E10/C10 -> 0.5714 | G10: 0-1 | H10: =IF(D10>1,1,0) -> 0
B11: Apgrozāmie līdzekļi | C11: 12403468 | D11: 11885498 | E11: =D11-C11 -> -517970 | F11: =E11/C11 -> -0.0418
B12: Īstermiņa saistības | C12: 11201949 | D12: 19053945 | E12: =D12-C12 -> 7851996 | F12: =E12/C12 -> 0.7009 | G12: *lielāko daļu veido parādi radniecīgām sabiedrībām
B13: Ilgtermiņa saistības | C13: 13732204 | D13: 14929459 | E13: =D13-C13 -> 1197255 | F13: =E13/C13 -> 0.0872 | G13: Maksimālie iespējamie punkti = | I13: 9
B14: Visas saistības | C14: 24934153 | D14: 33983404 | E14: =D14-C14 -> 9049251 | F14: =E14/C14 -> 0.3629 | G14: Rekomendētais punktu skaits = | I14: 5
B15: Bilances kopsumma | C15: 50443514 | D15: 51929634 | E15: =D15-C15 -> 1486120 | F15: =E15/C15 -> 0.0295 | G15: Minimālais punktu skaits = | I15: 0
B16: Pašu kapitāls | C16: 25509361 | D16: 17946230 | E16: =D16-C16 -> -7563131 | F16: =E16/C16 -> -0.2965 | G16: Iegūtie punkti = | I16: =SUM(H4:H10) -> 1
B17: Aktīvu vidējā vērtība | C17: 47564886 | D17: 51186574 | E17: =D17-C17 -> 3621688 | F17: =E17/C17 -> 0.0761
B18: Debitori | C18: 1522908 | D18: 4147926 | E18: =D18-C18 -> 2625018 | F18: =E18/C18 -> 1.7237
B19: Neto apgrozījums | C19: 95070506 | D19: 66840581 | E19: =D19-C19 -> -28229925 | F19: =E19/C19 -> -0.2969
B20: Pārdotās produkcijas ražošanas izmaksas | C20: 92958490 | D20: 71567859 | E20: =D20-C20 -> -21390631 | F20: =E20/C20 -> -0.2301
B21: Bruto peļņa | C21: 2112016 | D21: -4727278 | E21: =D21-C21 -> -6839294 | F21: =E21/C21 -> -3.2383
B22: Administrācijas izmaksas | C22: 440794 | D22: 323595 | E22: =D22-C22 -> -117199 | F22: =E22/C22 -> -0.2659
B23: Pārējie saimnieciskās darbības ieņēmumi | C23: 1090015 | D23: 744880 | E23: =D23-C23 -> -345135 | F23: =E23/C23 -> -0.3166
B24: Naudas līdzekļi | C24: 5902 | D24: 5959 | E24: =D24-C24 -> 57 | F24: =E24/C24 -> 0.0097
B25: Pārējie saimnieciskās darbības izdevumi | C25: 666746 | D25: 655481 | E25: =D25-C25 -> -11265 | F25: =E25/C25 -> -0.0169
B26: Izdevumi aizņēmumu atmaksāšanai | C26: 1323215 | D26: 648429 | E26: =D26-C26 -> -674786 | F26: =E26/C26 -> -0.51
B27: Izdevumi nomāta pamatlīdzekļa izpirkumam | C27: 337257 | D27: 358541 | E27: =D27-C27 -> 21284 | F27: =E27/C27 -> 0.0631
B28: Procentu maksājumi un tml. izmaksas | C28: 413373 | D28: 555634 | E28: =D28-C28 -> 142261 | F28: =E28/C28 -> 0.3441
... B33: Darbinieku skaits | C33: 217 | D33: 178 | E33: =D33-C33 -> -39 | F33: =E33/C33 -> -0.1797

Sheet Gaujas Koks SIA
B2: Gaujas Koks SIA
B3: Rādītājs | C3: 2022 | D3: 2023 | E3: Rādītāja izmaiņas, EUR/ skal. vienīb. | F3: Rādītāja izmaiņas, % | G3: Punkti | H3: Vērtējums
B4: EBITDA | C4: =C30+C28+C29 -> 28673727 | D4: =D30+D28+D29 -> 4304236 | E4: =D4-C4 -> -24369491 | F4: =E4/C4 -> -0.8499 | G4: 0-1 | H4: =IF(D4>0,1,0) -> 1
B5: Debt/EBITDA | C5: =C14/C4 -> 0.29 | D5: =D14/D4 -> 1.79 | E5: =D5-C5 -> 1.5 | F5: =E5/C5 -> 5.1724 | G5: 0-1 | H5: =IF(AND(D5>0,D5<4),1,0) -> 1
B6: Kopējais likviditātes rādītājs | C6: =C11/C12 -> 9.27 | D6: =D11/D12 -> 8.31 | E6: =D6-C6 -> -0.96 | F6: =E6/C6 -> -0.1036 | G6: 0-2 | H6: =IF(D6<1,0,IF(D6<2,1,2)) -> 2
B7: Pašu kapitāla koeficients | C7: =C14/C16 -> 0.08 | D7: =D14/D16 -> 0.07 | E7: =D7-C7 -> -0.01 | F7: =E7/C7 -> -0.125 | G7: 0-1 | H7: =IF(D7<0.7,1,0) -> 1
B8: DSCR | C8: =C4/(C28+C27+C26) -> 134.7 | D8: =D4/(D28+D27+D26) -> 9.16 | E8: =D8-C8 -> -125.54 | F8: =E8/C8 -> -0.932 | G8: 0-1 | H8: =IF(D8<1.2,0,1) -> 1
B9: Bankrota iespējamība (Altmana Z modelis) | C9: =(0.717*((C11-C12))/C15)+(0.847*(C32/C15))+(3.107*((C30+C28)/C15))+(0.42*(C16/(C12+C13)))+(0.998*(C19/C15)) -> 8.24 | D9: =(0.717*((D11-D12))/D15)+(0.847*(D32/D15))+(3.107*((D30+D28)/D15))+(0.42*(D16/(D12+D13)))+(0.998*(D19/D15)) -> 7.58 | E9: =D9-C9 -> -0.66 | F9: =E9/C9 -> -0.0801 | G9: 0-2 | H9: =IF(D9<1.23,0,IF(D9<2.9,1,2)) -> 2
B10: Quick Ratio | C10: =(C24+C18)/C12 -> 6.52 | D10: =(D24+D18)/D12 -> 5.21 | E10: =D10-C10 -> -1.31 | F10: =E10/C10 -> -0.2009 | G10: 0-1 | H10: =IF(D10>1,1,0) -> 1
B11: Apgrozāmie līdzekļi | C11: 66569060 | D11: 58651255 | E11: =D11-C11 -> -7917805 | F11: =E11/C11 -> -0.1189
B12: Īstermiņa saistības | C12: 7181984 | D12: 7060404 | E12: =D12-C12 -> -121580 | F12: =E12/C12 -> -0.0169
B13: Ilgtermiņa saistības | C13: 1099547 | D13: 649337 | E13: =D13-C13 -> -450210 | F13: =E13/C13 -> -0.4095 | G13: Maksimālie iespējamie punkti = | I13: 9
B14: Visas saistības | C14: 8281531 | D14: 7709741 | E14: =D14-C14 -> -571790 | F14: =E14/C14 -> -0.069 | G14: Rekomendētais punktu skaits = | I14: 5
B15: Bilances kopsumma | C15: 117580652 | D15: 116574975 | E15: =D15-C15 -> -1005677 | F15: =E15/C15 -> -0.0086 | G15: Minimālais punktu skaits = | I15: 0
B16: Pašu kapitāls | C16: 109299121 | D16: 108865234 | E16: =D16-C16 -> -433887 | F16: =E16/C16 -> -0.004 | G16: Iegūtie punkti = | I16: =SUM(H4:H10) -> 9
B17: Aktīvu vidējā vērtība | C17: 105261742 | D17: 117077814 | E17: =D17-C17 -> 11816072 | F17: =E17/C17 -> 0.1123
B18: Debitori | C18: 4695424 | D18: 3052339 | E18: =D18-C18 -> -1643085 | F18: =E18/C18 -> -0.3499
B19: Neto apgrozījums | C19: 127915028 | D19: 64216959 | E19: =D19-C19 -> -63698069 | F19: =E19/C19 -> -0.498
B20: Pārdotās produkcijas ražošanas izmaksas | C20: 63970932 | D20: 45854067 | E20: =D20-C20 -> -18116865 | F20: =E20/C20 -> -0.2832
B21: Bruto peļņa | C21: 63944096 | D21: 18362892 | E21: =D21-C21 -> -45581204 | F21: =E21/C21 -> -0.7128
B22: Administrācijas izmaksas | C22: 15906818 | D22: 9009476 | E22: =D22-C22 -> -6897342 | F22: =E22/C22 -> -0.4336
B23: Pārējie saimnieciskās darbības ieņēmumi | C23: 326498 | D23: 1248444 | E23: =D23-C23 -> 921946 | F23: =E23/C23 -> 2.8237
B24: Naudas līdzekļi | C24: 42147667 | D24: 33759412 | E24: =D24-C24 -> -8388255 | F24: =E24/C24 -> -0.199
B25: Pārējie saimnieciskās darbības izdevumi | C25: 15906818 | D25: 9009476 | E25: =D25-C25 -> -6897342 | F25: =E25/C25 -> -0.4336
B26: Izdevumi aizņēmumu atmaksāšanai | C26: 181410 | D26: 455380 | E26: =D26-C26 -> 273970 | F26: =E26/C26 -> 1.5102
B27: Izdevumi nomāta pamatlīdzekļa izpirkumam | C27: 0 | D27: 0 | E27: =D27-C27 -> 0 | F27: =E27/C27 -> #DIV/0!
B28: Procentu maksājumi un tml. izmaksas | C28: 31457 | D28: 14732 | E28: =D28-C28 -> -16725 | F28: =E28/C28 -> -0.5317
... B33: Darbinieku skaits | C33: 484 | D33: 425 | E33: =D33-C33 -> -59 | F33: =E33/C33 -> -0.1219

Sheet Stora Enso Latvija AS
B2: Stora Enso Latvija AS
B3: Rādītājs | C3: 2022 | D3: 2023 | E3: Rādītāja izmaiņas, EUR/ skal. vienīb. | F3: Rādītāja izmaiņas, % | G3: Punkti | H3: Vērtējums
B4: EBITDA | C4: =C30+C28+C29 -> 7440175 | D4: =D30+D28+D29 -> 14295494 | E4: =D4-C4 -> 6855319 | F4: =E4/C4 -> 0.9214 | G4: 0-1 | H4: =IF(D4>0,1,0) -> 1
B5: Debt/EBITDA | C5: =C14/C4 -> 2.72 | D5: =D14/D4 -> 0.87 | E5: =D5-C5 -> -1.85 | F5: =E5/C5 -> -0.6801 | G5: 0-1 | H5: =IF(AND(D5>0,D5<4),1,0) -> 1
B6: Kopējais likviditātes rādītājs | C6: =C11/C12 -> 1.6 | D6: =D11/D12 -> 2.68 | E6: =D6-C6 -> 1.08 | F6: =E6/C6 -> 0.675 | G6: 0-2 | H6: =IF(D6<1,0,IF(D6<2,1,2)) -> 2
B7: Pašu kapitāla koeficients | C7: =C14/C16 -> 0.22 | D7: =D14/D16 -> 0.13 | E7: =D7-C7 -> -0.09 | F7: =E7/C7 -> -0.4091 | G7: 0-1 | H7: =IF(D7<0.7,1,0) -> 1
B8: DSCR | C8: =C4/(C28+C27+C26) -> 0.64 | D8: =D4/(D28+D27+D26) -> 45.89 | E8: =D8-C8 -> 45.25 | F8: =E8/C8 -> 70.7031 | G8: 0-1 | H8: =IF(D8<1.2,0,1) -> 1
B9: Bankrota iespējamība (Altmana Z modelis) | C9: =(0.717*((C11-C12))/C15)+(0.847*(C32/C15))+(3.107*((C30+C28)/C15))+(0.42*(C16/(C12+C13)))+(0.998*(C19/C15)) -> 3.48 | D9: =(0.717*((D11-D12))/D15)+(0.847*(D32/D15))+(3.107*((D30+D28)/D15))+(0.42*(D16/(D12+D13)))+(0.998*(D19/D15)) -> 4.76 | E9: =D9-C9 -> 1.28 | F9: =E9/C9 -> 0.3678 | G9: 0-2 | H9: =IF(D9<1.23,0,IF(D9<2.9,1,2)) -> 2
B10: Quick Ratio | C10: =(C24+C18)/C12 -> 0.73 | D10: =(D24+D18)/D12 -> 1.6 | E10: =D10-C10 -> 0.87 | F10: =E10/C10 -> 1.1918 | G10: 0-1 | H10: =IF(D10>1,1,0) -> 1
B11: Apgrozāmie līdzekļi | C11: 32162884 | D11: 33134261 | E11: =D11-C11 -> 971377 | F11: =E11/C11 -> 0.0302
B12: Īstermiņa saistības | C12: 20125397 | D12: 12373727 | E12: =D12-C12 -> -7751670 | F12: =E12/C12 -> -0.3852
B13: Ilgtermiņa saistības | C13: 100854 | D13: 34056 | E13: =D13-C13 -> -66798 | F13: =E13/C13 -> -0.6623 | G13: Maksimālie iespējamie punkti = | I13: 9
B14: Visas saistības | C14: 20226251 | D14: 12407783 | E14: =D14-C14 -> -7818468 | F14: =E14/C14 -> -0.3866 | G14: Rekomendētais punktu skaits = | I14: 5
B15: Bilances kopsumma | C15: 112262266 | D15: 108233641 | E15: =D15-C15 -> -4028625 | F15: =E15/C15 -> -0.0359 | G15: Minimālais punktu skaits = | I15: 0
B16: Pašu kapitāls | C16: 92036015 | D16: 95825858 | E16: =D16-C16 -> 3789843 | F16: =E16/C16 -> 0.0412 | G16: Iegūtie punkti = | I16: =SUM(H4:H10) -> 9
B17: Aktīvu vidējā vērtība | C17: 114683520 | D17: 110247954 | E17: =D17-C17 -> -4435566 | F17: =E17/C17 -> -0.0387
B18: Debitori | C18: 11441033 | D18: 16524440 | E18: =D18-C18 -> 5083407 | F18: =E18/C18 -> 0.4443
B19: Neto apgrozījums | C19: 130261415 | D19: 107667634 | E19: =D19-C19 -> -22593781 | F19: =E19/C19 -> -0.1734
B20: Pārdotās produkcijas ražošanas izmaksas | C20: 106129629 | D20: 98336355 | E20: =D20-C20 -> -7793274 | F20: =E20/C20 -> -0.0734
B21: Bruto peļņa | C21: 24131786 | D21: 9331279 | E21: =D21-C21 -> -14800507 | F21: =E21/C21 -> -0.6133
B22: Administrācijas izmaksas | C22: 10537842 | D22: 2061085 | E22: =D22-C22 -> -8476757 | F22: =E22/C22 -> -0.8044
B23: Pārējie saimnieciskās darbības ieņēmumi | C23: 526113 | D23: 10891155 | E23: =D23-C23 -> 10365042 | F23: =E23/C23 -> 19.7012
B24: Naudas līdzekļi | C24: 3279624 | D24: 3283660 | E24: =D24-C24 -> 4036 | F24: =E24/C24 -> 0.0012
B25: Pārējie saimnieciskās darbības izdevumi | C25: 10537842 | D25: 2061085 | E25: =D25-C25 -> -8476757 | F25: =E25/C25 -> -0.8044
B26: Izdevumi aizņēmumu atmaksāšanai | C26: 11203700 | D26: 154850 | E26: =D26-C26 -> -11048850 | F26: =E26/C26 -> -0.9862
B27: Izdevumi nomāta pamatlīdzekļa izpirkumam | C27: 0 | D27: 0 | E27: =D27-C27 -> 0 | F27: =E27/C27 -> #DIV/0!
B28: Procentu maksājumi un tml. izmaksas | C28: 383175 | D28: 156680 | E28: =D28-C28 -> -226495 | F28: =E28/C28 -> -0.5911
... B33: Darbinieku skaits | C33: 228 | D33: 222 | E33: =D33-C33 -> -6 | F33: =E33/C33 -> -0.0263

Sheet Vika Wood SIA
B2: Vika Wood SIA
B3: Rādītājs | C3: 2022 | D3: 2023 | E3: Rādītāja izmaiņas, EUR/ skal. vienīb. | F3: Rādītāja izmaiņas, % | G3: Punkti | H3: Vērtējums
B4: EBITDA | C4: =C31+C29+C30 -> 21629409 | D4: =D31+D29+D30 -> 95711 | E4: =D4-C4 -> -21533698 | F4: =E4/C4 -> -0.9956 | G4: 0-1 | H4: =IF(D4>0,1,0) -> 1
B5: Debt/EBITDA | C5: =C14/C4 -> 0.26 | D5: =D14/D4 -> 21.85 | E5: =D5-C5 -> 21.59 | F5: =E5/C5 -> 83.0385 | G5: 0-1 | H5: =IF(AND(D5>0,D5<4),1,0) -> 0
B6: Kopējais likviditātes rādītājs | C6: =C11/C12 -> 14.33 | D6: =D11/D12 -> 19.99 | E6: =D6-C6 -> 5.66 | F6: =E6/C6 -> 0.395 | G6: 0-2 | H6: =IF(D6<1,0,IF(D6<2,1,2)) -> 2
B7: Pašu kapitāla koeficients | C7: =C14/C16 -> 0.09 | D7: =D14/D16 -> 0.04 | E7: =D7-C7 -> -0.05 | F7: =E7/C7 -> -0.5556 | G7: 0-1 | H7: =IF(D7<0.7,1,0) -> 1
B8: DSCR | C8: =C4/(C28+C27+C26) -> 4.29 | D8: =D4/(D28+D27+D26) -> 0.04 | E8: =D8-C8 -> -4.25 | F8: =E8/C8 -> -0.9907 | G8: 0-1 | H8: =IF(D8<1.2,0,1) -> 0
B9: Bankrota iespējamība (Altmana Z modelis) | C9: =(0.717*((C11-C12))/C15)+(0.847*(C33/C15))+(3.107*((C31+C29)/C15))+(0.42*(C16/(C12+C13)))+(0.998*(C19/C15)) -> 7.83 | D9: =(0.717*((D11-D12))/D15)+(0.847*(D33/D15))+(3.107*((D31+D29)/D15))+(0.42*(D16/(D12+D13)))+(0.998*(D19/D15)) -> 13.65 | E9: =D9-C9 -> 5.82 | F9: =E9/C9 -> 0.7433 | G9: 0-2 | H9: =IF(D9<1.23,0,IF(D9<2.9,1,2)) -> 2
B10: Quick Ratio | C10: =(C24+C18)/C12 -> 9.91 | D10: =(D24+D18)/D12 -> 14.6 | E10: =D10-C10 -> 4.69 | F10: =E10/C10 -> 0.4733 | G10: 0-1 | H10: =IF(D10>1,1,0) -> 1
B11: Apgrozāmie līdzekļi | C11: 37505647 | D11: 29970074 | E11: =D11-C11 -> -7535573 | F11: =E11/C11 -> -0.2009
B12: Īstermiņa saistības | C12: 2617844 | D12: 1499047 | E12: =D12-C12 -> -1118797 | F12: =E12/C12 -> -0.4274
B13: Ilgtermiņa saistības | C13: 2957569 | D13: 592488 | E13: =D13-C13 -> -2365081 | F13: =E13/C13 -> -0.7997 | G13: Maksimālie iespējamie punkti = | I13: 9
B14: Visas saistības | C14: 5575413 | D14: 2091535 | E14: =D14-C14 -> -3483878 | F14: =E14/C14 -> -0.6249 | G14: Rekomendētais punktu skaits = | I14: 5
B15: Bilances kopsumma | C15: 65615303 | D15: 59391326 | E15: =D15-C15 -> -6223977 | F15: =E15/C15 -> -0.0949 | G15: Minimālais punktu skaits = | I15: 0
B16: Pašu kapitāls | C16: 60039890 | D16: 57299791 | E16: =D16-C16 -> -2740099 | F16: =E16/C16 -> -0.0456 | G16: Iegūtie punkti = | I16: =SUM(H4:H10) -> 7
B17: Aktīvu vidējā vērtība | C17: 58938683 | D17: 62503315 | E17: =D17-C17 -> 3564632 | F17: =E17/C17 -> 0.0605
B18: Debitori | C18: 2971765 | D18: 3739441 | E18: =D18-C18 -> 767676 | F18: =E18/C18 -> 0.2583
B19: Neto apgrozījums | C19: 105575191 | D19: 71907882 | E19: =D19-C19 -> -33667309 | F19: =E19/C19 -> -0.3189
B20: Pārdotās produkcijas ražošanas izmaksas | C20: 76301102 | D20: 67381681 | E20: =D20-C20 -> -8919421 | F20: =E20/C20 -> -0.1169
B21: Bruto peļņa | C21: 29274089 | D21: 4526201 | E21: =D21-C21 -> -24747888 | F21: =E21/C21 -> -0.8454
B22: Administrācijas izmaksas | C22: 2708205 | D22: 1962749 | E22: =D22-C22 -> -745456 | F22: =E22/C22 -> -0.2753
B23: Pārējie saimnieciskās darbības ieņēmumi | C23: 262645 | D23: 270668 | E23: =D23-C23 -> 8023 | F23: =E23/C23 -> 0.0305
B24: Naudas līdzekļi | C24: 22981008 | D24: 18145168 | E24: =D24-C24 -> -4835840 | F24: =E24/C24 -> -0.2104
B25: Pārējie saimnieciskās darbības izdevumi | C25: 99198 | D25: 119805 | E25: =D25-C25 -> 20607 | F25: =E25/C25 -> 0.2077
B26: Izdevumi aizņēmumu atmaksāšanai | C26: 5000342 | D26: 2095108 | E26: =D26-C26 -> -2905234 | F26: =E26/C26 -> -0.581
B27: Izdevumi nomāta pamatlīdzekļa izpirkumam | C27: 33505 | D27: 33597 | E27: =D27-C27 -> 92 | F27: =E27/C27 -> 0.0027
B28: Procentu maksājumi | C28: 4787 | D28: 4875 | E28: =D28-C28 -> 88 | F28: =E28/C28 -> 0.0184
... B34: Darbinieku skaits | C34: 140 | D34: 137 | E34: =D34-C34 -> -3 | F34: =E34/C34 -> -0.0214

Sheet BSW Latvia SIA
B2: BSW Latvia SIA
B3: Rādītājs | C3: 2022 | D3: 2023 | E3: Rādītāja izmaiņas, EUR/ skal. vienīb. | F3: Rādītāja izmaiņas, % | G3: Punkti | H3: Vērtējums
B4: EBITDA | C4: =C30+C28+C29 -> -20790 | D4: =D30+D28+D29 -> 5117690 | E4: =D4-C4 -> 5138480 | F4: =E4/C4 -> -247.1611 | G4: 0-1 | H4: =IF(D4>0,1,0) -> 1
B5: Debt/EBITDA | C5: =C14/C4 -> -296.34 | D5: =D14/D4 -> 1.91 | E5: =D5-C5 -> 298.25 | F5: =E5/C5 -> -1.0064 | G5: 0-1 | H5: =IF(AND(D5>0,D5<4),1,0) -> 1
B6: Kopējais likviditātes rādītājs | C6: =C11/C12 -> 9.59 | D6: =D11/D12 -> 5.29 | E6: =D6-C6 -> -4.3 | F6: =E6/C6 -> -0.4484 | G6: 0-2 | H6: =IF(D6<1,0,IF(D6<2,1,2)) -> 2
B7: Pašu kapitāla koeficients | C7: =C14/C16 -> 0.12 | D7: =D14/D16 -> 0.18 | E7: =D7-C7 -> 0.06 | F7: =E7/C7 -> 0.5 | G7: 0-1 | H7: =IF(D7<0.7,1,0) -> 1
B8: DSCR | C8: =C4/(C28+C27+C26) -> -0.02 | D8: =D4/(D28+D27+D26) -> 54.35 | E8: =D8-C8 -> 54.37 | F8: =E8/C8 -> -2718.5 | G8: 0-1 | H8: =IF(D8<1.2,0,1) -> 1
B9: Bankrota iespējamība (Altmana Z modelis) | C9: =(0.717*((C11-C12))/C15)+(0.847*(C32/C15))+(3.107*((C30+C28)/C15))+(0.42*(C16/(C12+C13)))+(0.998*(C19/C15)) -> 4.98 | D9: =(0.717*((D11-D12))/D15)+(0.847*(D32/D15))+(3.107*((D30+D28)/D15))+(0.42*(D16/(D12+D13)))+(0.998*(D19/D15)) -> 4.73 | E9: =D9-C9 -> -0.25 | F9: =E9/C9 -> -0.0502 | G9: 0-2 | H9: =IF(D9<1.23,0,IF(D9<2.9,1,2)) -> 2
B10: Quick Ratio | C10: =(C24+C18)/C12 -> 7.12 | D10: =(D24+D18)/D12 -> 4.06 | E10: =D10-C10 -> -3.06 | F10: =E10/C10 -> -0.4298 | G10: 0-1 | H10: =IF(D10>1,1,0) -> 1
B11: Apgrozāmie līdzekļi | C11: 44765742 | D11: 45139373 | E11: =D11-C11 -> 373631 | F11: =E11/C11 -> 0.0083
B12: Īstermiņa saistības | C12: 4665629 | D12: 8528708 | E12: =D12-C12 -> 3863079 | F12: =E12/C12 -> 0.828
B13: Ilgtermiņa saistības | C13: 1495291 | D13: 1256276 | E13: =D13-C13 -> -239015 | F13: =E13/C13 -> -0.1598 | G13: Maksimālie iespējamie punkti = | I13: 9
B14: Visas saistības | C14: 6160920 | D14: 9784984 | E14: =D14-C14 -> 3624064 | F14: =E14/C14 -> 0.5882 | G14: Rekomendētais punktu skaits = | I14: 5
B15: Bilances kopsumma | C15: 57824372 | D15: 65050857 | E15: =D15-C15 -> 7226485 | F15: =E15/C15 -> 0.125 | G15: Minimālais punktu skaits = | I15: 0
B16: Pašu kapitāls | C16: 51663452 | D16: 55265873 | E16: =D16-C16 -> 3602421 | F16: =E16/C16 -> 0.0697 | G16: Iegūtie punkti = | I16: =SUM(H4:H10) -> 9
B17: Aktīvu vidējā vērtība | C17: 58368590 | D17: 61437615 | E17: =D17-C17 -> 3069025 | F17: =E17/C17 -> 0.0526
B18: Debitori | C18: 11874157 | D18: 8109102 | E18: =D18-C18 -> -3765055 | F18: =E18/C18 -> -0.3171
B19: Neto apgrozījums | C19: 20164578 | D19: 81193111 | E19: =D19-C19 -> 61028533 | F19: =E19/C19 -> 3.0265
B20: Pārdotās produkcijas ražošanas izmaksas | C20: 16498091 | D20: 62515155 | E20: =D20-C20 -> 46017064 | F20: =E20/C20 -> 2.7892
B21: Bruto peļņa | C21: 3666487 | D21: 18677956 | E21: =D21-C21 -> 15011469 | F21: =E21/C21 -> 4.0942
B22: Administrācijas izmaksas | C22: 527339 | D22: 3830115 | E22: =D22-C22 -> 3302776 | F22: =E22/C22 -> 6.2631
B23: Pārējie saimnieciskās darbības ieņēmumi | C23: 66758 | D23: 267068 | E23: =D23-C23 -> 200310 | F23: =E23/C23 -> 3.0005
B24: Naudas līdzekļi | C24: 21348745 | D24: 26520412 | E24: =D24-C24 -> 5171667 | F24: =E24/C24 -> 0.2422
B25: Pārējie saimnieciskās darbības izdevumi | C25: 0 | D25: 0 | E25: =D25-C25 -> 0 | F25: =E25/C25 -> #DIV/0!
B26: Izdevumi aizņēmumu atmaksāšanai | C26: 0 | D26: 0 | E26: =D26-C26 -> 0 | F26: =E26/C26 -> #DIV/0!
B27: Izdevumi nomāta pamatlīdzekļa izpirkumam | C27: 0 | D27: 0 | E27: =D27-C27 -> 0 | F27: =E27/C27 -> #DIV/0!
B28: Procentu maksājumi un tml. izmaksas | C28: 1376218 | D28: 94160 | E28: =D28-C28 -> -1282058 | F28: =E28/C28 -> -0.9316
... B33: Darbinieku skaits | C33: 169 | D33: 185 | E33: =D33-C33 -> 16 | F33: =E33/C33 -> 0.0947

Sheet AKZ SIA
B2: AKZ SIA
B3: Rādītājs | C3: 2022 | D3: 2023 | E3: Rādītāja izmaiņas, EUR/ skal. vienīb. | F3: Rādītāja izmaiņas, % | G3: Punkti | H3: Vērtējums
B4: EBITDA | C4: =C30+C28+C29 -> 22918573 | D4: =D30+D28+D29 -> 9417755 | E4: =D4-C4 -> -13500818 | F4: =E4/C4 -> -0.5891 | G4: 0-1 | H4: =IF(D4>0,1,0) -> 1
B5: Debt/EBITDA | C5: =C14/C4 -> 2.03 | D5: =D14/D4 -> 5.77 | E5: =D5-C5 -> 3.74 | F5: =E5/C5 -> 1.8424 | G5: 0-1 | H5: =IF(AND(D5>0,D5<4),1,0) -> 0
B6: Kopējais likviditātes rādītājs | C6: =C11/C12 -> 29.31 | D6: =D11/D12 -> 21.14 | E6: =D6-C6 -> -8.17 | F6: =E6/C6 -> -0.2787 | G6: 0-2 | H6: =IF(D6<1,0,IF(D6<2,1,2)) -> 2
B7: Pašu kapitāla koeficients | C7: =C14/C16 -> 0.43 | D7: =D14/D16 -> 0.51 | E7: =D7-C7 -> 0.08 | F7: =E7/C7 -> 0.186 | G7: 0-1 | H7: =IF(D7<0.7,1,0) -> 1
B8: DSCR | C8: =C4/(C28+C27+C26) -> 16.16 | D8: =D4/(D28+D27+D26) -> 6.08 | E8: =D8-C8 -> -10.08 | F8: =E8/C8 -> -0.6238 | G8: 0-1 | H8: =IF(D8<1.2,0,1) -> 1
B9: Bankrota iespējamība (Altmana Z modelis) | C9: =(0.717*((C11-C12))/C15)+(0.847*(C32/C15))+(3.107*((C30+C28)/C15))+(0.42*(C16/(C12+C13)))+(0.998*(C19/C15)) -> 3.15 | D9: =(0.717*((D11-D12))/D15)+(0.847*(D32/D15))+(3.107*((D30+D28)/D15))+(0.42*(D16/(D12+D13)))+(0.998*(D19/D15)) -> 2.58 | E9: =D9-C9 -> -0.57 | F9: =E9/C9 -> -0.181 | G9: 0-2 | H9: =IF(D9<1.23,0,IF(D9<2.9,1,2)) -> 1
B10: Quick Ratio | C10: =(C24+C18)/C12 -> 23.45 | D10: =(D24+D18)/D12 -> 12.69 | E10: =D10-C10 -> -10.76 | F10: =E10/C10 -> -0.4588 | G10: 0-1 | H10: =IF(D10>1,1,0) -> 1
B11: Apgrozāmie līdzekļi | C11: 137368490 | D11: 134662094 | E11: =D11-C11 -> -2706396 | F11: =E11/C11 -> -0.0197
B12: Īstermiņa saistības | C12: 4686912 | D12: 6370857 | E12: =D12-C12 -> 1683945 | F12: =E12/C12 -> 0.3593
B13: Ilgtermiņa saistības | C13: 41725102 | D13: 47960269 | E13: =D13-C13 -> 6235167 | F13: =E13/C13 -> 0.1494 | G13: Maksimālie iespējamie punkti = | I13: 9
B14: Visas saistības | C14: 46412014 | D14: 54331126 | E14: =D14-C14 -> 7919112 | F14: =E14/C14 -> 0.1706 | G14: Rekomendētais punktu skaits = | I14: 5
B15: Bilances kopsumma | C15: 155045709 | D15: 161395080 | E15: =D15-C15 -> 6349371 | F15: =E15/C15 -> 0.041 | G15: Minimālais punktu skaits = | I15: 0
B16: Pašu kapitāls | C16: 108633695 | D16: 107063954 | E16: =D16-C16 -> -1569741 | F16: =E16/C16 -> -0.0144 | G16: Iegūtie punkti = | I16: =SUM(H4:H10) -> 7
B17: Aktīvu vidējā vērtība | C17: 145670267 | D17: 158220395 | E17: =D17-C17 -> 12550128 | F17: =E17/C17 -> 0.0862
B18: Debitori | C18: 6387609 | D18: 7994308 | E18: =D18-C18 -> 1606699 | F18: =E18/C18 -> 0.2515
B19: Neto apgrozījums | C19: 101250653 | D19: 81396657 | E19: =D19-C19 -> -19853996 | F19: =E19/C19 -> -0.1961
B20: Pārdotās produkcijas ražošanas izmaksas | C20: 64326748 | D20: 64235969 | E20: =D20-C20 -> -90779 | F20: =E20/C20 -> -0.0014
B21: Bruto peļņa | C21: 36923905 | D21: 17160688 | E21: =D21-C21 -> -19763217 | F21: =E21/C21 -> -0.5352
B22: Administrācijas izmaksas | C22: 3426592 | D22: 3822829 | E22: =D22-C22 -> 396237 | F22: =E22/C22 -> 0.1156
B23: Pārējie saimnieciskās darbības ieņēmumi | C23: 416511 | D23: 90454 | E23: =D23-C23 -> -326057 | F23: =E23/C23 -> -0.7828
B24: Naudas līdzekļi | C24: 103525668 | D24: 72833520 | E24: =D24-C24 -> -30692148 | F24: =E24/C24 -> -0.2965
B25: Pārējie saimnieciskās darbības izdevumi | C25: 548365 | D25: 777006 | E25: =D25-C25 -> 228641 | F25: =E25/C25 -> 0.417
B26: Izdevumi aizņēmumu atmaksāšanai | C26: 0 | D26: 303347 | E26: =D26-C26 -> 303347 | F26: =E26/C26 -> #DIV/0!
B27: Izdevumi nomāta pamatlīdzekļa izpirkumam | C27: 0 | D27: 0 | E27: =D27-C27 -> 0 | F27: =E27/C27 -> #DIV/0!
B28: Procentu maksājumi un tml. izmaksas | C28: 1417904 | D28: 1246671 | E28: =D28-C28 -> -171233 | F28: =E28/C28 -> -0.1208
... B33: Darbinieku skaits | C33: 272 | D33: 253 | E33: =D33-C33 -> -19 | F33: =E33/C33 -> -0.0699

Sheet Rettenmeier Baltic Timber SIA
B2: Rettenmeier Baltic Timber SIA
B3: Rādītājs | C3: 2022 | D3: 2023 | E3: Rādītāja izmaiņas, EUR/ skal. vienīb. | F3: Rādītāja izmaiņas, % | G3: Punkti | H3: Vērtējums
B4: EBITDA | C4: =C30+C28+C29 -> 15310431 | D4: =D30+D28+D29 -> 107766 | E4: =D4-C4 -> -15202665 | F4: =E4/C4 -> -0.993 | G4: 0-1 | H4: =IF(D4>0,1,0) -> 1
B5: Debt/EBITDA | C5: =C14/C4 -> 1.39 | D5: =D14/D4 -> 658.19 | E5: =D5-C5 -> 656.8 | F5: =E5/C5 -> 472.518 | G5: 0-1 | H5: =IF(AND(D5>0,D5<4),1,0) -> 0
B6: Kopējais likviditātes rādītājs | C6: =C11/C12 -> 1.13 | D6: =D11/D12 -> 0.58 | E6: =D6-C6 -> -0.55 | F6: =E6/C6 -> -0.4867 | G6: 0-2 | H6: =IF(D6<1,0,IF(D6<2,1,2)) -> 0
B7: Pašu kapitāla koeficients | C7: =C14/C16 -> 0.36 | D7: =D14/D16 -> 1.28 | E7: =D7-C7 -> 0.92 | F7: =E7/C7 -> 2.5556 | G7: 0-1 | H7: =IF(D7<0.7,1,0) -> 0
B8: DSCR | C8: =C4/(C28+C27+C26) -> 77.16 | D8: =D4/(D28+D27+D26) -> 0.05 | E8: =D8-C8 -> -77.11 | F8: =E8/C8 -> -0.9994 | G8: 0-1 | H8: =IF(D8<1.2,0,1) -> 0
B9: Bankrota iespējamība (Altmana Z modelis) | C9: =(0.717*((C11-C12))/C15)+(0.847*(C32/C15))+(3.107*((C30+C28)/C15))+(0.42*(C16/(C12+C13)))+(0.998*(C19/C15)) -> 3.21 | D9: =(0.717*((D11-D12))/D15)+(0.847*(D32/D15))+(3.107*((D30+D28)/D15))+(0.42*(D16/(D12+D13)))+(0.998*(D19/D15)) -> 1.08 | E9: =D9-C9 -> -2.13 | F9: =E9/C9 -> -0.6636 | G9: 0-2 | H9: =IF(D9<1.23,0,IF(D9<2.9,1,2)) -> 0
B10: Quick Ratio | C10: =(C24+C18)/C12 -> 0.31 | D10: =(D24+D18)/D12 -> 0.21 | E10: =D10-C10 -> -0.1 | F10: =E10/C10 -> -0.3226 | G10: 0-1 | H10: =IF(D10>1,1,0) -> 0
B11: Apgrozāmie līdzekļi | C11: 19096680 | D11: 13011839 | E11: =D11-C11 -> -6084841 | F11: =E11/C11 -> -0.3186
B12: Īstermiņa saistības | C12: 16847484 | D12: 22484178 | E12: =D12-C12 -> 5636694 | F12: =E12/C12 -> 0.3346
B13: Ilgtermiņa saistības | C13: 4397560 | D13: 48446370 | E13: =D13-C13 -> 44048810 | F13: =E13/C13 -> 10.0166 | G13: Maksimālie iespējamie punkti = | I13: 9
B14: Visas saistības | C14: 21245044 | D14: 70930548 | E14: =D14-C14 -> 49685504 | F14: =E14/C14 -> 2.3387 | G14: Rekomendētais punktu skaits = | I14: 5
B15: Bilances kopsumma | C15: 79873313 | D15: 126403666 | E15: =D15-C15 -> 46530353 | F15: =E15/C15 -> 0.5826 | G15: Minimālais punktu skaits = | I15: 0
B16: Pašu kapitāls | C16: 58628269 | D16: 55473118 | E16: =D16-C16 -> -3155151 | F16: =E16/C16 -> -0.0538 | G16: Iegūtie punkti = | I16: =SUM(H4:H10) -> 1
B17: Aktīvu vidējā vērtība | C17: 66833585 | D17: 103138490 | E17: =D17-C17 -> 36304905 | F17: =E17/C17 -> 0.5432
B18: Debitori | C18: 3716854 | D18: 3942665 | E18: =D18-C18 -> 225811 | F18: =E18/C18 -> 0.0608
B19: Neto apgrozījums | C19: 90499158 | D19: 66483710 | E19: =D19-C19 -> -24015448 | F19: =E19/C19 -> -0.2654
B20: Pārdotās produkcijas ražošanas izmaksas | C20: 68776199 | D20: 60775405 | E20: =D20-C20 -> -8000794 | F20: =E20/C20 -> -0.1163
B21: Bruto peļņa | C21: 21722959 | D21: 5708305 | E21: =D21-C21 -> -16014654 | F21: =E21/C21 -> -0.7372
B22: Administrācijas izmaksas | C22: 3255038 | D22: 3443703 | E22: =D22-C22 -> 188665 | F22: =E22/C22 -> 0.058
B23: Pārējie saimnieciskās darbības ieņēmumi | C23: 276613 | D23: 157791 | E23: =D23-C23 -> -118822 | F23: =E23/C23 -> -0.4296
B24: Naudas līdzekļi | C24: 1539286 | D24: 781461 | E24: =D24-C24 -> -757825 | F24: =E24/C24 -> -0.4923
B25: Pārējie saimnieciskās darbības izdevumi | C25: 127060 | D25: 221448 | E25: =D25-C25 -> 94388 | F25: =E25/C25 -> 0.7429
B26: Izdevumi aizņēmumu atmaksāšanai | C26: 0 | D26: 1253249 | E26: =D26-C26 -> 1253249 | F26: =E26/C26 -> #DIV/0!
B27: Izdevumi nomāta pamatlīdzekļa izpirkumam | C27: 82440 | D27: 39089 | E27: =D27-C27 -> -43351 | F27: =E27/C27 -> -0.5258
B28: Procentu maksājumi un tml. izmaksas | C28: 115990 | D28: 905055 | E28: =D28-C28 -> 789065 | F28: =E28/C28 -> 6.8029
... B33: Darbinieku skaits | C33: 244 | D33: 236 | E33: =D33-C33 -> -8 | F33: =E33/C33 -> -0.0328

Sheet Smiltene Impex SIA
B2: Smiltene Impex SIA
B3: Rādītājs | C3: 2022 | D3: 2023 | E3: Rādītāja izmaiņas, EUR/ skal. vienīb. | F3: Rādītāja izmaiņas, % | G3: Punkti | H3: Vērtējums
B4: EBITDA | C4: =C30+C28+C29 -> 861298 | D4: =D30+D28+D29 -> -959842 | E4: =D4-C4 -> -1821140 | F4: =E4/C4 -> -2.1144 | G4: 0-1 | H4: =IF(D4>0,1,0) -> 0
B5: Debt/EBITDA | C5: =C14/C4 -> 1.5 | D5: =D14/D4 -> -1.1 | E5: =D5-C5 -> -2.6 | F5: =E5/C5 -> -1.7333 | G5: 0-1 | H5: =IF(AND(D5>0,D5<4),1,0) -> 0
B6: Kopējais likviditātes rādītājs | C6: =C11/C12 -> 5.53 | D6: =D11/D12 -> 2.25 | E6: =D6-C6 -> -3.28 | F6: =E6/C6 -> -0.5931 | G6: 0-2 | H6: =IF(D6<1,0,IF(D6<2,1,2)) -> 2
B7: Pašu kapitāla koeficients | C7: =C14/C16 -> 0.29 | D7: =D14/D16 -> 0.37 | E7: =D7-C7 -> 0.08 | F7: =E7/C7 -> 0.2759 | G7: 0-1 | H7: =IF(D7<0.7,1,0) -> 1
B8: DSCR | C8: =C4/(C28+C27+C26) -> 429.15 | D8: =D4/(D28+D27+D26) -> -450.42 | E8: =D8-C8 -> -879.57 | F8: =E8/C8 -> -2.0496 | G8: 0-1 | H8: =IF(D8<1.2,0,1) -> 0
B9: Bankrota iespējamība (Altmana Z modelis) | C9: =(0.717*((C11-C12))/C15)+(0.847*(C32/C15))+(3.107*((C30+C28)/C15))+(0.42*(C16/(C12+C13)))+(0.998*(C19/C15)) -> 5.84 | D9: =(0.717*((D11-D12))/D15)+(0.847*(D32/D15))+(3.107*((D30+D28)/D15))+(0.42*(D16/(D12+D13)))+(0.998*(D19/D15)) -> 4.15 | E9: =D9-C9 -> -1.69 | F9: =E9/C9 -> -0.2894 | G9: 0-2 | H9: =IF(D9<1.23,0,IF(D9<2.9,1,2)) -> 2
B10: Quick Ratio | C10: =(C24+C18)/C12 -> 4.27 | D10: =(D24+D18)/D12 -> 1.001 | E10: =D10-C10 -> -3.27 | F10: =E10/C10 -> -0.7658 | G10: 0-1 | H10: =IF(D10>1,1,0) -> 1
B11: Apgrozāmie līdzekļi | C11: 3811988 | D11: 2384360 | E11: =D11-C11 -> -1427628 | F11: =E11/C11 -> -0.3745
B12: Īstermiņa saistības | C12: 689896 | D12: 1058157 | E12: =D12-C12 -> 368261 | F12: =E12/C12 -> 0.5338
B13: Ilgtermiņa saistības | C13: 600779 | D13: 0 | E13: =D13-C13 -> -600779 | F13: =E13/C13 -> -1 | G13: Maksimālie iespējamie punkti = | I13: 9
B14: Visas saistības | C14: 1290675 | D14: 1058157 | E14: =D14-C14 -> -232518 | F14: =E14/C14 -> -0.1802 | G14: Rekomendētais punktu skaits = | I14: 5
B15: Bilances kopsumma | C15: 5748046 | D15: 3898504 | E15: =D15-C15 -> -1849542 | F15: =E15/C15 -> -0.3218 | G15: Minimālais punktu skaits = | I15: 0
B16: Pašu kapitāls | C16: 4457371 | D16: 2840347 | E16: =D16-C16 -> -1617024 | F16: =E16/C16 -> -0.3628 | G16: Iegūtie punkti = | I16: =SUM(H4:H10) -> 6
B17: Aktīvu vidējā vērtība | C17: 5707817 | D17: 4823275 | E17: =D17-C17 -> -884542 | F17: =E17/C17 -> -0.155
B18: Debitori | C18: 685160 | D18: 416218 | E18: =D18-C18 -> -268942 | F18: =E18/C18 -> -0.3925
B19: Neto apgrozījums | C19: 22537475 | D19: 15505017 | E19: =D19-C19 -> -7032458 | F19: =E19/C19 -> -0.312
B20: Pārdotās produkcijas ražošanas izmaksas | C20: 21919941 | D20: 16466707 | E20: =D20-C20 -> -5453234 | F20: =E20/C20 -> -0.2488
B21: Bruto peļņa | C21: 617534 | D21: -961690 | E21: =D21-C21 -> -1579224 | F21: =E21/C21 -> -2.5573
B22: Administrācijas izmaksas | C22: 688370 | D22: 660819 | E22: =D22-C22 -> -27551 | F22: =E22/C22 -> -0.04
B23: Pārējie saimnieciskās darbības ieņēmumi | C23: 114092 | D23: 7634 | E23: =D23-C23 -> -106458 | F23: =E23/C23 -> -0.9331
B24: Naudas līdzekļi | C24: 2262862 | D24: 643283 | E24: =D24-C24 -> -1619579 | F24: =E24/C24 -> -0.7157
B25: Pārējie saimnieciskās darbības izdevumi | C25: 0 | D25: 0 | E25: =D25-C25 -> 0 | F25: =E25/C25 -> #DIV/0!
B26: Izdevumi aizņēmumu atmaksāšanai | C26: 0 | D26: 0 | E26: =D26-C26 -> 0 | F26: =E26/C26 -> #DIV/0!
B27: Izdevumi nomāta pamatlīdzekļa izpirkumam | C27: 0 | D27: 0 | E27: =D27-C27 -> 0 | F27: =E27/C27 -> #DIV/0!
B28: Procentu maksājumi un tml. izmaksas | C28: 2007 | D28: 2131 | E28: =D28-C28 -> 124 | F28: =E28/C28 -> 0.0618
... B33: Darbinieku skaits | C33: 94 | D33: 80 | E33: =D33-C33 -> -14 | F33: =E33/C33 -> -0.1489

Sheet SIA Krauzers
B2: SIA Krauzers
B3: Rādītājs | C3: 2022 | D3: 2023 | E3: Rādītāja izmaiņas, EUR/ skal. vienīb. | F3: Rādītāja izmaiņas, % | G3: Punkti | H3: Vērtējums
B4: EBITDA | C4: =C30+C28+C29 -> 4545837 | D4: =D30+D28+D29 -> 1897141 | E4: =D4-C4 -> -2648696 | F4: =E4/C4 -> -0.5827 | G4: 0-1 | H4: =IF(D4>0,1,0) -> 1
B5: Debt/EBITDA | C5: =C14/C4 -> 1.74 | D5: =D14/D4 -> 6.41 | E5: =D5-C5 -> 4.67 | F5: =E5/C5 -> 2.6839 | G5: 0-1 | H5: =IF(AND(D5>0,D5<4),1,0) -> 0
B6: Kopējais likviditātes rādītājs | C6: =C11/C12 -> 1.38 | D6: =D11/D12 -> 1.01 | E6: =D6-C6 -> -0.37 | F6: =E6/C6 -> -0.2681 | G6: 0-2 | H6: =IF(D6<1,0,IF(D6<2,1,2)) -> 1
B7: Pašu kapitāla koeficients | C7: =C14/C16 -> 0.84 | D7: =D14/D16 -> 1.27 | E7: =D7-C7 -> 0.43 | F7: =E7/C7 -> 0.5119 | G7: 0-1 | H7: =IF(D7<0.7,1,0) -> 0
B8: DSCR | C8: =C4/(C28+C27+C26) -> 2.61 | D8: =D4/(D28+D27+D26) -> 0.74 | E8: =D8-C8 -> -1.87 | F8: =E8/C8 -> -0.7165 | G8: 0-1 | H8: =IF(D8<1.2,0,1) -> 0
B9: Bankrota iespējamība (Altmana Z modelis) | C9: =(0.717*((C11-C12))/C15)+(0.847*(C32/C15))+(3.107*((C30+C28)/C15))+(0.42*(C16/(C12+C13)))+(0.998*(C19/C15)) -> 3.39 | D9: =(0.717*((D11-D12))/D15)+(0.847*(D32/D15))+(3.107*((D30+D28)/D15))+(0.42*(D16/(D12+D13)))+(0.998*(D19/D15)) -> 2.15 | E9: =D9-C9 -> -1.24 | F9: =E9/C9 -> -0.3658 | G9: 0-2 | H9: =IF(D9<1.23,0,IF(D9<2.9,1,2)) -> 1
B10: Quick Ratio | C10: =(C24+C18)/C12 -> 0.55 | D10: =(D24+D18)/D12 -> 0.424 | E10: =D10-C10 -> -0.13 | F10: =E10/C10 -> -0.2364 | G10: 0-1 | H10: =IF(D10>1,1,0) -> 0
B11: Apgrozāmie līdzekļi | C11: 6370262 | D11: 6121006 | E11: =D11-C11 -> -249256 | F11: =E11/C11 -> -0.0391
B12: Īstermiņa saistības | C12: 4620346 | D12: 6087069 | E12: =D12-C12 -> 1466723 | F12: =E12/C12 -> 0.3174
B13: Ilgtermiņa saistības | C13: 3308290 | D13: 6065842 | E13: =D13-C13 -> 2757552 | F13: =E13/C13 -> 0.8335 | G13: Maksimālie iespējamie punkti = | I13: 9
B14: Visas saistības | C14: 7928636 | D14: 12152911 | E14: =D14-C14 -> 4224275 | F14: =E14/C14 -> 0.5328 | G14: Rekomendētais punktu skaits = | I14: 5
B15: Bilances kopsumma | C15: 17352103 | D15: 21709911 | E15: =D15-C15 -> 4357808 | F15: =E15/C15 -> 0.2511 | G15: Minimālais punktu skaits = | I15: 0
B16: Pašu kapitāls | C16: 9423467 | D16: 9557000 | E16: =D16-C16 -> 133533 | F16: =E16/C16 -> 0.0142 | G16: Iegūtie punkti = | I16: =SUM(H4:H10) -> 3
B17: Aktīvu vidējā vērtība | C17: 14815782 | D17: 19531007 | E17: =D17-C17 -> 4715225 | F17: =E17/C17 -> 0.3183
B18: Debitori | C18: 2244763 | D18: 2286651 | E18: =D18-C18 -> 41888 | F18: =E18/C18 -> 0.0187
B19: Neto apgrozījums | C19: 33415720 | D19: 30048547 | E19: =D19-C19 -> -3367173 | F19: =E19/C19 -> -0.1008
B20: Pārdotās produkcijas ražošanas izmaksas | C20: 29131449 | D20: 28589850 | E20: =D20-C20 -> -541599 | F20: =E20/C20 -> -0.0186
B21: Bruto peļņa | C21: 4284271 | D21: 1458697 | E21: =D21-C21 -> -2825574 | F21: =E21/C21 -> -0.6595
B22: Administrācijas izmaksas | C22: 919451 | D22: 956703 | E22: =D22-C22 -> 37252 | F22: =E22/C22 -> 0.0405
B23: Pārējie saimnieciskās darbības ieņēmumi | C23: 116241 | D23: 141706 | E23: =D23-C23 -> 25465 | F23: =E23/C23 -> 0.2191
B24: Naudas līdzekļi | C24: 284283 | D24: 292533 | E24: =D24-C24 -> 8250 | F24: =E24/C24 -> 0.029
B25: Pārējie saimnieciskās darbības izdevumi | C25: 67988 | D25: 15942 | E25: =D25-C25 -> -52046 | F25: =E25/C25 -> -0.7655
B26: Izdevumi aizņēmumu atmaksāšanai | C26: 417538 | D26: 711808 | E26: =D26-C26 -> 294270 | F26: =E26/C26 -> 0.7048
B27: Izdevumi nomāta pamatlīdzekļa izpirkumam | C27: 1148031 | D27: 1343021 | E27: =D27-C27 -> 194990 | F27: =E27/C27 -> 0.1698
B28: Procentu maksājumi un tml. izmaksas | C28: 175709 | D28: 494225 | E28: =D28-C28 -> 318516 | F28: =E28/C28 -> 1.8127
... B33: Darbinieku skaits | C33: 205 | D33: 213 | E33: =D33-C33 -> 8 | F33: =E33/C33 -> 0.039

Sheet SIA Silpec
B2: SIA Silpec
B3: Rādītājs | C3: 2022 | D3: 2023 | E3: Rādītāja izmaiņas, EUR/ skal. vienīb. | F3: Rādītāja izmaiņas, % | G3: Punkti | H3: Vērtējums
B4: EBITDA | C4: =C30+C28+C29 -> 1489070 | D4: =D30+D28+D29 -> 851078 | E4: =D4-C4 -> -637992 | F4: =E4/C4 -> -0.4284 | G4: 0-1 | H4: =IF(D4>0,1,0) -> 1
B5: Debt/EBITDA | C5: =C14/C4 -> 0.15 | D5: =D14/D4 -> 0.24 | E5: =D5-C5 -> 0.09 | F5: =E5/C5 -> 0.6 | G5: 0-1 | H5: =IF(AND(D5>0,D5<4),1,0) -> 1
B6: Kopējais likviditātes rādītājs | C6: =C11/C12 -> 26.91 | D6: =D11/D12 -> 32.96 | E6: =D6-C6 -> 6.05 | F6: =E6/C6 -> 0.2248 | G6: 0-2 | H6: =IF(D6<1,0,IF(D6<2,1,2)) -> 2
B7: Pašu kapitāla koeficients | C7: =C14/C16 -> 0.03 | D7: =D14/D16 -> 0.03 | E7: =D7-C7 -> 0 | F7: =E7/C7 -> 0 | G7: 0-1 | H7: =IF(D7<0.7,1,0) -> 1
B8: DSCR | C8: =C4/(C28+C27+C26) -> 29.03 | D8: =D4/(D28+D27+D26) -> 96.65 | E8: =D8-C8 -> 67.62 | F8: =E8/C8 -> 2.3293 | G8: 0-1 | H8: =IF(D8<1.2,0,1) -> 1
B9: Bankrota iespējamība (Altmana Z modelis) | C9: =(0.717*((C11-C12))/C15)+(0.847*(C32/C15))+(3.107*((C30+C28)/C15))+(0.42*(C16/(C12+C13)))+(0.998*(C19/C15)) -> 15.54 | D9: =(0.717*((D11-D12))/D15)+(0.847*(D32/D15))+(3.107*((D30+D28)/D15))+(0.42*(D16/(D12+D13)))+(0.998*(D19/D15)) -> 17.88 | E9: =D9-C9 -> 2.34 | F9: =E9/C9 -> 0.1506 | G9: 0-2 | H9: =IF(D9<1.23,0,IF(D9<2.9,1,2)) -> 2
B10: Quick Ratio | C10: =(C24+C18)/C12 -> 21.37 | D10: =(D24+D18)/D12 -> 26.911 | E10: =D10-C10 -> 5.54 | F10: =E10/C10 -> 0.2592 | G10: 0-1 | H10: =IF(D10>1,1,0) -> 1
B11: Apgrozāmie līdzekļi | C11: 6079140 | D11: 6765083 | E11: =D11-C11 -> 685943 | F11: =E11/C11 -> 0.1128
B12: Īstermiņa saistības | C12: 225894 | D12: 205230 | E12: =D12-C12 -> -20664 | F12: =E12/C12 -> -0.0915
B13: Ilgtermiņa saistības | C13: 0 | D13: 0 | E13: =D13-C13 -> 0 | F13: =E13/C13 -> #DIV/0! | G13: Maksimālie iespējamie punkti = | I13: 9
B14: Visas saistības | C14: 225894 | D14: 205230 | E14: =D14-C14 -> -20664 | F14: =E14/C14 -> -0.0915 | G14: Rekomendētais punktu skaits = | I14: 5
B15: Bilances kopsumma | C15: 7122875 | D15: 7821130 | E15: =D15-C15 -> 698255 | F15: =E15/C15 -> 0.098 | G15: Minimālais punktu skaits = | I15: 0
B16: Pašu kapitāls | C16: 6896981 | D16: 7615900 | E16: =D16-C16 -> 718919 | F16: =E16/C16 -> 0.1042 | G16: Iegūtie punkti = | I16: =SUM(H4:H10) -> 9
B17: Aktīvu vidējā vērtība | C17: 6417689 | D17: 7477003 | E17: =D17-C17 -> 1059314 | F17: =E17/C17 -> 0.1651
B18: Debitori | C18: 849845 | D18: 880380 | E18: =D18-C18 -> 30535 | F18: =E18/C18 -> 0.0359
B19: Neto apgrozījums | C19: 6133496 | D19: 5137742 | E19: =D19-C19 -> -995754 | F19: =E19/C19 -> -0.1623
B20: Pārdotās produkcijas ražošanas izmaksas | C20: 4233305 | D20: 4173873 | E20: =D20-C20 -> -59432 | F20: =E20/C20 -> -0.014
B21: Bruto peļņa | C21: 1900191 | D21: 963869 | E21: =D21-C21 -> -936322 | F21: =E21/C21 -> -0.4928
B22: Administrācijas izmaksas | C22: 281404 | D22: 137889 | E22: =D22-C22 -> -143515 | F22: =E22/C22 -> -0.51
B23: Pārējie saimnieciskās darbības ieņēmumi | C23: 58957 | D23: 108366 | E23: =D23-C23 -> 49409 | F23: =E23/C23 -> 0.8381
B24: Naudas līdzekļi | C24: 3977619 | D24: 4642496 | E24: =D24-C24 -> 664877 | F24: =E24/C24 -> 0.1672
B25: Pārējie saimnieciskās darbības izdevumi | C25: 179592 | D25: 145341 | E25: =D25-C25 -> -34251 | F25: =E25/C25 -> -0.1907
B26: Izdevumi aizņēmumu atmaksāšanai | C26: 0 | D26: 0 | E26: =D26-C26 -> 0 | F26: =E26/C26 -> #DIV/0!
B27: Izdevumi nomāta pamatlīdzekļa izpirkumam | C27: 0 | D27: 0 | E27: =D27-C27 -> 0 | F27: =E27/C27 -> #DIV/0!
B28: Procentu maksājumi un tml. izmaksas | C28: 51287 | D28: 8806 | E28: =D28-C28 -> -42481 | F28: =E28/C28 -> -0.8283
... B33: Darbinieku skaits | C33: 44 | D33: 34 | E33: =D33-C33 -> -10 | F33: =E33/C33 -> -0.2273

Sheet SIA Vudlande
B2: SIA Vudlande
B3: Rādītājs | C3: 2022 | D3: 2023 | E3: Rādītāja izmaiņas, EUR/ skal. vienīb. | F3: Rādītāja izmaiņas, % | G3: Punkti | H3: Vērtējums
B4: EBITDA | C4: =C30+C28+C29 -> 1876942 | D4: =D30+D28+D29 -> -2893265 | E4: =D4-C4 -> -4770207 | F4: =E4/C4 -> -2.5415 | G4: 0-1 | H4: =IF(D4>0,1,0) -> 0
B5: Debt/EBITDA | C5: =C14/C4 -> 1.8 | D5: =D14/D4 -> -1.97 | E5: =D5-C5 -> -3.77 | F5: =E5/C5 -> -2.0944 | G5: 0-1 | H5: =IF(AND(D5>0,D5<4),1,0) -> 0
B6: Kopējais likviditātes rādītājs | C6: =C11/C12 -> 6.87 | D6: =D11/D12 -> 3.18 | E6: =D6-C6 -> -3.69 | F6: =E6/C6 -> -0.5371 | G6: 0-2 | H6: =IF(D6<1,0,IF(D6<2,1,2)) -> 2
B7: Pašu kapitāla koeficients | C7: =C14/C16 -> 0.13 | D7: =D14/D16 -> 0.26 | E7: =D7-C7 -> 0.13 | F7: =E7/C7 -> 1 | G7: 0-1 | H7: =IF(D7<0.7,1,0) -> 1
B8: DSCR | C8: =C4/(C28+C27+C26) -> 0.73 | D8: =D4/(D28+D27+D26) -> -16.82 | E8: =D8-C8 -> -17.55 | F8: =E8/C8 -> -24.0411 | G8: 0-1 | H8: =IF(D8<1.2,0,1) -> 0
B9: Bankrota iespējamība (Altmana Z modelis) | C9: =(0.717*((C11-C12))/C15)+(0.847*(C32/C15))+(3.107*((C30+C28)/C15))+(0.42*(C16/(C12+C13)))+(0.998*(C19/C15)) -> 4.89 | D9: =(0.717*((D11-D12))/D15)+(0.847*(D32/D15))+(3.107*((D30+D28)/D15))+(0.42*(D16/(D12+D13)))+(0.998*(D19/D15)) -> 2.66 | E9: =D9-C9 -> -2.23 | F9: =E9/C9 -> -0.456 | G9: 0-2 | H9: =IF(D9<1.23,0,IF(D9<2.9,1,2)) -> 1
B10: Quick Ratio | C10: =(C24+C18)/C12 -> 1.74 | D10: =(D24+D18)/D12 -> 0.891 | E10: =D10-C10 -> -0.85 | F10: =E10/C10 -> -0.4885 | G10: 0-1 | H10: =IF(D10>1,1,0) -> 0
B11: Apgrozāmie līdzekļi | C11: 12651081 | D11: 6662450 | E11: =D11-C11 -> -5988631 | F11: =E11/C11 -> -0.4734
B12: Īstermiņa saistības | C12: 1842296 | D12: 2096654 | E12: =D12-C12 -> 254358 | F12: =E12/C12 -> 0.1381
B13: Ilgtermiņa saistības | C13: 1543228 | D13: 3607439 | E13: =D13-C13 -> 2064211 | F13: =E13/C13 -> 1.3376 | G13: Maksimālie iespējamie punkti = | I13: 9
B14: Visas saistības | C14: 3385524 | D14: 5704093 | E14: =D14-C14 -> 2318569 | F14: =E14/C14 -> 0.6848 | G14: Rekomendētais punktu skaits = | I14: 5
B15: Bilances kopsumma | C15: 30448800 | D15: 27288060 | E15: =D15-C15 -> -3160740 | F15: =E15/C15 -> -0.1038 | G15: Minimālais punktu skaits = | I15: 0
B16: Pašu kapitāls | C16: 27063276 | D16: 21583967 | E16: =D16-C16 -> -5479309 | F16: =E16/C16 -> -0.2025 | G16: Iegūtie punkti = | I16: =SUM(H4:H10) -> 4
B17: Aktīvu vidējā vērtība | C17: 31315308 | D17: 28868430 | E17: =D17-C17 -> -2446878 | F17: =E17/C17 -> -0.0781
B18: Debitori | C18: 2373467 | D18: 1218200 | E18: =D18-C18 -> -1155267 | F18: =E18/C18 -> -0.4867
B19: Neto apgrozījums | C19: 17603250 | D19: 21696229 | E19: =D19-C19 -> 4092979 | F19: =E19/C19 -> 0.2325
B20: Pārdotās produkcijas ražošanas izmaksas | C20: 15703957 | D20: 24126848 | E20: =D20-C20 -> 8422891 | F20: =E20/C20 -> 0.5364
B21: Bruto peļņa | C21: 1899293 | D21: -2430619 | E21: =D21-C21 -> -4329912 | F21: =E21/C21 -> -2.2797
B22: Administrācijas izmaksas | C22: 373816 | D22: 505854 | E22: =D22-C22 -> 132038 | F22: =E22/C22 -> 0.3532
B23: Pārējie saimnieciskās darbības ieņēmumi | C23: 611984 | D23: 273524 | E23: =D23-C23 -> -338460 | F23: =E23/C23 -> -0.5531
B24: Naudas līdzekļi | C24: 827414 | D24: 650598 | E24: =D24-C24 -> -176816 | F24: =E24/C24 -> -0.2137
B25: Pārējie saimnieciskās darbības izdevumi | C25: 17459 | D25: 20331 | E25: =D25-C25 -> 2872 | F25: =E25/C25 -> 0.1645
B26: Izdevumi aizņēmumu atmaksāšanai | C26: 2292749 | D26: 0 | E26: =D26-C26 -> -2292749 | F26: =E26/C26 -> -1
B27: Izdevumi nomāta pamatlīdzekļa izpirkumam | C27: 210987 | D27: 93090 | E27: =D27-C27 -> -117897 | F27: =E27/C27 -> -0.5588
B28: Procentu maksājumi un tml. izmaksas | C28: 59529 | D28: 78933 | E28: =D28-C28 -> 19404 | F28: =E28/C28 -> 0.326
... B33: Darbinieku skaits | C33: 102 | D33: 108 | E33: =D33-C33 -> 6 | F33: =E33/C33 -> 0.0588

Sheet Pata SIA (konsolidēti)
B2: Pata SIA (konsolidēti)
B3: Rādītājs | C3: 2022 | D3: 2023 | E3: Rādītāja izmaiņas, EUR/ skal. vienīb. | F3: Rādītāja izmaiņas, % | G3: Punkti | H3: Vērtējums
B4: EBITDA | C4: =C30+C28+C29 -> 30589193 | D4: =D30+D28+D29 -> 559620 | E4: =D4-C4 -> -30029573 | F4: =E4/C4 -> -0.9817 | G4: 0-1 | H4: =IF(D4>0,1,0) -> 1
B5: Debt/EBITDA | C5: =C14/C4 -> 2.24 | D5: =D14/D4 -> 128.56 | E5: =D5-C5 -> 126.32 | F5: =E5/C5 -> 56.3929 | G5: 0-1 | H5: =IF(AND(D5>0,D5<4),1,0) -> 0
B6: Kopējais likviditātes rādītājs | C6: =C11/C12 -> 2.75 | D6: =D11/D12 -> 2.07 | E6: =D6-C6 -> -0.68 | F6: =E6/C6 -> -0.2473 | G6: 0-2 | H6: =IF(D6<1,0,IF(D6<2,1,2)) -> 2
B7: Pašu kapitāla koeficients | C7: =C14/C16 -> 0.67 | D7: =D14/D16 -> 0.78 | E7: =D7-C7 -> 0.11 | F7: =E7/C7 -> 0.1642 | G7: 0-1 | H7: =IF(D7<0.7,1,0) -> 0
B8: DSCR | C8: =C4/(C28+C27+C26) -> 6.73 | D8: =D4/(D28+D27+D26) -> 0.09 | E8: =D8-C8 -> -6.64 | F8: =E8/C8 -> -0.9866 | G8: 0-1 | H8: =IF(D8<1.2,0,1) -> 0
B9: Bankrota iespējamība (Altmana Z modelis) | C9: =(0.717*((C11-C12))/C15)+(0.847*(C32/C15))+(3.107*((C30+C28)/C15))+(0.42*(C16/(C12+C13)))+(0.998*(C19/C15)) -> 3.4 | D9: =(0.717*((D11-D12))/D15)+(0.847*(D32/D15))+(3.107*((D30+D28)/D15))+(0.42*(D16/(D12+D13)))+(0.998*(D19/D15)) -> 2.36 | E9: =D9-C9 -> -1.04 | F9: =E9/C9 -> -0.3059 | G9: 0-2 | H9: =IF(D9<1.23,0,IF(D9<2.9,1,2)) -> 1
B10: Quick Ratio | C10: =(C24+C18)/C12 -> 1.04 | D10: =(D24+D18)/D12 -> 0.85 | E10: =D10-C10 -> -0.19 | F10: =E10/C10 -> -0.1827 | G10: 0-1 | H10: =IF(D10>1,1,0) -> 0
B11: Apgrozāmie līdzekļi | C11: 88355500 | D11: 72207024 | E11: =D11-C11 -> -16148476 | F11: =E11/C11 -> -0.1828
B12: Īstermiņa saistības | C12: 32129320 | D12: 34824496 | E12: =D12-C12 -> 2695176 | F12: =E12/C12 -> 0.0839
B13: Ilgtermiņa saistības | C13: 36262899 | D13: 37122069 | E13: =D13-C13 -> 859170 | F13: =E13/C13 -> 0.0237 | G13: Maksimālie iespējamie punkti = | I13: 9
B14: Visas saistības | C14: 68392219 | D14: 71946565 | E14: =D14-C14 -> 3554346 | F14: =E14/C14 -> 0.052 | G14: Rekomendētais punktu skaits = | I14: 5
B15: Bilances kopsumma | C15: 170434133 | D15: 164009497 | E15: =D15-C15 -> -6424636 | F15: =E15/C15 -> -0.0377 | G15: Minimālais punktu skaits = | I15: 0
B16: Pašu kapitāls | C16: 102041914 | D16: 92062932 | E16: =D16-C16 -> -9978982 | F16: =E16/C16 -> -0.0978 | G16: Iegūtie punkti = | I16: =SUM(H4:H10) -> 4
B17: Aktīvu vidējā vērtība | C17: 151872723 | D17: 167221815 | E17: =D17-C17 -> 15349092 | F17: =E17/C17 -> 0.1011
B18: Debitori | C18: 31271667 | D18: 29111524 | E18: =D18-C18 -> -2160143 | F18: =E18/C18 -> -0.0691
B19: Neto apgrozījums | C19: 314368648 | D19: 230915299 | E19: =D19-C19 -> -83453349 | F19: =E19/C19 -> -0.2655
B20: Pārdotās produkcijas ražošanas izmaksas | C20: 264246241 | D20: 207229865 | E20: =D20-C20 -> -57016376 | F20: =E20/C20 -> -0.2158
B21: Bruto peļņa | C21: 50122407 | D21: 23685434 | E21: =D21-C21 -> -26436973 | F21: =E21/C21 -> -0.5274
B22: Administrācijas izmaksas | C22: 7028498 | D22: 7610584 | E22: =D22-C22 -> 582086 | F22: =E22/C22 -> 0.0828
B23: Pārējie saimnieciskās darbības ieņēmumi | C23: 1822177 | D23: 1218839 | E23: =D23-C23 -> -603338 | F23: =E23/C23 -> -0.3311
B24: Naudas līdzekļi | C24: 2242970 | D24: 461204 | E24: =D24-C24 -> -1781766 | F24: =E24/C24 -> -0.7944
B25: Pārējie saimnieciskās darbības izdevumi | C25: 4441522 | D25: 3996390 | E25: =D25-C25 -> -445132 | F25: =E25/C25 -> -0.1002
B26: Izdevumi aizņēmumu atmaksāšanai | C26: 2294344 | D26: 2860730 | E26: =D26-C26 -> 566386 | F26: =E26/C26 -> 0.2469
B27: Izdevumi nomāta pamatlīdzekļa izpirkumam | C27: 1198167 | D27: 1590796 | E27: =D27-C27 -> 392629 | F27: =E27/C27 -> 0.3277
B28: Procentu maksājumi un tml. izmaksas | C28: 1054936 | D28: 1772504 | E28: =D28-C28 -> 717568 | F28: =E28/C28 -> 0.6802
... B33: Darbinieku skaits | C33: 697 | D33: 697 | E33: =D33-C33 -> 0 | F33: =E33/C33 -> 0
