Workbook
Name _ftn1: FMZINp3_laika_grafiks!#REF!
Name _ftn2: FMZINp3_laika_grafiks!#REF!
Name _ftnref1: FMZINp3_laika_grafiks!#REF!
Name _ftnref2: FMZINp3_laika_grafiks!#REF!

Sheet FMZINp3_laika_grafiks
A1: 3. pielikums Informatīvajam ziņojumam par Finanšu ministrijas pārziņā esošo Eiropas Savienības fondu un ārvalstu finanšu palīdzības aktualitātēm līdz 2025. gada oktobrim
A6: ES fondu 2021.–2027. gada plānošanas perioda MK noteikumu par specifisko atbalsta mērķu ieviešanu izstrādes laika grafika progress****
A8: Sagatavots 08.10.2025.
A9: PM Nr. | B9: Prior. Nr. | C9: Prioritātes nosaukums | D9: SAM Nr. | E9: SAM nosaukums | F9: Pasākuma Nr. | G9: Pasākuma nosaukums | H9: Kārtas Nr. | I9: Fonds | J9: ES FONDU finansējums (ieskaitot elastības finansējumu)* | K9: KOPĀ (ar nac. līdzfinansējumu +15%**) | L9: NACIONĀLAIS līdzfinansējums | M9: Atbildīgā iestāde | N9: Izskatīšanas AK datums/ plānotais gads un ceturksnis | O9: Izskatīšanas UK datums/ pānotais gads un ceturksnis | P9: TAP saskaņošanas uzsākšanas datums/ plānotais gads un ceturksnis | Q9: RISKA LĪMENIS | R9: MK apstiprināšanas datums/ plānotais gads un ceturksnis | S9: Atlases uzsākšanas datums/ plānotais gads un ceturksnis*****
A10: 1 | B10: 2 | D10: 3 | F10: 4 | G10: 5 | H10: 6 | I10: 7 | J10: 8 | K10: 9 | L10: 10 | M10: 11 | N10: 12 | O10: 13 | P10: 14 | R10: 15 | S10: 16
A11: KAVĒTA NORMATĪVĀ REGULĒJUMA APSTIPRINĀŠANA | I11: Kopā: | J11: =SUM(J12:J13) -> 39148681 | K11: =SUM(K12:K13) -> 46057273 | L11: =SUM(L12:L13) -> 6908592
A12: 2 | B12: 2.2. | C12: Vides aizsardzība un attīstība | D12: 2.2.2. | E12: “Pārejas uz aprites ekonomiku veicināšana” | F12: 2.2.2.3. | G12: Notekūdeņu dūņu pārstrāde | H12: _ | I12: KF | J12: 23148681 | K12: 27233743 | L12: 4085062 | M12: KEM | N12: 2025 II | O12: 2025 II | P12: 45819 | Q12: KAVĒTS | R12: 2025 II | S12: 2025 IV
A13: 3 | B13: 3.1. | C13: Ilgtspējīga TEN-T infrastruktūra | D13: 3.1.1. | E13: “Attīstīt ilgtspējīgu, pret klimatu izturīgu, inteliģentu, drošu un vairākveidu TEN-T infrastruktūru” | F13: 3.1.1.7. | G13: Iekšzemes intermodālo termināļu ("sauso ostu") attīstības projekti | H13: _ | I13: KF | J13: 16000000 | K13: 18823530 | L13: 2823530 | M13: SM | N13: Plānots izskatīt AK 27.03.2025 (atsaukts 19.03.2025.) | O13: 2025 II | P13: 2025 II | Q13: KAVĒTS | R13: 2025 II | S13: 2025 IV*******
A14: NORMATĪVAIS REGULĒJUMS IZSTRĀDĒ | I14: Kopā | J14: =SUM(J15:J18) -> 55552297 | K14: =SUM(K15:K18) -> 65355644 | L14: =SUM(L15:L18) -> 9803347
A15: 2 | B15: 2.1. | C15: Klimata pārmaiņu mazināšana un pielāgošanās klimata pārmaiņām | D15: 2.1.3. | E15: “Veicināt pielāgošanos klimata pārmaiņām, risku novēršanu un noturību pret katastrofām” | F15: 2.1.3.1. | G15: Pašvaldību pielāgošanās klimata pārmaiņām | H15: 2 | I15: ERAF | J15: 8407694 | K15: 9891405 | L15: 1483711 | M15: VARAM | N15: N/A | O15: 2026 I | P15: 45933 | Q15: PLĀNOJAS | R15: 2026 II | S15: 2026 III
A16: 3 | B16: 3.2. | C16: Duālas izmantojamības infrastruktūra un kiberdrošība | D16: 3.2.1. | E16: "Attīstīt noturīgu aizsardzības infrastruktūru, prioritāti atbalstot divējāda lietojuma infrastruktūru, kā arī uzlabot civilo sagatavotību" | F16: 3.2.1.1. (3.1.1.9.) | G16: Bezpilota lidaparātu uztveršanas, identifikācijas, izsekošanas un pretdarbības risinājuma ieviešana | H16: _ | I16: ERAF | J16: 1954863 | K16: 2299839 | L16: 344976 | M16: SM | N16: IPIA izņēmums (UK lēm. 09.06.2025.) | O16: IPIA izņēmums (UK lēm. 09.06.2025.) | P16: 45918 | Q16: IZSTRĀDĒ | R16: 2025 IV | S16: 2025 IV
A17: 4 | B17: 4.2. | C17: Izglītība, prasmes un mūžizglītība | D17: 4.2.1. | E17: “Uzlabot vienlīdzīgu piekļuvi iekļaujošiem un kvalitatīviem pakalpojumiem izglītības, mācību un mūžizglītības jomā, attīstot pieejamu infrastruktūru, tostarp, veicinot noturību izglītošanā un mācībā attālinātā un tiešsaistes režīmā” | F17: 4.2.1.5. | G17: Izglītības iestāžu nodrošinājums pilnveidotā vispārējās izglītības satura kvalitatīvai ieviešanai pamata un vidējās izglītības pakāpē | H17: 3 | I17: ERAF | J17: 4517240 | K17: 5314400 | L17: 797160 | M17: IZM | N17: IPIA izņēmums (UK lēm. 23.04.2024) | O17: IPIA izņēmums (UK lēm. 23.04.2024) | P17: 45874 | Q17: IZSTRĀDĒ | R17: 2026 I | S17: 2026 II
A18: 4 | B18: 4.3. | C18: Nodarbinātība un sociālā iekļaušana | D18: 4.3.3. | E18: “Uzlabot visu darba meklētāju, jo īpaši jauniešu – it sevišķi, īstenojot Garantiju jauniešiem –, ilgstošo bezdarbnieku un darba tirgū nelabvēlīgā situācijā esošo grupu, un ekonomiski neaktīvo personu piekļuvi nodarbinātībai un aktivizācijas pasākumiem, kā arī veicinot pašnodarbinātību un sociālo ekonomiku” | F18: 4.3.3.1. | G18: Bezdarbnieku, darba meklētāju un bezdarba riskam pakļauto personu kvalifikācijas un prasmju paaugstināšana | H18: _ | I18: ESF | J18: 40672500 | K18: 47850000 | L18: 7177500 | M18: LM | N18: 45645 | O18: 45700 | P18: 45863 | Q18: IZSTRĀDĒ | R18: 2025 IV | S18: 2026 I
A19: PLĀNOTA NORMATĪVĀ REGULĒJUMA IZSTRĀDE - nav uzsākta saskaņošana TAP | I19: Kopā: | J19: =SUBTOTAL(9,J20:J27) -> 122986543 | K19: =SUBTOTAL(9,K20:K27) -> 144690054 | L19: =SUBTOTAL(9,L20:L27) -> 21703511
A20: 1 | B20: 1.5. | C20: Investīciju fonds uzņēmējdarbības attīstībai | D20: 1.5.1. | E20: "Ieguldījumi uzņēmējdarbībā, kas atbalsta STEP mērķu sasniegšanu" | F20: 1.5.1.0. | G20: _ | H20: _ | I20: ERAF | J20: 34000000 | K20: 40000000 | L20: 6000000 | M20: EM | N20: 2025 II | O20: 2025 III | P20: 2025 IV | Q20: PLĀNOJAS | R20: 2025 IV | S20: 2026 I
A21: 2 | B21: 2.1. | C21: Klimata pārmaiņu mazināšana un pielāgošanās klimata pārmaiņām | D21: 2.1.1. | E21: “Energoefektivitātes veicināšana un siltumnīcefekta gāzu emisiju samazināšana” | F21: 2.1.1.6. | G21: Pašvaldību ēku energoefektivitātes paaugstināšana | H21: 3 | I21: ERAF | J21: 12961544 | K21: 15248876 | L21: 2287332 | M21: VARAM | N21: 2026 I | O21: 2026 II | P21: 2026 I | Q21: PLĀNOJAS | R21: 2026 II | S21: 2026 II
A22: 2 | B22: 2.6. | C22: Enerģētiskās neatkarība stipirnāšana | D22: 2.6.1. | E22: "Veicināt enerģijas starpsavienojumu un saistītās pārvades, sadales, uzglabāšanas un atbalsta infrastruktūras izbūvi, kā arī kritiskās enerģētikas infrastruktūras aizsardzību un uzlādes infrastruktūras izvēršanu" | F22: 2.6.1.1. (2.1.2. 2.k.) | G22: “Atjaunojamo energoresursu enerģijas veicināšana - biometāns” | H22: _ | I22: ERAF | J22: 4000000 | K22: 4705883 | L22: 705883 | M22: KEM | N22: IPIA izņēmums (UK lēm. 09.06.2025.) | O22: IPIA izņēmums (UK lēm. 09.06.2025.) | P22: 2025 III | Q22: PLĀNOJAS | R22: 2025 IV | S22: 2026 I
A23: 2 | B23: 2.6. | C23: Enerģētiskās neatkarība stipirnāšana | D23: 2.6.1. | E23: "Veicināt enerģijas starpsavienojumu un saistītās pārvades, sadales, uzglabāšanas un atbalsta infrastruktūras izbūvi, kā arī kritiskās enerģētikas infrastruktūras aizsardzību un uzlādes infrastruktūras izvēršanu" | F23: 2.6.1.2. (2.1.4.) | G23: "Attīstīt viedas energosistēmas, tīklus un enerģijas akumulāciju ārpus Eiropas enerģētikas tīkla (TEN-E)" | H23: _ | I23: ERAF | J23: 31000000 | K23: 36470589 | L23: 5470589 | M23: KEM | N23: IPIA izņēmums (UK lēm. 09.06.2025.) | O23: IPIA izņēmums (UK lēm. 09.06.2025.) | P23: 2025 III | Q23: PLĀNOJAS | R23: 2025 IV | S23: 2026 I
A24: 3 | B24: 3.3. | C24: Militārās mobilitātes stiprināšana - dzelzceļš un ostas | D24: 3.3.1. | E24: "Attīstīt noturīgu aizsardzības infrastruktūru, veicinot militāro mobilitāti Eiropas Savienībā | F24: 3.3.1.2. (3.1.1.6. 2.k.) | G24: Lielo ostu divējāda lietojuma publiskās infrastruktūras attīstība | H24: _ | I24: KF | J24: 21325092 | K24: 25088344 | L24: 3763252 | M24: SM | N24: 45379 | O24: 45433 | P24: 2026 I | Q24: PLĀNOJAS | R24: 2026 I | S24: 2026 I
A25: 4 | B25: 4.2. | C25: Izglītība, prasmes un mūžizglītība | D25: 4.2.1. | E25: “Uzlabot vienlīdzīgu piekļuvi iekļaujošiem un kvalitatīviem pakalpojumiem izglītības, mācību un mūžizglītības jomā, attīstot pieejamu infrastruktūru, tostarp, veicinot noturību izglītošanā un mācībā attālinātā un tiešsaistes režīmā” | F25: 4.2.1.1. | G25: Infrastruktūras izveide starpnozaru sadarbības un atbalsta sistēmas izveidei bērnu attīstībai | H25: _ | I25: ERAF | J25: 3697500 | K25: 4350000 | L25: 652500 | M25: VK | N25: IPIA izņēmums (UK lēm. 09.06.2025.) | O25: IPIA izņēmums (UK lēm. 09.06.2025.) | P25: 2025 III | Q25: PLĀNOJAS | R25: 2026 I | S25: 2026 I
A26: 6 | B26: 6.1. | C26: Pāreja uz klimatneitralitāti | D26: 6.1.1. | E26: "Pārejas uz klimatneitralitāti radīto ekonomisko, sociālo un vides seku mazināšana visvairāk skartajos reģionos" | F26: 6.1.1.1. | G26: Atteikšanās no kūdras izmantošanas enerģētikā | H26: 4 | I26: TPF | J26: 2007407 | K26: 2361656 | L26: 354249 | M26: VARAM | N26: 2025 IV | O26: 2025 IV | P26: 2025 III | Q26: PLĀNOJAS | R26: 2025 IV | S26: 2026 I
A27: 6 | B27: 6.1. | C27: Pāreja uz klimatneitralitāti | D27: 6.1.1. | E27: "Pārejas uz klimatneitralitāti radīto ekonomisko, sociālo un vides seku mazināšana visvairāk skartajos reģionos" | F27: 6.1.1.1. | G27: Atteikšanās no kūdras izmantošanas enerģētikā | H27: 5 | I27: TPF | J27: 13995000 | K27: 16464706 | L27: 2469706 | M27: VARAM | N27: 2026 II | O27: 2026 II | P27: 2026 I | Q27: PLĀNOJAS | R27: 2026 II | S27: 2026 III
A28: APSTIPRINĀTS NORMATĪVAIS REGULĒJUMS | I28: Kopā: | J28: =SUBTOTAL(9,J29:J233) -> 4013387665 | K28: =SUBTOTAL(9,K29:K233) -> 4721632622 | L28: =SUBTOTAL(9,L29:L233) -> 708244957
A29: 1 | B29: 1.1. | C29: Pētniecība un prasmes | D29: 1.1.1. | E29: “Pētniecības un inovāciju kapacitātes stiprināšana un progresīvu tehnoloģiju ieviešana kopējā P&A sistēmā” | F29: 1.1.1.1. | G29: Zinātnes politikas ieviešana,vadība un kapacitātes stiprināšana | H29: _ | I29: ERAF | J29: 12239103 | K29: 14398945 | L29: 2159842 | M29: IZM | N29: 45072 | O29: 45107 | P29: 45027 | Q29: APSTIPRINĀTS | R29: 45258 | S29: Atlase beigusies
A30: 1 | B30: 1.1. | C30: Pētniecība un prasmes | D30: 1.1.1. | E30: “Pētniecības un inovāciju kapacitātes stiprināšana un progresīvu tehnoloģiju ieviešana kopējā P&A sistēmā” | F30: 1.1.1.2. | G30: RIS3 pētniecības un inovācijas centri | H30: _ | I30: ERAF | J30: 36098377 | K30: 42468679 | L30: 6370302 | M30: IZM | N30: 45687 | O30: 45747 | P30: 45506 | Q30: APSTIPRINĀTS | R30: 45692 | S30: 45771
A31: 1 | B31: 1.1. | C31: Pētniecība un prasmes | D31: 1.1.1. | E31: “Pētniecības un inovāciju kapacitātes stiprināšana un progresīvu tehnoloģiju ieviešana kopējā P&A sistēmā” | F31: 1.1.1.3. | G31: Praktiskas ievirzes pētījumi | H31: 1 | I31: ERAF | J31: 30770000 | K31: 36200000 | L31: 5430000 | M31: IZM | N31: 45134 | O31: 45271 | P31: 45110 | Q31: APSTIPRINĀTS | R31: 45468 | S31: 45541
A32: 1 | B32: 1.1. | C32: Pētniecība un prasmes | D32: 1.1.1. | E32: “Pētniecības un inovāciju kapacitātes stiprināšana un progresīvu tehnoloģiju ieviešana kopējā P&A sistēmā” | F32: 1.1.1.3. | G32: Praktiskas ievirzes pētījumi | H32: 2 | I32: ERAF | J32: 17476000 | K32: 20560000 | L32: 3084000 | M32: IZM | N32: 45134 | O32: 45271 | P32: 45110 | Q32: APSTIPRINĀTS | R32: 45468 | S32: 2025 IV*******
A33: 1 | B33: 1.1. | C33: Pētniecība un prasmes | D33: 1.1.1. | E33: “Pētniecības un inovāciju kapacitātes stiprināšana un progresīvu tehnoloģiju ieviešana kopējā P&A sistēmā” | F33: 1.1.1.5. | G33: Latvijas pilnvērtīga dalība Apvārsnis Eiropa programmā, tajā skaitā nodrošinot kompleksu atbalsta instrumentu klāstu un sasaisti ar RIS3 specializācijas jomu attīstīšanu | H33: 1 | I33: ERAF | J33: 12200257 | K33: 14353244 | L33: 2152987 | M33: IZM | N33: 45169 | O33: 45216 | P33: 45132 | Q33: APSTIPRINĀTS | R33: 45279 | S33: Atlase beigusies
A34: 1 | B34: 1.1. | C34: Pētniecība un prasmes | D34: 1.1.1. | E34: “Pētniecības un inovāciju kapacitātes stiprināšana un progresīvu tehnoloģiju ieviešana kopējā P&A sistēmā” | F34: 1.1.1.5. | G34: Latvijas pilnvērtīga dalība Apvārsnis Eiropa programmā, tajā skaitā nodrošinot kompleksu atbalsta instrumentu klāstu un sasaisti ar RIS3 specializācijas jomu attīstīšanu | H34: 2 | I34: ERAF | J34: 20114979 | K34: 23664682 | L34: 3549703 | M34: IZM | N34: 45169 | O34: 45216 | P34: 45132 | Q34: APSTIPRINĀTS | R34: 45279 | S34: 45530
A35: 1 | B35: 1.1. | C35: Pētniecība un prasmes | D35: 1.1.1. | E35: “Pētniecības un inovāciju kapacitātes stiprināšana un progresīvu tehnoloģiju ieviešana kopējā P&A sistēmā” | F35: 1.1.1.5. | G35: Latvijas pilnvērtīga dalība Apvārsnis Eiropa programmā, tajā skaitā nodrošinot kompleksu atbalsta instrumentu klāstu un sasaisti ar RIS3 specializācijas jomu attīstīšanu | H35: 3 | I35: ERAF | J35: 13413000 | K35: 15780000 | L35: 2367000 | M35: IZM | N35: 45442 | O35: 45539 | P35: 45401 | Q35: APSTIPRINĀTS | R35: 45496 | S35: Atlase beigusies
A36: 1 | B36: 1.1. | C36: Pētniecība un prasmes | D36: 1.1.1. | E36: “Pētniecības un inovāciju kapacitātes stiprināšana un progresīvu tehnoloģiju ieviešana kopējā P&A sistēmā” | F36: 1.1.1.6. | G36: Zinātniskās darbības digitalizācija un dalība Eiropas Atvērtajā zinātnes mākonī (EOSC market place pakalpojumu iegāde) | H36: _ | I36: ERAF | J36: 18487501 | K36: 21750002 | L36: 3262501 | M36: IZM | N36: 45743 | O36: 45787 | P36: 45653 | Q36: APSTIPRINĀTS | R36: 45839 | S36: 45875
A37: 1 | B37: 1.1. | C37: Pētniecība un prasmes | D37: 1.1.1. | E37: “Pētniecības un inovāciju kapacitātes stiprināšana un progresīvu tehnoloģiju ieviešana kopējā P&A sistēmā” | F37: 1.1.1.7. | G37: Inovāciju granti studentiem | H37: _ | I37: ERAF | J37: 14025000 | K37: 16500000 | L37: 2475000 | M37: IZM | N37: 45562 | O37: 45670 | P37: 45610 | Q37: APSTIPRINĀTS | R37: 45692 | S37: 45722
A38: 1 | B38: 1.1. | C38: Pētniecība un prasmes | D38: 1.1.1. | E38: “Pētniecības un inovāciju kapacitātes stiprināšana un progresīvu tehnoloģiju ieviešana kopējā P&A sistēmā” | F38: 1.1.1.8. | G38: Doktorantūras granti | H38: _ | I38: ERAF | J38: 17173230 | K38: 20203800 | L38: 3030570 | M38: IZM | N38: 45169 | O38: 45216 | P38: 45128 | Q38: APSTIPRINĀTS | R38: 45279 | S38: Atlase beigusies
A39: 1 | B39: 1.1. | C39: Pētniecība un prasmes | D39: 1.1.1. | E39: “Pētniecības un inovāciju kapacitātes stiprināšana un progresīvu tehnoloģiju ieviešana kopējā P&A sistēmā” | F39: 1.1.1.9. | G39: Pēcdoktorantūras pētījumi | H39: _ | I39: ERAF | J39: 43256500 | K39: 50890000 | L39: 7633500 | M39: IZM | N39: 45169 | O39: 45279 | P39: 45138 | Q39: APSTIPRINĀTS | R39: 45300 | S39: Atlase beigusies
A40: 1 | B40: 1.1. | C40: Pētniecība un prasmes | D40: 1.1.2. | E40: “Prasmju attīstīšana viedās specializācijas, industriālās pārejas un uzņēmējdarbības veicināšanai” | F40: 1.1.2.1. | G40: RIS3 industriālās prasmes | H40: _ | I40: ERAF | J40: 7425770 | K40: 8736200 | L40: 1310430 | M40: IZM | N40: 45897 | O40: 2025 III | P40: 45756 | Q40: APSTIPRINĀTS | R40: 45860 | S40: 2025 IV*******
A41: 1 | B41: 1.2. | C41: Atbalsts uzņēmējdarbībai | D41: 1.2.1. | E41: “Pētniecības un inovāciju kapacitātes stiprināšana un progresīvu tehnoloģiju ieviešana uzņēmumiem ” | F41: 1.2.1.1. | G41: Atbalsts jaunu produktu attīstībai un internacionalizācijai | H41: 1 | I41: ERAF | J41: 5633633 | K41: 6627804 | L41: 994171 | M41: EM | N41: 45351 | O41: 45687 | P41: 45180 | Q41: APSTIPRINĀTS | R41: 45496 | S41: Atlase beigusies
A42: 1 | B42: 1.2. | C42: Atbalsts uzņēmējdarbībai | D42: 1.2.1. | E42: “Pētniecības un inovāciju kapacitātes stiprināšana un progresīvu tehnoloģiju ieviešana uzņēmumiem ” | F42: 1.2.1.1. | G42: Atbalsts jaunu produktu attīstībai un internacionalizācijai | H42: 2 | I42: ERAF | J42: 8312810 | K42: 9779777 | L42: 1466967 | M42: EM | N42: 45407 | O42: 45510 | P42: 45359 | Q42: APSTIPRINĀTS | R42: 45629 | S42: 45719
A43: 1 | B43: 1.2. | C43: Atbalsts uzņēmējdarbībai | D43: 1.2.1. | E43: “Pētniecības un inovāciju kapacitātes stiprināšana un progresīvu tehnoloģiju ieviešana uzņēmumiem ” | F43: 1.2.1.1. | G43: Atbalsts jaunu produktu attīstībai un internacionalizācijai | H43: 3 | I43: ERAF | J43: 24960674 | K43: 29365499 | L43: 4404825 | M43: EM | N43: 45562 | O43: 45680 | P43: 45436 | Q43: APSTIPRINĀTS | R43: 45587 | S43: 45715
A44: 1 | B44: 1.2. | C44: Atbalsts uzņēmējdarbībai | D44: 1.2.1. | E44: “Pētniecības un inovāciju kapacitātes stiprināšana un progresīvu tehnoloģiju ieviešana uzņēmumiem ” | F44: 1.2.1.2. | G44: Produktivitātes aizdevumi (t.sk., ar kapitāla atlaidi) inovatīvām iekārtām, pētniecībai un attīstībai, tehnoloģiju pārnesei | H44: _ | I44: ERAF | J44: 49621122 | K44: 58377791 | L44: 8756669 | M44: EM | N44: N/A | O44: N/A | P44: 45356 | Q44: APSTIPRINĀTS | R44: 45664 | S44: N/A, jo FI
A45: 1 | B45: 1.2. | C45: Atbalsts uzņēmējdarbībai | D45: 1.2.1. | E45: “Pētniecības un inovāciju kapacitātes stiprināšana un progresīvu tehnoloģiju ieviešana uzņēmumiem ” | F45: 1.2.1.3. | G45: Uzņēmuma atbalsts dalībai kapitāla tirgos | H45: _ | I45: ERAF | J45: 1413178 | K45: 1662563 | L45: 249385 | M45: EM | N45: 45197 | O45: 45232 | P45: 44942 | Q45: APSTIPRINĀTS | R45: 45216 | S45: 45568
A46: 1 | B46: 1.2. | C46: Atbalsts uzņēmējdarbībai | D46: 1.2.1. | E46: “Pētniecības un inovāciju kapacitātes stiprināšana un progresīvu tehnoloģiju ieviešana uzņēmumiem ” | F46: 1.2.1.4. | G46: Atbalsts tehnoloģiju pārneses sistēmas pilnveidošanai | H46: _ | I46: ERAF | J46: 19811048 | K46: 23307116 | L46: 3496068 | M46: EM | N46: 45022 | O46: 45066 | P46: 44879 | Q46: APSTIPRINĀTS | R46: 45237 | S46: Atlase beigusies
A47: 1 | B47: 1.2. | C47: Atbalsts uzņēmējdarbībai | D47: 1.2.2. | E47: “Izmantot digitalizācijas priekšrocības uzņēmējdarbības attīstībai ” | F47: 1.2.2.1. | G47: Atbalsts procesu digitalizācijai komercdarbībā | H47: _ | I47: ERAF | J47: 19769234 | K47: 23257924 | L47: 3488690 | M47: EM | N47: 45596 | O47: 45667 | P47: 45415 | Q47: APSTIPRINĀTS | R47: 45622 | S47: Atlase beigusies
A48: 1 | B48: 1.2. | C48: Atbalsts uzņēmējdarbībai | D48: 1.2.3. | E48: "Veicināt ilgtspējīgu izaugsmi, konkurētspēju un darba vietu radīšanu MVU, tostarp ar produktīvām investīcijām” | F48: 1.2.3.1. | G48: Atbalsts MVU inovatīvas uzņēmējdarbības attīstībai | H48: _ | I48: ERAF | J48: 74161672 | K48: 87249026 | L48: 13087354 | M48: EM | N48: 44938 | O48: 44992 | P48: 44677 | Q48: APSTIPRINĀTS | R48: 45120 | S48: Atlase beigusies
A49: 1 | B49: 1.2. | C49: Atbalsts uzņēmējdarbībai | D49: 1.2.3. | E49: "Veicināt ilgtspējīgu izaugsmi, konkurētspēju un darba vietu radīšanu MVU, tostarp ar produktīvām investīcijām” | F49: 1.2.3.2. | G49: Iespējkapitāla ieguldījumi | H49: _ | I49: ERAF | J49: 60678205 | K49: 71386124 | L49: 10707919 | M49: EM | N49: N/A | O49: N/A | P49: 44804 | Q49: APSTIPRINĀTS | R49: 45153 | S49: N/A, jo FI
A50: 1 | B50: 1.2. | C50: Atbalsts uzņēmējdarbībai | D50: 1.2.3. | E50: "Veicināt ilgtspējīgu izaugsmi, konkurētspēju un darba vietu radīšanu MVU, tostarp ar produktīvām investīcijām” | F50: 1.2.3.3. | G50: Starta, izaugsmes aizdevumi | H50: _ | I50: ERAF | J50: 24307956 | K50: 28597596 | L50: 4289640 | M50: EM | N50: N/A | O50: N/A | P50: 44973 | Q50: APSTIPRINĀTS | R50: 45188 | S50: N/A, jo FI
A51: 1 | B51: 1.2. | C51: Atbalsts uzņēmējdarbībai | D51: 1.2.3. | E51: "Veicināt ilgtspējīgu izaugsmi, konkurētspēju un darba vietu radīšanu MVU, tostarp ar produktīvām investīcijām” | F51: 1.2.3.4. | G51: Garantijas, portfeļgarantijas pilna cikla uzņēmējdarbībai | H51: _ | I51: ERAF | J51: 29361690 | K51: 34543165 | L51: 5181475 | M51: EM | N51: N/A | O51: N/A | P51: 44973 | Q51: APSTIPRINĀTS | R51: 45174 | S51: N/A, jo FI
A52: 1 | B52: 1.2. | C52: Atbalsts uzņēmējdarbībai | D52: 1.2.3. | E52: "Veicināt ilgtspējīgu izaugsmi, konkurētspēju un darba vietu radīšanu MVU, tostarp ar produktīvām investīcijām” | F52: 1.2.3.5. | G52: Aizdevumi, produktivitātes kāpināšanai (investīcijas un apgrozāmie līdzekļi) | H52: _ | I52: ERAF | J52: 23853429 | K52: 28062858 | L52: 4209429 | M52: EM | N52: N/A | O52: N/A | P52: 44973 | Q52: APSTIPRINĀTS | R52: 45300 | S52: N/A, jo FI
A53: 1 | B53: 1.2. | C53: Atbalsts uzņēmējdarbībai | D53: 1.2.3. | E53: “Pētniecības un inovāciju kapacitātes stiprināšana un progresīvu tehnoloģiju ieviešana uzņēmumiem ” | F53: 1.2.3.6. | G53: Tūrisma produktu attīstības programma | H53: 1 | I53: ERAF | J53: 423953 | K53: 498769 | L53: 74816 | M53: EM | N53: 45021 | O53: 45145 | P53: 44813 | Q53: APSTIPRINĀTS | R53: 45160 | S53: Atlase beigusies
A54: 1 | B54: 1.2. | C54: Atbalsts uzņēmējdarbībai | D54: 1.2.3. | E54: “Pētniecības un inovāciju kapacitātes stiprināšana un progresīvu tehnoloģiju ieviešana uzņēmumiem ” | F54: 1.2.3.6. | G54: Tūrisma produktu attīstības programma | H54: 2 | I54: ERAF | J54: 4186539 | K54: 4925340 | L54: 738801 | M54: EM | N54: 45021 | O54: 45145 | P54: 44813 | Q54: APSTIPRINĀTS | R54: 45160 | S54: Atlase beigusies
A55: 1 | B55: 1.3. | C55: Digitalizācija | D55: 1.3.1. | E55: “Izmantot digitalizācijas priekšrocības iedzīvotājiem, uzņēmumiem, pētniecības organizācijām un publiskajām iestādēm” | F55: 1.3.1.1. | G55: IKT risinājumu un pakalpojumu attīstība un iespēju radīšana privātajam sektoram | H55: _ | I55: ERAF | J55: 134593934 | K55: 158345805 | L55: 23751871 | M55: VARAM | N55: 45281 | O55: 45331 | P55: 45274 | Q55: APSTIPRINĀTS | R55: 45447 | S55: 45687
A56: 1 | B56: 1.3. | C56: Digitalizācija | D56: 1.3.1. | E56: “Izmantot digitalizācijas priekšrocības iedzīvotājiem, uzņēmumiem, pētniecības organizācijām un publiskajām iestādēm” | F56: 1.3.1.2. | G56: Inovācijas laboratorija digitalizācijas priekšrocību izmantošanai | H56: _ | I56: ERAF | J56: 1094772 | K56: 1287968 | L56: 193196 | M56: VK | N56: 45071 | O56: 45111 | P56: 45092 | Q56: APSTIPRINĀTS | R56: 45195 | S56: Atlase beigusies
A57: 1 | B57: 1.4. | C57: Digitālā savienojamība | D57: 1.4.1. | E57: “Uzlabot digitālo savienojamību” | F57: 1.4.1.4. | G57: Vienotā kiberdrošības infrastruktūra | H57: _ | I57: ERAF | J57: 3697500 | K57: 4350000 | L57: 652500 | M57: SM | N57: 45072 | O57: 45111 | P57: 45092 | Q57: APSTIPRINĀTS | R57: 45433 | S57: Atlase beigusies
A58: 2 | B58: 2.1. | C58: Klimata pārmaiņu mazināšana un pielāgošanās klimata pārmaiņām | D58: 2.1.1. | E58: “Energoefektivitātes veicināšana un siltumnīcefekta gāzu emisiju samazināšana” | F58: 2.1.1.1. | G58: Energoefektivitātes paaugstināšana dzīvojamās ēkās, t.sk. attīstot ESKO tirgu (daudzīvokļu, privātās un neliela dzīvokļu skaita ēku kompleksos) | H58: 1 | I58: ERAF | J58: 2550000 | K58: 3000000 | L58: 450000 | M58: EM | N58: N/A | O58: N/A | P58: 45470 | Q58: APSTIPRINĀTS | R58: 45643 | S58: N/A, jo FI
A59: 2 | B59: 2.1. | C59: Klimata pārmaiņu mazināšana un pielāgošanās klimata pārmaiņām | D59: 2.1.1. | E59: “Energoefektivitātes veicināšana un siltumnīcefekta gāzu emisiju samazināšana” | F59: 2.1.1.1. | G59: Energoefektivitātes paaugstināšana dzīvojamās ēkās, t.sk. attīstot ESKO tirgu (daudzīvokļu, privātās un neliela dzīvokļu skaita ēku kompleksos) | H59: 2 | I59: ERAF | J59: 144685431 | K59: 170218155 | L59: 25532724 | M59: EM | N59: N/A | O59: N/A | P59: 45470 | Q59: APSTIPRINĀTS | R59: 45643 | S59: N/A, jo FI
A60: 2 | B60: 2.1. | C60: Klimata pārmaiņu mazināšana un pielāgošanās klimata pārmaiņām | D60: 2.1.1. | E60: “Energoefektivitātes veicināšana un siltumnīcefekta gāzu emisiju samazināšana” | F60: 2.1.1.2. | G60: AER izmantošana un energoefektivitātes paaugstināšana rūpniecībā un komersantos | H60: _ | I60: ERAF | J60: 6639649 | K60: 7811352 | L60: 1171703 | M60: EM | N60: N/A | O60: N/A | P60: 45636 | Q60: APSTIPRINĀTS | R60: 45727 | S60: N/A, jo FI
A61: 2 | B61: 2.1. | C61: Klimata pārmaiņu mazināšana un pielāgošanās klimata pārmaiņām | D61: 2.1.1. | E61: “Energoefektivitātes veicināšana un siltumnīcefekta gāzu emisiju samazināšana” | F61: 2.1.1.3. | G61: AER izmantošana un energoefektivitātes paaugstināšana lokālajā un individuālajā siltumapgādē un aukstumapgādē | H61: 1 | I61: ERAF | J61: 271188 | K61: 319045 | L61: 47857 | M61: EM | N61: Posmotie projekti (KNR 118.pants - ar atlasi) | O61: 45510 | P61: Posmotie projekti (KNR 118.pants - ar atlasi) | Q61: APSTIPRINĀTS | R61: 45447 | S61: Atlase beigusies
A62: 2 | B62: 2.1. | C62: Klimata pārmaiņu mazināšana un pielāgošanās klimata pārmaiņām | D62: 2.1.1. | E62: “Energoefektivitātes veicināšana un siltumnīcefekta gāzu emisiju samazināšana” | F62: 2.1.1.3. | G62: AER izmantošana un energoefektivitātes paaugstināšana centralizētajā siltumapgādē un aukstumapgādē | H62: 2 | I62: ERAF | J62: 47440102 | K62: 55811885 | L62: 8371783 | M62: KEM | N62: N/A | O62: N/A | P62: 45610 | Q62: APSTIPRINĀTS | R62: 45664 | S62: N/A, jo FI
A63: 2 | B63: 2.1. | C63: Klimata pārmaiņu mazināšana un pielāgošanās klimata pārmaiņām | D63: 2.1.1. | E63: “Energoefektivitātes veicināšana un siltumnīcefekta gāzu emisiju samazināšana” | F63: 2.1.1.4. | G63: Energoefektivitātes paaugstināšana valsts ēkās | H63: _ | I63: ERAF | J63: 86441736 | K63: 101696160 | L63: 15254424 | M63: EM | N63: 45533 | O63: 45713 | P63: 45462 | Q63: APSTIPRINĀTS | R63: 45643 | S63: 45741
A64: 2 | B64: 2.1. | C64: Klimata pārmaiņu mazināšana un pielāgošanās klimata pārmaiņām | D64: 2.1.1. | E64: “Energoefektivitātes veicināšana un siltumnīcefekta gāzu emisiju samazināšana” | F64: 2.1.1.5. | G64: Klimata neitrāli risinājumi profesionālās izglītības iestāžu un koledžu izglītības programmās, vidē un infrastruktūrā | H64: _ | I64: ERAF | J64: 16269000 | K64: 19140000 | L64: 2871000 | M64: IZM | N64: IPIA izņēmums (UK lēm. 23.04.2024) | O64: IPIA izņēmums (UK lēm. 23.04.2024) | P64: 45454 | Q64: APSTIPRINĀTS | R64: 45552 | S64: Atlase beigusies
A65: 2 | B65: 2.1. | C65: Klimata pārmaiņu mazināšana un pielāgošanās klimata pārmaiņām | D65: 2.1.1. | E65: “Energoefektivitātes veicināšana un siltumnīcefekta gāzu emisiju samazināšana” | F65: 2.1.1.6. | G65: Pašvaldību ēku energoefektivitātes paaugstināšana | H65: 1 | I65: ERAF | J65: 3093705 | K65: 3639653 | L65: 545948 | M65: VARAM | N65: IPIA izņēmums (UK lēm. 23.04.2024) | O65: IPIA izņēmums (UK lēm. 23.04.2024) | P65: 45397 | Q65: APSTIPRINĀTS | R65: 45489 | S65: Atlase beigusies
A66: 2 | B66: 2.1. | C66: Klimata pārmaiņu mazināšana un pielāgošanās klimata pārmaiņām | D66: 2.1.1. | E66: “Energoefektivitātes veicināšana un siltumnīcefekta gāzu emisiju samazināšana” | F66: 2.1.1.6. | G66: Pašvaldību ēku energoefektivitātes paaugstināšana | H66: 2 | I66: ERAF | J66: 5190824 | K66: 6106852 | L66: 916028 | M66: VARAM | N66: 45498 | O66: 45538 | P66: 45503 | Q66: APSTIPRINĀTS | R66: 45601 | S66: Atlase beigusies
A67: 2 | B67: 2.1. | C67: Klimata pārmaiņu mazināšana un pielāgošanās klimata pārmaiņām | D67: 2.1.1. | E67: “Energoefektivitātes veicināšana un siltumnīcefekta gāzu emisiju samazināšana” | F67: 2.1.1.7. | G67: Zinātniskās infrastruktūras energoefektivitātes pasākumi | H67: _ | I67: ERAF | J67: 11092500 | K67: 13050000 | L67: 1957500 | M67: EM | N67: 45533 | O67: 45712 | P67: 45462 | Q67: APSTIPRINĀTS | R67: 45643 | S67: 45747
A68: 2 | B68: 2.1. | C68: Klimata pārmaiņu mazināšana un pielāgošanās klimata pārmaiņām | D68: 2.1.1. | E68: “Energoefektivitātes veicināšana un siltumnīcefekta gāzu emisiju samazināšana” | F68: 2.1.1.8. | G68: Energoefektivitāti veicinoši pasākumi kultūras infrastruktūrā | H68: _ | I68: ERAF | J68: 29580000 | K68: 34800000 | L68: 5220000 | M68: EM | N68: 45743 | O68: 45805 | P68: 45491 | Q68: APSTIPRINĀTS | R68: 45664 | S68: 45833
A69: 2 | B69: 2.1. | C69: Klimata pārmaiņu mazināšana un pielāgošanās klimata pārmaiņām | D69: 2.1.2. | E69: “Atjaunojamo energoresursu enerģijas veicināšana - biometāns” | F69: 2.1.2.0. | G69: _ | H69: 1 | I69: KF | J69: 18246193 | K69: 21466110 | L69: 3219917 | M69: KEM | N69: N/A | O69: N/A | P69: 45604 | Q69: APSTIPRINĀTS | R69: 45664 | S69: N/A, jo FI
A70: 2 | B70: 2.1. | C70: Klimata pārmaiņu mazināšana un pielāgošanās klimata pārmaiņām | D70: 2.1.3. | E70: “Veicināt pielāgošanos klimata pārmaiņām, risku novēršanu un noturību pret katastrofām” | F70: 2.1.3.1. | G70: Pašvaldību pielāgošanās klimata pārmaiņām | H70: 1 | I70: ERAF | J70: 33892306 | K70: 39873302 | L70: 5980996 | M70: VARAM | N70: 45197 | O70: 45252 | P70: 45210 | Q70: APSTIPRINĀTS | R70: 45419 | S70: 45469
A71: 2 | B71: 2.1. | C71: Klimata pārmaiņu mazināšana un pielāgošanās klimata pārmaiņām | D71: 2.1.3. | E71: “Veicināt pielāgošanos klimata pārmaiņām, risku novēršanu un noturību pret katastrofām” | F71: 2.1.3.2. | G71: Nacionālas nozīmes plūdu un krasta erozijas pasākumi | H71: 1 | I71: ERAF | J71: 14391596 | K71: 16931290 | L71: 2539694 | M71: VARAM | N71: 45098 | O71: 45107 | P71: 45072 | Q71: APSTIPRINĀTS | R71: 45104 | S71: Atlase beigusies
A72: 2 | B72: 2.1. | C72: Klimata pārmaiņu mazināšana un pielāgošanās klimata pārmaiņām | D72: 2.1.3. | E72: “Veicināt pielāgošanos klimata pārmaiņām, risku novēršanu un noturību pret katastrofām” | F72: 2.1.3.2. | G72: Nacionālas nozīmes plūdu un krasta erozijas pasākumi | H72: 2 | I72: ERAF | J72: 34838404 | K72: 40986358 | L72: 6147954 | M72: VARAM | N72: 45316 | O72: 45366 | P72: 45335 | Q72: APSTIPRINĀTS | R72: 45412 | S72: 45456
A73: 2 | B73: 2.1. | C73: Klimata pārmaiņu mazināšana un pielāgošanās klimata pārmaiņām | D73: 2.1.3. | E73: “Veicināt pielāgošanos klimata pārmaiņām, risku novēršanu un noturību pret katastrofām” | F73: 2.1.3.3. | G73: Katastrofu risku mazināšanas pasākumi | H73: 1 | I73: ERAF | J73: 2918429 | K73: 3433446 | L73: 515017 | M73: IeM | N73: 45021 | O73: 45111 | P73: 45012 | Q73: APSTIPRINĀTS | R73: 45216 | S73: Atlase beigusies
A74: 2 | B74: 2.1. | C74: Klimata pārmaiņu mazināšana un pielāgošanās klimata pārmaiņām | D74: 2.1.3. | E74: “Veicināt pielāgošanos klimata pārmaiņām, risku novēršanu un noturību pret katastrofām” | F74: 2.1.3.3. | G74: Katastrofu risku mazināšanas pasākumi | H74: 2 | I74: ERAF | J74: 0 | K74: 0 | L74: 0 | M74: IeM | N74: IPIA izņēmums (UK lēm. 23.04.2024) | O74: IPIA izņēmums (UK lēm. 23.04.2024) | P74: 45664 | Q74: APSTIPRINĀTS | R74: 45846 | S74: Atlase beigusies
A75: 2 | B75: 2.1. | C75: Klimata pārmaiņu mazināšana un pielāgošanās klimata pārmaiņām | D75: 2.1.3. | E75: “Veicināt pielāgošanos klimata pārmaiņām, risku novēršanu un noturību pret katastrofām” | F75: 2.1.3.3. | G75: Katastrofu risku mazināšanas pasākumi | H75: 3 | I75: ERAF | J75: 47206634 | K75: 55537217 | L75: 8330583 | M75: IeM | N75: 45225 | O75: 45265 | P75: 45239 | Q75: APSTIPRINĀTS | R75: 45342 | S75: 45435
A76: 2 | B76: 2.2. | C76: Vides aizsardzība un attīstība | D76: 2.2.1. | E76: “Veicināt ilgtspējīgu ūdenssaimniecību” | F76: 2.2.1.1. | G76: Notekūdeņu un to dūņu apsaimniekošanas sistēmas attīstība piesārņojuma samazināšanai | H76: 1 | I76: ERAF | J76: 30396747 | K76: 35760879 | L76: 5364132 | M76: VARAM | N76: 45316 | O76: 45434 | P76: 45330 | Q76: APSTIPRINĀTS | R76: 45419 | S76: 45462
A77: 2 | B77: 2.2. | C77: Vides aizsardzība un attīstība | D77: 2.2.1. | E77: “Veicināt ilgtspējīgu ūdenssaimniecību” | F77: 2.2.1.1. | G77: Notekūdeņu un to dūņu apsaimniekošanas sistēmas attīstība piesārņojuma samazināšanai | H77: 2 | I77: ERAF | J77: 22309636 | K77: 26246631 | L77: 3936995 | M77: VARAM | N77: IPIA izņēmums (UK lēm. 09.06.2025.) | O77: IPIA izņēmums (UK lēm. 09.06.2025.) | P77: 45758 | Q77: APSTIPRINĀTS | R77: 45839 | S77: 45848
A78: 2 | B78: 2.2. | C78: Vides aizsardzība un attīstība | D78: 2.2.1. | E78: “Veicināt ilgtspējīgu ūdenssaimniecību” | F78: 2.2.1.1. | G78: Notekūdeņu un to dūņu apsaimniekošanas sistēmas attīstība piesārņojuma samazināšanai | H78: 3 | I78: ERAF | J78: 21453617 | K78: 25239550 | L78: 3785933 | M78: VARAM | N78: 45869 | O78: 45916 | P78: 45813 | Q78: APSTIPRINĀTS | R78: 45860 | S78: 2025 IV
A79: 2 | B79: 2.2. | C79: Vides aizsardzība un attīstība | D79: 2.2.2. | E79: “Pārejas uz aprites ekonomiku veicināšana” | F79: 2.2.2.1. | G79: Atkritumu šķirošana, pārstrāde un reģenerācija | H79: 1 | I79: KF | J79: 20000000 | K79: 23529412 | L79: 3529412 | M79: VARAM | N79: 45197 | O79: 45252 | P79: 45209 | Q79: APSTIPRINĀTS | R79: 45377 | S79: Atlase beigusies
A80: 2 | B80: 2.2. | C80: Vides aizsardzība un attīstība | D80: 2.2.2. | E80: “Pārejas uz aprites ekonomiku veicināšana” | F80: 2.2.2.1. | G80: Atkritumu šķirošana, pārstrāde un reģenerācija | H80: 2 | I80: KF | J80: 20000000 | K80: 23529412 | L80: 3529412 | M80: VARAM | N80: 45596 | O80: 45643 | P80: 45551 | Q80: APSTIPRINĀTS | R80: 45643 | S80: 45686
A81: 2 | B81: 2.2. | C81: Vides aizsardzība un attīstība | D81: 2.2.2. | E81: “Pārejas uz aprites ekonomiku veicināšana” | F81: 2.2.2.1. | G81: Atkritumu šķirošana, pārstrāde un reģenerācija | H81: 3 | I81: KF | J81: 25030000 | K81: 29447059 | L81: 4417059 | M81: VARAM | N81: 45596 | O81: 45643 | P81: 45551 | Q81: APSTIPRINĀTS | R81: 45643 | S81: 45786
A82: 2 | B82: 2.2. | C82: Vides aizsardzība un attīstība | D82: 2.2.2. | E82: “Pārejas uz aprites ekonomiku veicināšana” | F82: 2.2.2.2. | G82: Atkritumu dalītā vākšana | H82: 1 | I82: KF | J82: 1598349 | K82: 1880411 | L82: 282062 | M82: VARAM | N82: 45225 | O82: 45278 | P82: 45238 | Q82: APSTIPRINĀTS | R82: 45377 | S82: Atlase beigusies
A83: 2 | B83: 2.2. | C83: Vides aizsardzība un attīstība | D83: 2.2.2. | E83: “Pārejas uz aprites ekonomiku veicināšana” | F83: 2.2.2.2. | G83: Atkritumu dalītā vākšana | H83: 2 | I83: KF | J83: 3318280 | K83: 3903859 | L83: 585579 | M83: VARAM | N83: 45379 | O83: 45447 | P83: 45385 | Q83: APSTIPRINĀTS | R83: 45545 | S83: 45580
A84: 2 | B84: 2.2. | C84: Vides aizsardzība un attīstība | D84: 2.2.3. | E84: “Uzlabot dabas aizsardzību un bioloģisko daudzveidību, “zaļo” infrastruktūru, it īpaši pilsētvidē, un samazināt piesārņojumu” | F84: 2.2.3.2. | G84: Vides izglītību veicinoši pasākumi sabiedrības informētībai un prasmju attīstībai | H84: _ | I84: ERAF | J84: 10428625 | K84: 12268971 | L84: 1840346 | M84: VARAM | N84: 45197 | O84: 45454 | P84: 45209 | Q84: APSTIPRINĀTS | R84: 45482 | S84: 45513
A85: 2 | B85: 2.2. | C85: Vides aizsardzība un attīstība | D85: 2.2.3. | E85: “Uzlabot dabas aizsardzību un bioloģisko daudzveidību, “zaļo” infrastruktūru, it īpaši pilsētvidē, un samazināt piesārņojumu” | F85: 2.2.3.3. | G85: Pasākumi bioloģiskās daudzveidības veicināšanai un saglabāšanai | H85: 1 | I85: ERAF | J85: 2500000 | K85: 2941177 | L85: 441177 | M85: VARAM | N85: 45225 | O85: 45265 | P85: 45238 | Q85: APSTIPRINĀTS | R85: 45377 | S85: Atlase beigusies
A86: 2 | B86: 2.2. | C86: Vides aizsardzība un attīstība | D86: 2.2.3. | E86: “Uzlabot dabas aizsardzību un bioloģisko daudzveidību, “zaļo” infrastruktūru, it īpaši pilsētvidē, un samazināt piesārņojumu” | F86: 2.2.3.3. | G86: Pasākumi bioloģiskās daudzveidības veicināšanai un saglabāšanai | H86: 2 | I86: ERAF | J86: 1694262 | K86: 1993250 | L86: 298988 | M86: VARAM | N86: 45225 | O86: 45265 | P86: 45238 | Q86: APSTIPRINĀTS | R86: 45377 | S86: Atlase beigusies
A87: 2 | B87: 2.2. | C87: Vides aizsardzība un attīstība | D87: 2.2.3. | E87: “Uzlabot dabas aizsardzību un bioloģisko daudzveidību, “zaļo” infrastruktūru, it īpaši pilsētvidē, un samazināt piesārņojumu” | F87: 2.2.3.3. | G87: Pasākumi bioloģiskās daudzveidības veicināšanai un saglabāšanai | H87: 3 | I87: ERAF | J87: 16000000 | K87: 18823530 | L87: 2823530 | M87: VARAM | N87: 45624 | O87: 45693 | P87: 45632 | Q87: APSTIPRINĀTS | R87: 45706 | S87: 45737
A88: 2 | B88: 2.2. | C88: Vides aizsardzība un attīstība | D88: 2.2.3. | E88: “Uzlabot dabas aizsardzību un bioloģisko daudzveidību, “zaļo” infrastruktūru, it īpaši pilsētvidē, un samazināt piesārņojumu” | F88: 2.2.3.3. | G88: Pasākumi bioloģiskās daudzveidības veicināšanai un saglabāšanai | H88: 4 | I88: ERAF | J88: 9083238 | K88: 10686163 | L88: 1602925 | M88: VARAM | N88: 45624 | O88: 45693 | P88: 45632 | Q88: APSTIPRINĀTS | R88: 45706 | S88: 45748
A89: 2 | B89: 2.2. | C89: Vides aizsardzība un attīstība | D89: 2.2.3. | E89: “Uzlabot dabas aizsardzību un bioloģisko daudzveidību, “zaļo” infrastruktūru, it īpaši pilsētvidē, un samazināt piesārņojumu” | F89: 2.2.3.4. | G89: Vides monitoringa attīstība harmonizētai vides un klimata datu informācijas nodrošināšanai | H89: 1 | I89: ERAF | J89: 9243750 | K89: 10875000 | L89: 1631250 | M89: VARAM | N89: 45021 | O89: 45078 | P89: 45028 | Q89: APSTIPRINĀTS | R89: 45120 | S89: Atlase beigusies
A90: 2 | B90: 2.2. | C90: Vides aizsardzība un attīstība | D90: 2.2.3. | E90: “Uzlabot dabas aizsardzību un bioloģisko daudzveidību, “zaļo” infrastruktūru, it īpaši pilsētvidē, un samazināt piesārņojumu” | F90: 2.2.3.5. | G90: Gaisa piesārņojuma samazināšanas pasākumi pašvaldībās | H90: 1 | I90: ERAF | J90: 4225717 | K90: 4971432 | L90: 745715 | M90: VARAM | N90: 45169 | O90: 45205 | P90: 45174 | Q90: APSTIPRINĀTS | R90: 45307 | S90: Atlase beigusies
A91: 2 | B91: 2.2. | C91: Vides aizsardzība un attīstība | D91: 2.2.3. | E91: “Uzlabot dabas aizsardzību un bioloģisko daudzveidību, “zaļo” infrastruktūru, it īpaši pilsētvidē, un samazināt piesārņojumu” | F91: 2.2.3.5. | G91: Gaisa piesārņojuma samazināšanas pasākumi pašvaldībās | H91: 2 | I91: ERAF | J91: 845143 | K91: 994286 | L91: 149143 | M91: VARAM | N91: 45169 | O91: 45205 | P91: 45174 | Q91: APSTIPRINĀTS | R91: 45307 | S91: Atlase beigusies
A92: 2 | B92: 2.2. | C92: Vides aizsardzība un attīstība | D92: 2.2.3. | E92: “Uzlabot dabas aizsardzību un bioloģisko daudzveidību, “zaļo” infrastruktūru, it īpaši pilsētvidē, un samazināt piesārņojumu” | F92: 2.2.3.6. | G92: Gaisa piesārņojumu mazinošu pasākumu īstenošana, uzlabojot mājsaimniecību siltumapgādes sistēmas | H92: 1 | I92: ERAF | J92: 74812 | K92: 88015 | L92: 13203 | M92: VARAM | N92: 44833 | O92: 44952 | P92: 44855 | Q92: APSTIPRINĀTS | R92: 45021 | S92: Atlase beigusies
A93: 2 | B93: 2.2. | C93: Vides aizsardzība un attīstība | D93: 2.2.3. | E93: “Uzlabot dabas aizsardzību un bioloģisko daudzveidību, “zaļo” infrastruktūru, it īpaši pilsētvidē, un samazināt piesārņojumu” | F93: 2.2.3.6. | G93: Gaisa piesārņojumu mazinošu pasākumu īstenošana, uzlabojot mājsaimniecību siltumapgādes sistēmas | H93: 2 | I93: ERAF | J93: 1773172 | K93: 2086085 | L93: 312913 | M93: VARAM | N93: 44833 | O93: 44952 | P93: 44855 | Q93: APSTIPRINĀTS | R93: 45021 | S93: Atlase beigusies
A94: 2 | B94: 2.2. | C94: Vides aizsardzība un attīstība | D94: 2.2.3. | E94: “Uzlabot dabas aizsardzību un bioloģisko daudzveidību, “zaļo” infrastruktūru, it īpaši pilsētvidē, un samazināt piesārņojumu” | F94: 2.2.3.6. | G94: Gaisa piesārņojumu mazinošu pasākumu īstenošana, uzlabojot mājsaimniecību siltumapgādes sistēmas | H94: 3 | I94: ERAF | J94: 441289 | K94: 519164 | L94: 77875 | M94: VARAM | N94: 44833 | O94: 44952 | P94: 44855 | Q94: APSTIPRINĀTS | R94: 45021 | S94: Atlase beigusies
A95: 2 | B95: 2.2. | C95: Vides aizsardzība un attīstība | D95: 2.2.3. | E95: “Uzlabot dabas aizsardzību un bioloģisko daudzveidību, “zaļo” infrastruktūru, it īpaši pilsētvidē, un samazināt piesārņojumu” | F95: 2.2.3.6. | G95: Gaisa piesārņojumu mazinošu pasākumu īstenošana, uzlabojot mājsaimniecību siltumapgādes sistēmas | H95: 4 | I95: ERAF | J95: 2173791 | K95: 2557402 | L95: 383611 | M95: VARAM | N95: 44833 | O95: 44952 | P95: 44855 | Q95: APSTIPRINĀTS | R95: 45021 | S95: 45352
A96: 2 | B96: 2.2. | C96: Vides aizsardzība un attīstība | D96: 2.2.3. | E96: “Uzlabot dabas aizsardzību un bioloģisko daudzveidību, “zaļo” infrastruktūru, it īpaši pilsētvidē, un samazināt piesārņojumu” | F96: 2.2.3.6. | G96: Gaisa piesārņojumu mazinošu pasākumu īstenošana, uzlabojot mājsaimniecību siltumapgādes sistēmas | H96: 5 | I96: ERAF | J96: 8738786 | K96: 10280925 | L96: 1542139 | M96: VARAM | N96: 44833 | O96: 44952 | P96: 44855 | Q96: APSTIPRINĀTS | R96: 45021 | S96: 45870
A97: 2 | B97: 2.2. | C97: Vides aizsardzība un attīstība | D97: 2.2.3. | E97: “Uzlabot dabas aizsardzību un bioloģisko daudzveidību, “zaļo” infrastruktūru, it īpaši pilsētvidē, un samazināt piesārņojumu” | F97: 2.2.3.7. | G97: Gaisa piesārņojošo vielu emisiju samazināšana pašvaldību siltumapgādē | H97: _ | I97: ERAF | J97: 2456090 | K97: 2889518 | L97: 433428 | M97: VARAM | N97: 45169 | O97: 45195 | P97: 45175 | Q97: APSTIPRINĀTS | R97: 45328 | S97: 45363
A98: 2 | B98: 2.3. | C98: Ilgtspējīga mobilitāte | D98: 2.3.1. | E98: “Veicināt ilgtspējīgu daudzveidu mobilitāti pilsētās” | F98: 2.3.1.2. | G98: Multimodāls sabiedriskā transporta tīkls (Stacija 2.0) | H98: 1 | I98: ERAF | J98: 10840775 | K98: 12753853 | L98: 1913078 | M98: SM | N98: 45463 | O98: 45553 | P98: 45531 | Q98: APSTIPRINĀTS | R98: 45615 | S98: Atlase beigusies
A99: 2 | B99: 2.3. | C99: Ilgtspējīga mobilitāte | D99: 2.3.1. | E99: “Veicināt ilgtspējīgu daudzveidu mobilitāti pilsētās” | F99: 2.3.1.2. | G99: Multimodāls sabiedriskā transporta tīkls (Stacija 2.0) | H99: 2 | I99: ERAF | J99: 52663505 | K99: 61957065 | L99: 9293560 | M99: SM | N99: 45463 | O99: 45553 | P99: 45531 | Q99: APSTIPRINĀTS | R99: 45615 | S99: 2025 IV*******
A100: 2 | B100: 2.3. | C100: Ilgtspējīga mobilitāte | D100: 2.3.1. | E100: “Veicināt ilgtspējīgu daudzveidu mobilitāti pilsētās” | F100: 2.3.1.2. | G100: Multimodāls sabiedriskā transporta tīkls (Stacija 2.0) | H100: 3 | I100: ERAF | J100: 11891883 | K100: 13990451 | L100: 2098568 | M100: SM | N100: 45463 | O100: 45553 | P100: 45531 | Q100: APSTIPRINĀTS | R100: 45615 | S100: 2026 II
A101: 2 | B101: 2.3. | C101: Ilgtspējīga mobilitāte | D101: 2.3.1. | E101: “Veicināt ilgtspējīgu daudzveidu mobilitāti pilsētās” | F101: 2.3.1.3. | G101: Veloinfrastruktūras attīstība | H101: _ | I101: ERAF | J101: 22492390 | K101: 26461636 | L101: 3969246 | M101: SM | N101: 45260 | O101: 45321 | P101: 45482 | Q101: APSTIPRINĀTS | R101: 45482 | S101: Atlase beigusies
A102: 2 | B102: 2.4. | C102: AER izmantošanas transportā veicināšana | D102: 2.4.1. | E102: “Veicināt ilgtspējīgu multimodālu mobilitāti, veicinot elektrotransportlīdzekļu izmantošanu” | F102: 2.4.1.2. | G102: Bezemisiju vilcienu iegāde - elektrovilcieni | H102: 1 | I102: KF | J102: 12544923 | K102: 14758733 | L102: 2213810 | M102: SM | N102: 45379 | O102: 45433 | P102: 45425 | Q102: APSTIPRINĀTS | R102: 45534 | S102: N/A, Posmotie projekti
A103: 2 | B103: 2.4. | C103: AER izmantošanas transportā veicināšana | D103: 2.4.1. | E103: “Veicināt ilgtspējīgu multimodālu mobilitāti, veicinot elektrotransportlīdzekļu izmantošanu” | F103: 2.4.1.2. | G103: Bezemisiju vilcienu iegāde - elektrovilcieni | H103: 2 | I103: KF | J103: 54444719 | K103: 64052611 | L103: 9607892 | M103: SM | N103: 45379 | O103: 45433 | P103: 45425 | Q103: APSTIPRINĀTS | R103: 45534 | S103: Atlase beigusies
A104: 2 | B104: 2.4. | C104: AER izmantošanas transportā veicināšana | D104: 2.4.1. | E104: “Veicināt ilgtspējīgu multimodālu mobilitāti, veicinot elektrotransportlīdzekļu izmantošanu” | F104: 2.4.1.3. | G104: Bezemisiju (bateriju) vilcieni un to uzlādes infrastruktūra | H104: _ | I104: KF | J104: 104608561 | K104: 123068896 | L104: 18460335 | M104: SM | N104: 45106 | O104: 45180 | P104: 45825 | Q104: APSTIPRINĀTS | R104: 45909 | S104: 2025 IV*******
A105: 2 | B105: 2.5. | C105: Enerģētiskās neatkarības un atjaunīgās enerģijas kapacitātes celšana | D105: 2.5.1. | E105: "Ieguldījumi, kas atbalsta STEP mērķu sasniegšanu" | F105: 2.5.1.0. | G105: _ | H105: _ | I105: ERAF | J105: 54884514 | K105: 64570017 | L105: 9685503 | M105: EM | N105: 45562 | O105: 45625 | P105: 45464 | Q105: APSTIPRINĀTS | R105: 45622 | S105: Atlase beigusies
...

Sheet GRAFIKI II
A1: KUMULATĪVI
H2: Laika grafiks uz 25.04.2023.
A3: MK not. gads un ceturksnis | B3: MK noteikumu faktiskā izpilde; finansējums kumulatīvi, milj. EUR | C3: MK noteikumu finansējums, EUR | D3: MK noteikumu finansējums, milj. EUR - NOBĪDE kumulatīvi | E3: Atlašu finansējums kumulatīvi, milj. EUR | F3: Atlašu finansējums, EUR | H3: MK noteikumu apstiprināšanas plāns uz 25.04.2023; finansējums kumulatīvi, milj. EUR | I3: MK noteikumu finansējums, EUR | J3: Atlašu finansējums kumulatīvi uz 25.04.2023., milj. EUR | K3: Atlašu finansējums, EUR | L3: Nobīdes MKN | M3: Nobīdes atlases
A4: 2022 IV | B4: 0 | C4: 0 | D4: =B4-H4 -> #REF! | E4: 0 | F4: 0 | H4: =I4/1000000 -> #REF! | I4: =SUMIFS(FMZINp3_laika_grafiks!$K$93:$K$231,FMZINp3_laika_grafiks!#REF!,'GRAFIKI II'!A4) -> #REF! | J4: =K4/1000000 -> #REF! | K4: =SUMIFS(FMZINp3_laika_grafiks!$K$93:$K$231,FMZINp3_laika_grafiks!#REF!,'GRAFIKI II'!A4) -> #REF! | L4: =H4-B4 -> #REF! | M4: =J4-E4 -> #REF!
A5: 2023 I | B5: =C5/1000000+B4 -> #REF! | C5: =SUMIFS(FMZINp3_laika_grafiks!$K$93:$K$231,FMZINp3_laika_grafiks!#REF!,A5)+C4 -> #REF! | D5: =(B5-H5)+D4 -> #REF! | E5: =F5/1000000 -> #REF! | F5: =SUMIFS(FMZINp3_laika_grafiks!$K$93:$K$231,FMZINp3_laika_grafiks!#REF!,A5) -> #REF! | H5: =H4+(I5/1000000) -> #REF! | I5: =SUMIFS(FMZINp3_laika_grafiks!$K$93:$K$231,FMZINp3_laika_grafiks!#REF!,'GRAFIKI II'!A5) -> #REF! | J5: =J4+(K5/1000000) -> #REF! | K5: =SUMIFS(FMZINp3_laika_grafiks!$K$93:$K$231,FMZINp3_laika_grafiks!#REF!,'GRAFIKI II'!A5) -> #REF! | L5: =H5-B5 -> #REF! | M5: =J5-E5 -> #REF!
A6: 2023 II | B6: =C6/1000000+B5 -> #REF! | C6: =SUMIFS(FMZINp3_laika_grafiks!$K$93:$K$231,FMZINp3_laika_grafiks!#REF!,A6) -> #REF! | D6: =(B6-H6)+D5 -> #REF! | E6: =E5+F6/1000000 -> #REF! | F6: =SUMIFS(FMZINp3_laika_grafiks!$K$93:$K$231,FMZINp3_laika_grafiks!#REF!,A6) -> #REF! | H6: =H5+(I6/1000000) -> #REF! | I6: =SUMIFS(FMZINp3_laika_grafiks!$K$93:$K$231,FMZINp3_laika_grafiks!#REF!,'GRAFIKI II'!A6) -> #REF! | J6: =J5+(K6/1000000) -> #REF! | K6: =SUMIFS(FMZINp3_laika_grafiks!$K$93:$K$231,FMZINp3_laika_grafiks!#REF!,'GRAFIKI II'!A6) -> #REF! | L6: =H6-B6 -> #REF! | M6: =J6-E6 -> #REF!
A7: 2023 III | B7: =C7/1000000+B6 -> #REF! | C7: =SUMIFS(FMZINp3_laika_grafiks!$K$93:$K$231,FMZINp3_laika_grafiks!#REF!,A7) -> #REF! | D7: =(B7-H7)+D6 -> #REF! | E7: =E6+F7/1000000 -> #REF! | F7: =SUMIFS(FMZINp3_laika_grafiks!$K$93:$K$231,FMZINp3_laika_grafiks!#REF!,A7) -> #REF! | H7: =H6+(I7/1000000) -> #REF! | I7: =SUMIFS(FMZINp3_laika_grafiks!$K$93:$K$231,FMZINp3_laika_grafiks!#REF!,'GRAFIKI II'!A7) -> #REF! | J7: =J6+(K7/1000000) -> #REF! | K7: =SUMIFS(FMZINp3_laika_grafiks!$K$93:$K$231,FMZINp3_laika_grafiks!#REF!,'GRAFIKI II'!A7) -> #REF! | L7: =H7-B7 -> #REF! | M7: =J7-E7 -> #REF!
A8: 2023 IV | B8: =C8/1000000+B7 -> #REF! | C8: =SUMIFS(FMZINp3_laika_grafiks!$K$93:$K$231,FMZINp3_laika_grafiks!#REF!,A8) -> #REF! | D8: =(B8-H8)+D7 -> #REF! | E8: =E7+F8/1000000 -> #REF! | F8: =SUMIFS(FMZINp3_laika_grafiks!$K$93:$K$231,FMZINp3_laika_grafiks!#REF!,A8) -> #REF! | H8: =H7+(I8/1000000) -> #REF! | I8: =SUMIFS(FMZINp3_laika_grafiks!$K$93:$K$231,FMZINp3_laika_grafiks!#REF!,'GRAFIKI II'!A8) -> #REF! | J8: =J7+(K8/1000000) -> #REF! | K8: =SUMIFS(FMZINp3_laika_grafiks!$K$93:$K$231,FMZINp3_laika_grafiks!#REF!,'GRAFIKI II'!A8) -> #REF! | L8: =H8-B8 -> #REF! | M8: =J8-E8 -> #REF!
A9: 2024 I | B9: =C9/1000000+B8 -> #REF! | C9: =SUMIFS(FMZINp3_laika_grafiks!$K$93:$K$231,FMZINp3_laika_grafiks!#REF!,A9) -> #REF! | D9: =(B9-H9)+D8 -> #REF! | E9: =E8+F9/1000000 -> #REF! | F9: =SUMIFS(FMZINp3_laika_grafiks!$K$93:$K$231,FMZINp3_laika_grafiks!#REF!,A9) -> #REF! | H9: =H8+(I9/1000000) -> #REF! | I9: =SUMIFS(FMZINp3_laika_grafiks!$K$93:$K$231,FMZINp3_laika_grafiks!#REF!,'GRAFIKI II'!A9) -> #REF! | J9: =J8+(K9/1000000) -> #REF! | K9: =SUMIFS(FMZINp3_laika_grafiks!$K$93:$K$231,FMZINp3_laika_grafiks!#REF!,'GRAFIKI II'!A9) -> #REF!
A10: 2024 II | B10: =C10/1000000+B9 -> #REF! | C10: =SUMIFS(FMZINp3_laika_grafiks!$K$93:$K$231,FMZINp3_laika_grafiks!#REF!,A10) -> #REF! | D10: =(B10-H10)+D9 -> #REF! | E10: =E9+F10/1000000 -> #REF! | F10: =SUMIFS(FMZINp3_laika_grafiks!$K$93:$K$231,FMZINp3_laika_grafiks!#REF!,A10) -> #REF! | H10: =H9+(I10/1000000) -> #REF! | I10: =SUMIFS(FMZINp3_laika_grafiks!$K$93:$K$231,FMZINp3_laika_grafiks!#REF!,'GRAFIKI II'!A10) -> #REF! | J10: =J9+(K10/1000000) -> #REF! | K10: =SUMIFS(FMZINp3_laika_grafiks!$K$93:$K$231,FMZINp3_laika_grafiks!#REF!,'GRAFIKI II'!A10) -> #REF!
A11: 2024 III | B11: =C11/1000000+B10 -> #REF! | C11: =SUMIFS(FMZINp3_laika_grafiks!$K$93:$K$231,FMZINp3_laika_grafiks!#REF!,A11) -> #REF! | D11: =(B11-H11)+D10 -> #REF! | E11: =E10+F11/1000000 -> #REF! | F11: =SUMIFS(FMZINp3_laika_grafiks!$K$93:$K$231,FMZINp3_laika_grafiks!#REF!,A11) -> #REF! | H11: =H10+(I11/1000000) -> #REF! | I11: =SUMIFS(FMZINp3_laika_grafiks!$K$93:$K$231,FMZINp3_laika_grafiks!#REF!,'GRAFIKI II'!A11) -> #REF! | J11: =J10+(K11/1000000) -> #REF! | K11: =SUMIFS(FMZINp3_laika_grafiks!$K$93:$K$231,FMZINp3_laika_grafiks!#REF!,'GRAFIKI II'!A11) -> #REF!
A12: 2024 IV | B12: =C12/1000000+B11 -> #REF! | C12: =SUMIFS(FMZINp3_laika_grafiks!$K$93:$K$231,FMZINp3_laika_grafiks!#REF!,A12) -> #REF! | D12: =(B12-H12)+D11 -> #REF! | E12: =E11+F12/1000000 -> #REF! | F12: =SUMIFS(FMZINp3_laika_grafiks!$K$93:$K$231,FMZINp3_laika_grafiks!#REF!,A12) -> #REF! | H12: =H11+(I12/1000000) -> #REF! | I12: =SUMIFS(FMZINp3_laika_grafiks!$K$93:$K$231,FMZINp3_laika_grafiks!#REF!,'GRAFIKI II'!A12) -> #REF! | J12: =J11+(K12/1000000) -> #REF! | K12: =SUMIFS(FMZINp3_laika_grafiks!$K$93:$K$231,FMZINp3_laika_grafiks!#REF!,'GRAFIKI II'!A12) -> #REF!
A13: 2025 I | B13: =C13/1000000+B12 -> #REF! | C13: =SUMIFS(FMZINp3_laika_grafiks!$K$93:$K$231,FMZINp3_laika_grafiks!#REF!,A13) -> #REF! | D13: =(B13-H13)+D12 -> #REF! | E13: =E12+F13/1000000 -> #REF! | F13: =SUMIFS(FMZINp3_laika_grafiks!$K$93:$K$231,FMZINp3_laika_grafiks!#REF!,A13) -> #REF! | H13: =H12+(I13/1000000) -> #REF! | I13: =SUMIFS(FMZINp3_laika_grafiks!$K$93:$K$231,FMZINp3_laika_grafiks!#REF!,'GRAFIKI II'!A13) -> #REF! | J13: =J12+(K13/1000000) -> #REF! | K13: =SUMIFS(FMZINp3_laika_grafiks!$K$93:$K$231,FMZINp3_laika_grafiks!#REF!,'GRAFIKI II'!A13) -> #REF!
A14: 2025 II | B14: =C14/1000000+B13 -> #REF! | C14: =SUMIFS(FMZINp3_laika_grafiks!$K$93:$K$231,FMZINp3_laika_grafiks!#REF!,A14) -> #REF! | D14: =(B14-H14)+D13 -> #REF! | E14: =E13+F14/1000000 -> #REF! | F14: =SUMIFS(FMZINp3_laika_grafiks!$K$93:$K$231,FMZINp3_laika_grafiks!#REF!,A14) -> #REF! | H14: =H13+(I14/1000000) -> #REF! | I14: =SUMIFS(FMZINp3_laika_grafiks!$K$93:$K$231,FMZINp3_laika_grafiks!#REF!,'GRAFIKI II'!A14) -> #REF! | J14: =J13+(K14/1000000) -> #REF! | K14: =SUMIFS(FMZINp3_laika_grafiks!$K$93:$K$231,FMZINp3_laika_grafiks!#REF!,'GRAFIKI II'!A14) -> #REF!
A15: 2025 III | B15: =C15/1000000+B14 -> #REF! | C15: =SUMIFS(FMZINp3_laika_grafiks!$K$93:$K$231,FMZINp3_laika_grafiks!#REF!,A15) -> #REF! | D15: =(B15-H15)+D14 -> #REF! | E15: =E14+F15/1000000 -> #REF! | F15: =SUMIFS(FMZINp3_laika_grafiks!$K$93:$K$231,FMZINp3_laika_grafiks!#REF!,A15) -> #REF! | H15: =H14+(I15/1000000) -> #REF! | I15: =SUMIFS(FMZINp3_laika_grafiks!$K$93:$K$231,FMZINp3_laika_grafiks!#REF!,'GRAFIKI II'!A15) -> #REF! | J15: =J14+(K15/1000000) -> #REF! | K15: =SUMIFS(FMZINp3_laika_grafiks!$K$93:$K$231,FMZINp3_laika_grafiks!#REF!,'GRAFIKI II'!A15) -> #REF!
A16: 2025 IV | B16: =C16/1000000+B15 -> #REF! | C16: =SUMIFS(FMZINp3_laika_grafiks!$K$93:$K$231,FMZINp3_laika_grafiks!#REF!,A16) -> #REF! | D16: =(B16-H16)+D15 -> #REF! | E16: =E15+F16/1000000 -> #REF! | F16: =SUMIFS(FMZINp3_laika_grafiks!$K$93:$K$231,FMZINp3_laika_grafiks!#REF!,A16) -> #REF! | H16: =H15+(I16/1000000) -> #REF! | I16: =SUMIFS(FMZINp3_laika_grafiks!$K$93:$K$231,FMZINp3_laika_grafiks!#REF!,'GRAFIKI II'!A16) -> #REF! | J16: =J15+(K16/1000000) -> #REF! | K16: =SUMIFS(FMZINp3_laika_grafiks!$K$93:$K$231,FMZINp3_laika_grafiks!#REF!,'GRAFIKI II'!A16) -> #REF!
A17: 2026 I | B17: =C17/1000000+B16 -> #REF! | C17: =SUMIFS(FMZINp3_laika_grafiks!$K$93:$K$231,FMZINp3_laika_grafiks!#REF!,A17) -> #REF! | D17: =(B17-H17)+D16 -> #REF! | E17: =E16+F17/1000000 -> #REF! | F17: =SUMIFS(FMZINp3_laika_grafiks!$K$93:$K$231,FMZINp3_laika_grafiks!#REF!,A17) -> #REF! | H17: =H16+(I17/1000000) -> #REF! | I17: =SUMIFS(FMZINp3_laika_grafiks!$K$93:$K$231,FMZINp3_laika_grafiks!#REF!,'GRAFIKI II'!A17) -> #REF! | J17: =J16+(K17/1000000) -> #REF! | K17: =SUMIFS(FMZINp3_laika_grafiks!$K$93:$K$231,FMZINp3_laika_grafiks!#REF!,'GRAFIKI II'!A17) -> #REF!
A18: Uzsaukums par elastības finansējuma apjomu 2026.g. | B18: =C18/1000000+B17 -> #REF! | C18: =SUMIFS(FMZINp3_laika_grafiks!$K$93:$K$231,FMZINp3_laika_grafiks!#REF!,A18) -> #REF! | D18: =(B18-H18)+D17 -> #REF! | E18: =E17+F18/1000000 -> #REF! | F18: =SUMIFS(FMZINp3_laika_grafiks!$K$93:$K$231,FMZINp3_laika_grafiks!#REF!,A18) -> #REF! | H18: =H17+(I18/1000000) -> #REF! | I18: =SUMIFS(FMZINp3_laika_grafiks!$K$93:$K$231,FMZINp3_laika_grafiks!#REF!,'GRAFIKI II'!A18) -> #REF! | J18: =J17+(K18/1000000) -> #REF! | K18: =SUMIFS(FMZINp3_laika_grafiks!$K$93:$K$231,FMZINp3_laika_grafiks!#REF!,'GRAFIKI II'!A18) -> #REF!
A19: 2026 II | B19: =C19/1000000+B18 -> #REF! | C19: =SUMIFS(FMZINp3_laika_grafiks!$K$93:$K$231,FMZINp3_laika_grafiks!#REF!,A19) -> #REF! | D19: =(B19-H19)+D18 -> #REF! | E19: =E18+F19/1000000 -> #REF! | F19: =SUMIFS(FMZINp3_laika_grafiks!$K$93:$K$231,FMZINp3_laika_grafiks!#REF!,A19) -> #REF! | H19: =H18+(I19/1000000) -> #REF! | I19: =SUMIFS(FMZINp3_laika_grafiks!$K$93:$K$231,FMZINp3_laika_grafiks!#REF!,'GRAFIKI II'!A19) -> #REF! | J19: =J18+(K19/1000000) -> #REF! | K19: =SUMIFS(FMZINp3_laika_grafiks!$K$93:$K$231,FMZINp3_laika_grafiks!#REF!,'GRAFIKI II'!A19) -> #REF!
A20: 2026 III | B20: =C20/1000000+B19 -> #REF! | C20: =SUMIFS(FMZINp3_laika_grafiks!$K$93:$K$231,FMZINp3_laika_grafiks!#REF!,A20) -> #REF! | D20: =(B20-H20)+D19 -> #REF! | E20: =E19+F20/1000000 -> #REF! | F20: =SUMIFS(FMZINp3_laika_grafiks!$K$93:$K$231,FMZINp3_laika_grafiks!#REF!,A20) -> #REF! | H20: =H19+(I20/1000000) -> #REF! | I20: =SUMIFS(FMZINp3_laika_grafiks!$K$93:$K$231,FMZINp3_laika_grafiks!#REF!,'GRAFIKI II'!A20) -> #REF! | J20: =J19+(K20/1000000) -> #REF! | K20: =SUMIFS(FMZINp3_laika_grafiks!$K$93:$K$231,FMZINp3_laika_grafiks!#REF!,'GRAFIKI II'!A20) -> #REF!
... A25: 2027 IV | B25: =C25/1000000+B24 -> #REF! | C25: =SUMIFS(FMZINp3_laika_grafiks!$K$93:$K$231,FMZINp3_laika_grafiks!#REF!,A25) -> #REF! | D25: =(B25-H25)+D24 -> #REF! | E25: =E24+F25/1000000 -> #REF! | F25: =SUMIFS(FMZINp3_laika_grafiks!$K$93:$K$231,FMZINp3_laika_grafiks!#REF!,A25) -> #REF! | H25: =H24+(I25/1000000) -> #REF! | I25: =SUMIFS(FMZINp3_laika_grafiks!$K$93:$K$231,FMZINp3_laika_grafiks!#REF!,'GRAFIKI II'!A25) -> #REF! | J25: =J24+(K25/1000000) -> #REF! | K25: =SUMIFS(FMZINp3_laika_grafiks!$K$93:$K$231,FMZINp3_laika_grafiks!#REF!,'GRAFIKI II'!A25) -> #REF!
A26: bez TP prioritātes | C26: =SUM(C5:C25) -> #REF! | F26: =SUM(F5:F25) -> #REF! | I26: =SUM(I4:I25) -> #REF! | K26: =SUM(K4:K25) -> #REF!
C27: =FMZINp3_laika_grafiks!#REF!+FMZINp3_laika_grafiks!#REF!+C26 -> #REF! | F27: =F26+FMZINp3_laika_grafiks!#REF!+FMZINp3_laika_grafiks!#REF! -> #REF! | I27: =I26+FMZINp3_laika_grafiks!#REF!+FMZINp3_laika_grafiks!#REF! -> #REF! | K27: =K26+FMZINp3_laika_grafiks!#REF!+FMZINp3_laika_grafiks!#REF! -> #REF!
C28: =FMZINp3_laika_grafiks!#REF!-C27 -> #REF! | F28: =FMZINp3_laika_grafiks!#REF!-F27 -> #REF! | I28: =I27-FMZINp3_laika_grafiks!#REF! -> #REF! | K28: =K27-FMZINp3_laika_grafiks!#REF! -> #REF!
A29: BEZ KUMULATĀCIJAS
H30: Laika grafiks uz 25.04.2023.
A31: MK not. gads un ceturksnis | B31: MK noteikumu faktiskā izpilde; finansējums , milj. EUR | C31: MK noteikumu finansējums, EUR | D31: MK noteikumu finansējums, milj.EUR - NOBĪDE | E31: Atlašu finansējums, milj. EUR | F31: Atlašu finansējums, EUR | H31: MK noteikumu apstiprināšanas plāns uz 25.04.2023; finansējums kumulatīvi, milj. EUR | I31: MK noteikumu finansējums, EUR | J31: Atlašu finansējums kumulatīvi uz 25.04.2023., milj. EUR | K31: Atlašu finansējums, EUR
A32: 2022 IV | B32: 0 | C32: 0 | D32: =B32-E32 -> 0 | E32: 0 | F32: 0 | H32: =I32/1000000 -> #REF! | I32: =SUMIFS(FMZINp3_laika_grafiks!$K$93:$K$231,FMZINp3_laika_grafiks!#REF!,'GRAFIKI II'!A32) -> #REF! | J32: =K32/1000000 -> #REF! | K32: =SUMIFS(FMZINp3_laika_grafiks!$K$93:$K$231,FMZINp3_laika_grafiks!#REF!,'GRAFIKI II'!A32) -> #REF!
A33: 2023 I | B33: =C33/1000000 -> #REF! | C33: =SUMIFS(FMZINp3_laika_grafiks!$K$93:$K$231,FMZINp3_laika_grafiks!#REF!,A33) -> #REF! | D33: =B33-H33 -> #REF! | E33: =F33/1000000 -> #REF! | F33: =SUMIFS(FMZINp3_laika_grafiks!$K$93:$K$231,FMZINp3_laika_grafiks!#REF!,A33) -> #REF! | H33: =(I33/1000000) -> #REF! | I33: =SUMIFS(FMZINp3_laika_grafiks!$K$93:$K$231,FMZINp3_laika_grafiks!#REF!,'GRAFIKI II'!A33) -> #REF! | J33: =(K33/1000000) -> #REF! | K33: =SUMIFS(FMZINp3_laika_grafiks!$K$93:$K$231,FMZINp3_laika_grafiks!#REF!,'GRAFIKI II'!A33) -> #REF!
A34: 2023 II | B34: =C34/1000000 -> #REF! | C34: =SUMIFS(FMZINp3_laika_grafiks!$K$93:$K$231,FMZINp3_laika_grafiks!#REF!,A34) -> #REF! | D34: =B34-H34 -> #REF! | E34: =F34/1000000 -> #REF! | F34: =SUMIFS(FMZINp3_laika_grafiks!$K$93:$K$231,FMZINp3_laika_grafiks!#REF!,A34) -> #REF! | H34: =(I34/1000000) -> #REF! | I34: =SUMIFS(FMZINp3_laika_grafiks!$K$93:$K$231,FMZINp3_laika_grafiks!#REF!,'GRAFIKI II'!A34) -> #REF! | J34: =(K34/1000000) -> #REF! | K34: =SUMIFS(FMZINp3_laika_grafiks!$K$93:$K$231,FMZINp3_laika_grafiks!#REF!,'GRAFIKI II'!A34) -> #REF!
A35: 2023 III | B35: =C35/1000000 -> #REF! | C35: =SUMIFS(FMZINp3_laika_grafiks!$K$93:$K$231,FMZINp3_laika_grafiks!#REF!,A35) -> #REF! | D35: =B35-H35 -> #REF! | E35: =F35/1000000 -> #REF! | F35: =SUMIFS(FMZINp3_laika_grafiks!$K$93:$K$231,FMZINp3_laika_grafiks!#REF!,A35) -> #REF! | H35: =(I35/1000000) -> #REF! | I35: =SUMIFS(FMZINp3_laika_grafiks!$K$93:$K$231,FMZINp3_laika_grafiks!#REF!,'GRAFIKI II'!A35) -> #REF! | J35: =(K35/1000000) -> #REF! | K35: =SUMIFS(FMZINp3_laika_grafiks!$K$93:$K$231,FMZINp3_laika_grafiks!#REF!,'GRAFIKI II'!A35) -> #REF!
A36: 2023 IV | B36: =C36/1000000 -> #REF! | C36: =SUMIFS(FMZINp3_laika_grafiks!$K$93:$K$231,FMZINp3_laika_grafiks!#REF!,A36) -> #REF! | D36: =B36-H36 -> #REF! | E36: =F36/1000000 -> #REF! | F36: =SUMIFS(FMZINp3_laika_grafiks!$K$93:$K$231,FMZINp3_laika_grafiks!#REF!,A36) -> #REF! | H36: =(I36/1000000) -> #REF! | I36: =SUMIFS(FMZINp3_laika_grafiks!$K$93:$K$231,FMZINp3_laika_grafiks!#REF!,'GRAFIKI II'!A36) -> #REF! | J36: =(K36/1000000) -> #REF! | K36: =SUMIFS(FMZINp3_laika_grafiks!$K$93:$K$231,FMZINp3_laika_grafiks!#REF!,'GRAFIKI II'!A36) -> #REF!
A37: 2024 I | B37: =C37/1000000 -> #REF! | C37: =SUMIFS(FMZINp3_laika_grafiks!$K$93:$K$231,FMZINp3_laika_grafiks!#REF!,A37) -> #REF! | D37: =B37-H37 -> #REF! | E37: =F37/1000000 -> #REF! | F37: =SUMIFS(FMZINp3_laika_grafiks!$K$93:$K$231,FMZINp3_laika_grafiks!#REF!,A37) -> #REF! | H37: =(I37/1000000) -> #REF! | I37: =SUMIFS(FMZINp3_laika_grafiks!$K$93:$K$231,FMZINp3_laika_grafiks!#REF!,'GRAFIKI II'!A37) -> #REF! | J37: =(K37/1000000) -> #REF! | K37: =SUMIFS(FMZINp3_laika_grafiks!$K$93:$K$231,FMZINp3_laika_grafiks!#REF!,'GRAFIKI II'!A37) -> #REF!
A38: 2024 II | B38: =C38/1000000 -> #REF! | C38: =SUMIFS(FMZINp3_laika_grafiks!$K$93:$K$231,FMZINp3_laika_grafiks!#REF!,A38) -> #REF! | D38: =B38-H38 -> #REF! | E38: =F38/1000000 -> #REF! | F38: =SUMIFS(FMZINp3_laika_grafiks!$K$93:$K$231,FMZINp3_laika_grafiks!#REF!,A38) -> #REF! | H38: =(I38/1000000) -> #REF! | I38: =SUMIFS(FMZINp3_laika_grafiks!$K$93:$K$231,FMZINp3_laika_grafiks!#REF!,'GRAFIKI II'!A38) -> #REF! | J38: =(K38/1000000) -> #REF! | K38: =SUMIFS(FMZINp3_laika_grafiks!$K$93:$K$231,FMZINp3_laika_grafiks!#REF!,'GRAFIKI II'!A38) -> #REF!
A39: 2024 III | B39: =C39/1000000 -> #REF! | C39: =SUMIFS(FMZINp3_laika_grafiks!$K$93:$K$231,FMZINp3_laika_grafiks!#REF!,A39) -> #REF! | D39: =B39-H39 -> #REF! | E39: =F39/1000000 -> #REF! | F39: =SUMIFS(FMZINp3_laika_grafiks!$K$93:$K$231,FMZINp3_laika_grafiks!#REF!,A39) -> #REF! | H39: =(I39/1000000) -> #REF! | I39: =SUMIFS(FMZINp3_laika_grafiks!$K$93:$K$231,FMZINp3_laika_grafiks!#REF!,'GRAFIKI II'!A39) -> #REF! | J39: =(K39/1000000) -> #REF! | K39: =SUMIFS(FMZINp3_laika_grafiks!$K$93:$K$231,FMZINp3_laika_grafiks!#REF!,'GRAFIKI II'!A39) -> #REF!
A40: 2024 IV | B40: =C40/1000000 -> #REF! | C40: =SUMIFS(FMZINp3_laika_grafiks!$K$93:$K$231,FMZINp3_laika_grafiks!#REF!,A40) -> #REF! | D40: =B40-H40 -> #REF! | E40: =F40/1000000 -> #REF! | F40: =SUMIFS(FMZINp3_laika_grafiks!$K$93:$K$231,FMZINp3_laika_grafiks!#REF!,A40) -> #REF! | H40: =(I40/1000000) -> #REF! | I40: =SUMIFS(FMZINp3_laika_grafiks!$K$93:$K$231,FMZINp3_laika_grafiks!#REF!,'GRAFIKI II'!A40) -> #REF! | J40: =(K40/1000000) -> #REF! | K40: =SUMIFS(FMZINp3_laika_grafiks!$K$93:$K$231,FMZINp3_laika_grafiks!#REF!,'GRAFIKI II'!A40) -> #REF!
A41: 2025 I | B41: =C41/1000000 -> #REF! | C41: =SUMIFS(FMZINp3_laika_grafiks!$K$93:$K$231,FMZINp3_laika_grafiks!#REF!,A41) -> #REF! | D41: =B41-H41 -> #REF! | E41: =F41/1000000 -> #REF! | F41: =SUMIFS(FMZINp3_laika_grafiks!$K$93:$K$231,FMZINp3_laika_grafiks!#REF!,A41) -> #REF! | H41: =(I41/1000000) -> #REF! | I41: =SUMIFS(FMZINp3_laika_grafiks!$K$93:$K$231,FMZINp3_laika_grafiks!#REF!,'GRAFIKI II'!A41) -> #REF! | J41: =(K41/1000000) -> #REF! | K41: =SUMIFS(FMZINp3_laika_grafiks!$K$93:$K$231,FMZINp3_laika_grafiks!#REF!,'GRAFIKI II'!A41) -> #REF!
A42: 2025 II | B42: =C42/1000000 -> #REF! | C42: =SUMIFS(FMZINp3_laika_grafiks!$K$93:$K$231,FMZINp3_laika_grafiks!#REF!,A42) -> #REF! | D42: =B42-H42 -> #REF! | E42: =F42/1000000 -> #REF! | F42: =SUMIFS(FMZINp3_laika_grafiks!$K$93:$K$231,FMZINp3_laika_grafiks!#REF!,A42) -> #REF! | H42: =(I42/1000000) -> #REF! | I42: =SUMIFS(FMZINp3_laika_grafiks!$K$93:$K$231,FMZINp3_laika_grafiks!#REF!,'GRAFIKI II'!A42) -> #REF! | J42: =(K42/1000000) -> #REF! | K42: =SUMIFS(FMZINp3_laika_grafiks!$K$93:$K$231,FMZINp3_laika_grafiks!#REF!,'GRAFIKI II'!A42) -> #REF!
A43: 2025 III | B43: =C43/1000000 -> #REF! | C43: =SUMIFS(FMZINp3_laika_grafiks!$K$93:$K$231,FMZINp3_laika_grafiks!#REF!,A43) -> #REF! | D43: =B43-H43 -> #REF! | E43: =F43/1000000 -> #REF! | F43: =SUMIFS(FMZINp3_laika_grafiks!$K$93:$K$231,FMZINp3_laika_grafiks!#REF!,A43) -> #REF! | H43: =(I43/1000000) -> #REF! | I43: =SUMIFS(FMZINp3_laika_grafiks!$K$93:$K$231,FMZINp3_laika_grafiks!#REF!,'GRAFIKI II'!A43) -> #REF! | J43: =(K43/1000000) -> #REF! | K43: =SUMIFS(FMZINp3_laika_grafiks!$K$93:$K$231,FMZINp3_laika_grafiks!#REF!,'GRAFIKI II'!A43) -> #REF!
A44: 2025 IV | B44: =C44/1000000 -> #REF! | C44: =SUMIFS(FMZINp3_laika_grafiks!$K$93:$K$231,FMZINp3_laika_grafiks!#REF!,A44) -> #REF! | D44: =B44-H44 -> #REF! | E44: =F44/1000000 -> #REF! | F44: =SUMIFS(FMZINp3_laika_grafiks!$K$93:$K$231,FMZINp3_laika_grafiks!#REF!,A44) -> #REF! | H44: =(I44/1000000) -> #REF! | I44: =SUMIFS(FMZINp3_laika_grafiks!$K$93:$K$231,FMZINp3_laika_grafiks!#REF!,'GRAFIKI II'!A44) -> #REF! | J44: =(K44/1000000) -> #REF! | K44: =SUMIFS(FMZINp3_laika_grafiks!$K$93:$K$231,FMZINp3_laika_grafiks!#REF!,'GRAFIKI II'!A44) -> #REF!
... A53: 2027 IV | B53: =C53/1000000 -> #REF! | C53: =SUMIFS(FMZINp3_laika_grafiks!$K$93:$K$231,FMZINp3_laika_grafiks!#REF!,A53) -> #REF! | D53: =B53-H53 -> #REF! | E53: =F53/1000000 -> #REF! | F53: =SUMIFS(FMZINp3_laika_grafiks!$K$93:$K$231,FMZINp3_laika_grafiks!#REF!,A53) -> #REF! | H53: =(I53/1000000) -> #REF! | I53: =SUMIFS(FMZINp3_laika_grafiks!$K$93:$K$231,FMZINp3_laika_grafiks!#REF!,'GRAFIKI II'!A53) -> #REF! | J53: =(K53/1000000) -> #REF! | K53: =SUMIFS(FMZINp3_laika_grafiks!$K$93:$K$231,FMZINp3_laika_grafiks!#REF!,'GRAFIKI II'!A53) -> #REF!
A54: Kopā | B54: =SUM(B32:B53) -> #REF! | C54: =SUM(C32:C53) -> #REF! | D54: =SUM(D32:D53) -> #REF! | E54: =SUM(E32:E53) -> #REF! | F54: =SUM(F32:F53) -> #REF! | G54: =SUM(G32:G53) -> 0 | H54: =SUM(H32:H53) -> #REF! | I54: =SUM(I32:I53) -> #REF! | ... K54: =SUM(K32:K53) -> #REF!
C55: =C26=C54 -> #REF!
A58: KUMULATĪVI
AC59: Laika grafiks uz 25.04.2023.
B60: MK noteikumu finansējums pa ministrijām kumulatīvi, milj. EUR | AB60: MK noteikumu finansējums pa ministrijām kumulatīvi uz 25.04.2023., milj. EUR
B61: SM | C61: NOBĪDE | D61: EM | E61: NOBĪDE | F61: VARAM | G61: NOBĪDE | H61: IZM | I61: NOBĪDE | J61: VM | K61: NOBĪDE | L61: LM | M61: NOBĪDE | N61: KM | O61: NOBĪDE | P61: FM | Q61: NOBĪDE | R61: VK | S61: NOBĪDE | T61: IeM | U61: NOBĪDE | V61: TM | W61: NOBĪDE | X61: KEM | Y61: NOBĪDE | Z61: VARAM izpilde | AA61: LM izpilde | AC61: SM | AD61: EM | AE61: VARAM | AF61: IZM | AG61: VM | AH61: LM | AI61: KM | AJ61: FM | AK61: VK | AL61: IeM | AM61: TM | AN61: KEM | AR61: SM plāns | AS61: SM izpilde | AT61: EM plāns | AU61: EM izpilde | AV61: VARAM plāns | AW61: VARAM izpilde | AX61: IZM plāns | AY61: IZM izpilde | AZ61: VM plāns | BA61: VM izpilde | BB61: LM plāns | BC61: LM izpilde | BD61: KM plāns | BE61: KM izpilde | BF61: FM plāns | BG61: FM izpilde | BH61: VK plāns | BI61: VK izpilde | BJ61: IeM plāns | BK61: IeM izpilde | BL61: TM plāns | BM61: TM izpilde | BN61: KEM plāns | BO61: KEM izpilde
A62: 2022 IV | B62: 0 | C62: =B62-AC62 -> #REF! | D62: 0 | E62: =D62-AD62 -> #REF! | F62: 0 | G62: =F62-AE62 -> #REF! | H62: 0 | I62: =H62-AF62 -> #REF! | J62: 0 | K62: =J62-AG62 -> #REF! | L62: 0 | M62: =L62-AH62 -> #REF! | N62: 0 | O62: =(N62-AI62) -> #REF! | P62: 0 | Q62: =(P62-AJ62) -> #REF! | R62: 0 | S62: =(R62-AK62) -> #REF! | T62: 0 | U62: =(T62-AL62) -> #REF! | V62: 0 | W62: =(V62-AM62) -> #REF! | X62: 0 | Y62: =(X62-AN62) -> #REF! | AB62: 2022 IV | AC62: =(SUMIFS(FMZINp3_laika_grafiks!$K$93:$K$231,FMZINp3_laika_grafiks!#REF!,'GRAFIKI II'!$AB62,FMZINp3_laika_grafiks!$M$93:$M$231,'GRAFIKI II'!AC$61)/1000000) -> #REF! | AD62: =(SUMIFS(FMZINp3_laika_grafiks!$K$93:$K$231,FMZINp3_laika_grafiks!#REF!,'GRAFIKI II'!$AB62,FMZINp3_laika_grafiks!$M$93:$M$231,'GRAFIKI II'!AD$61)/1000000) -> #REF! | AE62: =(SUMIFS(FMZINp3_laika_grafiks!$K$93:$K$231,FMZINp3_laika_grafiks!#REF!,'GRAFIKI II'!$AB62,FMZINp3_laika_grafiks!$M$93:$M$231,'GRAFIKI II'!AE$61)/1000000) -> #REF! | AF62: =(SUMIFS(FMZINp3_laika_grafiks!$K$93:$K$231,FMZINp3_laika_grafiks!#REF!,'GRAFIKI II'!$AB62,FMZINp3_laika_grafiks!$M$93:$M$231,'GRAFIKI II'!AF$61)/1000000) -> #REF! | AG62: =(SUMIFS(FMZINp3_laika_grafiks!$K$93:$K$231,FMZINp3_laika_grafiks!#REF!,'GRAFIKI II'!$AB62,FMZINp3_laika_grafiks!$M$93:$M$231,'GRAFIKI II'!AG$61)/1000000) -> #REF! | AH62: =(SUMIFS(FMZINp3_laika_grafiks!$K$93:$K$231,FMZINp3_laika_grafiks!#REF!,'GRAFIKI II'!$AB62,FMZINp3_laika_grafiks!$M$93:$M$231,'GRAFIKI II'!AH$61)/1000000) -> #REF! | AI62: =(SUMIFS(FMZINp3_laika_grafiks!$K$93:$K$231,FMZINp3_laika_grafiks!#REF!,'GRAFIKI II'!$AB62,FMZINp3_laika_grafiks!$M$93:$M$231,'GRAFIKI II'!AI$61)/1000000) -> #REF! | AJ62: =(SUMIFS(FMZINp3_laika_grafiks!$K$93:$K$231,FMZINp3_laika_grafiks!#REF!,'GRAFIKI II'!$AB62,FMZINp3_laika_grafiks!$M$93:$M$231,'GRAFIKI II'!AJ$61)/1000000) -> #REF! | ... AN62: =(SUMIFS(FMZINp3_laika_grafiks!$K$93:$K$231,FMZINp3_laika_grafiks!#REF!,'GRAFIKI II'!$AB62,FMZINp3_laika_grafiks!$M$93:$M$231,'GRAFIKI II'!AN$61)/1000000) -> #REF! | AQ62: 2023 I | AR62: =AC63 -> #REF! | AS62: =B63 -> #REF! | AT62: =AD63 -> #REF! | AU62: =D63 -> #REF! | AV62: =AE63 -> #REF! | AW62: =F63 -> #REF! | AX62: =AF63 -> #REF! | AY62: =H63 -> #REF! | AZ62: =AG63 -> #REF! | BA62: =J63 -> #REF! | BB62: =AH63 -> #REF! | BC62: =L63 -> #REF! | BD62: =AI63 -> #REF! | BE62: =N63 -> #REF! | BF62: =AJ63 -> #REF! | BG62: =P63 -> #REF! | BH62: =AK63 -> #REF! | BI62: =R63 -> #REF! | BJ62: =AL63 -> #REF! | BK62: =T63 -> #REF! | BL62: =AM63 -> #REF! | BM62: =V63 -> #REF! | BN62: =AN63 -> #REF! | BO62: =X63 -> #REF!
A63: 2023 I | B63: =(SUMIFS(FMZINp3_laika_grafiks!$K$93:$K$231,FMZINp3_laika_grafiks!#REF!,$A63,FMZINp3_laika_grafiks!$M$93:$M$231,B$61))/1000000 -> #REF! | C63: =(B63-AC63)+C62 -> #REF! | D63: =(SUMIFS(FMZINp3_laika_grafiks!$K$93:$K$231,FMZINp3_laika_grafiks!#REF!,$A63,FMZINp3_laika_grafiks!$M$93:$M$231,D$61))/1000000 -> #REF! | E63: =(D63-AD63)+E62 -> #REF! | F63: =(SUMIFS(FMZINp3_laika_grafiks!$K$93:$K$231,FMZINp3_laika_grafiks!#REF!,$A63,FMZINp3_laika_grafiks!$M$93:$M$231,F$61))/1000000 -> #REF! | G63: =(F63-AE63)+G62 -> #REF! | H63: =(SUMIFS(FMZINp3_laika_grafiks!$K$93:$K$231,FMZINp3_laika_grafiks!#REF!,$A63,FMZINp3_laika_grafiks!$M$93:$M$231,H$61))/1000000 -> #REF! | I63: =(H63-AF63)+I62 -> #REF! | J63: =(SUMIFS(FMZINp3_laika_grafiks!$K$93:$K$231,FMZINp3_laika_grafiks!#REF!,$A63,FMZINp3_laika_grafiks!$M$93:$M$231,J$61))/1000000 -> #REF! | K63: =(J63-AG63)+K62 -> #REF! | L63: =(SUMIFS(FMZINp3_laika_grafiks!$K$93:$K$231,FMZINp3_laika_grafiks!#REF!,$A63,FMZINp3_laika_grafiks!$M$93:$M$231,L$61))/1000000 -> #REF! | M63: =(L63-AH63)+M62 -> #REF! | N63: =(SUMIFS(FMZINp3_laika_grafiks!$K$93:$K$231,FMZINp3_laika_grafiks!#REF!,$A63,FMZINp3_laika_grafiks!$M$93:$M$231,N$61))/1000000 -> #REF! | O63: =(N63-AI63)+O62 -> #REF! | P63: =(SUMIFS(FMZINp3_laika_grafiks!$K$93:$K$231,FMZINp3_laika_grafiks!#REF!,$A63,FMZINp3_laika_grafiks!$M$93:$M$231,P$61))/1000000 -> #REF! | Q63: =(P63-AJ63)+Q62 -> #REF! | R63: =(SUMIFS(FMZINp3_laika_grafiks!$K$93:$K$231,FMZINp3_laika_grafiks!#REF!,$A63,FMZINp3_laika_grafiks!$M$93:$M$231,R$61))/1000000 -> #REF! | S63: =(R63-AK63)+S62 -> #REF! | T63: =(SUMIFS(FMZINp3_laika_grafiks!$K$93:$K$231,FMZINp3_laika_grafiks!#REF!,$A63,FMZINp3_laika_grafiks!$M$93:$M$231,T$61))/1000000 -> #REF! | U63: =(T63-AL63)+U62 -> #REF! | V63: =(SUMIFS(FMZINp3_laika_grafiks!$K$93:$K$231,FMZINp3_laika_grafiks!#REF!,$A63,FMZINp3_laika_grafiks!$M$93:$M$231,V$61))/1000000 -> #REF! | W63: =(V63-AM63)+W62 -> #REF! | X63: =(SUMIFS(FMZINp3_laika_grafiks!$K$93:$K$231,FMZINp3_laika_grafiks!#REF!,$A63,FMZINp3_laika_grafiks!$M$93:$M$231,X$61))/1000000 -> #REF! | Y63: =(X63-AN63)+Y62 -> #REF! | Z63: =F63 -> #REF! | AB63: 2023 I | AC63: =(SUMIFS(FMZINp3_laika_grafiks!$K$93:$K$231,FMZINp3_laika_grafiks!#REF!,'GRAFIKI II'!$AB63,FMZINp3_laika_grafiks!$M$93:$M$231,'GRAFIKI II'!AC$61)/1000000)+AC62 -> #REF! | AD63: =(SUMIFS(FMZINp3_laika_grafiks!$K$93:$K$231,FMZINp3_laika_grafiks!#REF!,'GRAFIKI II'!$AB63,FMZINp3_laika_grafiks!$M$93:$M$231,'GRAFIKI II'!AD$61)/1000000)+AD62 -> #REF! | AE63: =(SUMIFS(FMZINp3_laika_grafiks!$K$93:$K$231,FMZINp3_laika_grafiks!#REF!,'GRAFIKI II'!$AB63,FMZINp3_laika_grafiks!$M$93:$M$231,'GRAFIKI II'!AE$61)/1000000)+AE62 -> #REF! | AF63: =(SUMIFS(FMZINp3_laika_grafiks!$K$93:$K$231,FMZINp3_laika_grafiks!#REF!,'GRAFIKI II'!$AB63,FMZINp3_laika_grafiks!$M$93:$M$231,'GRAFIKI II'!AF$61)/1000000)+AF62 -> #REF! | AG63: =(SUMIFS(FMZINp3_laika_grafiks!$K$93:$K$231,FMZINp3_laika_grafiks!#REF!,'GRAFIKI II'!$AB63,FMZINp3_laika_grafiks!$M$93:$M$231,'GRAFIKI II'!AG$61)/1000000)+AG62 -> #REF! | AH63: =(SUMIFS(FMZINp3_laika_grafiks!$K$93:$K$231,FMZINp3_laika_grafiks!#REF!,'GRAFIKI II'!$AB63,FMZINp3_laika_grafiks!$M$93:$M$231,'GRAFIKI II'!AH$61)/1000000)+AH62 -> #REF! | AI63: =(SUMIFS(FMZINp3_laika_grafiks!$K$93:$K$231,FMZINp3_laika_grafiks!#REF!,'GRAFIKI II'!$AB63,FMZINp3_laika_grafiks!$M$93:$M$231,'GRAFIKI II'!AI$61)/1000000)+AI62 -> #REF! | AJ63: =(SUMIFS(FMZINp3_laika_grafiks!$K$93:$K$231,FMZINp3_laika_grafiks!#REF!,'GRAFIKI II'!$AB63,FMZINp3_laika_grafiks!$M$93:$M$231,'GRAFIKI II'!AJ$61)/1000000)+AJ62 -> #REF! | ... AN63: =(SUMIFS(FMZINp3_laika_grafiks!$K$93:$K$231,FMZINp3_laika_grafiks!#REF!,'GRAFIKI II'!$AB63,FMZINp3_laika_grafiks!$M$93:$M$231,'GRAFIKI II'!AN$61)/1000000)+AN62 -> #REF! | AQ63: 2023 II | AR63: =AC64 -> #REF! | AS63: =B64 -> #REF! | AT63: =AD64 -> #REF! | AU63: =D64 -> #REF! | AV63: =AE64 -> #REF! | AW63: =F64 -> #REF! | AX63: =AF64 -> #REF! | AY63: =H64 -> #REF! | AZ63: =AG64 -> #REF! | BA63: =J64 -> #REF! | BB63: =AH64 -> #REF! | BC63: =L64 -> #REF! | BD63: =AI64 -> #REF! | BE63: =N64 -> #REF! | BF63: =AJ64 -> #REF! | BG63: =P64 -> #REF! | BH63: =AK64 -> #REF! | BI63: =R64 -> #REF! | BJ63: =AL64 -> #REF! | BK63: =T64 -> #REF! | BL63: =AM64 -> #REF! | BM63: =V64 -> #REF! | BN63: =AN64 -> #REF! | BO63: =X64 -> #REF!
A64: 2023 II | B64: =(SUMIFS(FMZINp3_laika_grafiks!$K$93:$K$231,FMZINp3_laika_grafiks!#REF!,$A64,FMZINp3_laika_grafiks!$M$93:$M$231,B$61))/1000000+B63 -> #REF! | C64: =(B64-AC64)+C63 -> #REF! | D64: =(SUMIFS(FMZINp3_laika_grafiks!$K$93:$K$231,FMZINp3_laika_grafiks!#REF!,$A64,FMZINp3_laika_grafiks!$M$93:$M$231,D$61))/1000000+D63 -> #REF! | E64: =(D64-AD64)+E63 -> #REF! | F64: =(SUMIFS(FMZINp3_laika_grafiks!$K$93:$K$231,FMZINp3_laika_grafiks!#REF!,$A64,FMZINp3_laika_grafiks!$M$93:$M$231,F$61))/1000000+F63 -> #REF! | G64: =(F64-AE64)+G63 -> #REF! | H64: =(SUMIFS(FMZINp3_laika_grafiks!$K$93:$K$231,FMZINp3_laika_grafiks!#REF!,$A64,FMZINp3_laika_grafiks!$M$93:$M$231,H$61))/1000000+H63 -> #REF! | I64: =(H64-AF64)+I63 -> #REF! | J64: =(SUMIFS(FMZINp3_laika_grafiks!$K$93:$K$231,FMZINp3_laika_grafiks!#REF!,$A64,FMZINp3_laika_grafiks!$M$93:$M$231,J$61))/1000000+J63 -> #REF! | K64: =(J64-AG64)+K63 -> #REF! | L64: =(SUMIFS(FMZINp3_laika_grafiks!$K$93:$K$231,FMZINp3_laika_grafiks!#REF!,$A64,FMZINp3_laika_grafiks!$M$93:$M$231,L$61))/1000000+L63 -> #REF! | M64: =(L64-AH64)+M63 -> #REF! | N64: =(SUMIFS(FMZINp3_laika_grafiks!$K$93:$K$231,FMZINp3_laika_grafiks!#REF!,$A64,FMZINp3_laika_grafiks!$M$93:$M$231,N$61))/1000000+N63 -> #REF! | O64: =(N64-AI64)+O63 -> #REF! | P64: =(SUMIFS(FMZINp3_laika_grafiks!$K$93:$K$231,FMZINp3_laika_grafiks!#REF!,$A64,FMZINp3_laika_grafiks!$M$93:$M$231,P$61))/1000000+P63 -> #REF! | Q64: =(P64-AJ64)+Q63 -> #REF! | R64: =(SUMIFS(FMZINp3_laika_grafiks!$K$93:$K$231,FMZINp3_laika_grafiks!#REF!,$A64,FMZINp3_laika_grafiks!$M$93:$M$231,R$61))/1000000+R63 -> #REF! | S64: =(R64-AK64)+S63 -> #REF! | T64: =(SUMIFS(FMZINp3_laika_grafiks!$K$93:$K$231,FMZINp3_laika_grafiks!#REF!,$A64,FMZINp3_laika_grafiks!$M$93:$M$231,T$61))/1000000+T63 -> #REF! | U64: =(T64-AL64)+U63 -> #REF! | V64: =(SUMIFS(FMZINp3_laika_grafiks!$K$93:$K$231,FMZINp3_laika_grafiks!#REF!,$A64,FMZINp3_laika_grafiks!$M$93:$M$231,V$61))/1000000+V63 -> #REF! | W64: =(V64-AM64)+W63 -> #REF! | X64: =(SUMIFS(FMZINp3_laika_grafiks!$K$93:$K$231,FMZINp3_laika_grafiks!#REF!,$A64,FMZINp3_laika_grafiks!$M$93:$M$231,X$61))/1000000+X63 -> #REF! | Y64: =(X64-AN64)+Y63 -> #REF! | Z64: =103854727/1000000 -> 103.85473 | AA64: =4350000/1000000 -> 4.35 | AB64: 2023 II | AC64: =(SUMIFS(FMZINp3_laika_grafiks!$K$93:$K$231,FMZINp3_laika_grafiks!#REF!,'GRAFIKI II'!$AB64,FMZINp3_laika_grafiks!$M$93:$M$231,'GRAFIKI II'!AC$61)/1000000)+AC63 -> #REF! | AD64: =(SUMIFS(FMZINp3_laika_grafiks!$K$93:$K$231,FMZINp3_laika_grafiks!#REF!,'GRAFIKI II'!$AB64,FMZINp3_laika_grafiks!$M$93:$M$231,'GRAFIKI II'!AD$61)/1000000)+AD63 -> #REF! | AE64: =(SUMIFS(FMZINp3_laika_grafiks!$K$93:$K$231,FMZINp3_laika_grafiks!#REF!,'GRAFIKI II'!$AB64,FMZINp3_laika_grafiks!$M$93:$M$231,'GRAFIKI II'!AE$61)/1000000)+AE63 -> #REF! | AF64: =(SUMIFS(FMZINp3_laika_grafiks!$K$93:$K$231,FMZINp3_laika_grafiks!#REF!,'GRAFIKI II'!$AB64,FMZINp3_laika_grafiks!$M$93:$M$231,'GRAFIKI II'!AF$61)/1000000)+AF63 -> #REF! | AG64: =(SUMIFS(FMZINp3_laika_grafiks!$K$93:$K$231,FMZINp3_laika_grafiks!#REF!,'GRAFIKI II'!$AB64,FMZINp3_laika_grafiks!$M$93:$M$231,'GRAFIKI II'!AG$61)/1000000)+AG63 -> #REF! | AH64: =(SUMIFS(FMZINp3_laika_grafiks!$K$93:$K$231,FMZINp3_laika_grafiks!#REF!,'GRAFIKI II'!$AB64,FMZINp3_laika_grafiks!$M$93:$M$231,'GRAFIKI II'!AH$61)/1000000)+AH63 -> #REF! | AI64: =(SUMIFS(FMZINp3_laika_grafiks!$K$93:$K$231,FMZINp3_laika_grafiks!#REF!,'GRAFIKI II'!$AB64,FMZINp3_laika_grafiks!$M$93:$M$231,'GRAFIKI II'!AI$61)/1000000)+AI63 -> #REF! | AJ64: =(SUMIFS(FMZINp3_laika_grafiks!$K$93:$K$231,FMZINp3_laika_grafiks!#REF!,'GRAFIKI II'!$AB64,FMZINp3_laika_grafiks!$M$93:$M$231,'GRAFIKI II'!AJ$61)/1000000)+AJ63 -> #REF! | ... AN64: =(SUMIFS(FMZINp3_laika_grafiks!$K$93:$K$231,FMZINp3_laika_grafiks!#REF!,'GRAFIKI II'!$AB64,FMZINp3_laika_grafiks!$M$93:$M$231,'GRAFIKI II'!AN$61)/1000000)+AN63 -> #REF! | AQ64: 2023 III | AR64: =AC65 -> #REF! | AS64: =B65 -> #REF! | AT64: =AD65 -> #REF! | AU64: =D65 -> #REF! | AV64: =AE65 -> #REF! | AW64: =F65 -> #REF! | AX64: =AF65 -> #REF! | AY64: =H65 -> #REF! | AZ64: =AG65 -> #REF! | BA64: =J65 -> #REF! | BB64: =AH65 -> #REF! | BC64: =L65 -> #REF! | BD64: =AI65 -> #REF! | BE64: =N65 -> #REF! | BF64: =AJ65 -> #REF! | BG64: =P65 -> #REF! | BH64: =AK65 -> #REF! | BI64: =R65 -> #REF! | BJ64: =AL65 -> #REF! | BK64: =T65 -> #REF! | BL64: =AM65 -> #REF! | BM64: =V65 -> #REF! | BN64: =AN65 -> #REF! | BO64: =X65 -> #REF!
A65: 2023 III | B65: =(SUMIFS(FMZINp3_laika_grafiks!$K$93:$K$231,FMZINp3_laika_grafiks!#REF!,$A65,FMZINp3_laika_grafiks!$M$93:$M$231,B$61))/1000000+B64 -> #REF! | C65: =(B65-AC65)+C64 -> #REF! | D65: =(SUMIFS(FMZINp3_laika_grafiks!$K$93:$K$231,FMZINp3_laika_grafiks!#REF!,$A65,FMZINp3_laika_grafiks!$M$93:$M$231,D$61))/1000000+D64 -> #REF! | E65: =(D65-AD65)+E64 -> #REF! | F65: =(SUMIFS(FMZINp3_laika_grafiks!$K$93:$K$231,FMZINp3_laika_grafiks!#REF!,$A65,FMZINp3_laika_grafiks!$M$93:$M$231,F$61))/1000000+F64 -> #REF! | G65: =(F65-AE65)+G64 -> #REF! | H65: =(SUMIFS(FMZINp3_laika_grafiks!$K$93:$K$231,FMZINp3_laika_grafiks!#REF!,$A65,FMZINp3_laika_grafiks!$M$93:$M$231,H$61))/1000000+H64 -> #REF! | I65: =(H65-AF65)+I64 -> #REF! | J65: =(SUMIFS(FMZINp3_laika_grafiks!$K$93:$K$231,FMZINp3_laika_grafiks!#REF!,$A65,FMZINp3_laika_grafiks!$M$93:$M$231,J$61))/1000000+J64 -> #REF! | K65: =(J65-AG65)+K64 -> #REF! | L65: =(SUMIFS(FMZINp3_laika_grafiks!$K$93:$K$231,FMZINp3_laika_grafiks!#REF!,$A65,FMZINp3_laika_grafiks!$M$93:$M$231,L$61))/1000000+L64 -> #REF! | M65: =(L65-AH65)+M64 -> #REF! | N65: =(SUMIFS(FMZINp3_laika_grafiks!$K$93:$K$231,FMZINp3_laika_grafiks!#REF!,$A65,FMZINp3_laika_grafiks!$M$93:$M$231,N$61))/1000000+N64 -> #REF! | O65: =(N65-AI65)+O64 -> #REF! | P65: =(SUMIFS(FMZINp3_laika_grafiks!$K$93:$K$231,FMZINp3_laika_grafiks!#REF!,$A65,FMZINp3_laika_grafiks!$M$93:$M$231,P$61))/1000000+P64 -> #REF! | Q65: =(P65-AJ65)+Q64 -> #REF! | R65: =(SUMIFS(FMZINp3_laika_grafiks!$K$93:$K$231,FMZINp3_laika_grafiks!#REF!,$A65,FMZINp3_laika_grafiks!$M$93:$M$231,R$61))/1000000+R64 -> #REF! | S65: =(R65-AK65)+S64 -> #REF! | T65: =(SUMIFS(FMZINp3_laika_grafiks!$K$93:$K$231,FMZINp3_laika_grafiks!#REF!,$A65,FMZINp3_laika_grafiks!$M$93:$M$231,T$61))/1000000+T64 -> #REF! | U65: =(T65-AL65)+U64 -> #REF! | V65: =(SUMIFS(FMZINp3_laika_grafiks!$K$93:$K$231,FMZINp3_laika_grafiks!#REF!,$A65,FMZINp3_laika_grafiks!$M$93:$M$231,V$61))/1000000+V64 -> #REF! | W65: =(V65-AM65)+W64 -> #REF! | X65: =(SUMIFS(FMZINp3_laika_grafiks!$K$93:$K$231,FMZINp3_laika_grafiks!#REF!,$A65,FMZINp3_laika_grafiks!$M$93:$M$231,X$61))/1000000+X64 -> #REF! | Y65: =(X65-AN65)+Y64 -> #REF! | AB65: 2023 III | AC65: =(SUMIFS(FMZINp3_laika_grafiks!$K$93:$K$231,FMZINp3_laika_grafiks!#REF!,'GRAFIKI II'!$AB65,FMZINp3_laika_grafiks!$M$93:$M$231,'GRAFIKI II'!AC$61)/1000000)+AC64 -> #REF! | AD65: =(SUMIFS(FMZINp3_laika_grafiks!$K$93:$K$231,FMZINp3_laika_grafiks!#REF!,'GRAFIKI II'!$AB65,FMZINp3_laika_grafiks!$M$93:$M$231,'GRAFIKI II'!AD$61)/1000000)+AD64 -> #REF! | AE65: =(SUMIFS(FMZINp3_laika_grafiks!$K$93:$K$231,FMZINp3_laika_grafiks!#REF!,'GRAFIKI II'!$AB65,FMZINp3_laika_grafiks!$M$93:$M$231,'GRAFIKI II'!AE$61)/1000000)+AE64 -> #REF! | AF65: =(SUMIFS(FMZINp3_laika_grafiks!$K$93:$K$231,FMZINp3_laika_grafiks!#REF!,'GRAFIKI II'!$AB65,FMZINp3_laika_grafiks!$M$93:$M$231,'GRAFIKI II'!AF$61)/1000000)+AF64 -> #REF! | AG65: =(SUMIFS(FMZINp3_laika_grafiks!$K$93:$K$231,FMZINp3_laika_grafiks!#REF!,'GRAFIKI II'!$AB65,FMZINp3_laika_grafiks!$M$93:$M$231,'GRAFIKI II'!AG$61)/1000000)+AG64 -> #REF! | AH65: =(SUMIFS(FMZINp3_laika_grafiks!$K$93:$K$231,FMZINp3_laika_grafiks!#REF!,'GRAFIKI II'!$AB65,FMZINp3_laika_grafiks!$M$93:$M$231,'GRAFIKI II'!AH$61)/1000000)+AH64 -> #REF! | AI65: =(SUMIFS(FMZINp3_laika_grafiks!$K$93:$K$231,FMZINp3_laika_grafiks!#REF!,'GRAFIKI II'!$AB65,FMZINp3_laika_grafiks!$M$93:$M$231,'GRAFIKI II'!AI$61)/1000000)+AI64 -> #REF! | AJ65: =(SUMIFS(FMZINp3_laika_grafiks!$K$93:$K$231,FMZINp3_laika_grafiks!#REF!,'GRAFIKI II'!$AB65,FMZINp3_laika_grafiks!$M$93:$M$231,'GRAFIKI II'!AJ$61)/1000000)+AJ64 -> #REF! | ... AM65: =(SUMIFS(FMZINp3_laika_grafiks!$K$93:$K$231,FMZINp3_laika_grafiks!#REF!,'GRAFIKI II'!$AB65,FMZINp3_laika_grafiks!$M$93:$M$231,'GRAFIKI II'!AM$61)/1000000)+AM64 -> #REF! | AN65: =X65 -> #REF! | AQ65: 2023 IV | AR65: =AC66 -> #REF! | AS65: =B66 -> #REF! | AT65: =AD66 -> #REF! | AU65: =D66 -> #REF! | AV65: =AE66 -> #REF! | AW65: =F66 -> #REF! | AX65: =AF66 -> #REF! | AY65: =H66 -> #REF! | AZ65: =AG66 -> #REF! | BA65: =J66 -> #REF! | BB65: =AH66 -> #REF! | BC65: =L66 -> #REF! | BD65: =AI66 -> #REF! | BE65: =N66 -> #REF! | BF65: =AJ66 -> #REF! | BG65: =P66 -> #REF! | BH65: =AK66 -> #REF! | BI65: =R66 -> #REF! | BJ65: =AL66 -> #REF! | BK65: =T66 -> #REF! | BL65: =AM66 -> #REF! | BM65: =V66 -> #REF! | BN65: =AN66 -> #REF! | BO65: =X66 -> #REF!
A66: 2023 IV | B66: =(SUMIFS(FMZINp3_laika_grafiks!$K$93:$K$231,FMZINp3_laika_grafiks!#REF!,$A66,FMZINp3_laika_grafiks!$M$93:$M$231,B$61))/1000000+B65 -> #REF! | C66: =(B66-AC66)+C65 -> #REF! | D66: =(SUMIFS(FMZINp3_laika_grafiks!$K$93:$K$231,FMZINp3_laika_grafiks!#REF!,$A66,FMZINp3_laika_grafiks!$M$93:$M$231,D$61))/1000000+D65 -> #REF! | E66: =(D66-AD66)+E65 -> #REF! | F66: =(SUMIFS(FMZINp3_laika_grafiks!$K$93:$K$231,FMZINp3_laika_grafiks!#REF!,$A66,FMZINp3_laika_grafiks!$M$93:$M$231,F$61))/1000000+F65 -> #REF! | G66: =(F66-AE66)+G65 -> #REF! | H66: =(SUMIFS(FMZINp3_laika_grafiks!$K$93:$K$231,FMZINp3_laika_grafiks!#REF!,$A66,FMZINp3_laika_grafiks!$M$93:$M$231,H$61))/1000000+H65 -> #REF! | I66: =(H66-AF66)+I65 -> #REF! | J66: =(SUMIFS(FMZINp3_laika_grafiks!$K$93:$K$231,FMZINp3_laika_grafiks!#REF!,$A66,FMZINp3_laika_grafiks!$M$93:$M$231,J$61))/1000000+J65 -> #REF! | K66: =(J66-AG66)+K65 -> #REF! | L66: =(SUMIFS(FMZINp3_laika_grafiks!$K$93:$K$231,FMZINp3_laika_grafiks!#REF!,$A66,FMZINp3_laika_grafiks!$M$93:$M$231,L$61))/1000000+L65 -> #REF! | M66: =(L66-AH66)+M65 -> #REF! | N66: =(SUMIFS(FMZINp3_laika_grafiks!$K$93:$K$231,FMZINp3_laika_grafiks!#REF!,$A66,FMZINp3_laika_grafiks!$M$93:$M$231,N$61))/1000000+N65 -> #REF! | O66: =(N66-AI66)+O65 -> #REF! | P66: =(SUMIFS(FMZINp3_laika_grafiks!$K$93:$K$231,FMZINp3_laika_grafiks!#REF!,$A66,FMZINp3_laika_grafiks!$M$93:$M$231,P$61))/1000000+P65 -> #REF! | Q66: =(P66-AJ66)+Q65 -> #REF! | R66: =(SUMIFS(FMZINp3_laika_grafiks!$K$93:$K$231,FMZINp3_laika_grafiks!#REF!,$A66,FMZINp3_laika_grafiks!$M$93:$M$231,R$61))/1000000+R65 -> #REF! | S66: =(R66-AK66)+S65 -> #REF! | T66: =(SUMIFS(FMZINp3_laika_grafiks!$K$93:$K$231,FMZINp3_laika_grafiks!#REF!,$A66,FMZINp3_laika_grafiks!$M$93:$M$231,T$61))/1000000+T65 -> #REF! | U66: =(T66-AL66)+U65 -> #REF! | V66: =(SUMIFS(FMZINp3_laika_grafiks!$K$93:$K$231,FMZINp3_laika_grafiks!#REF!,$A66,FMZINp3_laika_grafiks!$M$93:$M$231,V$61))/1000000+V65 -> #REF! | W66: =(V66-AM66)+W65 -> #REF! | X66: =(SUMIFS(FMZINp3_laika_grafiks!$K$93:$K$231,FMZINp3_laika_grafiks!#REF!,$A66,FMZINp3_laika_grafiks!$M$93:$M$231,X$61))/1000000+X65 -> #REF! | Y66: =(X66-AN66)+Y65 -> #REF! | AB66: 2023 IV | AC66: =(SUMIFS(FMZINp3_laika_grafiks!$K$93:$K$231,FMZINp3_laika_grafiks!#REF!,'GRAFIKI II'!$AB66,FMZINp3_laika_grafiks!$M$93:$M$231,'GRAFIKI II'!AC$61)/1000000)+AC65 -> #REF! | AD66: =(SUMIFS(FMZINp3_laika_grafiks!$K$93:$K$231,FMZINp3_laika_grafiks!#REF!,'GRAFIKI II'!$AB66,FMZINp3_laika_grafiks!$M$93:$M$231,'GRAFIKI II'!AD$61)/1000000)+AD65 -> #REF! | AE66: =(SUMIFS(FMZINp3_laika_grafiks!$K$93:$K$231,FMZINp3_laika_grafiks!#REF!,'GRAFIKI II'!$AB66,FMZINp3_laika_grafiks!$M$93:$M$231,'GRAFIKI II'!AE$61)/1000000)+AE65 -> #REF! | AF66: =(SUMIFS(FMZINp3_laika_grafiks!$K$93:$K$231,FMZINp3_laika_grafiks!#REF!,'GRAFIKI II'!$AB66,FMZINp3_laika_grafiks!$M$93:$M$231,'GRAFIKI II'!AF$61)/1000000)+AF65 -> #REF! | AG66: =(SUMIFS(FMZINp3_laika_grafiks!$K$93:$K$231,FMZINp3_laika_grafiks!#REF!,'GRAFIKI II'!$AB66,FMZINp3_laika_grafiks!$M$93:$M$231,'GRAFIKI II'!AG$61)/1000000)+AG65 -> #REF! | AH66: =(SUMIFS(FMZINp3_laika_grafiks!$K$93:$K$231,FMZINp3_laika_grafiks!#REF!,'GRAFIKI II'!$AB66,FMZINp3_laika_grafiks!$M$93:$M$231,'GRAFIKI II'!AH$61)/1000000)+AH65 -> #REF! | AI66: =(SUMIFS(FMZINp3_laika_grafiks!$K$93:$K$231,FMZINp3_laika_grafiks!#REF!,'GRAFIKI II'!$AB66,FMZINp3_laika_grafiks!$M$93:$M$231,'GRAFIKI II'!AI$61)/1000000)+AI65 -> #REF! | AJ66: =(SUMIFS(FMZINp3_laika_grafiks!$K$93:$K$231,FMZINp3_laika_grafiks!#REF!,'GRAFIKI II'!$AB66,FMZINp3_laika_grafiks!$M$93:$M$231,'GRAFIKI II'!AJ$61)/1000000)+AJ65 -> #REF! | ... AN66: =(SUMIFS(FMZINp3_laika_grafiks!$K$93:$K$231,FMZINp3_laika_grafiks!#REF!,'GRAFIKI II'!$AB66,FMZINp3_laika_grafiks!$M$93:$M$231,'GRAFIKI II'!AN$61)/1000000)+AN65 -> #REF!
A67: 2024 I | B67: =(SUMIFS(FMZINp3_laika_grafiks!$K$93:$K$231,FMZINp3_laika_grafiks!#REF!,$A67,FMZINp3_laika_grafiks!$M$93:$M$231,B$61))/1000000+B66 -> #REF! | C67: =(B67-AC67)+C66 -> #REF! | D67: =(SUMIFS(FMZINp3_laika_grafiks!$K$93:$K$231,FMZINp3_laika_grafiks!#REF!,$A67,FMZINp3_laika_grafiks!$M$93:$M$231,D$61))/1000000+D66 -> #REF! | E67: =(D67-AD67)+E66 -> #REF! | F67: =(SUMIFS(FMZINp3_laika_grafiks!$K$93:$K$231,FMZINp3_laika_grafiks!#REF!,$A67,FMZINp3_laika_grafiks!$M$93:$M$231,F$61))/1000000+F66 -> #REF! | G67: =(F67-AE67)+G66 -> #REF! | H67: =(SUMIFS(FMZINp3_laika_grafiks!$K$93:$K$231,FMZINp3_laika_grafiks!#REF!,$A67,FMZINp3_laika_grafiks!$M$93:$M$231,H$61))/1000000+H66 -> #REF! | I67: =(H67-AF67)+I66 -> #REF! | J67: =(SUMIFS(FMZINp3_laika_grafiks!$K$93:$K$231,FMZINp3_laika_grafiks!#REF!,$A67,FMZINp3_laika_grafiks!$M$93:$M$231,J$61))/1000000+J66 -> #REF! | K67: =(J67-AG67)+K66 -> #REF! | L67: =(SUMIFS(FMZINp3_laika_grafiks!$K$93:$K$231,FMZINp3_laika_grafiks!#REF!,$A67,FMZINp3_laika_grafiks!$M$93:$M$231,L$61))/1000000+L66 -> #REF! | M67: =(L67-AH67)+M66 -> #REF! | N67: =(SUMIFS(FMZINp3_laika_grafiks!$K$93:$K$231,FMZINp3_laika_grafiks!#REF!,$A67,FMZINp3_laika_grafiks!$M$93:$M$231,N$61))/1000000+N66 -> #REF! | O67: =(N67-AI67)+O66 -> #REF! | P67: =(SUMIFS(FMZINp3_laika_grafiks!$K$93:$K$231,FMZINp3_laika_grafiks!#REF!,$A67,FMZINp3_laika_grafiks!$M$93:$M$231,P$61))/1000000+P66 -> #REF! | Q67: =(P67-AJ67)+Q66 -> #REF! | R67: =(SUMIFS(FMZINp3_laika_grafiks!$K$93:$K$231,FMZINp3_laika_grafiks!#REF!,$A67,FMZINp3_laika_grafiks!$M$93:$M$231,R$61))/1000000+R66 -> #REF! | S67: =(R67-AK67)+S66 -> #REF! | T67: =(SUMIFS(FMZINp3_laika_grafiks!$K$93:$K$231,FMZINp3_laika_grafiks!#REF!,$A67,FMZINp3_laika_grafiks!$M$93:$M$231,T$61))/1000000+T66 -> #REF! | U67: =(T67-AL67)+U66 -> #REF! | V67: =(SUMIFS(FMZINp3_laika_grafiks!$K$93:$K$231,FMZINp3_laika_grafiks!#REF!,$A67,FMZINp3_laika_grafiks!$M$93:$M$231,V$61))/1000000+V66 -> #REF! | W67: =(V67-AM67)+W66 -> #REF! | X67: =(SUMIFS(FMZINp3_laika_grafiks!$K$93:$K$231,FMZINp3_laika_grafiks!#REF!,$A67,FMZINp3_laika_grafiks!$M$93:$M$231,X$61))/1000000+X66 -> #REF! | Y67: =(X67-AN67)+Y66 -> #REF! | AB67: 2024 I | AC67: =(SUMIFS(FMZINp3_laika_grafiks!$K$93:$K$231,FMZINp3_laika_grafiks!#REF!,'GRAFIKI II'!$AB67,FMZINp3_laika_grafiks!$M$93:$M$231,'GRAFIKI II'!AC$61)/1000000)+AC66 -> #REF! | AD67: =(SUMIFS(FMZINp3_laika_grafiks!$K$93:$K$231,FMZINp3_laika_grafiks!#REF!,'GRAFIKI II'!$AB67,FMZINp3_laika_grafiks!$M$93:$M$231,'GRAFIKI II'!AD$61)/1000000)+AD66 -> #REF! | AE67: =(SUMIFS(FMZINp3_laika_grafiks!$K$93:$K$231,FMZINp3_laika_grafiks!#REF!,'GRAFIKI II'!$AB67,FMZINp3_laika_grafiks!$M$93:$M$231,'GRAFIKI II'!AE$61)/1000000)+AE66 -> #REF! | AF67: =(SUMIFS(FMZINp3_laika_grafiks!$K$93:$K$231,FMZINp3_laika_grafiks!#REF!,'GRAFIKI II'!$AB67,FMZINp3_laika_grafiks!$M$93:$M$231,'GRAFIKI II'!AF$61)/1000000)+AF66 -> #REF! | AG67: =(SUMIFS(FMZINp3_laika_grafiks!$K$93:$K$231,FMZINp3_laika_grafiks!#REF!,'GRAFIKI II'!$AB67,FMZINp3_laika_grafiks!$M$93:$M$231,'GRAFIKI II'!AG$61)/1000000)+AG66 -> #REF! | AH67: =(SUMIFS(FMZINp3_laika_grafiks!$K$93:$K$231,FMZINp3_laika_grafiks!#REF!,'GRAFIKI II'!$AB67,FMZINp3_laika_grafiks!$M$93:$M$231,'GRAFIKI II'!AH$61)/1000000)+AH66 -> #REF! | AI67: =(SUMIFS(FMZINp3_laika_grafiks!$K$93:$K$231,FMZINp3_laika_grafiks!#REF!,'GRAFIKI II'!$AB67,FMZINp3_laika_grafiks!$M$93:$M$231,'GRAFIKI II'!AI$61)/1000000)+AI66 -> #REF! | AJ67: =(SUMIFS(FMZINp3_laika_grafiks!$K$93:$K$231,FMZINp3_laika_grafiks!#REF!,'GRAFIKI II'!$AB67,FMZINp3_laika_grafiks!$M$93:$M$231,'GRAFIKI II'!AJ$61)/1000000)+AJ66 -> #REF! | ... AN67: =(SUMIFS(FMZINp3_laika_grafiks!$K$93:$K$231,FMZINp3_laika_grafiks!#REF!,'GRAFIKI II'!$AB67,FMZINp3_laika_grafiks!$M$93:$M$231,'GRAFIKI II'!AN$61)/1000000)+AN66 -> #REF!
A68: 2024 II | B68: =(SUMIFS(FMZINp3_laika_grafiks!$K$93:$K$231,FMZINp3_laika_grafiks!#REF!,$A68,FMZINp3_laika_grafiks!$M$93:$M$231,B$61))/1000000+B67 -> #REF! | C68: =(B68-AC68)+C67 -> #REF! | D68: =(SUMIFS(FMZINp3_laika_grafiks!$K$93:$K$231,FMZINp3_laika_grafiks!#REF!,$A68,FMZINp3_laika_grafiks!$M$93:$M$231,D$61))/1000000+D67 -> #REF! | E68: =(D68-AD68)+E67 -> #REF! | F68: =(SUMIFS(FMZINp3_laika_grafiks!$K$93:$K$231,FMZINp3_laika_grafiks!#REF!,$A68,FMZINp3_laika_grafiks!$M$93:$M$231,F$61))/1000000+F67 -> #REF! | G68: =(F68-AE68)+G67 -> #REF! | H68: =(SUMIFS(FMZINp3_laika_grafiks!$K$93:$K$231,FMZINp3_laika_grafiks!#REF!,$A68,FMZINp3_laika_grafiks!$M$93:$M$231,H$61))/1000000+H67 -> #REF! | I68: =(H68-AF68)+I67 -> #REF! | J68: =(SUMIFS(FMZINp3_laika_grafiks!$K$93:$K$231,FMZINp3_laika_grafiks!#REF!,$A68,FMZINp3_laika_grafiks!$M$93:$M$231,J$61))/1000000+J67 -> #REF! | K68: =(J68-AG68)+K67 -> #REF! | L68: =(SUMIFS(FMZINp3_laika_grafiks!$K$93:$K$231,FMZINp3_laika_grafiks!#REF!,$A68,FMZINp3_laika_grafiks!$M$93:$M$231,L$61))/1000000+L67 -> #REF! | M68: =(L68-AH68)+M67 -> #REF! | N68: =(SUMIFS(FMZINp3_laika_grafiks!$K$93:$K$231,FMZINp3_laika_grafiks!#REF!,$A68,FMZINp3_laika_grafiks!$M$93:$M$231,N$61))/1000000+N67 -> #REF! | O68: =(N68-AI68)+O67 -> #REF! | P68: =(SUMIFS(FMZINp3_laika_grafiks!$K$93:$K$231,FMZINp3_laika_grafiks!#REF!,$A68,FMZINp3_laika_grafiks!$M$93:$M$231,P$61))/1000000+P67 -> #REF! | Q68: =(P68-AJ68)+Q67 -> #REF! | R68: =(SUMIFS(FMZINp3_laika_grafiks!$K$93:$K$231,FMZINp3_laika_grafiks!#REF!,$A68,FMZINp3_laika_grafiks!$M$93:$M$231,R$61))/1000000+R67 -> #REF! | S68: =(R68-AK68)+S67 -> #REF! | T68: =(SUMIFS(FMZINp3_laika_grafiks!$K$93:$K$231,FMZINp3_laika_grafiks!#REF!,$A68,FMZINp3_laika_grafiks!$M$93:$M$231,T$61))/1000000+T67 -> #REF! | U68: =(T68-AL68)+U67 -> #REF! | V68: =(SUMIFS(FMZINp3_laika_grafiks!$K$93:$K$231,FMZINp3_laika_grafiks!#REF!,$A68,FMZINp3_laika_grafiks!$M$93:$M$231,V$61))/1000000+V67 -> #REF! | W68: =(V68-AM68)+W67 -> #REF! | X68: =(SUMIFS(FMZINp3_laika_grafiks!$K$93:$K$231,FMZINp3_laika_grafiks!#REF!,$A68,FMZINp3_laika_grafiks!$M$93:$M$231,X$61))/1000000+X67 -> #REF! | Y68: =(X68-AN68)+Y67 -> #REF! | AB68: 2024 II | AC68: =(SUMIFS(FMZINp3_laika_grafiks!$K$93:$K$231,FMZINp3_laika_grafiks!#REF!,'GRAFIKI II'!$AB68,FMZINp3_laika_grafiks!$M$93:$M$231,'GRAFIKI II'!AC$61)/1000000)+AC67 -> #REF! | AD68: =(SUMIFS(FMZINp3_laika_grafiks!$K$93:$K$231,FMZINp3_laika_grafiks!#REF!,'GRAFIKI II'!$AB68,FMZINp3_laika_grafiks!$M$93:$M$231,'GRAFIKI II'!AD$61)/1000000)+AD67 -> #REF! | AE68: =(SUMIFS(FMZINp3_laika_grafiks!$K$93:$K$231,FMZINp3_laika_grafiks!#REF!,'GRAFIKI II'!$AB68,FMZINp3_laika_grafiks!$M$93:$M$231,'GRAFIKI II'!AE$61)/1000000)+AE67 -> #REF! | AF68: =(SUMIFS(FMZINp3_laika_grafiks!$K$93:$K$231,FMZINp3_laika_grafiks!#REF!,'GRAFIKI II'!$AB68,FMZINp3_laika_grafiks!$M$93:$M$231,'GRAFIKI II'!AF$61)/1000000)+AF67 -> #REF! | AG68: =(SUMIFS(FMZINp3_laika_grafiks!$K$93:$K$231,FMZINp3_laika_grafiks!#REF!,'GRAFIKI II'!$AB68,FMZINp3_laika_grafiks!$M$93:$M$231,'GRAFIKI II'!AG$61)/1000000)+AG67 -> #REF! | AH68: =(SUMIFS(FMZINp3_laika_grafiks!$K$93:$K$231,FMZINp3_laika_grafiks!#REF!,'GRAFIKI II'!$AB68,FMZINp3_laika_grafiks!$M$93:$M$231,'GRAFIKI II'!AH$61)/1000000)+AH67 -> #REF! | AI68: =(SUMIFS(FMZINp3_laika_grafiks!$K$93:$K$231,FMZINp3_laika_grafiks!#REF!,'GRAFIKI II'!$AB68,FMZINp3_laika_grafiks!$M$93:$M$231,'GRAFIKI II'!AI$61)/1000000)+AI67 -> #REF! | AJ68: =(SUMIFS(FMZINp3_laika_grafiks!$K$93:$K$231,FMZINp3_laika_grafiks!#REF!,'GRAFIKI II'!$AB68,FMZINp3_laika_grafiks!$M$93:$M$231,'GRAFIKI II'!AJ$61)/1000000)+AJ67 -> #REF! | ... AN68: =(SUMIFS(FMZINp3_laika_grafiks!$K$93:$K$231,FMZINp3_laika_grafiks!#REF!,'GRAFIKI II'!$AB68,FMZINp3_laika_grafiks!$M$93:$M$231,'GRAFIKI II'!AN$61)/1000000)+AN67 -> #REF!
A69: 2024 III | B69: =(SUMIFS(FMZINp3_laika_grafiks!$K$93:$K$231,FMZINp3_laika_grafiks!#REF!,$A69,FMZINp3_laika_grafiks!$M$93:$M$231,B$61))/1000000+B68 -> #REF! | C69: =(B69-AC69)+C68 -> #REF! | D69: =(SUMIFS(FMZINp3_laika_grafiks!$K$93:$K$231,FMZINp3_laika_grafiks!#REF!,$A69,FMZINp3_laika_grafiks!$M$93:$M$231,D$61))/1000000+D68 -> #REF! | E69: =(D69-AD69)+E68 -> #REF! | F69: =(SUMIFS(FMZINp3_laika_grafiks!$K$93:$K$231,FMZINp3_laika_grafiks!#REF!,$A69,FMZINp3_laika_grafiks!$M$93:$M$231,F$61))/1000000+F68 -> #REF! | G69: =(F69-AE69)+G68 -> #REF! | H69: =(SUMIFS(FMZINp3_laika_grafiks!$K$93:$K$231,FMZINp3_laika_grafiks!#REF!,$A69,FMZINp3_laika_grafiks!$M$93:$M$231,H$61))/1000000+H68 -> #REF! | I69: =(H69-AF69)+I68 -> #REF! | J69: =(SUMIFS(FMZINp3_laika_grafiks!$K$93:$K$231,FMZINp3_laika_grafiks!#REF!,$A69,FMZINp3_laika_grafiks!$M$93:$M$231,J$61))/1000000+J68 -> #REF! | K69: =(J69-AG69)+K68 -> #REF! | L69: =(SUMIFS(FMZINp3_laika_grafiks!$K$93:$K$231,FMZINp3_laika_grafiks!#REF!,$A69,FMZINp3_laika_grafiks!$M$93:$M$231,L$61))/1000000+L68 -> #REF! | M69: =(L69-AH69)+M68 -> #REF! | N69: =(SUMIFS(FMZINp3_laika_grafiks!$K$93:$K$231,FMZINp3_laika_grafiks!#REF!,$A69,FMZINp3_laika_grafiks!$M$93:$M$231,N$61))/1000000+N68 -> #REF! | O69: =(N69-AI69)+O68 -> #REF! | P69: =(SUMIFS(FMZINp3_laika_grafiks!$K$93:$K$231,FMZINp3_laika_grafiks!#REF!,$A69,FMZINp3_laika_grafiks!$M$93:$M$231,P$61))/1000000+P68 -> #REF! | Q69: =(P69-AJ69)+Q68 -> #REF! | R69: =(SUMIFS(FMZINp3_laika_grafiks!$K$93:$K$231,FMZINp3_laika_grafiks!#REF!,$A69,FMZINp3_laika_grafiks!$M$93:$M$231,R$61))/1000000+R68 -> #REF! | S69: =(R69-AK69)+S68 -> #REF! | T69: =(SUMIFS(FMZINp3_laika_grafiks!$K$93:$K$231,FMZINp3_laika_grafiks!#REF!,$A69,FMZINp3_laika_grafiks!$M$93:$M$231,T$61))/1000000+T68 -> #REF! | U69: =(T69-AL69)+U68 -> #REF! | V69: =(SUMIFS(FMZINp3_laika_grafiks!$K$93:$K$231,FMZINp3_laika_grafiks!#REF!,$A69,FMZINp3_laika_grafiks!$M$93:$M$231,V$61))/1000000+V68 -> #REF! | W69: =(V69-AM69)+W68 -> #REF! | X69: =(SUMIFS(FMZINp3_laika_grafiks!$K$93:$K$231,FMZINp3_laika_grafiks!#REF!,$A69,FMZINp3_laika_grafiks!$M$93:$M$231,X$61))/1000000+X68 -> #REF! | Y69: =(X69-AN69)+Y68 -> #REF! | AB69: 2024 III | AC69: =(SUMIFS(FMZINp3_laika_grafiks!$K$93:$K$231,FMZINp3_laika_grafiks!#REF!,'GRAFIKI II'!$AB69,FMZINp3_laika_grafiks!$M$93:$M$231,'GRAFIKI II'!AC$61)/1000000)+AC68 -> #REF! | AD69: =(SUMIFS(FMZINp3_laika_grafiks!$K$93:$K$231,FMZINp3_laika_grafiks!#REF!,'GRAFIKI II'!$AB69,FMZINp3_laika_grafiks!$M$93:$M$231,'GRAFIKI II'!AD$61)/1000000)+AD68 -> #REF! | AE69: =(SUMIFS(FMZINp3_laika_grafiks!$K$93:$K$231,FMZINp3_laika_grafiks!#REF!,'GRAFIKI II'!$AB69,FMZINp3_laika_grafiks!$M$93:$M$231,'GRAFIKI II'!AE$61)/1000000)+AE68 -> #REF! | AF69: =(SUMIFS(FMZINp3_laika_grafiks!$K$93:$K$231,FMZINp3_laika_grafiks!#REF!,'GRAFIKI II'!$AB69,FMZINp3_laika_grafiks!$M$93:$M$231,'GRAFIKI II'!AF$61)/1000000)+AF68 -> #REF! | AG69: =(SUMIFS(FMZINp3_laika_grafiks!$K$93:$K$231,FMZINp3_laika_grafiks!#REF!,'GRAFIKI II'!$AB69,FMZINp3_laika_grafiks!$M$93:$M$231,'GRAFIKI II'!AG$61)/1000000)+AG68 -> #REF! | AH69: =(SUMIFS(FMZINp3_laika_grafiks!$K$93:$K$231,FMZINp3_laika_grafiks!#REF!,'GRAFIKI II'!$AB69,FMZINp3_laika_grafiks!$M$93:$M$231,'GRAFIKI II'!AH$61)/1000000)+AH68 -> #REF! | AI69: =(SUMIFS(FMZINp3_laika_grafiks!$K$93:$K$231,FMZINp3_laika_grafiks!#REF!,'GRAFIKI II'!$AB69,FMZINp3_laika_grafiks!$M$93:$M$231,'GRAFIKI II'!AI$61)/1000000)+AI68 -> #REF! | AJ69: =(SUMIFS(FMZINp3_laika_grafiks!$K$93:$K$231,FMZINp3_laika_grafiks!#REF!,'GRAFIKI II'!$AB69,FMZINp3_laika_grafiks!$M$93:$M$231,'GRAFIKI II'!AJ$61)/1000000)+AJ68 -> #REF! | ... AN69: =(SUMIFS(FMZINp3_laika_grafiks!$K$93:$K$231,FMZINp3_laika_grafiks!#REF!,'GRAFIKI II'!$AB69,FMZINp3_laika_grafiks!$M$93:$M$231,'GRAFIKI II'!AN$61)/1000000)+AN68 -> #REF!
A70: 2024 IV | B70: =(SUMIFS(FMZINp3_laika_grafiks!$K$93:$K$231,FMZINp3_laika_grafiks!#REF!,$A70,FMZINp3_laika_grafiks!$M$93:$M$231,B$61))/1000000+B69 -> #REF! | C70: =(B70-AC70)+C69 -> #REF! | D70: =(SUMIFS(FMZINp3_laika_grafiks!$K$93:$K$231,FMZINp3_laika_grafiks!#REF!,$A70,FMZINp3_laika_grafiks!$M$93:$M$231,D$61))/1000000+D69 -> #REF! | E70: =(D70-AD70)+E69 -> #REF! | F70: =(SUMIFS(FMZINp3_laika_grafiks!$K$93:$K$231,FMZINp3_laika_grafiks!#REF!,$A70,FMZINp3_laika_grafiks!$M$93:$M$231,F$61))/1000000+F69 -> #REF! | G70: =(F70-AE70)+G69 -> #REF! | H70: =(SUMIFS(FMZINp3_laika_grafiks!$K$93:$K$231,FMZINp3_laika_grafiks!#REF!,$A70,FMZINp3_laika_grafiks!$M$93:$M$231,H$61))/1000000+H69 -> #REF! | I70: =(H70-AF70)+I69 -> #REF! | J70: =(SUMIFS(FMZINp3_laika_grafiks!$K$93:$K$231,FMZINp3_laika_grafiks!#REF!,$A70,FMZINp3_laika_grafiks!$M$93:$M$231,J$61))/1000000+J69 -> #REF! | K70: =(J70-AG70)+K69 -> #REF! | L70: =(SUMIFS(FMZINp3_laika_grafiks!$K$93:$K$231,FMZINp3_laika_grafiks!#REF!,$A70,FMZINp3_laika_grafiks!$M$93:$M$231,L$61))/1000000+L69 -> #REF! | M70: =(L70-AH70)+M69 -> #REF! | N70: =(SUMIFS(FMZINp3_laika_grafiks!$K$93:$K$231,FMZINp3_laika_grafiks!#REF!,$A70,FMZINp3_laika_grafiks!$M$93:$M$231,N$61))/1000000+N69 -> #REF! | O70: =(N70-AI70)+O69 -> #REF! | P70: =(SUMIFS(FMZINp3_laika_grafiks!$K$93:$K$231,FMZINp3_laika_grafiks!#REF!,$A70,FMZINp3_laika_grafiks!$M$93:$M$231,P$61))/1000000+P69 -> #REF! | Q70: =(P70-AJ70)+Q69 -> #REF! | R70: =(SUMIFS(FMZINp3_laika_grafiks!$K$93:$K$231,FMZINp3_laika_grafiks!#REF!,$A70,FMZINp3_laika_grafiks!$M$93:$M$231,R$61))/1000000+R69 -> #REF! | S70: =(R70-AK70)+S69 -> #REF! | T70: =(SUMIFS(FMZINp3_laika_grafiks!$K$93:$K$231,FMZINp3_laika_grafiks!#REF!,$A70,FMZINp3_laika_grafiks!$M$93:$M$231,T$61))/1000000+T69 -> #REF! | U70: =(T70-AL70)+U69 -> #REF! | V70: =(SUMIFS(FMZINp3_laika_grafiks!$K$93:$K$231,FMZINp3_laika_grafiks!#REF!,$A70,FMZINp3_laika_grafiks!$M$93:$M$231,V$61))/1000000+V69 -> #REF! | W70: =(V70-AM70)+W69 -> #REF! | X70: =(SUMIFS(FMZINp3_laika_grafiks!$K$93:$K$231,FMZINp3_laika_grafiks!#REF!,$A70,FMZINp3_laika_grafiks!$M$93:$M$231,X$61))/1000000+X69 -> #REF! | Y70: =(X70-AN70)+Y69 -> #REF! | AB70: 2024 IV | AC70: =(SUMIFS(FMZINp3_laika_grafiks!$K$93:$K$231,FMZINp3_laika_grafiks!#REF!,'GRAFIKI II'!$AB70,FMZINp3_laika_grafiks!$M$93:$M$231,'GRAFIKI II'!AC$61)/1000000)+AC69 -> #REF! | AD70: =(SUMIFS(FMZINp3_laika_grafiks!$K$93:$K$231,FMZINp3_laika_grafiks!#REF!,'GRAFIKI II'!$AB70,FMZINp3_laika_grafiks!$M$93:$M$231,'GRAFIKI II'!AD$61)/1000000)+AD69 -> #REF! | AE70: =(SUMIFS(FMZINp3_laika_grafiks!$K$93:$K$231,FMZINp3_laika_grafiks!#REF!,'GRAFIKI II'!$AB70,FMZINp3_laika_grafiks!$M$93:$M$231,'GRAFIKI II'!AE$61)/1000000)+AE69 -> #REF! | AF70: =(SUMIFS(FMZINp3_laika_grafiks!$K$93:$K$231,FMZINp3_laika_grafiks!#REF!,'GRAFIKI II'!$AB70,FMZINp3_laika_grafiks!$M$93:$M$231,'GRAFIKI II'!AF$61)/1000000)+AF69 -> #REF! | AG70: =(SUMIFS(FMZINp3_laika_grafiks!$K$93:$K$231,FMZINp3_laika_grafiks!#REF!,'GRAFIKI II'!$AB70,FMZINp3_laika_grafiks!$M$93:$M$231,'GRAFIKI II'!AG$61)/1000000)+AG69 -> #REF! | AH70: =(SUMIFS(FMZINp3_laika_grafiks!$K$93:$K$231,FMZINp3_laika_grafiks!#REF!,'GRAFIKI II'!$AB70,FMZINp3_laika_grafiks!$M$93:$M$231,'GRAFIKI II'!AH$61)/1000000)+AH69 -> #REF! | AI70: =(SUMIFS(FMZINp3_laika_grafiks!$K$93:$K$231,FMZINp3_laika_grafiks!#REF!,'GRAFIKI II'!$AB70,FMZINp3_laika_grafiks!$M$93:$M$231,'GRAFIKI II'!AI$61)/1000000)+AI69 -> #REF! | AJ70: =(SUMIFS(FMZINp3_laika_grafiks!$K$93:$K$231,FMZINp3_laika_grafiks!#REF!,'GRAFIKI II'!$AB70,FMZINp3_laika_grafiks!$M$93:$M$231,'GRAFIKI II'!AJ$61)/1000000)+AJ69 -> #REF! | ... AN70: =(SUMIFS(FMZINp3_laika_grafiks!$K$93:$K$231,FMZINp3_laika_grafiks!#REF!,'GRAFIKI II'!$AB70,FMZINp3_laika_grafiks!$M$93:$M$231,'GRAFIKI II'!AN$61)/1000000)+AN69 -> #REF!
A71: 2025 I | B71: =(SUMIFS(FMZINp3_laika_grafiks!$K$93:$K$231,FMZINp3_laika_grafiks!#REF!,$A71,FMZINp3_laika_grafiks!$M$93:$M$231,B$61))/1000000+B70 -> #REF! | C71: =(B71-AC71)+C70 -> #REF! | D71: =(SUMIFS(FMZINp3_laika_grafiks!$K$93:$K$231,FMZINp3_laika_grafiks!#REF!,$A71,FMZINp3_laika_grafiks!$M$93:$M$231,D$61))/1000000+D70 -> #REF! | E71: =(D71-AD71)+E70 -> #REF! | F71: =(SUMIFS(FMZINp3_laika_grafiks!$K$93:$K$231,FMZINp3_laika_grafiks!#REF!,$A71,FMZINp3_laika_grafiks!$M$93:$M$231,F$61))/1000000+F70 -> #REF! | G71: =(F71-AE71)+G70 -> #REF! | H71: =(SUMIFS(FMZINp3_laika_grafiks!$K$93:$K$231,FMZINp3_laika_grafiks!#REF!,$A71,FMZINp3_laika_grafiks!$M$93:$M$231,H$61))/1000000+H70 -> #REF! | I71: =(H71-AF71)+I70 -> #REF! | J71: =(SUMIFS(FMZINp3_laika_grafiks!$K$93:$K$231,FMZINp3_laika_grafiks!#REF!,$A71,FMZINp3_laika_grafiks!$M$93:$M$231,J$61))/1000000+J70 -> #REF! | K71: =(J71-AG71)+K70 -> #REF! | L71: =(SUMIFS(FMZINp3_laika_grafiks!$K$93:$K$231,FMZINp3_laika_grafiks!#REF!,$A71,FMZINp3_laika_grafiks!$M$93:$M$231,L$61))/1000000+L70 -> #REF! | M71: =(L71-AH71)+M70 -> #REF! | N71: =(SUMIFS(FMZINp3_laika_grafiks!$K$93:$K$231,FMZINp3_laika_grafiks!#REF!,$A71,FMZINp3_laika_grafiks!$M$93:$M$231,N$61))/1000000+N70 -> #REF! | O71: =(N71-AI71)+O70 -> #REF! | P71: =(SUMIFS(FMZINp3_laika_grafiks!$K$93:$K$231,FMZINp3_laika_grafiks!#REF!,$A71,FMZINp3_laika_grafiks!$M$93:$M$231,P$61))/1000000+P70 -> #REF! | Q71: =(P71-AJ71)+Q70 -> #REF! | R71: =(SUMIFS(FMZINp3_laika_grafiks!$K$93:$K$231,FMZINp3_laika_grafiks!#REF!,$A71,FMZINp3_laika_grafiks!$M$93:$M$231,R$61))/1000000+R70 -> #REF! | S71: =(R71-AK71)+S70 -> #REF! | T71: =(SUMIFS(FMZINp3_laika_grafiks!$K$93:$K$231,FMZINp3_laika_grafiks!#REF!,$A71,FMZINp3_laika_grafiks!$M$93:$M$231,T$61))/1000000+T70 -> #REF! | U71: =(T71-AL71)+U70 -> #REF! | V71: =(SUMIFS(FMZINp3_laika_grafiks!$K$93:$K$231,FMZINp3_laika_grafiks!#REF!,$A71,FMZINp3_laika_grafiks!$M$93:$M$231,V$61))/1000000+V70 -> #REF! | W71: =(V71-AM71)+W70 -> #REF! | X71: =(SUMIFS(FMZINp3_laika_grafiks!$K$93:$K$231,FMZINp3_laika_grafiks!#REF!,$A71,FMZINp3_laika_grafiks!$M$93:$M$231,X$61))/1000000+X70 -> #REF! | Y71: =(X71-AN71)+Y70 -> #REF! | AB71: 2025 I | AC71: =(SUMIFS(FMZINp3_laika_grafiks!$K$93:$K$231,FMZINp3_laika_grafiks!#REF!,'GRAFIKI II'!$AB71,FMZINp3_laika_grafiks!$M$93:$M$231,'GRAFIKI II'!AC$61)/1000000)+AC70 -> #REF! | AD71: =(SUMIFS(FMZINp3_laika_grafiks!$K$93:$K$231,FMZINp3_laika_grafiks!#REF!,'GRAFIKI II'!$AB71,FMZINp3_laika_grafiks!$M$93:$M$231,'GRAFIKI II'!AD$61)/1000000)+AD70 -> #REF! | AE71: =(SUMIFS(FMZINp3_laika_grafiks!$K$93:$K$231,FMZINp3_laika_grafiks!#REF!,'GRAFIKI II'!$AB71,FMZINp3_laika_grafiks!$M$93:$M$231,'GRAFIKI II'!AE$61)/1000000)+AE70 -> #REF! | AF71: =(SUMIFS(FMZINp3_laika_grafiks!$K$93:$K$231,FMZINp3_laika_grafiks!#REF!,'GRAFIKI II'!$AB71,FMZINp3_laika_grafiks!$M$93:$M$231,'GRAFIKI II'!AF$61)/1000000)+AF70 -> #REF! | AG71: =(SUMIFS(FMZINp3_laika_grafiks!$K$93:$K$231,FMZINp3_laika_grafiks!#REF!,'GRAFIKI II'!$AB71,FMZINp3_laika_grafiks!$M$93:$M$231,'GRAFIKI II'!AG$61)/1000000)+AG70 -> #REF! | AH71: =(SUMIFS(FMZINp3_laika_grafiks!$K$93:$K$231,FMZINp3_laika_grafiks!#REF!,'GRAFIKI II'!$AB71,FMZINp3_laika_grafiks!$M$93:$M$231,'GRAFIKI II'!AH$61)/1000000)+AH70 -> #REF! | AI71: =(SUMIFS(FMZINp3_laika_grafiks!$K$93:$K$231,FMZINp3_laika_grafiks!#REF!,'GRAFIKI II'!$AB71,FMZINp3_laika_grafiks!$M$93:$M$231,'GRAFIKI II'!AI$61)/1000000)+AI70 -> #REF! | AJ71: =(SUMIFS(FMZINp3_laika_grafiks!$K$93:$K$231,FMZINp3_laika_grafiks!#REF!,'GRAFIKI II'!$AB71,FMZINp3_laika_grafiks!$M$93:$M$231,'GRAFIKI II'!AJ$61)/1000000)+AJ70 -> #REF! | ... AN71: =(SUMIFS(FMZINp3_laika_grafiks!$K$93:$K$231,FMZINp3_laika_grafiks!#REF!,'GRAFIKI II'!$AB71,FMZINp3_laika_grafiks!$M$93:$M$231,'GRAFIKI II'!AN$61)/1000000)+AN70 -> #REF!
A72: 2025 II | B72: =(SUMIFS(FMZINp3_laika_grafiks!$K$93:$K$231,FMZINp3_laika_grafiks!#REF!,$A72,FMZINp3_laika_grafiks!$M$93:$M$231,B$61))/1000000+B71 -> #REF! | C72: =(B72-AC72)+C71 -> #REF! | D72: =(SUMIFS(FMZINp3_laika_grafiks!$K$93:$K$231,FMZINp3_laika_grafiks!#REF!,$A72,FMZINp3_laika_grafiks!$M$93:$M$231,D$61))/1000000+D71 -> #REF! | E72: =(D72-AD72)+E71 -> #REF! | F72: =(SUMIFS(FMZINp3_laika_grafiks!$K$93:$K$231,FMZINp3_laika_grafiks!#REF!,$A72,FMZINp3_laika_grafiks!$M$93:$M$231,F$61))/1000000+F71 -> #REF! | G72: =(F72-AE72)+G71 -> #REF! | H72: =(SUMIFS(FMZINp3_laika_grafiks!$K$93:$K$231,FMZINp3_laika_grafiks!#REF!,$A72,FMZINp3_laika_grafiks!$M$93:$M$231,H$61))/1000000+H71 -> #REF! | I72: =(H72-AF72)+I71 -> #REF! | J72: =(SUMIFS(FMZINp3_laika_grafiks!$K$93:$K$231,FMZINp3_laika_grafiks!#REF!,$A72,FMZINp3_laika_grafiks!$M$93:$M$231,J$61))/1000000+J71 -> #REF! | K72: =(J72-AG72)+K71 -> #REF! | L72: =(SUMIFS(FMZINp3_laika_grafiks!$K$93:$K$231,FMZINp3_laika_grafiks!#REF!,$A72,FMZINp3_laika_grafiks!$M$93:$M$231,L$61))/1000000+L71 -> #REF! | M72: =(L72-AH72)+M71 -> #REF! | N72: =(SUMIFS(FMZINp3_laika_grafiks!$K$93:$K$231,FMZINp3_laika_grafiks!#REF!,$A72,FMZINp3_laika_grafiks!$M$93:$M$231,N$61))/1000000+N71 -> #REF! | O72: =(N72-AI72)+O71 -> #REF! | P72: =(SUMIFS(FMZINp3_laika_grafiks!$K$93:$K$231,FMZINp3_laika_grafiks!#REF!,$A72,FMZINp3_laika_grafiks!$M$93:$M$231,P$61))/1000000+P71 -> #REF! | Q72: =(P72-AJ72)+Q71 -> #REF! | R72: =(SUMIFS(FMZINp3_laika_grafiks!$K$93:$K$231,FMZINp3_laika_grafiks!#REF!,$A72,FMZINp3_laika_grafiks!$M$93:$M$231,R$61))/1000000+R71 -> #REF! | S72: =(R72-AK72)+S71 -> #REF! | T72: =(SUMIFS(FMZINp3_laika_grafiks!$K$93:$K$231,FMZINp3_laika_grafiks!#REF!,$A72,FMZINp3_laika_grafiks!$M$93:$M$231,T$61))/1000000+T71 -> #REF! | U72: =(T72-AL72)+U71 -> #REF! | V72: =(SUMIFS(FMZINp3_laika_grafiks!$K$93:$K$231,FMZINp3_laika_grafiks!#REF!,$A72,FMZINp3_laika_grafiks!$M$93:$M$231,V$61))/1000000+V71 -> #REF! | W72: =(V72-AM72)+W71 -> #REF! | X72: =(SUMIFS(FMZINp3_laika_grafiks!$K$93:$K$231,FMZINp3_laika_grafiks!#REF!,$A72,FMZINp3_laika_grafiks!$M$93:$M$231,X$61))/1000000+X71 -> #REF! | Y72: =(X72-AN72)+Y71 -> #REF! | AB72: 2025 II | AC72: =(SUMIFS(FMZINp3_laika_grafiks!$K$93:$K$231,FMZINp3_laika_grafiks!#REF!,'GRAFIKI II'!$AB72,FMZINp3_laika_grafiks!$M$93:$M$231,'GRAFIKI II'!AC$61)/1000000)+AC71 -> #REF! | AD72: =(SUMIFS(FMZINp3_laika_grafiks!$K$93:$K$231,FMZINp3_laika_grafiks!#REF!,'GRAFIKI II'!$AB72,FMZINp3_laika_grafiks!$M$93:$M$231,'GRAFIKI II'!AD$61)/1000000)+AD71 -> #REF! | AE72: =(SUMIFS(FMZINp3_laika_grafiks!$K$93:$K$231,FMZINp3_laika_grafiks!#REF!,'GRAFIKI II'!$AB72,FMZINp3_laika_grafiks!$M$93:$M$231,'GRAFIKI II'!AE$61)/1000000)+AE71 -> #REF! | AF72: =(SUMIFS(FMZINp3_laika_grafiks!$K$93:$K$231,FMZINp3_laika_grafiks!#REF!,'GRAFIKI II'!$AB72,FMZINp3_laika_grafiks!$M$93:$M$231,'GRAFIKI II'!AF$61)/1000000)+AF71 -> #REF! | AG72: =(SUMIFS(FMZINp3_laika_grafiks!$K$93:$K$231,FMZINp3_laika_grafiks!#REF!,'GRAFIKI II'!$AB72,FMZINp3_laika_grafiks!$M$93:$M$231,'GRAFIKI II'!AG$61)/1000000)+AG71 -> #REF! | AH72: =(SUMIFS(FMZINp3_laika_grafiks!$K$93:$K$231,FMZINp3_laika_grafiks!#REF!,'GRAFIKI II'!$AB72,FMZINp3_laika_grafiks!$M$93:$M$231,'GRAFIKI II'!AH$61)/1000000)+AH71 -> #REF! | AI72: =(SUMIFS(FMZINp3_laika_grafiks!$K$93:$K$231,FMZINp3_laika_grafiks!#REF!,'GRAFIKI II'!$AB72,FMZINp3_laika_grafiks!$M$93:$M$231,'GRAFIKI II'!AI$61)/1000000)+AI71 -> #REF! | AJ72: =(SUMIFS(FMZINp3_laika_grafiks!$K$93:$K$231,FMZINp3_laika_grafiks!#REF!,'GRAFIKI II'!$AB72,FMZINp3_laika_grafiks!$M$93:$M$231,'GRAFIKI II'!AJ$61)/1000000)+AJ71 -> #REF! | ... AN72: =(SUMIFS(FMZINp3_laika_grafiks!$K$93:$K$231,FMZINp3_laika_grafiks!#REF!,'GRAFIKI II'!$AB72,FMZINp3_laika_grafiks!$M$93:$M$231,'GRAFIKI II'!AN$61)/1000000)+AN71 -> #REF!
A73: 2025 III | B73: =(SUMIFS(FMZINp3_laika_grafiks!$K$93:$K$231,FMZINp3_laika_grafiks!#REF!,$A73,FMZINp3_laika_grafiks!$M$93:$M$231,B$61))/1000000+B72 -> #REF! | C73: =(B73-AC73)+C72 -> #REF! | D73: =(SUMIFS(FMZINp3_laika_grafiks!$K$93:$K$231,FMZINp3_laika_grafiks!#REF!,$A73,FMZINp3_laika_grafiks!$M$93:$M$231,D$61))/1000000+D72 -> #REF! | E73: =(D73-AD73)+E72 -> #REF! | F73: =(SUMIFS(FMZINp3_laika_grafiks!$K$93:$K$231,FMZINp3_laika_grafiks!#REF!,$A73,FMZINp3_laika_grafiks!$M$93:$M$231,F$61))/1000000+F72 -> #REF! | G73: =(F73-AE73)+G72 -> #REF! | H73: =(SUMIFS(FMZINp3_laika_grafiks!$K$93:$K$231,FMZINp3_laika_grafiks!#REF!,$A73,FMZINp3_laika_grafiks!$M$93:$M$231,H$61))/1000000+H72 -> #REF! | I73: =(H73-AF73)+I72 -> #REF! | J73: =(SUMIFS(FMZINp3_laika_grafiks!$K$93:$K$231,FMZINp3_laika_grafiks!#REF!,$A73,FMZINp3_laika_grafiks!$M$93:$M$231,J$61))/1000000+J72 -> #REF! | K73: =(J73-AG73)+K72 -> #REF! | L73: =(SUMIFS(FMZINp3_laika_grafiks!$K$93:$K$231,FMZINp3_laika_grafiks!#REF!,$A73,FMZINp3_laika_grafiks!$M$93:$M$231,L$61))/1000000+L72 -> #REF! | M73: =(L73-AH73)+M72 -> #REF! | N73: =(SUMIFS(FMZINp3_laika_grafiks!$K$93:$K$231,FMZINp3_laika_grafiks!#REF!,$A73,FMZINp3_laika_grafiks!$M$93:$M$231,N$61))/1000000+N72 -> #REF! | O73: =(N73-AI73)+O72 -> #REF! | P73: =(SUMIFS(FMZINp3_laika_grafiks!$K$93:$K$231,FMZINp3_laika_grafiks!#REF!,$A73,FMZINp3_laika_grafiks!$M$93:$M$231,P$61))/1000000+P72 -> #REF! | Q73: =(P73-AJ73)+Q72 -> #REF! | R73: =(SUMIFS(FMZINp3_laika_grafiks!$K$93:$K$231,FMZINp3_laika_grafiks!#REF!,$A73,FMZINp3_laika_grafiks!$M$93:$M$231,R$61))/1000000+R72 -> #REF! | S73: =(R73-AK73)+S72 -> #REF! | T73: =(SUMIFS(FMZINp3_laika_grafiks!$K$93:$K$231,FMZINp3_laika_grafiks!#REF!,$A73,FMZINp3_laika_grafiks!$M$93:$M$231,T$61))/1000000+T72 -> #REF! | U73: =(T73-AL73)+U72 -> #REF! | V73: =(SUMIFS(FMZINp3_laika_grafiks!$K$93:$K$231,FMZINp3_laika_grafiks!#REF!,$A73,FMZINp3_laika_grafiks!$M$93:$M$231,V$61))/1000000+V72 -> #REF! | W73: =(V73-AM73)+W72 -> #REF! | X73: =(SUMIFS(FMZINp3_laika_grafiks!$K$93:$K$231,FMZINp3_laika_grafiks!#REF!,$A73,FMZINp3_laika_grafiks!$M$93:$M$231,X$61))/1000000+X72 -> #REF! | Y73: =(X73-AN73)+Y72 -> #REF! | AB73: 2025 III | AC73: =(SUMIFS(FMZINp3_laika_grafiks!$K$93:$K$231,FMZINp3_laika_grafiks!#REF!,'GRAFIKI II'!$AB73,FMZINp3_laika_grafiks!$M$93:$M$231,'GRAFIKI II'!AC$61)/1000000)+AC72 -> #REF! | AD73: =(SUMIFS(FMZINp3_laika_grafiks!$K$93:$K$231,FMZINp3_laika_grafiks!#REF!,'GRAFIKI II'!$AB73,FMZINp3_laika_grafiks!$M$93:$M$231,'GRAFIKI II'!AD$61)/1000000)+AD72 -> #REF! | AE73: =(SUMIFS(FMZINp3_laika_grafiks!$K$93:$K$231,FMZINp3_laika_grafiks!#REF!,'GRAFIKI II'!$AB73,FMZINp3_laika_grafiks!$M$93:$M$231,'GRAFIKI II'!AE$61)/1000000)+AE72 -> #REF! | AF73: =(SUMIFS(FMZINp3_laika_grafiks!$K$93:$K$231,FMZINp3_laika_grafiks!#REF!,'GRAFIKI II'!$AB73,FMZINp3_laika_grafiks!$M$93:$M$231,'GRAFIKI II'!AF$61)/1000000)+AF72 -> #REF! | AG73: =(SUMIFS(FMZINp3_laika_grafiks!$K$93:$K$231,FMZINp3_laika_grafiks!#REF!,'GRAFIKI II'!$AB73,FMZINp3_laika_grafiks!$M$93:$M$231,'GRAFIKI II'!AG$61)/1000000)+AG72 -> #REF! | AH73: =(SUMIFS(FMZINp3_laika_grafiks!$K$93:$K$231,FMZINp3_laika_grafiks!#REF!,'GRAFIKI II'!$AB73,FMZINp3_laika_grafiks!$M$93:$M$231,'GRAFIKI II'!AH$61)/1000000)+AH72 -> #REF! | AI73: =(SUMIFS(FMZINp3_laika_grafiks!$K$93:$K$231,FMZINp3_laika_grafiks!#REF!,'GRAFIKI II'!$AB73,FMZINp3_laika_grafiks!$M$93:$M$231,'GRAFIKI II'!AI$61)/1000000)+AI72 -> #REF! | AJ73: =(SUMIFS(FMZINp3_laika_grafiks!$K$93:$K$231,FMZINp3_laika_grafiks!#REF!,'GRAFIKI II'!$AB73,FMZINp3_laika_grafiks!$M$93:$M$231,'GRAFIKI II'!AJ$61)/1000000)+AJ72 -> #REF! | ... AN73: =(SUMIFS(FMZINp3_laika_grafiks!$K$93:$K$231,FMZINp3_laika_grafiks!#REF!,'GRAFIKI II'!$AB73,FMZINp3_laika_grafiks!$M$93:$M$231,'GRAFIKI II'!AN$61)/1000000)+AN72 -> #REF!
A74: 2025 IV | B74: =(SUMIFS(FMZINp3_laika_grafiks!$K$93:$K$231,FMZINp3_laika_grafiks!#REF!,$A74,FMZINp3_laika_grafiks!$M$93:$M$231,B$61))/1000000+B73 -> #REF! | C74: =(B74-AC74)+C73 -> #REF! | D74: =(SUMIFS(FMZINp3_laika_grafiks!$K$93:$K$231,FMZINp3_laika_grafiks!#REF!,$A74,FMZINp3_laika_grafiks!$M$93:$M$231,D$61))/1000000+D73 -> #REF! | E74: =(D74-AD74)+E73 -> #REF! | F74: =(SUMIFS(FMZINp3_laika_grafiks!$K$93:$K$231,FMZINp3_laika_grafiks!#REF!,$A74,FMZINp3_laika_grafiks!$M$93:$M$231,F$61))/1000000+F73 -> #REF! | G74: =(F74-AE74)+G73 -> #REF! | H74: =(SUMIFS(FMZINp3_laika_grafiks!$K$93:$K$231,FMZINp3_laika_grafiks!#REF!,$A74,FMZINp3_laika_grafiks!$M$93:$M$231,H$61))/1000000+H73 -> #REF! | I74: =(H74-AF74)+I73 -> #REF! | J74: =(SUMIFS(FMZINp3_laika_grafiks!$K$93:$K$231,FMZINp3_laika_grafiks!#REF!,$A74,FMZINp3_laika_grafiks!$M$93:$M$231,J$61))/1000000+J73 -> #REF! | K74: =(J74-AG74)+K73 -> #REF! | L74: =(SUMIFS(FMZINp3_laika_grafiks!$K$93:$K$231,FMZINp3_laika_grafiks!#REF!,$A74,FMZINp3_laika_grafiks!$M$93:$M$231,L$61))/1000000+L73 -> #REF! | M74: =(L74-AH74)+M73 -> #REF! | N74: =(SUMIFS(FMZINp3_laika_grafiks!$K$93:$K$231,FMZINp3_laika_grafiks!#REF!,$A74,FMZINp3_laika_grafiks!$M$93:$M$231,N$61))/1000000+N73 -> #REF! | O74: =(N74-AI74)+O73 -> #REF! | P74: =(SUMIFS(FMZINp3_laika_grafiks!$K$93:$K$231,FMZINp3_laika_grafiks!#REF!,$A74,FMZINp3_laika_grafiks!$M$93:$M$231,P$61))/1000000+P73 -> #REF! | Q74: =(P74-AJ74)+Q73 -> #REF! | R74: =(SUMIFS(FMZINp3_laika_grafiks!$K$93:$K$231,FMZINp3_laika_grafiks!#REF!,$A74,FMZINp3_laika_grafiks!$M$93:$M$231,R$61))/1000000+R73 -> #REF! | S74: =(R74-AK74)+S73 -> #REF! | T74: =(SUMIFS(FMZINp3_laika_grafiks!$K$93:$K$231,FMZINp3_laika_grafiks!#REF!,$A74,FMZINp3_laika_grafiks!$M$93:$M$231,T$61))/1000000+T73 -> #REF! | U74: =(T74-AL74)+U73 -> #REF! | V74: =(SUMIFS(FMZINp3_laika_grafiks!$K$93:$K$231,FMZINp3_laika_grafiks!#REF!,$A74,FMZINp3_laika_grafiks!$M$93:$M$231,V$61))/1000000+V73 -> #REF! | W74: =(V74-AM74)+W73 -> #REF! | X74: =(SUMIFS(FMZINp3_laika_grafiks!$K$93:$K$231,FMZINp3_laika_grafiks!#REF!,$A74,FMZINp3_laika_grafiks!$M$93:$M$231,X$61))/1000000+X73 -> #REF! | Y74: =(X74-AN74)+Y73 -> #REF! | AB74: 2025 IV | AC74: =(SUMIFS(FMZINp3_laika_grafiks!$K$93:$K$231,FMZINp3_laika_grafiks!#REF!,'GRAFIKI II'!$AB74,FMZINp3_laika_grafiks!$M$93:$M$231,'GRAFIKI II'!AC$61)/1000000)+AC73 -> #REF! | AD74: =(SUMIFS(FMZINp3_laika_grafiks!$K$93:$K$231,FMZINp3_laika_grafiks!#REF!,'GRAFIKI II'!$AB74,FMZINp3_laika_grafiks!$M$93:$M$231,'GRAFIKI II'!AD$61)/1000000)+AD73 -> #REF! | AE74: =(SUMIFS(FMZINp3_laika_grafiks!$K$93:$K$231,FMZINp3_laika_grafiks!#REF!,'GRAFIKI II'!$AB74,FMZINp3_laika_grafiks!$M$93:$M$231,'GRAFIKI II'!AE$61)/1000000)+AE73 -> #REF! | AF74: =(SUMIFS(FMZINp3_laika_grafiks!$K$93:$K$231,FMZINp3_laika_grafiks!#REF!,'GRAFIKI II'!$AB74,FMZINp3_laika_grafiks!$M$93:$M$231,'GRAFIKI II'!AF$61)/1000000)+AF73 -> #REF! | AG74: =(SUMIFS(FMZINp3_laika_grafiks!$K$93:$K$231,FMZINp3_laika_grafiks!#REF!,'GRAFIKI II'!$AB74,FMZINp3_laika_grafiks!$M$93:$M$231,'GRAFIKI II'!AG$61)/1000000)+AG73 -> #REF! | AH74: =(SUMIFS(FMZINp3_laika_grafiks!$K$93:$K$231,FMZINp3_laika_grafiks!#REF!,'GRAFIKI II'!$AB74,FMZINp3_laika_grafiks!$M$93:$M$231,'GRAFIKI II'!AH$61)/1000000)+AH73 -> #REF! | AI74: =(SUMIFS(FMZINp3_laika_grafiks!$K$93:$K$231,FMZINp3_laika_grafiks!#REF!,'GRAFIKI II'!$AB74,FMZINp3_laika_grafiks!$M$93:$M$231,'GRAFIKI II'!AI$61)/1000000)+AI73 -> #REF! | AJ74: =(SUMIFS(FMZINp3_laika_grafiks!$K$93:$K$231,FMZINp3_laika_grafiks!#REF!,'GRAFIKI II'!$AB74,FMZINp3_laika_grafiks!$M$93:$M$231,'GRAFIKI II'!AJ$61)/1000000)+AJ73 -> #REF! | ... AN74: =(SUMIFS(FMZINp3_laika_grafiks!$K$93:$K$231,FMZINp3_laika_grafiks!#REF!,'GRAFIKI II'!$AB74,FMZINp3_laika_grafiks!$M$93:$M$231,'GRAFIKI II'!AN$61)/1000000)+AN73 -> #REF!
A75: 2026 I | B75: =(SUMIFS(FMZINp3_laika_grafiks!$K$93:$K$231,FMZINp3_laika_grafiks!#REF!,$A75,FMZINp3_laika_grafiks!$M$93:$M$231,B$61))/1000000+B74 -> #REF! | C75: =(B75-AC75)+C74 -> #REF! | D75: =(SUMIFS(FMZINp3_laika_grafiks!$K$93:$K$231,FMZINp3_laika_grafiks!#REF!,$A75,FMZINp3_laika_grafiks!$M$93:$M$231,D$61))/1000000+D74 -> #REF! | E75: =(D75-AD75)+E74 -> #REF! | F75: =(SUMIFS(FMZINp3_laika_grafiks!$K$93:$K$231,FMZINp3_laika_grafiks!#REF!,$A75,FMZINp3_laika_grafiks!$M$93:$M$231,F$61))/1000000+F74 -> #REF! | G75: =(F75-AE75)+G74 -> #REF! | H75: =(SUMIFS(FMZINp3_laika_grafiks!$K$93:$K$231,FMZINp3_laika_grafiks!#REF!,$A75,FMZINp3_laika_grafiks!$M$93:$M$231,H$61))/1000000+H74 -> #REF! | I75: =(H75-AF75)+I74 -> #REF! | J75: =(SUMIFS(FMZINp3_laika_grafiks!$K$93:$K$231,FMZINp3_laika_grafiks!#REF!,$A75,FMZINp3_laika_grafiks!$M$93:$M$231,J$61))/1000000+J74 -> #REF! | K75: =(J75-AG75)+K74 -> #REF! | L75: =(SUMIFS(FMZINp3_laika_grafiks!$K$93:$K$231,FMZINp3_laika_grafiks!#REF!,$A75,FMZINp3_laika_grafiks!$M$93:$M$231,L$61))/1000000+L74 -> #REF! | M75: =(L75-AH75)+M74 -> #REF! | N75: =(SUMIFS(FMZINp3_laika_grafiks!$K$93:$K$231,FMZINp3_laika_grafiks!#REF!,$A75,FMZINp3_laika_grafiks!$M$93:$M$231,N$61))/1000000+N74 -> #REF! | O75: =(N75-AI75)+O74 -> #REF! | P75: =(SUMIFS(FMZINp3_laika_grafiks!$K$93:$K$231,FMZINp3_laika_grafiks!#REF!,$A75,FMZINp3_laika_grafiks!$M$93:$M$231,P$61))/1000000+P74 -> #REF! | Q75: =(P75-AJ75)+Q74 -> #REF! | R75: =(SUMIFS(FMZINp3_laika_grafiks!$K$93:$K$231,FMZINp3_laika_grafiks!#REF!,$A75,FMZINp3_laika_grafiks!$M$93:$M$231,R$61))/1000000+R74 -> #REF! | S75: =(R75-AK75)+S74 -> #REF! | T75: =(SUMIFS(FMZINp3_laika_grafiks!$K$93:$K$231,FMZINp3_laika_grafiks!#REF!,$A75,FMZINp3_laika_grafiks!$M$93:$M$231,T$61))/1000000+T74 -> #REF! | U75: =(T75-AL75)+U74 -> #REF! | V75: =(SUMIFS(FMZINp3_laika_grafiks!$K$93:$K$231,FMZINp3_laika_grafiks!#REF!,$A75,FMZINp3_laika_grafiks!$M$93:$M$231,V$61))/1000000+V74 -> #REF! | W75: =(V75-AM75)+W74 -> #REF! | X75: =(SUMIFS(FMZINp3_laika_grafiks!$K$93:$K$231,FMZINp3_laika_grafiks!#REF!,$A75,FMZINp3_laika_grafiks!$M$93:$M$231,X$61))/1000000+X74 -> #REF! | Y75: =(X75-AN75)+Y74 -> #REF! | AB75: 2026 I | AC75: =(SUMIFS(FMZINp3_laika_grafiks!$K$93:$K$231,FMZINp3_laika_grafiks!#REF!,'GRAFIKI II'!$AB75,FMZINp3_laika_grafiks!$M$93:$M$231,'GRAFIKI II'!AC$61)/1000000)+AC74 -> #REF! | AD75: =(SUMIFS(FMZINp3_laika_grafiks!$K$93:$K$231,FMZINp3_laika_grafiks!#REF!,'GRAFIKI II'!$AB75,FMZINp3_laika_grafiks!$M$93:$M$231,'GRAFIKI II'!AD$61)/1000000)+AD74 -> #REF! | AE75: =(SUMIFS(FMZINp3_laika_grafiks!$K$93:$K$231,FMZINp3_laika_grafiks!#REF!,'GRAFIKI II'!$AB75,FMZINp3_laika_grafiks!$M$93:$M$231,'GRAFIKI II'!AE$61)/1000000)+AE74 -> #REF! | AF75: =(SUMIFS(FMZINp3_laika_grafiks!$K$93:$K$231,FMZINp3_laika_grafiks!#REF!,'GRAFIKI II'!$AB75,FMZINp3_laika_grafiks!$M$93:$M$231,'GRAFIKI II'!AF$61)/1000000)+AF74 -> #REF! | AG75: =(SUMIFS(FMZINp3_laika_grafiks!$K$93:$K$231,FMZINp3_laika_grafiks!#REF!,'GRAFIKI II'!$AB75,FMZINp3_laika_grafiks!$M$93:$M$231,'GRAFIKI II'!AG$61)/1000000)+AG74 -> #REF! | AH75: =(SUMIFS(FMZINp3_laika_grafiks!$K$93:$K$231,FMZINp3_laika_grafiks!#REF!,'GRAFIKI II'!$AB75,FMZINp3_laika_grafiks!$M$93:$M$231,'GRAFIKI II'!AH$61)/1000000)+AH74 -> #REF! | AI75: =(SUMIFS(FMZINp3_laika_grafiks!$K$93:$K$231,FMZINp3_laika_grafiks!#REF!,'GRAFIKI II'!$AB75,FMZINp3_laika_grafiks!$M$93:$M$231,'GRAFIKI II'!AI$61)/1000000)+AI74 -> #REF! | AJ75: =(SUMIFS(FMZINp3_laika_grafiks!$K$93:$K$231,FMZINp3_laika_grafiks!#REF!,'GRAFIKI II'!$AB75,FMZINp3_laika_grafiks!$M$93:$M$231,'GRAFIKI II'!AJ$61)/1000000)+AJ74 -> #REF! | ... AN75: =(SUMIFS(FMZINp3_laika_grafiks!$K$93:$K$231,FMZINp3_laika_grafiks!#REF!,'GRAFIKI II'!$AB75,FMZINp3_laika_grafiks!$M$93:$M$231,'GRAFIKI II'!AN$61)/1000000)+AN74 -> #REF!
A76: Uzsaukums par elastības finansējuma apjomu 2026.g. | B76: =(SUMIFS(FMZINp3_laika_grafiks!$K$93:$K$231,FMZINp3_laika_grafiks!#REF!,$A76,FMZINp3_laika_grafiks!$M$93:$M$231,B$61))/1000000+B75 -> #REF! | C76: =(B76-AC76)+C75 -> #REF! | D76: =(SUMIFS(FMZINp3_laika_grafiks!$K$93:$K$231,FMZINp3_laika_grafiks!#REF!,$A76,FMZINp3_laika_grafiks!$M$93:$M$231,D$61))/1000000+D75 -> #REF! | E76: =(D76-AD76)+E75 -> #REF! | F76: =(SUMIFS(FMZINp3_laika_grafiks!$K$93:$K$231,FMZINp3_laika_grafiks!#REF!,$A76,FMZINp3_laika_grafiks!$M$93:$M$231,F$61))/1000000+F75 -> #REF! | G76: =(F76-AE76)+G75 -> #REF! | H76: =(SUMIFS(FMZINp3_laika_grafiks!$K$93:$K$231,FMZINp3_laika_grafiks!#REF!,$A76,FMZINp3_laika_grafiks!$M$93:$M$231,H$61))/1000000+H75 -> #REF! | I76: =(H76-AF76)+I75 -> #REF! | J76: =(SUMIFS(FMZINp3_laika_grafiks!$K$93:$K$231,FMZINp3_laika_grafiks!#REF!,$A76,FMZINp3_laika_grafiks!$M$93:$M$231,J$61))/1000000+J75 -> #REF! | K76: =(J76-AG76)+K75 -> #REF! | L76: =(SUMIFS(FMZINp3_laika_grafiks!$K$93:$K$231,FMZINp3_laika_grafiks!#REF!,$A76,FMZINp3_laika_grafiks!$M$93:$M$231,L$61))/1000000+L75 -> #REF! | M76: =(L76-AH76)+M75 -> #REF! | N76: =(SUMIFS(FMZINp3_laika_grafiks!$K$93:$K$231,FMZINp3_laika_grafiks!#REF!,$A76,FMZINp3_laika_grafiks!$M$93:$M$231,N$61))/1000000+N75 -> #REF! | O76: =(N76-AI76)+O75 -> #REF! | P76: =(SUMIFS(FMZINp3_laika_grafiks!$K$93:$K$231,FMZINp3_laika_grafiks!#REF!,$A76,FMZINp3_laika_grafiks!$M$93:$M$231,P$61))/1000000+P75 -> #REF! | Q76: =(P76-AJ76)+Q75 -> #REF! | R76: =(SUMIFS(FMZINp3_laika_grafiks!$K$93:$K$231,FMZINp3_laika_grafiks!#REF!,$A76,FMZINp3_laika_grafiks!$M$93:$M$231,R$61))/1000000+R75 -> #REF! | S76: =(R76-AK76)+S75 -> #REF! | T76: =(SUMIFS(FMZINp3_laika_grafiks!$K$93:$K$231,FMZINp3_laika_grafiks!#REF!,$A76,FMZINp3_laika_grafiks!$M$93:$M$231,T$61))/1000000+T75 -> #REF! | U76: =(T76-AL76)+U75 -> #REF! | V76: =(SUMIFS(FMZINp3_laika_grafiks!$K$93:$K$231,FMZINp3_laika_grafiks!#REF!,$A76,FMZINp3_laika_grafiks!$M$93:$M$231,V$61))/1000000+V75 -> #REF! | W76: =(V76-AM76)+W75 -> #REF! | X76: =(SUMIFS(FMZINp3_laika_grafiks!$K$93:$K$231,FMZINp3_laika_grafiks!#REF!,$A76,FMZINp3_laika_grafiks!$M$93:$M$231,X$61))/1000000+X75 -> #REF! | Y76: =(X76-AN76)+Y75 -> #REF! | AB76: Uzsaukums par elastības finansējuma apjomu 2026.g. | AC76: =(SUMIFS(FMZINp3_laika_grafiks!$K$93:$K$231,FMZINp3_laika_grafiks!#REF!,'GRAFIKI II'!$AB76,FMZINp3_laika_grafiks!$M$93:$M$231,'GRAFIKI II'!AC$61)/1000000)+AC75 -> #REF! | AD76: =(SUMIFS(FMZINp3_laika_grafiks!$K$93:$K$231,FMZINp3_laika_grafiks!#REF!,'GRAFIKI II'!$AB76,FMZINp3_laika_grafiks!$M$93:$M$231,'GRAFIKI II'!AD$61)/1000000)+AD75 -> #REF! | AE76: =(SUMIFS(FMZINp3_laika_grafiks!$K$93:$K$231,FMZINp3_laika_grafiks!#REF!,'GRAFIKI II'!$AB76,FMZINp3_laika_grafiks!$M$93:$M$231,'GRAFIKI II'!AE$61)/1000000)+AE75 -> #REF! | AF76: =(SUMIFS(FMZINp3_laika_grafiks!$K$93:$K$231,FMZINp3_laika_grafiks!#REF!,'GRAFIKI II'!$AB76,FMZINp3_laika_grafiks!$M$93:$M$231,'GRAFIKI II'!AF$61)/1000000)+AF75 -> #REF! | AG76: =(SUMIFS(FMZINp3_laika_grafiks!$K$93:$K$231,FMZINp3_laika_grafiks!#REF!,'GRAFIKI II'!$AB76,FMZINp3_laika_grafiks!$M$93:$M$231,'GRAFIKI II'!AG$61)/1000000)+AG75 -> #REF! | AH76: =(SUMIFS(FMZINp3_laika_grafiks!$K$93:$K$231,FMZINp3_laika_grafiks!#REF!,'GRAFIKI II'!$AB76,FMZINp3_laika_grafiks!$M$93:$M$231,'GRAFIKI II'!AH$61)/1000000)+AH75 -> #REF! | AI76: =(SUMIFS(FMZINp3_laika_grafiks!$K$93:$K$231,FMZINp3_laika_grafiks!#REF!,'GRAFIKI II'!$AB76,FMZINp3_laika_grafiks!$M$93:$M$231,'GRAFIKI II'!AI$61)/1000000)+AI75 -> #REF! | AJ76: =(SUMIFS(FMZINp3_laika_grafiks!$K$93:$K$231,FMZINp3_laika_grafiks!#REF!,'GRAFIKI II'!$AB76,FMZINp3_laika_grafiks!$M$93:$M$231,'GRAFIKI II'!AJ$61)/1000000)+AJ75 -> #REF! | ... AN76: =(SUMIFS(FMZINp3_laika_grafiks!$K$93:$K$231,FMZINp3_laika_grafiks!#REF!,'GRAFIKI II'!$AB76,FMZINp3_laika_grafiks!$M$93:$M$231,'GRAFIKI II'!AN$61)/1000000)+AN75 -> #REF!
A77: 2026 II | B77: =(SUMIFS(FMZINp3_laika_grafiks!$K$93:$K$231,FMZINp3_laika_grafiks!#REF!,$A77,FMZINp3_laika_grafiks!$M$93:$M$231,B$61))/1000000+B76 -> #REF! | C77: =(B77-AC77)+C76 -> #REF! | D77: =(SUMIFS(FMZINp3_laika_grafiks!$K$93:$K$231,FMZINp3_laika_grafiks!#REF!,$A77,FMZINp3_laika_grafiks!$M$93:$M$231,D$61))/1000000+D76 -> #REF! | E77: =(D77-AD77)+E76 -> #REF! | F77: =(SUMIFS(FMZINp3_laika_grafiks!$K$93:$K$231,FMZINp3_laika_grafiks!#REF!,$A77,FMZINp3_laika_grafiks!$M$93:$M$231,F$61))/1000000+F76 -> #REF! | G77: =(F77-AE77)+G76 -> #REF! | H77: =(SUMIFS(FMZINp3_laika_grafiks!$K$93:$K$231,FMZINp3_laika_grafiks!#REF!,$A77,FMZINp3_laika_grafiks!$M$93:$M$231,H$61))/1000000+H76 -> #REF! | I77: =(H77-AF77)+I76 -> #REF! | J77: =(SUMIFS(FMZINp3_laika_grafiks!$K$93:$K$231,FMZINp3_laika_grafiks!#REF!,$A77,FMZINp3_laika_grafiks!$M$93:$M$231,J$61))/1000000+J76 -> #REF! | K77: =(J77-AG77)+K76 -> #REF! | L77: =(SUMIFS(FMZINp3_laika_grafiks!$K$93:$K$231,FMZINp3_laika_grafiks!#REF!,$A77,FMZINp3_laika_grafiks!$M$93:$M$231,L$61))/1000000+L76 -> #REF! | M77: =(L77-AH77)+M76 -> #REF! | N77: =(SUMIFS(FMZINp3_laika_grafiks!$K$93:$K$231,FMZINp3_laika_grafiks!#REF!,$A77,FMZINp3_laika_grafiks!$M$93:$M$231,N$61))/1000000+N76 -> #REF! | O77: =(N77-AI77)+O76 -> #REF! | P77: =(SUMIFS(FMZINp3_laika_grafiks!$K$93:$K$231,FMZINp3_laika_grafiks!#REF!,$A77,FMZINp3_laika_grafiks!$M$93:$M$231,P$61))/1000000+P76 -> #REF! | Q77: =(P77-AJ77)+Q76 -> #REF! | R77: =(SUMIFS(FMZINp3_laika_grafiks!$K$93:$K$231,FMZINp3_laika_grafiks!#REF!,$A77,FMZINp3_laika_grafiks!$M$93:$M$231,R$61))/1000000+R76 -> #REF! | S77: =(R77-AK77)+S76 -> #REF! | T77: =(SUMIFS(FMZINp3_laika_grafiks!$K$93:$K$231,FMZINp3_laika_grafiks!#REF!,$A77,FMZINp3_laika_grafiks!$M$93:$M$231,T$61))/1000000+T76 -> #REF! | U77: =(T77-AL77)+U76 -> #REF! | V77: =(SUMIFS(FMZINp3_laika_grafiks!$K$93:$K$231,FMZINp3_laika_grafiks!#REF!,$A77,FMZINp3_laika_grafiks!$M$93:$M$231,V$61))/1000000+V76 -> #REF! | W77: =(V77-AM77)+W76 -> #REF! | X77: =(SUMIFS(FMZINp3_laika_grafiks!$K$93:$K$231,FMZINp3_laika_grafiks!#REF!,$A77,FMZINp3_laika_grafiks!$M$93:$M$231,X$61))/1000000+X76 -> #REF! | Y77: =(X77-AN77)+Y76 -> #REF! | AB77: 2026 II | AC77: =(SUMIFS(FMZINp3_laika_grafiks!$K$93:$K$231,FMZINp3_laika_grafiks!#REF!,'GRAFIKI II'!$AB77,FMZINp3_laika_grafiks!$M$93:$M$231,'GRAFIKI II'!AC$61)/1000000)+AC76 -> #REF! | AD77: =(SUMIFS(FMZINp3_laika_grafiks!$K$93:$K$231,FMZINp3_laika_grafiks!#REF!,'GRAFIKI II'!$AB77,FMZINp3_laika_grafiks!$M$93:$M$231,'GRAFIKI II'!AD$61)/1000000)+AD76 -> #REF! | AE77: =(SUMIFS(FMZINp3_laika_grafiks!$K$93:$K$231,FMZINp3_laika_grafiks!#REF!,'GRAFIKI II'!$AB77,FMZINp3_laika_grafiks!$M$93:$M$231,'GRAFIKI II'!AE$61)/1000000)+AE76 -> #REF! | AF77: =(SUMIFS(FMZINp3_laika_grafiks!$K$93:$K$231,FMZINp3_laika_grafiks!#REF!,'GRAFIKI II'!$AB77,FMZINp3_laika_grafiks!$M$93:$M$231,'GRAFIKI II'!AF$61)/1000000)+AF76 -> #REF! | AG77: =(SUMIFS(FMZINp3_laika_grafiks!$K$93:$K$231,FMZINp3_laika_grafiks!#REF!,'GRAFIKI II'!$AB77,FMZINp3_laika_grafiks!$M$93:$M$231,'GRAFIKI II'!AG$61)/1000000)+AG76 -> #REF! | AH77: =(SUMIFS(FMZINp3_laika_grafiks!$K$93:$K$231,FMZINp3_laika_grafiks!#REF!,'GRAFIKI II'!$AB77,FMZINp3_laika_grafiks!$M$93:$M$231,'GRAFIKI II'!AH$61)/1000000)+AH76 -> #REF! | AI77: =(SUMIFS(FMZINp3_laika_grafiks!$K$93:$K$231,FMZINp3_laika_grafiks!#REF!,'GRAFIKI II'!$AB77,FMZINp3_laika_grafiks!$M$93:$M$231,'GRAFIKI II'!AI$61)/1000000)+AI76 -> #REF! | AJ77: =(SUMIFS(FMZINp3_laika_grafiks!$K$93:$K$231,FMZINp3_laika_grafiks!#REF!,'GRAFIKI II'!$AB77,FMZINp3_laika_grafiks!$M$93:$M$231,'GRAFIKI II'!AJ$61)/1000000)+AJ76 -> #REF! | ... AN77: =(SUMIFS(FMZINp3_laika_grafiks!$K$93:$K$231,FMZINp3_laika_grafiks!#REF!,'GRAFIKI II'!$AB77,FMZINp3_laika_grafiks!$M$93:$M$231,'GRAFIKI II'!AN$61)/1000000)+AN76 -> #REF!
... A83: 2027 IV | B83: =(SUMIFS(FMZINp3_laika_grafiks!$K$93:$K$231,FMZINp3_laika_grafiks!#REF!,$A83,FMZINp3_laika_grafiks!$M$93:$M$231,B$61))/1000000+B82 -> #REF! | C83: =(B83-AC83)+C82 -> #REF! | D83: =(SUMIFS(FMZINp3_laika_grafiks!$K$93:$K$231,FMZINp3_laika_grafiks!#REF!,$A83,FMZINp3_laika_grafiks!$M$93:$M$231,D$61))/1000000+D82 -> #REF! | E83: =(D83-AD83)+E82 -> #REF! | F83: =(SUMIFS(FMZINp3_laika_grafiks!$K$93:$K$231,FMZINp3_laika_grafiks!#REF!,$A83,FMZINp3_laika_grafiks!$M$93:$M$231,F$61))/1000000+F82 -> #REF! | G83: =(F83-AE83)+G82 -> #REF! | H83: =(SUMIFS(FMZINp3_laika_grafiks!$K$93:$K$231,FMZINp3_laika_grafiks!#REF!,$A83,FMZINp3_laika_grafiks!$M$93:$M$231,H$61))/1000000+H82 -> #REF! | I83: =(H83-AF83)+I82 -> #REF! | J83: =(SUMIFS(FMZINp3_laika_grafiks!$K$93:$K$231,FMZINp3_laika_grafiks!#REF!,$A83,FMZINp3_laika_grafiks!$M$93:$M$231,J$61))/1000000+J82 -> #REF! | K83: =(J83-AG83)+K82 -> #REF! | L83: =(SUMIFS(FMZINp3_laika_grafiks!$K$93:$K$231,FMZINp3_laika_grafiks!#REF!,$A83,FMZINp3_laika_grafiks!$M$93:$M$231,L$61))/1000000+L82 -> #REF! | M83: =(L83-AH83)+M82 -> #REF! | N83: =(SUMIFS(FMZINp3_laika_grafiks!$K$93:$K$231,FMZINp3_laika_grafiks!#REF!,$A83,FMZINp3_laika_grafiks!$M$93:$M$231,N$61))/1000000+N82 -> #REF! | O83: =(N83-AI83)+O82 -> #REF! | P83: =(SUMIFS(FMZINp3_laika_grafiks!$K$93:$K$231,FMZINp3_laika_grafiks!#REF!,$A83,FMZINp3_laika_grafiks!$M$93:$M$231,P$61))/1000000+P82 -> #REF! | Q83: =(P83-AJ83)+Q82 -> #REF! | R83: =(SUMIFS(FMZINp3_laika_grafiks!$K$93:$K$231,FMZINp3_laika_grafiks!#REF!,$A83,FMZINp3_laika_grafiks!$M$93:$M$231,R$61))/1000000+R82 -> #REF! | S83: =(R83-AK83)+S82 -> #REF! | T83: =(SUMIFS(FMZINp3_laika_grafiks!$K$93:$K$231,FMZINp3_laika_grafiks!#REF!,$A83,FMZINp3_laika_grafiks!$M$93:$M$231,T$61))/1000000+T82 -> #REF! | U83: =(T83-AL83)+U82 -> #REF! | V83: =(SUMIFS(FMZINp3_laika_grafiks!$K$93:$K$231,FMZINp3_laika_grafiks!#REF!,$A83,FMZINp3_laika_grafiks!$M$93:$M$231,V$61))/1000000+V82 -> #REF! | W83: =(V83-AM83)+W82 -> #REF! | X83: =(SUMIFS(FMZINp3_laika_grafiks!$K$93:$K$231,FMZINp3_laika_grafiks!#REF!,$A83,FMZINp3_laika_grafiks!$M$93:$M$231,X$61))/1000000+X82 -> #REF! | Y83: =(X83-AN83)+Y82 -> #REF! | AB83: 2027 IV | AC83: =(SUMIFS(FMZINp3_laika_grafiks!$K$93:$K$231,FMZINp3_laika_grafiks!#REF!,'GRAFIKI II'!$AB83,FMZINp3_laika_grafiks!$M$93:$M$231,'GRAFIKI II'!AC$61)/1000000)+AC82 -> #REF! | AD83: =(SUMIFS(FMZINp3_laika_grafiks!$K$93:$K$231,FMZINp3_laika_grafiks!#REF!,'GRAFIKI II'!$AB83,FMZINp3_laika_grafiks!$M$93:$M$231,'GRAFIKI II'!AD$61)/1000000)+AD82 -> #REF! | AE83: =(SUMIFS(FMZINp3_laika_grafiks!$K$93:$K$231,FMZINp3_laika_grafiks!#REF!,'GRAFIKI II'!$AB83,FMZINp3_laika_grafiks!$M$93:$M$231,'GRAFIKI II'!AE$61)/1000000)+AE82 -> #REF! | AF83: =(SUMIFS(FMZINp3_laika_grafiks!$K$93:$K$231,FMZINp3_laika_grafiks!#REF!,'GRAFIKI II'!$AB83,FMZINp3_laika_grafiks!$M$93:$M$231,'GRAFIKI II'!AF$61)/1000000)+AF82 -> #REF! | AG83: =(SUMIFS(FMZINp3_laika_grafiks!$K$93:$K$231,FMZINp3_laika_grafiks!#REF!,'GRAFIKI II'!$AB83,FMZINp3_laika_grafiks!$M$93:$M$231,'GRAFIKI II'!AG$61)/1000000)+AG82 -> #REF! | AH83: =(SUMIFS(FMZINp3_laika_grafiks!$K$93:$K$231,FMZINp3_laika_grafiks!#REF!,'GRAFIKI II'!$AB83,FMZINp3_laika_grafiks!$M$93:$M$231,'GRAFIKI II'!AH$61)/1000000)+AH82 -> #REF! | AI83: =(SUMIFS(FMZINp3_laika_grafiks!$K$93:$K$231,FMZINp3_laika_grafiks!#REF!,'GRAFIKI II'!$AB83,FMZINp3_laika_grafiks!$M$93:$M$231,'GRAFIKI II'!AI$61)/1000000)+AI82 -> #REF! | AJ83: =(SUMIFS(FMZINp3_laika_grafiks!$K$93:$K$231,FMZINp3_laika_grafiks!#REF!,'GRAFIKI II'!$AB83,FMZINp3_laika_grafiks!$M$93:$M$231,'GRAFIKI II'!AJ$61)/1000000)+AJ82 -> #REF! | ... AN83: =(SUMIFS(FMZINp3_laika_grafiks!$K$93:$K$231,FMZINp3_laika_grafiks!#REF!,'GRAFIKI II'!$AB83,FMZINp3_laika_grafiks!$M$93:$M$231,'GRAFIKI II'!AN$61)/1000000)+AN82 -> #REF!
A84: =SUM(B84:V84) -> #REF! | B84: =B83 -> #REF! | C84: =(B84-AC84)+C83 -> #REF! | D84: =D83 -> #REF! | E84: =(D84-AD84)+E83 -> #REF! | F84: =F83 -> #REF! | G84: =(F84-AE84)+G83 -> #REF! | H84: =H83 -> #REF! | I84: =(H84-AF84)+I83 -> #REF! | J84: =J83 -> #REF! | K84: =(J84-AG84)+K83 -> #REF! | L84: =L83 -> #REF! | M84: =(L84-AH84)+M83 -> #REF! | N84: =N83 -> #REF! | O84: =(N84-AI84)+O83 -> #REF! | P84: =P83 -> #REF! | Q84: =(P84-AJ84)+Q83 -> #REF! | R84: =R83 -> #REF! | S84: =(R84-AK84)+S83 -> #REF! | T84: =T83 -> #REF! | U84: =(T84-AL84)+U83 -> #REF! | V84: =V83 -> #REF! | W84: =(V84-AM84)+W83 -> #REF! | X84: =X83 -> #REF! | Y84: =(X84-AN84)+Y83 -> #REF! | AB84: =SUM(AC84:AN84) -> #REF! | AC84: =AC83 -> #REF! | AD84: =AD83 -> #REF! | AE84: =AE83 -> #REF! | AF84: =AF83 -> #REF! | AG84: =AG83 -> #REF! | AH84: =AH83 -> #REF! | AI84: =AI83 -> #REF! | AJ84: =AJ83 -> #REF! | ... AN84: =AN83 -> #REF!
A87: BEZ KUMULATĀCIJAS
AB88: Laika grafiks uz 25.04.2023.
B89: MK noteikumu finansējums pa ministrijām kumulatīvi, milj. EUR | AB89: MK noteikumu finansējums pa ministrijām uz 25.04.2023., milj. EUR
B90: SM | C90: NOBĪDE | D90: EM | E90: NOBĪDE | F90: VARAM | G90: NOBĪDE | H90: IZM | I90: NOBĪDE | J90: VM | K90: NOBĪDE | L90: LM | M90: NOBĪDE | N90: KM | O90: NOBĪDE | P90: FM | Q90: NOBĪDE | R90: VK | S90: NOBĪDE | T90: IeM | U90: NOBĪDE | V90: TM | W90: NOBĪDE | X90: KEM | Y90: NOBĪDE | AC90: SM | AD90: EM | AE90: VARAM | AF90: IZM | AG90: VM | AH90: LM | AI90: KM | AJ90: FM | AK90: VK | AL90: IeM | AM90: TM | AN90: KEM
A91: 2022 IV | B91: 0 | C91: =B91-AC91 -> #REF! | D91: 0 | E91: =D91-AD91 -> #REF! | F91: 0 | G91: =F91-AE91 -> #REF! | H91: 0 | I91: =H91-AF91 -> #REF! | J91: 0 | K91: =J91-AG91 -> #REF! | L91: 0 | M91: =L91-AH91 -> #REF! | N91: 0 | O91: =N91-AI91 -> #REF! | P91: 0 | Q91: =P91-AJ91 -> #REF! | R91: 0 | S91: =R91-AK91 -> #REF! | T91: 0 | U91: =T91-AL91 -> #REF! | V91: 0 | W91: =V91-AM91 -> #REF! | X91: 0 | Y91: =X91-AN91 -> #REF! | AB91: 2022 IV | AC91: =(SUMIFS(FMZINp3_laika_grafiks!$K$93:$K$231,FMZINp3_laika_grafiks!#REF!,'GRAFIKI II'!$AB91,FMZINp3_laika_grafiks!$M$93:$M$231,'GRAFIKI II'!AC$61)/1000000) -> #REF! | AD91: =(SUMIFS(FMZINp3_laika_grafiks!$K$93:$K$231,FMZINp3_laika_grafiks!#REF!,'GRAFIKI II'!$AB91,FMZINp3_laika_grafiks!$M$93:$M$231,'GRAFIKI II'!AD$61)/1000000) -> #REF! | AE91: =(SUMIFS(FMZINp3_laika_grafiks!$K$93:$K$231,FMZINp3_laika_grafiks!#REF!,'GRAFIKI II'!$AB91,FMZINp3_laika_grafiks!$M$93:$M$231,'GRAFIKI II'!AE$61)/1000000) -> #REF! | AF91: =(SUMIFS(FMZINp3_laika_grafiks!$K$93:$K$231,FMZINp3_laika_grafiks!#REF!,'GRAFIKI II'!$AB91,FMZINp3_laika_grafiks!$M$93:$M$231,'GRAFIKI II'!AF$61)/1000000) -> #REF! | AG91: =(SUMIFS(FMZINp3_laika_grafiks!$K$93:$K$231,FMZINp3_laika_grafiks!#REF!,'GRAFIKI II'!$AB91,FMZINp3_laika_grafiks!$M$93:$M$231,'GRAFIKI II'!AG$61)/1000000) -> #REF! | AH91: =(SUMIFS(FMZINp3_laika_grafiks!$K$93:$K$231,FMZINp3_laika_grafiks!#REF!,'GRAFIKI II'!$AB91,FMZINp3_laika_grafiks!$M$93:$M$231,'GRAFIKI II'!AH$61)/1000000) -> #REF! | AI91: =(SUMIFS(FMZINp3_laika_grafiks!$K$93:$K$231,FMZINp3_laika_grafiks!#REF!,'GRAFIKI II'!$AB91,FMZINp3_laika_grafiks!$M$93:$M$231,'GRAFIKI II'!AI$61)/1000000) -> #REF! | AJ91: =(SUMIFS(FMZINp3_laika_grafiks!$K$93:$K$231,FMZINp3_laika_grafiks!#REF!,'GRAFIKI II'!$AB91,FMZINp3_laika_grafiks!$M$93:$M$231,'GRAFIKI II'!AJ$61)/1000000) -> #REF! | ... AN91: =(SUMIFS(FMZINp3_laika_grafiks!$K$93:$K$231,FMZINp3_laika_grafiks!#REF!,'GRAFIKI II'!$AB91,FMZINp3_laika_grafiks!$M$93:$M$231,'GRAFIKI II'!AN$61)/1000000) -> #REF!
A92: 2023 I | B92: =(SUMIFS(FMZINp3_laika_grafiks!$K$93:$K$231,FMZINp3_laika_grafiks!#REF!,$A92,FMZINp3_laika_grafiks!$M$93:$M$231,B$61))/1000000 -> #REF! | C92: =B92-AC92 -> #REF! | D92: =(SUMIFS(FMZINp3_laika_grafiks!$K$93:$K$231,FMZINp3_laika_grafiks!#REF!,$A92,FMZINp3_laika_grafiks!$M$93:$M$231,D$61))/1000000 -> #REF! | E92: =D92-AD92 -> #REF! | F92: =(SUMIFS(FMZINp3_laika_grafiks!$K$93:$K$231,FMZINp3_laika_grafiks!#REF!,$A92,FMZINp3_laika_grafiks!$M$93:$M$231,F$61))/1000000 -> #REF! | G92: =F92-AE92 -> #REF! | H92: =(SUMIFS(FMZINp3_laika_grafiks!$K$93:$K$231,FMZINp3_laika_grafiks!#REF!,$A92,FMZINp3_laika_grafiks!$M$93:$M$231,H$61))/1000000 -> #REF! | I92: =H92-AF92 -> #REF! | J92: =(SUMIFS(FMZINp3_laika_grafiks!$K$93:$K$231,FMZINp3_laika_grafiks!#REF!,$A92,FMZINp3_laika_grafiks!$M$93:$M$231,J$61))/1000000 -> #REF! | K92: =J92-AG92 -> #REF! | L92: =(SUMIFS(FMZINp3_laika_grafiks!$K$93:$K$231,FMZINp3_laika_grafiks!#REF!,$A92,FMZINp3_laika_grafiks!$M$93:$M$231,L$61))/1000000 -> #REF! | M92: =L92-AH92 -> #REF! | N92: =(SUMIFS(FMZINp3_laika_grafiks!$K$93:$K$231,FMZINp3_laika_grafiks!#REF!,$A92,FMZINp3_laika_grafiks!$M$93:$M$231,N$61))/1000000 -> #REF! | O92: =N92-AI92 -> #REF! | P92: =(SUMIFS(FMZINp3_laika_grafiks!$K$93:$K$231,FMZINp3_laika_grafiks!#REF!,$A92,FMZINp3_laika_grafiks!$M$93:$M$231,P$61))/1000000 -> #REF! | Q92: =P92-AJ92 -> #REF! | R92: =(SUMIFS(FMZINp3_laika_grafiks!$K$93:$K$231,FMZINp3_laika_grafiks!#REF!,$A92,FMZINp3_laika_grafiks!$M$93:$M$231,R$61))/1000000 -> #REF! | S92: =R92-AK92 -> #REF! | T92: =(SUMIFS(FMZINp3_laika_grafiks!$K$93:$K$231,FMZINp3_laika_grafiks!#REF!,$A92,FMZINp3_laika_grafiks!$M$93:$M$231,T$61))/1000000 -> #REF! | U92: =T92-AL92 -> #REF! | V92: =(SUMIFS(FMZINp3_laika_grafiks!$K$93:$K$231,FMZINp3_laika_grafiks!#REF!,$A92,FMZINp3_laika_grafiks!$M$93:$M$231,V$61))/1000000 -> #REF! | W92: =V92-AM92 -> #REF! | X92: =(SUMIFS(FMZINp3_laika_grafiks!$K$93:$K$231,FMZINp3_laika_grafiks!#REF!,$A92,FMZINp3_laika_grafiks!$M$93:$M$231,X$61))/1000000 -> #REF! | Y92: =X92-AN92 -> #REF! | AB92: 2023 I | AC92: =(SUMIFS(FMZINp3_laika_grafiks!$K$93:$K$231,FMZINp3_laika_grafiks!#REF!,'GRAFIKI II'!$AB92,FMZINp3_laika_grafiks!$M$93:$M$231,'GRAFIKI II'!AC$61)/1000000) -> #REF! | AD92: =(SUMIFS(FMZINp3_laika_grafiks!$K$93:$K$231,FMZINp3_laika_grafiks!#REF!,'GRAFIKI II'!$AB92,FMZINp3_laika_grafiks!$M$93:$M$231,'GRAFIKI II'!AD$61)/1000000) -> #REF! | AE92: =(SUMIFS(FMZINp3_laika_grafiks!$K$93:$K$231,FMZINp3_laika_grafiks!#REF!,'GRAFIKI II'!$AB92,FMZINp3_laika_grafiks!$M$93:$M$231,'GRAFIKI II'!AE$61)/1000000) -> #REF! | AF92: =(SUMIFS(FMZINp3_laika_grafiks!$K$93:$K$231,FMZINp3_laika_grafiks!#REF!,'GRAFIKI II'!$AB92,FMZINp3_laika_grafiks!$M$93:$M$231,'GRAFIKI II'!AF$61)/1000000) -> #REF! | AG92: =(SUMIFS(FMZINp3_laika_grafiks!$K$93:$K$231,FMZINp3_laika_grafiks!#REF!,'GRAFIKI II'!$AB92,FMZINp3_laika_grafiks!$M$93:$M$231,'GRAFIKI II'!AG$61)/1000000) -> #REF! | AH92: =(SUMIFS(FMZINp3_laika_grafiks!$K$93:$K$231,FMZINp3_laika_grafiks!#REF!,'GRAFIKI II'!$AB92,FMZINp3_laika_grafiks!$M$93:$M$231,'GRAFIKI II'!AH$61)/1000000) -> #REF! | AI92: =(SUMIFS(FMZINp3_laika_grafiks!$K$93:$K$231,FMZINp3_laika_grafiks!#REF!,'GRAFIKI II'!$AB92,FMZINp3_laika_grafiks!$M$93:$M$231,'GRAFIKI II'!AI$61)/1000000) -> #REF! | AJ92: =(SUMIFS(FMZINp3_laika_grafiks!$K$93:$K$231,FMZINp3_laika_grafiks!#REF!,'GRAFIKI II'!$AB92,FMZINp3_laika_grafiks!$M$93:$M$231,'GRAFIKI II'!AJ$61)/1000000) -> #REF! | ... AN92: =(SUMIFS(FMZINp3_laika_grafiks!$K$93:$K$231,FMZINp3_laika_grafiks!#REF!,'GRAFIKI II'!$AB92,FMZINp3_laika_grafiks!$M$93:$M$231,'GRAFIKI II'!AN$61)/1000000) -> #REF!
A93: 2023 II | B93: =(SUMIFS(FMZINp3_laika_grafiks!$K$93:$K$231,FMZINp3_laika_grafiks!#REF!,$A93,FMZINp3_laika_grafiks!$M$93:$M$231,B$61))/1000000 -> #REF! | C93: =B93-AC93 -> #REF! | D93: =(SUMIFS(FMZINp3_laika_grafiks!$K$93:$K$231,FMZINp3_laika_grafiks!#REF!,$A93,FMZINp3_laika_grafiks!$M$93:$M$231,D$61))/1000000 -> #REF! | E93: =D93-AD93 -> #REF! | F93: =(SUMIFS(FMZINp3_laika_grafiks!$K$93:$K$231,FMZINp3_laika_grafiks!#REF!,$A93,FMZINp3_laika_grafiks!$M$93:$M$231,F$61))/1000000 -> #REF! | G93: =F93-AE93 -> #REF! | H93: =(SUMIFS(FMZINp3_laika_grafiks!$K$93:$K$231,FMZINp3_laika_grafiks!#REF!,$A93,FMZINp3_laika_grafiks!$M$93:$M$231,H$61))/1000000 -> #REF! | I93: =H93-AF93 -> #REF! | J93: =(SUMIFS(FMZINp3_laika_grafiks!$K$93:$K$231,FMZINp3_laika_grafiks!#REF!,$A93,FMZINp3_laika_grafiks!$M$93:$M$231,J$61))/1000000 -> #REF! | K93: =J93-AG93 -> #REF! | L93: =(SUMIFS(FMZINp3_laika_grafiks!$K$93:$K$231,FMZINp3_laika_grafiks!#REF!,$A93,FMZINp3_laika_grafiks!$M$93:$M$231,L$61))/1000000 -> #REF! | M93: =L93-AH93 -> #REF! | N93: =(SUMIFS(FMZINp3_laika_grafiks!$K$93:$K$231,FMZINp3_laika_grafiks!#REF!,$A93,FMZINp3_laika_grafiks!$M$93:$M$231,N$61))/1000000 -> #REF! | O93: =N93-AI93 -> #REF! | P93: =(SUMIFS(FMZINp3_laika_grafiks!$K$93:$K$231,FMZINp3_laika_grafiks!#REF!,$A93,FMZINp3_laika_grafiks!$M$93:$M$231,P$61))/1000000 -> #REF! | Q93: =P93-AJ93 -> #REF! | R93: =(SUMIFS(FMZINp3_laika_grafiks!$K$93:$K$231,FMZINp3_laika_grafiks!#REF!,$A93,FMZINp3_laika_grafiks!$M$93:$M$231,R$61))/1000000 -> #REF! | S93: =R93-AK93 -> #REF! | T93: =(SUMIFS(FMZINp3_laika_grafiks!$K$93:$K$231,FMZINp3_laika_grafiks!#REF!,$A93,FMZINp3_laika_grafiks!$M$93:$M$231,T$61))/1000000 -> #REF! | U93: =T93-AL93 -> #REF! | V93: =(SUMIFS(FMZINp3_laika_grafiks!$K$93:$K$231,FMZINp3_laika_grafiks!#REF!,$A93,FMZINp3_laika_grafiks!$M$93:$M$231,V$61))/1000000 -> #REF! | W93: =V93-AM93 -> #REF! | X93: =(SUMIFS(FMZINp3_laika_grafiks!$K$93:$K$231,FMZINp3_laika_grafiks!#REF!,$A93,FMZINp3_laika_grafiks!$M$93:$M$231,X$61))/1000000 -> #REF! | Y93: =X93-AN93 -> #REF! | AB93: 2023 II | AC93: =(SUMIFS(FMZINp3_laika_grafiks!$K$93:$K$231,FMZINp3_laika_grafiks!#REF!,'GRAFIKI II'!$AB93,FMZINp3_laika_grafiks!$M$93:$M$231,'GRAFIKI II'!AC$61)/1000000) -> #REF! | AD93: =(SUMIFS(FMZINp3_laika_grafiks!$K$93:$K$231,FMZINp3_laika_grafiks!#REF!,'GRAFIKI II'!$AB93,FMZINp3_laika_grafiks!$M$93:$M$231,'GRAFIKI II'!AD$61)/1000000) -> #REF! | AE93: =(SUMIFS(FMZINp3_laika_grafiks!$K$93:$K$231,FMZINp3_laika_grafiks!#REF!,'GRAFIKI II'!$AB93,FMZINp3_laika_grafiks!$M$93:$M$231,'GRAFIKI II'!AE$61)/1000000) -> #REF! | AF93: =(SUMIFS(FMZINp3_laika_grafiks!$K$93:$K$231,FMZINp3_laika_grafiks!#REF!,'GRAFIKI II'!$AB93,FMZINp3_laika_grafiks!$M$93:$M$231,'GRAFIKI II'!AF$61)/1000000) -> #REF! | AG93: =(SUMIFS(FMZINp3_laika_grafiks!$K$93:$K$231,FMZINp3_laika_grafiks!#REF!,'GRAFIKI II'!$AB93,FMZINp3_laika_grafiks!$M$93:$M$231,'GRAFIKI II'!AG$61)/1000000) -> #REF! | AH93: =(SUMIFS(FMZINp3_laika_grafiks!$K$93:$K$231,FMZINp3_laika_grafiks!#REF!,'GRAFIKI II'!$AB93,FMZINp3_laika_grafiks!$M$93:$M$231,'GRAFIKI II'!AH$61)/1000000) -> #REF! | AI93: =(SUMIFS(FMZINp3_laika_grafiks!$K$93:$K$231,FMZINp3_laika_grafiks!#REF!,'GRAFIKI II'!$AB93,FMZINp3_laika_grafiks!$M$93:$M$231,'GRAFIKI II'!AI$61)/1000000) -> #REF! | AJ93: =(SUMIFS(FMZINp3_laika_grafiks!$K$93:$K$231,FMZINp3_laika_grafiks!#REF!,'GRAFIKI II'!$AB93,FMZINp3_laika_grafiks!$M$93:$M$231,'GRAFIKI II'!AJ$61)/1000000) -> #REF! | ... AN93: =(SUMIFS(FMZINp3_laika_grafiks!$K$93:$K$231,FMZINp3_laika_grafiks!#REF!,'GRAFIKI II'!$AB93,FMZINp3_laika_grafiks!$M$93:$M$231,'GRAFIKI II'!AN$61)/1000000) -> #REF!
A94: 2023 III | B94: =(SUMIFS(FMZINp3_laika_grafiks!$K$93:$K$231,FMZINp3_laika_grafiks!#REF!,$A94,FMZINp3_laika_grafiks!$M$93:$M$231,B$61))/1000000 -> #REF! | C94: =B94-AC94 -> #REF! | D94: =(SUMIFS(FMZINp3_laika_grafiks!$K$93:$K$231,FMZINp3_laika_grafiks!#REF!,$A94,FMZINp3_laika_grafiks!$M$93:$M$231,D$61))/1000000 -> #REF! | E94: =D94-AD94 -> #REF! | F94: =(SUMIFS(FMZINp3_laika_grafiks!$K$93:$K$231,FMZINp3_laika_grafiks!#REF!,$A94,FMZINp3_laika_grafiks!$M$93:$M$231,F$61))/1000000 -> #REF! | G94: =F94-AE94 -> #REF! | H94: =(SUMIFS(FMZINp3_laika_grafiks!$K$93:$K$231,FMZINp3_laika_grafiks!#REF!,$A94,FMZINp3_laika_grafiks!$M$93:$M$231,H$61))/1000000 -> #REF! | I94: =H94-AF94 -> #REF! | J94: =(SUMIFS(FMZINp3_laika_grafiks!$K$93:$K$231,FMZINp3_laika_grafiks!#REF!,$A94,FMZINp3_laika_grafiks!$M$93:$M$231,J$61))/1000000 -> #REF! | K94: =J94-AG94 -> #REF! | L94: =(SUMIFS(FMZINp3_laika_grafiks!$K$93:$K$231,FMZINp3_laika_grafiks!#REF!,$A94,FMZINp3_laika_grafiks!$M$93:$M$231,L$61))/1000000 -> #REF! | M94: =L94-AH94 -> #REF! | N94: =(SUMIFS(FMZINp3_laika_grafiks!$K$93:$K$231,FMZINp3_laika_grafiks!#REF!,$A94,FMZINp3_laika_grafiks!$M$93:$M$231,N$61))/1000000 -> #REF! | O94: =N94-AI94 -> #REF! | P94: =(SUMIFS(FMZINp3_laika_grafiks!$K$93:$K$231,FMZINp3_laika_grafiks!#REF!,$A94,FMZINp3_laika_grafiks!$M$93:$M$231,P$61))/1000000 -> #REF! | Q94: =P94-AJ94 -> #REF! | R94: =(SUMIFS(FMZINp3_laika_grafiks!$K$93:$K$231,FMZINp3_laika_grafiks!#REF!,$A94,FMZINp3_laika_grafiks!$M$93:$M$231,R$61))/1000000 -> #REF! | S94: =R94-AK94 -> #REF! | T94: =(SUMIFS(FMZINp3_laika_grafiks!$K$93:$K$231,FMZINp3_laika_grafiks!#REF!,$A94,FMZINp3_laika_grafiks!$M$93:$M$231,T$61))/1000000 -> #REF! | U94: =T94-AL94 -> #REF! | V94: =(SUMIFS(FMZINp3_laika_grafiks!$K$93:$K$231,FMZINp3_laika_grafiks!#REF!,$A94,FMZINp3_laika_grafiks!$M$93:$M$231,V$61))/1000000 -> #REF! | W94: =V94-AM94 -> #REF! | X94: =(SUMIFS(FMZINp3_laika_grafiks!$K$93:$K$231,FMZINp3_laika_grafiks!#REF!,$A94,FMZINp3_laika_grafiks!$M$93:$M$231,X$61))/1000000 -> #REF! | Y94: =X94-AN94 -> #REF! | AB94: 2023 III | AC94: =(SUMIFS(FMZINp3_laika_grafiks!$K$93:$K$231,FMZINp3_laika_grafiks!#REF!,'GRAFIKI II'!$AB94,FMZINp3_laika_grafiks!$M$93:$M$231,'GRAFIKI II'!AC$61)/1000000) -> #REF! | AD94: =(SUMIFS(FMZINp3_laika_grafiks!$K$93:$K$231,FMZINp3_laika_grafiks!#REF!,'GRAFIKI II'!$AB94,FMZINp3_laika_grafiks!$M$93:$M$231,'GRAFIKI II'!AD$61)/1000000) -> #REF! | AE94: =(SUMIFS(FMZINp3_laika_grafiks!$K$93:$K$231,FMZINp3_laika_grafiks!#REF!,'GRAFIKI II'!$AB94,FMZINp3_laika_grafiks!$M$93:$M$231,'GRAFIKI II'!AE$61)/1000000) -> #REF! | AF94: =(SUMIFS(FMZINp3_laika_grafiks!$K$93:$K$231,FMZINp3_laika_grafiks!#REF!,'GRAFIKI II'!$AB94,FMZINp3_laika_grafiks!$M$93:$M$231,'GRAFIKI II'!AF$61)/1000000) -> #REF! | AG94: =(SUMIFS(FMZINp3_laika_grafiks!$K$93:$K$231,FMZINp3_laika_grafiks!#REF!,'GRAFIKI II'!$AB94,FMZINp3_laika_grafiks!$M$93:$M$231,'GRAFIKI II'!AG$61)/1000000) -> #REF! | AH94: =(SUMIFS(FMZINp3_laika_grafiks!$K$93:$K$231,FMZINp3_laika_grafiks!#REF!,'GRAFIKI II'!$AB94,FMZINp3_laika_grafiks!$M$93:$M$231,'GRAFIKI II'!AH$61)/1000000) -> #REF! | AI94: =(SUMIFS(FMZINp3_laika_grafiks!$K$93:$K$231,FMZINp3_laika_grafiks!#REF!,'GRAFIKI II'!$AB94,FMZINp3_laika_grafiks!$M$93:$M$231,'GRAFIKI II'!AI$61)/1000000) -> #REF! | AJ94: =(SUMIFS(FMZINp3_laika_grafiks!$K$93:$K$231,FMZINp3_laika_grafiks!#REF!,'GRAFIKI II'!$AB94,FMZINp3_laika_grafiks!$M$93:$M$231,'GRAFIKI II'!AJ$61)/1000000) -> #REF! | ... AN94: =(SUMIFS(FMZINp3_laika_grafiks!$K$93:$K$231,FMZINp3_laika_grafiks!#REF!,'GRAFIKI II'!$AB94,FMZINp3_laika_grafiks!$M$93:$M$231,'GRAFIKI II'!AN$61)/1000000) -> #REF!
A95: 2023 IV | B95: =(SUMIFS(FMZINp3_laika_grafiks!$K$93:$K$231,FMZINp3_laika_grafiks!#REF!,$A95,FMZINp3_laika_grafiks!$M$93:$M$231,B$61))/1000000 -> #REF! | C95: =B95-AC95 -> #REF! | D95: =(SUMIFS(FMZINp3_laika_grafiks!$K$93:$K$231,FMZINp3_laika_grafiks!#REF!,$A95,FMZINp3_laika_grafiks!$M$93:$M$231,D$61))/1000000 -> #REF! | E95: =D95-AD95 -> #REF! | F95: =(SUMIFS(FMZINp3_laika_grafiks!$K$93:$K$231,FMZINp3_laika_grafiks!#REF!,$A95,FMZINp3_laika_grafiks!$M$93:$M$231,F$61))/1000000 -> #REF! | G95: =F95-AE95 -> #REF! | H95: =(SUMIFS(FMZINp3_laika_grafiks!$K$93:$K$231,FMZINp3_laika_grafiks!#REF!,$A95,FMZINp3_laika_grafiks!$M$93:$M$231,H$61))/1000000 -> #REF! | I95: =H95-AF95 -> #REF! | J95: =(SUMIFS(FMZINp3_laika_grafiks!$K$93:$K$231,FMZINp3_laika_grafiks!#REF!,$A95,FMZINp3_laika_grafiks!$M$93:$M$231,J$61))/1000000 -> #REF! | K95: =J95-AG95 -> #REF! | L95: =(SUMIFS(FMZINp3_laika_grafiks!$K$93:$K$231,FMZINp3_laika_grafiks!#REF!,$A95,FMZINp3_laika_grafiks!$M$93:$M$231,L$61))/1000000 -> #REF! | M95: =L95-AH95 -> #REF! | N95: =(SUMIFS(FMZINp3_laika_grafiks!$K$93:$K$231,FMZINp3_laika_grafiks!#REF!,$A95,FMZINp3_laika_grafiks!$M$93:$M$231,N$61))/1000000 -> #REF! | O95: =N95-AI95 -> #REF! | P95: =(SUMIFS(FMZINp3_laika_grafiks!$K$93:$K$231,FMZINp3_laika_grafiks!#REF!,$A95,FMZINp3_laika_grafiks!$M$93:$M$231,P$61))/1000000 -> #REF! | Q95: =P95-AJ95 -> #REF! | R95: =(SUMIFS(FMZINp3_laika_grafiks!$K$93:$K$231,FMZINp3_laika_grafiks!#REF!,$A95,FMZINp3_laika_grafiks!$M$93:$M$231,R$61))/1000000 -> #REF! | S95: =R95-AK95 -> #REF! | T95: =(SUMIFS(FMZINp3_laika_grafiks!$K$93:$K$231,FMZINp3_laika_grafiks!#REF!,$A95,FMZINp3_laika_grafiks!$M$93:$M$231,T$61))/1000000 -> #REF! | U95: =T95-AL95 -> #REF! | V95: =(SUMIFS(FMZINp3_laika_grafiks!$K$93:$K$231,FMZINp3_laika_grafiks!#REF!,$A95,FMZINp3_laika_grafiks!$M$93:$M$231,V$61))/1000000 -> #REF! | W95: =V95-AM95 -> #REF! | X95: =(SUMIFS(FMZINp3_laika_grafiks!$K$93:$K$231,FMZINp3_laika_grafiks!#REF!,$A95,FMZINp3_laika_grafiks!$M$93:$M$231,X$61))/1000000 -> #REF! | Y95: =X95-AN95 -> #REF! | AB95: 2023 IV | AC95: =(SUMIFS(FMZINp3_laika_grafiks!$K$93:$K$231,FMZINp3_laika_grafiks!#REF!,'GRAFIKI II'!$AB95,FMZINp3_laika_grafiks!$M$93:$M$231,'GRAFIKI II'!AC$61)/1000000) -> #REF! | AD95: =(SUMIFS(FMZINp3_laika_grafiks!$K$93:$K$231,FMZINp3_laika_grafiks!#REF!,'GRAFIKI II'!$AB95,FMZINp3_laika_grafiks!$M$93:$M$231,'GRAFIKI II'!AD$61)/1000000) -> #REF! | AE95: =(SUMIFS(FMZINp3_laika_grafiks!$K$93:$K$231,FMZINp3_laika_grafiks!#REF!,'GRAFIKI II'!$AB95,FMZINp3_laika_grafiks!$M$93:$M$231,'GRAFIKI II'!AE$61)/1000000) -> #REF! | AF95: =(SUMIFS(FMZINp3_laika_grafiks!$K$93:$K$231,FMZINp3_laika_grafiks!#REF!,'GRAFIKI II'!$AB95,FMZINp3_laika_grafiks!$M$93:$M$231,'GRAFIKI II'!AF$61)/1000000) -> #REF! | AG95: =(SUMIFS(FMZINp3_laika_grafiks!$K$93:$K$231,FMZINp3_laika_grafiks!#REF!,'GRAFIKI II'!$AB95,FMZINp3_laika_grafiks!$M$93:$M$231,'GRAFIKI II'!AG$61)/1000000) -> #REF! | AH95: =(SUMIFS(FMZINp3_laika_grafiks!$K$93:$K$231,FMZINp3_laika_grafiks!#REF!,'GRAFIKI II'!$AB95,FMZINp3_laika_grafiks!$M$93:$M$231,'GRAFIKI II'!AH$61)/1000000) -> #REF! | AI95: =(SUMIFS(FMZINp3_laika_grafiks!$K$93:$K$231,FMZINp3_laika_grafiks!#REF!,'GRAFIKI II'!$AB95,FMZINp3_laika_grafiks!$M$93:$M$231,'GRAFIKI II'!AI$61)/1000000) -> #REF! | AJ95: =(SUMIFS(FMZINp3_laika_grafiks!$K$93:$K$231,FMZINp3_laika_grafiks!#REF!,'GRAFIKI II'!$AB95,FMZINp3_laika_grafiks!$M$93:$M$231,'GRAFIKI II'!AJ$61)/1000000) -> #REF! | ... AN95: =(SUMIFS(FMZINp3_laika_grafiks!$K$93:$K$231,FMZINp3_laika_grafiks!#REF!,'GRAFIKI II'!$AB95,FMZINp3_laika_grafiks!$M$93:$M$231,'GRAFIKI II'!AN$61)/1000000) -> #REF!
A96: 2024 I | B96: =(SUMIFS(FMZINp3_laika_grafiks!$K$93:$K$231,FMZINp3_laika_grafiks!#REF!,$A96,FMZINp3_laika_grafiks!$M$93:$M$231,B$61))/1000000 -> #REF! | C96: =B96-AC96 -> #REF! | D96: =(SUMIFS(FMZINp3_laika_grafiks!$K$93:$K$231,FMZINp3_laika_grafiks!#REF!,$A96,FMZINp3_laika_grafiks!$M$93:$M$231,D$61))/1000000 -> #REF! | E96: =D96-AD96 -> #REF! | F96: =(SUMIFS(FMZINp3_laika_grafiks!$K$93:$K$231,FMZINp3_laika_grafiks!#REF!,$A96,FMZINp3_laika_grafiks!$M$93:$M$231,F$61))/1000000 -> #REF! | G96: =F96-AE96 -> #REF! | H96: =(SUMIFS(FMZINp3_laika_grafiks!$K$93:$K$231,FMZINp3_laika_grafiks!#REF!,$A96,FMZINp3_laika_grafiks!$M$93:$M$231,H$61))/1000000 -> #REF! | I96: =H96-AF96 -> #REF! | J96: =(SUMIFS(FMZINp3_laika_grafiks!$K$93:$K$231,FMZINp3_laika_grafiks!#REF!,$A96,FMZINp3_laika_grafiks!$M$93:$M$231,J$61))/1000000 -> #REF! | K96: =J96-AG96 -> #REF! | L96: =(SUMIFS(FMZINp3_laika_grafiks!$K$93:$K$231,FMZINp3_laika_grafiks!#REF!,$A96,FMZINp3_laika_grafiks!$M$93:$M$231,L$61))/1000000 -> #REF! | M96: =L96-AH96 -> #REF! | N96: =(SUMIFS(FMZINp3_laika_grafiks!$K$93:$K$231,FMZINp3_laika_grafiks!#REF!,$A96,FMZINp3_laika_grafiks!$M$93:$M$231,N$61))/1000000 -> #REF! | O96: =N96-AI96 -> #REF! | P96: =(SUMIFS(FMZINp3_laika_grafiks!$K$93:$K$231,FMZINp3_laika_grafiks!#REF!,$A96,FMZINp3_laika_grafiks!$M$93:$M$231,P$61))/1000000 -> #REF! | Q96: =P96-AJ96 -> #REF! | R96: =(SUMIFS(FMZINp3_laika_grafiks!$K$93:$K$231,FMZINp3_laika_grafiks!#REF!,$A96,FMZINp3_laika_grafiks!$M$93:$M$231,R$61))/1000000 -> #REF! | S96: =R96-AK96 -> #REF! | T96: =(SUMIFS(FMZINp3_laika_grafiks!$K$93:$K$231,FMZINp3_laika_grafiks!#REF!,$A96,FMZINp3_laika_grafiks!$M$93:$M$231,T$61))/1000000 -> #REF! | U96: =T96-AL96 -> #REF! | V96: =(SUMIFS(FMZINp3_laika_grafiks!$K$93:$K$231,FMZINp3_laika_grafiks!#REF!,$A96,FMZINp3_laika_grafiks!$M$93:$M$231,V$61))/1000000 -> #REF! | W96: =V96-AM96 -> #REF! | X96: =(SUMIFS(FMZINp3_laika_grafiks!$K$93:$K$231,FMZINp3_laika_grafiks!#REF!,$A96,FMZINp3_laika_grafiks!$M$93:$M$231,X$61))/1000000 -> #REF! | Y96: =X96-AN96 -> #REF! | AB96: 2024 I | AC96: =(SUMIFS(FMZINp3_laika_grafiks!$K$93:$K$231,FMZINp3_laika_grafiks!#REF!,'GRAFIKI II'!$AB96,FMZINp3_laika_grafiks!$M$93:$M$231,'GRAFIKI II'!AC$61)/1000000) -> #REF! | AD96: =(SUMIFS(FMZINp3_laika_grafiks!$K$93:$K$231,FMZINp3_laika_grafiks!#REF!,'GRAFIKI II'!$AB96,FMZINp3_laika_grafiks!$M$93:$M$231,'GRAFIKI II'!AD$61)/1000000) -> #REF! | AE96: =(SUMIFS(FMZINp3_laika_grafiks!$K$93:$K$231,FMZINp3_laika_grafiks!#REF!,'GRAFIKI II'!$AB96,FMZINp3_laika_grafiks!$M$93:$M$231,'GRAFIKI II'!AE$61)/1000000) -> #REF! | AF96: =(SUMIFS(FMZINp3_laika_grafiks!$K$93:$K$231,FMZINp3_laika_grafiks!#REF!,'GRAFIKI II'!$AB96,FMZINp3_laika_grafiks!$M$93:$M$231,'GRAFIKI II'!AF$61)/1000000) -> #REF! | AG96: =(SUMIFS(FMZINp3_laika_grafiks!$K$93:$K$231,FMZINp3_laika_grafiks!#REF!,'GRAFIKI II'!$AB96,FMZINp3_laika_grafiks!$M$93:$M$231,'GRAFIKI II'!AG$61)/1000000) -> #REF! | AH96: =(SUMIFS(FMZINp3_laika_grafiks!$K$93:$K$231,FMZINp3_laika_grafiks!#REF!,'GRAFIKI II'!$AB96,FMZINp3_laika_grafiks!$M$93:$M$231,'GRAFIKI II'!AH$61)/1000000) -> #REF! | AI96: =(SUMIFS(FMZINp3_laika_grafiks!$K$93:$K$231,FMZINp3_laika_grafiks!#REF!,'GRAFIKI II'!$AB96,FMZINp3_laika_grafiks!$M$93:$M$231,'GRAFIKI II'!AI$61)/1000000) -> #REF! | AJ96: =(SUMIFS(FMZINp3_laika_grafiks!$K$93:$K$231,FMZINp3_laika_grafiks!#REF!,'GRAFIKI II'!$AB96,FMZINp3_laika_grafiks!$M$93:$M$231,'GRAFIKI II'!AJ$61)/1000000) -> #REF! | ... AN96: =(SUMIFS(FMZINp3_laika_grafiks!$K$93:$K$231,FMZINp3_laika_grafiks!#REF!,'GRAFIKI II'!$AB96,FMZINp3_laika_grafiks!$M$93:$M$231,'GRAFIKI II'!AN$61)/1000000) -> #REF!
A97: 2024 II | B97: =(SUMIFS(FMZINp3_laika_grafiks!$K$93:$K$231,FMZINp3_laika_grafiks!#REF!,$A97,FMZINp3_laika_grafiks!$M$93:$M$231,B$61))/1000000 -> #REF! | C97: =B97-AC97 -> #REF! | D97: =(SUMIFS(FMZINp3_laika_grafiks!$K$93:$K$231,FMZINp3_laika_grafiks!#REF!,$A97,FMZINp3_laika_grafiks!$M$93:$M$231,D$61))/1000000 -> #REF! | E97: =D97-AD97 -> #REF! | F97: =(SUMIFS(FMZINp3_laika_grafiks!$K$93:$K$231,FMZINp3_laika_grafiks!#REF!,$A97,FMZINp3_laika_grafiks!$M$93:$M$231,F$61))/1000000 -> #REF! | G97: =F97-AE97 -> #REF! | H97: =(SUMIFS(FMZINp3_laika_grafiks!$K$93:$K$231,FMZINp3_laika_grafiks!#REF!,$A97,FMZINp3_laika_grafiks!$M$93:$M$231,H$61))/1000000 -> #REF! | I97: =H97-AF97 -> #REF! | J97: =(SUMIFS(FMZINp3_laika_grafiks!$K$93:$K$231,FMZINp3_laika_grafiks!#REF!,$A97,FMZINp3_laika_grafiks!$M$93:$M$231,J$61))/1000000 -> #REF! | K97: =J97-AG97 -> #REF! | L97: =(SUMIFS(FMZINp3_laika_grafiks!$K$93:$K$231,FMZINp3_laika_grafiks!#REF!,$A97,FMZINp3_laika_grafiks!$M$93:$M$231,L$61))/1000000 -> #REF! | M97: =L97-AH97 -> #REF! | N97: =(SUMIFS(FMZINp3_laika_grafiks!$K$93:$K$231,FMZINp3_laika_grafiks!#REF!,$A97,FMZINp3_laika_grafiks!$M$93:$M$231,N$61))/1000000 -> #REF! | O97: =N97-AI97 -> #REF! | P97: =(SUMIFS(FMZINp3_laika_grafiks!$K$93:$K$231,FMZINp3_laika_grafiks!#REF!,$A97,FMZINp3_laika_grafiks!$M$93:$M$231,P$61))/1000000 -> #REF! | Q97: =P97-AJ97 -> #REF! | R97: =(SUMIFS(FMZINp3_laika_grafiks!$K$93:$K$231,FMZINp3_laika_grafiks!#REF!,$A97,FMZINp3_laika_grafiks!$M$93:$M$231,R$61))/1000000 -> #REF! | S97: =R97-AK97 -> #REF! | T97: =(SUMIFS(FMZINp3_laika_grafiks!$K$93:$K$231,FMZINp3_laika_grafiks!#REF!,$A97,FMZINp3_laika_grafiks!$M$93:$M$231,T$61))/1000000 -> #REF! | U97: =T97-AL97 -> #REF! | V97: =(SUMIFS(FMZINp3_laika_grafiks!$K$93:$K$231,FMZINp3_laika_grafiks!#REF!,$A97,FMZINp3_laika_grafiks!$M$93:$M$231,V$61))/1000000 -> #REF! | W97: =V97-AM97 -> #REF! | X97: =(SUMIFS(FMZINp3_laika_grafiks!$K$93:$K$231,FMZINp3_laika_grafiks!#REF!,$A97,FMZINp3_laika_grafiks!$M$93:$M$231,X$61))/1000000 -> #REF! | Y97: =X97-AN97 -> #REF! | AB97: 2024 II | AC97: =(SUMIFS(FMZINp3_laika_grafiks!$K$93:$K$231,FMZINp3_laika_grafiks!#REF!,'GRAFIKI II'!$AB97,FMZINp3_laika_grafiks!$M$93:$M$231,'GRAFIKI II'!AC$61)/1000000) -> #REF! | AD97: =(SUMIFS(FMZINp3_laika_grafiks!$K$93:$K$231,FMZINp3_laika_grafiks!#REF!,'GRAFIKI II'!$AB97,FMZINp3_laika_grafiks!$M$93:$M$231,'GRAFIKI II'!AD$61)/1000000) -> #REF! | AE97: =(SUMIFS(FMZINp3_laika_grafiks!$K$93:$K$231,FMZINp3_laika_grafiks!#REF!,'GRAFIKI II'!$AB97,FMZINp3_laika_grafiks!$M$93:$M$231,'GRAFIKI II'!AE$61)/1000000) -> #REF! | AF97: =(SUMIFS(FMZINp3_laika_grafiks!$K$93:$K$231,FMZINp3_laika_grafiks!#REF!,'GRAFIKI II'!$AB97,FMZINp3_laika_grafiks!$M$93:$M$231,'GRAFIKI II'!AF$61)/1000000) -> #REF! | AG97: =(SUMIFS(FMZINp3_laika_grafiks!$K$93:$K$231,FMZINp3_laika_grafiks!#REF!,'GRAFIKI II'!$AB97,FMZINp3_laika_grafiks!$M$93:$M$231,'GRAFIKI II'!AG$61)/1000000) -> #REF! | AH97: =(SUMIFS(FMZINp3_laika_grafiks!$K$93:$K$231,FMZINp3_laika_grafiks!#REF!,'GRAFIKI II'!$AB97,FMZINp3_laika_grafiks!$M$93:$M$231,'GRAFIKI II'!AH$61)/1000000) -> #REF! | AI97: =(SUMIFS(FMZINp3_laika_grafiks!$K$93:$K$231,FMZINp3_laika_grafiks!#REF!,'GRAFIKI II'!$AB97,FMZINp3_laika_grafiks!$M$93:$M$231,'GRAFIKI II'!AI$61)/1000000) -> #REF! | AJ97: =(SUMIFS(FMZINp3_laika_grafiks!$K$93:$K$231,FMZINp3_laika_grafiks!#REF!,'GRAFIKI II'!$AB97,FMZINp3_laika_grafiks!$M$93:$M$231,'GRAFIKI II'!AJ$61)/1000000) -> #REF! | ... AN97: =(SUMIFS(FMZINp3_laika_grafiks!$K$93:$K$231,FMZINp3_laika_grafiks!#REF!,'GRAFIKI II'!$AB97,FMZINp3_laika_grafiks!$M$93:$M$231,'GRAFIKI II'!AN$61)/1000000) -> #REF!
A98: 2024 III | B98: =(SUMIFS(FMZINp3_laika_grafiks!$K$93:$K$231,FMZINp3_laika_grafiks!#REF!,$A98,FMZINp3_laika_grafiks!$M$93:$M$231,B$61))/1000000 -> #REF! | C98: =B98-AC98 -> #REF! | D98: =(SUMIFS(FMZINp3_laika_grafiks!$K$93:$K$231,FMZINp3_laika_grafiks!#REF!,$A98,FMZINp3_laika_grafiks!$M$93:$M$231,D$61))/1000000 -> #REF! | E98: =D98-AD98 -> #REF! | F98: =(SUMIFS(FMZINp3_laika_grafiks!$K$93:$K$231,FMZINp3_laika_grafiks!#REF!,$A98,FMZINp3_laika_grafiks!$M$93:$M$231,F$61))/1000000 -> #REF! | G98: =F98-AE98 -> #REF! | H98: =(SUMIFS(FMZINp3_laika_grafiks!$K$93:$K$231,FMZINp3_laika_grafiks!#REF!,$A98,FMZINp3_laika_grafiks!$M$93:$M$231,H$61))/1000000 -> #REF! | I98: =H98-AF98 -> #REF! | J98: =(SUMIFS(FMZINp3_laika_grafiks!$K$93:$K$231,FMZINp3_laika_grafiks!#REF!,$A98,FMZINp3_laika_grafiks!$M$93:$M$231,J$61))/1000000 -> #REF! | K98: =J98-AG98 -> #REF! | L98: =(SUMIFS(FMZINp3_laika_grafiks!$K$93:$K$231,FMZINp3_laika_grafiks!#REF!,$A98,FMZINp3_laika_grafiks!$M$93:$M$231,L$61))/1000000 -> #REF! | M98: =L98-AH98 -> #REF! | N98: =(SUMIFS(FMZINp3_laika_grafiks!$K$93:$K$231,FMZINp3_laika_grafiks!#REF!,$A98,FMZINp3_laika_grafiks!$M$93:$M$231,N$61))/1000000 -> #REF! | O98: =N98-AI98 -> #REF! | P98: =(SUMIFS(FMZINp3_laika_grafiks!$K$93:$K$231,FMZINp3_laika_grafiks!#REF!,$A98,FMZINp3_laika_grafiks!$M$93:$M$231,P$61))/1000000 -> #REF! | Q98: =P98-AJ98 -> #REF! | R98: =(SUMIFS(FMZINp3_laika_grafiks!$K$93:$K$231,FMZINp3_laika_grafiks!#REF!,$A98,FMZINp3_laika_grafiks!$M$93:$M$231,R$61))/1000000 -> #REF! | S98: =R98-AK98 -> #REF! | T98: =(SUMIFS(FMZINp3_laika_grafiks!$K$93:$K$231,FMZINp3_laika_grafiks!#REF!,$A98,FMZINp3_laika_grafiks!$M$93:$M$231,T$61))/1000000 -> #REF! | U98: =T98-AL98 -> #REF! | V98: =(SUMIFS(FMZINp3_laika_grafiks!$K$93:$K$231,FMZINp3_laika_grafiks!#REF!,$A98,FMZINp3_laika_grafiks!$M$93:$M$231,V$61))/1000000 -> #REF! | W98: =V98-AM98 -> #REF! | X98: =(SUMIFS(FMZINp3_laika_grafiks!$K$93:$K$231,FMZINp3_laika_grafiks!#REF!,$A98,FMZINp3_laika_grafiks!$M$93:$M$231,X$61))/1000000 -> #REF! | Y98: =X98-AN98 -> #REF! | AB98: 2024 III | AC98: =(SUMIFS(FMZINp3_laika_grafiks!$K$93:$K$231,FMZINp3_laika_grafiks!#REF!,'GRAFIKI II'!$AB98,FMZINp3_laika_grafiks!$M$93:$M$231,'GRAFIKI II'!AC$61)/1000000) -> #REF! | AD98: =(SUMIFS(FMZINp3_laika_grafiks!$K$93:$K$231,FMZINp3_laika_grafiks!#REF!,'GRAFIKI II'!$AB98,FMZINp3_laika_grafiks!$M$93:$M$231,'GRAFIKI II'!AD$61)/1000000) -> #REF! | AE98: =(SUMIFS(FMZINp3_laika_grafiks!$K$93:$K$231,FMZINp3_laika_grafiks!#REF!,'GRAFIKI II'!$AB98,FMZINp3_laika_grafiks!$M$93:$M$231,'GRAFIKI II'!AE$61)/1000000) -> #REF! | AF98: =(SUMIFS(FMZINp3_laika_grafiks!$K$93:$K$231,FMZINp3_laika_grafiks!#REF!,'GRAFIKI II'!$AB98,FMZINp3_laika_grafiks!$M$93:$M$231,'GRAFIKI II'!AF$61)/1000000) -> #REF! | AG98: =(SUMIFS(FMZINp3_laika_grafiks!$K$93:$K$231,FMZINp3_laika_grafiks!#REF!,'GRAFIKI II'!$AB98,FMZINp3_laika_grafiks!$M$93:$M$231,'GRAFIKI II'!AG$61)/1000000) -> #REF! | AH98: =(SUMIFS(FMZINp3_laika_grafiks!$K$93:$K$231,FMZINp3_laika_grafiks!#REF!,'GRAFIKI II'!$AB98,FMZINp3_laika_grafiks!$M$93:$M$231,'GRAFIKI II'!AH$61)/1000000) -> #REF! | AI98: =(SUMIFS(FMZINp3_laika_grafiks!$K$93:$K$231,FMZINp3_laika_grafiks!#REF!,'GRAFIKI II'!$AB98,FMZINp3_laika_grafiks!$M$93:$M$231,'GRAFIKI II'!AI$61)/1000000) -> #REF! | AJ98: =(SUMIFS(FMZINp3_laika_grafiks!$K$93:$K$231,FMZINp3_laika_grafiks!#REF!,'GRAFIKI II'!$AB98,FMZINp3_laika_grafiks!$M$93:$M$231,'GRAFIKI II'!AJ$61)/1000000) -> #REF! | ... AN98: =(SUMIFS(FMZINp3_laika_grafiks!$K$93:$K$231,FMZINp3_laika_grafiks!#REF!,'GRAFIKI II'!$AB98,FMZINp3_laika_grafiks!$M$93:$M$231,'GRAFIKI II'!AN$61)/1000000) -> #REF!
A99: 2024 IV | B99: =(SUMIFS(FMZINp3_laika_grafiks!$K$93:$K$231,FMZINp3_laika_grafiks!#REF!,$A99,FMZINp3_laika_grafiks!$M$93:$M$231,B$61))/1000000 -> #REF! | C99: =B99-AC99 -> #REF! | D99: =(SUMIFS(FMZINp3_laika_grafiks!$K$93:$K$231,FMZINp3_laika_grafiks!#REF!,$A99,FMZINp3_laika_grafiks!$M$93:$M$231,D$61))/1000000 -> #REF! | E99: =D99-AD99 -> #REF! | F99: =(SUMIFS(FMZINp3_laika_grafiks!$K$93:$K$231,FMZINp3_laika_grafiks!#REF!,$A99,FMZINp3_laika_grafiks!$M$93:$M$231,F$61))/1000000 -> #REF! | G99: =F99-AE99 -> #REF! | H99: =(SUMIFS(FMZINp3_laika_grafiks!$K$93:$K$231,FMZINp3_laika_grafiks!#REF!,$A99,FMZINp3_laika_grafiks!$M$93:$M$231,H$61))/1000000 -> #REF! | I99: =H99-AF99 -> #REF! | J99: =(SUMIFS(FMZINp3_laika_grafiks!$K$93:$K$231,FMZINp3_laika_grafiks!#REF!,$A99,FMZINp3_laika_grafiks!$M$93:$M$231,J$61))/1000000 -> #REF! | K99: =J99-AG99 -> #REF! | L99: =(SUMIFS(FMZINp3_laika_grafiks!$K$93:$K$231,FMZINp3_laika_grafiks!#REF!,$A99,FMZINp3_laika_grafiks!$M$93:$M$231,L$61))/1000000 -> #REF! | M99: =L99-AH99 -> #REF! | N99: =(SUMIFS(FMZINp3_laika_grafiks!$K$93:$K$231,FMZINp3_laika_grafiks!#REF!,$A99,FMZINp3_laika_grafiks!$M$93:$M$231,N$61))/1000000 -> #REF! | O99: =N99-AI99 -> #REF! | P99: =(SUMIFS(FMZINp3_laika_grafiks!$K$93:$K$231,FMZINp3_laika_grafiks!#REF!,$A99,FMZINp3_laika_grafiks!$M$93:$M$231,P$61))/1000000 -> #REF! | Q99: =P99-AJ99 -> #REF! | R99: =(SUMIFS(FMZINp3_laika_grafiks!$K$93:$K$231,FMZINp3_laika_grafiks!#REF!,$A99,FMZINp3_laika_grafiks!$M$93:$M$231,R$61))/1000000 -> #REF! | S99: =R99-AK99 -> #REF! | T99: =(SUMIFS(FMZINp3_laika_grafiks!$K$93:$K$231,FMZINp3_laika_grafiks!#REF!,$A99,FMZINp3_laika_grafiks!$M$93:$M$231,T$61))/1000000 -> #REF! | U99: =T99-AL99 -> #REF! | V99: =(SUMIFS(FMZINp3_laika_grafiks!$K$93:$K$231,FMZINp3_laika_grafiks!#REF!,$A99,FMZINp3_laika_grafiks!$M$93:$M$231,V$61))/1000000 -> #REF! | W99: =V99-AM99 -> #REF! | X99: =(SUMIFS(FMZINp3_laika_grafiks!$K$93:$K$231,FMZINp3_laika_grafiks!#REF!,$A99,FMZINp3_laika_grafiks!$M$93:$M$231,X$61))/1000000 -> #REF! | Y99: =X99-AN99 -> #REF! | AB99: 2024 IV | AC99: =(SUMIFS(FMZINp3_laika_grafiks!$K$93:$K$231,FMZINp3_laika_grafiks!#REF!,'GRAFIKI II'!$AB99,FMZINp3_laika_grafiks!$M$93:$M$231,'GRAFIKI II'!AC$61)/1000000) -> #REF! | AD99: =(SUMIFS(FMZINp3_laika_grafiks!$K$93:$K$231,FMZINp3_laika_grafiks!#REF!,'GRAFIKI II'!$AB99,FMZINp3_laika_grafiks!$M$93:$M$231,'GRAFIKI II'!AD$61)/1000000) -> #REF! | AE99: =(SUMIFS(FMZINp3_laika_grafiks!$K$93:$K$231,FMZINp3_laika_grafiks!#REF!,'GRAFIKI II'!$AB99,FMZINp3_laika_grafiks!$M$93:$M$231,'GRAFIKI II'!AE$61)/1000000) -> #REF! | AF99: =(SUMIFS(FMZINp3_laika_grafiks!$K$93:$K$231,FMZINp3_laika_grafiks!#REF!,'GRAFIKI II'!$AB99,FMZINp3_laika_grafiks!$M$93:$M$231,'GRAFIKI II'!AF$61)/1000000) -> #REF! | AG99: =(SUMIFS(FMZINp3_laika_grafiks!$K$93:$K$231,FMZINp3_laika_grafiks!#REF!,'GRAFIKI II'!$AB99,FMZINp3_laika_grafiks!$M$93:$M$231,'GRAFIKI II'!AG$61)/1000000) -> #REF! | AH99: =(SUMIFS(FMZINp3_laika_grafiks!$K$93:$K$231,FMZINp3_laika_grafiks!#REF!,'GRAFIKI II'!$AB99,FMZINp3_laika_grafiks!$M$93:$M$231,'GRAFIKI II'!AH$61)/1000000) -> #REF! | AI99: =(SUMIFS(FMZINp3_laika_grafiks!$K$93:$K$231,FMZINp3_laika_grafiks!#REF!,'GRAFIKI II'!$AB99,FMZINp3_laika_grafiks!$M$93:$M$231,'GRAFIKI II'!AI$61)/1000000) -> #REF! | AJ99: =(SUMIFS(FMZINp3_laika_grafiks!$K$93:$K$231,FMZINp3_laika_grafiks!#REF!,'GRAFIKI II'!$AB99,FMZINp3_laika_grafiks!$M$93:$M$231,'GRAFIKI II'!AJ$61)/1000000) -> #REF! | ... AN99: =(SUMIFS(FMZINp3_laika_grafiks!$K$93:$K$231,FMZINp3_laika_grafiks!#REF!,'GRAFIKI II'!$AB99,FMZINp3_laika_grafiks!$M$93:$M$231,'GRAFIKI II'!AN$61)/1000000) -> #REF!
A100: 2025 I | B100: =(SUMIFS(FMZINp3_laika_grafiks!$K$93:$K$231,FMZINp3_laika_grafiks!#REF!,$A100,FMZINp3_laika_grafiks!$M$93:$M$231,B$61))/1000000 -> #REF! | C100: =B100-AC100 -> #REF! | D100: =(SUMIFS(FMZINp3_laika_grafiks!$K$93:$K$231,FMZINp3_laika_grafiks!#REF!,$A100,FMZINp3_laika_grafiks!$M$93:$M$231,D$61))/1000000 -> #REF! | E100: =D100-AD100 -> #REF! | F100: =(SUMIFS(FMZINp3_laika_grafiks!$K$93:$K$231,FMZINp3_laika_grafiks!#REF!,$A100,FMZINp3_laika_grafiks!$M$93:$M$231,F$61))/1000000 -> #REF! | G100: =F100-AE100 -> #REF! | H100: =(SUMIFS(FMZINp3_laika_grafiks!$K$93:$K$231,FMZINp3_laika_grafiks!#REF!,$A100,FMZINp3_laika_grafiks!$M$93:$M$231,H$61))/1000000 -> #REF! | I100: =H100-AF100 -> #REF! | J100: =(SUMIFS(FMZINp3_laika_grafiks!$K$93:$K$231,FMZINp3_laika_grafiks!#REF!,$A100,FMZINp3_laika_grafiks!$M$93:$M$231,J$61))/1000000 -> #REF! | K100: =J100-AG100 -> #REF! | L100: =(SUMIFS(FMZINp3_laika_grafiks!$K$93:$K$231,FMZINp3_laika_grafiks!#REF!,$A100,FMZINp3_laika_grafiks!$M$93:$M$231,L$61))/1000000 -> #REF! | M100: =L100-AH100 -> #REF! | N100: =(SUMIFS(FMZINp3_laika_grafiks!$K$93:$K$231,FMZINp3_laika_grafiks!#REF!,$A100,FMZINp3_laika_grafiks!$M$93:$M$231,N$61))/1000000 -> #REF! | O100: =N100-AI100 -> #REF! | P100: =(SUMIFS(FMZINp3_laika_grafiks!$K$93:$K$231,FMZINp3_laika_grafiks!#REF!,$A100,FMZINp3_laika_grafiks!$M$93:$M$231,P$61))/1000000 -> #REF! | Q100: =P100-AJ100 -> #REF! | R100: =(SUMIFS(FMZINp3_laika_grafiks!$K$93:$K$231,FMZINp3_laika_grafiks!#REF!,$A100,FMZINp3_laika_grafiks!$M$93:$M$231,R$61))/1000000 -> #REF! | S100: =R100-AK100 -> #REF! | T100: =(SUMIFS(FMZINp3_laika_grafiks!$K$93:$K$231,FMZINp3_laika_grafiks!#REF!,$A100,FMZINp3_laika_grafiks!$M$93:$M$231,T$61))/1000000 -> #REF! | U100: =T100-AL100 -> #REF! | V100: =(SUMIFS(FMZINp3_laika_grafiks!$K$93:$K$231,FMZINp3_laika_grafiks!#REF!,$A100,FMZINp3_laika_grafiks!$M$93:$M$231,V$61))/1000000 -> #REF! | W100: =V100-AM100 -> #REF! | X100: =(SUMIFS(FMZINp3_laika_grafiks!$K$93:$K$231,FMZINp3_laika_grafiks!#REF!,$A100,FMZINp3_laika_grafiks!$M$93:$M$231,X$61))/1000000 -> #REF! | Y100: =X100-AN100 -> #REF! | AB100: 2025 I | AC100: =(SUMIFS(FMZINp3_laika_grafiks!$K$93:$K$231,FMZINp3_laika_grafiks!#REF!,'GRAFIKI II'!$AB100,FMZINp3_laika_grafiks!$M$93:$M$231,'GRAFIKI II'!AC$61)/1000000) -> #REF! | AD100: =(SUMIFS(FMZINp3_laika_grafiks!$K$93:$K$231,FMZINp3_laika_grafiks!#REF!,'GRAFIKI II'!$AB100,FMZINp3_laika_grafiks!$M$93:$M$231,'GRAFIKI II'!AD$61)/1000000) -> #REF! | AE100: =(SUMIFS(FMZINp3_laika_grafiks!$K$93:$K$231,FMZINp3_laika_grafiks!#REF!,'GRAFIKI II'!$AB100,FMZINp3_laika_grafiks!$M$93:$M$231,'GRAFIKI II'!AE$61)/1000000) -> #REF! | AF100: =(SUMIFS(FMZINp3_laika_grafiks!$K$93:$K$231,FMZINp3_laika_grafiks!#REF!,'GRAFIKI II'!$AB100,FMZINp3_laika_grafiks!$M$93:$M$231,'GRAFIKI II'!AF$61)/1000000) -> #REF! | AG100: =(SUMIFS(FMZINp3_laika_grafiks!$K$93:$K$231,FMZINp3_laika_grafiks!#REF!,'GRAFIKI II'!$AB100,FMZINp3_laika_grafiks!$M$93:$M$231,'GRAFIKI II'!AG$61)/1000000) -> #REF! | AH100: =(SUMIFS(FMZINp3_laika_grafiks!$K$93:$K$231,FMZINp3_laika_grafiks!#REF!,'GRAFIKI II'!$AB100,FMZINp3_laika_grafiks!$M$93:$M$231,'GRAFIKI II'!AH$61)/1000000) -> #REF! | AI100: =(SUMIFS(FMZINp3_laika_grafiks!$K$93:$K$231,FMZINp3_laika_grafiks!#REF!,'GRAFIKI II'!$AB100,FMZINp3_laika_grafiks!$M$93:$M$231,'GRAFIKI II'!AI$61)/1000000) -> #REF! | AJ100: =(SUMIFS(FMZINp3_laika_grafiks!$K$93:$K$231,FMZINp3_laika_grafiks!#REF!,'GRAFIKI II'!$AB100,FMZINp3_laika_grafiks!$M$93:$M$231,'GRAFIKI II'!AJ$61)/1000000) -> #REF! | ... AN100: =(SUMIFS(FMZINp3_laika_grafiks!$K$93:$K$231,FMZINp3_laika_grafiks!#REF!,'GRAFIKI II'!$AB100,FMZINp3_laika_grafiks!$M$93:$M$231,'GRAFIKI II'!AN$61)/1000000) -> #REF!
A101: 2025 II | B101: =(SUMIFS(FMZINp3_laika_grafiks!$K$93:$K$231,FMZINp3_laika_grafiks!#REF!,$A101,FMZINp3_laika_grafiks!$M$93:$M$231,B$61))/1000000 -> #REF! | C101: =B101-AC101 -> #REF! | D101: =(SUMIFS(FMZINp3_laika_grafiks!$K$93:$K$231,FMZINp3_laika_grafiks!#REF!,$A101,FMZINp3_laika_grafiks!$M$93:$M$231,D$61))/1000000 -> #REF! | E101: =D101-AD101 -> #REF! | F101: =(SUMIFS(FMZINp3_laika_grafiks!$K$93:$K$231,FMZINp3_laika_grafiks!#REF!,$A101,FMZINp3_laika_grafiks!$M$93:$M$231,F$61))/1000000 -> #REF! | G101: =F101-AE101 -> #REF! | H101: =(SUMIFS(FMZINp3_laika_grafiks!$K$93:$K$231,FMZINp3_laika_grafiks!#REF!,$A101,FMZINp3_laika_grafiks!$M$93:$M$231,H$61))/1000000 -> #REF! | I101: =H101-AF101 -> #REF! | J101: =(SUMIFS(FMZINp3_laika_grafiks!$K$93:$K$231,FMZINp3_laika_grafiks!#REF!,$A101,FMZINp3_laika_grafiks!$M$93:$M$231,J$61))/1000000 -> #REF! | K101: =J101-AG101 -> #REF! | L101: =(SUMIFS(FMZINp3_laika_grafiks!$K$93:$K$231,FMZINp3_laika_grafiks!#REF!,$A101,FMZINp3_laika_grafiks!$M$93:$M$231,L$61))/1000000 -> #REF! | M101: =L101-AH101 -> #REF! | N101: =(SUMIFS(FMZINp3_laika_grafiks!$K$93:$K$231,FMZINp3_laika_grafiks!#REF!,$A101,FMZINp3_laika_grafiks!$M$93:$M$231,N$61))/1000000 -> #REF! | O101: =N101-AI101 -> #REF! | P101: =(SUMIFS(FMZINp3_laika_grafiks!$K$93:$K$231,FMZINp3_laika_grafiks!#REF!,$A101,FMZINp3_laika_grafiks!$M$93:$M$231,P$61))/1000000 -> #REF! | Q101: =P101-AJ101 -> #REF! | R101: =(SUMIFS(FMZINp3_laika_grafiks!$K$93:$K$231,FMZINp3_laika_grafiks!#REF!,$A101,FMZINp3_laika_grafiks!$M$93:$M$231,R$61))/1000000 -> #REF! | S101: =R101-AK101 -> #REF! | T101: =(SUMIFS(FMZINp3_laika_grafiks!$K$93:$K$231,FMZINp3_laika_grafiks!#REF!,$A101,FMZINp3_laika_grafiks!$M$93:$M$231,T$61))/1000000 -> #REF! | U101: =T101-AL101 -> #REF! | V101: =(SUMIFS(FMZINp3_laika_grafiks!$K$93:$K$231,FMZINp3_laika_grafiks!#REF!,$A101,FMZINp3_laika_grafiks!$M$93:$M$231,V$61))/1000000 -> #REF! | W101: =V101-AM101 -> #REF! | X101: =(SUMIFS(FMZINp3_laika_grafiks!$K$93:$K$231,FMZINp3_laika_grafiks!#REF!,$A101,FMZINp3_laika_grafiks!$M$93:$M$231,X$61))/1000000 -> #REF! | Y101: =X101-AN101 -> #REF! | AB101: 2025 II | AC101: =(SUMIFS(FMZINp3_laika_grafiks!$K$93:$K$231,FMZINp3_laika_grafiks!#REF!,'GRAFIKI II'!$AB101,FMZINp3_laika_grafiks!$M$93:$M$231,'GRAFIKI II'!AC$61)/1000000) -> #REF! | AD101: =(SUMIFS(FMZINp3_laika_grafiks!$K$93:$K$231,FMZINp3_laika_grafiks!#REF!,'GRAFIKI II'!$AB101,FMZINp3_laika_grafiks!$M$93:$M$231,'GRAFIKI II'!AD$61)/1000000) -> #REF! | AE101: =(SUMIFS(FMZINp3_laika_grafiks!$K$93:$K$231,FMZINp3_laika_grafiks!#REF!,'GRAFIKI II'!$AB101,FMZINp3_laika_grafiks!$M$93:$M$231,'GRAFIKI II'!AE$61)/1000000) -> #REF! | AF101: =(SUMIFS(FMZINp3_laika_grafiks!$K$93:$K$231,FMZINp3_laika_grafiks!#REF!,'GRAFIKI II'!$AB101,FMZINp3_laika_grafiks!$M$93:$M$231,'GRAFIKI II'!AF$61)/1000000) -> #REF! | AG101: =(SUMIFS(FMZINp3_laika_grafiks!$K$93:$K$231,FMZINp3_laika_grafiks!#REF!,'GRAFIKI II'!$AB101,FMZINp3_laika_grafiks!$M$93:$M$231,'GRAFIKI II'!AG$61)/1000000) -> #REF! | AH101: =(SUMIFS(FMZINp3_laika_grafiks!$K$93:$K$231,FMZINp3_laika_grafiks!#REF!,'GRAFIKI II'!$AB101,FMZINp3_laika_grafiks!$M$93:$M$231,'GRAFIKI II'!AH$61)/1000000) -> #REF! | AI101: =(SUMIFS(FMZINp3_laika_grafiks!$K$93:$K$231,FMZINp3_laika_grafiks!#REF!,'GRAFIKI II'!$AB101,FMZINp3_laika_grafiks!$M$93:$M$231,'GRAFIKI II'!AI$61)/1000000) -> #REF! | AJ101: =(SUMIFS(FMZINp3_laika_grafiks!$K$93:$K$231,FMZINp3_laika_grafiks!#REF!,'GRAFIKI II'!$AB101,FMZINp3_laika_grafiks!$M$93:$M$231,'GRAFIKI II'!AJ$61)/1000000) -> #REF! | ... AN101: =(SUMIFS(FMZINp3_laika_grafiks!$K$93:$K$231,FMZINp3_laika_grafiks!#REF!,'GRAFIKI II'!$AB101,FMZINp3_laika_grafiks!$M$93:$M$231,'GRAFIKI II'!AN$61)/1000000) -> #REF!
A102: 2025 III | B102: =(SUMIFS(FMZINp3_laika_grafiks!$K$93:$K$231,FMZINp3_laika_grafiks!#REF!,$A102,FMZINp3_laika_grafiks!$M$93:$M$231,B$61))/1000000 -> #REF! | C102: =B102-AC102 -> #REF! | D102: =(SUMIFS(FMZINp3_laika_grafiks!$K$93:$K$231,FMZINp3_laika_grafiks!#REF!,$A102,FMZINp3_laika_grafiks!$M$93:$M$231,D$61))/1000000 -> #REF! | E102: =D102-AD102 -> #REF! | F102: =(SUMIFS(FMZINp3_laika_grafiks!$K$93:$K$231,FMZINp3_laika_grafiks!#REF!,$A102,FMZINp3_laika_grafiks!$M$93:$M$231,F$61))/1000000 -> #REF! | G102: =F102-AE102 -> #REF! | H102: =(SUMIFS(FMZINp3_laika_grafiks!$K$93:$K$231,FMZINp3_laika_grafiks!#REF!,$A102,FMZINp3_laika_grafiks!$M$93:$M$231,H$61))/1000000 -> #REF! | I102: =H102-AF102 -> #REF! | J102: =(SUMIFS(FMZINp3_laika_grafiks!$K$93:$K$231,FMZINp3_laika_grafiks!#REF!,$A102,FMZINp3_laika_grafiks!$M$93:$M$231,J$61))/1000000 -> #REF! | K102: =J102-AG102 -> #REF! | L102: =(SUMIFS(FMZINp3_laika_grafiks!$K$93:$K$231,FMZINp3_laika_grafiks!#REF!,$A102,FMZINp3_laika_grafiks!$M$93:$M$231,L$61))/1000000 -> #REF! | M102: =L102-AH102 -> #REF! | N102: =(SUMIFS(FMZINp3_laika_grafiks!$K$93:$K$231,FMZINp3_laika_grafiks!#REF!,$A102,FMZINp3_laika_grafiks!$M$93:$M$231,N$61))/1000000 -> #REF! | O102: =N102-AI102 -> #REF! | P102: =(SUMIFS(FMZINp3_laika_grafiks!$K$93:$K$231,FMZINp3_laika_grafiks!#REF!,$A102,FMZINp3_laika_grafiks!$M$93:$M$231,P$61))/1000000 -> #REF! | Q102: =P102-AJ102 -> #REF! | R102: =(SUMIFS(FMZINp3_laika_grafiks!$K$93:$K$231,FMZINp3_laika_grafiks!#REF!,$A102,FMZINp3_laika_grafiks!$M$93:$M$231,R$61))/1000000 -> #REF! | S102: =R102-AK102 -> #REF! | T102: =(SUMIFS(FMZINp3_laika_grafiks!$K$93:$K$231,FMZINp3_laika_grafiks!#REF!,$A102,FMZINp3_laika_grafiks!$M$93:$M$231,T$61))/1000000 -> #REF! | U102: =T102-AL102 -> #REF! | V102: =(SUMIFS(FMZINp3_laika_grafiks!$K$93:$K$231,FMZINp3_laika_grafiks!#REF!,$A102,FMZINp3_laika_grafiks!$M$93:$M$231,V$61))/1000000 -> #REF! | W102: =V102-AM102 -> #REF! | X102: =(SUMIFS(FMZINp3_laika_grafiks!$K$93:$K$231,FMZINp3_laika_grafiks!#REF!,$A102,FMZINp3_laika_grafiks!$M$93:$M$231,X$61))/1000000 -> #REF! | Y102: =X102-AN102 -> #REF! | AB102: 2025 III | AC102: =(SUMIFS(FMZINp3_laika_grafiks!$K$93:$K$231,FMZINp3_laika_grafiks!#REF!,'GRAFIKI II'!$AB102,FMZINp3_laika_grafiks!$M$93:$M$231,'GRAFIKI II'!AC$61)/1000000) -> #REF! | AD102: =(SUMIFS(FMZINp3_laika_grafiks!$K$93:$K$231,FMZINp3_laika_grafiks!#REF!,'GRAFIKI II'!$AB102,FMZINp3_laika_grafiks!$M$93:$M$231,'GRAFIKI II'!AD$61)/1000000) -> #REF! | AE102: =(SUMIFS(FMZINp3_laika_grafiks!$K$93:$K$231,FMZINp3_laika_grafiks!#REF!,'GRAFIKI II'!$AB102,FMZINp3_laika_grafiks!$M$93:$M$231,'GRAFIKI II'!AE$61)/1000000) -> #REF! | AF102: =(SUMIFS(FMZINp3_laika_grafiks!$K$93:$K$231,FMZINp3_laika_grafiks!#REF!,'GRAFIKI II'!$AB102,FMZINp3_laika_grafiks!$M$93:$M$231,'GRAFIKI II'!AF$61)/1000000) -> #REF! | AG102: =(SUMIFS(FMZINp3_laika_grafiks!$K$93:$K$231,FMZINp3_laika_grafiks!#REF!,'GRAFIKI II'!$AB102,FMZINp3_laika_grafiks!$M$93:$M$231,'GRAFIKI II'!AG$61)/1000000) -> #REF! | AH102: =(SUMIFS(FMZINp3_laika_grafiks!$K$93:$K$231,FMZINp3_laika_grafiks!#REF!,'GRAFIKI II'!$AB102,FMZINp3_laika_grafiks!$M$93:$M$231,'GRAFIKI II'!AH$61)/1000000) -> #REF! | AI102: =(SUMIFS(FMZINp3_laika_grafiks!$K$93:$K$231,FMZINp3_laika_grafiks!#REF!,'GRAFIKI II'!$AB102,FMZINp3_laika_grafiks!$M$93:$M$231,'GRAFIKI II'!AI$61)/1000000) -> #REF! | AJ102: =(SUMIFS(FMZINp3_laika_grafiks!$K$93:$K$231,FMZINp3_laika_grafiks!#REF!,'GRAFIKI II'!$AB102,FMZINp3_laika_grafiks!$M$93:$M$231,'GRAFIKI II'!AJ$61)/1000000) -> #REF! | ... AN102: =(SUMIFS(FMZINp3_laika_grafiks!$K$93:$K$231,FMZINp3_laika_grafiks!#REF!,'GRAFIKI II'!$AB102,FMZINp3_laika_grafiks!$M$93:$M$231,'GRAFIKI II'!AN$61)/1000000) -> #REF!
A103: 2025 IV | B103: =(SUMIFS(FMZINp3_laika_grafiks!$K$93:$K$231,FMZINp3_laika_grafiks!#REF!,$A103,FMZINp3_laika_grafiks!$M$93:$M$231,B$61))/1000000 -> #REF! | C103: =B103-AC103 -> #REF! | D103: =(SUMIFS(FMZINp3_laika_grafiks!$K$93:$K$231,FMZINp3_laika_grafiks!#REF!,$A103,FMZINp3_laika_grafiks!$M$93:$M$231,D$61))/1000000 -> #REF! | E103: =D103-AD103 -> #REF! | F103: =(SUMIFS(FMZINp3_laika_grafiks!$K$93:$K$231,FMZINp3_laika_grafiks!#REF!,$A103,FMZINp3_laika_grafiks!$M$93:$M$231,F$61))/1000000 -> #REF! | G103: =F103-AE103 -> #REF! | H103: =(SUMIFS(FMZINp3_laika_grafiks!$K$93:$K$231,FMZINp3_laika_grafiks!#REF!,$A103,FMZINp3_laika_grafiks!$M$93:$M$231,H$61))/1000000 -> #REF! | I103: =H103-AF103 -> #REF! | J103: =(SUMIFS(FMZINp3_laika_grafiks!$K$93:$K$231,FMZINp3_laika_grafiks!#REF!,$A103,FMZINp3_laika_grafiks!$M$93:$M$231,J$61))/1000000 -> #REF! | K103: =J103-AG103 -> #REF! | L103: =(SUMIFS(FMZINp3_laika_grafiks!$K$93:$K$231,FMZINp3_laika_grafiks!#REF!,$A103,FMZINp3_laika_grafiks!$M$93:$M$231,L$61))/1000000 -> #REF! | M103: =L103-AH103 -> #REF! | N103: =(SUMIFS(FMZINp3_laika_grafiks!$K$93:$K$231,FMZINp3_laika_grafiks!#REF!,$A103,FMZINp3_laika_grafiks!$M$93:$M$231,N$61))/1000000 -> #REF! | O103: =N103-AI103 -> #REF! | P103: =(SUMIFS(FMZINp3_laika_grafiks!$K$93:$K$231,FMZINp3_laika_grafiks!#REF!,$A103,FMZINp3_laika_grafiks!$M$93:$M$231,P$61))/1000000 -> #REF! | Q103: =P103-AJ103 -> #REF! | R103: =(SUMIFS(FMZINp3_laika_grafiks!$K$93:$K$231,FMZINp3_laika_grafiks!#REF!,$A103,FMZINp3_laika_grafiks!$M$93:$M$231,R$61))/1000000 -> #REF! | S103: =R103-AK103 -> #REF! | T103: =(SUMIFS(FMZINp3_laika_grafiks!$K$93:$K$231,FMZINp3_laika_grafiks!#REF!,$A103,FMZINp3_laika_grafiks!$M$93:$M$231,T$61))/1000000 -> #REF! | U103: =T103-AL103 -> #REF! | V103: =(SUMIFS(FMZINp3_laika_grafiks!$K$93:$K$231,FMZINp3_laika_grafiks!#REF!,$A103,FMZINp3_laika_grafiks!$M$93:$M$231,V$61))/1000000 -> #REF! | W103: =V103-AM103 -> #REF! | X103: =(SUMIFS(FMZINp3_laika_grafiks!$K$93:$K$231,FMZINp3_laika_grafiks!#REF!,$A103,FMZINp3_laika_grafiks!$M$93:$M$231,X$61))/1000000 -> #REF! | Y103: =X103-AN103 -> #REF! | AB103: 2025 IV | AC103: =(SUMIFS(FMZINp3_laika_grafiks!$K$93:$K$231,FMZINp3_laika_grafiks!#REF!,'GRAFIKI II'!$AB103,FMZINp3_laika_grafiks!$M$93:$M$231,'GRAFIKI II'!AC$61)/1000000) -> #REF! | AD103: =(SUMIFS(FMZINp3_laika_grafiks!$K$93:$K$231,FMZINp3_laika_grafiks!#REF!,'GRAFIKI II'!$AB103,FMZINp3_laika_grafiks!$M$93:$M$231,'GRAFIKI II'!AD$61)/1000000) -> #REF! | AE103: =(SUMIFS(FMZINp3_laika_grafiks!$K$93:$K$231,FMZINp3_laika_grafiks!#REF!,'GRAFIKI II'!$AB103,FMZINp3_laika_grafiks!$M$93:$M$231,'GRAFIKI II'!AE$61)/1000000) -> #REF! | AF103: =(SUMIFS(FMZINp3_laika_grafiks!$K$93:$K$231,FMZINp3_laika_grafiks!#REF!,'GRAFIKI II'!$AB103,FMZINp3_laika_grafiks!$M$93:$M$231,'GRAFIKI II'!AF$61)/1000000) -> #REF! | AG103: =(SUMIFS(FMZINp3_laika_grafiks!$K$93:$K$231,FMZINp3_laika_grafiks!#REF!,'GRAFIKI II'!$AB103,FMZINp3_laika_grafiks!$M$93:$M$231,'GRAFIKI II'!AG$61)/1000000) -> #REF! | AH103: =(SUMIFS(FMZINp3_laika_grafiks!$K$93:$K$231,FMZINp3_laika_grafiks!#REF!,'GRAFIKI II'!$AB103,FMZINp3_laika_grafiks!$M$93:$M$231,'GRAFIKI II'!AH$61)/1000000) -> #REF! | AI103: =(SUMIFS(FMZINp3_laika_grafiks!$K$93:$K$231,FMZINp3_laika_grafiks!#REF!,'GRAFIKI II'!$AB103,FMZINp3_laika_grafiks!$M$93:$M$231,'GRAFIKI II'!AI$61)/1000000) -> #REF! | AJ103: =(SUMIFS(FMZINp3_laika_grafiks!$K$93:$K$231,FMZINp3_laika_grafiks!#REF!,'GRAFIKI II'!$AB103,FMZINp3_laika_grafiks!$M$93:$M$231,'GRAFIKI II'!AJ$61)/1000000) -> #REF! | ... AN103: =(SUMIFS(FMZINp3_laika_grafiks!$K$93:$K$231,FMZINp3_laika_grafiks!#REF!,'GRAFIKI II'!$AB103,FMZINp3_laika_grafiks!$M$93:$M$231,'GRAFIKI II'!AN$61)/1000000) -> #REF!
... A112: 2027 IV | B112: =(SUMIFS(FMZINp3_laika_grafiks!$K$93:$K$231,FMZINp3_laika_grafiks!#REF!,$A112,FMZINp3_laika_grafiks!$M$93:$M$231,B$61))/1000000 -> #REF! | C112: =B112-AC112 -> #REF! | D112: =(SUMIFS(FMZINp3_laika_grafiks!$K$93:$K$231,FMZINp3_laika_grafiks!#REF!,$A112,FMZINp3_laika_grafiks!$M$93:$M$231,D$61))/1000000 -> #REF! | E112: =D112-AD112 -> #REF! | F112: =(SUMIFS(FMZINp3_laika_grafiks!$K$93:$K$231,FMZINp3_laika_grafiks!#REF!,$A112,FMZINp3_laika_grafiks!$M$93:$M$231,F$61))/1000000 -> #REF! | G112: =F112-AE112 -> #REF! | H112: =(SUMIFS(FMZINp3_laika_grafiks!$K$93:$K$231,FMZINp3_laika_grafiks!#REF!,$A112,FMZINp3_laika_grafiks!$M$93:$M$231,H$61))/1000000 -> #REF! | I112: =H112-AF112 -> #REF! | J112: =(SUMIFS(FMZINp3_laika_grafiks!$K$93:$K$231,FMZINp3_laika_grafiks!#REF!,$A112,FMZINp3_laika_grafiks!$M$93:$M$231,J$61))/1000000 -> #REF! | K112: =J112-AG112 -> #REF! | L112: =(SUMIFS(FMZINp3_laika_grafiks!$K$93:$K$231,FMZINp3_laika_grafiks!#REF!,$A112,FMZINp3_laika_grafiks!$M$93:$M$231,L$61))/1000000 -> #REF! | M112: =L112-AH112 -> #REF! | N112: =(SUMIFS(FMZINp3_laika_grafiks!$K$93:$K$231,FMZINp3_laika_grafiks!#REF!,$A112,FMZINp3_laika_grafiks!$M$93:$M$231,N$61))/1000000 -> #REF! | O112: =N112-AI112 -> #REF! | P112: =(SUMIFS(FMZINp3_laika_grafiks!$K$93:$K$231,FMZINp3_laika_grafiks!#REF!,$A112,FMZINp3_laika_grafiks!$M$93:$M$231,P$61))/1000000 -> #REF! | Q112: =P112-AJ112 -> #REF! | R112: =(SUMIFS(FMZINp3_laika_grafiks!$K$93:$K$231,FMZINp3_laika_grafiks!#REF!,$A112,FMZINp3_laika_grafiks!$M$93:$M$231,R$61))/1000000 -> #REF! | S112: =R112-AK112 -> #REF! | T112: =(SUMIFS(FMZINp3_laika_grafiks!$K$93:$K$231,FMZINp3_laika_grafiks!#REF!,$A112,FMZINp3_laika_grafiks!$M$93:$M$231,T$61))/1000000 -> #REF! | U112: =T112-AL112 -> #REF! | V112: =(SUMIFS(FMZINp3_laika_grafiks!$K$93:$K$231,FMZINp3_laika_grafiks!#REF!,$A112,FMZINp3_laika_grafiks!$M$93:$M$231,V$61))/1000000 -> #REF! | W112: =V112-AM112 -> #REF! | X112: =(SUMIFS(FMZINp3_laika_grafiks!$K$93:$K$231,FMZINp3_laika_grafiks!#REF!,$A112,FMZINp3_laika_grafiks!$M$93:$M$231,X$61))/1000000 -> #REF! | Y112: =X112-AN112 -> #REF! | AB112: 2027 IV | AC112: =(SUMIFS(FMZINp3_laika_grafiks!$K$93:$K$231,FMZINp3_laika_grafiks!#REF!,'GRAFIKI II'!$AB112,FMZINp3_laika_grafiks!$M$93:$M$231,'GRAFIKI II'!AC$61)/1000000) -> #REF! | AD112: =(SUMIFS(FMZINp3_laika_grafiks!$K$93:$K$231,FMZINp3_laika_grafiks!#REF!,'GRAFIKI II'!$AB112,FMZINp3_laika_grafiks!$M$93:$M$231,'GRAFIKI II'!AD$61)/1000000) -> #REF! | AE112: =(SUMIFS(FMZINp3_laika_grafiks!$K$93:$K$231,FMZINp3_laika_grafiks!#REF!,'GRAFIKI II'!$AB112,FMZINp3_laika_grafiks!$M$93:$M$231,'GRAFIKI II'!AE$61)/1000000) -> #REF! | AF112: =(SUMIFS(FMZINp3_laika_grafiks!$K$93:$K$231,FMZINp3_laika_grafiks!#REF!,'GRAFIKI II'!$AB112,FMZINp3_laika_grafiks!$M$93:$M$231,'GRAFIKI II'!AF$61)/1000000) -> #REF! | AG112: =(SUMIFS(FMZINp3_laika_grafiks!$K$93:$K$231,FMZINp3_laika_grafiks!#REF!,'GRAFIKI II'!$AB112,FMZINp3_laika_grafiks!$M$93:$M$231,'GRAFIKI II'!AG$61)/1000000) -> #REF! | AH112: =(SUMIFS(FMZINp3_laika_grafiks!$K$93:$K$231,FMZINp3_laika_grafiks!#REF!,'GRAFIKI II'!$AB112,FMZINp3_laika_grafiks!$M$93:$M$231,'GRAFIKI II'!AH$61)/1000000) -> #REF! | AI112: =(SUMIFS(FMZINp3_laika_grafiks!$K$93:$K$231,FMZINp3_laika_grafiks!#REF!,'GRAFIKI II'!$AB112,FMZINp3_laika_grafiks!$M$93:$M$231,'GRAFIKI II'!AI$61)/1000000) -> #REF! | AJ112: =(SUMIFS(FMZINp3_laika_grafiks!$K$93:$K$231,FMZINp3_laika_grafiks!#REF!,'GRAFIKI II'!$AB112,FMZINp3_laika_grafiks!$M$93:$M$231,'GRAFIKI II'!AJ$61)/1000000) -> #REF! | ... AN112: =(SUMIFS(FMZINp3_laika_grafiks!$K$93:$K$231,FMZINp3_laika_grafiks!#REF!,'GRAFIKI II'!$AB112,FMZINp3_laika_grafiks!$M$93:$M$231,'GRAFIKI II'!AN$61)/1000000) -> #REF!
A113: Kopā | B113: =SUM(B91:B112) -> #REF! | C113: =B113-AC113 -> #REF! | D113: =SUM(D91:D112) -> #REF! | E113: =D113-AD113 -> #REF! | F113: =SUM(F91:F112) -> #REF! | G113: =F113-AE113 -> #REF! | H113: =SUM(H91:H112) -> #REF! | I113: =H113-AF113 -> #REF! | J113: =SUM(J91:J112) -> #REF! | K113: =J113-AG113 -> #REF! | L113: =SUM(L91:L112) -> #REF! | M113: =L113-AH113 -> #REF! | N113: =SUM(N91:N112) -> #REF! | O113: =N113-AI113 -> #REF! | P113: =SUM(P91:P112) -> #REF! | Q113: =P113-AJ113 -> #REF! | R113: =SUM(R91:R112) -> #REF! | S113: =R113-AK113 -> #REF! | T113: =SUM(T91:T112) -> #REF! | U113: =T113-AL113 -> #REF! | V113: =SUM(V91:V112) -> #REF! | W113: =V113-AM113 -> #REF! | X113: =SUM(X91:X112) -> #REF! | Y113: =X113-AN113 -> #REF! | AB113: =SUM(AC113:AN113) -> #REF! | AC113: =SUM(AC91:AC112) -> #REF! | AD113: =SUM(AD91:AD112) -> #REF! | AE113: =SUM(AE91:AE112) -> #REF! | AF113: =SUM(AF91:AF112) -> #REF! | AG113: =SUM(AG91:AG112) -> #REF! | AH113: =SUM(AH91:AH112) -> #REF! | AI113: =SUM(AI91:AI112) -> #REF! | AJ113: =SUM(AJ91:AJ112) -> #REF! | ... AN113: =SUM(AN91:AN112) -> #REF!
A114: =SUM(B113:I113) -> #REF!
A116: KUMULATĪVI
P117: Laika grafiks uz 25.04.2023.
B118: Projektu atlases pa ministrijām kumulatīvi, milj. EUR | Q118: Projektu atlases kumulatīvi uz 25.04.2023., milj. EUR | AI118: Sākotnēji plānotie grafiki 30.09.2022.
B119: SM | C119: EM | D119: VARAM | E119: IZM | F119: VM | G119: LM | H119: KM | I119: FM | J119: VK | K119: IeM | L119: TM | M119: KEM | Q119: SM | R119: EM | S119: VARAM | T119: IZM | U119: VM | V119: LM | W119: KM | X119: FM | Y119: VK | Z119: IeM | AA119: TM | AB119: KEM | AI119: MK noteikumu finansējums pa ministrijām kumulatīvi uz 30.09.2023., milj. EUR
A120: 2022 IV | B120: =SUMIFS(FMZINp3_laika_grafiks!$K$93:$K$231,FMZINp3_laika_grafiks!#REF!,'GRAFIKI II'!$A120,FMZINp3_laika_grafiks!$M$93:$M$231,'GRAFIKI II'!B$119) -> #REF! | C120: =SUMIFS(FMZINp3_laika_grafiks!$K$93:$K$231,FMZINp3_laika_grafiks!#REF!,'GRAFIKI II'!$A120,FMZINp3_laika_grafiks!$M$93:$M$231,'GRAFIKI II'!C$119) -> #REF! | D120: =SUMIFS(FMZINp3_laika_grafiks!$K$93:$K$231,FMZINp3_laika_grafiks!#REF!,'GRAFIKI II'!$A120,FMZINp3_laika_grafiks!$M$93:$M$231,'GRAFIKI II'!D$119) -> #REF! | E120: =SUMIFS(FMZINp3_laika_grafiks!$K$93:$K$231,FMZINp3_laika_grafiks!#REF!,'GRAFIKI II'!$A120,FMZINp3_laika_grafiks!$M$93:$M$231,'GRAFIKI II'!E$119) -> #REF! | F120: =SUMIFS(FMZINp3_laika_grafiks!$K$93:$K$231,FMZINp3_laika_grafiks!#REF!,'GRAFIKI II'!$A120,FMZINp3_laika_grafiks!$M$93:$M$231,'GRAFIKI II'!F$119) -> #REF! | G120: =SUMIFS(FMZINp3_laika_grafiks!$K$93:$K$231,FMZINp3_laika_grafiks!#REF!,'GRAFIKI II'!$A120,FMZINp3_laika_grafiks!$M$93:$M$231,'GRAFIKI II'!G$119) -> #REF! | H120: =SUMIFS(FMZINp3_laika_grafiks!$K$93:$K$231,FMZINp3_laika_grafiks!#REF!,'GRAFIKI II'!$A120,FMZINp3_laika_grafiks!$M$93:$M$231,'GRAFIKI II'!H$119) -> #REF! | I120: =SUMIFS(FMZINp3_laika_grafiks!$K$93:$K$231,FMZINp3_laika_grafiks!#REF!,'GRAFIKI II'!$A120,FMZINp3_laika_grafiks!$M$93:$M$231,'GRAFIKI II'!I$119) -> #REF! | ... M120: =SUMIFS(FMZINp3_laika_grafiks!$K$93:$K$231,FMZINp3_laika_grafiks!#REF!,'GRAFIKI II'!$A120,FMZINp3_laika_grafiks!$M$93:$M$231,'GRAFIKI II'!M$119) -> #REF! | P120: 2022 IV | Q120: =(SUMIFS(FMZINp3_laika_grafiks!$K$93:$K$231,FMZINp3_laika_grafiks!#REF!,'GRAFIKI II'!$P120,FMZINp3_laika_grafiks!$M$93:$M$231,'GRAFIKI II'!Q$119))/1000000 -> #REF! | R120: =(SUMIFS(FMZINp3_laika_grafiks!$K$93:$K$231,FMZINp3_laika_grafiks!#REF!,'GRAFIKI II'!$P120,FMZINp3_laika_grafiks!$M$93:$M$231,'GRAFIKI II'!R$119))/1000000 -> #REF! | S120: =(SUMIFS(FMZINp3_laika_grafiks!$K$93:$K$231,FMZINp3_laika_grafiks!#REF!,'GRAFIKI II'!$P120,FMZINp3_laika_grafiks!$M$93:$M$231,'GRAFIKI II'!S$119))/1000000 -> #REF! | T120: =(SUMIFS(FMZINp3_laika_grafiks!$K$93:$K$231,FMZINp3_laika_grafiks!#REF!,'GRAFIKI II'!$P120,FMZINp3_laika_grafiks!$M$93:$M$231,'GRAFIKI II'!T$119))/1000000 -> #REF! | U120: =(SUMIFS(FMZINp3_laika_grafiks!$K$93:$K$231,FMZINp3_laika_grafiks!#REF!,'GRAFIKI II'!$P120,FMZINp3_laika_grafiks!$M$93:$M$231,'GRAFIKI II'!U$119))/1000000 -> #REF! | V120: =(SUMIFS(FMZINp3_laika_grafiks!$K$93:$K$231,FMZINp3_laika_grafiks!#REF!,'GRAFIKI II'!$P120,FMZINp3_laika_grafiks!$M$93:$M$231,'GRAFIKI II'!V$119))/1000000 -> #REF! | W120: =(SUMIFS(FMZINp3_laika_grafiks!$K$93:$K$231,FMZINp3_laika_grafiks!#REF!,'GRAFIKI II'!$P120,FMZINp3_laika_grafiks!$M$93:$M$231,'GRAFIKI II'!W$119))/1000000 -> #REF! | X120: =(SUMIFS(FMZINp3_laika_grafiks!$K$93:$K$231,FMZINp3_laika_grafiks!#REF!,'GRAFIKI II'!$P120,FMZINp3_laika_grafiks!$M$93:$M$231,'GRAFIKI II'!X$119))/1000000 -> #REF! | ... AB120: =(SUMIFS(FMZINp3_laika_grafiks!$K$93:$K$231,FMZINp3_laika_grafiks!#REF!,'GRAFIKI II'!$P120,FMZINp3_laika_grafiks!$M$93:$M$231,'GRAFIKI II'!AB$119))/1000000 -> #REF! | AJ120: =AD61 -> EM | AK120: =AG61 -> VM | AL120: =AL61 -> IeM | AM120: =AN61 -> KEM | AN120: =AF61 -> IZM | AO120: =AE61 -> VARAM | AP120: =AM61 -> TM
A121: 2023 I | B121: =SUMIFS(FMZINp3_laika_grafiks!$K$93:$K$231,FMZINp3_laika_grafiks!#REF!,'GRAFIKI II'!$A121,FMZINp3_laika_grafiks!$M$93:$M$231,'GRAFIKI II'!B$119)/1000000+B120 -> #REF! | C121: =SUMIFS(FMZINp3_laika_grafiks!$K$93:$K$231,FMZINp3_laika_grafiks!#REF!,'GRAFIKI II'!$A121,FMZINp3_laika_grafiks!$M$93:$M$231,'GRAFIKI II'!C$119)/1000000+C120 -> #REF! | D121: =SUMIFS(FMZINp3_laika_grafiks!$K$93:$K$231,FMZINp3_laika_grafiks!#REF!,'GRAFIKI II'!$A121,FMZINp3_laika_grafiks!$M$93:$M$231,'GRAFIKI II'!D$119)/1000000+D120 -> #REF! | E121: =SUMIFS(FMZINp3_laika_grafiks!$K$93:$K$231,FMZINp3_laika_grafiks!#REF!,'GRAFIKI II'!$A121,FMZINp3_laika_grafiks!$M$93:$M$231,'GRAFIKI II'!E$119)/1000000+E120 -> #REF! | F121: =SUMIFS(FMZINp3_laika_grafiks!$K$93:$K$231,FMZINp3_laika_grafiks!#REF!,'GRAFIKI II'!$A121,FMZINp3_laika_grafiks!$M$93:$M$231,'GRAFIKI II'!F$119)/1000000+F120 -> #REF! | G121: =SUMIFS(FMZINp3_laika_grafiks!$K$93:$K$231,FMZINp3_laika_grafiks!#REF!,'GRAFIKI II'!$A121,FMZINp3_laika_grafiks!$M$93:$M$231,'GRAFIKI II'!G$119)/1000000+G120 -> #REF! | H121: =SUMIFS(FMZINp3_laika_grafiks!$K$93:$K$231,FMZINp3_laika_grafiks!#REF!,'GRAFIKI II'!$A121,FMZINp3_laika_grafiks!$M$93:$M$231,'GRAFIKI II'!H$119)/1000000+H120 -> #REF! | I121: =SUMIFS(FMZINp3_laika_grafiks!$K$93:$K$231,FMZINp3_laika_grafiks!#REF!,'GRAFIKI II'!$A121,FMZINp3_laika_grafiks!$M$93:$M$231,'GRAFIKI II'!I$119)/1000000+I120 -> #REF! | ... M121: =SUMIFS(FMZINp3_laika_grafiks!$K$93:$K$231,FMZINp3_laika_grafiks!#REF!,'GRAFIKI II'!$A121,FMZINp3_laika_grafiks!$M$93:$M$231,'GRAFIKI II'!M$119)/1000000+M120 -> #REF! | P121: 2023 I | Q121: =((SUMIFS(FMZINp3_laika_grafiks!$K$93:$K$231,FMZINp3_laika_grafiks!#REF!,'GRAFIKI II'!$P121,FMZINp3_laika_grafiks!$M$93:$M$231,'GRAFIKI II'!Q$119))/1000000)+Q120 -> #REF! | R121: =((SUMIFS(FMZINp3_laika_grafiks!$K$93:$K$231,FMZINp3_laika_grafiks!#REF!,'GRAFIKI II'!$P121,FMZINp3_laika_grafiks!$M$93:$M$231,'GRAFIKI II'!R$119))/1000000)+R120 -> #REF! | S121: =((SUMIFS(FMZINp3_laika_grafiks!$K$93:$K$231,FMZINp3_laika_grafiks!#REF!,'GRAFIKI II'!$P121,FMZINp3_laika_grafiks!$M$93:$M$231,'GRAFIKI II'!S$119))/1000000)+S120 -> #REF! | T121: =((SUMIFS(FMZINp3_laika_grafiks!$K$93:$K$231,FMZINp3_laika_grafiks!#REF!,'GRAFIKI II'!$P121,FMZINp3_laika_grafiks!$M$93:$M$231,'GRAFIKI II'!T$119))/1000000)+T120 -> #REF! | U121: =((SUMIFS(FMZINp3_laika_grafiks!$K$93:$K$231,FMZINp3_laika_grafiks!#REF!,'GRAFIKI II'!$P121,FMZINp3_laika_grafiks!$M$93:$M$231,'GRAFIKI II'!U$119))/1000000)+U120 -> #REF! | V121: =((SUMIFS(FMZINp3_laika_grafiks!$K$93:$K$231,FMZINp3_laika_grafiks!#REF!,'GRAFIKI II'!$P121,FMZINp3_laika_grafiks!$M$93:$M$231,'GRAFIKI II'!V$119))/1000000)+V120 -> #REF! | W121: =((SUMIFS(FMZINp3_laika_grafiks!$K$93:$K$231,FMZINp3_laika_grafiks!#REF!,'GRAFIKI II'!$P121,FMZINp3_laika_grafiks!$M$93:$M$231,'GRAFIKI II'!W$119))/1000000)+W120 -> #REF! | X121: =((SUMIFS(FMZINp3_laika_grafiks!$K$93:$K$231,FMZINp3_laika_grafiks!#REF!,'GRAFIKI II'!$P121,FMZINp3_laika_grafiks!$M$93:$M$231,'GRAFIKI II'!X$119))/1000000)+X120 -> #REF! | ... AB121: =((SUMIFS(FMZINp3_laika_grafiks!$K$93:$K$231,FMZINp3_laika_grafiks!#REF!,'GRAFIKI II'!$P121,FMZINp3_laika_grafiks!$M$93:$M$231,'GRAFIKI II'!AB$119))/1000000)+AB120 -> #REF! | AI121: =AB62 -> 2022 IV | AJ121: =AD62 -> #REF! | AK121: =AG62 -> #REF! | AL121: =AL62 -> #REF! | AM121: =AN62 -> #REF! | AN121: =AF62 -> #REF! | AO121: =AE62 -> #REF! | AP121: =AM62 -> #REF!
A122: 2023 II | B122: =SUMIFS(FMZINp3_laika_grafiks!$K$93:$K$231,FMZINp3_laika_grafiks!#REF!,'GRAFIKI II'!$A122,FMZINp3_laika_grafiks!$M$93:$M$231,'GRAFIKI II'!B$119)/1000000+B121 -> #REF! | C122: =SUMIFS(FMZINp3_laika_grafiks!$K$93:$K$231,FMZINp3_laika_grafiks!#REF!,'GRAFIKI II'!$A122,FMZINp3_laika_grafiks!$M$93:$M$231,'GRAFIKI II'!C$119)/1000000+C121 -> #REF! | D122: =SUMIFS(FMZINp3_laika_grafiks!$K$93:$K$231,FMZINp3_laika_grafiks!#REF!,'GRAFIKI II'!$A122,FMZINp3_laika_grafiks!$M$93:$M$231,'GRAFIKI II'!D$119)/1000000+D121 -> #REF! | E122: =SUMIFS(FMZINp3_laika_grafiks!$K$93:$K$231,FMZINp3_laika_grafiks!#REF!,'GRAFIKI II'!$A122,FMZINp3_laika_grafiks!$M$93:$M$231,'GRAFIKI II'!E$119)/1000000+E121 -> #REF! | F122: =SUMIFS(FMZINp3_laika_grafiks!$K$93:$K$231,FMZINp3_laika_grafiks!#REF!,'GRAFIKI II'!$A122,FMZINp3_laika_grafiks!$M$93:$M$231,'GRAFIKI II'!F$119)/1000000+F121 -> #REF! | G122: =SUMIFS(FMZINp3_laika_grafiks!$K$93:$K$231,FMZINp3_laika_grafiks!#REF!,'GRAFIKI II'!$A122,FMZINp3_laika_grafiks!$M$93:$M$231,'GRAFIKI II'!G$119)/1000000+G121 -> #REF! | H122: =SUMIFS(FMZINp3_laika_grafiks!$K$93:$K$231,FMZINp3_laika_grafiks!#REF!,'GRAFIKI II'!$A122,FMZINp3_laika_grafiks!$M$93:$M$231,'GRAFIKI II'!H$119)/1000000+H121 -> #REF! | I122: =SUMIFS(FMZINp3_laika_grafiks!$K$93:$K$231,FMZINp3_laika_grafiks!#REF!,'GRAFIKI II'!$A122,FMZINp3_laika_grafiks!$M$93:$M$231,'GRAFIKI II'!I$119)/1000000+I121 -> #REF! | ... M122: =SUMIFS(FMZINp3_laika_grafiks!$K$93:$K$231,FMZINp3_laika_grafiks!#REF!,'GRAFIKI II'!$A122,FMZINp3_laika_grafiks!$M$93:$M$231,'GRAFIKI II'!M$119)/1000000+M121 -> #REF! | P122: 2023 II | Q122: =((SUMIFS(FMZINp3_laika_grafiks!$K$93:$K$231,FMZINp3_laika_grafiks!#REF!,'GRAFIKI II'!$P122,FMZINp3_laika_grafiks!$M$93:$M$231,'GRAFIKI II'!Q$119))/1000000)+Q121 -> #REF! | R122: =((SUMIFS(FMZINp3_laika_grafiks!$K$93:$K$231,FMZINp3_laika_grafiks!#REF!,'GRAFIKI II'!$P122,FMZINp3_laika_grafiks!$M$93:$M$231,'GRAFIKI II'!R$119))/1000000)+R121 -> #REF! | S122: =((SUMIFS(FMZINp3_laika_grafiks!$K$93:$K$231,FMZINp3_laika_grafiks!#REF!,'GRAFIKI II'!$P122,FMZINp3_laika_grafiks!$M$93:$M$231,'GRAFIKI II'!S$119))/1000000)+S121 -> #REF! | T122: =((SUMIFS(FMZINp3_laika_grafiks!$K$93:$K$231,FMZINp3_laika_grafiks!#REF!,'GRAFIKI II'!$P122,FMZINp3_laika_grafiks!$M$93:$M$231,'GRAFIKI II'!T$119))/1000000)+T121 -> #REF! | U122: =((SUMIFS(FMZINp3_laika_grafiks!$K$93:$K$231,FMZINp3_laika_grafiks!#REF!,'GRAFIKI II'!$P122,FMZINp3_laika_grafiks!$M$93:$M$231,'GRAFIKI II'!U$119))/1000000)+U121 -> #REF! | V122: =((SUMIFS(FMZINp3_laika_grafiks!$K$93:$K$231,FMZINp3_laika_grafiks!#REF!,'GRAFIKI II'!$P122,FMZINp3_laika_grafiks!$M$93:$M$231,'GRAFIKI II'!V$119))/1000000)+V121 -> #REF! | W122: =((SUMIFS(FMZINp3_laika_grafiks!$K$93:$K$231,FMZINp3_laika_grafiks!#REF!,'GRAFIKI II'!$P122,FMZINp3_laika_grafiks!$M$93:$M$231,'GRAFIKI II'!W$119))/1000000)+W121 -> #REF! | X122: =((SUMIFS(FMZINp3_laika_grafiks!$K$93:$K$231,FMZINp3_laika_grafiks!#REF!,'GRAFIKI II'!$P122,FMZINp3_laika_grafiks!$M$93:$M$231,'GRAFIKI II'!X$119))/1000000)+X121 -> #REF! | ... AB122: =((SUMIFS(FMZINp3_laika_grafiks!$K$93:$K$231,FMZINp3_laika_grafiks!#REF!,'GRAFIKI II'!$P122,FMZINp3_laika_grafiks!$M$93:$M$231,'GRAFIKI II'!AB$119))/1000000)+AB121 -> #REF!
A123: 2023 III | B123: =SUMIFS(FMZINp3_laika_grafiks!$K$93:$K$231,FMZINp3_laika_grafiks!#REF!,'GRAFIKI II'!$A123,FMZINp3_laika_grafiks!$M$93:$M$231,'GRAFIKI II'!B$119)/1000000+B122 -> #REF! | C123: =SUMIFS(FMZINp3_laika_grafiks!$K$93:$K$231,FMZINp3_laika_grafiks!#REF!,'GRAFIKI II'!$A123,FMZINp3_laika_grafiks!$M$93:$M$231,'GRAFIKI II'!C$119)/1000000+C122 -> #REF! | D123: =SUMIFS(FMZINp3_laika_grafiks!$K$93:$K$231,FMZINp3_laika_grafiks!#REF!,'GRAFIKI II'!$A123,FMZINp3_laika_grafiks!$M$93:$M$231,'GRAFIKI II'!D$119)/1000000+D122 -> #REF! | E123: =SUMIFS(FMZINp3_laika_grafiks!$K$93:$K$231,FMZINp3_laika_grafiks!#REF!,'GRAFIKI II'!$A123,FMZINp3_laika_grafiks!$M$93:$M$231,'GRAFIKI II'!E$119)/1000000+E122 -> #REF! | F123: =SUMIFS(FMZINp3_laika_grafiks!$K$93:$K$231,FMZINp3_laika_grafiks!#REF!,'GRAFIKI II'!$A123,FMZINp3_laika_grafiks!$M$93:$M$231,'GRAFIKI II'!F$119)/1000000+F122 -> #REF! | G123: =SUMIFS(FMZINp3_laika_grafiks!$K$93:$K$231,FMZINp3_laika_grafiks!#REF!,'GRAFIKI II'!$A123,FMZINp3_laika_grafiks!$M$93:$M$231,'GRAFIKI II'!G$119)/1000000+G122 -> #REF! | H123: =SUMIFS(FMZINp3_laika_grafiks!$K$93:$K$231,FMZINp3_laika_grafiks!#REF!,'GRAFIKI II'!$A123,FMZINp3_laika_grafiks!$M$93:$M$231,'GRAFIKI II'!H$119)/1000000+H122 -> #REF! | I123: =SUMIFS(FMZINp3_laika_grafiks!$K$93:$K$231,FMZINp3_laika_grafiks!#REF!,'GRAFIKI II'!$A123,FMZINp3_laika_grafiks!$M$93:$M$231,'GRAFIKI II'!I$119)/1000000+I122 -> #REF! | ... M123: =SUMIFS(FMZINp3_laika_grafiks!$K$93:$K$231,FMZINp3_laika_grafiks!#REF!,'GRAFIKI II'!$A123,FMZINp3_laika_grafiks!$M$93:$M$231,'GRAFIKI II'!M$119)/1000000+M122 -> #REF! | P123: 2023 III | Q123: =((SUMIFS(FMZINp3_laika_grafiks!$K$93:$K$231,FMZINp3_laika_grafiks!#REF!,'GRAFIKI II'!$P123,FMZINp3_laika_grafiks!$M$93:$M$231,'GRAFIKI II'!Q$119))/1000000)+Q122 -> #REF! | R123: =((SUMIFS(FMZINp3_laika_grafiks!$K$93:$K$231,FMZINp3_laika_grafiks!#REF!,'GRAFIKI II'!$P123,FMZINp3_laika_grafiks!$M$93:$M$231,'GRAFIKI II'!R$119))/1000000)+R122 -> #REF! | S123: =((SUMIFS(FMZINp3_laika_grafiks!$K$93:$K$231,FMZINp3_laika_grafiks!#REF!,'GRAFIKI II'!$P123,FMZINp3_laika_grafiks!$M$93:$M$231,'GRAFIKI II'!S$119))/1000000)+S122 -> #REF! | T123: =((SUMIFS(FMZINp3_laika_grafiks!$K$93:$K$231,FMZINp3_laika_grafiks!#REF!,'GRAFIKI II'!$P123,FMZINp3_laika_grafiks!$M$93:$M$231,'GRAFIKI II'!T$119))/1000000)+T122 -> #REF! | U123: =((SUMIFS(FMZINp3_laika_grafiks!$K$93:$K$231,FMZINp3_laika_grafiks!#REF!,'GRAFIKI II'!$P123,FMZINp3_laika_grafiks!$M$93:$M$231,'GRAFIKI II'!U$119))/1000000)+U122 -> #REF! | V123: =((SUMIFS(FMZINp3_laika_grafiks!$K$93:$K$231,FMZINp3_laika_grafiks!#REF!,'GRAFIKI II'!$P123,FMZINp3_laika_grafiks!$M$93:$M$231,'GRAFIKI II'!V$119))/1000000)+V122 -> #REF! | W123: =((SUMIFS(FMZINp3_laika_grafiks!$K$93:$K$231,FMZINp3_laika_grafiks!#REF!,'GRAFIKI II'!$P123,FMZINp3_laika_grafiks!$M$93:$M$231,'GRAFIKI II'!W$119))/1000000)+W122 -> #REF! | X123: =((SUMIFS(FMZINp3_laika_grafiks!$K$93:$K$231,FMZINp3_laika_grafiks!#REF!,'GRAFIKI II'!$P123,FMZINp3_laika_grafiks!$M$93:$M$231,'GRAFIKI II'!X$119))/1000000)+X122 -> #REF! | ... AB123: =((SUMIFS(FMZINp3_laika_grafiks!$K$93:$K$231,FMZINp3_laika_grafiks!#REF!,'GRAFIKI II'!$P123,FMZINp3_laika_grafiks!$M$93:$M$231,'GRAFIKI II'!AB$119))/1000000)+AB122 -> #REF! | AJ123: MK noteikumu skaits
A124: 2023 IV | B124: =SUMIFS(FMZINp3_laika_grafiks!$K$93:$K$231,FMZINp3_laika_grafiks!#REF!,'GRAFIKI II'!$A124,FMZINp3_laika_grafiks!$M$93:$M$231,'GRAFIKI II'!B$119)/1000000+B123 -> #REF! | C124: =SUMIFS(FMZINp3_laika_grafiks!$K$93:$K$231,FMZINp3_laika_grafiks!#REF!,'GRAFIKI II'!$A124,FMZINp3_laika_grafiks!$M$93:$M$231,'GRAFIKI II'!C$119)/1000000+C123 -> #REF! | D124: =SUMIFS(FMZINp3_laika_grafiks!$K$93:$K$231,FMZINp3_laika_grafiks!#REF!,'GRAFIKI II'!$A124,FMZINp3_laika_grafiks!$M$93:$M$231,'GRAFIKI II'!D$119)/1000000+D123 -> #REF! | E124: =SUMIFS(FMZINp3_laika_grafiks!$K$93:$K$231,FMZINp3_laika_grafiks!#REF!,'GRAFIKI II'!$A124,FMZINp3_laika_grafiks!$M$93:$M$231,'GRAFIKI II'!E$119)/1000000+E123 -> #REF! | F124: =SUMIFS(FMZINp3_laika_grafiks!$K$93:$K$231,FMZINp3_laika_grafiks!#REF!,'GRAFIKI II'!$A124,FMZINp3_laika_grafiks!$M$93:$M$231,'GRAFIKI II'!F$119)/1000000+F123 -> #REF! | G124: =SUMIFS(FMZINp3_laika_grafiks!$K$93:$K$231,FMZINp3_laika_grafiks!#REF!,'GRAFIKI II'!$A124,FMZINp3_laika_grafiks!$M$93:$M$231,'GRAFIKI II'!G$119)/1000000+G123 -> #REF! | H124: =SUMIFS(FMZINp3_laika_grafiks!$K$93:$K$231,FMZINp3_laika_grafiks!#REF!,'GRAFIKI II'!$A124,FMZINp3_laika_grafiks!$M$93:$M$231,'GRAFIKI II'!H$119)/1000000+H123 -> #REF! | I124: =SUMIFS(FMZINp3_laika_grafiks!$K$93:$K$231,FMZINp3_laika_grafiks!#REF!,'GRAFIKI II'!$A124,FMZINp3_laika_grafiks!$M$93:$M$231,'GRAFIKI II'!I$119)/1000000+I123 -> #REF! | ... M124: =SUMIFS(FMZINp3_laika_grafiks!$K$93:$K$231,FMZINp3_laika_grafiks!#REF!,'GRAFIKI II'!$A124,FMZINp3_laika_grafiks!$M$93:$M$231,'GRAFIKI II'!M$119)/1000000+M123 -> #REF! | P124: 2023 IV | Q124: =((SUMIFS(FMZINp3_laika_grafiks!$K$93:$K$231,FMZINp3_laika_grafiks!#REF!,'GRAFIKI II'!$P124,FMZINp3_laika_grafiks!$M$93:$M$231,'GRAFIKI II'!Q$119))/1000000)+Q123 -> #REF! | R124: =((SUMIFS(FMZINp3_laika_grafiks!$K$93:$K$231,FMZINp3_laika_grafiks!#REF!,'GRAFIKI II'!$P124,FMZINp3_laika_grafiks!$M$93:$M$231,'GRAFIKI II'!R$119))/1000000)+R123 -> #REF! | S124: =((SUMIFS(FMZINp3_laika_grafiks!$K$93:$K$231,FMZINp3_laika_grafiks!#REF!,'GRAFIKI II'!$P124,FMZINp3_laika_grafiks!$M$93:$M$231,'GRAFIKI II'!S$119))/1000000)+S123 -> #REF! | T124: =((SUMIFS(FMZINp3_laika_grafiks!$K$93:$K$231,FMZINp3_laika_grafiks!#REF!,'GRAFIKI II'!$P124,FMZINp3_laika_grafiks!$M$93:$M$231,'GRAFIKI II'!T$119))/1000000)+T123 -> #REF! | U124: =((SUMIFS(FMZINp3_laika_grafiks!$K$93:$K$231,FMZINp3_laika_grafiks!#REF!,'GRAFIKI II'!$P124,FMZINp3_laika_grafiks!$M$93:$M$231,'GRAFIKI II'!U$119))/1000000)+U123 -> #REF! | V124: =((SUMIFS(FMZINp3_laika_grafiks!$K$93:$K$231,FMZINp3_laika_grafiks!#REF!,'GRAFIKI II'!$P124,FMZINp3_laika_grafiks!$M$93:$M$231,'GRAFIKI II'!V$119))/1000000)+V123 -> #REF! | W124: =((SUMIFS(FMZINp3_laika_grafiks!$K$93:$K$231,FMZINp3_laika_grafiks!#REF!,'GRAFIKI II'!$P124,FMZINp3_laika_grafiks!$M$93:$M$231,'GRAFIKI II'!W$119))/1000000)+W123 -> #REF! | X124: =((SUMIFS(FMZINp3_laika_grafiks!$K$93:$K$231,FMZINp3_laika_grafiks!#REF!,'GRAFIKI II'!$P124,FMZINp3_laika_grafiks!$M$93:$M$231,'GRAFIKI II'!X$119))/1000000)+X123 -> #REF! | ... AB124: =((SUMIFS(FMZINp3_laika_grafiks!$K$93:$K$231,FMZINp3_laika_grafiks!#REF!,'GRAFIKI II'!$P124,FMZINp3_laika_grafiks!$M$93:$M$231,'GRAFIKI II'!AB$119))/1000000)+AB123 -> #REF! | AJ124: EM | AK124: VM | AL124: IeM | AM124: KEM | AN124: IZM | AO124: VARAM | AP124: TM
