Workbook
Name _ftn1: FMZINp3_laika_grafiks!#REF!
Name _ftn2: FMZINp3_laika_grafiks!#REF!
Name _ftnref1: FMZINp3_laika_grafiks!#REF!
Name _ftnref2: FMZINp3_laika_grafiks!#REF!

Sheet FMZINp3_laika_grafiks
A1: 3. pielikums Informatīvajam ziņojumam par Finanšu ministrijas pārziņā esošo Eiropas Savienības fondu un ārvalstu finanšu palīdzības aktualitātēm līdz 2025. gada oktobrim
A6: ES fondu 2021.–2027. gada plānošanas perioda MK noteikumu par specifisko atbalsta mērķu ieviešanu izstrādes laika grafika progress****
A8: Sagatavots 08.10.2025.
A9: PM Nr. | B9: Prior. Nr. | C9: Prioritātes nosaukums | D9: SAM Nr. | E9: SAM nosaukums | F9: Pasākuma Nr. | G9: Pasākuma nosaukums | H9: Kārtas Nr. | I9: Fonds | J9: ES FONDU finansējums (ieskaitot elastības finansējumu)* | K9: KOPĀ (ar nac. līdzfinansējumu +15%**) | L9: NACIONĀLAIS līdzfinansējums | M9: Atbildīgā iestāde | N9: Izskatīšanas AK datums/ plānotais gads un ceturksnis | O9: Izskatīšanas UK datums/ pānotais gads un ceturksnis | P9: TAP saskaņošanas uzsākšanas datums/ plānotais gads un ceturksnis | Q9: RISKA LĪMENIS | R9: MK apstiprināšanas datums/ plānotais gads un ceturksnis | S9: Atlases uzsākšanas datums/ plānotais gads un ceturksnis*****
A10: 1 | B10: 2 | D10: 3 | F10: 4 | G10: 5 | H10: 6 | I10: 7 | J10: 8 | K10: 9 | L10: 10 | M10: 11 | N10: 12 | O10: 13 | P10: 14 | R10: 15 | S10: 16
A11: KAVĒTA NORMATĪVĀ REGULĒJUMA APSTIPRINĀŠANA | I11: Kopā: | J11: =SUM(J12:J13) -> 39148681 | K11: =SUM(K12:K13) -> 46057273 | L11: =SUM(L12:L13) -> 6908592
A12: 2 | B12: 2.2. | C12: Vides aizsardzība un attīstība | D12: 2.2.2. | E12: “Pārejas uz aprites ekonomiku veicināšana” | F12: 2.2.2.3. | G12: Notekūdeņu dūņu pārstrāde | H12: _ | I12: KF | J12: 23148681 | K12: 27233743 | L12: 4085062 | M12: KEM | N12: 2025 II | O12: 2025 II | P12: 45819 | Q12: KAVĒTS | R12: 2025 II | S12: 2025 IV
A13: 3 | B13: 3.1. | C13: Ilgtspējīga TEN-T infrastruktūra | D13: 3.1.1. | E13: “Attīstīt ilgtspējīgu, pret klimatu izturīgu, inteliģentu, drošu un vairākveidu TEN-T infrastruktūru” | F13: 3.1.1.7. | G13: Iekšzemes intermodālo termināļu ("sauso ostu") attīstības projekti | H13: _ | I13: KF | J13: 16000000 | K13: 18823530 | L13: 2823530 | M13: SM | N13: Plānots izskatīt AK 27.03.2025 (atsaukts 19.03.2025.) | O13: 2025 II | P13: 2025 II | Q13: KAVĒTS | R13: 2025 II | S13: 2025 IV*******
A14: NORMATĪVAIS REGULĒJUMS IZSTRĀDĒ | I14: Kopā | J14: =SUM(J15:J18) -> 55552297 | K14: =SUM(K15:K18) -> 65355644 | L14: =SUM(L15:L18) -> 9803347
A15: 2 | B15: 2.1. | C15: Klimata pārmaiņu mazināšana un pielāgošanās klimata pārmaiņām | D15: 2.1.3. | E15: “Veicināt pielāgošanos klimata pārmaiņām, risku novēršanu un noturību pret katastrofām” | F15: 2.1.3.1. | G15: Pašvaldību pielāgošanās klimata pārmaiņām | H15: 2 | I15: ERAF | J15: 8407694 | K15: 9891405 | L15: 1483711 | M15: VARAM | N15: N/A | O15: 2026 I | P15: 45933 | Q15: PLĀNOJAS | R15: 2026 II | S15: 2026 III
A16: 3 | B16: 3.2. | C16: Duālas izmantojamības infrastruktūra un kiberdrošība | D16: 3.2.1. | E16: "Attīstīt noturīgu aizsardzības infrastruktūru, prioritāti atbalstot divējāda lietojuma infrastruktūru, kā arī uzlabot civilo sagatavotību" | F16: 3.2.1.1. (3.1.1.9.) | G16: Bezpilota lidaparātu uztveršanas, identifikācijas, izsekošanas un pretdarbības risinājuma ieviešana | H16: _ | I16: ERAF | J16: 1954863 | K16: 2299839 | L16: 344976 | M16: SM | N16: IPIA izņēmums (UK lēm. 09.06.2025.) | O16: IPIA izņēmums (UK lēm. 09.06.2025.) | P16: 45918 | Q16: IZSTRĀDĒ | R16: 2025 IV | S16: 2025 IV
A17: 4 | B17: 4.2. | C17: Izglītība, prasmes un mūžizglītība | D17: 4.2.1. | E17: “Uzlabot vienlīdzīgu piekļuvi iekļaujošiem un kvalitatīviem pakalpojumiem izglītības, mācību un mūžizglītības jomā, attīstot pieejamu infrastruktūru, tostarp, veicinot noturību izglītošanā un mācībā attālinātā un tiešsaistes režīmā” | F17: 4.2.1.5. | G17: Izglītības iestāžu nodrošinājums pilnveidotā vispārējās izglītības satura kvalitatīvai ieviešanai pamata un vidējās izglītības pakāpē | H17: 3 | I17: ERAF | J17: 4517240 | K17: 5314400 | L17: 797160 | M17: IZM | N17: IPIA izņēmums (UK lēm. 23.04.2024) | O17: IPIA izņēmums (UK lēm. 23.04.2024) | P17: 45874 | Q17: IZSTRĀDĒ | R17: 2026 I | S17: 2026 II
A18: 4 | B18: 4.3. | C18: Nodarbinātība un sociālā iekļaušana | D18: 4.3.3. | E18: “Uzlabot visu darba meklētāju, jo īpaši jauniešu – it sevišķi, īstenojot Garantiju jauniešiem –, ilgstošo bezdarbnieku un darba tirgū nelabvēlīgā situācijā esošo grupu, un ekonomiski neaktīvo personu piekļuvi nodarbinātībai un aktivizācijas pasākumiem, kā arī veicinot pašnodarbinātību un sociālo ekonomiku” | F18: 4.3.3.1. | G18: Bezdarbnieku, darba meklētāju un bezdarba riskam pakļauto personu kvalifikācijas un prasmju paaugstināšana | H18: _ | I18: ESF | J18: 40672500 | K18: 47850000 | L18: 7177500 | M18: LM | N18: 45645 | O18: 45700 | P18: 45863 | Q18: IZSTRĀDĒ | R18: 2025 IV | S18: 2026 I
A19: PLĀNOTA NORMATĪVĀ REGULĒJUMA IZSTRĀDE - nav uzsākta saskaņošana TAP | I19: Kopā: | J19: =SUBTOTAL(9,J20:J27) -> 122986543 | K19: =SUBTOTAL(9,K20:K27) -> 144690054 | L19: =SUBTOTAL(9,L20:L27) -> 21703511
A20: 1 | B20: 1.5. | C20: Investīciju fonds uzņēmējdarbības attīstībai | D20: 1.5.1. | E20: "Ieguldījumi uzņēmējdarbībā, kas atbalsta STEP mērķu sasniegšanu" | F20: 1.5.1.0. | G20: _ | H20: _ | I20: ERAF | J20: 34000000 | K20: 40000000 | L20: 6000000 | M20: EM | N20: 2025 II | O20: 2025 III | P20: 2025 IV | Q20: PLĀNOJAS | R20: 2025 IV | S20: 2026 I
A21: 2 | B21: 2.1. | C21: Klimata pārmaiņu mazināšana un pielāgošanās klimata pārmaiņām | D21: 2.1.1. | E21: “Energoefektivitātes veicināšana un siltumnīcefekta gāzu emisiju samazināšana” | F21: 2.1.1.6. | G21: Pašvaldību ēku energoefektivitātes paaugstināšana | H21: 3 | I21: ERAF | J21: 12961544 | K21: 15248876 | L21: 2287332 | M21: VARAM | N21: 2026 I | O21: 2026 II | P21: 2026 I | Q21: PLĀNOJAS | R21: 2026 II | S21: 2026 II
A22: 2 | B22: 2.6. | C22: Enerģētiskās neatkarība stipirnāšana | D22: 2.6.1. | E22: "Veicināt enerģijas starpsavienojumu un saistītās pārvades, sadales, uzglabāšanas un atbalsta infrastruktūras izbūvi, kā arī kritiskās enerģētikas infrastruktūras aizsardzību un uzlādes infrastruktūras izvēršanu" | F22: 2.6.1.1. (2.1.2. 2.k.) | G22: “Atjaunojamo energoresursu enerģijas veicināšana - biometāns” | H22: _ | I22: ERAF | J22: 4000000 | K22: 4705883 | L22: 705883 | M22: KEM | N22: IPIA izņēmums (UK lēm. 09.06.2025.) | O22: IPIA izņēmums (UK lēm. 09.06.2025.) | P22: 2025 III | Q22: PLĀNOJAS | R22: 2025 IV | S22: 2026 I
A23: 2 | B23: 2.6. | C23: Enerģētiskās neatkarība stipirnāšana | D23: 2.6.1. | E23: "Veicināt enerģijas starpsavienojumu un saistītās pārvades, sadales, uzglabāšanas un atbalsta infrastruktūras izbūvi, kā arī kritiskās enerģētikas infrastruktūras aizsardzību un uzlādes infrastruktūras izvēršanu" | F23: 2.6.1.2. (2.1.4.) | G23: "Attīstīt viedas energosistēmas, tīklus un enerģijas akumulāciju ārpus Eiropas enerģētikas tīkla (TEN-E)" | H23: _ | I23: ERAF | J23: 31000000 | K23: 36470589 | L23: 5470589 | M23: KEM | N23: IPIA izņēmums (UK lēm. 09.06.2025.) | O23: IPIA izņēmums (UK lēm. 09.06.2025.) | P23: 2025 III | Q23: PLĀNOJAS | R23: 2025 IV | S23: 2026 I
A24: 3 | B24: 3.3. | C24: Militārās mobilitātes stiprināšana - dzelzceļš un ostas | D24: 3.3.1. | E24: "Attīstīt noturīgu aizsardzības infrastruktūru, veicinot militāro mobilitāti Eiropas Savienībā | F24: 3.3.1.2. (3.1.1.6. 2.k.) | G24: Lielo ostu divējāda lietojuma publiskās infrastruktūras attīstība | H24: _ | I24: KF | J24: 21325092 | K24: 25088344 | L24: 3763252 | M24: SM | N24: 45379 | O24: 45433 | P24: 2026 I | Q24: PLĀNOJAS | R24: 2026 I | S24: 2026 I
A25: 4 | B25: 4.2. | C25: Izglītība, prasmes un mūžizglītība | D25: 4.2.1. | E25: “Uzlabot vienlīdzīgu piekļuvi iekļaujošiem un kvalitatīviem pakalpojumiem izglītības, mācību un mūžizglītības jomā, attīstot pieejamu infrastruktūru, tostarp, veicinot noturību izglītošanā un mācībā attālinātā un tiešsaistes režīmā” | F25: 4.2.1.1. | G25: Infrastruktūras izveide starpnozaru sadarbības un atbalsta sistēmas izveidei bērnu attīstībai | H25: _ | I25: ERAF | J25: 3697500 | K25: 4350000 | L25: 652500 | M25: VK | N25: IPIA izņēmums (UK lēm. 09.06.2025.) | O25: IPIA izņēmums (UK lēm. 09.06.2025.) | P25: 2025 III | Q25: PLĀNOJAS | R25: 2026 I | S25: 2026 I
A26: 6 | B26: 6.1. | C26: Pāreja uz klimatneitralitāti | D26: 6.1.1. | E26: "Pārejas uz klimatneitralitāti radīto ekonomisko, sociālo un vides seku mazināšana visvairāk skartajos reģionos" | F26: 6.1.1.1. | G26: Atteikšanās no kūdras izmantošanas enerģētikā | H26: 4 | I26: TPF | J26: 2007407 | K26: 2361656 | L26: 354249 | M26: VARAM | N26: 2025 IV | O26: 2025 IV | P26: 2025 III | Q26: PLĀNOJAS | R26: 2025 IV | S26: 2026 I
A27: 6 | B27: 6.1. | C27: Pāreja uz klimatneitralitāti | D27: 6.1.1. | E27: "Pārejas uz klimatneitralitāti radīto ekonomisko, sociālo un vides seku mazināšana visvairāk skartajos reģionos" | F27: 6.1.1.1. | G27: Atteikšanās no kūdras izmantošanas enerģētikā | H27: 5 | I27: TPF | J27: 13995000 | K27: 16464706 | L27: 2469706 | M27: VARAM | N27: 2026 II | O27: 2026 II | P27: 2026 I | Q27: PLĀNOJAS | R27: 2026 II | S27: 2026 III
A28: APSTIPRINĀTS NORMATĪVAIS REGULĒJUMS | I28: Kopā: | J28: =SUBTOTAL(9,J29:J233) -> 4013387665 | K28: =SUBTOTAL(9,K29:K233) -> 4721632622 | L28: =SUBTOTAL(9,L29:L233) -> 708244957
A29: 1 | B29: 1.1. | C29: Pētniecība un prasmes | D29: 1.1.1. | E29: “Pētniecības un inovāciju kapacitātes stiprināšana un progresīvu tehnoloģiju ieviešana kopējā P&A sistēmā” | F29: 1.1.1.1. | G29: Zinātnes politikas ieviešana,vadība un kapacitātes stiprināšana | H29: _ | I29: ERAF | J29: 12239103 | K29: 14398945 | L29: 2159842 | M29: IZM | N29: 45072 | O29: 45107 | P29: 45027 | Q29: APSTIPRINĀTS | R29: 45258 | S29: Atlase beigusies
A30: 1 | B30: 1.1. | C30: Pētniecība un prasmes | D30: 1.1.1. | E30: “Pētniecības un inovāciju kapacitātes stiprināšana un progresīvu tehnoloģiju ieviešana kopējā P&A sistēmā” | F30: 1.1.1.2. | G30: RIS3 pētniecības un inovācijas centri | H30: _ | I30: ERAF | J30: 36098377 | K30: 42468679 | L30: 6370302 | M30: IZM | N30: 45687 | O30: 45747 | P30: 45506 | Q30: APSTIPRINĀTS | R30: 45692 | S30: 45771
A31: 1 | B31: 1.1. | C31: Pētniecība un prasmes | D31: 1.1.1. | E31: “Pētniecības un inovāciju kapacitātes stiprināšana un progresīvu tehnoloģiju ieviešana kopējā P&A sistēmā” | F31: 1.1.1.3. | G31: Praktiskas ievirzes pētījumi | H31: 1 | I31: ERAF | J31: 30770000 | K31: 36200000 | L31: 5430000 | M31: IZM | N31: 45134 | O31: 45271 | P31: 45110 | Q31: APSTIPRINĀTS | R31: 45468 | S31: 45541
A32: 1 | B32: 1.1. | C32: Pētniecība un prasmes | D32: 1.1.1. | E32: “Pētniecības un inovāciju kapacitātes stiprināšana un progresīvu tehnoloģiju ieviešana kopējā P&A sistēmā” | F32: 1.1.1.3. | G32: Praktiskas ievirzes pētījumi | H32: 2 | I32: ERAF | J32: 17476000 | K32: 20560000 | L32: 3084000 | M32: IZM | N32: 45134 | O32: 45271 | P32: 45110 | Q32: APSTIPRINĀTS | R32: 45468 | S32: 2025 IV*******
A33: 1 | B33: 1.1. | C33: Pētniecība un prasmes | D33: 1.1.1. | E33: “Pētniecības un inovāciju kapacitātes stiprināšana un progresīvu tehnoloģiju ieviešana kopējā P&A sistēmā” | F33: 1.1.1.5. | G33: Latvijas pilnvērtīga dalība Apvārsnis Eiropa programmā, tajā skaitā nodrošinot kompleksu atbalsta instrumentu klāstu un sasaisti ar RIS3 specializācijas jomu attīstīšanu | H33: 1 | I33: ERAF | J33: 12200257 | K33: 14353244 | L33: 2152987 | M33: IZM | N33: 45169 | O33: 45216 | P33: 45132 | Q33: APSTIPRINĀTS | R33: 45279 | S33: Atlase beigusies
A34: 1 | B34: 1.1. | C34: Pētniecība un prasmes | D34: 1.1.1. | E34: “Pētniecības un inovāciju kapacitātes stiprināšana un progresīvu tehnoloģiju ieviešana kopējā P&A sistēmā” | F34: 1.1.1.5. | G34: Latvijas pilnvērtīga dalība Apvārsnis Eiropa programmā, tajā skaitā nodrošinot kompleksu atbalsta instrumentu klāstu un sasaisti ar RIS3 specializācijas jomu attīstīšanu | H34: 2 | I34: ERAF | J34: 20114979 | K34: 23664682 | L34: 3549703 | M34: IZM | N34: 45169 | O34: 45216 | P34: 45132 | Q34: APSTIPRINĀTS | R34: 45279 | S34: 45530
A35: 1 | B35: 1.1. | C35: Pētniecība un prasmes | D35: 1.1.1. | E35: “Pētniecības un inovāciju kapacitātes stiprināšana un progresīvu tehnoloģiju ieviešana kopējā P&A sistēmā” | F35: 1.1.1.5. | G35: Latvijas pilnvērtīga dalība Apvārsnis Eiropa programmā, tajā skaitā nodrošinot kompleksu atbalsta instrumentu klāstu un sasaisti ar RIS3 specializācijas jomu attīstīšanu | H35: 3 | I35: ERAF | J35: 13413000 | K35: 15780000 | L35: 2367000 | M35: IZM | N35: 45442 | O35: 45539 | P35: 45401 | Q35: APSTIPRINĀTS | R35: 45496 | S35: Atlase beigusies
A36: 1 | B36: 1.1. | C36: Pētniecība un prasmes | D36: 1.1.1. | E36: “Pētniecības un inovāciju kapacitātes stiprināšana un progresīvu tehnoloģiju ieviešana kopējā P&A sistēmā” | F36: 1.1.1.6. | G36: Zinātniskās darbības digitalizācija un dalība Eiropas Atvērtajā zinātnes mākonī (EOSC market place pakalpojumu iegāde) | H36: _ | I36: ERAF | J36: 18487501 | K36: 21750002 | L36: 3262501 | M36: IZM | N36: 45743 | O36: 45787 | P36: 45653 | Q36: APSTIPRINĀTS | R36: 45839 | S36: 45875
A37: 1 | B37: 1.1. | C37: Pētniecība un prasmes | D37: 1.1.1. | E37: “Pētniecības un inovāciju kapacitātes stiprināšana un progresīvu tehnoloģiju ieviešana kopējā P&A sistēmā” | F37: 1.1.1.7. | G37: Inovāciju granti studentiem | H37: _ | I37: ERAF | J37: 14025000 | K37: 16500000 | L37: 2475000 | M37: IZM | N37: 45562 | O37: 45670 | P37: 45610 | Q37: APSTIPRINĀTS | R37: 45692 | S37: 45722
A38: 1 | B38: 1.1. | C38: Pētniecība un prasmes | D38: 1.1.1. | E38: “Pētniecības un inovāciju kapacitātes stiprināšana un progresīvu tehnoloģiju ieviešana kopējā P&A sistēmā” | F38: 1.1.1.8. | G38: Doktorantūras granti | H38: _ | I38: ERAF | J38: 17173230 | K38: 20203800 | L38: 3030570 | M38: IZM | N38: 45169 | O38: 45216 | P38: 45128 | Q38: APSTIPRINĀTS | R38: 45279 | S38: Atlase beigusies
A39: 1 | B39: 1.1. | C39: Pētniecība un prasmes | D39: 1.1.1. | E39: “Pētniecības un inovāciju kapacitātes stiprināšana un progresīvu tehnoloģiju ieviešana kopējā P&A sistēmā” | F39: 1.1.1.9. | G39: Pēcdoktorantūras pētījumi | H39: _ | I39: ERAF | J39: 43256500 | K39: 50890000 | L39: 7633500 | M39: IZM | N39: 45169 | O39: 45279 | P39: 45138 | Q39: APSTIPRINĀTS | R39: 45300 | S39: Atlase beigusies
A40: 1 | B40: 1.1. | C40: Pētniecība un prasmes | D40: 1.1.2. | E40: “Prasmju attīstīšana viedās specializācijas, industriālās pārejas un uzņēmējdarbības veicināšanai” | F40: 1.1.2.1. | G40: RIS3 industriālās prasmes | H40: _ | I40: ERAF | J40: 7425770 | K40: 8736200 | L40: 1310430 | M40: IZM | N40: 45897 | O40: 2025 III | P40: 45756 | Q40: APSTIPRINĀTS | R40: 45860 | S40: 2025 IV*******
A41: 1 | B41: 1.2. | C41: Atbalsts uzņēmējdarbībai | D41: 1.2.1. | E41: “Pētniecības un inovāciju kapacitātes stiprināšana un progresīvu tehnoloģiju ieviešana uzņēmumiem ” | F41: 1.2.1.1. | G41: Atbalsts jaunu produktu attīstībai un internacionalizācijai | H41: 1 | I41: ERAF | J41: 5633633 | K41: 6627804 | L41: 994171 | M41: EM | N41: 45351 | O41: 45687 | P41: 45180 | Q41: APSTIPRINĀTS | R41: 45496 | S41: Atlase beigusies
A42: 1 | B42: 1.2. | C42: Atbalsts uzņēmējdarbībai | D42: 1.2.1. | E42: “Pētniecības un inovāciju kapacitātes stiprināšana un progresīvu tehnoloģiju ieviešana uzņēmumiem ” | F42: 1.2.1.1. | G42: Atbalsts jaunu produktu attīstībai un internacionalizācijai | H42: 2 | I42: ERAF | J42: 8312810 | K42: 9779777 | L42: 1466967 | M42: EM | N42: 45407 | O42: 45510 | P42: 45359 | Q42: APSTIPRINĀTS | R42: 45629 | S42: 45719
A43: 1 | B43: 1.2. | C43: Atbalsts uzņēmējdarbībai | D43: 1.2.1. | E43: “Pētniecības un inovāciju kapacitātes stiprināšana un progresīvu tehnoloģiju ieviešana uzņēmumiem ” | F43: 1.2.1.1. | G43: Atbalsts jaunu produktu attīstībai un internacionalizācijai | H43: 3 | I43: ERAF | J43: 24960674 | K43: 29365499 | L43: 4404825 | M43: EM | N43: 45562 | O43: 45680 | P43: 45436 | Q43: APSTIPRINĀTS | R43: 45587 | S43: 45715
A44: 1 | B44: 1.2. | C44: Atbalsts uzņēmējdarbībai | D44: 1.2.1. | E44: “Pētniecības un inovāciju kapacitātes stiprināšana un progresīvu tehnoloģiju ieviešana uzņēmumiem ” | F44: 1.2.1.2. | G44: Produktivitātes aizdevumi (t.sk., ar kapitāla atlaidi) inovatīvām iekārtām, pētniecībai un attīstībai, tehnoloģiju pārnesei | H44: _ | I44: ERAF | J44: 49621122 | K44: 58377791 | L44: 8756669 | M44: EM | N44: N/A | O44: N/A | P44: 45356 | Q44: APSTIPRINĀTS | R44: 45664 | S44: N/A, jo FI
A45: 1 | B45: 1.2. | C45: Atbalsts uzņēmējdarbībai | D45: 1.2.1. | E45: “Pētniecības un inovāciju kapacitātes stiprināšana un progresīvu tehnoloģiju ieviešana uzņēmumiem ” | F45: 1.2.1.3. | G45: Uzņēmuma atbalsts dalībai kapitāla tirgos | H45: _ | I45: ERAF | J45: 1413178 | K45: 1662563 | L45: 249385 | M45: EM | N45: 45197 | O45: 45232 | P45: 44942 | Q45: APSTIPRINĀTS | R45: 45216 | S45: 45568
...

Sheet GRAFIKI II
A1: KUMULATĪVI
H2: Laika grafiks uz 25.04.2023.
A3: MK not. gads un ceturksnis | B3: MK noteikumu faktiskā izpilde; finansējums kumulatīvi, milj. EUR | C3: MK noteikumu finansējums, EUR | D3: MK noteikumu finansējums, milj. EUR - NOBĪDE kumulatīvi | E3: Atlašu finansējums kumulatīvi, milj. EUR | F3: Atlašu finansējums, EUR | H3: MK noteikumu apstiprināšanas plāns uz 25.04.2023; finansējums kumulatīvi, milj. EUR | I3: MK noteikumu finansējums, EUR | J3: Atlašu finansējums kumulatīvi uz 25.04.2023., milj. EUR | K3: Atlašu finansējums, EUR | L3: Nobīdes MKN | M3: Nobīdes atlases
A4: 2022 IV | B4: 0 | C4: 0 | D4: =B4-H4 -> #REF! | E4: 0 | F4: 0 | H4: =I4/1000000 -> #REF! | I4: =SUMIFS(FMZINp3_laika_grafiks!$K$93:$K$231,FMZINp3_laika_grafiks!#REF!,'GRAFIKI II'!A4) -> #REF! | J4: =K4/1000000 -> #REF! | K4: =SUMIFS(FMZINp3_laika_grafiks!$K$93:$K$231,FMZINp3_laika_grafiks!#REF!,'GRAFIKI II'!A4) -> #REF! | L4: =H4-B4 -> #REF! | M4: =J4-E4 -> #REF!
A5: 2023 I | B5: =C5/1000000+B4 -> #REF! | C5: =SUMIFS(FMZINp3_laika_grafiks!$K$93:$K$231,FMZINp3_laika_grafiks!#REF!,A5)+C4 -> #REF! | D5: =(B5-H5)+D4 -> #REF! | E5: =F5/1000000 -> #REF! | F5: =SUMIFS(FMZINp3_laika_grafiks!$K$93:$K$231,FMZINp3_laika_grafiks!#REF!,A5) -> #REF! | H5: =H4+(I5/1000000) -> #REF! | I5: =SUMIFS(FMZINp3_laika_grafiks!$K$93:$K$231,FMZINp3_laika_grafiks!#REF!,'GRAFIKI II'!A5) -> #REF! | J5: =J4+(K5/1000000) -> #REF! | K5: =SUMIFS(FMZINp3_laika_grafiks!$K$93:$K$231,FMZINp3_laika_grafiks!#REF!,'GRAFIKI II'!A5) -> #REF! | L5: =H5-B5 -> #REF! | M5: =J5-E5 -> #REF!
A6: 2023 II | B6: =C6/1000000+B5 -> #REF! | C6: =SUMIFS(FMZINp3_laika_grafiks!$K$93:$K$231,FMZINp3_laika_grafiks!#REF!,A6) -> #REF! | D6: =(B6-H6)+D5 -> #REF! | E6: =E5+F6/1000000 -> #REF! | F6: =SUMIFS(FMZINp3_laika_grafiks!$K$93:$K$231,FMZINp3_laika_grafiks!#REF!,A6) -> #REF! | H6: =H5+(I6/1000000) -> #REF! | I6: =SUMIFS(FMZINp3_laika_grafiks!$K$93:$K$231,FMZINp3_laika_grafiks!#REF!,'GRAFIKI II'!A6) -> #REF! | J6: =J5+(K6/1000000) -> #REF! | K6: =SUMIFS(FMZINp3_laika_grafiks!$K$93:$K$231,FMZINp3_laika_grafiks!#REF!,'GRAFIKI II'!A6) -> #REF! | L6: =H6-B6 -> #REF! | M6: =J6-E6 -> #REF!
A7: 2023 III | B7: =C7/1000000+B6 -> #REF! | C7: =SUMIFS(FMZINp3_laika_grafiks!$K$93:$K$231,FMZINp3_laika_grafiks!#REF!,A7) -> #REF! | D7: =(B7-H7)+D6 -> #REF! | E7: =E6+F7/1000000 -> #REF! | F7: =SUMIFS(FMZINp3_laika_grafiks!$K$93:$K$231,FMZINp3_laika_grafiks!#REF!,A7) -> #REF! | H7: =H6+(I7/1000000) -> #REF! | I7: =SUMIFS(FMZINp3_laika_grafiks!$K$93:$K$231,FMZINp3_laika_grafiks!#REF!,'GRAFIKI II'!A7) -> #REF! | J7: =J6+(K7/1000000) -> #REF! | K7: =SUMIFS(FMZINp3_laika_grafiks!$K$93:$K$231,FMZINp3_laika_grafiks!#REF!,'GRAFIKI II'!A7) -> #REF! | L7: =H7-B7 -> #REF! | M7: =J7-E7 -> #REF!
A8: 2023 IV | B8: =C8/1000000+B7 -> #REF! | C8: =SUMIFS(FMZINp3_laika_grafiks!$K$93:$K$231,FMZINp3_laika_grafiks!#REF!,A8) -> #REF! | D8: =(B8-H8)+D7 -> #REF! | E8: =E7+F8/1000000 -> #REF! | F8: =SUMIFS(FMZINp3_laika_grafiks!$K$93:$K$231,FMZINp3_laika_grafiks!#REF!,A8) -> #REF! | H8: =H7+(I8/1000000) -> #REF! | I8: =SUMIFS(FMZINp3_laika_grafiks!$K$93:$K$231,FMZINp3_laika_grafiks!#REF!,'GRAFIKI II'!A8) -> #REF! | J8: =J7+(K8/1000000) -> #REF! | K8: =SUMIFS(FMZINp3_laika_grafiks!$K$93:$K$231,FMZINp3_laika_grafiks!#REF!,'GRAFIKI II'!A8) -> #REF! | L8: =H8-B8 -> #REF! | M8: =J8-E8 -> #REF!
A9: 2024 I | B9: =C9/1000000+B8 -> #REF! | C9: =SUMIFS(FMZINp3_laika_grafiks!$K$93:$K$231,FMZINp3_laika_grafiks!#REF!,A9) -> #REF! | D9: =(B9-H9)+D8 -> #REF! | E9: =E8+F9/1000000 -> #REF! | F9: =SUMIFS(FMZINp3_laika_grafiks!$K$93:$K$231,FMZINp3_laika_grafiks!#REF!,A9) -> #REF! | H9: =H8+(I9/1000000) -> #REF! | I9: =SUMIFS(FMZINp3_laika_grafiks!$K$93:$K$231,FMZINp3_laika_grafiks!#REF!,'GRAFIKI II'!A9) -> #REF! | J9: =J8+(K9/1000000) -> #REF! | K9: =SUMIFS(FMZINp3_laika_grafiks!$K$93:$K$231,FMZINp3_laika_grafiks!#REF!,'GRAFIKI II'!A9) -> #REF!
A10: 2024 II | B10: =C10/1000000+B9 -> #REF! | C10: =SUMIFS(FMZINp3_laika_grafiks!$K$93:$K$231,FMZINp3_laika_grafiks!#REF!,A10) -> #REF! | D10: =(B10-H10)+D9 -> #REF! | E10: =E9+F10/1000000 -> #REF! | F10: =SUMIFS(FMZINp3_laika_grafiks!$K$93:$K$231,FMZINp3_laika_grafiks!#REF!,A10) -> #REF! | H10: =H9+(I10/1000000) -> #REF! | I10: =SUMIFS(FMZINp3_laika_grafiks!$K$93:$K$231,FMZINp3_laika_grafiks!#REF!,'GRAFIKI II'!A10) -> #REF! | J10: =J9+(K10/1000000) -> #REF! | K10: =SUMIFS(FMZINp3_laika_grafiks!$K$93:$K$231,FMZINp3_laika_grafiks!#REF!,'GRAFIKI II'!A10) -> #REF!
A11: 2024 III | B11: =C11/1000000+B10 -> #REF! | C11: =SUMIFS(FMZINp3_laika_grafiks!$K$93:$K$231,FMZINp3_laika_grafiks!#REF!,A11) -> #REF! | D11: =(B11-H11)+D10 -> #REF! | E11: =E10+F11/1000000 -> #REF! | F11: =SUMIFS(FMZINp3_laika_grafiks!$K$93:$K$231,FMZINp3_laika_grafiks!#REF!,A11) -> #REF! | H11: =H10+(I11/1000000) -> #REF! | I11: =SUMIFS(FMZINp3_laika_grafiks!$K$93:$K$231,FMZINp3_laika_grafiks!#REF!,'GRAFIKI II'!A11) -> #REF! | J11: =J10+(K11/1000000) -> #REF! | K11: =SUMIFS(FMZINp3_laika_grafiks!$K$93:$K$231,FMZINp3_laika_grafiks!#REF!,'GRAFIKI II'!A11) -> #REF!
A12: 2024 IV | B12: =C12/1000000+B11 -> #REF! | C12: =SUMIFS(FMZINp3_laika_grafiks!$K$93:$K$231,FMZINp3_laika_grafiks!#REF!,A12) -> #REF! | D12: =(B12-H12)+D11 -> #REF! | E12: =E11+F12/1000000 -> #REF! | F12: =SUMIFS(FMZINp3_laika_grafiks!$K$93:$K$231,FMZINp3_laika_grafiks!#REF!,A12) -> #REF! | H12: =H11+(I12/1000000) -> #REF! | I12: =SUMIFS(FMZINp3_laika_grafiks!$K$93:$K$231,FMZINp3_laika_grafiks!#REF!,'GRAFIKI II'!A12) -> #REF! | J12: =J11+(K12/1000000) -> #REF! | K12: =SUMIFS(FMZINp3_laika_grafiks!$K$93:$K$231,FMZINp3_laika_grafiks!#REF!,'GRAFIKI II'!A12) -> #REF!
A13: 2025 I | B13: =C13/1000000+B12 -> #REF! | C13: =SUMIFS(FMZINp3_laika_grafiks!$K$93:$K$231,FMZINp3_laika_grafiks!#REF!,A13) -> #REF! | D13: =(B13-H13)+D12 -> #REF! | E13: =E12+F13/1000000 -> #REF! | F13: =SUMIFS(FMZINp3_laika_grafiks!$K$93:$K$231,FMZINp3_laika_grafiks!#REF!,A13) -> #REF! | H13: =H12+(I13/1000000) -> #REF! | I13: =SUMIFS(FMZINp3_laika_grafiks!$K$93:$K$231,FMZINp3_laika_grafiks!#REF!,'GRAFIKI II'!A13) -> #REF! | J13: =J12+(K13/1000000) -> #REF! | K13: =SUMIFS(FMZINp3_laika_grafiks!$K$93:$K$231,FMZINp3_laika_grafiks!#REF!,'GRAFIKI II'!A13) -> #REF!
A14: 2025 II | B14: =C14/1000000+B13 -> #REF! | C14: =SUMIFS(FMZINp3_laika_grafiks!$K$93:$K$231,FMZINp3_laika_grafiks!#REF!,A14) -> #REF! | D14: =(B14-H14)+D13 -> #REF! | E14: =E13+F14/1000000 -> #REF! | F14: =SUMIFS(FMZINp3_laika_grafiks!$K$93:$K$231,FMZINp3_laika_grafiks!#REF!,A14) -> #REF! | H14: =H13+(I14/1000000) -> #REF! | I14: =SUMIFS(FMZINp3_laika_grafiks!$K$93:$K$231,FMZINp3_laika_grafiks!#REF!,'GRAFIKI II'!A14) -> #REF! | J14: =J13+(K14/1000000) -> #REF! | K14: =SUMIFS(FMZINp3_laika_grafiks!$K$93:$K$231,FMZINp3_laika_grafiks!#REF!,'GRAFIKI II'!A14) -> #REF!
A15: 2025 III | B15: =C15/1000000+B14 -> #REF! | C15: =SUMIFS(FMZINp3_laika_grafiks!$K$93:$K$231,FMZINp3_laika_grafiks!#REF!,A15) -> #REF! | D15: =(B15-H15)+D14 -> #REF! | E15: =E14+F15/1000000 -> #REF! | F15: =SUMIFS(FMZINp3_laika_grafiks!$K$93:$K$231,FMZINp3_laika_grafiks!#REF!,A15) -> #REF! | H15: =H14+(I15/1000000) -> #REF! | I15: =SUMIFS(FMZINp3_laika_grafiks!$K$93:$K$231,FMZINp3_laika_grafiks!#REF!,'GRAFIKI II'!A15) -> #REF! | J15: =J14+(K15/1000000) -> #REF! | K15: =SUMIFS(FMZINp3_laika_grafiks!$K$93:$K$231,FMZINp3_laika_grafiks!#REF!,'GRAFIKI II'!A15) -> #REF!
A16: 2025 IV | B16: =C16/1000000+B15 -> #REF! | C16: =SUMIFS(FMZINp3_laika_grafiks!$K$93:$K$231,FMZINp3_laika_grafiks!#REF!,A16) -> #REF! | D16: =(B16-H16)+D15 -> #REF! | E16: =E15+F16/1000000 -> #REF! | F16: =SUMIFS(FMZINp3_laika_grafiks!$K$93:$K$231,FMZINp3_laika_grafiks!#REF!,A16) -> #REF! | H16: =H15+(I16/1000000) -> #REF! | I16: =SUMIFS(FMZINp3_laika_grafiks!$K$93:$K$231,FMZINp3_laika_grafiks!#REF!,'GRAFIKI II'!A16) -> #REF! | J16: =J15+(K16/1000000) -> #REF! | K16: =SUMIFS(FMZINp3_laika_grafiks!$K$93:$K$231,FMZINp3_laika_grafiks!#REF!,'GRAFIKI II'!A16) -> #REF!
A17: 2026 I | B17: =C17/1000000+B16 -> #REF! | C17: =SUMIFS(FMZINp3_laika_grafiks!$K$93:$K$231,FMZINp3_laika_grafiks!#REF!,A17) -> #REF! | D17: =(B17-H17)+D16 -> #REF! | E17: =E16+F17/1000000 -> #REF! | F17: =SUMIFS(FMZINp3_laika_grafiks!$K$93:$K$231,FMZINp3_laika_grafiks!#REF!,A17) -> #REF! | H17: =H16+(I17/1000000) -> #REF! | I17: =SUMIFS(FMZINp3_laika_grafiks!$K$93:$K$231,FMZINp3_laika_grafiks!#REF!,'GRAFIKI II'!A17) -> #REF! | J17: =J16+(K17/1000000) -> #REF! | K17: =SUMIFS(FMZINp3_laika_grafiks!$K$93:$K$231,FMZINp3_laika_grafiks!#REF!,'GRAFIKI II'!A17) -> #REF!
A18: Uzsaukums par elastības finansējuma apjomu 2026.g. | B18: =C18/1000000+B17 -> #REF! | C18: =SUMIFS(FMZINp3_laika_grafiks!$K$93:$K$231,FMZINp3_laika_grafiks!#REF!,A18) -> #REF! | D18: =(B18-H18)+D17 -> #REF! | E18: =E17+F18/1000000 -> #REF! | F18: =SUMIFS(FMZINp3_laika_grafiks!$K$93:$K$231,FMZINp3_laika_grafiks!#REF!,A18) -> #REF! | H18: =H17+(I18/1000000) -> #REF! | I18: =SUMIFS(FMZINp3_laika_grafiks!$K$93:$K$231,FMZINp3_laika_grafiks!#REF!,'GRAFIKI II'!A18) -> #REF! | J18: =J17+(K18/1000000) -> #REF! | K18: =SUMIFS(FMZINp3_laika_grafiks!$K$93:$K$231,FMZINp3_laika_grafiks!#REF!,'GRAFIKI II'!A18) -> #REF!
A19: 2026 II | B19: =C19/1000000+B18 -> #REF! | C19: =SUMIFS(FMZINp3_laika_grafiks!$K$93:$K$231,FMZINp3_laika_grafiks!#REF!,A19) -> #REF! | D19: =(B19-H19)+D18 -> #REF! | E19: =E18+F19/1000000 -> #REF! | F19: =SUMIFS(FMZINp3_laika_grafiks!$K$93:$K$231,FMZINp3_laika_grafiks!#REF!,A19) -> #REF! | H19: =H18+(I19/1000000) -> #REF! | I19: =SUMIFS(FMZINp3_laika_grafiks!$K$93:$K$231,FMZINp3_laika_grafiks!#REF!,'GRAFIKI II'!A19) -> #REF! | J19: =J18+(K19/1000000) -> #REF! | K19: =SUMIFS(FMZINp3_laika_grafiks!$K$93:$K$231,FMZINp3_laika_grafiks!#REF!,'GRAFIKI II'!A19) -> #REF!
A20: 2026 III | B20: =C20/1000000+B19 -> #REF! | C20: =SUMIFS(FMZINp3_laika_grafiks!$K$93:$K$231,FMZINp3_laika_grafiks!#REF!,A20) -> #REF! | D20: =(B20-H20)+D19 -> #REF! | E20: =E19+F20/1000000 -> #REF! | F20: =SUMIFS(FMZINp3_laika_grafiks!$K$93:$K$231,FMZINp3_laika_grafiks!#REF!,A20) -> #REF! | H20: =H19+(I20/1000000) -> #REF! | I20: =SUMIFS(FMZINp3_laika_grafiks!$K$93:$K$231,FMZINp3_laika_grafiks!#REF!,'GRAFIKI II'!A20) -> #REF! | J20: =J19+(K20/1000000) -> #REF! | K20: =SUMIFS(FMZINp3_laika_grafiks!$K$93:$K$231,FMZINp3_laika_grafiks!#REF!,'GRAFIKI II'!A20) -> #REF!
... A25: 2027 IV | B25: =C25/1000000+B24 -> #REF! | C25: =SUMIFS(FMZINp3_laika_grafiks!$K$93:$K$231,FMZINp3_laika_grafiks!#REF!,A25) -> #REF! | D25: =(B25-H25)+D24 -> #REF! | E25: =E24+F25/1000000 -> #REF! | F25: =SUMIFS(FMZINp3_laika_grafiks!$K$93:$K$231,FMZINp3_laika_grafiks!#REF!,A25) -> #REF! | H25: =H24+(I25/1000000) -> #REF! | I25: =SUMIFS(FMZINp3_laika_grafiks!$K$93:$K$231,FMZINp3_laika_grafiks!#REF!,'GRAFIKI II'!A25) -> #REF! | J25: =J24+(K25/1000000) -> #REF! | K25: =SUMIFS(FMZINp3_laika_grafiks!$K$93:$K$231,FMZINp3_laika_grafiks!#REF!,'GRAFIKI II'!A25) -> #REF!
A26: bez TP prioritātes | C26: =SUM(C5:C25) -> #REF! | F26: =SUM(F5:F25) -> #REF! | I26: =SUM(I4:I25) -> #REF! | K26: =SUM(K4:K25) -> #REF!
C27: =FMZINp3_laika_grafiks!#REF!+FMZINp3_laika_grafiks!#REF!+C26 -> #REF! | F27: =F26+FMZINp3_laika_grafiks!#REF!+FMZINp3_laika_grafiks!#REF! -> #REF! | I27: =I26+FMZINp3_laika_grafiks!#REF!+FMZINp3_laika_grafiks!#REF! -> #REF! | K27: =K26+FMZINp3_laika_grafiks!#REF!+FMZINp3_laika_grafiks!#REF! -> #REF!
C28: =FMZINp3_laika_grafiks!#REF!-C27 -> #REF! | F28: =FMZINp3_laika_grafiks!#REF!-F27 -> #REF! | I28: =I27-FMZINp3_laika_grafiks!#REF! -> #REF! | K28: =K27-FMZINp3_laika_grafiks!#REF! -> #REF!
A29: BEZ KUMULATĀCIJAS
H30: Laika grafiks uz 25.04.2023.
A31: MK not. gads un ceturksnis | B31: MK noteikumu faktiskā izpilde; finansējums , milj. EUR | C31: MK noteikumu finansējums, EUR | D31: MK noteikumu finansējums, milj.EUR - NOBĪDE | E31: Atlašu finansējums, milj. EUR | F31: Atlašu finansējums, EUR | H31: MK noteikumu apstiprināšanas plāns uz 25.04.2023; finansējums kumulatīvi, milj. EUR | I31: MK noteikumu finansējums, EUR | J31: Atlašu finansējums kumulatīvi uz 25.04.2023., milj. EUR | K31: Atlašu finansējums, EUR
A32: 2022 IV | B32: 0 | C32: 0 | D32: =B32-E32 -> 0 | E32: 0 | F32: 0 | H32: =I32/1000000 -> #REF! | I32: =SUMIFS(FMZINp3_laika_grafiks!$K$93:$K$231,FMZINp3_laika_grafiks!#REF!,'GRAFIKI II'!A32) -> #REF! | J32: =K32/1000000 -> #REF! | K32: =SUMIFS(FMZINp3_laika_grafiks!$K$93:$K$231,FMZINp3_laika_grafiks!#REF!,'GRAFIKI II'!A32) -> #REF!
A33: 2023 I | B33: =C33/1000000 -> #REF! | C33: =SUMIFS(FMZINp3_laika_grafiks!$K$93:$K$231,FMZINp3_laika_grafiks!#REF!,A33) -> #REF! | D33: =B33-H33 -> #REF! | E33: =F33/1000000 -> #REF! | F33: =SUMIFS(FMZINp3_laika_grafiks!$K$93:$K$231,FMZINp3_laika_grafiks!#REF!,A33) -> #REF! | H33: =(I33/1000000) -> #REF! | I33: =SUMIFS(FMZINp3_laika_grafiks!$K$93:$K$231,FMZINp3_laika_grafiks!#REF!,'GRAFIKI II'!A33) -> #REF! | J33: =(K33/1000000) -> #REF! | K33: =SUMIFS(FMZINp3_laika_grafiks!$K$93:$K$231,FMZINp3_laika_grafiks!#REF!,'GRAFIKI II'!A33) -> #REF!
A34: 2023 II | B34: =C34/1000000 -> #REF! | C34: =SUMIFS(FMZINp3_laika_grafiks!$K$93:$K$231,FMZINp3_laika_grafiks!#REF!,A34) -> #REF! | D34: =B34-H34 -> #REF! | E34: =F34/1000000 -> #REF! | F34: =SUMIFS(FMZINp3_laika_grafiks!$K$93:$K$231,FMZINp3_laika_grafiks!#REF!,A34) -> #REF! | H34: =(I34/1000000) -> #REF! | I34: =SUMIFS(FMZINp3_laika_grafiks!$K$93:$K$231,FMZINp3_laika_grafiks!#REF!,'GRAFIKI II'!A34) -> #REF! | J34: =(K34/1000000) -> #REF! | K34: =SUMIFS(FMZINp3_laika_grafiks!$K$93:$K$231,FMZINp3_laika_grafiks!#REF!,'GRAFIKI II'!A34) -> #REF!
A35: 2023 III | B35: =C35/1000000 -> #REF! | C35: =SUMIFS(FMZINp3_laika_grafiks!$K$93:$K$231,FMZINp3_laika_grafiks!#REF!,A35) -> #REF! | D35: =B35-H35 -> #REF! | E35: =F35/1000000 -> #REF! | F35: =SUMIFS(FMZINp3_laika_grafiks!$K$93:$K$231,FMZINp3_laika_grafiks!#REF!,A35) -> #REF! | H35: =(I35/1000000) -> #REF! | I35: =SUMIFS(FMZINp3_laika_grafiks!$K$93:$K$231,FMZINp3_laika_grafiks!#REF!,'GRAFIKI II'!A35) -> #REF! | J35: =(K35/1000000) -> #REF! | K35: =SUMIFS(FMZINp3_laika_grafiks!$K$93:$K$231,FMZINp3_laika_grafiks!#REF!,'GRAFIKI II'!A35) -> #REF!
A36: 2023 IV | B36: =C36/1000000 -> #REF! | C36: =SUMIFS(FMZINp3_laika_grafiks!$K$93:$K$231,FMZINp3_laika_grafiks!#REF!,A36) -> #REF! | D36: =B36-H36 -> #REF! | E36: =F36/1000000 -> #REF! | F36: =SUMIFS(FMZINp3_laika_grafiks!$K$93:$K$231,FMZINp3_laika_grafiks!#REF!,A36) -> #REF! | H36: =(I36/1000000) -> #REF! | I36: =SUMIFS(FMZINp3_laika_grafiks!$K$93:$K$231,FMZINp3_laika_grafiks!#REF!,'GRAFIKI II'!A36) -> #REF! | J36: =(K36/1000000) -> #REF! | K36: =SUMIFS(FMZINp3_laika_grafiks!$K$93:$K$231,FMZINp3_laika_grafiks!#REF!,'GRAFIKI II'!A36) -> #REF!
A37: 2024 I | B37: =C37/1000000 -> #REF! | C37: =SUMIFS(FMZINp3_laika_grafiks!$K$93:$K$231,FMZINp3_laika_grafiks!#REF!,A37) -> #REF! | D37: =B37-H37 -> #REF! | E37: =F37/1000000 -> #REF! | F37: =SUMIFS(FMZINp3_laika_grafiks!$K$93:$K$231,FMZINp3_laika_grafiks!#REF!,A37) -> #REF! | H37: =(I37/1000000) -> #REF! | I37: =SUMIFS(FMZINp3_laika_grafiks!$K$93:$K$231,FMZINp3_laika_grafiks!#REF!,'GRAFIKI II'!A37) -> #REF! | J37: =(K37/1000000) -> #REF! | K37: =SUMIFS(FMZINp3_laika_grafiks!$K$93:$K$231,FMZINp3_laika_grafiks!#REF!,'GRAFIKI II'!A37) -> #REF!
A38: 2024 II | B38: =C38/1000000 -> #REF! | C38: =SUMIFS(FMZINp3_laika_grafiks!$K$93:$K$231,FMZINp3_laika_grafiks!#REF!,A38) -> #REF! | D38: =B38-H38 -> #REF! | E38: =F38/1000000 -> #REF! | F38: =SUMIFS(FMZINp3_laika_grafiks!$K$93:$K$231,FMZINp3_laika_grafiks!#REF!,A38) -> #REF! | H38: =(I38/1000000) -> #REF! | I38: =SUMIFS(FMZINp3_laika_grafiks!$K$93:$K$231,FMZINp3_laika_grafiks!#REF!,'GRAFIKI II'!A38) -> #REF! | J38: =(K38/1000000) -> #REF! | K38: =SUMIFS(FMZINp3_laika_grafiks!$K$93:$K$231,FMZINp3_laika_grafiks!#REF!,'GRAFIKI II'!A38) -> #REF!
A39: 2024 III | B39: =C39/1000000 -> #REF! | C39: =SUMIFS(FMZINp3_laika_grafiks!$K$93:$K$231,FMZINp3_laika_grafiks!#REF!,A39) -> #REF! | D39: =B39-H39 -> #REF! | E39: =F39/1000000 -> #REF! | F39: =SUMIFS(FMZINp3_laika_grafiks!$K$93:$K$231,FMZINp3_laika_grafiks!#REF!,A39) -> #REF! | H39: =(I39/1000000) -> #REF! | I39: =SUMIFS(FMZINp3_laika_grafiks!$K$93:$K$231,FMZINp3_laika_grafiks!#REF!,'GRAFIKI II'!A39) -> #REF! | J39: =(K39/1000000) -> #REF! | K39: =SUMIFS(FMZINp3_laika_grafiks!$K$93:$K$231,FMZINp3_laika_grafiks!#REF!,'GRAFIKI II'!A39) -> #REF!
A40: 2024 IV | B40: =C40/1000000 -> #REF! | C40: =SUMIFS(FMZINp3_laika_grafiks!$K$93:$K$231,FMZINp3_laika_grafiks!#REF!,A40) -> #REF! | D40: =B40-H40 -> #REF! | E40: =F40/1000000 -> #REF! | F40: =SUMIFS(FMZINp3_laika_grafiks!$K$93:$K$231,FMZINp3_laika_grafiks!#REF!,A40) -> #REF! | H40: =(I40/1000000) -> #REF! | I40: =SUMIFS(FMZINp3_laika_grafiks!$K$93:$K$231,FMZINp3_laika_grafiks!#REF!,'GRAFIKI II'!A40) -> #REF! | J40: =(K40/1000000) -> #REF! | K40: =SUMIFS(FMZINp3_laika_grafiks!$K$93:$K$231,FMZINp3_laika_grafiks!#REF!,'GRAFIKI II'!A40) -> #REF!
A41: 2025 I | B41: =C41/1000000 -> #REF! | C41: =SUMIFS(FMZINp3_laika_grafiks!$K$93:$K$231,FMZINp3_laika_grafiks!#REF!,A41) -> #REF! | D41: =B41-H41 -> #REF! | E41: =F41/1000000 -> #REF! | F41: =SUMIFS(FMZINp3_laika_grafiks!$K$93:$K$231,FMZINp3_laika_grafiks!#REF!,A41) -> #REF! | H41: =(I41/1000000) -> #REF! | I41: =SUMIFS(FMZINp3_laika_grafiks!$K$93:$K$231,FMZINp3_laika_grafiks!#REF!,'GRAFIKI II'!A41) -> #REF! | J41: =(K41/1000000) -> #REF! | K41: =SUMIFS(FMZINp3_laika_grafiks!$K$93:$K$231,FMZINp3_laika_grafiks!#REF!,'GRAFIKI II'!A41) -> #REF!
A42: 2025 II | B42: =C42/1000000 -> #REF! | C42: =SUMIFS(FMZINp3_laika_grafiks!$K$93:$K$231,FMZINp3_laika_grafiks!#REF!,A42) -> #REF! | D42: =B42-H42 -> #REF! | E42: =F42/1000000 -> #REF! | F42: =SUMIFS(FMZINp3_laika_grafiks!$K$93:$K$231,FMZINp3_laika_grafiks!#REF!,A42) -> #REF! | H42: =(I42/1000000) -> #REF! | I42: =SUMIFS(FMZINp3_laika_grafiks!$K$93:$K$231,FMZINp3_laika_grafiks!#REF!,'GRAFIKI II'!A42) -> #REF! | J42: =(K42/1000000) -> #REF! | K42: =SUMIFS(FMZINp3_laika_grafiks!$K$93:$K$231,FMZINp3_laika_grafiks!#REF!,'GRAFIKI II'!A42) -> #REF!
A43: 2025 III | B43: =C43/1000000 -> #REF! | C43: =SUMIFS(FMZINp3_laika_grafiks!$K$93:$K$231,FMZINp3_laika_grafiks!#REF!,A43) -> #REF! | D43: =B43-H43 -> #REF! | E43: =F43/1000000 -> #REF! | F43: =SUMIFS(FMZINp3_laika_grafiks!$K$93:$K$231,FMZINp3_laika_grafiks!#REF!,A43) -> #REF! | H43: =(I43/1000000) -> #REF! | I43: =SUMIFS(FMZINp3_laika_grafiks!$K$93:$K$231,FMZINp3_laika_grafiks!#REF!,'GRAFIKI II'!A43) -> #REF! | J43: =(K43/1000000) -> #REF! | K43: =SUMIFS(FMZINp3_laika_grafiks!$K$93:$K$231,FMZINp3_laika_grafiks!#REF!,'GRAFIKI II'!A43) -> #REF!
A44: 2025 IV | B44: =C44/1000000 -> #REF! | C44: =SUMIFS(FMZINp3_laika_grafiks!$K$93:$K$231,FMZINp3_laika_grafiks!#REF!,A44) -> #REF! | D44: =B44-H44 -> #REF! | E44: =F44/1000000 -> #REF! | F44: =SUMIFS(FMZINp3_laika_grafiks!$K$93:$K$231,FMZINp3_laika_grafiks!#REF!,A44) -> #REF! | H44: =(I44/1000000) -> #REF! | I44: =SUMIFS(FMZINp3_laika_grafiks!$K$93:$K$231,FMZINp3_laika_grafiks!#REF!,'GRAFIKI II'!A44) -> #REF! | J44: =(K44/1000000) -> #REF! | K44: =SUMIFS(FMZINp3_laika_grafiks!$K$93:$K$231,FMZINp3_laika_grafiks!#REF!,'GRAFIKI II'!A44) -> #REF!
...
