Workbook

Sheet KOPSAVILKUMS
E1: 4. pielikums Informatīvajam ziņojumam par izmaiņām slimnīcu tīklā
B2: Finansējums uzņemšanas nodaļu un dežūrārstu nodrošināšanai
B4: Kopā, EUR | C4: Neatliekamās medicīnas un pacientu uzņemšanas nodaļa, EUR* | D4: Dežūrārsti no 16.00-08.00 darba dienas, EUR | E4: Dežūrārsti no 8.00-16.00 brīvdienas, EUR | F4: Kopā nepieciešams finansējums dežūrārstiem, EUR
A5: ='Specialisti - aprekini_jaunais'!B9 -> Rīgas Austrumu klīniskā universitātes slimnīca | B5: ='Specialisti - aprekini_jaunais'!E22 -> 26021335 | C5: ='Specialisti - aprekini_jaunais'!F22 -> 19752870 | D5: ='Specialisti - aprekini_jaunais'!G22 -> 5174010 | E5: ='Specialisti - aprekini_jaunais'!H22 -> 1094455 | F5: =D5+E5 -> 6268465
A6: ='Specialisti - aprekini_jaunais'!B23 -> Paula Stradiņa klīniskā universitātes slimnīca | B6: ='Specialisti - aprekini_jaunais'!E39 -> 19610108 | C6: ='Specialisti - aprekini_jaunais'!F39 -> 15085647 | D6: ='Specialisti - aprekini_jaunais'!G39 -> 3827630.2 | E6: ='Specialisti - aprekini_jaunais'!H39 -> 696830.95 | F6: =D6+E6 -> 4524461.1
A7: ='Specialisti - aprekini_jaunais'!B40 -> Bērnu klīniskā universitātes slimnīca | B7: ='Specialisti - aprekini_jaunais'!E57 -> 11526890 | C7: ='Specialisti - aprekini_jaunais'!F57 -> 10133954 | D7: ='Specialisti - aprekini_jaunais'!G57 -> 1280110.3 | E7: ='Specialisti - aprekini_jaunais'!H57 -> 112825.41 | F7: =D7+E7 -> 1392935.7
A8: ='Specialisti - aprekini_jaunais'!B58 -> Rīgas Dzemdību nams | B8: ='Specialisti - aprekini_jaunais'!E75 -> 3578236.9 | C8: ='Specialisti - aprekini_jaunais'!F75 -> 1907431 | D8: ='Specialisti - aprekini_jaunais'!G75 -> 1360462.9 | E8: ='Specialisti - aprekini_jaunais'!H75 -> 310343 | F8: =D8+E8 -> 1670805.9
A9: ='Specialisti - aprekini_jaunais'!B76 -> Traumatoloģijas un ortopēdijas slimnīca | B9: ='Specialisti - aprekini_jaunais'!E93 -> 6574686.8 | C9: ='Specialisti - aprekini_jaunais'!F93 -> 6057723 | D9: ='Specialisti - aprekini_jaunais'!G93 -> 426703.44 | E9: ='Specialisti - aprekini_jaunais'!H93 -> 90260.327 | F9: =D9+E9 -> 516963.76
A10: ='Specialisti - aprekini_jaunais'!B94 -> Jūrmalas slimnīca | B10: ='Specialisti - aprekini_jaunais'!E111 -> 2857366.5 | C10: ='Specialisti - aprekini_jaunais'!F111 -> 2757950.4 | D10: ='Specialisti - aprekini_jaunais'!G111 -> 82058.353 | E10: ='Specialisti - aprekini_jaunais'!H111 -> 17357.755 | F10: =D10+E10 -> 99416.108
A11: ='Specialisti - aprekini_jaunais'!B112 -> Siguldas slimnīca | B11: ='Specialisti - aprekini_jaunais'!E129 -> 1509518 | C11: ='Specialisti - aprekini_jaunais'!F129 -> 1248497.1 | D11: ='Specialisti - aprekini_jaunais'!G129 -> 215447.5 | E11: ='Specialisti - aprekini_jaunais'!H129 -> 45573.482 | F11: =D11+E11 -> 261020.98
A12: ='Specialisti - aprekini_jaunais'!B130 -> Rīgas 2. slimnīca | B12: ='Specialisti - aprekini_jaunais'!E147 -> 1570510.2 | C12: ='Specialisti - aprekini_jaunais'!F147 -> 1309489.2 | D12: ='Specialisti - aprekini_jaunais'!G147 -> 215447.5 | E12: ='Specialisti - aprekini_jaunais'!H147 -> 45573.482 | F12: =D12+E12 -> 261020.98
A13: ='Specialisti - aprekini_jaunais'!B149 -> Liepājas reģionālā slimnīca | B13: ='Specialisti - aprekini_jaunais'!E166 -> 4539459.9 | C13: ='Specialisti - aprekini_jaunais'!F166 -> 3923676.6 | D13: ='Specialisti - aprekini_jaunais'!G166 -> 518136.62 | E13: ='Specialisti - aprekini_jaunais'!H166 -> 97646.747 | F13: =D13+E13 -> 615783.37
A14: ='Specialisti - aprekini_jaunais'!B167 -> Kuldīgas slimnīca | B14: ='Specialisti - aprekini_jaunais'!E184 -> 2312202.8 | C14: ='Specialisti - aprekini_jaunais'!F184 -> 1951765.7 | D14: ='Specialisti - aprekini_jaunais'!G184 -> 297505.85 | E14: ='Specialisti - aprekini_jaunais'!H184 -> 62931.237 | F14: =D14+E14 -> 360437.09
A15: ='Specialisti - aprekini_jaunais'!B189 -> Ziemeļkurzemes reģionālā slimnīca, tajā skaitā Talsi | B15: ='Specialisti - aprekini_jaunais'!E207 -> 5225770.6 | C15: ='Specialisti - aprekini_jaunais'!F207 -> 4765917.4 | D15: ='Specialisti - aprekini_jaunais'!G207 -> 379564.2 | E15: ='Specialisti - aprekini_jaunais'!H207 -> 80288.992 | F15: =D15+E15 -> 459853.19
A16: ='Specialisti - aprekini_jaunais'!B208 -> Tukuma slimnīca | B16: ='Specialisti - aprekini_jaunais'!E225 -> 1562219.1 | C16: ='Specialisti - aprekini_jaunais'!F225 -> 1201782 | D16: ='Specialisti - aprekini_jaunais'!G225 -> 297505.85 | E16: ='Specialisti - aprekini_jaunais'!H225 -> 62931.237 | F16: =D16+E16 -> 360437.09
A17: ='Specialisti - aprekini_jaunais'!B227 -> Daugavpils reģionālā slimnīca | B17: ='Specialisti - aprekini_jaunais'!E244 -> 5285630.6 | C17: ='Specialisti - aprekini_jaunais'!F244 -> 4626945.2 | D17: ='Specialisti - aprekini_jaunais'!G244 -> 543680.91 | E17: ='Specialisti - aprekini_jaunais'!H244 -> 115004.5 | F17: =D17+E17 -> 658685.41
A18: ='Specialisti - aprekini_jaunais'!B245 -> Krāslavas slimnīca | B18: ='Specialisti - aprekini_jaunais'!E262 -> 1363386.9 | C18: ='Specialisti - aprekini_jaunais'!F262 -> 1201782 | D18: ='Specialisti - aprekini_jaunais'!G262 -> 133389.14 | E18: ='Specialisti - aprekini_jaunais'!H262 -> 28215.727 | F18: =D18+E18 -> 161604.87
A19: ='Specialisti - aprekini_jaunais'!B263 -> Preiļu slimnīca | B19: ='Specialisti - aprekini_jaunais'!E280 -> 1976766.7 | C19: ='Specialisti - aprekini_jaunais'!F280 -> 1715745.8 | D19: ='Specialisti - aprekini_jaunais'!G280 -> 215447.5 | E19: ='Specialisti - aprekini_jaunais'!H280 -> 45573.482 | F19: =D19+E19 -> 261020.98
A20: ='Specialisti - aprekini_jaunais'!B281 -> Rēzeknes slimnīca | B20: ='Specialisti - aprekini_jaunais'!E298 -> 4152301 | C20: ='Specialisti - aprekini_jaunais'!F298 -> 3692447.8 | D20: ='Specialisti - aprekini_jaunais'!G298 -> 379564.2 | E20: ='Specialisti - aprekini_jaunais'!H298 -> 80288.992 | F20: =D20+E20 -> 459853.19
A21: ='Specialisti - aprekini_jaunais'!B299 -> Līvānu slimnīca | B21: ='Specialisti - aprekini_jaunais'!E316 -> 893963.44 | C21: ='Specialisti - aprekini_jaunais'!F316 -> 837449.37 | D21: ='Specialisti - aprekini_jaunais'!G316 -> 56514.07 | E21: ='Specialisti - aprekini_jaunais'!H316 -> 0 | F21: =D21+E21 -> 56514.07
A22: ='Specialisti - aprekini_jaunais'!B317 -> Ludzas slimnīca | B22: ='Specialisti - aprekini_jaunais'!E334 -> 893963.44 | C22: ='Specialisti - aprekini_jaunais'!F334 -> 837449.37 | D22: ='Specialisti - aprekini_jaunais'!G334 -> 56514.07 | E22: ='Specialisti - aprekini_jaunais'!H334 -> 0 | F22: =D22+E22 -> 56514.07
A23: ='Specialisti - aprekini_jaunais'!B335 -> Balvu un Gulbenes slimnīcu apvienība | B23: ='Specialisti - aprekini_jaunais'!E352 -> 2378675.3 | C23: ='Specialisti - aprekini_jaunais'!F352 -> 2182994.5 | D23: ='Specialisti - aprekini_jaunais'!G352 -> 133389.14 | E23: ='Specialisti - aprekini_jaunais'!H352 -> 62291.727 | F23: =D23+E23 -> 195680.87
A24: ='Specialisti - aprekini_jaunais'!B354 -> Vidzemes slimnīca | B24: ='Specialisti - aprekini_jaunais'!E371 -> 4549965.4 | C24: ='Specialisti - aprekini_jaunais'!F371 -> 3692447.8 | D24: ='Specialisti - aprekini_jaunais'!G371 -> 707797.61 | E24: ='Specialisti - aprekini_jaunais'!H371 -> 149720.01 | F24: =D24+E24 -> 857517.63
A25: ='Specialisti - aprekini_jaunais'!B372 -> Cēsu klīnika | B25: ='Specialisti - aprekini_jaunais'!E389 -> 1930051.7 | C25: ='Specialisti - aprekini_jaunais'!F389 -> 1669030.7 | D25: ='Specialisti - aprekini_jaunais'!G389 -> 215447.5 | E25: ='Specialisti - aprekini_jaunais'!H389 -> 45573.482 | F25: =D25+E25 -> 261020.98
A26: ='Specialisti - aprekini_jaunais'!B390 -> Limbažu slimnīca | B26: ='Specialisti - aprekini_jaunais'!E407 -> 993379.54 | C26: ='Specialisti - aprekini_jaunais'!F407 -> 837449.37 | D26: ='Specialisti - aprekini_jaunais'!G407 -> 138572.42 | E26: ='Specialisti - aprekini_jaunais'!H407 -> 17357.755 | F26: =D26+E26 -> 155930.18
A27: ='Specialisti - aprekini_jaunais'!B408 -> Madonas slimnīca | B27: ='Specialisti - aprekini_jaunais'!E425 -> 3018971.4 | C27: ='Specialisti - aprekini_jaunais'!F425 -> 2757950.4 | D27: ='Specialisti - aprekini_jaunais'!G425 -> 215447.5 | E27: ='Specialisti - aprekini_jaunais'!H425 -> 45573.482 | F27: =D27+E27 -> 261020.98
A28: ='Specialisti - aprekini_jaunais'!B426 -> Alūksnes slimnīca | B28: ='Specialisti - aprekini_jaunais'!E443 -> 1830635.6 | C28: ='Specialisti - aprekini_jaunais'!F443 -> 1669030.7 | D28: ='Specialisti - aprekini_jaunais'!G443 -> 133389.14 | E28: ='Specialisti - aprekini_jaunais'!H443 -> 28215.727 | F28: =D28+E28 -> 161604.87
A29: ='Specialisti - aprekini_jaunais'!B444 -> Ogres rajona slimnīca | B29: ='Specialisti - aprekini_jaunais'!E461 -> 2543431.5 | C29: ='Specialisti - aprekini_jaunais'!F461 -> 2182994.5 | D29: ='Specialisti - aprekini_jaunais'!G461 -> 297505.85 | E29: ='Specialisti - aprekini_jaunais'!H461 -> 62931.237 | F29: =D29+E29 -> 360437.09
A30: ='Specialisti - aprekini_jaunais'!B463 -> Jelgavas pilsētas slimnīca | B30: ='Specialisti - aprekini_jaunais'!E480 -> 4251717.1 | C30: ='Specialisti - aprekini_jaunais'!F480 -> 3692447.8 | D30: ='Specialisti - aprekini_jaunais'!G480 -> 461622.55 | E30: ='Specialisti - aprekini_jaunais'!H480 -> 97646.747 | F30: =D30+E30 -> 559269.3
A31: ='Specialisti - aprekini_jaunais'!B481 -> Dobeles slimnīca | B31: ='Specialisti - aprekini_jaunais'!E498 -> 2575828.1 | C31: ='Specialisti - aprekini_jaunais'!F498 -> 2414223.2 | D31: ='Specialisti - aprekini_jaunais'!G498 -> 133389.14 | E31: ='Specialisti - aprekini_jaunais'!H498 -> 28215.727 | F31: =D31+E31 -> 161604.87
A32: ='Specialisti - aprekini_jaunais'!B499 -> Bauskas slimnīca | B32: ='Specialisti - aprekini_jaunais'!E516 -> 893963.44 | C32: ='Specialisti - aprekini_jaunais'!F516 -> 837449.37 | D32: ='Specialisti - aprekini_jaunais'!G516 -> 56514.07 | E32: ='Specialisti - aprekini_jaunais'!H516 -> 0 | F32: =D32+E32 -> 56514.07
A33: ='Specialisti - aprekini_jaunais'!B517 -> Jēkabpils reģionālā slimnīca | B33: ='Specialisti - aprekini_jaunais'!E534 -> 4251717.1 | C33: ='Specialisti - aprekini_jaunais'!F534 -> 3692447.8 | D33: ='Specialisti - aprekini_jaunais'!G534 -> 461622.55 | E33: ='Specialisti - aprekini_jaunais'!H534 -> 97646.747 | F33: =D33+E33 -> 559269.3
A34: ='Specialisti - aprekini_jaunais'!B535 -> Aizkraukles slimnīca | B34: ='Specialisti - aprekini_jaunais'!E552 -> 893963.44 | C34: ='Specialisti - aprekini_jaunais'!F552 -> 837449.37 | D34: ='Specialisti - aprekini_jaunais'!G552 -> 56514.07 | E34: ='Specialisti - aprekini_jaunais'!H552 -> 0 | F34: =D34+E34 -> 56514.07
B35: =SUM(B5:B34) -> 1.3156662e+08 | C35: =SUM(C5:C34) -> 1.0947444e+08 | D35: =SUM(D5:D34) -> 18470904 | E35: =SUM(E5:E34) -> 3621273 | F35: =SUM(F5:F34) -> 22092177
A37: *finansējuma sadalījumā netiek iekļautas psihoneiroloģiskās slimnīcas, jo tām finansēšanas modelis saglabājas līdzšinējā kārtībā

Sheet Specialisti - aprekini_jaunais
L1: 4.1. pielikums
A5: Veselības aprūpes pakalpojumi pa plānošans reģionu teritorijām*
A6: Līmenis | B6: Nosaukums | C6: Esošie veselības aprūpes pakalpojumu profili | D6: Turpmāk sniegtie pakalpojumi | E6: Neatliekamās medicīnas un pacientu uzņemšanas nodaļa | G6: Dežūrārsti no 16.00-08.00 darba dienas | H6: Dežūrārsti no 8.00-16.00 brīvdienas | I6: Neatliekamās medicīnas un pacientu uzņemšanas nodaļa, EUR | J6: Dežūrārsti darba dienas, EUR | K6: Dežūrārsti brīvdienas, EUR | L6: KOPĀ EUR
E7: Speciālisti | F7: Posteņu skaits | G7: Ārstu skaits | H7: Ārstu skaits
A8: Rīgas plānošanas reģions | M8: D | N8: M
A9: Klīniskās universitātes slimnīca | B9: Rīgas Austrumu klīniskā universitātes slimnīca | C9: Terapija | D9: Internā medicīna | E9: Kopā ārsti | F9: 28 | G9: =SUM(G10:G17,G19) -> 46 | H9: =SUM(H10:H17,H19) -> 46 | I9: =ROUND(SUM(I10:I21),0) -> 19752870 | J9: =ROUND(SUM(J10:J21),0) -> 5174010 | K9: =ROUND(SUM(K10:K21),0) -> 1094455 | L9: =SUM(I9:K9) -> 26021335 | M9: =SUM(M10:M21) -> 12303752 | N9: =F9*'Darba algas UZŅEMŠANĀ_jaunais'!BE15 -> 387992.64
C10: Hronisko pacientu aprūpe (izvēles) | D10: Aprūpe | E10: Internisti | F10: 2 | G10: 6 | H10: 6 | I10: =ROUND(F10*'Darba algas UZŅEMŠANĀ_jaunais'!$BD$3,0) -> 605338 | J10: =G10*'Darba algas UZŅEMŠANĀ_jaunais'!$BB$3 -> 640055.15 | K10: =H10*'Darba algas UZŅEMŠANĀ_jaunais'!$BA$3 -> 135390.49 | M10: =F10*'Darba algas UZŅEMŠANĀ_jaunais'!$BA$19 -> 367001.69
C11: Aprūpe | D11: Ķirurģija | E11: Neatliekamās medicīnas ārsti | F11: 5 | G11: 0 | H11: 0 | I11: =ROUND(F11*'Darba algas UZŅEMŠANĀ_jaunais'!$BD$3,0) -> 1513344 | J11: =G11*'Darba algas UZŅEMŠANĀ_jaunais'!$BB$3 -> 0 | K11: =H11*'Darba algas UZŅEMŠANĀ_jaunais'!$BA$3 -> 0 | M11: =F11*'Darba algas UZŅEMŠANĀ_jaunais'!$BA$19 -> 917504.22
C12: Ķirurģija | D12: Ginekoloģija | E12: Ķirurgi | F12: 4 | G12: 8 | H12: 8 | I12: =ROUND(F12*'Darba algas UZŅEMŠANĀ_jaunais'!$BD$3,0) -> 1210675 | J12: =G12*'Darba algas UZŅEMŠANĀ_jaunais'!$BB$3 -> 853406.87 | K12: =H12*'Darba algas UZŅEMŠANĀ_jaunais'!$BA$3 -> 180520.65 | M12: =F12*'Darba algas UZŅEMŠANĀ_jaunais'!$BA$19 -> 734003.37
C13: Ginekoloģija | D13: Traumatoloģija, ortopēdija | E13: Ginekologi, dzemdību speciālisti | F13: 2 | G13: 1 | H13: 1 | I13: =ROUND(F13*'Darba algas UZŅEMŠANĀ_jaunais'!$BD$3,0) -> 605338 | J13: =G13*'Darba algas UZŅEMŠANĀ_jaunais'!$BB$3 -> 106675.86 | K13: =H13*'Darba algas UZŅEMŠANĀ_jaunais'!$BA$3 -> 22565.082 | M13: =F13*'Darba algas UZŅEMŠANĀ_jaunais'!$BA$19 -> 367001.69
C14: Grūtnieču patoloģija | D14: Insulta vienība | E14: Traumatologi,ortopēdi | F14: 1 | G14: 1 | H14: 1 | I14: =ROUND(F14*'Darba algas UZŅEMŠANĀ_jaunais'!$BD$3,0) -> 302669 | J14: =G14*'Darba algas UZŅEMŠANĀ_jaunais'!$BB$3 -> 106675.86 | K14: =H14*'Darba algas UZŅEMŠANĀ_jaunais'!$BA$3 -> 22565.082 | M14: =F14*'Darba algas UZŅEMŠANĀ_jaunais'!$BA$19 -> 183500.84
C15: Traumatoloģija, ortopēdija | D15: Specializētā un terciārā palīdzība | E15: Neirologi | F15: 2 | G15: 1 | H15: 1 | I15: =ROUND(F15*'Darba algas UZŅEMŠANĀ_jaunais'!$BD$3,0) -> 605338 | J15: =G15*'Darba algas UZŅEMŠANĀ_jaunais'!$BB$3 -> 106675.86 | K15: =H15*'Darba algas UZŅEMŠANĀ_jaunais'!$BA$3 -> 22565.082 | M15: =F15*'Darba algas UZŅEMŠANĀ_jaunais'!$BA$19 -> 367001.69
C16: Insulta vienība | E16: Anesteziologi, reanimatologi | F16: 2 | G16: 2 | H16: 2 | I16: =ROUND(F16*'Darba algas UZŅEMŠANĀ_jaunais'!$BD$3,0) -> 605338 | J16: =G16*'Darba algas UZŅEMŠANĀ_jaunais'!$BB$3 -> 213351.72 | K16: =H16*'Darba algas UZŅEMŠANĀ_jaunais'!$BA$3 -> 45130.163 | M16: =F16*'Darba algas UZŅEMŠANĀ_jaunais'!$BA$19 -> 367001.69
C17: Specializētā un terciārā palīdzība | E17: Radiologi | F17: 2 | G17: 2 | H17: 2 | I17: =ROUND(F17*'Darba algas UZŅEMŠANĀ_jaunais'!$BD$3,0) -> 605338 | J17: =G17*'Darba algas UZŅEMŠANĀ_jaunais'!$BB$3 -> 213351.72 | K17: =H17*'Darba algas UZŅEMŠANĀ_jaunais'!$BA$3 -> 45130.163 | M17: =F17*'Darba algas UZŅEMŠANĀ_jaunais'!$BA$19 -> 367001.69
E18: Radiologa asist./radiogrāferi | F18: 2 | G18: 2 | H18: 2 | I18: =ROUND(F18*'Darba algas UZŅEMŠANĀ_jaunais'!$BD$5,0) -> 361327 | J18: =G18*'Darba algas UZŅEMŠANĀ_jaunais'!$BB$5 -> 133460.05 | K18: =H18*'Darba algas UZŅEMŠANĀ_jaunais'!$BA$5 -> 28230.726 | M18: =F18*'Darba algas UZŅEMŠANĀ_jaunais'!$BA$26 -> 229574.27
E19: Citi speciālisti | F19: 8 | G19: 25 | H19: 25 | I19: =ROUND(F19*'Darba algas UZŅEMŠANĀ_jaunais'!$BD$3,0) -> 2421351 | J19: =G19*'Darba algas UZŅEMŠANĀ_jaunais'!$BB$3 -> 2666896.5 | K19: =H19*'Darba algas UZŅEMŠANĀ_jaunais'!$BA$3 -> 564127.04 | M19: =F19*'Darba algas UZŅEMŠANĀ_jaunais'!$BA$19 -> 1468006.7
E20: Māsas | F20: 40 | G20: 2 | H20: 2 | I20: =ROUND(F20*'Darba algas UZŅEMŠANĀ_jaunais'!$BD$5,0) -> 7226539 | J20: =G20*'Darba algas UZŅEMŠANĀ_jaunais'!$BB$5 -> 133460.05 | K20: =H20*'Darba algas UZŅEMŠANĀ_jaunais'!$BA$5 -> 28230.726 | M20: =F20*'Darba algas UZŅEMŠANĀ_jaunais'!$BA$26 -> 4591485.3
E21: Māsas palīgi | F21: 40 | G21: 0 | H21: 0 | I21: =ROUND(F21*'Darba algas UZŅEMŠANĀ_jaunais'!$BD$6,0) -> 3690275 | J21: =ROUND(G21*'Darba algas UZŅEMŠANĀ_jaunais'!$BA$6,0) -> 0 | K21: =ROUND(H21*'Darba algas UZŅEMŠANĀ_jaunais'!$BB$6,0) -> 0 | M21: =F21*'Darba algas UZŅEMŠANĀ_jaunais'!$BA$33 -> 2344669
D22: Maksājuma apmērs, EUR | E22: =SUM(F22:H22) -> 26021335 | F22: =I9 -> 19752870 | G22: =J9 -> 5174010 | H22: =K9 -> 1094455
A23: Klīniskās universitātes slimnīca | B23: Paula Stradiņa klīniskā universitātes slimnīca | C23: Terapija | D23: Internā medicīna | E23: Kopā ārsti | F23: =F24+F26+F29+F33+F3+F35+F30+F31+F28+F27+F25+F32 -> 21 | G23: 29 | H23: =H24+H26+H29+H33+H3+H35+H30+H31+H28+H27+H25+H32 -> 29 | I23: =SUM(I24:I38) -> 15085647 | J23: =SUM(J24:J38) -> 3827630.2 | K23: =SUM(K24:K38) -> 696830.95 | L23: =SUM(I23:K23) -> 19610108 | M23: =SUM(M24:M38) -> 9399994.9 | N23: =F23*'Darba algas UZŅEMŠANĀ_jaunais'!BE15 -> 290994.48
C24: Hronisko pacientu aprūpe (izvēles) | D24: Aprūpe | E24: Internisti | F24: 0 | G24: 1 | H24: 1 | I24: =ROUND(F24*'Darba algas UZŅEMŠANĀ_jaunais'!$BD$3,0) -> 0 | J24: =G24*'Darba algas UZŅEMŠANĀ_jaunais'!$BB$3 -> 106675.86 | K24: =H24*'Darba algas UZŅEMŠANĀ_jaunais'!$BA$3 -> 22565.082 | M24: =F24*'Darba algas UZŅEMŠANĀ_jaunais'!$BA$19 -> 0
C25: Aprūpe | D25: Ķirurģija | E25: Neatliekamās medicīnas ārsti | F25: 7 | G25: 0 | H25: 0 | I25: =ROUND(F25*'Darba algas UZŅEMŠANĀ_jaunais'!$BD$3,0) -> 2118682 | J25: =G25*'Darba algas UZŅEMŠANĀ_jaunais'!$BB$3 -> 0 | K25: =H25*'Darba algas UZŅEMŠANĀ_jaunais'!$BA$3 -> 0 | M25: =F25*'Darba algas UZŅEMŠANĀ_jaunais'!$BA$19 -> 1284505.9
C26: Ķirurģija | D26: Ginekoloģija | E26: Ķirurgi | F26: 1 | G26: 6 | H26: 6 | I26: =ROUND(F26*'Darba algas UZŅEMŠANĀ_jaunais'!$BD$3,0) -> 302669 | J26: =G26*'Darba algas UZŅEMŠANĀ_jaunais'!$BB$3 -> 640055.15 | K26: =H26*'Darba algas UZŅEMŠANĀ_jaunais'!$BA$3 -> 135390.49 | M26: =F26*'Darba algas UZŅEMŠANĀ_jaunais'!$BA$19 -> 183500.84
C27: Ginekoloģija | D27: Grūtniecības un dzmedību aprūpe | E27: Ginekologi, dzemdību speciālisti | F27: 1 | G27: 1 | H27: 1 | I27: =ROUND(F27*'Darba algas UZŅEMŠANĀ_jaunais'!$BD$3,0) -> 302669 | J27: =G27*'Darba algas UZŅEMŠANĀ_jaunais'!$BB$3 -> 106675.86 | K27: =H27*'Darba algas UZŅEMŠANĀ_jaunais'!$BA$3 -> 22565.082 | M27: =F27*'Darba algas UZŅEMŠANĀ_jaunais'!$BA$19 -> 183500.84
C28: Grūtniecības un dzmedību aprūpe | D28: Grūtnieču patoloģija | E28: Traumatologi,ortopēdi | F28: 0 | G28: 0 | H28: 0 | I28: =ROUND(F28*'Darba algas UZŅEMŠANĀ_jaunais'!$BD$3,0) -> 0 | J28: =G28*'Darba algas UZŅEMŠANĀ_jaunais'!$BB$3 -> 0 | K28: =H28*'Darba algas UZŅEMŠANĀ_jaunais'!$BA$3 -> 0 | M28: =F28*'Darba algas UZŅEMŠANĀ_jaunais'!$BA$19 -> 0
C29: Grūtnieču patoloģija | D29: Traumatoloģija, ortopēdija | E29: Neirologi | F29: 1 | G29: 1 | H29: 1 | I29: =ROUND(F29*'Darba algas UZŅEMŠANĀ_jaunais'!$BD$3,0) -> 302669 | J29: =G29*'Darba algas UZŅEMŠANĀ_jaunais'!$BB$3 -> 106675.86 | K29: =H29*'Darba algas UZŅEMŠANĀ_jaunais'!$BA$3 -> 22565.082 | M29: =F29*'Darba algas UZŅEMŠANĀ_jaunais'!$BA$19 -> 183500.84
C30: Traumatoloģija, ortopēdija | D30: Insulta vienība | E30: Pediatrs | F30: 0 | G30: 0 | H30: 0 | I30: =ROUND(F30*'Darba algas UZŅEMŠANĀ_jaunais'!$BD$3,0) -> 0 | J30: =G30*'Darba algas UZŅEMŠANĀ_jaunais'!$BB$3 -> 0 | K30: =H30*'Darba algas UZŅEMŠANĀ_jaunais'!$BA$3 -> 0 | M30: =F30*'Darba algas UZŅEMŠANĀ_jaunais'!$BA$19 -> 0
C31: Insulta vienība | D31: Specializētā un terciārā palīdzība | E31: Neonatologs | F31: 1 | G31: 1 | H31: 1 | I31: =ROUND(F31*'Darba algas UZŅEMŠANĀ_jaunais'!$BD$3,0) -> 302669 | J31: =G31*'Darba algas UZŅEMŠANĀ_jaunais'!$BB$3 -> 106675.86 | K31: =H31*'Darba algas UZŅEMŠANĀ_jaunais'!$BA$3 -> 22565.082 | M31: =F31*'Darba algas UZŅEMŠANĀ_jaunais'!$BA$19 -> 183500.84
C32: Specializētā un terciārā palīdzība | E32: Anesteziologi, reanimatologi | F32: 2 | G32: 8 | H32: 8 | I32: =ROUND(F32*'Darba algas UZŅEMŠANĀ_jaunais'!$BD$3,0) -> 605338 | J32: =G32*'Darba algas UZŅEMŠANĀ_jaunais'!$BB$3 -> 853406.87 | K32: =H32*'Darba algas UZŅEMŠANĀ_jaunais'!$BA$3 -> 180520.65 | M32: =F32*'Darba algas UZŅEMŠANĀ_jaunais'!$BA$19 -> 367001.69
E33: Radiologi | F33: 2 | G33: 3 | H33: 3 | I33: =ROUND(F33*'Darba algas UZŅEMŠANĀ_jaunais'!$BD$3,0) -> 605338 | J33: =G33*'Darba algas UZŅEMŠANĀ_jaunais'!$BB$3 -> 320027.58 | K33: =H33*'Darba algas UZŅEMŠANĀ_jaunais'!$BA$3 -> 67695.245 | M33: =F33*'Darba algas UZŅEMŠANĀ_jaunais'!$BA$19 -> 367001.69
E34: Radiologa asist./radiogrāferi | F34: 1 | G34: 3 | H34: 3 | I34: =ROUND(F34*'Darba algas UZŅEMŠANĀ_jaunais'!$BD$5,0) -> 180663 | J34: =G34*'Darba algas UZŅEMŠANĀ_jaunais'!$BB$5 -> 200190.08 | K34: =H34*'Darba algas UZŅEMŠANĀ_jaunais'!$BA$5 -> 42346.089 | M34: =F34*'Darba algas UZŅEMŠANĀ_jaunais'!$BA$26 -> 114787.13
E35: Citi speciālisti | F35: 6 | G35: 8 | H35: 8 | I35: =ROUND(F35*'Darba algas UZŅEMŠANĀ_jaunais'!$BD$3,0) -> 1816013 | J35: =G35*'Darba algas UZŅEMŠANĀ_jaunais'!$BB$3 -> 853406.87 | K35: =H34*'Darba algas UZŅEMŠANĀ_jaunais'!$BA$3 -> 67695.245 | M35: =F35*'Darba algas UZŅEMŠANĀ_jaunais'!$BA$19 -> 1101005.1
E36: Māsas | F36: 30 | G36: 8 | H36: 8 | I36: =ROUND(F36*'Darba algas UZŅEMŠANĀ_jaunais'!$BD$5,0) -> 5419904 | J36: =G36*'Darba algas UZŅEMŠANĀ_jaunais'!$BB$5 -> 533840.21 | K36: =H36*'Darba algas UZŅEMŠANĀ_jaunais'!$BA$5 -> 112922.91 | M36: =F36*'Darba algas UZŅEMŠANĀ_jaunais'!$BA$26 -> 3443614
E37: Vecmātes | F37: 2 | G37: 0 | H37: 0 | I37: =ROUND(F37*'Darba algas UZŅEMŠANĀ_jaunais'!$BD$5,0) -> 361327 | J37: =G37*'Darba algas UZŅEMŠANĀ_jaunais'!$BB$5 -> 0 | K37: =H37*'Darba algas UZŅEMŠANĀ_jaunais'!$BA$5 -> 0 | M37: =F37*'Darba algas UZŅEMŠANĀ_jaunais'!$BA$26 -> 229574.27
E38: Māsas palīgs | F38: 30 | G38: 0 | H38: 0 | I38: =ROUND(F38*'Darba algas UZŅEMŠANĀ_jaunais'!$BD$6,0) -> 2767706 | J38: =ROUND(G38*'Darba algas UZŅEMŠANĀ_jaunais'!$BA$6,0) -> 0 | K38: =ROUND(H38*'Darba algas UZŅEMŠANĀ_jaunais'!$BB$6,0) -> 0 | M38: =F38*'Darba algas UZŅEMŠANĀ_jaunais'!$BA$33 -> 1758501.8
D39: Maksājuma apmērs, EUR | E39: =SUM(F39:H39) -> 19610108 | F39: =I23 -> 15085647 | G39: =J23 -> 3827630.2 | H39: =K23 -> 696830.95
A40: Klīniskās universitātes slimnīca | B40: Bērnu klīniskā universitātes slimnīca | C40: Pediatrija | D40: Pediatrija | E40: Kopā ārsti | F40: =SUM(F41:F50,F52) -> 14 | G40: =SUM(G41:G50,G52) -> 12 | H40: =SUM(H41:H50,H52) -> 12 | I40: =SUM(I41:I56) -> 10133954 | J40: =SUM(J41:J56) -> 1280110.3 | K40: =SUM(K41:K56) -> 112825.41 | L40: =SUM(I40:K40) -> 11526890 | M40: =SUM(M41:M56) -> 6315494.7 | N40: =F40*'Darba algas UZŅEMŠANĀ_jaunais'!BE15 -> 193996.32
C41: Specializētā un terciārā palīdzība bērniem | D41: Specializētā un terciārā palīdzība bērniem | E41: Internisti | F41: 0 | G41: 0 | H41: 0 | I41: =ROUND(F41*'Darba algas UZŅEMŠANĀ_jaunais'!$BD$3,0) -> 0 | J41: =G41*'Darba algas UZŅEMŠANĀ_jaunais'!$BB$3 -> 0 | K41: =H41*'Darba algas UZŅEMŠANĀ_jaunais'!$BA$3 -> 0 | M41: =F41*'Darba algas UZŅEMŠANĀ_jaunais'!$BA$19 -> 0
E42: Neatliekamās medicīnas ārsti | F42: 0 | G42: 0 | H42: 0 | I42: =ROUND(F42*'Darba algas UZŅEMŠANĀ_jaunais'!$BD$3,0) -> 0 | J42: =G42*'Darba algas UZŅEMŠANĀ_jaunais'!$BB$3 -> 0 | K42: =H42*'Darba algas UZŅEMŠANĀ_jaunais'!$BA$3 -> 0 | M42: =F42*'Darba algas UZŅEMŠANĀ_jaunais'!$BA$19 -> 0
E43: Ķirurgi | F43: 2 | G43: 1 | H43: 1 | I43: =ROUND(F43*'Darba algas UZŅEMŠANĀ_jaunais'!$BD$3,0) -> 605338 | J43: =G43*'Darba algas UZŅEMŠANĀ_jaunais'!$BB$3 -> 106675.86 | K43: =H43*'Darba algas UZŅEMŠANĀ_jaunais'!$BA$3 -> 22565.082 | M43: =F43*'Darba algas UZŅEMŠANĀ_jaunais'!$BA$19 -> 367001.69
...

Sheet Darba algas UZŅEMŠANĀ_jaunais
BE1: 4.2. pielikums
AZ2: =B14 -> KUS UN TOS, RDzN | BA2: Dežūrārsts (8.00-16.00) brīvdienas | BB2: Dežūrārsts (16.00-8.00) darba dienas | BC2: Dežūrārsts 9.00-21.00 (12h) darba dienas | BD2: Speciālists 24/7 ar kabineta maksājumu
AZ3: Tikai ārsts | BA3: =BB16 -> 22565.082 | BB3: =BB17 -> 106675.86 | BC3: =BB18 -> 73468.291 | BD3: =BB19 -> 302668.86
AZ4: Radiologs mājdežūrā 75% | BD4: =BB20 -> 170232.71
AZ5: Vecmāte, radiologa asistents, māsa | BA5: =BB23 -> 14115.363 | BB5: =BB24 -> 66730.026 | BC5: =BB25 -> 45957.361 | BD5: =BB26 -> 180663.47
AZ6: Māsas palīgs | BA6: =BB30 -> 7208.0932 | BB6: =BB31 -> 34076.08 | BC6: =BB32 -> 23468.397 | BD6: =BB33 -> 92256.863 | BF6: māsu palīgi bez 1.3
AZ7: =B36 -> PĀRĒJIE | BA7: Dežūrārsts (8.00-16.00) brīvdienas | BB7: Dežūrārsts (16.00-8.00) darba dienas | BC7: Dežūrārsts 9.00-21.00 (12h) darba dienas | BD7: Speciālists, kurš nodrošina palīdzību 24/7
AZ8: Tikai ārsts | BA8: =BB38 -> 17357.755 | BB8: =BB39 -> 82058.353 | BC8: =BB40 -> 56514.07 | BD8: =BB41 -> 236019.94
AZ9: Radiologs mājdežūrā 75% | BD9: =BB42 -> 128312.72
AZ10: Vecmāte, radiologa asistents, māsa | BA10: =BB45 -> 10857.972 | BB10: =BB46 -> 51330.789 | BC10: =BB47 -> 35351.816 | BD10: =BB48 -> 138971.9
AZ11: Māsas palīgs | BA11: =BB52 -> 7208.0932 | BB11: =BB53 -> 34076.08 | BC11: =BB54 -> 23468.397 | BD11: =BB55 -> 92256.863
B12: Posteņu, slodžu, darba stundu skaits un apmaksas nosacījumi NMPON darba nodrošināšanai | AV12: Koeficents KUS | BC12: 153.1. ārstiem un funkcionālajiem speciālistiem | BD12: 2083
AH13: =365*8+(15*8) -> 3040 | AV13: 1.3 | AX13: 0.5 | AY13: 1 | AZ13: 0.025 | BC13: 153.2. ārstniecības un pacientu aprūpes personām un funkcionālo speciālistu asistentiem | BD13: 1303
B14: KUS UN TOS, RDzN | H14: Pirmdienās | L14: Otrdienās | P14: Trešdienās | T14: Ceturtdienās | X14: Piektdienās | AB14: Sestdienās | AF14: Svētdienās | AJ14: Svētku un brīvdienās | AO14: Stundas vidēji gadā | BC14: 153.3. ārstniecības un pacientu aprūpes atbalsta personām | BD14: 865
B15: Posteņa nosaukums | D15: Nedēļas dienas | E15: Posteņa veids | F15: % iesaiste, ja atbalsta postenis | G15: Posteņu skaits | H15: no | I15: līdz | J15: darba st | K15: t.sk. nakts st | L15: no | M15: līdz | N15: darba st | O15: t.sk. nakts st | P15: no | Q15: līdz | R15: darba st | S15: t.sk. nakts st | T15: no | U15: līdz | V15: darba st | W15: t.sk. nakts st | X15: no | Y15: līdz | Z15: darba st | AA15: t.sk. nakts st | AB15: no | AC15: līdz | AD15: darba st | AE15: t.sk. nakts st | AF15: no | AG15: līdz | AH15: darba st | AI15: t.sk. nakts st | AJ15: no | AK15: līdz | AL15: darba st | AM15: t.sk. nakts st | AN15: Tehniskā | AO15: Darba sundas | AP15: no tām nakts | AQ15: no tām svētku | AR15: slodzes | AS15: Atvaļinājuma rezerve | AT15: KOPĀ | AU15: Mēnešalga | AV15: Stundas likme (vidējā) | AW15: Samaksa gadā, EUR | AX15: Par Nakts stundām, EUR gadā | AY15: Par Svētku stundām, EUR gadā | AZ15: Īpašā riska piemaksa gadā, EUR | BA15: Kopā | BB15: Kopā gadā, EUR | BD15: Uz vienu ārsta posteni gadā M, EUR | BE15: 13856.88
A16: ĀRSTS | B16: Dežūrārsts (8.00-16.00) brīvdienas | G16: 1 | AB16: 8 | AC16: 16 | AD16: =IF(AB16="",0,IF((AC16-AB16<=0),(24-AB16+AC16),(AC16-AB16))) -> 8 | AF16: 8 | AG16: 16 | AH16: =IF(AF16="",0,IF((AG16-AF16<=0),(24-AF16+AG16),(AG16-AF16))) -> 8 | AJ16: 8 | AK16: 16 | AL16: =IF(AJ16="",0,IF((AK16-AJ16<=0),(24-AJ16+AK16),(AK16-AJ16))) -> 8 | AN16: =J16+N16+R16+V16+Z16+AD16+AH16+AL16 -> 24 | AO16: =IF(AN16=0,0,((J16*$C$114)+($D$114*N16)+(R16*$E$114)+(V16*$F$114)+($G$114*Z16)+(AD16*$H$115)+($I$116*AH16)+(AL16*$J$117)*G16)) -> 912 | AP16: =IF(AN16=0,0,((K16*$C$114)+($D$114*O16)+(S16*$E$114)+(W16*$F$114)+($G$114*AA16)+(AE16*$H$115)+($I$116*AI16)+(AM16*$J$117)*G16)) -> 0 | AQ16: =AL16*$J$117*G16 -> 144 | AR16: =AO16/$L$113 -> 0.45508982 | AS16: =AR16*0.09091 -> 0.041372216 | AT16: =AS16+AR16 -> 0.49646204 | AU16: =$BD$12 -> 2083 | AV16: =AU16/160*AV13 -> 16.924375 | AW16: =AV16*AO16 -> 15435.03 | AX16: =$AX$13*AV16*AP16 -> 0 | AY16: =AV16*AQ16 -> 2437.11 | AZ16: =AV16*$AZ$13*AO16 -> 385.87575 | BA16: =SUM(AW16:AZ16) -> 18258.016 | BB16: =(AW16+AX16+AY16+AZ16)*1.2359 -> 22565.082
B17: Dežūrārsts (16.00-8.00) darba dienas | G17: 1 | H17: 16 | I17: 8 | J17: =IF(H17="",0,IF((I17-H17<=0),(24-H17+I17),(I17-H17))) -> 16 | K17: 8 | L17: 16 | M17: 8 | N17: =IF(L17="",0,IF((M17-L17<=0),(24-L17+M17),(M17-L17))) -> 16 | O17: 8 | P17: 16 | Q17: 8 | R17: =IF(P17="",0,IF((Q17-P17<=0),(24-P17+Q17),(Q17-P17))) -> 16 | S17: 8 | T17: 16 | U17: 8 | V17: =IF(T17="",0,IF((U17-T17<=0),(24-T17+U17),(U17-T17))) -> 16 | W17: 8 | X17: 16 | Y17: 8 | Z17: =IF(X17="",0,IF((Y17-X17<=0),(24-X17+Y17),(Y17-X17))) -> 16 | AA17: 8 | AN17: =J17+N17+R17+V17+Z17+AD17+AH17+AL17 -> 80 | AO17: =IF(AN17=0,0,((J17*$C$114)+($D$114*N17)+(R17*$E$114)+(V17*$F$114)+($G$114*Z17)+(AD17*$H$115)+($I$116*AH17)+(AL17*$J$117)*G17)) -> 4000 | AP17: =IF(AN17=0,0,((K17*$C$114)+($D$114*O17)+(S17*$E$114)+(W17*$F$114)+($G$114*AA17)+(AE17*$H$115)+($I$116*AI17)+(AM17*$J$117)*G17)) -> 2000 | AQ17: =AL17*$J$117*G17 -> 0 | AR17: =AO17/$L$113 -> 1.996008 | AS17: =AR17*0.09091 -> 0.18145709 | AT17: =AS17+AR17 -> 2.1774651 | AU17: =$BD$12 -> 2083 | AV17: =AU17/160*AV13 -> 16.924375 | AW17: =AV17*AO17 -> 67697.5 | AX17: =$AX$13*AV17*AP17 -> 16924.375 | AY17: =AV17*AQ17 -> 0 | AZ17: =AV17*$AZ$13*AO17 -> 1692.4375 | BA17: =SUM(AW17:AZ17) -> 86314.312 | BB17: =(AW17+AX17+AY17+AZ17)*1.2359 -> 106675.86
B18: Dežūrārsts 9.00-21.00 (12h) darba dienas | G18: 1 | H18: 9 | I18: 21 | J18: =IF(H18="",0,IF((I18-H18<=0),(24-H18+I18),(I18-H18))) -> 12 | K18: 0 | L18: 9 | M18: 21 | N18: =IF(L18="",0,IF((M18-L18<=0),(24-L18+M18),(M18-L18))) -> 12 | O18: 0 | P18: 9 | Q18: 21 | R18: =IF(P18="",0,IF((Q18-P18<=0),(24-P18+Q18),(Q18-P18))) -> 12 | S18: 0 | T18: 9 | U18: 21 | V18: =IF(T18="",0,IF((U18-T18<=0),(24-T18+U18),(U18-T18))) -> 12 | W18: 0 | X18: 9 | Y18: 21 | Z18: =IF(X18="",0,IF((Y18-X18<=0),(24-X18+Y18),(Y18-X18))) -> 12 | AA18: 0 | AD18: =IF(AB18="",0,IF((AC18-AB18<=0),(24-AB18+AC18),(AC18-AB18))) -> 0 | AE18: 0 | AH18: =IF(AF18="",0,IF((AG18-AF18<=0),(24-AF18+AG18),(AG18-AF18))) -> 0 | AI18: 0 | AJ18: 9 | AK18: 21 | AL18: =IF(AJ18="",0,IF((AK18-AJ18<=0),(24-AJ18+AK18),(AK18-AJ18))) -> 12 | AM18: 0 | AN18: =J18+N18+R18+V18+Z18+AD18+AH18+AL18 -> 72 | AO18: =IF(AN18=0,0,((J18*$C$114)+($D$114*N18)+(R18*$E$114)+(V18*$F$114)+($G$114*Z18)+(AD18*$H$115)+($I$116*AH18)+(AL18*$J$117)*G18)) -> 3216 | AP18: =IF(AN18=0,0,((K18*$C$114)+($D$114*O18)+(S18*$E$114)+(W18*$F$114)+($G$114*AA18)+(AE18*$H$115)+($I$116*AI18)+(AM18*$J$117)*G18)) -> 0 | AQ18: =AL18*$J$117*G18 -> 216 | AR18: =AO18/$L$113 -> 1.6047904 | AS18: =AR18*0.09091 -> 0.1458915 | AT18: =AS18+AR18 -> 1.7506819 | AU18: =$BD$12 -> 2083 | AV18: =AU18/160*AV13 -> 16.924375 | AW18: =AV18*AO18 -> 54428.79 | AX18: =$AX$13*AV18*AP18 -> 0 | AY18: =AV18*AQ18 -> 3655.665 | AZ18: =AV18*$AZ$13*AO18 -> 1360.7198 | BA18: =SUM(AW18:AZ18) -> 59445.175 | BB18: =(AW18+AX18+AY18+AZ18)*1.2359 -> 73468.291 | BD18: U | BE18: A | BF18: n
B19: Speciālists, kurš nodrošina palīdzību 24/7 | G19: 1 | H19: 8 | I19: 8 | J19: =IF(H19="",0,IF((I19-H19<=0),(24-H19+I19),(I19-H19))) -> 24 | K19: 8 | L19: 8 | M19: 8 | N19: =IF(L19="",0,IF((M19-L19<=0),(24-L19+M19),(M19-L19))) -> 24 | O19: 8 | P19: 8 | Q19: 8 | R19: =IF(P19="",0,IF((Q19-P19<=0),(24-P19+Q19),(Q19-P19))) -> 24 | S19: 8 | T19: 8 | U19: 8 | V19: =IF(T19="",0,IF((U19-T19<=0),(24-T19+U19),(U19-T19))) -> 24 | W19: 8 | X19: 8 | Y19: 8 | Z19: =IF(X19="",0,IF((Y19-X19<=0),(24-X19+Y19),(Y19-X19))) -> 24 | AA19: 8 | AB19: 8 | AC19: 8 | AD19: =IF(AB19="",0,IF((AC19-AB19<=0),(24-AB19+AC19),(AC19-AB19))) -> 24 | AE19: 8 | AF19: 8 | AG19: 8 | AH19: =IF(AF19="",0,IF((AG19-AF19<=0),(24-AF19+AG19),(AG19-AF19))) -> 24 | AI19: 8 | AJ19: 8 | AK19: 8 | AL19: =IF(AJ19="",0,IF((AK19-AJ19<=0),(24-AJ19+AK19),(AK19-AJ19))) -> 24 | AM19: 8 | AN19: =J19+N19+R19+V19+Z19+AD19+AH19+AL19 -> 192 | AO19: =IF(AN19=0,0,((J19*$C$114)+($D$114*N19)+(R19*$E$114)+(V19*$F$114)+($G$114*Z19)+(AD19*$H$115)+($I$116*AH19)+(AL19*$J$117)*G19)) -> 8736 | AP19: =IF(AN19=0,0,((K19*$C$114)+($D$114*O19)+(S19*$E$114)+(W19*$F$114)+($G$114*AA19)+(AE19*$H$115)+($I$116*AI19)+(AM19*$J$117)*G19)) -> 2912 | AQ19: =AL19*$J$117*G19 -> 432 | AR19: =AO19/$L$113 -> 4.3592814 | AS19: =AR19*0.09091 -> 0.39630228 | AT19: =AS19+AR19 -> 4.7555837 | AU19: =$BD$12 -> 2083 | AV19: =AU19/160*AV13 -> 16.924375 | AW19: =AV19*AO19 -> 147851.34 | AX19: =$AX$13*AV19*AP19 -> 24641.89 | AY19: =AV19*AQ19 -> 7311.33 | AZ19: =AV19*$AZ$13*AO19 -> 3696.2835 | BA19: =SUM(AW19:AZ19) -> 183500.84 | BB19: =((AW19+AX19+AY19+AZ19)*1.2359)+((AW19+AX19+AY19+AZ19)*$BD$19)+((AW19+AX19+AY19+AZ19)*$BE$19)+((AW19+AX19+AY19+AZ19)*$BF$19)+BE15 -> 302668.86 | BD19: 0.2812 | BE19: 0.0219 | BF19: 0.0349
B20: Radiologs, diagnosts (mājas dežūra) | G20: 1 | H20: 8 | I20: 8 | J20: =IF(H20="",0,IF((I20-H20<=0),(24-H20+I20),(I20-H20))) -> 24 | K20: 8 | L20: 8 | M20: 8 | N20: =IF(L20="",0,IF((M20-L20<=0),(24-L20+M20),(M20-L20))) -> 24 | O20: 8 | P20: 8 | Q20: 8 | R20: =IF(P20="",0,IF((Q20-P20<=0),(24-P20+Q20),(Q20-P20))) -> 24 | S20: 8 | T20: 8 | U20: 8 | V20: =IF(T20="",0,IF((U20-T20<=0),(24-T20+U20),(U20-T20))) -> 24 | W20: 8 | X20: 8 | Y20: 8 | Z20: =IF(X20="",0,IF((Y20-X20<=0),(24-X20+Y20),(Y20-X20))) -> 24 | AA20: 8 | AB20: 8 | AC20: 8 | AD20: =IF(AB20="",0,IF((AC20-AB20<=0),(24-AB20+AC20),(AC20-AB20))) -> 24 | AE20: 8 | AF20: 8 | AG20: 8 | AH20: =IF(AF20="",0,IF((AG20-AF20<=0),(24-AF20+AG20),(AG20-AF20))) -> 24 | AI20: 8 | AJ20: 8 | AK20: 8 | AL20: =IF(AJ20="",0,IF((AK20-AJ20<=0),(24-AJ20+AK20),(AK20-AJ20))) -> 24 | AM20: 9 | AN20: =J20+N20+R20+V20+Z20+AD20+AH20+AL20 -> 192 | AO20: =IF(AN20=0,0,((J20*$C$114)+($D$114*N20)+(R20*$E$114)+(V20*$F$114)+($G$114*Z20)+(AD20*$H$115)+($I$116*AH20)+(AL20*$J$117)*G20)) -> 8736 | AP20: =IF(AN20=0,0,((K20*$C$114)+($D$114*O20)+(S20*$E$114)+(W20*$F$114)+($G$114*AA20)+(AE20*$H$115)+($I$116*AI20)+(AM20*$J$117)*G20)) -> 2930 | AQ20: =AL20*$J$117*G20 -> 432 | AR20: =AO20/$L$113 -> 4.3592814 | AS20: =AR20*0.09091 -> 0.39630228 | AT20: =AS20+AR20 -> 4.7555837 | AU20: =$BD$12*0.75 -> 1562.25 | AV20: =AU20/160*AV13 -> 12.693281 | AW20: =AV20*AO20 -> 110888.51 | AX20: =$AX$13*AV20*AP20 -> 18595.657 | AY20: =AV20*AQ20 -> 5483.4975 | AZ20: =AV20*$AZ$13*AO20 -> 2772.2126 | BA20: =SUM(AW20:AZ20) -> 137739.87 | BB20: =(AW20+AX20+AY20+AZ20)*1.2359 -> 170232.71
BA21: =SUM(AW21:AZ21) -> 0
BA22: =SUM(AW22:AZ22) -> 0
A23: MĀSA | B23: Dežūrārsts (8.00-16.00) brīvdienas | G23: 1 | AB23: 8 | AC23: 16 | AD23: =IF(AB23="",0,IF((AC23-AB23<=0),(24-AB23+AC23),(AC23-AB23))) -> 8 | AF23: 8 | AG23: 16 | AH23: =IF(AF23="",0,IF((AG23-AF23<=0),(24-AF23+AG23),(AG23-AF23))) -> 8 | AJ23: 8 | AK23: 16 | AL23: =IF(AJ23="",0,IF((AK23-AJ23<=0),(24-AJ23+AK23),(AK23-AJ23))) -> 8 | AN23: =J23+N23+R23+V23+Z23+AD23+AH23+AL23 -> 24 | AO23: =IF(AN23=0,0,((J23*$C$114)+($D$114*N23)+(R23*$E$114)+(V23*$F$114)+($G$114*Z23)+(AD23*$H$115)+($I$116*AH23)+(AL23*$J$117)*G23)) -> 912 | AP23: =IF(AN23=0,0,((K23*$C$114)+($D$114*O23)+(S23*$E$114)+(W23*$F$114)+($G$114*AA23)+(AE23*$H$115)+($I$116*AI23)+(AM23*$J$117)*G23)) -> 0 | AQ23: =AL23*$J$117*G23 -> 144 | AR23: =AO23/$L$113 -> 0.45508982 | AS23: =AR23*0.09091 -> 0.041372216 | AT23: =AS23+AR23 -> 0.49646204 | AU23: =$BD$13 -> 1303 | AV23: =AU23/160*$AV$13 -> 10.586875 | AW23: =AV23*AO23 -> 9655.23 | AX23: =$AX$13*AV23*AP23 -> 0 | AY23: =AV23*AQ23 -> 1524.51 | AZ23: =AV23*$AZ$13*AO23 -> 241.38075 | BA23: =SUM(AW23:AZ23) -> 11421.121 | BB23: =(AW23+AX23+AY23+AZ23)*1.2359 -> 14115.363
B24: Dežūrārsts (16.00-8.00) darba dienas | G24: 1 | H24: 16 | I24: 8 | J24: =IF(H24="",0,IF((I24-H24<=0),(24-H24+I24),(I24-H24))) -> 16 | K24: 8 | L24: 16 | M24: 8 | N24: =IF(L24="",0,IF((M24-L24<=0),(24-L24+M24),(M24-L24))) -> 16 | O24: 8 | P24: 16 | Q24: 8 | R24: =IF(P24="",0,IF((Q24-P24<=0),(24-P24+Q24),(Q24-P24))) -> 16 | S24: 8 | T24: 16 | U24: 8 | V24: =IF(T24="",0,IF((U24-T24<=0),(24-T24+U24),(U24-T24))) -> 16 | W24: 8 | X24: 16 | Y24: 8 | Z24: =IF(X24="",0,IF((Y24-X24<=0),(24-X24+Y24),(Y24-X24))) -> 16 | AA24: 8 | AN24: =J24+N24+R24+V24+Z24+AD24+AH24+AL24 -> 80 | AO24: =IF(AN24=0,0,((J24*$C$114)+($D$114*N24)+(R24*$E$114)+(V24*$F$114)+($G$114*Z24)+(AD24*$H$115)+($I$116*AH24)+(AL24*$J$117)*G24)) -> 4000 | AP24: =IF(AN24=0,0,((K24*$C$114)+($D$114*O24)+(S24*$E$114)+(W24*$F$114)+($G$114*AA24)+(AE24*$H$115)+($I$116*AI24)+(AM24*$J$117)*G24)) -> 2000 | AQ24: =AL24*$J$117*G24 -> 0 | AR24: =AO24/$L$113 -> 1.996008 | AS24: =AR24*0.09091 -> 0.18145709 | AT24: =AS24+AR24 -> 2.1774651 | AU24: =$BD$13 -> 1303 | AV24: =AU24/160*$AV$13 -> 10.586875 | AW24: =AV24*AO24 -> 42347.5 | AX24: =$AX$13*AV24*AP24 -> 10586.875 | AY24: =AV24*AQ24 -> 0 | AZ24: =AV24*$AZ$13*AO24 -> 1058.6875 | BA24: =SUM(AW24:AZ24) -> 53993.063 | BB24: =(AW24+AX24+AY24+AZ24)*1.2359 -> 66730.026
B25: Dežūrārsts 9.00-21.00 (12h) darba dienas | G25: 1 | H25: 9 | I25: 21 | J25: =IF(H25="",0,IF((I25-H25<=0),(24-H25+I25),(I25-H25))) -> 12 | K25: 0 | L25: 9 | M25: 21 | N25: =IF(L25="",0,IF((M25-L25<=0),(24-L25+M25),(M25-L25))) -> 12 | O25: 0 | P25: 9 | Q25: 21 | R25: =IF(P25="",0,IF((Q25-P25<=0),(24-P25+Q25),(Q25-P25))) -> 12 | S25: 0 | T25: 9 | U25: 21 | V25: =IF(T25="",0,IF((U25-T25<=0),(24-T25+U25),(U25-T25))) -> 12 | W25: 0 | X25: 9 | Y25: 21 | Z25: =IF(X25="",0,IF((Y25-X25<=0),(24-X25+Y25),(Y25-X25))) -> 12 | AA25: 0 | AD25: =IF(AB25="",0,IF((AC25-AB25<=0),(24-AB25+AC25),(AC25-AB25))) -> 0 | AE25: 0 | AH25: =IF(AF25="",0,IF((AG25-AF25<=0),(24-AF25+AG25),(AG25-AF25))) -> 0 | AI25: 0 | AJ25: 9 | AK25: 21 | AL25: =IF(AJ25="",0,IF((AK25-AJ25<=0),(24-AJ25+AK25),(AK25-AJ25))) -> 12 | AM25: 0 | AN25: =J25+N25+R25+V25+Z25+AD25+AH25+AL25 -> 72 | AO25: =IF(AN25=0,0,((J25*$C$114)+($D$114*N25)+(R25*$E$114)+(V25*$F$114)+($G$114*Z25)+(AD25*$H$115)+($I$116*AH25)+(AL25*$J$117)*G25)) -> 3216 | AP25: =IF(AN25=0,0,((K25*$C$114)+($D$114*O25)+(S25*$E$114)+(W25*$F$114)+($G$114*AA25)+(AE25*$H$115)+($I$116*AI25)+(AM25*$J$117)*G25)) -> 0 | AQ25: =AL25*$J$117*G25 -> 216 | AR25: =AO25/$L$113 -> 1.6047904 | AS25: =AR25*0.09091 -> 0.1458915 | AT25: =AS25+AR25 -> 1.7506819 | AU25: =$BD$13 -> 1303 | AV25: =AU25/160*$AV$13 -> 10.586875 | AW25: =AV25*AO25 -> 34047.39 | AX25: =$AX$13*AV25*AP25 -> 0 | AY25: =AV25*AQ25 -> 2286.765 | AZ25: =AV25*$AZ$13*AO25 -> 851.18475 | BA25: =SUM(AW25:AZ25) -> 37185.34 | BB25: =(AW25+AX25+AY25+AZ25)*1.2359 -> 45957.361
B26: Speciālists, kurš nodrošina palīdzību 24/7 | G26: 1 | H26: 8 | I26: 8 | J26: =IF(H26="",0,IF((I26-H26<=0),(24-H26+I26),(I26-H26))) -> 24 | K26: 8 | L26: 8 | M26: 8 | N26: =IF(L26="",0,IF((M26-L26<=0),(24-L26+M26),(M26-L26))) -> 24 | O26: 8 | P26: 8 | Q26: 8 | R26: =IF(P26="",0,IF((Q26-P26<=0),(24-P26+Q26),(Q26-P26))) -> 24 | S26: 8 | T26: 8 | U26: 8 | V26: =IF(T26="",0,IF((U26-T26<=0),(24-T26+U26),(U26-T26))) -> 24 | W26: 8 | X26: 8 | Y26: 8 | Z26: =IF(X26="",0,IF((Y26-X26<=0),(24-X26+Y26),(Y26-X26))) -> 24 | AA26: 8 | AB26: 8 | AC26: 8 | AD26: =IF(AB26="",0,IF((AC26-AB26<=0),(24-AB26+AC26),(AC26-AB26))) -> 24 | AE26: 8 | AF26: 8 | AG26: 8 | AH26: =IF(AF26="",0,IF((AG26-AF26<=0),(24-AF26+AG26),(AG26-AF26))) -> 24 | AI26: 8 | AJ26: 8 | AK26: 8 | AL26: =IF(AJ26="",0,IF((AK26-AJ26<=0),(24-AJ26+AK26),(AK26-AJ26))) -> 24 | AM26: 8 | AN26: =J26+N26+R26+V26+Z26+AD26+AH26+AL26 -> 192 | AO26: =IF(AN26=0,0,((J26*$C$114)+($D$114*N26)+(R26*$E$114)+(V26*$F$114)+($G$114*Z26)+(AD26*$H$115)+($I$116*AH26)+(AL26*$J$117)*G26)) -> 8736 | AP26: =IF(AN26=0,0,((K26*$C$114)+($D$114*O26)+(S26*$E$114)+(W26*$F$114)+($G$114*AA26)+(AE26*$H$115)+($I$116*AI26)+(AM26*$J$117)*G26)) -> 2912 | AQ26: =AL26*$J$117*G26 -> 432 | AR26: =AO26/$L$113 -> 4.3592814 | AS26: =AR26*0.09091 -> 0.39630228 | AT26: =AS26+AR26 -> 4.7555837 | AU26: =$BD$13 -> 1303 | AV26: =AU26/160*$AV$13 -> 10.586875 | AW26: =AV26*AO26 -> 92486.94 | AX26: =$AX$13*AV26*AP26 -> 15414.49 | AY26: =AV26*AQ26 -> 4573.53 | AZ26: =AV26*$AZ$13*AO26 -> 2312.1735 | BA26: =SUM(AW26:AZ26) -> 114787.13 | BB26: =((AW26+AX26+AY26+AZ26)*1.2359)+((AW26+AX26+AY26+AZ26)*$BD$19)+((AW26+AX26+AY26+AZ26)*$BE$19)+((AW26+AX26+AY26+AZ26)*$BF$19) -> 180663.47
BA27: =SUM(AW27:AZ27) -> 0
BA28: =SUM(AW28:AZ28) -> 0
BA29: =SUM(AW29:AZ29) -> 0
A30: MĀSAS PALĪGI | B30: Dežūrārsts (8.00-16.00) brīvdienas | G30: 1 | AB30: 8 | AC30: 16 | AD30: =IF(AB30="",0,IF((AC30-AB30<=0),(24-AB30+AC30),(AC30-AB30))) -> 8 | AF30: 8 | AG30: 16 | AH30: =IF(AF30="",0,IF((AG30-AF30<=0),(24-AF30+AG30),(AG30-AF30))) -> 8 | AJ30: 8 | AK30: 16 | AL30: =IF(AJ30="",0,IF((AK30-AJ30<=0),(24-AJ30+AK30),(AK30-AJ30))) -> 8 | AN30: =J30+N30+R30+V30+Z30+AD30+AH30+AL30 -> 24 | AO30: =IF(AN30=0,0,((J30*$C$114)+($D$114*N30)+(R30*$E$114)+(V30*$F$114)+($G$114*Z30)+(AD30*$H$115)+($I$116*AH30)+(AL30*$J$117)*G30)) -> 912 | AP30: =IF(AN30=0,0,((K30*$C$114)+($D$114*O30)+(S30*$E$114)+(W30*$F$114)+($G$114*AA30)+(AE30*$H$115)+($I$116*AI30)+(AM30*$J$117)*G30)) -> 0 | AQ30: =AL30*$J$117*G30 -> 144 | AR30: =AO30/$L$113 -> 0.45508982 | AS30: =AR30*0.09091 -> 0.041372216 | AT30: =AS30+AR30 -> 0.49646204 | AU30: =$BD$14 -> 865 | AV30: =AU30/160 -> 5.40625 | AW30: =AV30*AO30 -> 4930.5 | AX30: =$AX$13*AV30*AP30 -> 0 | AY30: =AV30*AQ30 -> 778.5 | AZ30: =AV30*$AZ$13*AO30 -> 123.2625 | BA30: =SUM(AW30:AZ30) -> 5832.2625 | BB30: =(AW30+AX30+AY30+AZ30)*1.2359 -> 7208.0932
B31: Dežūrārsts (16.00-8.00) darba dienas | G31: 1 | H31: 16 | I31: 8 | J31: =IF(H31="",0,IF((I31-H31<=0),(24-H31+I31),(I31-H31))) -> 16 | K31: 8 | L31: 16 | M31: 8 | N31: =IF(L31="",0,IF((M31-L31<=0),(24-L31+M31),(M31-L31))) -> 16 | O31: 8 | P31: 16 | Q31: 8 | R31: =IF(P31="",0,IF((Q31-P31<=0),(24-P31+Q31),(Q31-P31))) -> 16 | S31: 8 | T31: 16 | U31: 8 | V31: =IF(T31="",0,IF((U31-T31<=0),(24-T31+U31),(U31-T31))) -> 16 | W31: 8 | X31: 16 | Y31: 8 | Z31: =IF(X31="",0,IF((Y31-X31<=0),(24-X31+Y31),(Y31-X31))) -> 16 | AA31: 8 | AN31: =J31+N31+R31+V31+Z31+AD31+AH31+AL31 -> 80 | AO31: =IF(AN31=0,0,((J31*$C$114)+($D$114*N31)+(R31*$E$114)+(V31*$F$114)+($G$114*Z31)+(AD31*$H$115)+($I$116*AH31)+(AL31*$J$117)*G31)) -> 4000 | AP31: =IF(AN31=0,0,((K31*$C$114)+($D$114*O31)+(S31*$E$114)+(W31*$F$114)+($G$114*AA31)+(AE31*$H$115)+($I$116*AI31)+(AM31*$J$117)*G31)) -> 2000 | AQ31: =AL31*$J$117*G31 -> 0 | AR31: =AO31/$L$113 -> 1.996008 | AS31: =AR31*0.09091 -> 0.18145709 | AT31: =AS31+AR31 -> 2.1774651 | AU31: =$BD$14 -> 865 | AV31: =AU31/160 -> 5.40625 | AW31: =AV31*AO31 -> 21625 | AX31: =$AX$13*AV31*AP31 -> 5406.25 | AY31: =AV31*AQ31 -> 0 | AZ31: =AV31*$AZ$13*AO31 -> 540.625 | BA31: =SUM(AW31:AZ31) -> 27571.875 | BB31: =(AW31+AX31+AY31+AZ31)*1.2359 -> 34076.08
B32: Dežūrārsts 9.00-21.00 (12h) darba dienas | G32: 1 | H32: 9 | I32: 21 | J32: =IF(H32="",0,IF((I32-H32<=0),(24-H32+I32),(I32-H32))) -> 12 | K32: 0 | L32: 9 | M32: 21 | N32: =IF(L32="",0,IF((M32-L32<=0),(24-L32+M32),(M32-L32))) -> 12 | O32: 0 | P32: 9 | Q32: 21 | R32: =IF(P32="",0,IF((Q32-P32<=0),(24-P32+Q32),(Q32-P32))) -> 12 | S32: 0 | T32: 9 | U32: 21 | V32: =IF(T32="",0,IF((U32-T32<=0),(24-T32+U32),(U32-T32))) -> 12 | W32: 0 | X32: 9 | Y32: 21 | Z32: =IF(X32="",0,IF((Y32-X32<=0),(24-X32+Y32),(Y32-X32))) -> 12 | AA32: 0 | AD32: =IF(AB32="",0,IF((AC32-AB32<=0),(24-AB32+AC32),(AC32-AB32))) -> 0 | AE32: 0 | AH32: =IF(AF32="",0,IF((AG32-AF32<=0),(24-AF32+AG32),(AG32-AF32))) -> 0 | AI32: 0 | AJ32: 9 | AK32: 21 | AL32: =IF(AJ32="",0,IF((AK32-AJ32<=0),(24-AJ32+AK32),(AK32-AJ32))) -> 12 | AM32: 0 | AN32: =J32+N32+R32+V32+Z32+AD32+AH32+AL32 -> 72 | AO32: =IF(AN32=0,0,((J32*$C$114)+($D$114*N32)+(R32*$E$114)+(V32*$F$114)+($G$114*Z32)+(AD32*$H$115)+($I$116*AH32)+(AL32*$J$117)*G32)) -> 3216 | AP32: =IF(AN32=0,0,((K32*$C$114)+($D$114*O32)+(S32*$E$114)+(W32*$F$114)+($G$114*AA32)+(AE32*$H$115)+($I$116*AI32)+(AM32*$J$117)*G32)) -> 0 | AQ32: =AL32*$J$117*G32 -> 216 | AR32: =AO32/$L$113 -> 1.6047904 | AS32: =AR32*0.09091 -> 0.1458915 | AT32: =AS32+AR32 -> 1.7506819 | AU32: =$BD$14 -> 865 | AV32: =AU32/160 -> 5.40625 | AW32: =AV32*AO32 -> 17386.5 | AX32: =$AX$13*AV32*AP32 -> 0 | AY32: =AV32*AQ32 -> 1167.75 | AZ32: =AV32*$AZ$13*AO32 -> 434.6625 | BA32: =SUM(AW32:AZ32) -> 18988.912 | BB32: =(AW32+AX32+AY32+AZ32)*1.2359 -> 23468.397
B33: Speciālists, kurš nodrošina palīdzību 24/7 | G33: 1 | H33: 8 | I33: 8 | J33: =IF(H33="",0,IF((I33-H33<=0),(24-H33+I33),(I33-H33))) -> 24 | K33: 8 | L33: 8 | M33: 8 | N33: =IF(L33="",0,IF((M33-L33<=0),(24-L33+M33),(M33-L33))) -> 24 | O33: 8 | P33: 8 | Q33: 8 | R33: =IF(P33="",0,IF((Q33-P33<=0),(24-P33+Q33),(Q33-P33))) -> 24 | S33: 8 | T33: 8 | U33: 8 | V33: =IF(T33="",0,IF((U33-T33<=0),(24-T33+U33),(U33-T33))) -> 24 | W33: 8 | X33: 8 | Y33: 8 | Z33: =IF(X33="",0,IF((Y33-X33<=0),(24-X33+Y33),(Y33-X33))) -> 24 | AA33: 8 | AB33: 8 | AC33: 8 | AD33: =IF(AB33="",0,IF((AC33-AB33<=0),(24-AB33+AC33),(AC33-AB33))) -> 24 | AE33: 8 | AF33: 8 | AG33: 8 | AH33: =IF(AF33="",0,IF((AG33-AF33<=0),(24-AF33+AG33),(AG33-AF33))) -> 24 | AI33: 8 | AJ33: 8 | AK33: 8 | AL33: =IF(AJ33="",0,IF((AK33-AJ33<=0),(24-AJ33+AK33),(AK33-AJ33))) -> 24 | AM33: 8 | AN33: =J33+N33+R33+V33+Z33+AD33+AH33+AL33 -> 192 | AO33: =IF(AN33=0,0,((J33*$C$114)+($D$114*N33)+(R33*$E$114)+(V33*$F$114)+($G$114*Z33)+(AD33*$H$115)+($I$116*AH33)+(AL33*$J$117)*G33)) -> 8736 | AP33: =IF(AN33=0,0,((K33*$C$114)+($D$114*O33)+(S33*$E$114)+(W33*$F$114)+($G$114*AA33)+(AE33*$H$115)+($I$116*AI33)+(AM33*$J$117)*G33)) -> 2912 | AQ33: =AL33*$J$117*G33 -> 432 | AR33: =AO33/$L$113 -> 4.3592814 | AS33: =AR33*0.09091 -> 0.39630228 | AT33: =AS33+AR33 -> 4.7555837 | AU33: =$BD$14 -> 865 | AV33: =AU33/160 -> 5.40625 | AW33: =AV33*AO33 -> 47229 | AX33: =$AX$13*AV33*AP33 -> 7871.5 | AY33: =AV33*AQ33 -> 2335.5 | AZ33: =AV33*$AZ$13*AO33 -> 1180.725 | BA33: =SUM(AW33:AZ33) -> 58616.725 | BB33: =((AW33+AX33+AY33+AZ33)*1.2359)+((AW33+AX33+AY33+AZ33)*$BD$19)+((AW33+AX33+AY33+AZ33)*$BE$19)+((AW33+AX33+AY33+AZ33)*$BF$19) -> 92256.863
BA34: =SUM(AW34:AZ34) -> 0
BA35: =SUM(AW35:AZ35) -> 0
B36: PĀRĒJIE | H36: Pirmdienās | L36: Otrdienās | P36: Trešdienās | T36: Ceturtdienās | X36: Piektdienās | AB36: Sestdienās | AF36: Svētdienās | AJ36: Svētku un brīvdienās | AO36: Stundas vidēji gadā | BA36: =SUM(AW36:AZ36) -> 0
B37: Posteņa nosaukums | D37: Nedēļas dienas | E37: Posteņa veids | F37: % iesaiste, ja atbalsta postenis | G37: Posteņu skaits | H37: no | I37: līdz | J37: darba st | K37: t.sk. nakts st | L37: no | M37: līdz | N37: darba st | O37: t.sk. nakts st | P37: no | Q37: līdz | R37: darba st | S37: t.sk. nakts st | T37: no | U37: līdz | V37: darba st | W37: t.sk. nakts st | X37: no | Y37: līdz | Z37: darba st | AA37: t.sk. nakts st | AB37: no | AC37: līdz | AD37: darba st | AE37: t.sk. nakts st | AF37: no | AG37: līdz | AH37: darba st | AI37: t.sk. nakts st | AJ37: no | AK37: līdz | AL37: darba st | AM37: t.sk. nakts st | AN37: Tehniskā | AO37: Darba sundas | AP37: no tām nakts | AQ37: no tām svētku | AR37: slodzes | AS37: Atvaļinājuma rezerve | AT37: KOPĀ | AU37: Mēnešalga | AV37: Stundas likme (vidējā) | AW37: Samaksa gadā, EUR | AX37: Par Nakts stundām, EUR gadā | AY37: Par Svētku stundām, EUR gadā | AZ37: Īpašā riska piemaksa gadā, EUR | BA37: =SUM(AW37:AZ37) -> 0
A38: ĀRSTS | B38: Dežūrārsts (8.00-16.00) brīvdienas | G38: 1 | AB38: 8 | AC38: 16 | AD38: =IF(AB38="",0,IF((AC38-AB38<=0),(24-AB38+AC38),(AC38-AB38))) -> 8 | AF38: 8 | AG38: 16 | AH38: =IF(AF38="",0,IF((AG38-AF38<=0),(24-AF38+AG38),(AG38-AF38))) -> 8 | AJ38: 8 | AK38: 16 | AL38: =IF(AJ38="",0,IF((AK38-AJ38<=0),(24-AJ38+AK38),(AK38-AJ38))) -> 8 | AN38: =J38+N38+R38+V38+Z38+AD38+AH38+AL38 -> 24 | AO38: =IF(AN38=0,0,((J38*$C$114)+($D$114*N38)+(R38*$E$114)+(V38*$F$114)+($G$114*Z38)+(AD38*$H$115)+($I$116*AH38)+(AL38*$J$117)*G38)) -> 912 | AP38: =IF(AN38=0,0,((K38*$C$114)+($D$114*O38)+(S38*$E$114)+(W38*$F$114)+($G$114*AA38)+(AE38*$H$115)+($I$116*AI38)+(AM38*$J$117)*G38)) -> 0 | AQ38: =AL38*$J$117*G38 -> 144 | AR38: =AO38/$L$113 -> 0.45508982 | AS38: =AR38*0.09091 -> 0.041372216 | AT38: =AS38+AR38 -> 0.49646204 | AU38: =$BD$12 -> 2083 | AV38: =AU38/160 -> 13.01875 | AW38: =AV38*AO38 -> 11873.1 | AX38: =$AX$13*AV38*AP38 -> 0 | AY38: =AV38*AQ38 -> 1874.7 | AZ38: =AV38*$AZ$13*AO38 -> 296.8275 | BA38: =SUM(AW38:AZ38) -> 14044.628 | BB38: =(AW38+AX38+AY38+AZ38)*1.2359 -> 17357.755
B39: Dežūrārsts (16.00-8.00) darba dienas | G39: 1 | H39: 16 | I39: 8 | J39: =IF(H39="",0,IF((I39-H39<=0),(24-H39+I39),(I39-H39))) -> 16 | K39: 8 | L39: 16 | M39: 8 | N39: =IF(L39="",0,IF((M39-L39<=0),(24-L39+M39),(M39-L39))) -> 16 | O39: 8 | P39: 16 | Q39: 8 | R39: =IF(P39="",0,IF((Q39-P39<=0),(24-P39+Q39),(Q39-P39))) -> 16 | S39: 8 | T39: 16 | U39: 8 | V39: =IF(T39="",0,IF((U39-T39<=0),(24-T39+U39),(U39-T39))) -> 16 | W39: 8 | X39: 16 | Y39: 8 | Z39: =IF(X39="",0,IF((Y39-X39<=0),(24-X39+Y39),(Y39-X39))) -> 16 | AA39: 8 | AN39: =J39+N39+R39+V39+Z39+AD39+AH39+AL39 -> 80 | AO39: =IF(AN39=0,0,((J39*$C$114)+($D$114*N39)+(R39*$E$114)+(V39*$F$114)+($G$114*Z39)+(AD39*$H$115)+($I$116*AH39)+(AL39*$J$117)*G39)) -> 4000 | AP39: =IF(AN39=0,0,((K39*$C$114)+($D$114*O39)+(S39*$E$114)+(W39*$F$114)+($G$114*AA39)+(AE39*$H$115)+($I$116*AI39)+(AM39*$J$117)*G39)) -> 2000 | AQ39: =AL39*$J$117*G39 -> 0 | AR39: =AO39/$L$113 -> 1.996008 | AS39: =AR39*0.09091 -> 0.18145709 | AT39: =AS39+AR39 -> 2.1774651 | AU39: =$BD$12 -> 2083 | AV39: =AU39/160 -> 13.01875 | AW39: =AV39*AO39 -> 52075 | AX39: =$AX$13*AV39*AP39 -> 13018.75 | AY39: =AV39*AQ39 -> 0 | AZ39: =AV39*$AZ$13*AO39 -> 1301.875 | BA39: =SUM(AW39:AZ39) -> 66395.625 | BB39: =(AW39+AX39+AY39+AZ39)*1.2359 -> 82058.353
B40: Dežūrārsts 9.00-21.00 (12h) darba dienas | G40: 1 | H40: 9 | I40: 21 | J40: =IF(H40="",0,IF((I40-H40<=0),(24-H40+I40),(I40-H40))) -> 12 | K40: 0 | L40: 9 | M40: 21 | N40: =IF(L40="",0,IF((M40-L40<=0),(24-L40+M40),(M40-L40))) -> 12 | O40: 0 | P40: 9 | Q40: 21 | R40: =IF(P40="",0,IF((Q40-P40<=0),(24-P40+Q40),(Q40-P40))) -> 12 | S40: 0 | T40: 9 | U40: 21 | V40: =IF(T40="",0,IF((U40-T40<=0),(24-T40+U40),(U40-T40))) -> 12 | W40: 0 | X40: 9 | Y40: 21 | Z40: =IF(X40="",0,IF((Y40-X40<=0),(24-X40+Y40),(Y40-X40))) -> 12 | AA40: 0 | AD40: =IF(AB40="",0,IF((AC40-AB40<=0),(24-AB40+AC40),(AC40-AB40))) -> 0 | AE40: 0 | AH40: =IF(AF40="",0,IF((AG40-AF40<=0),(24-AF40+AG40),(AG40-AF40))) -> 0 | AI40: 0 | AJ40: 9 | AK40: 21 | AL40: =IF(AJ40="",0,IF((AK40-AJ40<=0),(24-AJ40+AK40),(AK40-AJ40))) -> 12 | AM40: 0 | AN40: =J40+N40+R40+V40+Z40+AD40+AH40+AL40 -> 72 | AO40: =IF(AN40=0,0,((J40*$C$114)+($D$114*N40)+(R40*$E$114)+(V40*$F$114)+($G$114*Z40)+(AD40*$H$115)+($I$116*AH40)+(AL40*$J$117)*G40)) -> 3216 | AP40: =IF(AN40=0,0,((K40*$C$114)+($D$114*O40)+(S40*$E$114)+(W40*$F$114)+($G$114*AA40)+(AE40*$H$115)+($I$116*AI40)+(AM40*$J$117)*G40)) -> 0 | AQ40: =AL40*$J$117*G40 -> 216 | AR40: =AO40/$L$113 -> 1.6047904 | AS40: =AR40*0.09091 -> 0.1458915 | AT40: =AS40+AR40 -> 1.7506819 | AU40: =$BD$12 -> 2083 | AV40: =AU40/160 -> 13.01875 | AW40: =AV40*AO40 -> 41868.3 | AX40: =$AX$13*AV40*AP40 -> 0 | AY40: =AV40*AQ40 -> 2812.05 | AZ40: =AV40*$AZ$13*AO40 -> 1046.7075 | BA40: =SUM(AW40:AZ40) -> 45727.058 | BB40: =(AW40+AX40+AY40+AZ40)*1.2359 -> 56514.07
...

Sheet 2024 uzņemšana elementi
I1: 4.3. pielikums
A2: Fiksētās piemaksas aprēķins par neatliekamās palīdzības un pacientu uzņemšanas nodaļas darbību no 01.04.2023.
A3: Saskaņā ar MK noteikumiem Nr. 555 "Veselības aprūpes pakalpojumu organizēšanas un samaksas kārtība" veselības aprūpes pakalpojumu tarifus aprēķina, izmantojot šādu formulu: TC = VC (D + S + M + E) + FC (U + A + N), kur TC – veselības aprūpes pakalpojuma tarifs; VC – mainīgās izmaksas (tiešās izmaksas): D – darba samaksa; S – valsts sociālās apdrošināšanas obligātās iemaksas; M – ārstniecības līdzekļi; E – izdevumi, saistīti ar pacientu ēdināšanu; FC – pastāvīgās izmaksas (netiešās izmaksas): U – pieskaitāmās un netiešās ražošanas izmaksas (ar pacientu uzturēšanu saistītie izdevumi pakalpojumu apmaksai, riska maksājuma veikšanai, materiālu, energoresursu, ūdens un inventāra iegādei); A – administratīvie izdevumi; N – nolietojums.
B4: Darba samaksa | C4: Valsts sociālās apdrošināšanas obligātās iemaksas | D4: Ārstniecības līdzekļi | E4: Līdzmaksājums | F4: Pieskaitāmās un netiešās ražošanas izmaksas | G4: Administratīvie izdevumi | H4: Nolietojums | I4: Kopā
A5: Slimnīcas / Speciālists | B5: D | C5: S | D5: M | E5: u` | F5: U | G5: A | H5: N | I5: Fiksētās piemaksas gada apjoms, EUR
A6: 1 | B6: 2 | C6: 3 | D6: 4 | E6: 5 | F6: 6 | G6: 7 | H6: 8 | I6: 10
A7: Paula Stradiņa klīniskā universitātes slimnīca | B7: =INDEX('Specialisti - aprekini_jaunais'!M$9:M$553, MATCH(A7, 'Specialisti - aprekini_jaunais'!B$9:B$552, 0)) -> 9399994.9 | C7: =B7*0.2359 -> 2217458.8 | D7: =INDEX('Specialisti - aprekini_jaunais'!N$9:N$552, MATCH(A7, 'Specialisti - aprekini_jaunais'!B$9:B$552, 0)) -> 290994.48 | F7: =B7*'Darba algas UZŅEMŠANĀ_jaunais'!$BD$19 -> 2643278.6 | G7: =B7*'Darba algas UZŅEMŠANĀ_jaunais'!$BE$19 -> 205859.89 | H7: =B7*'Darba algas UZŅEMŠANĀ_jaunais'!$BF$19 -> 328059.82 | I7: =INDEX('Specialisti - aprekini_jaunais'!I$9:I$552, MATCH(A7, 'Specialisti - aprekini_jaunais'!B$9:B$552, 0)) -> 15085647
A8: Rīgas Austrumu klīniskā universitātes slimnīca | B8: =INDEX('Specialisti - aprekini_jaunais'!M$9:M$553, MATCH(A8, 'Specialisti - aprekini_jaunais'!B$9:B$552, 0)) -> 12303752 | C8: =B8*0.2359 -> 2902455.1 | D8: =INDEX('Specialisti - aprekini_jaunais'!N$9:N$552, MATCH(A8, 'Specialisti - aprekini_jaunais'!B$9:B$552, 0)) -> 387992.64 | F8: =B8*'Darba algas UZŅEMŠANĀ_jaunais'!$BD$19 -> 3459815.1 | G8: =B8*'Darba algas UZŅEMŠANĀ_jaunais'!$BE$19 -> 269452.17 | H8: =B8*'Darba algas UZŅEMŠANĀ_jaunais'!$BF$19 -> 429400.95 | I8: =INDEX('Specialisti - aprekini_jaunais'!I$9:I$552, MATCH(A8, 'Specialisti - aprekini_jaunais'!B$9:B$552, 0)) -> 19752870
A9: Bērnu klīniskā universitātes slimnīca | B9: =INDEX('Specialisti - aprekini_jaunais'!M$9:M$553, MATCH(A9, 'Specialisti - aprekini_jaunais'!B$9:B$552, 0)) -> 6315494.7 | C9: =B9*0.2359 -> 1489825.2 | D9: =INDEX('Specialisti - aprekini_jaunais'!N$9:N$552, MATCH(A9, 'Specialisti - aprekini_jaunais'!B$9:B$552, 0)) -> 193996.32 | F9: =B9*'Darba algas UZŅEMŠANĀ_jaunais'!$BD$19 -> 1775917.1 | G9: =B9*'Darba algas UZŅEMŠANĀ_jaunais'!$BE$19 -> 138309.33 | H9: =B9*'Darba algas UZŅEMŠANĀ_jaunais'!$BF$19 -> 220410.77 | I9: =INDEX('Specialisti - aprekini_jaunais'!I$9:I$552, MATCH(A9, 'Specialisti - aprekini_jaunais'!B$9:B$552, 0)) -> 10133954
A10: Liepājas reģionālā slimnīca | B10: =INDEX('Specialisti - aprekini_jaunais'!M$9:M$553, MATCH(A10, 'Specialisti - aprekini_jaunais'!B$9:B$552, 0)) -> 2422531 | C10: =B10*0.2359 -> 571475.06 | D10: =INDEX('Specialisti - aprekini_jaunais'!N$9:N$552, MATCH(A10, 'Specialisti - aprekini_jaunais'!B$9:B$552, 0)) -> 110855.04 | F10: =B10*'Darba algas UZŅEMŠANĀ_jaunais'!$BD$19 -> 681215.71 | G10: =B10*'Darba algas UZŅEMŠANĀ_jaunais'!$BE$19 -> 53053.429 | H10: =B10*'Darba algas UZŅEMŠANĀ_jaunais'!$BF$19 -> 84546.331 | I10: =INDEX('Specialisti - aprekini_jaunais'!I$9:I$552, MATCH(A10, 'Specialisti - aprekini_jaunais'!B$9:B$552, 0)) -> 3923676.6
A11: Daugavpils reģionālā slimnīca | B11: =INDEX('Specialisti - aprekini_jaunais'!M$9:M$553, MATCH(A11, 'Specialisti - aprekini_jaunais'!B$9:B$552, 0)) -> 2851754.5 | C11: =B11*0.2359 -> 672728.89 | D11: =INDEX('Specialisti - aprekini_jaunais'!N$9:N$552, MATCH(A11, 'Specialisti - aprekini_jaunais'!B$9:B$552, 0)) -> 138568.8 | F11: =B11*'Darba algas UZŅEMŠANĀ_jaunais'!$BD$19 -> 801913.36 | G11: =B11*'Darba algas UZŅEMŠANĀ_jaunais'!$BE$19 -> 62453.423 | H11: =B11*'Darba algas UZŅEMŠANĀ_jaunais'!$BF$19 -> 99526.232 | I11: =INDEX('Specialisti - aprekini_jaunais'!I$9:I$552, MATCH(A11, 'Specialisti - aprekini_jaunais'!B$9:B$552, 0)) -> 4626945.2
A12: Ziemeļkurzemes reģionālā slimnīca, tajā skaitā Talsi | B12: =INDEX('Specialisti - aprekini_jaunais'!M$9:M$553, MATCH(A12, 'Specialisti - aprekini_jaunais'!B$9:B$552, 0)) -> 2940052.3 | C12: =B12*0.2359 -> 693558.34 | D12: =INDEX('Specialisti - aprekini_jaunais'!N$9:N$552, MATCH(A12, 'Specialisti - aprekini_jaunais'!B$9:B$552, 0)) -> 138568.8 | F12: =B12*'Darba algas UZŅEMŠANĀ_jaunais'!$BD$19 -> 826742.7 | G12: =B12*'Darba algas UZŅEMŠANĀ_jaunais'!$BE$19 -> 64387.145 | H12: =B12*'Darba algas UZŅEMŠANĀ_jaunais'!$BF$19 -> 102607.82 | I12: =INDEX('Specialisti - aprekini_jaunais'!I$9:I$552, MATCH(A12, 'Specialisti - aprekini_jaunais'!B$9:B$552, 0)) -> 4765917.4
A13: Jelgavas pilsētas slimnīca | B13: =INDEX('Specialisti - aprekini_jaunais'!M$9:M$553, MATCH(A13, 'Specialisti - aprekini_jaunais'!B$9:B$552, 0)) -> 2275616.5 | C13: =B13*0.2359 -> 536817.92 | D13: =INDEX('Specialisti - aprekini_jaunais'!N$9:N$552, MATCH(A13, 'Specialisti - aprekini_jaunais'!B$9:B$552, 0)) -> 110855.04 | F13: =B13*'Darba algas UZŅEMŠANĀ_jaunais'!$BD$19 -> 639903.35 | G13: =B13*'Darba algas UZŅEMŠANĀ_jaunais'!$BE$19 -> 49836.001 | H13: =B13*'Darba algas UZŅEMŠANĀ_jaunais'!$BF$19 -> 79419.015 | I13: =INDEX('Specialisti - aprekini_jaunais'!I$9:I$552, MATCH(A13, 'Specialisti - aprekini_jaunais'!B$9:B$552, 0)) -> 3692447.8
A14: Vidzemes slimnīca | B14: =INDEX('Specialisti - aprekini_jaunais'!M$9:M$553, MATCH(A14, 'Specialisti - aprekini_jaunais'!B$9:B$552, 0)) -> 2275616.5 | C14: =B14*0.2359 -> 536817.92 | D14: =INDEX('Specialisti - aprekini_jaunais'!N$9:N$552, MATCH(A14, 'Specialisti - aprekini_jaunais'!B$9:B$552, 0)) -> 110855.04 | F14: =B14*'Darba algas UZŅEMŠANĀ_jaunais'!$BD$19 -> 639903.35 | G14: =B14*'Darba algas UZŅEMŠANĀ_jaunais'!$BE$19 -> 49836.001 | H14: =B14*'Darba algas UZŅEMŠANĀ_jaunais'!$BF$19 -> 79419.015 | I14: =INDEX('Specialisti - aprekini_jaunais'!I$9:I$552, MATCH(A14, 'Specialisti - aprekini_jaunais'!B$9:B$552, 0)) -> 3692447.8
A15: Jēkabpils reģionālā slimnīca | B15: =INDEX('Specialisti - aprekini_jaunais'!M$9:M$553, MATCH(A15, 'Specialisti - aprekini_jaunais'!B$9:B$552, 0)) -> 2275616.5 | C15: =B15*0.2359 -> 536817.92 | D15: =INDEX('Specialisti - aprekini_jaunais'!N$9:N$552, MATCH(A15, 'Specialisti - aprekini_jaunais'!B$9:B$552, 0)) -> 110855.04 | F15: =B15*'Darba algas UZŅEMŠANĀ_jaunais'!$BD$19 -> 639903.35 | G15: =B15*'Darba algas UZŅEMŠANĀ_jaunais'!$BE$19 -> 49836.001 | H15: =B15*'Darba algas UZŅEMŠANĀ_jaunais'!$BF$19 -> 79419.015 | I15: =INDEX('Specialisti - aprekini_jaunais'!I$9:I$552, MATCH(A15, 'Specialisti - aprekini_jaunais'!B$9:B$552, 0)) -> 3692447.8
A16: Rēzeknes slimnīca | B16: =INDEX('Specialisti - aprekini_jaunais'!M$9:M$553, MATCH(A16, 'Specialisti - aprekini_jaunais'!B$9:B$552, 0)) -> 2275616.5 | C16: =B16*0.2359 -> 536817.92 | D16: =INDEX('Specialisti - aprekini_jaunais'!N$9:N$552, MATCH(A16, 'Specialisti - aprekini_jaunais'!B$9:B$552, 0)) -> 110855.04 | F16: =B16*'Darba algas UZŅEMŠANĀ_jaunais'!$BD$19 -> 639903.35 | G16: =B16*'Darba algas UZŅEMŠANĀ_jaunais'!$BE$19 -> 49836.001 | H16: =B16*'Darba algas UZŅEMŠANĀ_jaunais'!$BF$19 -> 79419.015 | I16: =INDEX('Specialisti - aprekini_jaunais'!I$9:I$552, MATCH(A16, 'Specialisti - aprekini_jaunais'!B$9:B$552, 0)) -> 3692447.8
A17: Madonas slimnīca | B17: =INDEX('Specialisti - aprekini_jaunais'!M$9:M$553, MATCH(A17, 'Specialisti - aprekini_jaunais'!B$9:B$552, 0)) -> 1699478.4 | C17: =B17*0.2359 -> 400906.96 | D17: =INDEX('Specialisti - aprekini_jaunais'!N$9:N$552, MATCH(A17, 'Specialisti - aprekini_jaunais'!B$9:B$552, 0)) -> 83141.28 | F17: =B17*'Darba algas UZŅEMŠANĀ_jaunais'!$BD$19 -> 477893.34 | G17: =B17*'Darba algas UZŅEMŠANĀ_jaunais'!$BE$19 -> 37218.578 | H17: =B17*'Darba algas UZŅEMŠANĀ_jaunais'!$BF$19 -> 59311.797 | I17: =INDEX('Specialisti - aprekini_jaunais'!I$9:I$552, MATCH(A17, 'Specialisti - aprekini_jaunais'!B$9:B$552, 0)) -> 2757950.4
A18: Cēsu klīnika | B18: =INDEX('Specialisti - aprekini_jaunais'!M$9:M$553, MATCH(A18, 'Specialisti - aprekini_jaunais'!B$9:B$552, 0)) -> 1056326.1 | C18: =B18*0.2359 -> 249187.33 | D18: =INDEX('Specialisti - aprekini_jaunais'!N$9:N$552, MATCH(A18, 'Specialisti - aprekini_jaunais'!B$9:B$552, 0)) -> 41570.64 | F18: =B18*'Darba algas UZŅEMŠANĀ_jaunais'!$BD$19-('Darba algas UZŅEMŠANĀ_jaunais'!$BD$19*'Darba algas UZŅEMŠANĀ_jaunais'!BA42) -> 267844.36 | G18: =B18*'Darba algas UZŅEMŠANĀ_jaunais'!$BE$19-('Darba algas UZŅEMŠANĀ_jaunais'!$BE$19*'Darba algas UZŅEMŠANĀ_jaunais'!BA42) -> 20859.856 | H18: =B18*'Darba algas UZŅEMŠANĀ_jaunais'!$BF$19-('Darba algas UZŅEMŠANĀ_jaunais'!$BF$19*'Darba algas UZŅEMŠANĀ_jaunais'!BA42) -> 33242.419 | I18: =INDEX('Specialisti - aprekini_jaunais'!I$9:I$552, MATCH(A18, 'Specialisti - aprekini_jaunais'!B$9:B$552, 0)) -> 1669030.7
