Workbook

Sheet KOPSAVILKUMS
E1: 4. pielikums Informatīvajam ziņojumam par izmaiņām slimnīcu tīklā
B2: Finansējums uzņemšanas nodaļu un dežūrārstu nodrošināšanai
B4: Kopā, EUR | C4: Neatliekamās medicīnas un pacientu uzņemšanas nodaļa, EUR* | D4: Dežūrārsti no 16.00-08.00 darba dienas, EUR | E4: Dežūrārsti no 8.00-16.00 brīvdienas, EUR | F4: Kopā nepieciešams finansējums dežūrārstiem, EUR
A5: ='Specialisti - aprekini_jaunais'!B9 -> Rīgas Austrumu klīniskā universitātes slimnīca | B5: ='Specialisti - aprekini_jaunais'!E22 -> 26021335 | C5: ='Specialisti - aprekini_jaunais'!F22 -> 19752870 | D5: ='Specialisti - aprekini_jaunais'!G22 -> 5174010 | E5: ='Specialisti - aprekini_jaunais'!H22 -> 1094455 | F5: =D5+E5 -> 6268465
A6: ='Specialisti - aprekini_jaunais'!B23 -> Paula Stradiņa klīniskā universitātes slimnīca | B6: ='Specialisti - aprekini_jaunais'!E39 -> 19610108 | C6: ='Specialisti - aprekini_jaunais'!F39 -> 15085647 | D6: ='Specialisti - aprekini_jaunais'!G39 -> 3827630.2 | E6: ='Specialisti - aprekini_jaunais'!H39 -> 696830.95 | F6: =D6+E6 -> 4524461.1
A7: ='Specialisti - aprekini_jaunais'!B40 -> Bērnu klīniskā universitātes slimnīca | B7: ='Specialisti - aprekini_jaunais'!E57 -> 11526890 | C7: ='Specialisti - aprekini_jaunais'!F57 -> 10133954 | D7: ='Specialisti - aprekini_jaunais'!G57 -> 1280110.3 | E7: ='Specialisti - aprekini_jaunais'!H57 -> 112825.41 | F7: =D7+E7 -> 1392935.7
A8: ='Specialisti - aprekini_jaunais'!B58 -> Rīgas Dzemdību nams | B8: ='Specialisti - aprekini_jaunais'!E75 -> 3578236.9 | C8: ='Specialisti - aprekini_jaunais'!F75 -> 1907431 | D8: ='Specialisti - aprekini_jaunais'!G75 -> 1360462.9 | E8: ='Specialisti - aprekini_jaunais'!H75 -> 310343 | F8: =D8+E8 -> 1670805.9
A9: ='Specialisti - aprekini_jaunais'!B76 -> Traumatoloģijas un ortopēdijas slimnīca | B9: ='Specialisti - aprekini_jaunais'!E93 -> 6574686.8 | C9: ='Specialisti - aprekini_jaunais'!F93 -> 6057723 | D9: ='Specialisti - aprekini_jaunais'!G93 -> 426703.44 | E9: ='Specialisti - aprekini_jaunais'!H93 -> 90260.327 | F9: =D9+E9 -> 516963.76
A10: ='Specialisti - aprekini_jaunais'!B94 -> Jūrmalas slimnīca | B10: ='Specialisti - aprekini_jaunais'!E111 -> 2857366.5 | C10: ='Specialisti - aprekini_jaunais'!F111 -> 2757950.4 | D10: ='Specialisti - aprekini_jaunais'!G111 -> 82058.353 | E10: ='Specialisti - aprekini_jaunais'!H111 -> 17357.755 | F10: =D10+E10 -> 99416.108
A11: ='Specialisti - aprekini_jaunais'!B112 -> Siguldas slimnīca | B11: ='Specialisti - aprekini_jaunais'!E129 -> 1509518 | C11: ='Specialisti - aprekini_jaunais'!F129 -> 1248497.1 | D11: ='Specialisti - aprekini_jaunais'!G129 -> 215447.5 | E11: ='Specialisti - aprekini_jaunais'!H129 -> 45573.482 | F11: =D11+E11 -> 261020.98
A12: ='Specialisti - aprekini_jaunais'!B130 -> Rīgas 2. slimnīca | B12: ='Specialisti - aprekini_jaunais'!E147 -> 1570510.2 | C12: ='Specialisti - aprekini_jaunais'!F147 -> 1309489.2 | D12: ='Specialisti - aprekini_jaunais'!G147 -> 215447.5 | E12: ='Specialisti - aprekini_jaunais'!H147 -> 45573.482 | F12: =D12+E12 -> 261020.98
A13: ='Specialisti - aprekini_jaunais'!B149 -> Liepājas reģionālā slimnīca | B13: ='Specialisti - aprekini_jaunais'!E166 -> 4539459.9 | C13: ='Specialisti - aprekini_jaunais'!F166 -> 3923676.6 | D13: ='Specialisti - aprekini_jaunais'!G166 -> 518136.62 | E13: ='Specialisti - aprekini_jaunais'!H166 -> 97646.747 | F13: =D13+E13 -> 615783.37
A14: ='Specialisti - aprekini_jaunais'!B167 -> Kuldīgas slimnīca | B14: ='Specialisti - aprekini_jaunais'!E184 -> 2312202.8 | C14: ='Specialisti - aprekini_jaunais'!F184 -> 1951765.7 | D14: ='Specialisti - aprekini_jaunais'!G184 -> 297505.85 | E14: ='Specialisti - aprekini_jaunais'!H184 -> 62931.237 | F14: =D14+E14 -> 360437.09
A15: ='Specialisti - aprekini_jaunais'!B189 -> Ziemeļkurzemes reģionālā slimnīca, tajā skaitā Talsi | B15: ='Specialisti - aprekini_jaunais'!E207 -> 5225770.6 | C15: ='Specialisti - aprekini_jaunais'!F207 -> 4765917.4 | D15: ='Specialisti - aprekini_jaunais'!G207 -> 379564.2 | E15: ='Specialisti - aprekini_jaunais'!H207 -> 80288.992 | F15: =D15+E15 -> 459853.19
A16: ='Specialisti - aprekini_jaunais'!B208 -> Tukuma slimnīca | B16: ='Specialisti - aprekini_jaunais'!E225 -> 1562219.1 | C16: ='Specialisti - aprekini_jaunais'!F225 -> 1201782 | D16: ='Specialisti - aprekini_jaunais'!G225 -> 297505.85 | E16: ='Specialisti - aprekini_jaunais'!H225 -> 62931.237 | F16: =D16+E16 -> 360437.09
A17: ='Specialisti - aprekini_jaunais'!B227 -> Daugavpils reģionālā slimnīca | B17: ='Specialisti - aprekini_jaunais'!E244 -> 5285630.6 | C17: ='Specialisti - aprekini_jaunais'!F244 -> 4626945.2 | D17: ='Specialisti - aprekini_jaunais'!G244 -> 543680.91 | E17: ='Specialisti - aprekini_jaunais'!H244 -> 115004.5 | F17: =D17+E17 -> 658685.41
A18: ='Specialisti - aprekini_jaunais'!B245 -> Krāslavas slimnīca | B18: ='Specialisti - aprekini_jaunais'!E262 -> 1363386.9 | C18: ='Specialisti - aprekini_jaunais'!F262 -> 1201782 | D18: ='Specialisti - aprekini_jaunais'!G262 -> 133389.14 | E18: ='Specialisti - aprekini_jaunais'!H262 -> 28215.727 | F18: =D18+E18 -> 161604.87
A19: ='Specialisti - aprekini_jaunais'!B263 -> Preiļu slimnīca | B19: ='Specialisti - aprekini_jaunais'!E280 -> 1976766.7 | C19: ='Specialisti - aprekini_jaunais'!F280 -> 1715745.8 | D19: ='Specialisti - aprekini_jaunais'!G280 -> 215447.5 | E19: ='Specialisti - aprekini_jaunais'!H280 -> 45573.482 | F19: =D19+E19 -> 261020.98
A20: ='Specialisti - aprekini_jaunais'!B281 -> Rēzeknes slimnīca | B20: ='Specialisti - aprekini_jaunais'!E298 -> 4152301 | C20: ='Specialisti - aprekini_jaunais'!F298 -> 3692447.8 | D20: ='Specialisti - aprekini_jaunais'!G298 -> 379564.2 | E20: ='Specialisti - aprekini_jaunais'!H298 -> 80288.992 | F20: =D20+E20 -> 459853.19
A21: ='Specialisti - aprekini_jaunais'!B299 -> Līvānu slimnīca | B21: ='Specialisti - aprekini_jaunais'!E316 -> 893963.44 | C21: ='Specialisti - aprekini_jaunais'!F316 -> 837449.37 | D21: ='Specialisti - aprekini_jaunais'!G316 -> 56514.07 | E21: ='Specialisti - aprekini_jaunais'!H316 -> 0 | F21: =D21+E21 -> 56514.07
A22: ='Specialisti - aprekini_jaunais'!B317 -> Ludzas slimnīca | B22: ='Specialisti - aprekini_jaunais'!E334 -> 893963.44 | C22: ='Specialisti - aprekini_jaunais'!F334 -> 837449.37 | D22: ='Specialisti - aprekini_jaunais'!G334 -> 56514.07 | E22: ='Specialisti - aprekini_jaunais'!H334 -> 0 | F22: =D22+E22 -> 56514.07
A23: ='Specialisti - aprekini_jaunais'!B335 -> Balvu un Gulbenes slimnīcu apvienība | B23: ='Specialisti - aprekini_jaunais'!E352 -> 2378675.3 | C23: ='Specialisti - aprekini_jaunais'!F352 -> 2182994.5 | D23: ='Specialisti - aprekini_jaunais'!G352 -> 133389.14 | E23: ='Specialisti - aprekini_jaunais'!H352 -> 62291.727 | F23: =D23+E23 -> 195680.87
A24: ='Specialisti - aprekini_jaunais'!B354 -> Vidzemes slimnīca | B24: ='Specialisti - aprekini_jaunais'!E371 -> 4549965.4 | C24: ='Specialisti - aprekini_jaunais'!F371 -> 3692447.8 | D24: ='Specialisti - aprekini_jaunais'!G371 -> 707797.61 | E24: ='Specialisti - aprekini_jaunais'!H371 -> 149720.01 | F24: =D24+E24 -> 857517.63
A25: ='Specialisti - aprekini_jaunais'!B372 -> Cēsu klīnika | B25: ='Specialisti - aprekini_jaunais'!E389 -> 1930051.7 | C25: ='Specialisti - aprekini_jaunais'!F389 -> 1669030.7 | D25: ='Specialisti - aprekini_jaunais'!G389 -> 215447.5 | E25: ='Specialisti - aprekini_jaunais'!H389 -> 45573.482 | F25: =D25+E25 -> 261020.98
A26: ='Specialisti - aprekini_jaunais'!B390 -> Limbažu slimnīca | B26: ='Specialisti - aprekini_jaunais'!E407 -> 993379.54 | C26: ='Specialisti - aprekini_jaunais'!F407 -> 837449.37 | D26: ='Specialisti - aprekini_jaunais'!G407 -> 138572.42 | E26: ='Specialisti - aprekini_jaunais'!H407 -> 17357.755 | F26: =D26+E26 -> 155930.18
A27: ='Specialisti - aprekini_jaunais'!B408 -> Madonas slimnīca | B27: ='Specialisti - aprekini_jaunais'!E425 -> 3018971.4 | C27: ='Specialisti - aprekini_jaunais'!F425 -> 2757950.4 | D27: ='Specialisti - aprekini_jaunais'!G425 -> 215447.5 | E27: ='Specialisti - aprekini_jaunais'!H425 -> 45573.482 | F27: =D27+E27 -> 261020.98
A28: ='Specialisti - aprekini_jaunais'!B426 -> Alūksnes slimnīca | B28: ='Specialisti - aprekini_jaunais'!E443 -> 1830635.6 | C28: ='Specialisti - aprekini_jaunais'!F443 -> 1669030.7 | D28: ='Specialisti - aprekini_jaunais'!G443 -> 133389.14 | E28: ='Specialisti - aprekini_jaunais'!H443 -> 28215.727 | F28: =D28+E28 -> 161604.87
A29: ='Specialisti - aprekini_jaunais'!B444 -> Ogres rajona slimnīca | B29: ='Specialisti - aprekini_jaunais'!E461 -> 2543431.5 | C29: ='Specialisti - aprekini_jaunais'!F461 -> 2182994.5 | D29: ='Specialisti - aprekini_jaunais'!G461 -> 297505.85 | E29: ='Specialisti - aprekini_jaunais'!H461 -> 62931.237 | F29: =D29+E29 -> 360437.09
A30: ='Specialisti - aprekini_jaunais'!B463 -> Jelgavas pilsētas slimnīca | B30: ='Specialisti - aprekini_jaunais'!E480 -> 4251717.1 | C30: ='Specialisti - aprekini_jaunais'!F480 -> 3692447.8 | D30: ='Specialisti - aprekini_jaunais'!G480 -> 461622.55 | E30: ='Specialisti - aprekini_jaunais'!H480 -> 97646.747 | F30: =D30+E30 -> 559269.3
A31: ='Specialisti - aprekini_jaunais'!B481 -> Dobeles slimnīca | B31: ='Specialisti - aprekini_jaunais'!E498 -> 2575828.1 | C31: ='Specialisti - aprekini_jaunais'!F498 -> 2414223.2 | D31: ='Specialisti - aprekini_jaunais'!G498 -> 133389.14 | E31: ='Specialisti - aprekini_jaunais'!H498 -> 28215.727 | F31: =D31+E31 -> 161604.87
A32: ='Specialisti - aprekini_jaunais'!B499 -> Bauskas slimnīca | B32: ='Specialisti - aprekini_jaunais'!E516 -> 893963.44 | C32: ='Specialisti - aprekini_jaunais'!F516 -> 837449.37 | D32: ='Specialisti - aprekini_jaunais'!G516 -> 56514.07 | E32: ='Specialisti - aprekini_jaunais'!H516 -> 0 | F32: =D32+E32 -> 56514.07
A33: ='Specialisti - aprekini_jaunais'!B517 -> Jēkabpils reģionālā slimnīca | B33: ='Specialisti - aprekini_jaunais'!E534 -> 4251717.1 | C33: ='Specialisti - aprekini_jaunais'!F534 -> 3692447.8 | D33: ='Specialisti - aprekini_jaunais'!G534 -> 461622.55 | E33: ='Specialisti - aprekini_jaunais'!H534 -> 97646.747 | F33: =D33+E33 -> 559269.3
A34: ='Specialisti - aprekini_jaunais'!B535 -> Aizkraukles slimnīca | B34: ='Specialisti - aprekini_jaunais'!E552 -> 893963.44 | C34: ='Specialisti - aprekini_jaunais'!F552 -> 837449.37 | D34: ='Specialisti - aprekini_jaunais'!G552 -> 56514.07 | E34: ='Specialisti - aprekini_jaunais'!H552 -> 0 | F34: =D34+E34 -> 56514.07
B35: =SUM(B5:B34) -> 1.3156662e+08 | C35: =SUM(C5:C34) -> 1.0947444e+08 | D35: =SUM(D5:D34) -> 18470904 | E35: =SUM(E5:E34) -> 3621273 | F35: =SUM(F5:F34) -> 22092177
A37: *finansējuma sadalījumā netiek iekļautas psihoneiroloģiskās slimnīcas, jo tām finansēšanas modelis saglabājas līdzšinējā kārtībā

Sheet Specialisti - aprekini_jaunais
L1: 4.1. pielikums
A5: Veselības aprūpes pakalpojumi pa plānošans reģionu teritorijām*
A6: Līmenis | B6: Nosaukums | C6: Esošie veselības aprūpes pakalpojumu profili | D6: Turpmāk sniegtie pakalpojumi | E6: Neatliekamās medicīnas un pacientu uzņemšanas nodaļa | G6: Dežūrārsti no 16.00-08.00 darba dienas | H6: Dežūrārsti no 8.00-16.00 brīvdienas | I6: Neatliekamās medicīnas un pacientu uzņemšanas nodaļa, EUR | J6: Dežūrārsti darba dienas, EUR | K6: Dežūrārsti brīvdienas, EUR | L6: KOPĀ EUR
E7: Speciālisti | F7: Posteņu skaits | G7: Ārstu skaits | H7: Ārstu skaits
A8: Rīgas plānošanas reģions | M8: D | N8: M
A9: Klīniskās universitātes slimnīca | B9: Rīgas Austrumu klīniskā universitātes slimnīca | C9: Terapija | D9: Internā medicīna | E9: Kopā ārsti | F9: 28 | G9: =SUM(G10:G17,G19) -> 46 | H9: =SUM(H10:H17,H19) -> 46 | I9: =ROUND(SUM(I10:I21),0) -> 19752870 | J9: =ROUND(SUM(J10:J21),0) -> 5174010 | K9: =ROUND(SUM(K10:K21),0) -> 1094455 | L9: =SUM(I9:K9) -> 26021335 | M9: =SUM(M10:M21) -> 12303752 | N9: =F9*'Darba algas UZŅEMŠANĀ_jaunais'!BE15 -> 387992.64
C10: Hronisko pacientu aprūpe (izvēles) | D10: Aprūpe | E10: Internisti | F10: 2 | G10: 6 | H10: 6 | I10: =ROUND(F10*'Darba algas UZŅEMŠANĀ_jaunais'!$BD$3,0) -> 605338 | J10: =G10*'Darba algas UZŅEMŠANĀ_jaunais'!$BB$3 -> 640055.15 | K10: =H10*'Darba algas UZŅEMŠANĀ_jaunais'!$BA$3 -> 135390.49 | M10: =F10*'Darba algas UZŅEMŠANĀ_jaunais'!$BA$19 -> 367001.69
C11: Aprūpe | D11: Ķirurģija | E11: Neatliekamās medicīnas ārsti | F11: 5 | G11: 0 | H11: 0 | I11: =ROUND(F11*'Darba algas UZŅEMŠANĀ_jaunais'!$BD$3,0) -> 1513344 | J11: =G11*'Darba algas UZŅEMŠANĀ_jaunais'!$BB$3 -> 0 | K11: =H11*'Darba algas UZŅEMŠANĀ_jaunais'!$BA$3 -> 0 | M11: =F11*'Darba algas UZŅEMŠANĀ_jaunais'!$BA$19 -> 917504.22
C12: Ķirurģija | D12: Ginekoloģija | E12: Ķirurgi | F12: 4 | G12: 8 | H12: 8 | I12: =ROUND(F12*'Darba algas UZŅEMŠANĀ_jaunais'!$BD$3,0) -> 1210675 | J12: =G12*'Darba algas UZŅEMŠANĀ_jaunais'!$BB$3 -> 853406.87 | K12: =H12*'Darba algas UZŅEMŠANĀ_jaunais'!$BA$3 -> 180520.65 | M12: =F12*'Darba algas UZŅEMŠANĀ_jaunais'!$BA$19 -> 734003.37
C13: Ginekoloģija | D13: Traumatoloģija, ortopēdija | E13: Ginekologi, dzemdību speciālisti | F13: 2 | G13: 1 | H13: 1 | I13: =ROUND(F13*'Darba algas UZŅEMŠANĀ_jaunais'!$BD$3,0) -> 605338 | J13: =G13*'Darba algas UZŅEMŠANĀ_jaunais'!$BB$3 -> 106675.86 | K13: =H13*'Darba algas UZŅEMŠANĀ_jaunais'!$BA$3 -> 22565.082 | M13: =F13*'Darba algas UZŅEMŠANĀ_jaunais'!$BA$19 -> 367001.69
C14: Grūtnieču patoloģija | D14: Insulta vienība | E14: Traumatologi,ortopēdi | F14: 1 | G14: 1 | H14: 1 | I14: =ROUND(F14*'Darba algas UZŅEMŠANĀ_jaunais'!$BD$3,0) -> 302669 | J14: =G14*'Darba algas UZŅEMŠANĀ_jaunais'!$BB$3 -> 106675.86 | K14: =H14*'Darba algas UZŅEMŠANĀ_jaunais'!$BA$3 -> 22565.082 | M14: =F14*'Darba algas UZŅEMŠANĀ_jaunais'!$BA$19 -> 183500.84
C15: Traumatoloģija, ortopēdija | D15: Specializētā un terciārā palīdzība | E15: Neirologi | F15: 2 | G15: 1 | H15: 1 | I15: =ROUND(F15*'Darba algas UZŅEMŠANĀ_jaunais'!$BD$3,0) -> 605338 | J15: =G15*'Darba algas UZŅEMŠANĀ_jaunais'!$BB$3 -> 106675.86 | K15: =H15*'Darba algas UZŅEMŠANĀ_jaunais'!$BA$3 -> 22565.082 | M15: =F15*'Darba algas UZŅEMŠANĀ_jaunais'!$BA$19 -> 367001.69
C16: Insulta vienība | E16: Anesteziologi, reanimatologi | F16: 2 | G16: 2 | H16: 2 | I16: =ROUND(F16*'Darba algas UZŅEMŠANĀ_jaunais'!$BD$3,0) -> 605338 | J16: =G16*'Darba algas UZŅEMŠANĀ_jaunais'!$BB$3 -> 213351.72 | K16: =H16*'Darba algas UZŅEMŠANĀ_jaunais'!$BA$3 -> 45130.163 | M16: =F16*'Darba algas UZŅEMŠANĀ_jaunais'!$BA$19 -> 367001.69
C17: Specializētā un terciārā palīdzība | E17: Radiologi | F17: 2 | G17: 2 | H17: 2 | I17: =ROUND(F17*'Darba algas UZŅEMŠANĀ_jaunais'!$BD$3,0) -> 605338 | J17: =G17*'Darba algas UZŅEMŠANĀ_jaunais'!$BB$3 -> 213351.72 | K17: =H17*'Darba algas UZŅEMŠANĀ_jaunais'!$BA$3 -> 45130.163 | M17: =F17*'Darba algas UZŅEMŠANĀ_jaunais'!$BA$19 -> 367001.69
E18: Radiologa asist./radiogrāferi | F18: 2 | G18: 2 | H18: 2 | I18: =ROUND(F18*'Darba algas UZŅEMŠANĀ_jaunais'!$BD$5,0) -> 361327 | J18: =G18*'Darba algas UZŅEMŠANĀ_jaunais'!$BB$5 -> 133460.05 | K18: =H18*'Darba algas UZŅEMŠANĀ_jaunais'!$BA$5 -> 28230.726 | M18: =F18*'Darba algas UZŅEMŠANĀ_jaunais'!$BA$26 -> 229574.27
E19: Citi speciālisti | F19: 8 | G19: 25 | H19: 25 | I19: =ROUND(F19*'Darba algas UZŅEMŠANĀ_jaunais'!$BD$3,0) -> 2421351 | J19: =G19*'Darba algas UZŅEMŠANĀ_jaunais'!$BB$3 -> 2666896.5 | K19: =H19*'Darba algas UZŅEMŠANĀ_jaunais'!$BA$3 -> 564127.04 | M19: =F19*'Darba algas UZŅEMŠANĀ_jaunais'!$BA$19 -> 1468006.7
E20: Māsas | F20: 40 | G20: 2 | H20: 2 | I20: =ROUND(F20*'Darba algas UZŅEMŠANĀ_jaunais'!$BD$5,0) -> 7226539 | J20: =G20*'Darba algas UZŅEMŠANĀ_jaunais'!$BB$5 -> 133460.05 | K20: =H20*'Darba algas UZŅEMŠANĀ_jaunais'!$BA$5 -> 28230.726 | M20: =F20*'Darba algas UZŅEMŠANĀ_jaunais'!$BA$26 -> 4591485.3
E21: Māsas palīgi | F21: 40 | G21: 0 | H21: 0 | I21: =ROUND(F21*'Darba algas UZŅEMŠANĀ_jaunais'!$BD$6,0) -> 3690275 | J21: =ROUND(G21*'Darba algas UZŅEMŠANĀ_jaunais'!$BA$6,0) -> 0 | K21: =ROUND(H21*'Darba algas UZŅEMŠANĀ_jaunais'!$BB$6,0) -> 0 | M21: =F21*'Darba algas UZŅEMŠANĀ_jaunais'!$BA$33 -> 2344669
D22: Maksājuma apmērs, EUR | E22: =SUM(F22:H22) -> 26021335 | F22: =I9 -> 19752870 | G22: =J9 -> 5174010 | H22: =K9 -> 1094455
A23: Klīniskās universitātes slimnīca | B23: Paula Stradiņa klīniskā universitātes slimnīca | C23: Terapija | D23: Internā medicīna | E23: Kopā ārsti | F23: =F24+F26+F29+F33+F3+F35+F30+F31+F28+F27+F25+F32 -> 21 | G23: 29 | H23: =H24+H26+H29+H33+H3+H35+H30+H31+H28+H27+H25+H32 -> 29 | I23: =SUM(I24:I38) -> 15085647 | J23: =SUM(J24:J38) -> 3827630.2 | K23: =SUM(K24:K38) -> 696830.95 | L23: =SUM(I23:K23) -> 19610108 | M23: =SUM(M24:M38) -> 9399994.9 | N23: =F23*'Darba algas UZŅEMŠANĀ_jaunais'!BE15 -> 290994.48
C24: Hronisko pacientu aprūpe (izvēles) | D24: Aprūpe | E24: Internisti | F24: 0 | G24: 1 | H24: 1 | I24: =ROUND(F24*'Darba algas UZŅEMŠANĀ_jaunais'!$BD$3,0) -> 0 | J24: =G24*'Darba algas UZŅEMŠANĀ_jaunais'!$BB$3 -> 106675.86 | K24: =H24*'Darba algas UZŅEMŠANĀ_jaunais'!$BA$3 -> 22565.082 | M24: =F24*'Darba algas UZŅEMŠANĀ_jaunais'!$BA$19 -> 0
C25: Aprūpe | D25: Ķirurģija | E25: Neatliekamās medicīnas ārsti | F25: 7 | G25: 0 | H25: 0 | I25: =ROUND(F25*'Darba algas UZŅEMŠANĀ_jaunais'!$BD$3,0) -> 2118682 | J25: =G25*'Darba algas UZŅEMŠANĀ_jaunais'!$BB$3 -> 0 | K25: =H25*'Darba algas UZŅEMŠANĀ_jaunais'!$BA$3 -> 0 | M25: =F25*'Darba algas UZŅEMŠANĀ_jaunais'!$BA$19 -> 1284505.9
C26: Ķirurģija | D26: Ginekoloģija | E26: Ķirurgi | F26: 1 | G26: 6 | H26: 6 | I26: =ROUND(F26*'Darba algas UZŅEMŠANĀ_jaunais'!$BD$3,0) -> 302669 | J26: =G26*'Darba algas UZŅEMŠANĀ_jaunais'!$BB$3 -> 640055.15 | K26: =H26*'Darba algas UZŅEMŠANĀ_jaunais'!$BA$3 -> 135390.49 | M26: =F26*'Darba algas UZŅEMŠANĀ_jaunais'!$BA$19 -> 183500.84
C27: Ginekoloģija | D27: Grūtniecības un dzmedību aprūpe | E27: Ginekologi, dzemdību speciālisti | F27: 1 | G27: 1 | H27: 1 | I27: =ROUND(F27*'Darba algas UZŅEMŠANĀ_jaunais'!$BD$3,0) -> 302669 | J27: =G27*'Darba algas UZŅEMŠANĀ_jaunais'!$BB$3 -> 106675.86 | K27: =H27*'Darba algas UZŅEMŠANĀ_jaunais'!$BA$3 -> 22565.082 | M27: =F27*'Darba algas UZŅEMŠANĀ_jaunais'!$BA$19 -> 183500.84
C28: Grūtniecības un dzmedību aprūpe | D28: Grūtnieču patoloģija | E28: Traumatologi,ortopēdi | F28: 0 | G28: 0 | H28: 0 | I28: =ROUND(F28*'Darba algas UZŅEMŠANĀ_jaunais'!$BD$3,0) -> 0 | J28: =G28*'Darba algas UZŅEMŠANĀ_jaunais'!$BB$3 -> 0 | K28: =H28*'Darba algas UZŅEMŠANĀ_jaunais'!$BA$3 -> 0 | M28: =F28*'Darba algas UZŅEMŠANĀ_jaunais'!$BA$19 -> 0
C29: Grūtnieču patoloģija | D29: Traumatoloģija, ortopēdija | E29: Neirologi | F29: 1 | G29: 1 | H29: 1 | I29: =ROUND(F29*'Darba algas UZŅEMŠANĀ_jaunais'!$BD$3,0) -> 302669 | J29: =G29*'Darba algas UZŅEMŠANĀ_jaunais'!$BB$3 -> 106675.86 | K29: =H29*'Darba algas UZŅEMŠANĀ_jaunais'!$BA$3 -> 22565.082 | M29: =F29*'Darba algas UZŅEMŠANĀ_jaunais'!$BA$19 -> 183500.84
C30: Traumatoloģija, ortopēdija | D30: Insulta vienība | E30: Pediatrs | F30: 0 | G30: 0 | H30: 0 | I30: =ROUND(F30*'Darba algas UZŅEMŠANĀ_jaunais'!$BD$3,0) -> 0 | J30: =G30*'Darba algas UZŅEMŠANĀ_jaunais'!$BB$3 -> 0 | K30: =H30*'Darba algas UZŅEMŠANĀ_jaunais'!$BA$3 -> 0 | M30: =F30*'Darba algas UZŅEMŠANĀ_jaunais'!$BA$19 -> 0
C31: Insulta vienība | D31: Specializētā un terciārā palīdzība | E31: Neonatologs | F31: 1 | G31: 1 | H31: 1 | I31: =ROUND(F31*'Darba algas UZŅEMŠANĀ_jaunais'!$BD$3,0) -> 302669 | J31: =G31*'Darba algas UZŅEMŠANĀ_jaunais'!$BB$3 -> 106675.86 | K31: =H31*'Darba algas UZŅEMŠANĀ_jaunais'!$BA$3 -> 22565.082 | M31: =F31*'Darba algas UZŅEMŠANĀ_jaunais'!$BA$19 -> 183500.84
C32: Specializētā un terciārā palīdzība | E32: Anesteziologi, reanimatologi | F32: 2 | G32: 8 | H32: 8 | I32: =ROUND(F32*'Darba algas UZŅEMŠANĀ_jaunais'!$BD$3,0) -> 605338 | J32: =G32*'Darba algas UZŅEMŠANĀ_jaunais'!$BB$3 -> 853406.87 | K32: =H32*'Darba algas UZŅEMŠANĀ_jaunais'!$BA$3 -> 180520.65 | M32: =F32*'Darba algas UZŅEMŠANĀ_jaunais'!$BA$19 -> 367001.69
E33: Radiologi | F33: 2 | G33: 3 | H33: 3 | I33: =ROUND(F33*'Darba algas UZŅEMŠANĀ_jaunais'!$BD$3,0) -> 605338 | J33: =G33*'Darba algas UZŅEMŠANĀ_jaunais'!$BB$3 -> 320027.58 | K33: =H33*'Darba algas UZŅEMŠANĀ_jaunais'!$BA$3 -> 67695.245 | M33: =F33*'Darba algas UZŅEMŠANĀ_jaunais'!$BA$19 -> 367001.69
E34: Radiologa asist./radiogrāferi | F34: 1 | G34: 3 | H34: 3 | I34: =ROUND(F34*'Darba algas UZŅEMŠANĀ_jaunais'!$BD$5,0) -> 180663 | J34: =G34*'Darba algas UZŅEMŠANĀ_jaunais'!$BB$5 -> 200190.08 | K34: =H34*'Darba algas UZŅEMŠANĀ_jaunais'!$BA$5 -> 42346.089 | M34: =F34*'Darba algas UZŅEMŠANĀ_jaunais'!$BA$26 -> 114787.13
E35: Citi speciālisti | F35: 6 | G35: 8 | H35: 8 | I35: =ROUND(F35*'Darba algas UZŅEMŠANĀ_jaunais'!$BD$3,0) -> 1816013 | J35: =G35*'Darba algas UZŅEMŠANĀ_jaunais'!$BB$3 -> 853406.87 | K35: =H34*'Darba algas UZŅEMŠANĀ_jaunais'!$BA$3 -> 67695.245 | M35: =F35*'Darba algas UZŅEMŠANĀ_jaunais'!$BA$19 -> 1101005.1
E36: Māsas | F36: 30 | G36: 8 | H36: 8 | I36: =ROUND(F36*'Darba algas UZŅEMŠANĀ_jaunais'!$BD$5,0) -> 5419904 | J36: =G36*'Darba algas UZŅEMŠANĀ_jaunais'!$BB$5 -> 533840.21 | K36: =H36*'Darba algas UZŅEMŠANĀ_jaunais'!$BA$5 -> 112922.91 | M36: =F36*'Darba algas UZŅEMŠANĀ_jaunais'!$BA$26 -> 3443614
E37: Vecmātes | F37: 2 | G37: 0 | H37: 0 | I37: =ROUND(F37*'Darba algas UZŅEMŠANĀ_jaunais'!$BD$5,0) -> 361327 | J37: =G37*'Darba algas UZŅEMŠANĀ_jaunais'!$BB$5 -> 0 | K37: =H37*'Darba algas UZŅEMŠANĀ_jaunais'!$BA$5 -> 0 | M37: =F37*'Darba algas UZŅEMŠANĀ_jaunais'!$BA$26 -> 229574.27
E38: Māsas palīgs | F38: 30 | G38: 0 | H38: 0 | I38: =ROUND(F38*'Darba algas UZŅEMŠANĀ_jaunais'!$BD$6,0) -> 2767706 | J38: =ROUND(G38*'Darba algas UZŅEMŠANĀ_jaunais'!$BA$6,0) -> 0 | K38: =ROUND(H38*'Darba algas UZŅEMŠANĀ_jaunais'!$BB$6,0) -> 0 | M38: =F38*'Darba algas UZŅEMŠANĀ_jaunais'!$BA$33 -> 1758501.8
D39: Maksājuma apmērs, EUR | E39: =SUM(F39:H39) -> 19610108 | F39: =I23 -> 15085647 | G39: =J23 -> 3827630.2 | H39: =K23 -> 696830.95
A40: Klīniskās universitātes slimnīca | B40: Bērnu klīniskā universitātes slimnīca | C40: Pediatrija | D40: Pediatrija | E40: Kopā ārsti | F40: =SUM(F41:F50,F52) -> 14 | G40: =SUM(G41:G50,G52) -> 12 | H40: =SUM(H41:H50,H52) -> 12 | I40: =SUM(I41:I56) -> 10133954 | J40: =SUM(J41:J56) -> 1280110.3 | K40: =SUM(K41:K56) -> 112825.41 | L40: =SUM(I40:K40) -> 11526890 | M40: =SUM(M41:M56) -> 6315494.7 | N40: =F40*'Darba algas UZŅEMŠANĀ_jaunais'!BE15 -> 193996.32
C41: Specializētā un terciārā palīdzība bērniem | D41: Specializētā un terciārā palīdzība bērniem | E41: Internisti | F41: 0 | G41: 0 | H41: 0 | I41: =ROUND(F41*'Darba algas UZŅEMŠANĀ_jaunais'!$BD$3,0) -> 0 | J41: =G41*'Darba algas UZŅEMŠANĀ_jaunais'!$BB$3 -> 0 | K41: =H41*'Darba algas UZŅEMŠANĀ_jaunais'!$BA$3 -> 0 | M41: =F41*'Darba algas UZŅEMŠANĀ_jaunais'!$BA$19 -> 0
E42: Neatliekamās medicīnas ārsti | F42: 0 | G42: 0 | H42: 0 | I42: =ROUND(F42*'Darba algas UZŅEMŠANĀ_jaunais'!$BD$3,0) -> 0 | J42: =G42*'Darba algas UZŅEMŠANĀ_jaunais'!$BB$3 -> 0 | K42: =H42*'Darba algas UZŅEMŠANĀ_jaunais'!$BA$3 -> 0 | M42: =F42*'Darba algas UZŅEMŠANĀ_jaunais'!$BA$19 -> 0
E43: Ķirurgi | F43: 2 | G43: 1 | H43: 1 | I43: =ROUND(F43*'Darba algas UZŅEMŠANĀ_jaunais'!$BD$3,0) -> 605338 | J43: =G43*'Darba algas UZŅEMŠANĀ_jaunais'!$BB$3 -> 106675.86 | K43: =H43*'Darba algas UZŅEMŠANĀ_jaunais'!$BA$3 -> 22565.082 | M43: =F43*'Darba algas UZŅEMŠANĀ_jaunais'!$BA$19 -> 367001.69
E44: Ginekologi, dzemdību speciālisti | F44: 0 | G44: 1 | H44: 1 | I44: =ROUND(F44*'Darba algas UZŅEMŠANĀ_jaunais'!$BD$3,0) -> 0 | J44: =G44*'Darba algas UZŅEMŠANĀ_jaunais'!$BB$3 -> 106675.86 | K44: =H44*'Darba algas UZŅEMŠANĀ_jaunais'!$BA$3 -> 22565.082 | M44: =F44*'Darba algas UZŅEMŠANĀ_jaunais'!$BA$19 -> 0
E45: Traumatologi,ortopēdi | F45: 0 | G45: 1 | H45: 1 | I45: =ROUND(F45*'Darba algas UZŅEMŠANĀ_jaunais'!$BD$3,0) -> 0 | J45: =G45*'Darba algas UZŅEMŠANĀ_jaunais'!$BB$3 -> 106675.86 | K45: =H45*'Darba algas UZŅEMŠANĀ_jaunais'!$BA$3 -> 22565.082 | M45: =F45*'Darba algas UZŅEMŠANĀ_jaunais'!$BA$19 -> 0
E46: Neirologi | F46: 0 | G46: 0 | H46: 0 | I46: =ROUND(F46*'Darba algas UZŅEMŠANĀ_jaunais'!$BD$3,0) -> 0 | J46: =G46*'Darba algas UZŅEMŠANĀ_jaunais'!$BB$3 -> 0 | K46: =H46*'Darba algas UZŅEMŠANĀ_jaunais'!$BA$3 -> 0 | M46: =F46*'Darba algas UZŅEMŠANĀ_jaunais'!$BA$19 -> 0
E47: Pediatrs | F47: 6 | G47: 2 | H47: 2 | I47: =ROUND(F47*'Darba algas UZŅEMŠANĀ_jaunais'!$BD$3,0) -> 1816013 | J47: =G47*'Darba algas UZŅEMŠANĀ_jaunais'!$BB$3 -> 213351.72 | K47: =H47*'Darba algas UZŅEMŠANĀ_jaunais'!$BA$3 -> 45130.163 | M47: =F47*'Darba algas UZŅEMŠANĀ_jaunais'!$BA$19 -> 1101005.1
E48: Neonatologs | F48: 0 | G48: 0 | H48: 0 | I48: =ROUND(F48*'Darba algas UZŅEMŠANĀ_jaunais'!$BD$3,0) -> 0 | J48: =G48*'Darba algas UZŅEMŠANĀ_jaunais'!$BB$3 -> 0 | K48: =H48*'Darba algas UZŅEMŠANĀ_jaunais'!$BA$3 -> 0 | M48: =F48*'Darba algas UZŅEMŠANĀ_jaunais'!$BA$19 -> 0
E49: Anesteziologi, reanimatologi | F49: 2 | G49: 0 | H49: 0 | I49: =ROUND(F49*'Darba algas UZŅEMŠANĀ_jaunais'!$BD$3,0) -> 605338 | J49: =G49*'Darba algas UZŅEMŠANĀ_jaunais'!$BB$3 -> 0 | K49: =H49*'Darba algas UZŅEMŠANĀ_jaunais'!$BA$3 -> 0 | M49: =F49*'Darba algas UZŅEMŠANĀ_jaunais'!$BA$19 -> 367001.69
E50: Radiologi | F50: 1 | G50: 0 | H50: 0 | I50: =ROUND(F50*'Darba algas UZŅEMŠANĀ_jaunais'!$BD$3,0) -> 302669 | J50: =G50*'Darba algas UZŅEMŠANĀ_jaunais'!$BB$3 -> 0 | K50: =H50*'Darba algas UZŅEMŠANĀ_jaunais'!$BA$3 -> 0 | M50: =F50*'Darba algas UZŅEMŠANĀ_jaunais'!$BA$19 -> 183500.84
E51: Radiologa asist./radiogrāferi | F51: 2 | G51: 0 | H51: 0 | I51: =ROUND(F51*'Darba algas UZŅEMŠANĀ_jaunais'!$BD$5,0) -> 361327 | J51: =G51*'Darba algas UZŅEMŠANĀ_jaunais'!$BB$5 -> 0 | K51: =H51*'Darba algas UZŅEMŠANĀ_jaunais'!$BA$5 -> 0 | M51: =F51*'Darba algas UZŅEMŠANĀ_jaunais'!$BA$26 -> 229574.27
E52: Citi speciālisti | F52: 3 | G52: 7 | H52: 7 | I52: =ROUND(F52*'Darba algas UZŅEMŠANĀ_jaunais'!$BD$3,0) -> 908007 | J52: =G52*'Darba algas UZŅEMŠANĀ_jaunais'!$BB$3 -> 746731.01 | K52: =H51*'Darba algas UZŅEMŠANĀ_jaunais'!$BA$3 -> 0 | M52: =F52*'Darba algas UZŅEMŠANĀ_jaunais'!$BA$19 -> 550502.53
E53: Māsas | F53: 20 | G53: 0 | H53: 0 | I53: =ROUND(F53*'Darba algas UZŅEMŠANĀ_jaunais'!$BD$5,0) -> 3613269 | J53: =G53*'Darba algas UZŅEMŠANĀ_jaunais'!$BB$5 -> 0 | K53: =H53*'Darba algas UZŅEMŠANĀ_jaunais'!$BA$5 -> 0 | M53: =F53*'Darba algas UZŅEMŠANĀ_jaunais'!$BA$26 -> 2295742.7
E54: Vecmātes | F54: 0 | G54: 0 | H54: 0 | I54: =ROUND(F54*'Darba algas UZŅEMŠANĀ_jaunais'!$BD$5,0) -> 0 | J54: =G54*'Darba algas UZŅEMŠANĀ_jaunais'!$BB$5 -> 0 | K54: =H54*'Darba algas UZŅEMŠANĀ_jaunais'!$BA$5 -> 0 | M54: =F54*'Darba algas UZŅEMŠANĀ_jaunais'!$BA$26 -> 0
E55: Māsas palīgs | F55: 13 | G55: 0 | H55: 0 | I55: =ROUND(F55*'Darba algas UZŅEMŠANĀ_jaunais'!$BD$6,0) -> 1199339 | J55: =ROUND(G55*'Darba algas UZŅEMŠANĀ_jaunais'!$BA$6,0) -> 0 | K55: =ROUND(H55*'Darba algas UZŅEMŠANĀ_jaunais'!$BB$6,0) -> 0 | M55: =F55*'Darba algas UZŅEMŠANĀ_jaunais'!$BA$33 -> 762017.42
E56: Ārsta palīgi | F56: 4 | G56: 0 | H56: 0 | I56: =ROUND(F56*'Darba algas UZŅEMŠANĀ_jaunais'!$BD$5,0) -> 722654 | J56: ='Darba algas UZŅEMŠANĀ_jaunais'!$BB$17*G56 -> 0 | K56: =H56*'Darba algas UZŅEMŠANĀ_jaunais'!$BB$23 -> 0 | M56: =F56*'Darba algas UZŅEMŠANĀ_jaunais'!$BA$26 -> 459148.53
D57: Maksājuma apmērs, EUR | E57: =SUM(F57:H57) -> 11526890 | F57: =I40 -> 10133954 | G57: =J40 -> 1280110.3 | H57: =K40 -> 112825.41
A58: Specializētā slimnīca | B58: Rīgas Dzemdību nams | C58: Ginekoloģija | D58: Ginekoloģija | E58: Kopā ārsti | F58: =SUM(F59:F68,F70) -> 3 | G58: =SUM(G59:G68,G70) -> 9 | H58: =SUM(H59:H68,H70) -> 9 | I58: =SUM(I59:I74) -> 1907431 | J58: =SUM(J59:J74) -> 1360462.9 | K58: =SUM(K59:K74) -> 310343 | L58: =SUM(I58:K58) -> 3578236.9 | M58: =SUM(M59:M75) -> 1185501.2 | N58: =F58*'Darba algas UZŅEMŠANĀ_jaunais'!BE15 -> 41570.64 | O58: 1
C59: Grūtniecības un dzemdību aprūpe | D59: Grūtniecības un dzemdību aprūpe | E59: Internisti | F59: 0 | G59: 0 | H59: 0 | I59: =ROUND(F59*'Darba algas UZŅEMŠANĀ_jaunais'!$BD$3,0) -> 0 | J59: =G59*'Darba algas UZŅEMŠANĀ_jaunais'!$BB$3 -> 0 | K59: =H59*'Darba algas UZŅEMŠANĀ_jaunais'!$BA$3 -> 0 | M59: =F59*'Darba algas UZŅEMŠANĀ_jaunais'!$BA$19 -> 0
C60: Grūtnieču patoloģija | D60: Grūtnieču patoloģija | E60: Neatliekamās medicīnas ārsti | F60: 0 | G60: 0 | H60: 0 | I60: =ROUND(F60*'Darba algas UZŅEMŠANĀ_jaunais'!$BD$3,0) -> 0 | J60: =G60*'Darba algas UZŅEMŠANĀ_jaunais'!$BB$3 -> 0 | K60: =H60*'Darba algas UZŅEMŠANĀ_jaunais'!$BA$3 -> 0 | M60: =F60*'Darba algas UZŅEMŠANĀ_jaunais'!$BA$19 -> 0
E61: Ķirurgi | F61: 0 | G61: 0 | H61: 0 | I61: =ROUND(F61*'Darba algas UZŅEMŠANĀ_jaunais'!$BD$3,0) -> 0 | J61: =G61*'Darba algas UZŅEMŠANĀ_jaunais'!$BB$3 -> 0 | K61: =H61*'Darba algas UZŅEMŠANĀ_jaunais'!$BA$3 -> 0 | M61: =F61*'Darba algas UZŅEMŠANĀ_jaunais'!$BA$19 -> 0
E62: Ginekologi, dzemdību speciālisti | F62: 2 | G62: 4 | H62: 4 | I62: =ROUND(F62*'Darba algas UZŅEMŠANĀ_jaunais'!$BD$3,0) -> 605338 | J62: =G62*'Darba algas UZŅEMŠANĀ_jaunais'!$BB$3 -> 426703.44 | K62: =H62*'Darba algas UZŅEMŠANĀ_jaunais'!$BA$3 -> 90260.327 | M62: =F62*'Darba algas UZŅEMŠANĀ_jaunais'!$BA$19 -> 367001.69
E63: Traumatologi,ortopēdi | F63: 0 | G63: 0 | H63: 0 | I63: =ROUND(F63*'Darba algas UZŅEMŠANĀ_jaunais'!$BD$3,0) -> 0 | J63: =G63*'Darba algas UZŅEMŠANĀ_jaunais'!$BB$3 -> 0 | K63: =H63*'Darba algas UZŅEMŠANĀ_jaunais'!$BA$3 -> 0 | M63: =F63*'Darba algas UZŅEMŠANĀ_jaunais'!$BA$19 -> 0
E64: Neirologi | F64: 0 | G64: 0 | H64: 0 | I64: =ROUND(F64*'Darba algas UZŅEMŠANĀ_jaunais'!$BD$3,0) -> 0 | J64: =G64*'Darba algas UZŅEMŠANĀ_jaunais'!$BB$3 -> 0 | K64: =H64*'Darba algas UZŅEMŠANĀ_jaunais'!$BA$3 -> 0 | M64: =F64*'Darba algas UZŅEMŠANĀ_jaunais'!$BA$19 -> 0
E65: Pediatrs | F65: 0 | G65: 0 | H65: 0 | I65: =ROUND(F65*'Darba algas UZŅEMŠANĀ_jaunais'!$BD$3,0) -> 0 | J65: =G65*'Darba algas UZŅEMŠANĀ_jaunais'!$BB$3 -> 0 | K65: =H65*'Darba algas UZŅEMŠANĀ_jaunais'!$BA$3 -> 0 | M65: =F65*'Darba algas UZŅEMŠANĀ_jaunais'!$BA$19 -> 0
E66: Neonatologs | F66: 0 | G66: 2 | H66: 2 | I66: =ROUND(F66*'Darba algas UZŅEMŠANĀ_jaunais'!$BD$3,0) -> 0 | J66: =G66*'Darba algas UZŅEMŠANĀ_jaunais'!$BB$3 -> 213351.72 | K66: =H66*'Darba algas UZŅEMŠANĀ_jaunais'!$BA$3 -> 45130.163 | M66: =F66*'Darba algas UZŅEMŠANĀ_jaunais'!$BA$19 -> 0
E67: Anesteziologi, reanimatologi | F67: 1 | G67: 2 | H67: 2 | I67: =ROUND(F67*'Darba algas UZŅEMŠANĀ_jaunais'!$BD$3,0) -> 302669 | J67: =G67*'Darba algas UZŅEMŠANĀ_jaunais'!$BB$3 -> 213351.72 | K67: =H67*'Darba algas UZŅEMŠANĀ_jaunais'!$BA$3 -> 45130.163 | M67: =F67*'Darba algas UZŅEMŠANĀ_jaunais'!$BA$19 -> 183500.84
E68: Radiologi (attālināti) | F68: 0 | G68: 1 | H68: 1 | I68: =ROUND(F68*'Darba algas UZŅEMŠANĀ_jaunais'!BD4,0) -> 0 | J68: =G68*'Darba algas UZŅEMŠANĀ_jaunais'!$BB$3 -> 106675.86 | K68: =H68*'Darba algas UZŅEMŠANĀ_jaunais'!$BA$3 -> 22565.082 | M68: =F68*'Darba algas UZŅEMŠANĀ_jaunais'!$BA$20 -> 0
E69: Radiologa asist./radiogrāferi | F69: 0 | G69: 1 | H69: 1 | I69: =ROUND(F69*'Darba algas UZŅEMŠANĀ_jaunais'!$BD$5,0) -> 0 | J69: =G69*'Darba algas UZŅEMŠANĀ_jaunais'!$BB$5 -> 66730.026 | K69: =H69*'Darba algas UZŅEMŠANĀ_jaunais'!$BA$5 -> 14115.363 | M69: =F69*'Darba algas UZŅEMŠANĀ_jaunais'!$BA$26 -> 0
E70: Citi speciālisti | F70: 0 | G70: 0 | H70: 0 | I70: =ROUND(F70*'Darba algas UZŅEMŠANĀ_jaunais'!$BD$3,0) -> 0 | J70: =G70*'Darba algas UZŅEMŠANĀ_jaunais'!$BB$3 -> 0 | K70: =H69*'Darba algas UZŅEMŠANĀ_jaunais'!$BA$3 -> 22565.082 | M70: =F70*'Darba algas UZŅEMŠANĀ_jaunais'!$BA$19 -> 0
E71: Māsas | F71: 1 | G71: 2 | H71: 2 | I71: =ROUND(F71*'Darba algas UZŅEMŠANĀ_jaunais'!$BD$5,0) -> 180663 | J71: =G71*'Darba algas UZŅEMŠANĀ_jaunais'!$BB$5 -> 133460.05 | K71: =H71*'Darba algas UZŅEMŠANĀ_jaunais'!$BA$5 -> 28230.726 | M71: =F71*'Darba algas UZŅEMŠANĀ_jaunais'!$BA$26 -> 114787.13
E72: Vecmātes | F72: 3 | G72: 3 | H72: 3 | I72: =ROUND(F72*'Darba algas UZŅEMŠANĀ_jaunais'!$BD$5,0) -> 541990 | J72: =G72*'Darba algas UZŅEMŠANĀ_jaunais'!$BB$5 -> 200190.08 | K72: =H72*'Darba algas UZŅEMŠANĀ_jaunais'!$BA$5 -> 42346.089 | M72: =F72*'Darba algas UZŅEMŠANĀ_jaunais'!$BA$26 -> 344361.4
E73: Māsas palīgs | F73: 3 | G73: 0 | H73: 0 | I73: =ROUND(F73*'Darba algas UZŅEMŠANĀ_jaunais'!$BD$6,0) -> 276771 | J73: =ROUND(G73*'Darba algas UZŅEMŠANĀ_jaunais'!$BA$6,0) -> 0 | K73: =ROUND(H73*'Darba algas UZŅEMŠANĀ_jaunais'!$BB$6,0) -> 0 | M73: =F73*'Darba algas UZŅEMŠANĀ_jaunais'!$BA$33 -> 175850.17
E74: Ārsta palīgi | F74: 0 | G74: 0 | H74: 0 | I74: =ROUND(F74*'Darba algas UZŅEMŠANĀ_jaunais'!$BD$5,0) -> 0 | J74: ='Darba algas UZŅEMŠANĀ_jaunais'!$BB$17*G74 -> 0 | K74: =H74*'Darba algas UZŅEMŠANĀ_jaunais'!$BB$23 -> 0 | M74: =F74*'Darba algas UZŅEMŠANĀ_jaunais'!$BA$26 -> 0
D75: Maksājuma apmērs, EUR | E75: =SUM(F75:H75) -> 3578236.9 | F75: =I58 -> 1907431 | G75: =J58 -> 1360462.9 | H75: =K58 -> 310343
A76: Specializētā slimnīca | B76: Traumatoloģijas un ortopēdijas slimnīca | C76: Traumatoloģija, ortopēdija | D76: Traumatoloģija, ortopēdija | E76: Kopā ārsti | F76: =SUM(F77:F86,F88) -> 8 | G76: =SUM(G77:G86,G88) -> 4 | H76: =SUM(H77:H86,H88) -> 4 | I76: =SUM(I77:I92) -> 6057723 | J76: =SUM(J77:J92) -> 426703.44 | K76: =SUM(K77:K92) -> 90260.327 | L76: =SUM(I76:K76) -> 6574686.8 | M76: =SUM(M77:M92) -> 3778427.3 | N76: =F76*'Darba algas UZŅEMŠANĀ_jaunais'!BE15 -> 110855.04
C77: Specializētā un terciārā palīdzība | D77: Specializētā un terciārā palīdzība | E77: Internisti | F77: 0 | G77: 0 | H77: 0 | I77: =ROUND(F77*'Darba algas UZŅEMŠANĀ_jaunais'!$BD$3,0) -> 0 | J77: =G77*'Darba algas UZŅEMŠANĀ_jaunais'!$BB$3 -> 0 | K77: =H77*'Darba algas UZŅEMŠANĀ_jaunais'!$BA$3 -> 0 | M77: =F77*'Darba algas UZŅEMŠANĀ_jaunais'!$BA$19 -> 0
E78: Neatliekamās medicīnas ārsti | F78: 0 | G78: 0 | H78: 0 | I78: =ROUND(F78*'Darba algas UZŅEMŠANĀ_jaunais'!$BD$3,0) -> 0 | J78: =G78*'Darba algas UZŅEMŠANĀ_jaunais'!$BB$3 -> 0 | K78: =H78*'Darba algas UZŅEMŠANĀ_jaunais'!$BA$3 -> 0 | M78: =F78*'Darba algas UZŅEMŠANĀ_jaunais'!$BA$19 -> 0
E79: Ķirurgi | F79: 1 | G79: 2 | H79: 2 | I79: =ROUND(F79*'Darba algas UZŅEMŠANĀ_jaunais'!$BD$3,0) -> 302669 | J79: =G79*'Darba algas UZŅEMŠANĀ_jaunais'!$BB$3 -> 213351.72 | K79: =H79*'Darba algas UZŅEMŠANĀ_jaunais'!$BA$3 -> 45130.163 | M79: =F79*'Darba algas UZŅEMŠANĀ_jaunais'!$BA$19 -> 183500.84
E80: Ginekologi, dzemdību speciālisti | F80: 0 | G80: 0 | H80: 0 | I80: =ROUND(F80*'Darba algas UZŅEMŠANĀ_jaunais'!$BD$3,0) -> 0 | J80: =G80*'Darba algas UZŅEMŠANĀ_jaunais'!$BB$3 -> 0 | K80: =H80*'Darba algas UZŅEMŠANĀ_jaunais'!$BA$3 -> 0 | M80: =F80*'Darba algas UZŅEMŠANĀ_jaunais'!$BA$19 -> 0
E81: Traumatologi,ortopēdi | F81: 2 | G81: 2 | H81: 2 | I81: =ROUND(F81*'Darba algas UZŅEMŠANĀ_jaunais'!$BD$3,0) -> 605338 | J81: =G81*'Darba algas UZŅEMŠANĀ_jaunais'!$BB$3 -> 213351.72 | K81: =H81*'Darba algas UZŅEMŠANĀ_jaunais'!$BA$3 -> 45130.163 | M81: =F81*'Darba algas UZŅEMŠANĀ_jaunais'!$BA$19 -> 367001.69
E82: Neirologi | F82: 0 | G82: 0 | H82: 0 | I82: =ROUND(F82*'Darba algas UZŅEMŠANĀ_jaunais'!$BD$3,0) -> 0 | J82: =G82*'Darba algas UZŅEMŠANĀ_jaunais'!$BB$3 -> 0 | K82: =H82*'Darba algas UZŅEMŠANĀ_jaunais'!$BA$3 -> 0 | M82: =F82*'Darba algas UZŅEMŠANĀ_jaunais'!$BA$19 -> 0
E83: Pediatrs | F83: 0 | G83: 0 | H83: 0 | I83: =ROUND(F83*'Darba algas UZŅEMŠANĀ_jaunais'!$BD$3,0) -> 0 | J83: =G83*'Darba algas UZŅEMŠANĀ_jaunais'!$BB$3 -> 0 | K83: =H83*'Darba algas UZŅEMŠANĀ_jaunais'!$BA$3 -> 0 | M83: =F83*'Darba algas UZŅEMŠANĀ_jaunais'!$BA$19 -> 0
E84: Neonatologs | F84: 0 | G84: 0 | H84: 0 | I84: =ROUND(F84*'Darba algas UZŅEMŠANĀ_jaunais'!$BD$3,0) -> 0 | J84: =G84*'Darba algas UZŅEMŠANĀ_jaunais'!$BB$3 -> 0 | K84: =H84*'Darba algas UZŅEMŠANĀ_jaunais'!$BA$3 -> 0 | M84: =F84*'Darba algas UZŅEMŠANĀ_jaunais'!$BA$19 -> 0
E85: Anesteziologi, reanimatologi | F85: 1 | G85: 0 | H85: 0 | I85: =ROUND(F85*'Darba algas UZŅEMŠANĀ_jaunais'!$BD$3,0) -> 302669 | J85: =G85*'Darba algas UZŅEMŠANĀ_jaunais'!$BB$3 -> 0 | K85: =H85*'Darba algas UZŅEMŠANĀ_jaunais'!$BA$3 -> 0 | M85: =F85*'Darba algas UZŅEMŠANĀ_jaunais'!$BA$19 -> 183500.84
E86: Radiologi | F86: 1 | G86: 0 | H86: 0 | I86: =ROUND(F86*'Darba algas UZŅEMŠANĀ_jaunais'!$BD$3,0) -> 302669 | J86: =G86*'Darba algas UZŅEMŠANĀ_jaunais'!$BB$3 -> 0 | K86: =H86*'Darba algas UZŅEMŠANĀ_jaunais'!$BA$3 -> 0 | M86: =F86*'Darba algas UZŅEMŠANĀ_jaunais'!$BA$19 -> 183500.84
E87: Radiologa asist./radiogrāferi | F87: 2 | G87: 0 | H87: 0 | I87: =ROUND(F87*'Darba algas UZŅEMŠANĀ_jaunais'!$BD$5,0) -> 361327 | J87: =G87*'Darba algas UZŅEMŠANĀ_jaunais'!$BB$5 -> 0 | K87: =H87*'Darba algas UZŅEMŠANĀ_jaunais'!$BA$5 -> 0 | M87: =F87*'Darba algas UZŅEMŠANĀ_jaunais'!$BA$26 -> 229574.27
E88: Citi speciālisti | F88: 3 | G88: 0 | H88: 0 | I88: =ROUND(F88*'Darba algas UZŅEMŠANĀ_jaunais'!$BD$3,0) -> 908007 | J88: =G88*'Darba algas UZŅEMŠANĀ_jaunais'!$BB$3 -> 0 | K88: =H87*'Darba algas UZŅEMŠANĀ_jaunais'!$BA$3 -> 0 | M88: =F88*'Darba algas UZŅEMŠANĀ_jaunais'!$BA$19 -> 550502.53
E89: Māsas | F89: 12 | G89: 0 | H89: 0 | I89: =ROUND(F89*'Darba algas UZŅEMŠANĀ_jaunais'!$BD$5,0) -> 2167962 | J89: =G89*'Darba algas UZŅEMŠANĀ_jaunais'!$BB$5 -> 0 | K89: =H89*'Darba algas UZŅEMŠANĀ_jaunais'!$BA$5 -> 0 | M89: =F89*'Darba algas UZŅEMŠANĀ_jaunais'!$BA$26 -> 1377445.6
E90: Vecmātes | F90: 0 | G90: 0 | H90: 0 | I90: =ROUND(F90*'Darba algas UZŅEMŠANĀ_jaunais'!$BD$5,0) -> 0 | J90: =G90*'Darba algas UZŅEMŠANĀ_jaunais'!$BB$5 -> 0 | K90: =H90*'Darba algas UZŅEMŠANĀ_jaunais'!$BA$5 -> 0 | M90: =F90*'Darba algas UZŅEMŠANĀ_jaunais'!$BA$26 -> 0
E91: Māsas palīgs | F91: 12 | G91: 0 | H91: 0 | I91: =ROUND(F91*'Darba algas UZŅEMŠANĀ_jaunais'!$BD$6,0) -> 1107082 | J91: =ROUND(G91*'Darba algas UZŅEMŠANĀ_jaunais'!$BA$6,0) -> 0 | K91: =ROUND(H91*'Darba algas UZŅEMŠANĀ_jaunais'!$BB$6,0) -> 0 | M91: =F91*'Darba algas UZŅEMŠANĀ_jaunais'!$BA$33 -> 703400.7
E92: Ārsta palīgi | F92: 0 | G92: 0 | H92: 0 | I92: =ROUND(F92*'Darba algas UZŅEMŠANĀ_jaunais'!$BD$5,0) -> 0 | J92: ='Darba algas UZŅEMŠANĀ_jaunais'!$BB$17*G92 -> 0 | K92: =H92*'Darba algas UZŅEMŠANĀ_jaunais'!$BB$23 -> 0 | M92: =F92*'Darba algas UZŅEMŠANĀ_jaunais'!$BA$26 -> 0
D93: Maksājuma apmērs, EUR | E93: =SUM(F93:H93) -> 6574686.8 | F93: =I76 -> 6057723 | G93: =J76 -> 426703.44 | H93: =K76 -> 90260.327
A94: Lokālā slimnīca | B94: Jūrmalas slimnīca | C94: Terapija | D94: Internā medicīna | E94: Kopā ārsti | F94: =SUM(F95:F104,F106) -> 6 | G94: =SUM(G95:G104,G106) -> 1 | H94: =SUM(H95:H104,H106) -> 1 | I94: =SUM(I95:I110) -> 2757950.4 | J94: =SUM(J95:J110) -> 82058.353 | K94: =SUM(K95:K110) -> 17357.755 | L94: =SUM(I94:K94) -> 2857366.5 | M94: =SUM(M95:M110) -> 1699478.4 | N94: =F94*'Darba algas UZŅEMŠANĀ_jaunais'!BE15 -> 83141.28
C95: Hronisko pacientu aprūpe (izvēles) | D95: Aprūpe | E95: Internisti | F95: 1 | G95: 0 | H95: 0 | I95: =F95*'Darba algas UZŅEMŠANĀ_jaunais'!$BD$8 -> 236019.94 | J95: =G95*'Darba algas UZŅEMŠANĀ_jaunais'!$BB$8 -> 0 | K95: =H95*'Darba algas UZŅEMŠANĀ_jaunais'!$BA$8 -> 0 | M95: =F95*'Darba algas UZŅEMŠANĀ_jaunais'!$BA$41 -> 141154.5
C96: Aprūpe | D96: Ķirurģija | E96: Neatliekamās medicīnas ārsti | F96: 0 | G96: 0 | H96: 0 | I96: =F96*'Darba algas UZŅEMŠANĀ_jaunais'!$BD$8 -> 0 | J96: =G96*'Darba algas UZŅEMŠANĀ_jaunais'!$BB$8 -> 0 | K96: =H96*'Darba algas UZŅEMŠANĀ_jaunais'!$BA$8 -> 0 | M96: =F96*'Darba algas UZŅEMŠANĀ_jaunais'!$BA$41 -> 0
C97: Ķirurģija | D97: Ginekoloģija | E97: Ķirurgi | F97: 1 | G97: 0 | H97: 0 | I97: =F97*'Darba algas UZŅEMŠANĀ_jaunais'!$BD$8 -> 236019.94 | J97: =G97*'Darba algas UZŅEMŠANĀ_jaunais'!$BB$8 -> 0 | K97: =H97*'Darba algas UZŅEMŠANĀ_jaunais'!$BA$8 -> 0 | M97: =F97*'Darba algas UZŅEMŠANĀ_jaunais'!$BA$41 -> 141154.5
C98: Ginekoloģija | D98: Grūtniecības un dzemdību aprūpe | E98: Ginekologi, dzemdību speciālisti | F98: 1 | G98: 1 | H98: 1 | I98: =F98*'Darba algas UZŅEMŠANĀ_jaunais'!$BD$8 -> 236019.94 | J98: =G98*'Darba algas UZŅEMŠANĀ_jaunais'!$BB$8 -> 82058.353 | K98: =H98*'Darba algas UZŅEMŠANĀ_jaunais'!$BA$8 -> 17357.755 | M98: =F98*'Darba algas UZŅEMŠANĀ_jaunais'!$BA$41 -> 141154.5
C99: Grūtniecības un dzemdību aprūpe | D99: Grūtnieču patoloģija | E99: Traumatologi,ortopēdi | F99: 0 | G99: 0 | H99: 0 | I99: =F99*'Darba algas UZŅEMŠANĀ_jaunais'!$BD$8 -> 0 | J99: =G99*'Darba algas UZŅEMŠANĀ_jaunais'!$BB$8 -> 0 | K99: =H99*'Darba algas UZŅEMŠANĀ_jaunais'!$BA$8 -> 0 | M99: =F99*'Darba algas UZŅEMŠANĀ_jaunais'!$BA$41 -> 0
C100: Neiroloģija ( izvēles) | E100: Neirologi | F100: 0 | G100: 0 | H100: 0 | I100: =F100*'Darba algas UZŅEMŠANĀ_jaunais'!$BD$8 -> 0 | J100: =G100*'Darba algas UZŅEMŠANĀ_jaunais'!$BB$8 -> 0 | K100: =H100*'Darba algas UZŅEMŠANĀ_jaunais'!$BA$8 -> 0 | M100: =F100*'Darba algas UZŅEMŠANĀ_jaunais'!$BA$41 -> 0
E101: Pediatrs | F101: 0 | G101: 0 | H101: 0 | I101: =F101*'Darba algas UZŅEMŠANĀ_jaunais'!$BD$8 -> 0 | J101: =G101*'Darba algas UZŅEMŠANĀ_jaunais'!$BB$8 -> 0 | K101: =H101*'Darba algas UZŅEMŠANĀ_jaunais'!$BA$8 -> 0 | M101: =F101*'Darba algas UZŅEMŠANĀ_jaunais'!$BA$41 -> 0
E102: Neonatologs | F102: 1 | G102: 0 | H102: 0 | I102: =F102*'Darba algas UZŅEMŠANĀ_jaunais'!$BD$8 -> 236019.94 | J102: =G102*'Darba algas UZŅEMŠANĀ_jaunais'!$BB$8 -> 0 | K102: =H102*'Darba algas UZŅEMŠANĀ_jaunais'!$BA$8 -> 0 | M102: =F102*'Darba algas UZŅEMŠANĀ_jaunais'!$BA$41 -> 141154.5
E103: Anesteziologi, reanimatologi | F103: 1 | G103: 0 | H103: 0 | I103: =F103*'Darba algas UZŅEMŠANĀ_jaunais'!$BD$8 -> 236019.94 | J103: =G103*'Darba algas UZŅEMŠANĀ_jaunais'!$BB$8 -> 0 | K103: =H103*'Darba algas UZŅEMŠANĀ_jaunais'!$BA$8 -> 0 | M103: =F103*'Darba algas UZŅEMŠANĀ_jaunais'!$BA$41 -> 141154.5
...

Sheet Darba algas UZŅEMŠANĀ_jaunais
BE1: 4.2. pielikums
AZ2: =B14 -> KUS UN TOS, RDzN | BA2: Dežūrārsts (8.00-16.00) brīvdienas | BB2: Dežūrārsts (16.00-8.00) darba dienas | BC2: Dežūrārsts 9.00-21.00 (12h) darba dienas | BD2: Speciālists 24/7 ar kabineta maksājumu
AZ3: Tikai ārsts | BA3: =BB16 -> 22565.082 | BB3: =BB17 -> 106675.86 | BC3: =BB18 -> 73468.291 | BD3: =BB19 -> 302668.86
AZ4: Radiologs mājdežūrā 75% | BD4: =BB20 -> 170232.71
AZ5: Vecmāte, radiologa asistents, māsa | BA5: =BB23 -> 14115.363 | BB5: =BB24 -> 66730.026 | BC5: =BB25 -> 45957.361 | BD5: =BB26 -> 180663.47
AZ6: Māsas palīgs | BA6: =BB30 -> 7208.0932 | BB6: =BB31 -> 34076.08 | BC6: =BB32 -> 23468.397 | BD6: =BB33 -> 92256.863 | BF6: māsu palīgi bez 1.3
AZ7: =B36 -> PĀRĒJIE | BA7: Dežūrārsts (8.00-16.00) brīvdienas | BB7: Dežūrārsts (16.00-8.00) darba dienas | BC7: Dežūrārsts 9.00-21.00 (12h) darba dienas | BD7: Speciālists, kurš nodrošina palīdzību 24/7
AZ8: Tikai ārsts | BA8: =BB38 -> 17357.755 | BB8: =BB39 -> 82058.353 | BC8: =BB40 -> 56514.07 | BD8: =BB41 -> 236019.94
AZ9: Radiologs mājdežūrā 75% | BD9: =BB42 -> 128312.72
AZ10: Vecmāte, radiologa asistents, māsa | BA10: =BB45 -> 10857.972 | BB10: =BB46 -> 51330.789 | BC10: =BB47 -> 35351.816 | BD10: =BB48 -> 138971.9
AZ11: Māsas palīgs | BA11: =BB52 -> 7208.0932 | BB11: =BB53 -> 34076.08 | BC11: =BB54 -> 23468.397 | BD11: =BB55 -> 92256.863
B12: Posteņu, slodžu, darba stundu skaits un apmaksas nosacījumi NMPON darba nodrošināšanai | AV12: Koeficents KUS | BC12: 153.1. ārstiem un funkcionālajiem speciālistiem | BD12: 2083
AH13: =365*8+(15*8) -> 3040 | AV13: 1.3 | AX13: 0.5 | AY13: 1 | AZ13: 0.025 | BC13: 153.2. ārstniecības un pacientu aprūpes personām un funkcionālo speciālistu asistentiem | BD13: 1303
B14: KUS UN TOS, RDzN | H14: Pirmdienās | L14: Otrdienās | P14: Trešdienās | T14: Ceturtdienās | X14: Piektdienās | AB14: Sestdienās | AF14: Svētdienās | AJ14: Svētku un brīvdienās | AO14: Stundas vidēji gadā | BC14: 153.3. ārstniecības un pacientu aprūpes atbalsta personām | BD14: 865
B15: Posteņa nosaukums | D15: Nedēļas dienas | E15: Posteņa veids | F15: % iesaiste, ja atbalsta postenis | G15: Posteņu skaits | H15: no | I15: līdz | J15: darba st | K15: t.sk. nakts st | L15: no | M15: līdz | N15: darba st | O15: t.sk. nakts st | P15: no | Q15: līdz | R15: darba st | S15: t.sk. nakts st | T15: no | U15: līdz | V15: darba st | W15: t.sk. nakts st | X15: no | Y15: līdz | Z15: darba st | AA15: t.sk. nakts st | AB15: no | AC15: līdz | AD15: darba st | AE15: t.sk. nakts st | AF15: no | AG15: līdz | AH15: darba st | AI15: t.sk. nakts st | AJ15: no | AK15: līdz | AL15: darba st | AM15: t.sk. nakts st | AN15: Tehniskā | AO15: Darba sundas | AP15: no tām nakts | AQ15: no tām svētku | AR15: slodzes | AS15: Atvaļinājuma rezerve | AT15: KOPĀ | AU15: Mēnešalga | AV15: Stundas likme (vidējā) | AW15: Samaksa gadā, EUR | AX15: Par Nakts stundām, EUR gadā | AY15: Par Svētku stundām, EUR gadā | AZ15: Īpašā riska piemaksa gadā, EUR | BA15: Kopā | BB15: Kopā gadā, EUR | BD15: Uz vienu ārsta posteni gadā M, EUR | BE15: 13856.88
A16: ĀRSTS | B16: Dežūrārsts (8.00-16.00) brīvdienas | G16: 1 | AB16: 8 | AC16: 16 | AD16: =IF(AB16="",0,IF((AC16-AB16<=0),(24-AB16+AC16),(AC16-AB16))) -> 8 | AF16: 8 | AG16: 16 | AH16: =IF(AF16="",0,IF((AG16-AF16<=0),(24-AF16+AG16),(AG16-AF16))) -> 8 | AJ16: 8 | AK16: 16 | AL16: =IF(AJ16="",0,IF((AK16-AJ16<=0),(24-AJ16+AK16),(AK16-AJ16))) -> 8 | AN16: =J16+N16+R16+V16+Z16+AD16+AH16+AL16 -> 24 | AO16: =IF(AN16=0,0,((J16*$C$114)+($D$114*N16)+(R16*$E$114)+(V16*$F$114)+($G$114*Z16)+(AD16*$H$115)+($I$116*AH16)+(AL16*$J$117)*G16)) -> 912 | AP16: =IF(AN16=0,0,((K16*$C$114)+($D$114*O16)+(S16*$E$114)+(W16*$F$114)+($G$114*AA16)+(AE16*$H$115)+($I$116*AI16)+(AM16*$J$117)*G16)) -> 0 | AQ16: =AL16*$J$117*G16 -> 144 | AR16: =AO16/$L$113 -> 0.45508982 | AS16: =AR16*0.09091 -> 0.041372216 | AT16: =AS16+AR16 -> 0.49646204 | AU16: =$BD$12 -> 2083 | AV16: =AU16/160*AV13 -> 16.924375 | AW16: =AV16*AO16 -> 15435.03 | AX16: =$AX$13*AV16*AP16 -> 0 | AY16: =AV16*AQ16 -> 2437.11 | AZ16: =AV16*$AZ$13*AO16 -> 385.87575 | BA16: =SUM(AW16:AZ16) -> 18258.016 | BB16: =(AW16+AX16+AY16+AZ16)*1.2359 -> 22565.082
B17: Dežūrārsts (16.00-8.00) darba dienas | G17: 1 | H17: 16 | I17: 8 | J17: =IF(H17="",0,IF((I17-H17<=0),(24-H17+I17),(I17-H17))) -> 16 | K17: 8 | L17: 16 | M17: 8 | N17: =IF(L17="",0,IF((M17-L17<=0),(24-L17+M17),(M17-L17))) -> 16 | O17: 8 | P17: 16 | Q17: 8 | R17: =IF(P17="",0,IF((Q17-P17<=0),(24-P17+Q17),(Q17-P17))) -> 16 | S17: 8 | T17: 16 | U17: 8 | V17: =IF(T17="",0,IF((U17-T17<=0),(24-T17+U17),(U17-T17))) -> 16 | W17: 8 | X17: 16 | Y17: 8 | Z17: =IF(X17="",0,IF((Y17-X17<=0),(24-X17+Y17),(Y17-X17))) -> 16 | AA17: 8 | AN17: =J17+N17+R17+V17+Z17+AD17+AH17+AL17 -> 80 | AO17: =IF(AN17=0,0,((J17*$C$114)+($D$114*N17)+(R17*$E$114)+(V17*$F$114)+($G$114*Z17)+(AD17*$H$115)+($I$116*AH17)+(AL17*$J$117)*G17)) -> 4000 | AP17: =IF(AN17=0,0,((K17*$C$114)+($D$114*O17)+(S17*$E$114)+(W17*$F$114)+($G$114*AA17)+(AE17*$H$115)+($I$116*AI17)+(AM17*$J$117)*G17)) -> 2000 | AQ17: =AL17*$J$117*G17 -> 0 | AR17: =AO17/$L$113 -> 1.996008 | AS17: =AR17*0.09091 -> 0.18145709 | AT17: =AS17+AR17 -> 2.1774651 | AU17: =$BD$12 -> 2083 | AV17: =AU17/160*AV13 -> 16.924375 | AW17: =AV17*AO17 -> 67697.5 | AX17: =$AX$13*AV17*AP17 -> 16924.375 | AY17: =AV17*AQ17 -> 0 | AZ17: =AV17*$AZ$13*AO17 -> 1692.4375 | BA17: =SUM(AW17:AZ17) -> 86314.312 | BB17: =(AW17+AX17+AY17+AZ17)*1.2359 -> 106675.86
B18: Dežūrārsts 9.00-21.00 (12h) darba dienas | G18: 1 | H18: 9 | I18: 21 | J18: =IF(H18="",0,IF((I18-H18<=0),(24-H18+I18),(I18-H18))) -> 12 | K18: 0 | L18: 9 | M18: 21 | N18: =IF(L18="",0,IF((M18-L18<=0),(24-L18+M18),(M18-L18))) -> 12 | O18: 0 | P18: 9 | Q18: 21 | R18: =IF(P18="",0,IF((Q18-P18<=0),(24-P18+Q18),(Q18-P18))) -> 12 | S18: 0 | T18: 9 | U18: 21 | V18: =IF(T18="",0,IF((U18-T18<=0),(24-T18+U18),(U18-T18))) -> 12 | W18: 0 | X18: 9 | Y18: 21 | Z18: =IF(X18="",0,IF((Y18-X18<=0),(24-X18+Y18),(Y18-X18))) -> 12 | AA18: 0 | AD18: =IF(AB18="",0,IF((AC18-AB18<=0),(24-AB18+AC18),(AC18-AB18))) -> 0 | AE18: 0 | AH18: =IF(AF18="",0,IF((AG18-AF18<=0),(24-AF18+AG18),(AG18-AF18))) -> 0 | AI18: 0 | AJ18: 9 | AK18: 21 | AL18: =IF(AJ18="",0,IF((AK18-AJ18<=0),(24-AJ18+AK18),(AK18-AJ18))) -> 12 | AM18: 0 | AN18: =J18+N18+R18+V18+Z18+AD18+AH18+AL18 -> 72 | AO18: =IF(AN18=0,0,((J18*$C$114)+($D$114*N18)+(R18*$E$114)+(V18*$F$114)+($G$114*Z18)+(AD18*$H$115)+($I$116*AH18)+(AL18*$J$117)*G18)) -> 3216 | AP18: =IF(AN18=0,0,((K18*$C$114)+($D$114*O18)+(S18*$E$114)+(W18*$F$114)+($G$114*AA18)+(AE18*$H$115)+($I$116*AI18)+(AM18*$J$117)*G18)) -> 0 | AQ18: =AL18*$J$117*G18 -> 216 | AR18: =AO18/$L$113 -> 1.6047904 | AS18: =AR18*0.09091 -> 0.1458915 | AT18: =AS18+AR18 -> 1.7506819 | AU18: =$BD$12 -> 2083 | AV18: =AU18/160*AV13 -> 16.924375 | AW18: =AV18*AO18 -> 54428.79 | AX18: =$AX$13*AV18*AP18 -> 0 | AY18: =AV18*AQ18 -> 3655.665 | AZ18: =AV18*$AZ$13*AO18 -> 1360.7198 | BA18: =SUM(AW18:AZ18) -> 59445.175 | BB18: =(AW18+AX18+AY18+AZ18)*1.2359 -> 73468.291 | BD18: U | BE18: A | BF18: n
B19: Speciālists, kurš nodrošina palīdzību 24/7 | G19: 1 | H19: 8 | I19: 8 | J19: =IF(H19="",0,IF((I19-H19<=0),(24-H19+I19),(I19-H19))) -> 24 | K19: 8 | L19: 8 | M19: 8 | N19: =IF(L19="",0,IF((M19-L19<=0),(24-L19+M19),(M19-L19))) -> 24 | O19: 8 | P19: 8 | Q19: 8 | R19: =IF(P19="",0,IF((Q19-P19<=0),(24-P19+Q19),(Q19-P19))) -> 24 | S19: 8 | T19: 8 | U19: 8 | V19: =IF(T19="",0,IF((U19-T19<=0),(24-T19+U19),(U19-T19))) -> 24 | W19: 8 | X19: 8 | Y19: 8 | Z19: =IF(X19="",0,IF((Y19-X19<=0),(24-X19+Y19),(Y19-X19))) -> 24 | AA19: 8 | AB19: 8 | AC19: 8 | AD19: =IF(AB19="",0,IF((AC19-AB19<=0),(24-AB19+AC19),(AC19-AB19))) -> 24 | AE19: 8 | AF19: 8 | AG19: 8 | AH19: =IF(AF19="",0,IF((AG19-AF19<=0),(24-AF19+AG19),(AG19-AF19))) -> 24 | AI19: 8 | AJ19: 8 | AK19: 8 | AL19: =IF(AJ19="",0,IF((AK19-AJ19<=0),(24-AJ19+AK19),(AK19-AJ19))) -> 24 | AM19: 8 | AN19: =J19+N19+R19+V19+Z19+AD19+AH19+AL19 -> 192 | AO19: =IF(AN19=0,0,((J19*$C$114)+($D$114*N19)+(R19*$E$114)+(V19*$F$114)+($G$114*Z19)+(AD19*$H$115)+($I$116*AH19)+(AL19*$J$117)*G19)) -> 8736 | AP19: =IF(AN19=0,0,((K19*$C$114)+($D$114*O19)+(S19*$E$114)+(W19*$F$114)+($G$114*AA19)+(AE19*$H$115)+($I$116*AI19)+(AM19*$J$117)*G19)) -> 2912 | AQ19: =AL19*$J$117*G19 -> 432 | AR19: =AO19/$L$113 -> 4.3592814 | AS19: =AR19*0.09091 -> 0.39630228 | AT19: =AS19+AR19 -> 4.7555837 | AU19: =$BD$12 -> 2083 | AV19: =AU19/160*AV13 -> 16.924375 | AW19: =AV19*AO19 -> 147851.34 | AX19: =$AX$13*AV19*AP19 -> 24641.89 | AY19: =AV19*AQ19 -> 7311.33 | AZ19: =AV19*$AZ$13*AO19 -> 3696.2835 | BA19: =SUM(AW19:AZ19) -> 183500.84 | BB19: =((AW19+AX19+AY19+AZ19)*1.2359)+((AW19+AX19+AY19+AZ19)*$BD$19)+((AW19+AX19+AY19+AZ19)*$BE$19)+((AW19+AX19+AY19+AZ19)*$BF$19)+BE15 -> 302668.86 | BD19: 0.2812 | BE19: 0.0219 | BF19: 0.0349
B20: Radiologs, diagnosts (mājas dežūra) | G20: 1 | H20: 8 | I20: 8 | J20: =IF(H20="",0,IF((I20-H20<=0),(24-H20+I20),(I20-H20))) -> 24 | K20: 8 | L20: 8 | M20: 8 | N20: =IF(L20="",0,IF((M20-L20<=0),(24-L20+M20),(M20-L20))) -> 24 | O20: 8 | P20: 8 | Q20: 8 | R20: =IF(P20="",0,IF((Q20-P20<=0),(24-P20+Q20),(Q20-P20))) -> 24 | S20: 8 | T20: 8 | U20: 8 | V20: =IF(T20="",0,IF((U20-T20<=0),(24-T20+U20),(U20-T20))) -> 24 | W20: 8 | X20: 8 | Y20: 8 | Z20: =IF(X20="",0,IF((Y20-X20<=0),(24-X20+Y20),(Y20-X20))) -> 24 | AA20: 8 | AB20: 8 | AC20: 8 | AD20: =IF(AB20="",0,IF((AC20-AB20<=0),(24-AB20+AC20),(AC20-AB20))) -> 24 | AE20: 8 | AF20: 8 | AG20: 8 | AH20: =IF(AF20="",0,IF((AG20-AF20<=0),(24-AF20+AG20),(AG20-AF20))) -> 24 | AI20: 8 | AJ20: 8 | AK20: 8 | AL20: =IF(AJ20="",0,IF((AK20-AJ20<=0),(24-AJ20+AK20),(AK20-AJ20))) -> 24 | AM20: 9 | AN20: =J20+N20+R20+V20+Z20+AD20+AH20+AL20 -> 192 | AO20: =IF(AN20=0,0,((J20*$C$114)+($D$114*N20)+(R20*$E$114)+(V20*$F$114)+($G$114*Z20)+(AD20*$H$115)+($I$116*AH20)+(AL20*$J$117)*G20)) -> 8736 | AP20: =IF(AN20=0,0,((K20*$C$114)+($D$114*O20)+(S20*$E$114)+(W20*$F$114)+($G$114*AA20)+(AE20*$H$115)+($I$116*AI20)+(AM20*$J$117)*G20)) -> 2930 | AQ20: =AL20*$J$117*G20 -> 432 | AR20: =AO20/$L$113 -> 4.3592814 | AS20: =AR20*0.09091 -> 0.39630228 | AT20: =AS20+AR20 -> 4.7555837 | AU20: =$BD$12*0.75 -> 1562.25 | AV20: =AU20/160*AV13 -> 12.693281 | AW20: =AV20*AO20 -> 110888.51 | AX20: =$AX$13*AV20*AP20 -> 18595.657 | AY20: =AV20*AQ20 -> 5483.4975 | AZ20: =AV20*$AZ$13*AO20 -> 2772.2126 | BA20: =SUM(AW20:AZ20) -> 137739.87 | BB20: =(AW20+AX20+AY20+AZ20)*1.2359 -> 170232.71
BA21: =SUM(AW21:AZ21) -> 0
BA22: =SUM(AW22:AZ22) -> 0
A23: MĀSA | B23: Dežūrārsts (8.00-16.00) brīvdienas | G23: 1 | AB23: 8 | AC23: 16 | AD23: =IF(AB23="",0,IF((AC23-AB23<=0),(24-AB23+AC23),(AC23-AB23))) -> 8 | AF23: 8 | AG23: 16 | AH23: =IF(AF23="",0,IF((AG23-AF23<=0),(24-AF23+AG23),(AG23-AF23))) -> 8 | AJ23: 8 | AK23: 16 | AL23: =IF(AJ23="",0,IF((AK23-AJ23<=0),(24-AJ23+AK23),(AK23-AJ23))) -> 8 | AN23: =J23+N23+R23+V23+Z23+AD23+AH23+AL23 -> 24 | AO23: =IF(AN23=0,0,((J23*$C$114)+($D$114*N23)+(R23*$E$114)+(V23*$F$114)+($G$114*Z23)+(AD23*$H$115)+($I$116*AH23)+(AL23*$J$117)*G23)) -> 912 | AP23: =IF(AN23=0,0,((K23*$C$114)+($D$114*O23)+(S23*$E$114)+(W23*$F$114)+($G$114*AA23)+(AE23*$H$115)+($I$116*AI23)+(AM23*$J$117)*G23)) -> 0 | AQ23: =AL23*$J$117*G23 -> 144 | AR23: =AO23/$L$113 -> 0.45508982 | AS23: =AR23*0.09091 -> 0.041372216 | AT23: =AS23+AR23 -> 0.49646204 | AU23: =$BD$13 -> 1303 | AV23: =AU23/160*$AV$13 -> 10.586875 | AW23: =AV23*AO23 -> 9655.23 | AX23: =$AX$13*AV23*AP23 -> 0 | AY23: =AV23*AQ23 -> 1524.51 | AZ23: =AV23*$AZ$13*AO23 -> 241.38075 | BA23: =SUM(AW23:AZ23) -> 11421.121 | BB23: =(AW23+AX23+AY23+AZ23)*1.2359 -> 14115.363
B24: Dežūrārsts (16.00-8.00) darba dienas | G24: 1 | H24: 16 | I24: 8 | J24: =IF(H24="",0,IF((I24-H24<=0),(24-H24+I24),(I24-H24))) -> 16 | K24: 8 | L24: 16 | M24: 8 | N24: =IF(L24="",0,IF((M24-L24<=0),(24-L24+M24),(M24-L24))) -> 16 | O24: 8 | P24: 16 | Q24: 8 | R24: =IF(P24="",0,IF((Q24-P24<=0),(24-P24+Q24),(Q24-P24))) -> 16 | S24: 8 | T24: 16 | U24: 8 | V24: =IF(T24="",0,IF((U24-T24<=0),(24-T24+U24),(U24-T24))) -> 16 | W24: 8 | X24: 16 | Y24: 8 | Z24: =IF(X24="",0,IF((Y24-X24<=0),(24-X24+Y24),(Y24-X24))) -> 16 | AA24: 8 | AN24: =J24+N24+R24+V24+Z24+AD24+AH24+AL24 -> 80 | AO24: =IF(AN24=0,0,((J24*$C$114)+($D$114*N24)+(R24*$E$114)+(V24*$F$114)+($G$114*Z24)+(AD24*$H$115)+($I$116*AH24)+(AL24*$J$117)*G24)) -> 4000 | AP24: =IF(AN24=0,0,((K24*$C$114)+($D$114*O24)+(S24*$E$114)+(W24*$F$114)+($G$114*AA24)+(AE24*$H$115)+($I$116*AI24)+(AM24*$J$117)*G24)) -> 2000 | AQ24: =AL24*$J$117*G24 -> 0 | AR24: =AO24/$L$113 -> 1.996008 | AS24: =AR24*0.09091 -> 0.18145709 | AT24: =AS24+AR24 -> 2.1774651 | AU24: =$BD$13 -> 1303 | AV24: =AU24/160*$AV$13 -> 10.586875 | AW24: =AV24*AO24 -> 42347.5 | AX24: =$AX$13*AV24*AP24 -> 10586.875 | AY24: =AV24*AQ24 -> 0 | AZ24: =AV24*$AZ$13*AO24 -> 1058.6875 | BA24: =SUM(AW24:AZ24) -> 53993.063 | BB24: =(AW24+AX24+AY24+AZ24)*1.2359 -> 66730.026
B25: Dežūrārsts 9.00-21.00 (12h) darba dienas | G25: 1 | H25: 9 | I25: 21 | J25: =IF(H25="",0,IF((I25-H25<=0),(24-H25+I25),(I25-H25))) -> 12 | K25: 0 | L25: 9 | M25: 21 | N25: =IF(L25="",0,IF((M25-L25<=0),(24-L25+M25),(M25-L25))) -> 12 | O25: 0 | P25: 9 | Q25: 21 | R25: =IF(P25="",0,IF((Q25-P25<=0),(24-P25+Q25),(Q25-P25))) -> 12 | S25: 0 | T25: 9 | U25: 21 | V25: =IF(T25="",0,IF((U25-T25<=0),(24-T25+U25),(U25-T25))) -> 12 | W25: 0 | X25: 9 | Y25: 21 | Z25: =IF(X25="",0,IF((Y25-X25<=0),(24-X25+Y25),(Y25-X25))) -> 12 | AA25: 0 | AD25: =IF(AB25="",0,IF((AC25-AB25<=0),(24-AB25+AC25),(AC25-AB25))) -> 0 | AE25: 0 | AH25: =IF(AF25="",0,IF((AG25-AF25<=0),(24-AF25+AG25),(AG25-AF25))) -> 0 | AI25: 0 | AJ25: 9 | AK25: 21 | AL25: =IF(AJ25="",0,IF((AK25-AJ25<=0),(24-AJ25+AK25),(AK25-AJ25))) -> 12 | AM25: 0 | AN25: =J25+N25+R25+V25+Z25+AD25+AH25+AL25 -> 72 | AO25: =IF(AN25=0,0,((J25*$C$114)+($D$114*N25)+(R25*$E$114)+(V25*$F$114)+($G$114*Z25)+(AD25*$H$115)+($I$116*AH25)+(AL25*$J$117)*G25)) -> 3216 | AP25: =IF(AN25=0,0,((K25*$C$114)+($D$114*O25)+(S25*$E$114)+(W25*$F$114)+($G$114*AA25)+(AE25*$H$115)+($I$116*AI25)+(AM25*$J$117)*G25)) -> 0 | AQ25: =AL25*$J$117*G25 -> 216 | AR25: =AO25/$L$113 -> 1.6047904 | AS25: =AR25*0.09091 -> 0.1458915 | AT25: =AS25+AR25 -> 1.7506819 | AU25: =$BD$13 -> 1303 | AV25: =AU25/160*$AV$13 -> 10.586875 | AW25: =AV25*AO25 -> 34047.39 | AX25: =$AX$13*AV25*AP25 -> 0 | AY25: =AV25*AQ25 -> 2286.765 | AZ25: =AV25*$AZ$13*AO25 -> 851.18475 | BA25: =SUM(AW25:AZ25) -> 37185.34 | BB25: =(AW25+AX25+AY25+AZ25)*1.2359 -> 45957.361
B26: Speciālists, kurš nodrošina palīdzību 24/7 | G26: 1 | H26: 8 | I26: 8 | J26: =IF(H26="",0,IF((I26-H26<=0),(24-H26+I26),(I26-H26))) -> 24 | K26: 8 | L26: 8 | M26: 8 | N26: =IF(L26="",0,IF((M26-L26<=0),(24-L26+M26),(M26-L26))) -> 24 | O26: 8 | P26: 8 | Q26: 8 | R26: =IF(P26="",0,IF((Q26-P26<=0),(24-P26+Q26),(Q26-P26))) -> 24 | S26: 8 | T26: 8 | U26: 8 | V26: =IF(T26="",0,IF((U26-T26<=0),(24-T26+U26),(U26-T26))) -> 24 | W26: 8 | X26: 8 | Y26: 8 | Z26: =IF(X26="",0,IF((Y26-X26<=0),(24-X26+Y26),(Y26-X26))) -> 24 | AA26: 8 | AB26: 8 | AC26: 8 | AD26: =IF(AB26="",0,IF((AC26-AB26<=0),(24-AB26+AC26),(AC26-AB26))) -> 24 | AE26: 8 | AF26: 8 | AG26: 8 | AH26: =IF(AF26="",0,IF((AG26-AF26<=0),(24-AF26+AG26),(AG26-AF26))) -> 24 | AI26: 8 | AJ26: 8 | AK26: 8 | AL26: =IF(AJ26="",0,IF((AK26-AJ26<=0),(24-AJ26+AK26),(AK26-AJ26))) -> 24 | AM26: 8 | AN26: =J26+N26+R26+V26+Z26+AD26+AH26+AL26 -> 192 | AO26: =IF(AN26=0,0,((J26*$C$114)+($D$114*N26)+(R26*$E$114)+(V26*$F$114)+($G$114*Z26)+(AD26*$H$115)+($I$116*AH26)+(AL26*$J$117)*G26)) -> 8736 | AP26: =IF(AN26=0,0,((K26*$C$114)+($D$114*O26)+(S26*$E$114)+(W26*$F$114)+($G$114*AA26)+(AE26*$H$115)+($I$116*AI26)+(AM26*$J$117)*G26)) -> 2912 | AQ26: =AL26*$J$117*G26 -> 432 | AR26: =AO26/$L$113 -> 4.3592814 | AS26: =AR26*0.09091 -> 0.39630228 | AT26: =AS26+AR26 -> 4.7555837 | AU26: =$BD$13 -> 1303 | AV26: =AU26/160*$AV$13 -> 10.586875 | AW26: =AV26*AO26 -> 92486.94 | AX26: =$AX$13*AV26*AP26 -> 15414.49 | AY26: =AV26*AQ26 -> 4573.53 | AZ26: =AV26*$AZ$13*AO26 -> 2312.1735 | BA26: =SUM(AW26:AZ26) -> 114787.13 | BB26: =((AW26+AX26+AY26+AZ26)*1.2359)+((AW26+AX26+AY26+AZ26)*$BD$19)+((AW26+AX26+AY26+AZ26)*$BE$19)+((AW26+AX26+AY26+AZ26)*$BF$19) -> 180663.47
BA27: =SUM(AW27:AZ27) -> 0
BA28: =SUM(AW28:AZ28) -> 0
BA29: =SUM(AW29:AZ29) -> 0
A30: MĀSAS PALĪGI | B30: Dežūrārsts (8.00-16.00) brīvdienas | G30: 1 | AB30: 8 | AC30: 16 | AD30: =IF(AB30="",0,IF((AC30-AB30<=0),(24-AB30+AC30),(AC30-AB30))) -> 8 | AF30: 8 | AG30: 16 | AH30: =IF(AF30="",0,IF((AG30-AF30<=0),(24-AF30+AG30),(AG30-AF30))) -> 8 | AJ30: 8 | AK30: 16 | AL30: =IF(AJ30="",0,IF((AK30-AJ30<=0),(24-AJ30+AK30),(AK30-AJ30))) -> 8 | AN30: =J30+N30+R30+V30+Z30+AD30+AH30+AL30 -> 24 | AO30: =IF(AN30=0,0,((J30*$C$114)+($D$114*N30)+(R30*$E$114)+(V30*$F$114)+($G$114*Z30)+(AD30*$H$115)+($I$116*AH30)+(AL30*$J$117)*G30)) -> 912 | AP30: =IF(AN30=0,0,((K30*$C$114)+($D$114*O30)+(S30*$E$114)+(W30*$F$114)+($G$114*AA30)+(AE30*$H$115)+($I$116*AI30)+(AM30*$J$117)*G30)) -> 0 | AQ30: =AL30*$J$117*G30 -> 144 | AR30: =AO30/$L$113 -> 0.45508982 | AS30: =AR30*0.09091 -> 0.041372216 | AT30: =AS30+AR30 -> 0.49646204 | AU30: =$BD$14 -> 865 | AV30: =AU30/160 -> 5.40625 | AW30: =AV30*AO30 -> 4930.5 | AX30: =$AX$13*AV30*AP30 -> 0 | AY30: =AV30*AQ30 -> 778.5 | AZ30: =AV30*$AZ$13*AO30 -> 123.2625 | BA30: =SUM(AW30:AZ30) -> 5832.2625 | BB30: =(AW30+AX30+AY30+AZ30)*1.2359 -> 7208.0932
B31: Dežūrārsts (16.00-8.00) darba dienas | G31: 1 | H31: 16 | I31: 8 | J31: =IF(H31="",0,IF((I31-H31<=0),(24-H31+I31),(I31-H31))) -> 16 | K31: 8 | L31: 16 | M31: 8 | N31: =IF(L31="",0,IF((M31-L31<=0),(24-L31+M31),(M31-L31))) -> 16 | O31: 8 | P31: 16 | Q31: 8 | R31: =IF(P31="",0,IF((Q31-P31<=0),(24-P31+Q31),(Q31-P31))) -> 16 | S31: 8 | T31: 16 | U31: 8 | V31: =IF(T31="",0,IF((U31-T31<=0),(24-T31+U31),(U31-T31))) -> 16 | W31: 8 | X31: 16 | Y31: 8 | Z31: =IF(X31="",0,IF((Y31-X31<=0),(24-X31+Y31),(Y31-X31))) -> 16 | AA31: 8 | AN31: =J31+N31+R31+V31+Z31+AD31+AH31+AL31 -> 80 | AO31: =IF(AN31=0,0,((J31*$C$114)+($D$114*N31)+(R31*$E$114)+(V31*$F$114)+($G$114*Z31)+(AD31*$H$115)+($I$116*AH31)+(AL31*$J$117)*G31)) -> 4000 | AP31: =IF(AN31=0,0,((K31*$C$114)+($D$114*O31)+(S31*$E$114)+(W31*$F$114)+($G$114*AA31)+(AE31*$H$115)+($I$116*AI31)+(AM31*$J$117)*G31)) -> 2000 | AQ31: =AL31*$J$117*G31 -> 0 | AR31: =AO31/$L$113 -> 1.996008 | AS31: =AR31*0.09091 -> 0.18145709 | AT31: =AS31+AR31 -> 2.1774651 | AU31: =$BD$14 -> 865 | AV31: =AU31/160 -> 5.40625 | AW31: =AV31*AO31 -> 21625 | AX31: =$AX$13*AV31*AP31 -> 5406.25 | AY31: =AV31*AQ31 -> 0 | AZ31: =AV31*$AZ$13*AO31 -> 540.625 | BA31: =SUM(AW31:AZ31) -> 27571.875 | BB31: =(AW31+AX31+AY31+AZ31)*1.2359 -> 34076.08
B32: Dežūrārsts 9.00-21.00 (12h) darba dienas | G32: 1 | H32: 9 | I32: 21 | J32: =IF(H32="",0,IF((I32-H32<=0),(24-H32+I32),(I32-H32))) -> 12 | K32: 0 | L32: 9 | M32: 21 | N32: =IF(L32="",0,IF((M32-L32<=0),(24-L32+M32),(M32-L32))) -> 12 | O32: 0 | P32: 9 | Q32: 21 | R32: =IF(P32="",0,IF((Q32-P32<=0),(24-P32+Q32),(Q32-P32))) -> 12 | S32: 0 | T32: 9 | U32: 21 | V32: =IF(T32="",0,IF((U32-T32<=0),(24-T32+U32),(U32-T32))) -> 12 | W32: 0 | X32: 9 | Y32: 21 | Z32: =IF(X32="",0,IF((Y32-X32<=0),(24-X32+Y32),(Y32-X32))) -> 12 | AA32: 0 | AD32: =IF(AB32="",0,IF((AC32-AB32<=0),(24-AB32+AC32),(AC32-AB32))) -> 0 | AE32: 0 | AH32: =IF(AF32="",0,IF((AG32-AF32<=0),(24-AF32+AG32),(AG32-AF32))) -> 0 | AI32: 0 | AJ32: 9 | AK32: 21 | AL32: =IF(AJ32="",0,IF((AK32-AJ32<=0),(24-AJ32+AK32),(AK32-AJ32))) -> 12 | AM32: 0 | AN32: =J32+N32+R32+V32+Z32+AD32+AH32+AL32 -> 72 | AO32: =IF(AN32=0,0,((J32*$C$114)+($D$114*N32)+(R32*$E$114)+(V32*$F$114)+($G$114*Z32)+(AD32*$H$115)+($I$116*AH32)+(AL32*$J$117)*G32)) -> 3216 | AP32: =IF(AN32=0,0,((K32*$C$114)+($D$114*O32)+(S32*$E$114)+(W32*$F$114)+($G$114*AA32)+(AE32*$H$115)+($I$116*AI32)+(AM32*$J$117)*G32)) -> 0 | AQ32: =AL32*$J$117*G32 -> 216 | AR32: =AO32/$L$113 -> 1.6047904 | AS32: =AR32*0.09091 -> 0.1458915 | AT32: =AS32+AR32 -> 1.7506819 | AU32: =$BD$14 -> 865 | AV32: =AU32/160 -> 5.40625 | AW32: =AV32*AO32 -> 17386.5 | AX32: =$AX$13*AV32*AP32 -> 0 | AY32: =AV32*AQ32 -> 1167.75 | AZ32: =AV32*$AZ$13*AO32 -> 434.6625 | BA32: =SUM(AW32:AZ32) -> 18988.912 | BB32: =(AW32+AX32+AY32+AZ32)*1.2359 -> 23468.397
B33: Speciālists, kurš nodrošina palīdzību 24/7 | G33: 1 | H33: 8 | I33: 8 | J33: =IF(H33="",0,IF((I33-H33<=0),(24-H33+I33),(I33-H33))) -> 24 | K33: 8 | L33: 8 | M33: 8 | N33: =IF(L33="",0,IF((M33-L33<=0),(24-L33+M33),(M33-L33))) -> 24 | O33: 8 | P33: 8 | Q33: 8 | R33: =IF(P33="",0,IF((Q33-P33<=0),(24-P33+Q33),(Q33-P33))) -> 24 | S33: 8 | T33: 8 | U33: 8 | V33: =IF(T33="",0,IF((U33-T33<=0),(24-T33+U33),(U33-T33))) -> 24 | W33: 8 | X33: 8 | Y33: 8 | Z33: =IF(X33="",0,IF((Y33-X33<=0),(24-X33+Y33),(Y33-X33))) -> 24 | AA33: 8 | AB33: 8 | AC33: 8 | AD33: =IF(AB33="",0,IF((AC33-AB33<=0),(24-AB33+AC33),(AC33-AB33))) -> 24 | AE33: 8 | AF33: 8 | AG33: 8 | AH33: =IF(AF33="",0,IF((AG33-AF33<=0),(24-AF33+AG33),(AG33-AF33))) -> 24 | AI33: 8 | AJ33: 8 | AK33: 8 | AL33: =IF(AJ33="",0,IF((AK33-AJ33<=0),(24-AJ33+AK33),(AK33-AJ33))) -> 24 | AM33: 8 | AN33: =J33+N33+R33+V33+Z33+AD33+AH33+AL33 -> 192 | AO33: =IF(AN33=0,0,((J33*$C$114)+($D$114*N33)+(R33*$E$114)+(V33*$F$114)+($G$114*Z33)+(AD33*$H$115)+($I$116*AH33)+(AL33*$J$117)*G33)) -> 8736 | AP33: =IF(AN33=0,0,((K33*$C$114)+($D$114*O33)+(S33*$E$114)+(W33*$F$114)+($G$114*AA33)+(AE33*$H$115)+($I$116*AI33)+(AM33*$J$117)*G33)) -> 2912 | AQ33: =AL33*$J$117*G33 -> 432 | AR33: =AO33/$L$113 -> 4.3592814 | AS33: =AR33*0.09091 -> 0.39630228 | AT33: =AS33+AR33 -> 4.7555837 | AU33: =$BD$14 -> 865 | AV33: =AU33/160 -> 5.40625 | AW33: =AV33*AO33 -> 47229 | AX33: =$AX$13*AV33*AP33 -> 7871.5 | AY33: =AV33*AQ33 -> 2335.5 | AZ33: =AV33*$AZ$13*AO33 -> 1180.725 | BA33: =SUM(AW33:AZ33) -> 58616.725 | BB33: =((AW33+AX33+AY33+AZ33)*1.2359)+((AW33+AX33+AY33+AZ33)*$BD$19)+((AW33+AX33+AY33+AZ33)*$BE$19)+((AW33+AX33+AY33+AZ33)*$BF$19) -> 92256.863
BA34: =SUM(AW34:AZ34) -> 0
BA35: =SUM(AW35:AZ35) -> 0
B36: PĀRĒJIE | H36: Pirmdienās | L36: Otrdienās | P36: Trešdienās | T36: Ceturtdienās | X36: Piektdienās | AB36: Sestdienās | AF36: Svētdienās | AJ36: Svētku un brīvdienās | AO36: Stundas vidēji gadā | BA36: =SUM(AW36:AZ36) -> 0
B37: Posteņa nosaukums | D37: Nedēļas dienas | E37: Posteņa veids | F37: % iesaiste, ja atbalsta postenis | G37: Posteņu skaits | H37: no | I37: līdz | J37: darba st | K37: t.sk. nakts st | L37: no | M37: līdz | N37: darba st | O37: t.sk. nakts st | P37: no | Q37: līdz | R37: darba st | S37: t.sk. nakts st | T37: no | U37: līdz | V37: darba st | W37: t.sk. nakts st | X37: no | Y37: līdz | Z37: darba st | AA37: t.sk. nakts st | AB37: no | AC37: līdz | AD37: darba st | AE37: t.sk. nakts st | AF37: no | AG37: līdz | AH37: darba st | AI37: t.sk. nakts st | AJ37: no | AK37: līdz | AL37: darba st | AM37: t.sk. nakts st | AN37: Tehniskā | AO37: Darba sundas | AP37: no tām nakts | AQ37: no tām svētku | AR37: slodzes | AS37: Atvaļinājuma rezerve | AT37: KOPĀ | AU37: Mēnešalga | AV37: Stundas likme (vidējā) | AW37: Samaksa gadā, EUR | AX37: Par Nakts stundām, EUR gadā | AY37: Par Svētku stundām, EUR gadā | AZ37: Īpašā riska piemaksa gadā, EUR | BA37: =SUM(AW37:AZ37) -> 0
A38: ĀRSTS | B38: Dežūrārsts (8.00-16.00) brīvdienas | G38: 1 | AB38: 8 | AC38: 16 | AD38: =IF(AB38="",0,IF((AC38-AB38<=0),(24-AB38+AC38),(AC38-AB38))) -> 8 | AF38: 8 | AG38: 16 | AH38: =IF(AF38="",0,IF((AG38-AF38<=0),(24-AF38+AG38),(AG38-AF38))) -> 8 | AJ38: 8 | AK38: 16 | AL38: =IF(AJ38="",0,IF((AK38-AJ38<=0),(24-AJ38+AK38),(AK38-AJ38))) -> 8 | AN38: =J38+N38+R38+V38+Z38+AD38+AH38+AL38 -> 24 | AO38: =IF(AN38=0,0,((J38*$C$114)+($D$114*N38)+(R38*$E$114)+(V38*$F$114)+($G$114*Z38)+(AD38*$H$115)+($I$116*AH38)+(AL38*$J$117)*G38)) -> 912 | AP38: =IF(AN38=0,0,((K38*$C$114)+($D$114*O38)+(S38*$E$114)+(W38*$F$114)+($G$114*AA38)+(AE38*$H$115)+($I$116*AI38)+(AM38*$J$117)*G38)) -> 0 | AQ38: =AL38*$J$117*G38 -> 144 | AR38: =AO38/$L$113 -> 0.45508982 | AS38: =AR38*0.09091 -> 0.041372216 | AT38: =AS38+AR38 -> 0.49646204 | AU38: =$BD$12 -> 2083 | AV38: =AU38/160 -> 13.01875 | AW38: =AV38*AO38 -> 11873.1 | AX38: =$AX$13*AV38*AP38 -> 0 | AY38: =AV38*AQ38 -> 1874.7 | AZ38: =AV38*$AZ$13*AO38 -> 296.8275 | BA38: =SUM(AW38:AZ38) -> 14044.628 | BB38: =(AW38+AX38+AY38+AZ38)*1.2359 -> 17357.755
B39: Dežūrārsts (16.00-8.00) darba dienas | G39: 1 | H39: 16 | I39: 8 | J39: =IF(H39="",0,IF((I39-H39<=0),(24-H39+I39),(I39-H39))) -> 16 | K39: 8 | L39: 16 | M39: 8 | N39: =IF(L39="",0,IF((M39-L39<=0),(24-L39+M39),(M39-L39))) -> 16 | O39: 8 | P39: 16 | Q39: 8 | R39: =IF(P39="",0,IF((Q39-P39<=0),(24-P39+Q39),(Q39-P39))) -> 16 | S39: 8 | T39: 16 | U39: 8 | V39: =IF(T39="",0,IF((U39-T39<=0),(24-T39+U39),(U39-T39))) -> 16 | W39: 8 | X39: 16 | Y39: 8 | Z39: =IF(X39="",0,IF((Y39-X39<=0),(24-X39+Y39),(Y39-X39))) -> 16 | AA39: 8 | AN39: =J39+N39+R39+V39+Z39+AD39+AH39+AL39 -> 80 | AO39: =IF(AN39=0,0,((J39*$C$114)+($D$114*N39)+(R39*$E$114)+(V39*$F$114)+($G$114*Z39)+(AD39*$H$115)+($I$116*AH39)+(AL39*$J$117)*G39)) -> 4000 | AP39: =IF(AN39=0,0,((K39*$C$114)+($D$114*O39)+(S39*$E$114)+(W39*$F$114)+($G$114*AA39)+(AE39*$H$115)+($I$116*AI39)+(AM39*$J$117)*G39)) -> 2000 | AQ39: =AL39*$J$117*G39 -> 0 | AR39: =AO39/$L$113 -> 1.996008 | AS39: =AR39*0.09091 -> 0.18145709 | AT39: =AS39+AR39 -> 2.1774651 | AU39: =$BD$12 -> 2083 | AV39: =AU39/160 -> 13.01875 | AW39: =AV39*AO39 -> 52075 | AX39: =$AX$13*AV39*AP39 -> 13018.75 | AY39: =AV39*AQ39 -> 0 | AZ39: =AV39*$AZ$13*AO39 -> 1301.875 | BA39: =SUM(AW39:AZ39) -> 66395.625 | BB39: =(AW39+AX39+AY39+AZ39)*1.2359 -> 82058.353
B40: Dežūrārsts 9.00-21.00 (12h) darba dienas | G40: 1 | H40: 9 | I40: 21 | J40: =IF(H40="",0,IF((I40-H40<=0),(24-H40+I40),(I40-H40))) -> 12 | K40: 0 | L40: 9 | M40: 21 | N40: =IF(L40="",0,IF((M40-L40<=0),(24-L40+M40),(M40-L40))) -> 12 | O40: 0 | P40: 9 | Q40: 21 | R40: =IF(P40="",0,IF((Q40-P40<=0),(24-P40+Q40),(Q40-P40))) -> 12 | S40: 0 | T40: 9 | U40: 21 | V40: =IF(T40="",0,IF((U40-T40<=0),(24-T40+U40),(U40-T40))) -> 12 | W40: 0 | X40: 9 | Y40: 21 | Z40: =IF(X40="",0,IF((Y40-X40<=0),(24-X40+Y40),(Y40-X40))) -> 12 | AA40: 0 | AD40: =IF(AB40="",0,IF((AC40-AB40<=0),(24-AB40+AC40),(AC40-AB40))) -> 0 | AE40: 0 | AH40: =IF(AF40="",0,IF((AG40-AF40<=0),(24-AF40+AG40),(AG40-AF40))) -> 0 | AI40: 0 | AJ40: 9 | AK40: 21 | AL40: =IF(AJ40="",0,IF((AK40-AJ40<=0),(24-AJ40+AK40),(AK40-AJ40))) -> 12 | AM40: 0 | AN40: =J40+N40+R40+V40+Z40+AD40+AH40+AL40 -> 72 | AO40: =IF(AN40=0,0,((J40*$C$114)+($D$114*N40)+(R40*$E$114)+(V40*$F$114)+($G$114*Z40)+(AD40*$H$115)+($I$116*AH40)+(AL40*$J$117)*G40)) -> 3216 | AP40: =IF(AN40=0,0,((K40*$C$114)+($D$114*O40)+(S40*$E$114)+(W40*$F$114)+($G$114*AA40)+(AE40*$H$115)+($I$116*AI40)+(AM40*$J$117)*G40)) -> 0 | AQ40: =AL40*$J$117*G40 -> 216 | AR40: =AO40/$L$113 -> 1.6047904 | AS40: =AR40*0.09091 -> 0.1458915 | AT40: =AS40+AR40 -> 1.7506819 | AU40: =$BD$12 -> 2083 | AV40: =AU40/160 -> 13.01875 | AW40: =AV40*AO40 -> 41868.3 | AX40: =$AX$13*AV40*AP40 -> 0 | AY40: =AV40*AQ40 -> 2812.05 | AZ40: =AV40*$AZ$13*AO40 -> 1046.7075 | BA40: =SUM(AW40:AZ40) -> 45727.058 | BB40: =(AW40+AX40+AY40+AZ40)*1.2359 -> 56514.07
B41: Speciālists, kurš nodrošina palīdzību 24/7 | G41: 1 | H41: 8 | I41: 8 | J41: =IF(H41="",0,IF((I41-H41<=0),(24-H41+I41),(I41-H41))) -> 24 | K41: 8 | L41: 8 | M41: 8 | N41: =IF(L41="",0,IF((M41-L41<=0),(24-L41+M41),(M41-L41))) -> 24 | O41: 8 | P41: 8 | Q41: 8 | R41: =IF(P41="",0,IF((Q41-P41<=0),(24-P41+Q41),(Q41-P41))) -> 24 | S41: 8 | T41: 8 | U41: 8 | V41: =IF(T41="",0,IF((U41-T41<=0),(24-T41+U41),(U41-T41))) -> 24 | W41: 8 | X41: 8 | Y41: 8 | Z41: =IF(X41="",0,IF((Y41-X41<=0),(24-X41+Y41),(Y41-X41))) -> 24 | AA41: 8 | AB41: 8 | AC41: 8 | AD41: =IF(AB41="",0,IF((AC41-AB41<=0),(24-AB41+AC41),(AC41-AB41))) -> 24 | AE41: 8 | AF41: 8 | AG41: 8 | AH41: =IF(AF41="",0,IF((AG41-AF41<=0),(24-AF41+AG41),(AG41-AF41))) -> 24 | AI41: 8 | AJ41: 8 | AK41: 8 | AL41: =IF(AJ41="",0,IF((AK41-AJ41<=0),(24-AJ41+AK41),(AK41-AJ41))) -> 24 | AM41: 8 | AN41: =J41+N41+R41+V41+Z41+AD41+AH41+AL41 -> 192 | AO41: =IF(AN41=0,0,((J41*$C$114)+($D$114*N41)+(R41*$E$114)+(V41*$F$114)+($G$114*Z41)+(AD41*$H$115)+($I$116*AH41)+(AL41*$J$117)*G41)) -> 8736 | AP41: =IF(AN41=0,0,((K41*$C$114)+($D$114*O41)+(S41*$E$114)+(W41*$F$114)+($G$114*AA41)+(AE41*$H$115)+($I$116*AI41)+(AM41*$J$117)*G41)) -> 2912 | AQ41: =AL41*$J$117*G41 -> 432 | AR41: =AO41/$L$113 -> 4.3592814 | AS41: =AR41*0.09091 -> 0.39630228 | AT41: =AS41+AR41 -> 4.7555837 | AU41: =$BD$12 -> 2083 | AV41: =AU41/160 -> 13.01875 | AW41: =AV41*AO41 -> 113731.8 | AX41: =$AX$13*AV41*AP41 -> 18955.3 | AY41: =AV41*AQ41 -> 5624.1 | AZ41: =AV41*$AZ$13*AO41 -> 2843.295 | BA41: =SUM(AW41:AZ41) -> 141154.5 | BB41: =((AW41+AX41+AY41+AZ41)*1.2359)+((AW41+AX41+AY41+AZ41)*$BD$19)+((AW41+AX41+AY41+AZ41)*$BE$19)+((AW41+AX41+AY41+AZ41)*$BF$19)+BE15 -> 236019.94
B42: Radiologs, diagnosts (mājas dežūra) | G42: 1 | H42: 8 | I42: 8 | J42: =IF(H42="",0,IF((I42-H42<=0),(24-H42+I42),(I42-H42))) -> 24 | K42: 8 | L42: 8 | M42: 8 | N42: =IF(L42="",0,IF((M42-L42<=0),(24-L42+M42),(M42-L42))) -> 24 | O42: 8 | P42: 8 | Q42: 8 | R42: =IF(P42="",0,IF((Q42-P42<=0),(24-P42+Q42),(Q42-P42))) -> 24 | S42: 8 | T42: 8 | U42: 8 | V42: =IF(T42="",0,IF((U42-T42<=0),(24-T42+U42),(U42-T42))) -> 24 | W42: 8 | X42: 8 | Y42: 8 | Z42: =IF(X42="",0,IF((Y42-X42<=0),(24-X42+Y42),(Y42-X42))) -> 24 | AA42: 8 | AB42: 8 | AC42: 8 | AD42: =IF(AB42="",0,IF((AC42-AB42<=0),(24-AB42+AC42),(AC42-AB42))) -> 24 | AE42: 8 | AF42: 8 | AG42: 8 | AH42: =IF(AF42="",0,IF((AG42-AF42<=0),(24-AF42+AG42),(AG42-AF42))) -> 24 | AI42: 8 | AJ42: 8 | AK42: 8 | AL42: =IF(AJ42="",0,IF((AK42-AJ42<=0),(24-AJ42+AK42),(AK42-AJ42))) -> 24 | AM42: 9 | AN42: =J42+N42+R42+V42+Z42+AD42+AH42+AL42 -> 192 | AO42: =IF(AN42=0,0,((J42*$C$114)+($D$114*N42)+(R42*$E$114)+(V42*$F$114)+($G$114*Z42)+(AD42*$H$115)+($I$116*AH42)+(AL42*$J$117)*G42)) -> 8736 | AP42: =IF(AN42=0,0,((K42*$C$114)+($D$114*O42)+(S42*$E$114)+(W42*$F$114)+($G$114*AA42)+(AE42*$H$115)+($I$116*AI42)+(AM42*$J$117)*G42)) -> 2930 | AQ42: =AL42*$J$117*G42 -> 432 | AR42: =AO42/$L$113 -> 4.3592814 | AS42: =AR42*0.09091 -> 0.39630228 | AT42: =AS42+AR42 -> 4.7555837 | AU42: =$BD$12*0.75 -> 1562.25 | AV42: =AU42/160 -> 9.7640625 | AW42: =AV42*AO42 -> 85298.85 | AX42: =$AX$13*AV42*AP42 -> 14304.352 | AY42: =AV42*AQ42 -> 4218.075 | BA42: =SUM(AW42:AZ42) -> 103821.28 | BB42: =(AW42+AX42+AY42+AZ42)*1.2359 -> 128312.72
BA43: =SUM(AW43:AZ43) -> 0
BA44: =SUM(AW44:AZ44) -> 0
A45: MĀSA | B45: Dežūrārsts (8.00-16.00) brīvdienas | G45: 1 | AB45: 8 | AC45: 16 | AD45: =IF(AB45="",0,IF((AC45-AB45<=0),(24-AB45+AC45),(AC45-AB45))) -> 8 | AF45: 8 | AG45: 16 | AH45: =IF(AF45="",0,IF((AG45-AF45<=0),(24-AF45+AG45),(AG45-AF45))) -> 8 | AJ45: 8 | AK45: 16 | AL45: =IF(AJ45="",0,IF((AK45-AJ45<=0),(24-AJ45+AK45),(AK45-AJ45))) -> 8 | AN45: =J45+N45+R45+V45+Z45+AD45+AH45+AL45 -> 24 | AO45: =IF(AN45=0,0,((J45*$C$114)+($D$114*N45)+(R45*$E$114)+(V45*$F$114)+($G$114*Z45)+(AD45*$H$115)+($I$116*AH45)+(AL45*$J$117)*G45)) -> 912 | AP45: =IF(AN45=0,0,((K45*$C$114)+($D$114*O45)+(S45*$E$114)+(W45*$F$114)+($G$114*AA45)+(AE45*$H$115)+($I$116*AI45)+(AM45*$J$117)*G45)) -> 0 | AQ45: =AL45*$J$117*G45 -> 144 | AR45: =AO45/$L$113 -> 0.45508982 | AS45: =AR45*0.09091 -> 0.041372216 | AT45: =AS45+AR45 -> 0.49646204 | AU45: =$BD$13 -> 1303 | AV45: =AU45/160 -> 8.14375 | AW45: =AV45*AO45 -> 7427.1 | AX45: =$AX$13*AV45*AP45 -> 0 | AY45: =AV45*AQ45 -> 1172.7 | AZ45: =AV45*$AZ$13*AO45 -> 185.6775 | BA45: =SUM(AW45:AZ45) -> 8785.4775 | BB45: =(AW45+AX45+AY45+AZ45)*1.2359 -> 10857.972
B46: Dežūrārsts (16.00-8.00) darba dienas | G46: 1 | H46: 16 | I46: 8 | J46: =IF(H46="",0,IF((I46-H46<=0),(24-H46+I46),(I46-H46))) -> 16 | K46: 8 | L46: 16 | M46: 8 | N46: =IF(L46="",0,IF((M46-L46<=0),(24-L46+M46),(M46-L46))) -> 16 | O46: 8 | P46: 16 | Q46: 8 | R46: =IF(P46="",0,IF((Q46-P46<=0),(24-P46+Q46),(Q46-P46))) -> 16 | S46: 8 | T46: 16 | U46: 8 | V46: =IF(T46="",0,IF((U46-T46<=0),(24-T46+U46),(U46-T46))) -> 16 | W46: 8 | X46: 16 | Y46: 8 | Z46: =IF(X46="",0,IF((Y46-X46<=0),(24-X46+Y46),(Y46-X46))) -> 16 | AA46: 8 | AN46: =J46+N46+R46+V46+Z46+AD46+AH46+AL46 -> 80 | AO46: =IF(AN46=0,0,((J46*$C$114)+($D$114*N46)+(R46*$E$114)+(V46*$F$114)+($G$114*Z46)+(AD46*$H$115)+($I$116*AH46)+(AL46*$J$117)*G46)) -> 4000 | AP46: =IF(AN46=0,0,((K46*$C$114)+($D$114*O46)+(S46*$E$114)+(W46*$F$114)+($G$114*AA46)+(AE46*$H$115)+($I$116*AI46)+(AM46*$J$117)*G46)) -> 2000 | AQ46: =AL46*$J$117*G46 -> 0 | AR46: =AO46/$L$113 -> 1.996008 | AS46: =AR46*0.09091 -> 0.18145709 | AT46: =AS46+AR46 -> 2.1774651 | AU46: =$BD$13 -> 1303 | AV46: =AU46/160 -> 8.14375 | AW46: =AV46*AO46 -> 32575 | AX46: =$AX$13*AV46*AP46 -> 8143.75 | AY46: =AV46*AQ46 -> 0 | AZ46: =AV46*$AZ$13*AO46 -> 814.375 | BA46: =SUM(AW46:AZ46) -> 41533.125 | BB46: =(AW46+AX46+AY46+AZ46)*1.2359 -> 51330.789
B47: Dežūrārsts 9.00-21.00 (12h) darba dienas | G47: 1 | H47: 9 | I47: 21 | J47: =IF(H47="",0,IF((I47-H47<=0),(24-H47+I47),(I47-H47))) -> 12 | K47: 0 | L47: 9 | M47: 21 | N47: =IF(L47="",0,IF((M47-L47<=0),(24-L47+M47),(M47-L47))) -> 12 | O47: 0 | P47: 9 | Q47: 21 | R47: =IF(P47="",0,IF((Q47-P47<=0),(24-P47+Q47),(Q47-P47))) -> 12 | S47: 0 | T47: 9 | U47: 21 | V47: =IF(T47="",0,IF((U47-T47<=0),(24-T47+U47),(U47-T47))) -> 12 | W47: 0 | X47: 9 | Y47: 21 | Z47: =IF(X47="",0,IF((Y47-X47<=0),(24-X47+Y47),(Y47-X47))) -> 12 | AA47: 0 | AD47: =IF(AB47="",0,IF((AC47-AB47<=0),(24-AB47+AC47),(AC47-AB47))) -> 0 | AE47: 0 | AH47: =IF(AF47="",0,IF((AG47-AF47<=0),(24-AF47+AG47),(AG47-AF47))) -> 0 | AI47: 0 | AJ47: 9 | AK47: 21 | AL47: =IF(AJ47="",0,IF((AK47-AJ47<=0),(24-AJ47+AK47),(AK47-AJ47))) -> 12 | AM47: 0 | AN47: =J47+N47+R47+V47+Z47+AD47+AH47+AL47 -> 72 | AO47: =IF(AN47=0,0,((J47*$C$114)+($D$114*N47)+(R47*$E$114)+(V47*$F$114)+($G$114*Z47)+(AD47*$H$115)+($I$116*AH47)+(AL47*$J$117)*G47)) -> 3216 | AP47: =IF(AN47=0,0,((K47*$C$114)+($D$114*O47)+(S47*$E$114)+(W47*$F$114)+($G$114*AA47)+(AE47*$H$115)+($I$116*AI47)+(AM47*$J$117)*G47)) -> 0 | AQ47: =AL47*$J$117*G47 -> 216 | AR47: =AO47/$L$113 -> 1.6047904 | AS47: =AR47*0.09091 -> 0.1458915 | AT47: =AS47+AR47 -> 1.7506819 | AU47: =$BD$13 -> 1303 | AV47: =AU47/160 -> 8.14375 | AW47: =AV47*AO47 -> 26190.3 | AX47: =$AX$13*AV47*AP47 -> 0 | AY47: =AV47*AQ47 -> 1759.05 | AZ47: =AV47*$AZ$13*AO47 -> 654.7575 | BA47: =SUM(AW47:AZ47) -> 28604.108 | BB47: =(AW47+AX47+AY47+AZ47)*1.2359 -> 35351.816
B48: Speciālists, kurš nodrošina palīdzību 24/7 | G48: 1 | H48: 8 | I48: 8 | J48: =IF(H48="",0,IF((I48-H48<=0),(24-H48+I48),(I48-H48))) -> 24 | K48: 8 | L48: 8 | M48: 8 | N48: =IF(L48="",0,IF((M48-L48<=0),(24-L48+M48),(M48-L48))) -> 24 | O48: 8 | P48: 8 | Q48: 8 | R48: =IF(P48="",0,IF((Q48-P48<=0),(24-P48+Q48),(Q48-P48))) -> 24 | S48: 8 | T48: 8 | U48: 8 | V48: =IF(T48="",0,IF((U48-T48<=0),(24-T48+U48),(U48-T48))) -> 24 | W48: 8 | X48: 8 | Y48: 8 | Z48: =IF(X48="",0,IF((Y48-X48<=0),(24-X48+Y48),(Y48-X48))) -> 24 | AA48: 8 | AB48: 8 | AC48: 8 | AD48: =IF(AB48="",0,IF((AC48-AB48<=0),(24-AB48+AC48),(AC48-AB48))) -> 24 | AE48: 8 | AF48: 8 | AG48: 8 | AH48: =IF(AF48="",0,IF((AG48-AF48<=0),(24-AF48+AG48),(AG48-AF48))) -> 24 | AI48: 8 | AJ48: 8 | AK48: 8 | AL48: =IF(AJ48="",0,IF((AK48-AJ48<=0),(24-AJ48+AK48),(AK48-AJ48))) -> 24 | AM48: 8 | AN48: =J48+N48+R48+V48+Z48+AD48+AH48+AL48 -> 192 | AO48: =IF(AN48=0,0,((J48*$C$114)+($D$114*N48)+(R48*$E$114)+(V48*$F$114)+($G$114*Z48)+(AD48*$H$115)+($I$116*AH48)+(AL48*$J$117)*G48)) -> 8736 | AP48: =IF(AN48=0,0,((K48*$C$114)+($D$114*O48)+(S48*$E$114)+(W48*$F$114)+($G$114*AA48)+(AE48*$H$115)+($I$116*AI48)+(AM48*$J$117)*G48)) -> 2912 | AQ48: =AL48*$J$117*G48 -> 432 | AR48: =AO48/$L$113 -> 4.3592814 | AS48: =AR48*0.09091 -> 0.39630228 | AT48: =AS48+AR48 -> 4.7555837 | AU48: =$BD$13 -> 1303 | AV48: =AU48/160 -> 8.14375 | AW48: =AV48*AO48 -> 71143.8 | AX48: =$AX$13*AV48*AP48 -> 11857.3 | AY48: =AV48*AQ48 -> 3518.1 | AZ48: =AV48*$AZ$13*AO48 -> 1778.595 | BA48: =SUM(AW48:AZ48) -> 88297.795 | BB48: =((AW48+AX48+AY48+AZ48)*1.2359)+((AW48+AX48+AY48+AZ48)*$BD$19)+((AW48+AX48+AY48+AZ48)*$BE$19)+((AW48+AX48+AY48+AZ48)*$BF$19) -> 138971.9
BA49: =SUM(AW49:AZ49) -> 0
BA50: =SUM(AW50:AZ50) -> 0
BA51: =SUM(AW51:AZ51) -> 0
A52: MĀSAS PALĪGI | B52: Dežūrārsts (8.00-16.00) brīvdienas | G52: 1 | AB52: 8 | AC52: 16 | AD52: =IF(AB52="",0,IF((AC52-AB52<=0),(24-AB52+AC52),(AC52-AB52))) -> 8 | AF52: 8 | AG52: 16 | AH52: =IF(AF52="",0,IF((AG52-AF52<=0),(24-AF52+AG52),(AG52-AF52))) -> 8 | AJ52: 8 | AK52: 16 | AL52: =IF(AJ52="",0,IF((AK52-AJ52<=0),(24-AJ52+AK52),(AK52-AJ52))) -> 8 | AN52: =J52+N52+R52+V52+Z52+AD52+AH52+AL52 -> 24 | AO52: =IF(AN52=0,0,((J52*$C$114)+($D$114*N52)+(R52*$E$114)+(V52*$F$114)+($G$114*Z52)+(AD52*$H$115)+($I$116*AH52)+(AL52*$J$117)*G52)) -> 912 | AP52: =IF(AN52=0,0,((K52*$C$114)+($D$114*O52)+(S52*$E$114)+(W52*$F$114)+($G$114*AA52)+(AE52*$H$115)+($I$116*AI52)+(AM52*$J$117)*G52)) -> 0 | AQ52: =AL52*$J$117*G52 -> 144 | AR52: =AO52/$L$113 -> 0.45508982 | AS52: =AR52*0.09091 -> 0.041372216 | AT52: =AS52+AR52 -> 0.49646204 | AU52: =$BD$14 -> 865 | AV52: =AU52/160 -> 5.40625 | AW52: =AV52*AO52 -> 4930.5 | AX52: =$AX$13*AV52*AP52 -> 0 | AY52: =AV52*AQ52 -> 778.5 | AZ52: =AV52*$AZ$13*AO52 -> 123.2625 | BA52: =SUM(AW52:AZ52) -> 5832.2625 | BB52: =(AW52+AX52+AY52+AZ52)*1.2359 -> 7208.0932
B53: Dežūrārsts (16.00-8.00) darba dienas | G53: 1 | H53: 16 | I53: 8 | J53: =IF(H53="",0,IF((I53-H53<=0),(24-H53+I53),(I53-H53))) -> 16 | K53: 8 | L53: 16 | M53: 8 | N53: =IF(L53="",0,IF((M53-L53<=0),(24-L53+M53),(M53-L53))) -> 16 | O53: 8 | P53: 16 | Q53: 8 | R53: =IF(P53="",0,IF((Q53-P53<=0),(24-P53+Q53),(Q53-P53))) -> 16 | S53: 8 | T53: 16 | U53: 8 | V53: =IF(T53="",0,IF((U53-T53<=0),(24-T53+U53),(U53-T53))) -> 16 | W53: 8 | X53: 16 | Y53: 8 | Z53: =IF(X53="",0,IF((Y53-X53<=0),(24-X53+Y53),(Y53-X53))) -> 16 | AA53: 8 | AN53: =J53+N53+R53+V53+Z53+AD53+AH53+AL53 -> 80 | AO53: =IF(AN53=0,0,((J53*$C$114)+($D$114*N53)+(R53*$E$114)+(V53*$F$114)+($G$114*Z53)+(AD53*$H$115)+($I$116*AH53)+(AL53*$J$117)*G53)) -> 4000 | AP53: =IF(AN53=0,0,((K53*$C$114)+($D$114*O53)+(S53*$E$114)+(W53*$F$114)+($G$114*AA53)+(AE53*$H$115)+($I$116*AI53)+(AM53*$J$117)*G53)) -> 2000 | AQ53: =AL53*$J$117*G53 -> 0 | AR53: =AO53/$L$113 -> 1.996008 | AS53: =AR53*0.09091 -> 0.18145709 | AT53: =AS53+AR53 -> 2.1774651 | AU53: =$BD$14 -> 865 | AV53: =AU53/160 -> 5.40625 | AW53: =AV53*AO53 -> 21625 | AX53: =$AX$13*AV53*AP53 -> 5406.25 | AY53: =AV53*AQ53 -> 0 | AZ53: =AV53*$AZ$13*AO53 -> 540.625 | BA53: =SUM(AW53:AZ53) -> 27571.875 | BB53: =(AW53+AX53+AY53+AZ53)*1.2359 -> 34076.08
B54: Dežūrārsts 9.00-21.00 (12h) darba dienas | G54: 1 | H54: 9 | I54: 21 | J54: =IF(H54="",0,IF((I54-H54<=0),(24-H54+I54),(I54-H54))) -> 12 | K54: 0 | L54: 9 | M54: 21 | N54: =IF(L54="",0,IF((M54-L54<=0),(24-L54+M54),(M54-L54))) -> 12 | O54: 0 | P54: 9 | Q54: 21 | R54: =IF(P54="",0,IF((Q54-P54<=0),(24-P54+Q54),(Q54-P54))) -> 12 | S54: 0 | T54: 9 | U54: 21 | V54: =IF(T54="",0,IF((U54-T54<=0),(24-T54+U54),(U54-T54))) -> 12 | W54: 0 | X54: 9 | Y54: 21 | Z54: =IF(X54="",0,IF((Y54-X54<=0),(24-X54+Y54),(Y54-X54))) -> 12 | AA54: 0 | AD54: =IF(AB54="",0,IF((AC54-AB54<=0),(24-AB54+AC54),(AC54-AB54))) -> 0 | AE54: 0 | AH54: =IF(AF54="",0,IF((AG54-AF54<=0),(24-AF54+AG54),(AG54-AF54))) -> 0 | AI54: 0 | AJ54: 9 | AK54: 21 | AL54: =IF(AJ54="",0,IF((AK54-AJ54<=0),(24-AJ54+AK54),(AK54-AJ54))) -> 12 | AM54: 0 | AN54: =J54+N54+R54+V54+Z54+AD54+AH54+AL54 -> 72 | AO54: =IF(AN54=0,0,((J54*$C$114)+($D$114*N54)+(R54*$E$114)+(V54*$F$114)+($G$114*Z54)+(AD54*$H$115)+($I$116*AH54)+(AL54*$J$117)*G54)) -> 3216 | AP54: =IF(AN54=0,0,((K54*$C$114)+($D$114*O54)+(S54*$E$114)+(W54*$F$114)+($G$114*AA54)+(AE54*$H$115)+($I$116*AI54)+(AM54*$J$117)*G54)) -> 0 | AQ54: =AL54*$J$117*G54 -> 216 | AR54: =AO54/$L$113 -> 1.6047904 | AS54: =AR54*0.09091 -> 0.1458915 | AT54: =AS54+AR54 -> 1.7506819 | AU54: =$BD$14 -> 865 | AV54: =AU54/160 -> 5.40625 | AW54: =AV54*AO54 -> 17386.5 | AX54: =$AX$13*AV54*AP54 -> 0 | AY54: =AV54*AQ54 -> 1167.75 | AZ54: =AV54*$AZ$13*AO54 -> 434.6625 | BA54: =SUM(AW54:AZ54) -> 18988.912 | BB54: =(AW54+AX54+AY54+AZ54)*1.2359 -> 23468.397
B55: Speciālists, kurš nodrošina palīdzību 24/7 | G55: 1 | H55: 8 | I55: 8 | J55: =IF(H55="",0,IF((I55-H55<=0),(24-H55+I55),(I55-H55))) -> 24 | K55: 8 | L55: 8 | M55: 8 | N55: =IF(L55="",0,IF((M55-L55<=0),(24-L55+M55),(M55-L55))) -> 24 | O55: 8 | P55: 8 | Q55: 8 | R55: =IF(P55="",0,IF((Q55-P55<=0),(24-P55+Q55),(Q55-P55))) -> 24 | S55: 8 | T55: 8 | U55: 8 | V55: =IF(T55="",0,IF((U55-T55<=0),(24-T55+U55),(U55-T55))) -> 24 | W55: 8 | X55: 8 | Y55: 8 | Z55: =IF(X55="",0,IF((Y55-X55<=0),(24-X55+Y55),(Y55-X55))) -> 24 | AA55: 8 | AB55: 8 | AC55: 8 | AD55: =IF(AB55="",0,IF((AC55-AB55<=0),(24-AB55+AC55),(AC55-AB55))) -> 24 | AE55: 8 | AF55: 8 | AG55: 8 | AH55: =IF(AF55="",0,IF((AG55-AF55<=0),(24-AF55+AG55),(AG55-AF55))) -> 24 | AI55: 8 | AJ55: 8 | AK55: 8 | AL55: =IF(AJ55="",0,IF((AK55-AJ55<=0),(24-AJ55+AK55),(AK55-AJ55))) -> 24 | AM55: 8 | AN55: =J55+N55+R55+V55+Z55+AD55+AH55+AL55 -> 192 | AO55: =IF(AN55=0,0,((J55*$C$114)+($D$114*N55)+(R55*$E$114)+(V55*$F$114)+($G$114*Z55)+(AD55*$H$115)+($I$116*AH55)+(AL55*$J$117)*G55)) -> 8736 | AP55: =IF(AN55=0,0,((K55*$C$114)+($D$114*O55)+(S55*$E$114)+(W55*$F$114)+($G$114*AA55)+(AE55*$H$115)+($I$116*AI55)+(AM55*$J$117)*G55)) -> 2912 | AQ55: =AL55*$J$117*G55 -> 432 | AR55: =AO55/$L$113 -> 4.3592814 | AS55: =AR55*0.09091 -> 0.39630228 | AT55: =AS55+AR55 -> 4.7555837 | AU55: =$BD$14 -> 865 | AV55: =AU55/160 -> 5.40625 | AW55: =AV55*AO55 -> 47229 | AX55: =$AX$13*AV55*AP55 -> 7871.5 | AY55: =AV55*AQ55 -> 2335.5 | AZ55: =AV55*$AZ$13*AO55 -> 1180.725 | BA55: =SUM(AW55:AZ55) -> 58616.725 | BB55: =((AW55+AX55+AY55+AZ55)*1.2359)+((AW55+AX55+AY55+AZ55)*$BD$19)+((AW55+AX55+AY55+AZ55)*$BE$19)+((AW55+AX55+AY55+AZ55)*$BF$19) -> 92256.863
B58: 2023. gada darba dienu kalendārs
B59: Nedēļas diena / Mēnesis | C59: P | D59: O | E59: T | F59: C | G59: P | H59: S | I59: Sv | J59: KOPĀ dienas | K59: Darba dienas | L59: Darba stundas | M59: Svētku dienas | N59: Pārceltā brīvdiena
B60: Janvāris | I60: 1 | K60: 22 | L60: 176 | M60: 1
C61: =I60+1 -> 2 | D61: =C61+1 -> 3 | E61: =D61+1 -> 4 | F61: =E61+1 -> 5 | G61: =F61+1 -> 6 | H61: =G61+1 -> 7 | I61: =H61+1 -> 8
C62: =I61+1 -> 9 | D62: =C62+1 -> 10 | E62: =D62+1 -> 11 | F62: =E62+1 -> 12 | G62: =F62+1 -> 13 | H62: =G62+1 -> 14 | I62: =H62+1 -> 15
C63: =I62+1 -> 16 | D63: =C63+1 -> 17 | E63: =D63+1 -> 18 | F63: =E63+1 -> 19 | G63: =F63+1 -> 20 | H63: =G63+1 -> 21 | I63: =H63+1 -> 22
C64: =I63+1 -> 23 | D64: =C64+1 -> 24 | E64: =D64+1 -> 25 | F64: =E64+1 -> 26 | G64: =F64+1 -> 27 | H64: =G64+1 -> 28 | I64: =H64+1 -> 29
B65: Februāris | C65: =I64+1 -> 30 | D65: =C65+1 -> 31 | E65: 1 | F65: =E65+1 -> 2 | G65: =F65+1 -> 3 | H65: =G65+1 -> 4 | I65: =H65+1 -> 5 | K65: 20 | L65: 160
C66: =I65+1 -> 6 | D66: =C66+1 -> 7 | E66: =D66+1 -> 8 | F66: =E66+1 -> 9 | G66: =F66+1 -> 10 | H66: =G66+1 -> 11 | I66: =H66+1 -> 12
C67: =I66+1 -> 13 | D67: =C67+1 -> 14 | E67: =D67+1 -> 15 | F67: =E67+1 -> 16 | G67: =F67+1 -> 17 | H67: =G67+1 -> 18 | I67: =H67+1 -> 19
C68: =I67+1 -> 20 | D68: =C68+1 -> 21 | E68: =D68+1 -> 22 | F68: =E68+1 -> 23 | G68: =F68+1 -> 24 | H68: =G68+1 -> 25 | I68: =H68+1 -> 26
B69: Marts | C69: =I68+1 -> 27 | D69: =C69+1 -> 28 | E69: 1 | F69: =E69+1 -> 2 | G69: =F69+1 -> 3 | H69: =G69+1 -> 4 | I69: =H69+1 -> 5 | K69: 23 | L69: 184
C70: =I69+1 -> 6 | D70: =C70+1 -> 7 | E70: =D70+1 -> 8 | F70: =E70+1 -> 9 | G70: =F70+1 -> 10 | H70: =G70+1 -> 11 | I70: =H70+1 -> 12
C71: =I70+1 -> 13 | D71: =C71+1 -> 14 | E71: =D71+1 -> 15 | F71: =E71+1 -> 16 | G71: =F71+1 -> 17 | H71: =G71+1 -> 18 | I71: =H71+1 -> 19
C72: =I71+1 -> 20 | D72: =C72+1 -> 21 | E72: =D72+1 -> 22 | F72: =E72+1 -> 23 | G72: =F72+1 -> 24 | H72: =G72+1 -> 25 | I72: =H72+1 -> 26
B73: Aprīlis | C73: =I72+1 -> 27 | D73: =C73+1 -> 28 | E73: =D73+1 -> 29 | F73: =E73+1 -> 30 | G73: =F73+1 -> 31 | H73: 1 | I73: =H73+1 -> 2
C74: =I73+1 -> 3 | D74: =C74+1 -> 4 | E74: =D74+1 -> 5 | F74: =E74+1 -> 6 | G74: =F74+1 -> 7 | H74: =G74+1 -> 8 | I74: =H74+1 -> 9 | K74: 18 | L74: 143 | M74: 3
C75: =I74+1 -> 10 | D75: =C75+1 -> 11 | E75: =D75+1 -> 12 | F75: =E75+1 -> 13 | G75: =F75+1 -> 14 | H75: =G75+1 -> 15 | I75: =H75+1 -> 16
C76: =I75+1 -> 17 | D76: =C76+1 -> 18 | E76: =D76+1 -> 19 | F76: =E76+1 -> 20 | G76: =F76+1 -> 21 | H76: =G76+1 -> 22 | I76: =H76+1 -> 23
C77: =I76+1 -> 24 | D77: =C77+1 -> 25 | E77: =D77+1 -> 26 | F77: =E77+1 -> 27 | G77: =F77+1 -> 28 | H77: =G77+1 -> 29 | I77: =H77+1 -> 30
B78: Maijs | C78: 1 | D78: =C78+1 -> 2 | E78: =D78+1 -> 3 | F78: =E78+1 -> 4 | G78: =F78+1 -> 5 | H78: =G78+1 -> 6 | I78: =H78+1 -> 7 | K78: 21 | L78: 167 | M78: 4 | N78: 1
C79: =I78+1 -> 8 | D79: =C79+1 -> 9 | E79: =D79+1 -> 10 | F79: =E79+1 -> 11 | G79: =F79+1 -> 12 | H79: =G79+1 -> 13 | I79: =H79+1 -> 14
C80: =I79+1 -> 15 | D80: =C80+1 -> 16 | E80: =D80+1 -> 17 | F80: =E80+1 -> 18 | G80: =F80+1 -> 19 | H80: =G80+1 -> 20 | I80: =H80+1 -> 21
C81: =I80+1 -> 22 | D81: =C81+1 -> 23 | E81: =D81+1 -> 24 | F81: =E81+1 -> 25 | G81: =F81+1 -> 26 | H81: =G81+1 -> 27 | I81: =H81+1 -> 28
B82: Jūnijs | C82: =I81+1 -> 29 | D82: =C82+1 -> 30 | E82: =D82+1 -> 31 | F82: 1 | G82: =F82+1 -> 2 | H82: =G82+1 -> 3 | I82: =H82+1 -> 4 | K82: 21 | L82: 167 | M82: 2
C83: =I82+1 -> 5 | D83: =C83+1 -> 6 | E83: =D83+1 -> 7 | F83: =E83+1 -> 8 | G83: =F83+1 -> 9 | H83: =G83+1 -> 10 | I83: =H83+1 -> 11
C84: =I83+1 -> 12 | D84: =C84+1 -> 13 | E84: =D84+1 -> 14 | F84: =E84+1 -> 15 | G84: =F84+1 -> 16 | H84: =G84+1 -> 17 | I84: =H84+1 -> 18
C85: =I84+1 -> 19 | D85: =C85+1 -> 20 | E85: =D85+1 -> 21 | F85: =E85+1 -> 22 | G85: =F85+1 -> 23 | H85: =G85+1 -> 24 | I85: =H85+1 -> 25
B86: Jūlijs | C86: =I85+1 -> 26 | D86: =C86+1 -> 27 | E86: =D86+1 -> 28 | F86: =E86+1 -> 29 | G86: =F86+1 -> 30 | H86: 1 | I86: =H86+1 -> 2 | K86: 20 | L86: 160 | M86: 2
C87: =I86+1 -> 3 | D87: =C87+1 -> 4 | E87: =D87+1 -> 5 | F87: =E87+1 -> 6 | G87: =F87+1 -> 7 | H87: =G87+1 -> 8 | I87: =H87+1 -> 9
C88: =I87+1 -> 10 | D88: =C88+1 -> 11 | E88: =D88+1 -> 12 | F88: =E88+1 -> 13 | G88: =F88+1 -> 14 | H88: =G88+1 -> 15 | I88: =H88+1 -> 16
C89: =I88+1 -> 17 | D89: =C89+1 -> 18 | E89: =D89+1 -> 19 | F89: =E89+1 -> 20 | G89: =F89+1 -> 21 | H89: =G89+1 -> 22 | I89: =H89+1 -> 23
C90: =I89+1 -> 24 | D90: =C90+1 -> 25 | E90: =D90+1 -> 26 | F90: =E90+1 -> 27 | G90: =F90+1 -> 28 | H90: =G90+1 -> 29 | I90: =H90+1 -> 30
B91: Augusts | C91: =I90+1 -> 31 | D91: 1 | E91: =D91+1 -> 2 | F91: =E91+1 -> 3 | G91: =F91+1 -> 4 | H91: =G91+1 -> 5 | I91: =H91+1 -> 6 | K91: 23 | L91: 184
C92: =I91+1 -> 7 | D92: =C92+1 -> 8 | E92: =D92+1 -> 9 | F92: =E92+1 -> 10 | G92: =F92+1 -> 11 | H92: =G92+1 -> 12 | I92: =H92+1 -> 13
C93: =I92+1 -> 14 | D93: =C93+1 -> 15 | E93: =D93+1 -> 16 | F93: =E93+1 -> 17 | G93: =F93+1 -> 18 | H93: =G93+1 -> 19 | I93: =H93+1 -> 20
C94: =I93+1 -> 21 | D94: =C94+1 -> 22 | E94: =D94+1 -> 23 | F94: =E94+1 -> 24 | G94: =F94+1 -> 25 | H94: =G94+1 -> 26 | I94: =H94+1 -> 27
B95: Septembris | C95: =I94+1 -> 28 | D95: =C95+1 -> 29 | E95: =D95+1 -> 30 | F95: =E95+1 -> 31 | G95: 1 | H95: =G95+1 -> 2 | I95: =H95+1 -> 3 | K95: 21 | L95: 168
C96: =I95+1 -> 4 | D96: =C96+1 -> 5 | E96: =D96+1 -> 6 | F96: =E96+1 -> 7 | G96: =F96+1 -> 8 | H96: =G96+1 -> 9 | I96: =H96+1 -> 10
C97: =I96+1 -> 11 | D97: =C97+1 -> 12 | E97: =D97+1 -> 13 | F97: =E97+1 -> 14 | G97: =F97+1 -> 15 | H97: =G97+1 -> 16 | I97: =H97+1 -> 17
C98: =I97+1 -> 18 | D98: =C98+1 -> 19 | E98: =D98+1 -> 20 | F98: =E98+1 -> 21 | G98: =F98+1 -> 22 | H98: =G98+1 -> 23 | I98: =H98+1 -> 24
B99: Oktobris | C99: =I98+1 -> 25 | D99: =C99+1 -> 26 | E99: =D99+1 -> 27 | F99: =E99+1 -> 28 | G99: =F99+1 -> 29 | H99: =G99+1 -> 30 | I99: 1 | K99: 22 | L99: 176
C100: =I99+1 -> 2 | D100: =C100+1 -> 3 | E100: =D100+1 -> 4 | F100: =E100+1 -> 5 | G100: =F100+1 -> 6 | H100: =G100+1 -> 7 | I100: =H100+1 -> 8
C101: =I100+1 -> 9 | D101: =C101+1 -> 10 | E101: =D101+1 -> 11 | F101: =E101+1 -> 12 | G101: =F101+1 -> 13 | H101: =G101+1 -> 14 | I101: =H101+1 -> 15
C102: =I101+1 -> 16 | D102: =C102+1 -> 17 | E102: =D102+1 -> 18 | F102: =E102+1 -> 19 | G102: =F102+1 -> 20 | H102: =G102+1 -> 21 | I102: =H102+1 -> 22
...

Sheet 2024 uzņemšana elementi
I1: 4.3. pielikums
A2: Fiksētās piemaksas aprēķins par neatliekamās palīdzības un pacientu uzņemšanas nodaļas darbību no 01.04.2023.
A3: Saskaņā ar MK noteikumiem Nr. 555 "Veselības aprūpes pakalpojumu organizēšanas un samaksas kārtība" veselības aprūpes pakalpojumu tarifus aprēķina, izmantojot šādu formulu: TC = VC (D + S + M + E) + FC (U + A + N), kur TC – veselības aprūpes pakalpojuma tarifs; VC – mainīgās izmaksas (tiešās izmaksas): D – darba samaksa; S – valsts sociālās apdrošināšanas obligātās iemaksas; M – ārstniecības līdzekļi; E – izdevumi, saistīti ar pacientu ēdināšanu; FC – pastāvīgās izmaksas (netiešās izmaksas): U – pieskaitāmās un netiešās ražošanas izmaksas (ar pacientu uzturēšanu saistītie izdevumi pakalpojumu apmaksai, riska maksājuma veikšanai, materiālu, energoresursu, ūdens un inventāra iegādei); A – administratīvie izdevumi; N – nolietojums.
B4: Darba samaksa | C4: Valsts sociālās apdrošināšanas obligātās iemaksas | D4: Ārstniecības līdzekļi | E4: Līdzmaksājums | F4: Pieskaitāmās un netiešās ražošanas izmaksas | G4: Administratīvie izdevumi | H4: Nolietojums | I4: Kopā
A5: Slimnīcas / Speciālists | B5: D | C5: S | D5: M | E5: u` | F5: U | G5: A | H5: N | I5: Fiksētās piemaksas gada apjoms, EUR
A6: 1 | B6: 2 | C6: 3 | D6: 4 | E6: 5 | F6: 6 | G6: 7 | H6: 8 | I6: 10
A7: Paula Stradiņa klīniskā universitātes slimnīca | B7: =INDEX('Specialisti - aprekini_jaunais'!M$9:M$553, MATCH(A7, 'Specialisti - aprekini_jaunais'!B$9:B$552, 0)) -> 9399994.9 | C7: =B7*0.2359 -> 2217458.8 | D7: =INDEX('Specialisti - aprekini_jaunais'!N$9:N$552, MATCH(A7, 'Specialisti - aprekini_jaunais'!B$9:B$552, 0)) -> 290994.48 | F7: =B7*'Darba algas UZŅEMŠANĀ_jaunais'!$BD$19 -> 2643278.6 | G7: =B7*'Darba algas UZŅEMŠANĀ_jaunais'!$BE$19 -> 205859.89 | H7: =B7*'Darba algas UZŅEMŠANĀ_jaunais'!$BF$19 -> 328059.82 | I7: =INDEX('Specialisti - aprekini_jaunais'!I$9:I$552, MATCH(A7, 'Specialisti - aprekini_jaunais'!B$9:B$552, 0)) -> 15085647
A8: Rīgas Austrumu klīniskā universitātes slimnīca | B8: =INDEX('Specialisti - aprekini_jaunais'!M$9:M$553, MATCH(A8, 'Specialisti - aprekini_jaunais'!B$9:B$552, 0)) -> 12303752 | C8: =B8*0.2359 -> 2902455.1 | D8: =INDEX('Specialisti - aprekini_jaunais'!N$9:N$552, MATCH(A8, 'Specialisti - aprekini_jaunais'!B$9:B$552, 0)) -> 387992.64 | F8: =B8*'Darba algas UZŅEMŠANĀ_jaunais'!$BD$19 -> 3459815.1 | G8: =B8*'Darba algas UZŅEMŠANĀ_jaunais'!$BE$19 -> 269452.17 | H8: =B8*'Darba algas UZŅEMŠANĀ_jaunais'!$BF$19 -> 429400.95 | I8: =INDEX('Specialisti - aprekini_jaunais'!I$9:I$552, MATCH(A8, 'Specialisti - aprekini_jaunais'!B$9:B$552, 0)) -> 19752870
A9: Bērnu klīniskā universitātes slimnīca | B9: =INDEX('Specialisti - aprekini_jaunais'!M$9:M$553, MATCH(A9, 'Specialisti - aprekini_jaunais'!B$9:B$552, 0)) -> 6315494.7 | C9: =B9*0.2359 -> 1489825.2 | D9: =INDEX('Specialisti - aprekini_jaunais'!N$9:N$552, MATCH(A9, 'Specialisti - aprekini_jaunais'!B$9:B$552, 0)) -> 193996.32 | F9: =B9*'Darba algas UZŅEMŠANĀ_jaunais'!$BD$19 -> 1775917.1 | G9: =B9*'Darba algas UZŅEMŠANĀ_jaunais'!$BE$19 -> 138309.33 | H9: =B9*'Darba algas UZŅEMŠANĀ_jaunais'!$BF$19 -> 220410.77 | I9: =INDEX('Specialisti - aprekini_jaunais'!I$9:I$552, MATCH(A9, 'Specialisti - aprekini_jaunais'!B$9:B$552, 0)) -> 10133954
A10: Liepājas reģionālā slimnīca | B10: =INDEX('Specialisti - aprekini_jaunais'!M$9:M$553, MATCH(A10, 'Specialisti - aprekini_jaunais'!B$9:B$552, 0)) -> 2422531 | C10: =B10*0.2359 -> 571475.06 | D10: =INDEX('Specialisti - aprekini_jaunais'!N$9:N$552, MATCH(A10, 'Specialisti - aprekini_jaunais'!B$9:B$552, 0)) -> 110855.04 | F10: =B10*'Darba algas UZŅEMŠANĀ_jaunais'!$BD$19 -> 681215.71 | G10: =B10*'Darba algas UZŅEMŠANĀ_jaunais'!$BE$19 -> 53053.429 | H10: =B10*'Darba algas UZŅEMŠANĀ_jaunais'!$BF$19 -> 84546.331 | I10: =INDEX('Specialisti - aprekini_jaunais'!I$9:I$552, MATCH(A10, 'Specialisti - aprekini_jaunais'!B$9:B$552, 0)) -> 3923676.6
A11: Daugavpils reģionālā slimnīca | B11: =INDEX('Specialisti - aprekini_jaunais'!M$9:M$553, MATCH(A11, 'Specialisti - aprekini_jaunais'!B$9:B$552, 0)) -> 2851754.5 | C11: =B11*0.2359 -> 672728.89 | D11: =INDEX('Specialisti - aprekini_jaunais'!N$9:N$552, MATCH(A11, 'Specialisti - aprekini_jaunais'!B$9:B$552, 0)) -> 138568.8 | F11: =B11*'Darba algas UZŅEMŠANĀ_jaunais'!$BD$19 -> 801913.36 | G11: =B11*'Darba algas UZŅEMŠANĀ_jaunais'!$BE$19 -> 62453.423 | H11: =B11*'Darba algas UZŅEMŠANĀ_jaunais'!$BF$19 -> 99526.232 | I11: =INDEX('Specialisti - aprekini_jaunais'!I$9:I$552, MATCH(A11, 'Specialisti - aprekini_jaunais'!B$9:B$552, 0)) -> 4626945.2
A12: Ziemeļkurzemes reģionālā slimnīca, tajā skaitā Talsi | B12: =INDEX('Specialisti - aprekini_jaunais'!M$9:M$553, MATCH(A12, 'Specialisti - aprekini_jaunais'!B$9:B$552, 0)) -> 2940052.3 | C12: =B12*0.2359 -> 693558.34 | D12: =INDEX('Specialisti - aprekini_jaunais'!N$9:N$552, MATCH(A12, 'Specialisti - aprekini_jaunais'!B$9:B$552, 0)) -> 138568.8 | F12: =B12*'Darba algas UZŅEMŠANĀ_jaunais'!$BD$19 -> 826742.7 | G12: =B12*'Darba algas UZŅEMŠANĀ_jaunais'!$BE$19 -> 64387.145 | H12: =B12*'Darba algas UZŅEMŠANĀ_jaunais'!$BF$19 -> 102607.82 | I12: =INDEX('Specialisti - aprekini_jaunais'!I$9:I$552, MATCH(A12, 'Specialisti - aprekini_jaunais'!B$9:B$552, 0)) -> 4765917.4
A13: Jelgavas pilsētas slimnīca | B13: =INDEX('Specialisti - aprekini_jaunais'!M$9:M$553, MATCH(A13, 'Specialisti - aprekini_jaunais'!B$9:B$552, 0)) -> 2275616.5 | C13: =B13*0.2359 -> 536817.92 | D13: =INDEX('Specialisti - aprekini_jaunais'!N$9:N$552, MATCH(A13, 'Specialisti - aprekini_jaunais'!B$9:B$552, 0)) -> 110855.04 | F13: =B13*'Darba algas UZŅEMŠANĀ_jaunais'!$BD$19 -> 639903.35 | G13: =B13*'Darba algas UZŅEMŠANĀ_jaunais'!$BE$19 -> 49836.001 | H13: =B13*'Darba algas UZŅEMŠANĀ_jaunais'!$BF$19 -> 79419.015 | I13: =INDEX('Specialisti - aprekini_jaunais'!I$9:I$552, MATCH(A13, 'Specialisti - aprekini_jaunais'!B$9:B$552, 0)) -> 3692447.8
A14: Vidzemes slimnīca | B14: =INDEX('Specialisti - aprekini_jaunais'!M$9:M$553, MATCH(A14, 'Specialisti - aprekini_jaunais'!B$9:B$552, 0)) -> 2275616.5 | C14: =B14*0.2359 -> 536817.92 | D14: =INDEX('Specialisti - aprekini_jaunais'!N$9:N$552, MATCH(A14, 'Specialisti - aprekini_jaunais'!B$9:B$552, 0)) -> 110855.04 | F14: =B14*'Darba algas UZŅEMŠANĀ_jaunais'!$BD$19 -> 639903.35 | G14: =B14*'Darba algas UZŅEMŠANĀ_jaunais'!$BE$19 -> 49836.001 | H14: =B14*'Darba algas UZŅEMŠANĀ_jaunais'!$BF$19 -> 79419.015 | I14: =INDEX('Specialisti - aprekini_jaunais'!I$9:I$552, MATCH(A14, 'Specialisti - aprekini_jaunais'!B$9:B$552, 0)) -> 3692447.8
A15: Jēkabpils reģionālā slimnīca | B15: =INDEX('Specialisti - aprekini_jaunais'!M$9:M$553, MATCH(A15, 'Specialisti - aprekini_jaunais'!B$9:B$552, 0)) -> 2275616.5 | C15: =B15*0.2359 -> 536817.92 | D15: =INDEX('Specialisti - aprekini_jaunais'!N$9:N$552, MATCH(A15, 'Specialisti - aprekini_jaunais'!B$9:B$552, 0)) -> 110855.04 | F15: =B15*'Darba algas UZŅEMŠANĀ_jaunais'!$BD$19 -> 639903.35 | G15: =B15*'Darba algas UZŅEMŠANĀ_jaunais'!$BE$19 -> 49836.001 | H15: =B15*'Darba algas UZŅEMŠANĀ_jaunais'!$BF$19 -> 79419.015 | I15: =INDEX('Specialisti - aprekini_jaunais'!I$9:I$552, MATCH(A15, 'Specialisti - aprekini_jaunais'!B$9:B$552, 0)) -> 3692447.8
A16: Rēzeknes slimnīca | B16: =INDEX('Specialisti - aprekini_jaunais'!M$9:M$553, MATCH(A16, 'Specialisti - aprekini_jaunais'!B$9:B$552, 0)) -> 2275616.5 | C16: =B16*0.2359 -> 536817.92 | D16: =INDEX('Specialisti - aprekini_jaunais'!N$9:N$552, MATCH(A16, 'Specialisti - aprekini_jaunais'!B$9:B$552, 0)) -> 110855.04 | F16: =B16*'Darba algas UZŅEMŠANĀ_jaunais'!$BD$19 -> 639903.35 | G16: =B16*'Darba algas UZŅEMŠANĀ_jaunais'!$BE$19 -> 49836.001 | H16: =B16*'Darba algas UZŅEMŠANĀ_jaunais'!$BF$19 -> 79419.015 | I16: =INDEX('Specialisti - aprekini_jaunais'!I$9:I$552, MATCH(A16, 'Specialisti - aprekini_jaunais'!B$9:B$552, 0)) -> 3692447.8
A17: Madonas slimnīca | B17: =INDEX('Specialisti - aprekini_jaunais'!M$9:M$553, MATCH(A17, 'Specialisti - aprekini_jaunais'!B$9:B$552, 0)) -> 1699478.4 | C17: =B17*0.2359 -> 400906.96 | D17: =INDEX('Specialisti - aprekini_jaunais'!N$9:N$552, MATCH(A17, 'Specialisti - aprekini_jaunais'!B$9:B$552, 0)) -> 83141.28 | F17: =B17*'Darba algas UZŅEMŠANĀ_jaunais'!$BD$19 -> 477893.34 | G17: =B17*'Darba algas UZŅEMŠANĀ_jaunais'!$BE$19 -> 37218.578 | H17: =B17*'Darba algas UZŅEMŠANĀ_jaunais'!$BF$19 -> 59311.797 | I17: =INDEX('Specialisti - aprekini_jaunais'!I$9:I$552, MATCH(A17, 'Specialisti - aprekini_jaunais'!B$9:B$552, 0)) -> 2757950.4
A18: Cēsu klīnika | B18: =INDEX('Specialisti - aprekini_jaunais'!M$9:M$553, MATCH(A18, 'Specialisti - aprekini_jaunais'!B$9:B$552, 0)) -> 1056326.1 | C18: =B18*0.2359 -> 249187.33 | D18: =INDEX('Specialisti - aprekini_jaunais'!N$9:N$552, MATCH(A18, 'Specialisti - aprekini_jaunais'!B$9:B$552, 0)) -> 41570.64 | F18: =B18*'Darba algas UZŅEMŠANĀ_jaunais'!$BD$19-('Darba algas UZŅEMŠANĀ_jaunais'!$BD$19*'Darba algas UZŅEMŠANĀ_jaunais'!BA42) -> 267844.36 | G18: =B18*'Darba algas UZŅEMŠANĀ_jaunais'!$BE$19-('Darba algas UZŅEMŠANĀ_jaunais'!$BE$19*'Darba algas UZŅEMŠANĀ_jaunais'!BA42) -> 20859.856 | H18: =B18*'Darba algas UZŅEMŠANĀ_jaunais'!$BF$19-('Darba algas UZŅEMŠANĀ_jaunais'!$BF$19*'Darba algas UZŅEMŠANĀ_jaunais'!BA42) -> 33242.419 | I18: =INDEX('Specialisti - aprekini_jaunais'!I$9:I$552, MATCH(A18, 'Specialisti - aprekini_jaunais'!B$9:B$552, 0)) -> 1669030.7
A19: Dobeles slimnīca | B19: =INDEX('Specialisti - aprekini_jaunais'!M$9:M$553, MATCH(A19, 'Specialisti - aprekini_jaunais'!B$9:B$552, 0)) -> 1520990.7 | C19: =B19*0.2359 -> 358801.71 | D19: =INDEX('Specialisti - aprekini_jaunais'!N$9:N$552, MATCH(A19, 'Specialisti - aprekini_jaunais'!B$9:B$552, 0)) -> 55427.52 | F19: =B19*'Darba algas UZŅEMŠANĀ_jaunais'!$BD$19-('Darba algas UZŅEMŠANĀ_jaunais'!$BD$19*'Darba algas UZŅEMŠANĀ_jaunais'!BA42) -> 398508.05 | G19: =B19*'Darba algas UZŅEMŠANĀ_jaunais'!$BE$19-('Darba algas UZŅEMŠANĀ_jaunais'!$BE$19*'Darba algas UZŅEMŠANĀ_jaunais'!BA42) -> 31036.011 | H19: =B19*'Darba algas UZŅEMŠANĀ_jaunais'!$BF$19-('Darba algas UZŅEMŠANĀ_jaunais'!$BF$19*'Darba algas UZŅEMŠANĀ_jaunais'!BA42) -> 49459.214 | I19: =INDEX('Specialisti - aprekini_jaunais'!I$9:I$552, MATCH(A19, 'Specialisti - aprekini_jaunais'!B$9:B$552, 0)) -> 2414223.2
A20: Jūrmalas slimnīca | B20: =INDEX('Specialisti - aprekini_jaunais'!M$9:M$553, MATCH(A20, 'Specialisti - aprekini_jaunais'!B$9:B$552, 0)) -> 1699478.4 | C20: =B20*0.2359 -> 400906.96 | D20: =INDEX('Specialisti - aprekini_jaunais'!N$9:N$552, MATCH(A20, 'Specialisti - aprekini_jaunais'!B$9:B$552, 0)) -> 83141.28 | F20: =B20*'Darba algas UZŅEMŠANĀ_jaunais'!$BD$19 -> 477893.34 | G20: =B20*'Darba algas UZŅEMŠANĀ_jaunais'!$BE$19 -> 37218.578 | H20: =B20*'Darba algas UZŅEMŠANĀ_jaunais'!$BF$19 -> 59311.797 | I20: =INDEX('Specialisti - aprekini_jaunais'!I$9:I$552, MATCH(A20, 'Specialisti - aprekini_jaunais'!B$9:B$552, 0)) -> 2757950.4
A21: Ogres rajona slimnīca | B21: =INDEX('Specialisti - aprekini_jaunais'!M$9:M$553, MATCH(A21, 'Specialisti - aprekini_jaunais'!B$9:B$552, 0)) -> 1374076.2 | C21: =B21*0.2359 -> 324144.58 | D21: =INDEX('Specialisti - aprekini_jaunais'!N$9:N$552, MATCH(A21, 'Specialisti - aprekini_jaunais'!B$9:B$552, 0)) -> 55427.52 | F21: =B21*'Darba algas UZŅEMŠANĀ_jaunais'!$BD$19-('Darba algas UZŅEMŠANĀ_jaunais'!$BD$19*'Darba algas UZŅEMŠANĀ_jaunais'!BA42) -> 357195.68 | G21: =B21*'Darba algas UZŅEMŠANĀ_jaunais'!$BE$19-('Darba algas UZŅEMŠANĀ_jaunais'!$BE$19*'Darba algas UZŅEMŠANĀ_jaunais'!BA42) -> 27818.583 | H21: =B21*'Darba algas UZŅEMŠANĀ_jaunais'!$BF$19-('Darba algas UZŅEMŠANĀ_jaunais'!$BF$19*'Darba algas UZŅEMŠANĀ_jaunais'!BA42) -> 44331.897 | I21: =INDEX('Specialisti - aprekini_jaunais'!I$9:I$552, MATCH(A21, 'Specialisti - aprekini_jaunais'!B$9:B$552, 0)) -> 2182994.5
A22: Balvu un Gulbenes slimnīcu apvienība | B22: =INDEX('Specialisti - aprekini_jaunais'!M$9:M$553, MATCH(A22, 'Specialisti - aprekini_jaunais'!B$9:B$552, 0)) -> 1374076.2 | C22: =B22*0.2359 -> 324144.58 | D22: =INDEX('Specialisti - aprekini_jaunais'!N$9:N$552, MATCH(A22, 'Specialisti - aprekini_jaunais'!B$9:B$552, 0)) -> 55427.52 | F22: =B22*'Darba algas UZŅEMŠANĀ_jaunais'!$BD$19-('Darba algas UZŅEMŠANĀ_jaunais'!$BD$19*'Darba algas UZŅEMŠANĀ_jaunais'!BA42) -> 357195.68 | G22: =B22*'Darba algas UZŅEMŠANĀ_jaunais'!$BE$19-('Darba algas UZŅEMŠANĀ_jaunais'!$BE$19*'Darba algas UZŅEMŠANĀ_jaunais'!BA42) -> 27818.583 | H22: =B22*'Darba algas UZŅEMŠANĀ_jaunais'!$BF$19-('Darba algas UZŅEMŠANĀ_jaunais'!$BF$19*'Darba algas UZŅEMŠANĀ_jaunais'!BA42) -> 44331.897 | I22: =INDEX('Specialisti - aprekini_jaunais'!I$9:I$552, MATCH(A22, 'Specialisti - aprekini_jaunais'!B$9:B$552, 0)) -> 2182994.5
A23: Kuldīgas slimnīca | B23: =INDEX('Specialisti - aprekini_jaunais'!M$9:M$553, MATCH(A23, 'Specialisti - aprekini_jaunais'!B$9:B$552, 0)) -> 1227161.7 | C23: =B23*0.2359 -> 289487.44 | D23: =INDEX('Specialisti - aprekini_jaunais'!N$9:N$552, MATCH(A23, 'Specialisti - aprekini_jaunais'!B$9:B$552, 0)) -> 55427.52 | F23: =B23*'Darba algas UZŅEMŠANĀ_jaunais'!$BD$19-('Darba algas UZŅEMŠANĀ_jaunais'!$BD$19*'Darba algas UZŅEMŠANĀ_jaunais'!BA42) -> 315883.32 | G23: =B23*'Darba algas UZŅEMŠANĀ_jaunais'!$BE$19-('Darba algas UZŅEMŠANĀ_jaunais'!$BE$19*'Darba algas UZŅEMŠANĀ_jaunais'!BA42) -> 24601.155 | H23: =B23*'Darba algas UZŅEMŠANĀ_jaunais'!$BF$19-('Darba algas UZŅEMŠANĀ_jaunais'!$BF$19*'Darba algas UZŅEMŠANĀ_jaunais'!BA42) -> 39204.58 | I23: =INDEX('Specialisti - aprekini_jaunais'!I$9:I$552, MATCH(A23, 'Specialisti - aprekini_jaunais'!B$9:B$552, 0)) -> 1951765.7
A24: Alūksnes slimnīca | B24: =INDEX('Specialisti - aprekini_jaunais'!M$9:M$553, MATCH(A24, 'Specialisti - aprekini_jaunais'!B$9:B$552, 0)) -> 1056326.1 | C24: =B24*0.2359 -> 249187.33 | D24: =INDEX('Specialisti - aprekini_jaunais'!N$9:N$552, MATCH(A24, 'Specialisti - aprekini_jaunais'!B$9:B$552, 0)) -> 41570.64 | F24: =B24*'Darba algas UZŅEMŠANĀ_jaunais'!$BD$19-('Darba algas UZŅEMŠANĀ_jaunais'!$BD$19*'Darba algas UZŅEMŠANĀ_jaunais'!BA42) -> 267844.36 | G24: =B24*'Darba algas UZŅEMŠANĀ_jaunais'!$BE$19-('Darba algas UZŅEMŠANĀ_jaunais'!$BE$19*'Darba algas UZŅEMŠANĀ_jaunais'!BA42) -> 20859.856 | H24: =B24*'Darba algas UZŅEMŠANĀ_jaunais'!$BF$19-('Darba algas UZŅEMŠANĀ_jaunais'!$BF$19*'Darba algas UZŅEMŠANĀ_jaunais'!BA42) -> 33242.419 | I24: =INDEX('Specialisti - aprekini_jaunais'!I$9:I$552, MATCH(A24, 'Specialisti - aprekini_jaunais'!B$9:B$552, 0)) -> 1669030.7
A25: Preiļu slimnīca | B25: =INDEX('Specialisti - aprekini_jaunais'!M$9:M$553, MATCH(A25, 'Specialisti - aprekini_jaunais'!B$9:B$552, 0)) -> 1086007.2 | C25: =B25*0.2359 -> 256189.1 | D25: =INDEX('Specialisti - aprekini_jaunais'!N$9:N$552, MATCH(A25, 'Specialisti - aprekini_jaunais'!B$9:B$552, 0)) -> 41570.64 | F25: =B25*'Darba algas UZŅEMŠANĀ_jaunais'!$BD$19-('Darba algas UZŅEMŠANĀ_jaunais'!$BD$19*'Darba algas UZŅEMŠANĀ_jaunais'!BA42) -> 276190.68 | G25: =B25*'Darba algas UZŅEMŠANĀ_jaunais'!$BE$19-('Darba algas UZŅEMŠANĀ_jaunais'!$BE$19*'Darba algas UZŅEMŠANĀ_jaunais'!BA42) -> 21509.871 | H25: =B25*'Darba algas UZŅEMŠANĀ_jaunais'!$BF$19-('Darba algas UZŅEMŠANĀ_jaunais'!$BF$19*'Darba algas UZŅEMŠANĀ_jaunais'!BA42) -> 34278.288 | I25: =INDEX('Specialisti - aprekini_jaunais'!I$9:I$552, MATCH(A25, 'Specialisti - aprekini_jaunais'!B$9:B$552, 0)) -> 1715745.8
A26: Tukuma slimnīca | B26: =INDEX('Specialisti - aprekini_jaunais'!M$9:M$553, MATCH(A26, 'Specialisti - aprekini_jaunais'!B$9:B$552, 0)) -> 768257.1 | C26: =B26*0.2359 -> 181231.85 | D26: =INDEX('Specialisti - aprekini_jaunais'!N$9:N$552, MATCH(A26, 'Specialisti - aprekini_jaunais'!B$9:B$552, 0)) -> 27713.76 | F26: =B26*'Darba algas UZŅEMŠANĀ_jaunais'!$BD$19-('Darba algas UZŅEMŠANĀ_jaunais'!$BD$19*'Darba algas UZŅEMŠANĀ_jaunais'!BA42) -> 186839.35 | G26: =B26*'Darba algas UZŅEMŠANĀ_jaunais'!$BE$19-('Darba algas UZŅEMŠANĀ_jaunais'!$BE$19*'Darba algas UZŅEMŠANĀ_jaunais'!BA42) -> 14551.145 | H26: =B26*'Darba algas UZŅEMŠANĀ_jaunais'!$BF$19-('Darba algas UZŅEMŠANĀ_jaunais'!$BF$19*'Darba algas UZŅEMŠANĀ_jaunais'!BA42) -> 23188.81 | I26: =INDEX('Specialisti - aprekini_jaunais'!I$9:I$552, MATCH(A26, 'Specialisti - aprekini_jaunais'!B$9:B$552, 0)) -> 1201782
A27: Krāslavas slimnīca | B27: =INDEX('Specialisti - aprekini_jaunais'!M$9:M$553, MATCH(A27, 'Specialisti - aprekini_jaunais'!B$9:B$552, 0)) -> 768257.1 | C27: =B27*0.2359 -> 181231.85 | D27: =INDEX('Specialisti - aprekini_jaunais'!N$9:N$552, MATCH(A27, 'Specialisti - aprekini_jaunais'!B$9:B$552, 0)) -> 27713.76 | F27: =B27*'Darba algas UZŅEMŠANĀ_jaunais'!$BD$19-('Darba algas UZŅEMŠANĀ_jaunais'!$BD$19*'Darba algas UZŅEMŠANĀ_jaunais'!BA42) -> 186839.35 | G27: =B27*'Darba algas UZŅEMŠANĀ_jaunais'!$BE$19-('Darba algas UZŅEMŠANĀ_jaunais'!$BE$19*'Darba algas UZŅEMŠANĀ_jaunais'!BA42) -> 14551.145 | H27: =B27*'Darba algas UZŅEMŠANĀ_jaunais'!$BF$19-('Darba algas UZŅEMŠANĀ_jaunais'!$BF$19*'Darba algas UZŅEMŠANĀ_jaunais'!BA42) -> 23188.81 | I27: =INDEX('Specialisti - aprekini_jaunais'!I$9:I$552, MATCH(A27, 'Specialisti - aprekini_jaunais'!B$9:B$552, 0)) -> 1201782
A28: Līvānu slimnīca | B28: =INDEX('Specialisti - aprekini_jaunais'!M$9:M$553, MATCH(A28, 'Specialisti - aprekini_jaunais'!B$9:B$552, 0)) -> 523281.33 | C28: =B28*0.2359 -> 123442.07 | D28: =INDEX('Specialisti - aprekini_jaunais'!N$9:N$552, MATCH(A28, 'Specialisti - aprekini_jaunais'!B$9:B$552, 0)) -> 13856.88 | F28: =B28*'Darba algas UZŅEMŠANĀ_jaunais'!$BD$19 -> 147146.71 | G28: =B28*'Darba algas UZŅEMŠANĀ_jaunais'!$BE$19 -> 11459.861 | H28: =B28*'Darba algas UZŅEMŠANĀ_jaunais'!$BF$19 -> 18262.518 | I28: =INDEX('Specialisti - aprekini_jaunais'!I$9:I$552, MATCH(A28, 'Specialisti - aprekini_jaunais'!B$9:B$552, 0)) -> 837449.37
A29: Aizkraukles slimnīca | B29: =INDEX('Specialisti - aprekini_jaunais'!M$9:M$553, MATCH(A29, 'Specialisti - aprekini_jaunais'!B$9:B$552, 0)) -> 523281.33 | C29: =B29*0.2359 -> 123442.07 | D29: =INDEX('Specialisti - aprekini_jaunais'!N$9:N$552, MATCH(A29, 'Specialisti - aprekini_jaunais'!B$9:B$552, 0)) -> 27713.76 | F29: =B29*'Darba algas UZŅEMŠANĀ_jaunais'!$BD$19 -> 147146.71 | G29: =B29*'Darba algas UZŅEMŠANĀ_jaunais'!$BE$19 -> 11459.861 | H29: =B29*'Darba algas UZŅEMŠANĀ_jaunais'!$BF$19 -> 18262.518 | I29: =INDEX('Specialisti - aprekini_jaunais'!I$9:I$552, MATCH(A29, 'Specialisti - aprekini_jaunais'!B$9:B$552, 0)) -> 837449.37
A30: Bauskas slimnīca | B30: =INDEX('Specialisti - aprekini_jaunais'!M$9:M$553, MATCH(A30, 'Specialisti - aprekini_jaunais'!B$9:B$552, 0)) -> 523281.33 | C30: =B30*0.2359 -> 123442.07 | D30: =INDEX('Specialisti - aprekini_jaunais'!N$9:N$552, MATCH(A30, 'Specialisti - aprekini_jaunais'!B$9:B$552, 0)) -> 13856.88 | F30: =B30*'Darba algas UZŅEMŠANĀ_jaunais'!$BD$19 -> 147146.71 | G30: =B30*'Darba algas UZŅEMŠANĀ_jaunais'!$BE$19 -> 11459.861 | H30: =B30*'Darba algas UZŅEMŠANĀ_jaunais'!$BF$19 -> 18262.518 | I30: =INDEX('Specialisti - aprekini_jaunais'!I$9:I$552, MATCH(A30, 'Specialisti - aprekini_jaunais'!B$9:B$552, 0)) -> 837449.37
A31: Limbažu slimnīca | B31: =INDEX('Specialisti - aprekini_jaunais'!M$9:M$553, MATCH(A31, 'Specialisti - aprekini_jaunais'!B$9:B$552, 0)) -> 523281.33 | C31: =B31*0.2359 -> 123442.07 | D31: =INDEX('Specialisti - aprekini_jaunais'!N$9:N$552, MATCH(A31, 'Specialisti - aprekini_jaunais'!B$9:B$552, 0)) -> 13856.88 | F31: =B31*'Darba algas UZŅEMŠANĀ_jaunais'!$BD$19 -> 147146.71 | G31: =B31*'Darba algas UZŅEMŠANĀ_jaunais'!$BE$19 -> 11459.861 | H31: =B31*'Darba algas UZŅEMŠANĀ_jaunais'!$BF$19 -> 18262.518 | I31: =INDEX('Specialisti - aprekini_jaunais'!I$9:I$552, MATCH(A31, 'Specialisti - aprekini_jaunais'!B$9:B$552, 0)) -> 837449.37
A32: Ludzas slimnīca | B32: =INDEX('Specialisti - aprekini_jaunais'!M$9:M$553, MATCH(A32, 'Specialisti - aprekini_jaunais'!B$9:B$552, 0)) -> 523281.33 | C32: =B32*0.2359 -> 123442.07 | D32: =INDEX('Specialisti - aprekini_jaunais'!N$9:N$552, MATCH(A32, 'Specialisti - aprekini_jaunais'!B$9:B$552, 0)) -> 13856.88 | F32: =B32*'Darba algas UZŅEMŠANĀ_jaunais'!$BD$19 -> 147146.71 | G32: =B32*'Darba algas UZŅEMŠANĀ_jaunais'!$BE$19 -> 11459.861 | H32: =B32*'Darba algas UZŅEMŠANĀ_jaunais'!$BF$19 -> 18262.518 | I32: =INDEX('Specialisti - aprekini_jaunais'!I$9:I$552, MATCH(A32, 'Specialisti - aprekini_jaunais'!B$9:B$552, 0)) -> 837449.37
A33: Traumatoloģijas un ortopēdijas slimnīca | B33: =INDEX('Specialisti - aprekini_jaunais'!M$9:M$553, MATCH(A33, 'Specialisti - aprekini_jaunais'!B$9:B$552, 0)) -> 3778427.3 | C33: =B33*0.2359 -> 891331 | D33: =INDEX('Specialisti - aprekini_jaunais'!N$9:N$552, MATCH(A33, 'Specialisti - aprekini_jaunais'!B$9:B$552, 0)) -> 110855.04 | F33: =B33*'Darba algas UZŅEMŠANĀ_jaunais'!$BD$19 -> 1062493.8 | G33: =B33*'Darba algas UZŅEMŠANĀ_jaunais'!$BE$19 -> 82747.558 | H33: =B33*'Darba algas UZŅEMŠANĀ_jaunais'!$BF$19 -> 131867.11 | I33: =INDEX('Specialisti - aprekini_jaunais'!I$9:I$552, MATCH(A33, 'Specialisti - aprekini_jaunais'!B$9:B$552, 0)) -> 6057723
A34: Rīgas Dzemdību nams | B34: =INDEX('Specialisti - aprekini_jaunais'!M$9:M$553, MATCH(A34, 'Specialisti - aprekini_jaunais'!B$9:B$552, 0)) -> 1185501.2 | C34: =B34*0.2359 -> 279659.74 | D34: =INDEX('Specialisti - aprekini_jaunais'!N$9:N$552, MATCH(A34, 'Specialisti - aprekini_jaunais'!B$9:B$552, 0)) -> 41570.64 | F34: =B34*'Darba algas UZŅEMŠANĀ_jaunais'!$BD$19 -> 333362.95 | G34: =B34*'Darba algas UZŅEMŠANĀ_jaunais'!$BE$19 -> 25962.477 | H34: =B34*'Darba algas UZŅEMŠANĀ_jaunais'!$BF$19 -> 41373.993 | I34: =INDEX('Specialisti - aprekini_jaunais'!I$9:I$552, MATCH(A34, 'Specialisti - aprekini_jaunais'!B$9:B$552, 0)) -> 1907431
A35: Nacionālais rehabilitācijas centrs "Vaivari" | B35: 248871 | C35: 58709 | D35: 7854 | E35: 122 | F35: 7822 | G35: 874 | H35: 1441 | I35: 325693
A36: Rīgas psihiatrijas un narkoloģijas centrs | B36: 497742 | C36: 117417 | D36: 710 | E36: 249 | F36: 15644 | G36: 1748 | H36: 2882 | I36: 636392
A37: Rīgas 2. slimnīca | B37: =INDEX('Specialisti - aprekini_jaunais'!M$9:M$553, MATCH(A37, 'Specialisti - aprekini_jaunais'!B$9:B$552, 0)) -> 805590.32 | C37: =B37*0.2359 -> 190038.76 | D37: =INDEX('Specialisti - aprekini_jaunais'!N$9:N$552, MATCH(A37, 'Specialisti - aprekini_jaunais'!B$9:B$552, 0)) -> 41570.64 | F37: =B37*'Darba algas UZŅEMŠANĀ_jaunais'!$BD$19 -> 226532 | G37: =B37*'Darba algas UZŅEMŠANĀ_jaunais'!$BE$19 -> 17642.428 | H37: =B37*'Darba algas UZŅEMŠANĀ_jaunais'!$BF$19 -> 28115.102 | I37: =INDEX('Specialisti - aprekini_jaunais'!I$9:I$552, MATCH(A37, 'Specialisti - aprekini_jaunais'!B$9:B$552, 0)) -> 1309489.2
A38: Piejūras slimnīca | B38: 248871 | C38: 58709 | D38: 330 | E38: 230 | F38: 7822 | G38: 874 | H38: 1441 | I38: 318277
A39: Daugavpils psihoneiroloģiskā slimnīca | B39: 248871 | C39: 58709 | D39: 330 | E39: 139 | F39: 7822 | G39: 874 | H39: 1441 | I39: 318186
A40: Slimnīca "Ģintermuiža" | B40: 248871 | C40: 58709 | D40: 330 | E40: 59 | F40: 7822 | G40: 874 | H40: 1441 | I40: 318106
A41: Strenču psihoneiroloģiskā slimnīca | B41: 248871 | C41: 58709 | D41: 330 | E41: 0 | F41: 7822 | G41: 874 | H41: 1441 | I41: 318047
A42: Siguldas slimnīca | B42: =INDEX('Specialisti - aprekini_jaunais'!M$9:M$553, MATCH(A42, 'Specialisti - aprekini_jaunais'!B$9:B$552, 0)) -> 797938.17 | C42: =B42*0.2359 -> 188233.61 | D42: =INDEX('Specialisti - aprekini_jaunais'!N$9:N$552, MATCH(A42, 'Specialisti - aprekini_jaunais'!B$9:B$552, 0)) -> 27713.76 | F42: =B42*'Darba algas UZŅEMŠANĀ_jaunais'!$BD$19-('Darba algas UZŅEMŠANĀ_jaunais'!$BD$19*'Darba algas UZŅEMŠANĀ_jaunais'!BA42) -> 195185.67 | G42: =B42*'Darba algas UZŅEMŠANĀ_jaunais'!$BE$19-('Darba algas UZŅEMŠANĀ_jaunais'!$BE$19*'Darba algas UZŅEMŠANĀ_jaunais'!BA42) -> 15201.16 | H42: =B42*'Darba algas UZŅEMŠANĀ_jaunais'!$BF$19-('Darba algas UZŅEMŠANĀ_jaunais'!$BF$19*'Darba algas UZŅEMŠANĀ_jaunais'!BA42) -> 24224.68 | I42: =INDEX('Specialisti - aprekini_jaunais'!I$9:I$552, MATCH(A42, 'Specialisti - aprekini_jaunais'!B$9:B$552, 0)) -> 1248497.1
A44: *dzelteni iezīmētās nemainās pēc reformas

Sheet 2023 aprēķins
R1: 4.4. pielikums
A2: Fiksētās piemaksas aprēķins par neatliekamās palīdzības un pacientu uzņemšanas nodaļas darbību no 2023. gada 4. aprīļa
A3: Uzturēšanas maksājums gadam par vienu spec.(atb.10.pielikumam) | B3: Medikamenti (ārstniecības līdzekļi) | C3: Pieskaitāmās un netiešās ražošanas izmaksas | D3: Administratīvie izdevumi | E3: Nolietojums | F3: KOPĀ, EUR | G3: Darba laika slodzes
B4: M | C4: U | D4: A | E4: N | G4: =H4+I4 -> 4.5 | H4: 3 | I4: 1.5
A5: Neatliekamās palīdzības punkts | B5: 7854 | C5: 7822 | D5: 874 | E5: 1441 | F5: =SUM(B5:E5) -> 17991
A6: Dežurārsta kabinets (infektologs) | B6: 1265 | C6: 7822 | D6: 874 | E6: 1441 | F6: =SUM(B6:E6) -> 11402 | G6: Atalgojuma slodzes
A7: Narkologa kabinets | B7: 380 | C7: 7822 | D7: 874 | E7: 1441 | F7: =SUM(B7:E7) -> 10517 | G7: KOPĀ | H7: dienas atalgojumam | I7: nakts atalgojumam | J7: svētku dienu atalgojumam
A8: Psihiatra kabinets | B8: 330 | C8: 7822 | D8: 874 | E8: 1441 | F8: =SUM(B8:E8) -> 10467 | G8: =H8+I8 -> 4.75 | H8: 3.17 | I8: 1.58
A9: Pneimonologa kabinets | B9: 760 | C9: 7822 | D9: 874 | E9: 1441 | F9: =SUM(B9:E9) -> 10897 | G9: Piemaksa | I9: 0.75 | J9: 0.19 | K9: 0.2359
F11: VM aprēķins darba samaksai | T11: 2022.g., EUR
A12: Slimnīcas / Speciālists | B12: Ārstniecības personu slodzes | C12: Cilvēkresursa nodrošinājums uzņemšanā | D12: Speciālistu skaits / Kabinetu skaits | E12: Uzturēšanas maksājums gadam | F12: Mēnešalga, euro | G12: Gada izmaksas dienas atalgojumam (16h/d-3.17sl.) euro | H12: Gada izmaksas nakts atalgojumam (8 h/d-1.58sl.) euro | I12: Gada izmaksas svētku dienu atalgojumam (24h/d-0.19sl.), euro | J12: Gada izmaksas atalgojumam (D) | K12: Valsts sociālās apdrošināšanas obligātās iemaksas (S) | L12: Ārstniecības līdzekļi (M) | M12: Finansējums līdzmaksājuma kompensācijai (u'), EUR | N12: Pieskaitāmās un netiešās ražošanas izmaksas (U) | O12: Administratīvie izdevumi | P12: Nolietojums | Q12: P | R12: Fiksētās piemaksas gada apjoms, EUR | T12: D+S (0.2359) | U12: Pārējie tarifa elementi, bez U | V12: U | W12: Kopā
A13: Valsts sabiedrība ar ierobežotu atbildību "Paula Stradiņa klīniskā universitātes slimnīca" | J13: =ROUND(SUM(J14:J28),0) -> 5475162 | K13: =ROUND(SUM(K14:K28),0) -> 1291591 | L13: =ROUND(SUM(L14:L28),0) -> 139843 | M13: 11844 | N13: =ROUND(SUM(N14:N28),0) -> 172084 | O13: =ROUND(SUM(O14:O28),0) -> 19228 | P13: =ROUND(SUM(P14:P28),0) -> 31702 | R13: =SUM(J13:Q13) -> 7141454 | T13: 6287125 | U13: 190773 | V13: 180518 | W13: 6658416
A14: Ārsti | B14: =4.75*C14 -> 104.5 | C14: =SUM(D16:D28) -> 22 | E14: =SUM(E16:E28) -> 362857 | F14: 2083 | G14: =C14*F14*3.17*12 -> 1743221 | H14: =C14*F14*1.58*1.75*12 -> 1520506.7 | I14: =C14*F14*0.19*12 -> 104483.28 | J14: =G14+H14+I14 -> 3368211 | K14: =J14*$K$9 -> 794560.97
A15: Māsas | B15: =4.75*C15 -> 104.5 | C15: =C14 -> 22 | F15: 1303 | G15: =C15*F15*3.17*12 -> 1090454.6 | H15: =C15*F15*1.58*1.75*12 -> 951137.88 | I15: =C15*F15*0.19*12 -> 65358.48 | J15: =G15+H15+I15 -> 2106951 | K15: =J15*$K$9 -> 497029.74
A16: Internists | D16: 3 | E16: =D16*$F$5 -> 53973 | L16: =$D16*$B$5 -> 23562 | N16: =$D16*$C$5 -> 23466 | O16: =$D16*$D$5 -> 2622 | P16: =$D16*$E$5 -> 4323
A17: Ķirurgs | D17: 4 | E17: =D17*$F$5 -> 71964 | L17: =$D17*$B$5 -> 31416 | N17: =$D17*$C$5 -> 31288 | O17: =$D17*$D$5 -> 3496 | P17: =$D17*$E$5 -> 5764
A18: Neiroķirurgs | D18: 1 | E18: =D18*$F$5 -> 17991 | L18: =$D18*$B$5 -> 7854 | N18: =$D18*$C$5 -> 7822 | O18: =$D18*$D$5 -> 874 | P18: =$D18*$E$5 -> 1441
A19: Urologs | D19: 1 | E19: =D19*$F$5 -> 17991 | L19: =$D19*$B$5 -> 7854 | N19: =$D19*$C$5 -> 7822 | O19: =$D19*$D$5 -> 874 | P19: =$D19*$E$5 -> 1441
A20: Kardiologs | D20: 2 | E20: =D20*$F$5 -> 35982 | L20: =$D20*$B$5 -> 15708 | N20: =$D20*$C$5 -> 15644 | O20: =$D20*$D$5 -> 1748 | P20: =$D20*$E$5 -> 2882
A21: Anesteziologs, reanimatologs | D21: 2 | E21: =D21*$F$5 -> 35982 | L21: =$D21*$B$5 -> 15708 | N21: =$D21*$C$5 -> 15644 | O21: =$D21*$D$5 -> 1748 | P21: =$D21*$E$5 -> 2882
A22: Neirologs | D22: 2 | E22: =D22*$F$5 -> 35982 | L22: =$D22*$B$5 -> 15708 | N22: =$D22*$C$5 -> 15644 | O22: =$D22*$D$5 -> 1748 | P22: =$D22*$E$5 -> 2882
A23: Oftalmologs | D23: 1 | E23: =D23*$F$5 -> 17991 | L23: =$D23*$B$5 -> 7854 | N23: =$D23*$C$5 -> 7822 | O23: =$D23*$D$5 -> 874 | P23: =$D23*$E$5 -> 1441
A24: Otolaringologs | D24: 1 | E24: =D24*$F$5 -> 17991 | L24: =$D24*$B$5 -> 7854 | N24: =$D24*$C$5 -> 7822 | O24: =$D24*$D$5 -> 874 | P24: =$D24*$E$5 -> 1441
A25: Radiologs, diagnosts | D25: 1 | E25: =D25*$F$6 -> 11402 | L25: =$D25*$B$6 -> 1265 | N25: =$D25*$C$6 -> 7822 | O25: =$D25*$D$6 -> 874 | P25: =$D25*$E$6 -> 1441
A26: Radiologs, diagnosts | D26: 1 | E26: =D26*$F$6 -> 11402 | L26: =$D26*$B$6 -> 1265 | N26: =$D26*$C$6 -> 7822 | O26: =$D26*$D$6 -> 874 | P26: =$D26*$E$6 -> 1441
A27: Ginekologs, dzemdību speciālists | D27: 2 | E27: =D27*$F$6 -> 22804 | L27: =$D27*$B$6 -> 2530 | N27: =$D27*$C$6 -> 15644 | O27: =$D27*$D$6 -> 1748 | P27: =$D27*$E$6 -> 2882
A28: Pediatrs/neonatalogs | D28: 1 | E28: =D28*$F$6 -> 11402 | L28: =$D28*$B$6 -> 1265 | N28: =$D28*$C$6 -> 7822 | O28: =$D28*$D$6 -> 874 | P28: =$D28*$E$6 -> 1441
A29: Sabiedrība ar ierobežotu atbildību "Rīgas Austrumu klīniskā universitātes slimnīca" | J29: =ROUND(SUM(J30:J45),0) -> 6719517 | K29: =ROUND(SUM(K30:K45),0) -> 1585134 | L29: =ROUND(SUM(L30:L45),0) -> 165430 | M29: 12586 | N29: =ROUND(SUM(N30:N45),0) -> 211194 | O29: =ROUND(SUM(O30:O45),0) -> 23598 | P29: =ROUND(SUM(P30:P45),0) -> 38907 | R29: =SUM(J29:P29) -> 8756366 | T29: 7716017 | U29: 227935 | V29: 219595 | W29: 8163547
A30: Ārsti | B30: =4.75*C30 -> 128.25 | C30: =SUM(D32:D45) -> 27 | E30: =SUM(E31:E45) -> 439129 | F30: 2083 | G30: =C30*F30*3.17*12 -> 2139407.6 | H30: =C30*F30*1.58*1.75*12 -> 1866076.4 | I30: =C30*F30*0.19*12 -> 128229.48 | J30: =G30+H30+I30 -> 4133713.5 | K30: =J30*$K$9 -> 975143.01
A31: Māsas | B31: =4.75*C31 -> 128.25 | C31: =C30 -> 27 | F31: 1303 | G31: =C31*F31*3.17*12 -> 1338285.2 | H31: =C31*F31*1.58*1.75*12 -> 1167305.6 | I31: =C31*F31*0.19*12 -> 80212.68 | J31: =G31+H31+I31 -> 2585803.5 | K31: =J31*$K$9 -> 609991.05
A32: Ķirurgs | D32: 5 | E32: =D32*$F$5 -> 89955 | L32: =$D32*$B$5 -> 39270 | N32: =$D32*$C$5 -> 39110 | O32: =$D32*$D$5 -> 4370 | P32: =$D32*$E$5 -> 7205
A33: neirologs | D33: 2 | E33: =D33*$F$5 -> 35982 | L33: =$D33*$B$5 -> 15708 | N33: =$D33*$C$5 -> 15644 | O33: =$D33*$D$5 -> 1748 | P33: =$D33*$E$5 -> 2882
A34: Traumatologs, ortopēds | D34: 2 | E34: =D34*$F$5 -> 35982 | L34: =$D34*$B$5 -> 15708 | N34: =$D34*$C$5 -> 15644 | O34: =$D34*$D$5 -> 1748 | P34: =$D34*$E$5 -> 2882
A35: Neiroķirurgs | D35: 1 | E35: =D35*$F$5 -> 17991 | L35: =$D35*$B$5 -> 7854 | N35: =$D35*$C$5 -> 7822 | O35: =$D35*$D$5 -> 874 | P35: =$D35*$E$5 -> 1441
A36: Ginekologs, dzemdību speciālists | D36: 2 | E36: =D36*$F$6 -> 22804 | L36: =$D36*$B$6 -> 2530 | N36: =$D36*$C$6 -> 15644 | O36: =$D36*$D$6 -> 1748 | P36: =$D36*$E$6 -> 2882
A37: internists | D37: 5 | E37: =D37*$F$5 -> 89955 | L37: =$D37*$B$5 -> 39270 | N37: =$D37*$C$5 -> 39110 | O37: =$D37*$D$5 -> 4370 | P37: =$D37*$E$5 -> 7205
A38: urologs | D38: 1 | E38: =D38*$F$5 -> 17991 | L38: =$D38*$B$5 -> 7854 | N38: =$D38*$C$5 -> 7822 | O38: =$D38*$D$5 -> 874 | P38: =$D38*$E$5 -> 1441
A39: anesteziologs, reanimatologs | D39: 2 | E39: =D39*$F$5 -> 35982 | L39: =$D39*$B$5 -> 15708 | N39: =$D39*$C$5 -> 15644 | O39: =$D39*$D$5 -> 1748 | P39: =$D39*$E$5 -> 2882
A40: kardiologs | E40: =D40*$F$5 -> 0 | L40: =$D40*$B$5 -> 0 | N40: =$D40*$C$5 -> 0 | O40: =$D40*$D$5 -> 0 | P40: =$D40*$E$5 -> 0
A41: Radiologs, diagnosts | D41: 3 | E41: =D41*$F$6 -> 34206 | L41: =$D41*$B$6 -> 3795 | N41: =$D41*$C$6 -> 23466 | O41: =$D41*$D$6 -> 2622 | P41: =$D41*$E$6 -> 4323
A42: Otolaringologs | D42: 1 | E42: =D42*$F$5 -> 17991 | L42: =$D42*$B$5 -> 7854 | N42: =$D42*$C$5 -> 7822 | O42: =$D42*$D$5 -> 874 | P42: =$D42*$E$5 -> 1441
A43: Oftalmologs | D43: 1 | E43: =D43*$F$5 -> 17991 | L43: =$D43*$B$5 -> 7854 | N43: =$D43*$C$5 -> 7822 | O43: =$D43*$D$5 -> 874 | P43: =$D43*$E$5 -> 1441
A44: Infektologs | D44: 1 | E44: =D44*$F$6 -> 11402 | L44: =$D44*$B$6 -> 1265 | N44: =$D44*$C$6 -> 7822 | O44: =$D44*$D$6 -> 874 | P44: =$D44*$E$6 -> 1441
A45: Pneimonologs | D45: 1 | E45: =D45*$F$9 -> 10897 | L45: =$D45*$B$9 -> 760 | N45: =$D45*$C$6 -> 7822 | O45: =$D45*$D$6 -> 874 | P45: =$D45*$E$6 -> 1441
A46: Valsts sabiedrība ar ierobežotu atbildību "Bērnu klīniskā universitātes slimnīca"* | J46: =ROUND(SUM(J47:J54),0) -> 3911066 | K46: =ROUND(SUM(K47:K54),0) -> 922620 | L46: =ROUND(SUM(L47:L54),0) -> 72952 | M46: 11284 | N46: =ROUND(SUM(N47:N54),0) -> 125152 | O46: =ROUND(SUM(O47:O54),0) -> 13984 | P46: =ROUND(SUM(P47:P54),0) -> 23056 | R46: =SUM(J46:P46) -> 5080114 | T46: 4492933 | U46: 109992 | V46: 133956 | W46: 4736881
A47: Ārsti | B47: =4.75*C47 -> 76 | C47: =SUM(D49:D54) -> 16 | E47: =SUM(E49:E54) -> 235144 | F47: 2083 | G47: =C47*F47*3.17*12 -> 1267797.1 | H47: =C47*F47*1.58*1.75*12 -> 1105823 | I47: =C47*F47*0.19*12 -> 75987.84 | J47: =G47+H47+I47 -> 2449608 | K47: =J47*$K$9 -> 577862.53
A48: Māsas | B48: =4.75*C48 -> 72.485 | C48: 15.26 | F48: 1303 | G48: =C48*F48*3.17*12 -> 756378.99 | H48: =C48*F48*1.58*1.75*12 -> 659743.82 | I48: =C48*F48*0.19*12 -> 45335.018 | J48: =G48+H48+I48 -> 1461457.8 | K48: =J48*$K$9 -> 344757.9
A49: Bērnu ķirurgs | D49: 2 | E49: =D49*$F$5 -> 35982 | L49: =$D49*$B$5 -> 15708 | N49: =$D49*$C$5 -> 15644 | O49: =$D49*$D$5 -> 1748 | P49: =$D49*$E$5 -> 2882
A50: Ķirurgs vai traumatologs, ortopēds | D50: 5 | E50: =D50*$F$5 -> 89955 | L50: =$D50*$B$5 -> 39270 | N50: =$D50*$C$5 -> 39110 | O50: =$D50*$D$5 -> 4370 | P50: =$D50*$E$5 -> 7205
A51: Radiologs, diagnosts | D51: 1 | E51: =D51*$F$6 -> 11402 | L51: =$D51*$B$6 -> 1265 | N51: =$D51*$C$6 -> 7822 | O51: =$D51*$D$6 -> 874 | P51: =$D51*$E$6 -> 1441
A52: Pediatrs/neonatalogs | D52: 6 | E52: =D52*$F$6 -> 68412 | L52: =$D52*$B$6 -> 7590 | N52: =$D52*$C$6 -> 46932 | O52: =$D52*$D$6 -> 5244 | P52: =$D52*$E$6 -> 8646
A53: Oftalmologs | D53: 1 | E53: =D53*$F$5 -> 17991 | L53: =$D53*$B$5 -> 7854 | N53: =$D53*$C$5 -> 7822 | O53: =$D53*$D$5 -> 874 | P53: =$D53*$E$5 -> 1441
A54: Radiologs, diagnosts | D54: 1 | E54: =D54*$F$6 -> 11402 | L54: =$D54*$B$6 -> 1265 | N54: =$D54*$C$6 -> 7822 | O54: =$D54*$D$6 -> 874 | P54: =$D54*$E$6 -> 1441
A55: Sabiedrība ar ierobežotu atbildību "Liepājas reģionālā slimnīca" | J55: =ROUND(SUM(J56:J65),0) -> 2488710 | K55: =ROUND(SUM(K56:K65),0) -> 587087 | L55: =ROUND(SUM(L56:L65),0) -> 52184 | M55: 4737 | N55: =ROUND(SUM(N56:N65),0) -> 78220 | O55: =ROUND(SUM(O56:O65),0) -> 8740 | P55: =ROUND(SUM(P56:P65),0) -> 14410 | R55: =SUM(J55:P55) -> 3234088 | T55: 2572006 | U55: =138905-V55 -> 69902 | V55: 69003 | W55: 2710911
A56: Ārsti | B56: =4.75*C56 -> 47.5 | C56: =SUM(D58:D65) -> 10 | E56: =SUM(E58:E65) -> 153554 | F56: 2083 | G56: =C56*F56*3.17*12 -> 792373.2 | H56: =C56*F56*1.58*1.75*12 -> 691139.4 | I56: =C56*F56*0.19*12 -> 47492.4 | J56: =G56+H56+I56 -> 1531005 | K56: =J56*$K$9 -> 361164.08
A57: Māsas | B57: =4.75*C57 -> 47.5 | C57: =C56 -> 10 | F57: 1303 | G57: =C57*F57*3.17*12 -> 495661.2 | H57: =C57*F57*1.58*1.75*12 -> 432335.4 | I57: =C57*F57*0.19*12 -> 29708.4 | J57: =G57+H57+I57 -> 957705 | K57: =J57*$K$9 -> 225922.61
A58: Ķirurgs | D58: 1 | E58: =D58*$F$5 -> 17991 | L58: =$D58*$B$5 -> 7854 | N58: =$D58*$C$5 -> 7822 | O58: =$D58*$D$5 -> 874 | P58: =$D58*$E$5 -> 1441
A59: Internists vai neatliekamās medicīnas ārsts | D59: 2 | E59: =D59*$F$5 -> 35982 | L59: =$D59*$B$5 -> 15708 | N59: =$D59*$C$5 -> 15644 | O59: =$D59*$D$5 -> 1748 | P59: =$D59*$E$5 -> 2882
A60: anesteziologs, reanimatologs | D60: 1 | E60: =D60*$F$5 -> 17991 | L60: =$D60*$B$5 -> 7854 | N60: =$D60*$C$5 -> 7822 | O60: =$D60*$D$5 -> 874 | P60: =$D60*$E$5 -> 1441
A61: Pediatrs/neonatalogs | D61: 2 | E61: =D61*$F$6 -> 22804 | L61: =$D61*$B$6 -> 2530 | N61: =$D61*$C$6 -> 15644 | O61: =$D61*$D$6 -> 1748 | P61: =$D61*$E$6 -> 2882
A62: neirologs | D62: 1 | E62: =D62*$F$5 -> 17991 | L62: =$D62*$B$5 -> 7854 | N62: =$D62*$C$5 -> 7822 | O62: =$D62*$D$5 -> 874 | P62: =$D62*$E$5 -> 1441
A63: Traumatologs, ortopēds | D63: 1 | E63: =D63*$F$5 -> 17991 | L63: =$D63*$B$5 -> 7854 | N63: =$D63*$C$5 -> 7822 | O63: =$D63*$D$5 -> 874 | P63: =$D63*$E$5 -> 1441
A64: Ginekologs, dzemdību speciālists | D64: 1 | E64: =D64*$F$6 -> 11402 | L64: =$D64*$B$6 -> 1265 | N64: =$D64*$C$6 -> 7822 | O64: =$D64*$D$6 -> 874 | P64: =$D64*$E$6 -> 1441
A65: Radiologs, diagnosts | D65: 1 | E65: =D65*$F$6 -> 11402 | L65: =$D65*$B$6 -> 1265 | N65: =$D65*$C$6 -> 7822 | O65: =$D65*$D$6 -> 874 | P65: =$D65*$E$6 -> 1441
A66: Sabiedrība ar ierobežotu atbildību "Daugavpils reģionālā slimnīca" | J66: =ROUND(SUM(J67:J77),0) -> 2986452 | K66: =ROUND(SUM(K67:K77),0) -> 704504 | L66: =ROUND(SUM(L67:L77),0) -> 74481 | M66: 5239 | N66: =ROUND(SUM(N67:N77),0) -> 93864 | O66: =ROUND(SUM(O67:O77),0) -> 10488 | P66: =ROUND(SUM(P67:P77),0) -> 17292 | R66: =SUM(J66:P66) -> 3892320 | T66: 3429341 | U66: 102261 | V66: 97243 | W66: 3628845
A67: Ārsti | B67: =4.75*C67 -> 57 | C67: =SUM(D69:D77) -> 12 | E67: =SUM(E69:E77) -> 196125 | F67: 2083 | G67: =C67*F67*3.17*12 -> 950847.84 | H67: =C67*F67*1.58*1.75*12 -> 829367.28 | I67: =C67*F67*0.19*12 -> 56990.88 | J67: =G67+H67+I67 -> 1837206 | K67: =J67*$K$9 -> 433396.9
A68: Māsas | B68: =4.75*C68 -> 57 | C68: =C67 -> 12 | F68: 1303 | G68: =C68*F68*3.17*12 -> 594793.44 | H68: =C68*F68*1.58*1.75*12 -> 518802.48 | I68: =C68*F68*0.19*12 -> 35650.08 | J68: =G68+H68+I68 -> 1149246 | K68: =J68*$K$9 -> 271107.13
A69: Ķirurgs | D69: 2 | E69: =D69*$F$5 -> 35982 | L69: =$D69*$B$5 -> 15708 | N69: =$D69*$C$5 -> 15644 | O69: =$D69*$D$5 -> 1748 | P69: =$D69*$E$5 -> 2882
A70: Internists vai neatliekamās medicīnas ārsts | D70: 3 | E70: =D70*$F$5 -> 53973 | L70: =$D70*$B$5 -> 23562 | N70: =$D70*$C$5 -> 23466 | O70: =$D70*$D$5 -> 2622 | P70: =$D70*$E$5 -> 4323
A71: Kardiologs invazīvais | D71: 1 | E71: =D71*$F$5 -> 17991 | L71: =$D71*$B$5 -> 7854 | N71: =$D71*$C$5 -> 7822 | O71: =$D71*$D$5 -> 874 | P71: =$D71*$E$5 -> 1441
A72: anesteziologs, reanimatologs | D72: 1 | E72: =D72*$F$5 -> 17991 | L72: =$D72*$B$5 -> 7854 | N72: =$D72*$C$5 -> 7822 | O72: =$D72*$D$5 -> 874 | P72: =$D72*$E$5 -> 1441
A73: Pediatrs/neonatalogs | D73: 1 | E73: =D73*$F$6 -> 11402 | L73: =$D73*$B$6 -> 1265 | N73: =$D73*$C$6 -> 7822 | O73: =$D73*$D$6 -> 874 | P73: =$D73*$E$6 -> 1441
A74: Traumatologs, ortopēds | D74: 1 | E74: =D74*$F$5 -> 17991 | L74: =$D74*$B$5 -> 7854 | N74: =$D74*$C$5 -> 7822 | O74: =$D74*$D$5 -> 874 | P74: =$D74*$E$5 -> 1441
A75: Ginekologs, dzemdību speciālists | D75: 1 | E75: =D75*$F$6 -> 11402 | L75: =$D75*$B$6 -> 1265 | N75: =$D75*$C$6 -> 7822 | O75: =$D75*$D$6 -> 874 | P75: =$D75*$E$6 -> 1441
A76: neirologs | D76: 1 | E76: =D76*$F$5 -> 17991 | L76: =$D76*$B$5 -> 7854 | N76: =$D76*$C$5 -> 7822 | O76: =$D76*$D$5 -> 874 | P76: =$D76*$E$5 -> 1441
A77: Radiologs, diagnosts | D77: 1 | E77: =D77*$F$6 -> 11402 | L77: =$D77*$B$6 -> 1265 | N77: =$D77*$C$6 -> 7822 | O77: =$D77*$D$6 -> 874 | P77: =$D77*$E$6 -> 1441
A78: Sabiedrība ar ierobežotu atbildību "Ziemeļkurzemes reģionālā slimnīca"(Talsu fil.) | J78: =ROUND(SUM(J79:J88),0) -> 2737581 | K78: =ROUND(SUM(K79:K88),0) -> 645795 | L78: =ROUND(SUM(L79:L88),0) -> 66627 | M78: 5463 | N78: =ROUND(SUM(N79:N88),0) -> 86042 | O78: =ROUND(SUM(O79:O88),0) -> 9614 | P78: =ROUND(SUM(P79:P88),0) -> 15851 | R78: =SUM(J78:P78) -> 3566973 | T78: 3143562 | U78: 92092 | V78: 89800 | W78: 3325454
A79: Ārsti | B79: =4.75*C79 -> 52.25 | C79: =SUM(D81:D88) -> 11 | E79: =SUM(E81:E88) -> 178134 | F79: 2083 | G79: =C79*F79*3.17*12 -> 871610.52 | H79: =C79*F79*1.58*1.75*12 -> 760253.34 | I79: =C79*F79*0.19*12 -> 52241.64 | J79: =G79+H79+I79 -> 1684105.5 | K79: =J79*$K$9 -> 397280.49
A80: Māsas | B80: =4.75*C80 -> 52.25 | C80: =C79 -> 11 | F80: 1303 | G80: =C80*F80*3.17*12 -> 545227.32 | H80: =C80*F80*1.58*1.75*12 -> 475568.94 | I80: =C80*F80*0.19*12 -> 32679.24 | J80: =G80+H80+I80 -> 1053475.5 | K80: =J80*$K$9 -> 248514.87
A81: Ķirurgs | D81: 2 | E81: =D81*$F$5 -> 35982 | L81: =$D81*$B$5 -> 15708 | N81: =$D81*$C$5 -> 15644 | O81: =$D81*$D$5 -> 1748 | P81: =$D81*$E$5 -> 2882
A82: Internists vai neatliekamās medicīnas ārsts | D82: 2 | E82: =D82*$F$5 -> 35982 | L82: =$D82*$B$5 -> 15708 | N82: =$D82*$C$5 -> 15644 | O82: =$D82*$D$5 -> 1748 | P82: =$D82*$E$5 -> 2882
A83: anesteziologs, reanimatologs | D83: 2 | E83: =D83*$F$5 -> 35982 | L83: =$D83*$B$5 -> 15708 | N83: =$D83*$C$5 -> 15644 | O83: =$D83*$D$5 -> 1748 | P83: =$D83*$E$5 -> 2882
A84: Pediatrs/neonatalogs | D84: 1 | E84: =D84*$F$6 -> 11402 | L84: =$D84*$B$6 -> 1265 | N84: =$D84*$C$6 -> 7822 | O84: =$D84*$D$6 -> 874 | P84: =$D84*$E$6 -> 1441
A85: Traumatologs, ortopēds | D85: 1 | E85: =D85*$F$5 -> 17991 | L85: =$D85*$B$5 -> 7854 | N85: =$D85*$C$5 -> 7822 | O85: =$D85*$D$5 -> 874 | P85: =$D85*$E$5 -> 1441
A86: Ginekologs, dzemdību speciālists | D86: 1 | E86: =D86*$F$6 -> 11402 | L86: =$D86*$B$6 -> 1265 | N86: =$D86*$C$6 -> 7822 | O86: =$D86*$D$6 -> 874 | P86: =$D86*$E$6 -> 1441
A87: neirologs | D87: 1 | E87: =D87*$F$5 -> 17991 | L87: =$D87*$B$5 -> 7854 | N87: =$D87*$C$5 -> 7822 | O87: =$D87*$D$5 -> 874 | P87: =$D87*$E$5 -> 1441
A88: Radiologs, diagnosts | D88: 1 | E88: =D88*$F$6 -> 11402 | L88: =$D88*$B$6 -> 1265 | N88: =$D88*$C$6 -> 7822 | O88: =$D88*$D$6 -> 874 | P88: =$D88*$E$6 -> 1441
A89: Sabiedrība ar ierobežotu atbildību "Jelgavas pilsētas slimnīca" | J89: =ROUND(SUM(J90:J99),0) -> 1990968 | K89: =ROUND(SUM(K90:K99),0) -> 469669 | L89: =ROUND(SUM(L90:L99),0) -> 43065 | M89: 4541 | N89: =ROUND(SUM(N90:N99),0) -> 62576 | O89: =ROUND(SUM(O90:O99),0) -> 6992 | P89: =ROUND(SUM(P90:P99),0) -> 11528 | R89: =SUM(J89:P89) -> 2589339 | T89: 2286227 | U89: 61585 | V89: 65877 | W89: 2413689
A90: Ārsti | B90: =4.75*8 -> 38 | C90: =SUM(D92:D99) -> 8 | E90: =SUM(E92:E99) -> 124161 | F90: 2083 | G90: =C90*F90*3.17*12 -> 633898.56 | H90: =C90*F90*1.58*1.75*12 -> 552911.52 | I90: =C90*F90*0.19*12 -> 37993.92 | J90: =G90+H90+I90 -> 1224804 | K90: =J90*$K$9 -> 288931.26
A91: Māsas | B91: =4.75*8 -> 38 | C91: =C90 -> 8 | F91: 1303 | G91: =C91*F91*3.17*12 -> 396528.96 | H91: =C91*F91*1.58*1.75*12 -> 345868.32 | I91: =C91*F91*0.19*12 -> 23766.72 | J91: =G91+H91+I91 -> 766164 | K91: =J91*$K$9 -> 180738.09
A92: Ķirurgs | D92: 1 | E92: =D92*$F$5 -> 17991 | L92: =$D92*$B$5 -> 7854 | N92: =$D92*$C$5 -> 7822 | O92: =$D92*$D$5 -> 874 | P92: =$D92*$E$5 -> 1441
A93: Internists vai neatliekamās medicīnas ārsts | D93: 1 | E93: =D93*$F$5 -> 17991 | L93: =$D93*$B$5 -> 7854 | N93: =$D93*$C$5 -> 7822 | O93: =$D93*$D$5 -> 874 | P93: =$D93*$E$5 -> 1441
A94: anesteziologs, reanimatologs | D94: 1 | E94: =D94*$F$5 -> 17991 | L94: =$D94*$B$5 -> 7854 | N94: =$D94*$C$5 -> 7822 | O94: =$D94*$D$5 -> 874 | P94: =$D94*$E$5 -> 1441
A95: Pediatrs/neonatalogs | D95: 1 | E95: =D95*$F$6 -> 11402 | L95: =$D95*$B$6 -> 1265 | N95: =$D95*$C$6 -> 7822 | O95: =$D95*$D$6 -> 874 | P95: =$D95*$E$6 -> 1441
A96: Traumatologs, ortopēds | D96: 1 | E96: =D96*$F$5 -> 17991 | L96: =$D96*$B$5 -> 7854 | N96: =$D96*$C$5 -> 7822 | O96: =$D96*$D$5 -> 874 | P96: =$D96*$E$5 -> 1441
A97: Ginekologs, dzemdību speciālists | D97: 1 | E97: =D97*$F$6 -> 11402 | L97: =$D97*$B$6 -> 1265 | N97: =$D97*$C$6 -> 7822 | O97: =$D97*$D$6 -> 874 | P97: =$D97*$E$6 -> 1441
A98: neirologs | D98: 1 | E98: =D98*$F$5 -> 17991 | L98: =$D98*$B$5 -> 7854 | N98: =$D98*$C$5 -> 7822 | O98: =$D98*$D$5 -> 874 | P98: =$D98*$E$5 -> 1441
A99: Radiologs, diagnosts | D99: 1 | E99: =D99*$F$6 -> 11402 | L99: =$D99*$B$6 -> 1265 | N99: =$D99*$C$6 -> 7822 | O99: =$D99*$D$6 -> 874 | P99: =$D99*$E$6 -> 1441
A100: Sabiedrība ar ierobežotu atbildību "Vidzemes slimnīca" | J100: =ROUND(SUM(J101:J110),0) -> 2239839 | K100: =ROUND(SUM(K101:K110),0) -> 528378 | L100: =ROUND(SUM(L101:L110),0) -> 44330 | M100: 4028 | N100: =ROUND(SUM(N101:N110),0) -> 70398 | O100: =ROUND(SUM(O101:O110),0) -> 7866 | P100: =ROUND(SUM(P101:P110),0) -> 12969 | R100: =SUM(J100:P100) -> 2907808 | T100: 2572006 | U100: 65165 | V100: 73031 | W100: 2710202
A101: Ārsti | B101: =4.75*C101 -> 42.75 | C101: =SUM(D103:D110) -> 9 | E101: =SUM(E103:E110) -> 135563 | F101: 2083 | G101: =C101*F101*3.17*12 -> 713135.88 | H101: =C101*F101*1.58*1.75*12 -> 622025.46 | I101: =C101*F101*0.19*12 -> 42743.16 | J101: =G101+H101+I101 -> 1377904.5 | K101: =J101*$K$9 -> 325047.67
...

Sheet 2023 uzņemšana elementi
I1: 4.5. pielikums
A2: Fiksētās piemaksas aprēķins par neatliekamās palīdzības un pacientu uzņemšanas nodaļas darbību no 01.04.2023.
A3: Saskaņā ar MK noteikumiem Nr. 555 "Veselības aprūpes pakalpojumu organizēšanas un samaksas kārtība" veselības aprūpes pakalpojumu tarifus aprēķina, izmantojot šādu formulu: TC = VC (D + S + M + E) + FC (U + A + N), kur TC – veselības aprūpes pakalpojuma tarifs; VC – mainīgās izmaksas (tiešās izmaksas): D – darba samaksa; S – valsts sociālās apdrošināšanas obligātās iemaksas; M – ārstniecības līdzekļi; E – izdevumi, saistīti ar pacientu ēdināšanu; FC – pastāvīgās izmaksas (netiešās izmaksas): U – pieskaitāmās un netiešās ražošanas izmaksas (ar pacientu uzturēšanu saistītie izdevumi pakalpojumu apmaksai, riska maksājuma veikšanai, materiālu, energoresursu, ūdens un inventāra iegādei); A – administratīvie izdevumi; N – nolietojums.
B4: Darba samaksa | C4: Valsts sociālās apdrošināšanas obligātās iemaksas | D4: Ārstniecības līdzekļi | E4: Līdzmaksājums | F4: Pieskaitāmās un netiešās ražošanas izmaksas | G4: Administratīvie izdevumi | H4: Nolietojums | I4: Kopā
A5: Slimnīcas / Speciālists | B5: D | C5: S | D5: M | E5: u` | F5: U | G5: A | H5: N | I5: Fiksētās piemaksas gada apjoms, EUR
A6: 1 | B6: 2 | C6: 3 | D6: 4 | E6: 5 | F6: 6 | G6: 7 | H6: 8 | I6: 10
A7: Paula Stradiņa klīniskā universitātes slimnīca | B7: 5475162 | C7: 1291591 | D7: 139843 | E7: 11844 | F7: 172084 | G7: 19228 | H7: 31702 | I7: 7141454
A8: Rīgas Austrumu klīniskā universitātes slimnīca | B8: 6719517 | C8: 1585134 | D8: 165430 | E8: 12586 | F8: 211194 | G8: 23598 | H8: 38907 | I8: 8756366
A9: Bērnu klīniskā universitātes slimnīca | B9: 3911066 | C9: 922620 | D9: 72952 | E9: 11284 | F9: 125152 | G9: 13984 | H9: 23056 | I9: 5080114
A10: Liepājas reģionālā slimnīca | B10: 2488710 | C10: 587087 | D10: 52184 | E10: 4737 | F10: 78220 | G10: 8740 | H10: 14410 | I10: 3234088
A11: Daugavpils reģionālā slimnīca | B11: 2986452 | C11: 704504 | D11: 74481 | E11: 5239 | F11: 93864 | G11: 10488 | H11: 17292 | I11: 3892320
A12: Ziemeļkurzemes reģionālā slimnīca"(Talsu fil.) | B12: 2737581 | C12: 645795 | D12: 66627 | E12: 5463 | F12: 86042 | G12: 9614 | H12: 15851 | I12: 3566973
A13: Jelgavas pilsētas slimnīca | B13: 1990968 | C13: 469669 | D13: 43065 | E13: 4541 | F13: 62576 | G13: 6992 | H13: 11528 | I13: 2589339
A14: Vidzemes slimnīca | B14: 2239839 | C14: 528378 | D14: 44330 | E14: 4028 | F14: 70398 | G14: 7866 | H14: 12969 | I14: 2907808
A15: Jēkabpils reģionālā slimnīca | B15: 2239839 | C15: 528378 | D15: 44330 | E15: 1949 | F15: 70398 | G15: 7866 | H15: 12969 | I15: 2905729
A16: Rēzeknes slimnīca | B16: 1990968 | C16: 469669 | D16: 43065 | E16: 2986 | F16: 62576 | G16: 6992 | H16: 11528 | I16: 2587784
A17: Madonas slimnīca | B17: 1493226 | C17: 352252 | D17: 27357 | E17: 1270 | F17: 46932 | G17: 5244 | H17: 8646 | I17: 1934927
A18: Cēsu klīnika | B18: 1244355 | C18: 293543 | D18: 26031 | E18: 1927 | F18: 39110 | G18: 4370 | H18: 7205 | I18: 1616541
... A42: Siguldas slimnīca | B42: 995484 | C42: 234835 | D42: 18238 | E42: 1710 | F42: 31288 | G42: 3496 | H42: 5764 | I42: 1290815
