Workbook
Name shēma: #REF!

Sheet 4p
A1: 4. pielikums
A2: Papildus nepieciešamais finansējums bāzes finansējuma palielināšanai (euro)*
A3: Budžeta programma/resors | B3: Normējamās izmaksas/DV izmaksas (saskaņā ar spēkā esošo aprēķinu) | C3: Normējamās izmaksas/DV izmaksas (saskaņā ar jauno aprēķinu) | D3: Starpība jeb nepieciešamais papildus finansējums
D4: 2023.gads | E4: 2024.gads | F4: 2025.gads un turpmāk
A5: Izglītības un zinātnes ministrijas budžeta programma 02.01.00. "Profesionālās izglītības programmu īstenošana" | B5: =[1]Dienesta_viesnīca!C4+[1]Norm_izmaksas!C4 -> 14191679 | C5: =[1]Dienesta_viesnīca!D4+[1]Norm_izmaksas!D4 -> 20339111 | D5: =F5/3 -> 2049144 | E5: =D5*2 -> 4098288 | F5: =C5-B5 -> 6147432
A6: Kultūras ministrijas budžeta programma 20.00.00. "Kultūrizglītība" | B6: =[1]Dienesta_viesnīca!C5+[1]Norm_izmaksas!C5 -> 1884061 | C6: =[1]Dienesta_viesnīca!D5+[1]Norm_izmaksas!D5 -> 2750951 | D6: =F6/3 -> 288963.33 | E6: =D6*2 -> 577926.67 | F6: =C6-B6 -> 866890
A7: Zemkopības ministrijas budžeta programma 22.01.00. "Profesionālā izglītība" | B7: =[1]Dienesta_viesnīca!C6+[1]Norm_izmaksas!C6 -> 327064 | C7: =[1]Dienesta_viesnīca!D6+[1]Norm_izmaksas!D6 -> 462208 | D7: =F7/3 -> 45048 | E7: =D7*2 -> 90096 | F7: =C7-B7 -> 135144
A8: Veselības ministrijas budžeta programma 02.03.00. "Augstākā medicīnas izglītība" | B8: =[1]Dienesta_viesnīca!C7+[1]Norm_izmaksas!C7 -> 236550.24 | C8: =[1]Dienesta_viesnīca!D7+[1]Norm_izmaksas!D7 -> 338579.49 | D8: =F8/3 -> 34009.75 | E8: =D8*2 -> 68019.5 | F8: =C8-B8 -> 102029.25
A9: Kopā | B9: =SUM(B5:B8) -> 16639354 | C9: =SUM(C5:C8) -> 23890849 | D9: =SUM(D5:D8) -> 2417165.1 | E9: =SUM(E5:E8) -> 4834330.2 | F9: =SUM(F5:F8) -> 7251495.2
A10: * Aprēķins veikts saskaņā ar MK 02.10.2007. noteikumiem Nr.655 “Noteikumi par profesionālās izglītības programmu īstenošanas izmaksu minimumu uz vienu izglītojamo”
A12: Dienesta viesnīcā dzīvojošo izglītojamo uzturēšanas izmaksām nepieciešamais finansējums (euro)
A13: Budžeta programma/resors | B13: Dienesta viesnīcās dzīvojošo izglītojamo skaits* | C13: Dienesta viesnīcā dzīvojošo izglītojamo uzturēšanas izmaksas (saskaņā ar spēkā esošo aprēķinu - 282,23 euro) | D13: Dienesta viesnīcā dzīvojošo izglītojamo uzturēšanas izmaksas (saskaņā ar jauno aprēķinu - 351,69 euro) | E13: Starpība jeb nepieciešamais papildus finansējums
E14: 2023.gads | F14: 2024.gads | G14: 2025.gads un turpmāk
A15: Izglītības un zinātnes ministrijas budžeta programma 02.01.00. "Profesionālās izglītības programmu īstenošana" | B15: 7385 | C15: 2172328 | D15: 2685289 | E15: =G15/3 -> 170987 | F15: =E15*2 -> 341974 | G15: =D15-C15 -> 512961
A16: Kultūras ministrijas budžeta programma 20.00.00. "Kultūrizglītība" | B16: 287 | C16: 80999 | D16: 100936 | E16: =G16/3 -> 6645.6667 | F16: =E16*2 -> 13291.333 | G16: =D16-C16 -> 19937
A17: Zemkopības ministrijas budžeta programma 22.01.00. "Profesionālā izglītība" | B17: 293 | C17: 82692 | D17: 103046 | E17: =G17/3 -> 6784.6667 | F17: =E17*2 -> 13569.333 | G17: =D17-C17 -> 20354
A18: Veselības ministrijas budžeta programma 02.03.00. "Augstākā medicīnas izglītība" | B18: 144 | C18: 40641.12 | D18: 50644 | E18: =G18/3 -> 3334.2933 | F18: =E18*2 -> 6668.5867 | G18: =D18-C18 -> 10002.88
A19: Kopā | B19: =SUM(B15:B18) -> 8109 | C19: =SUM(C15:C18) -> 2376660.1 | D19: =SUM(D15:D18) -> 2939915 | E19: =SUM(E15:E18) -> 187751.63 | F19: =SUM(F15:F18) -> 375503.25 | G19: =SUM(G15:G18) -> 563254.88
A20: * IZM resoram, tai skaitā 97 Smiltenes tehnikuma dienesta viesnīcā dzīvojošajiem izglītojamiem ar invaliditāti, kuram nepieciešami rehabilitācijas pasākumi atbilstoši viņa funkcionālajiem traucējumiem un minētajiem izglītojamajiem papildus sniegto ēdināšanas pakalpojumu izmaksas (97*694,36+97*213,43=88 056 euro)
A22: Izglītības programmu grupas "Vadība un administrēšana" normējamām izmaksām nepieciešamais finansējums (euro)
A23: Budžeta programma/resors | B23: Izglītojamo skaits vidēji gadā (valsts finansēto vietu skaits) | C23: Normējamās izmaksas (saskaņā ar spēkā esošo aprēķinu - 425,15 euro) | D23: Normējamās izmaksas (saskaņā ar jauno aprēķinu - 624,86 euro) | E23: Starpība jeb nepieciešamais papildus finansējums
E24: 2023.gads | F24: 2024.gads | G24: 2025.gads un turpmāk
A25: Izglītības un zinātnes ministrijas budžeta programma 02.01.00. "Profesionālās izglītības programmu īstenošana"* | B25: 20103 | C25: 12019351 | D25: 17653822 | E25: =G25/3 -> 1878157 | F25: =E25*2 -> 3756314 | G25: =D25-C25 -> 5634471
A26: Kultūras ministrijas budžeta programma 20.00.00. "Kultūrizglītība"*** | B26: 1825 | C26: 1803062 | D26: 2650015 | E26: =G26/3 -> 282317.67 | F26: =E26*2 -> 564635.33 | G26: =D26-C26 -> 846953
A27: Zemkopības ministrijas budžeta programma 22.01.00. "Profesionālā izglītība"** | B27: 447 | C27: 244372 | D27: 359162 | E27: =G27/3 -> 38263.333 | F27: =E27*2 -> 76526.667 | G27: =D27-C27 -> 114790
A28: Veselības ministrijas budžeta programma 02.03.00. "Augstākā medicīnas izglītība" | B28: 144 | C28: 195909.12 | D28: 287935.49 | E28: =G28/3 -> 30675.457 | F28: =E28*2 -> 61350.913 | G28: =D28-C28 -> 92026.37
A29: Kopā | B29: =SUM(B25:B28) -> 22519 | C29: =SUM(C25:C28) -> 14262694 | D29: =SUM(D25:D28) -> 20950934 | E29: =SUM(E25:E28) -> 2229413.5 | F29: =SUM(F25:F28) -> 4458826.9 | G29: =SUM(G25:G28) -> 6688240.4
A30: * Finansējums tiek aprēķināts ņemot vērā izglītības iestāžu profesionālās izglītības programmu izmaksu vidējos koeficientus. ** Finansējums tiek aprēķināts ņemot vērā profesionālās izglītības programmu izmaksu koeficientus.
