Workbook

Sheet KOPSAVILKUMS
C1: 2. pielikums Informatīvajam ziņojumam par perorāli lietojamo speciālo pārtiku
A3: Risinājuma Nr. | B3: Risinājums | C3: Budžeta programmas (apakšprogrammas) kods un nosaukums | D3: Papildus nepieciešamais valsts budžeta finansējums, EUR
D4: 2023.gadam | E4: 2024.gadam | F4: 2025.gadam | G4: turpmākā laikposmā līdz pasākuma pabeigšanai (ja tas ir terminēts) | H4: turpmāk ik gadu (ja pasākums nav terminēts)
B5: KOPĀ | D5: =D6 -> 2434369 | E5: =E6 -> 2434369 | F5: =F6 -> 2434369 | G5: =G6 -> 0 | H5: =H6 -> 2434369
B6: 29.Veselības ministrija | D6: =SUM(D7:D9) -> 2434369 | E6: =SUM(E7:E9) -> 2434369 | F6: =SUM(F7:F9) -> 2434369 | G6: =SUM(G7:G9) -> 0 | H6: =SUM(H7:H9) -> 2434369
B7: t.sk. | C7: 33.04.00 Centralizēta medikamentu un materiālu iegāde | D7: =D10 -> 2277031 | E7: =E10 -> 2277031 | F7: =F10 -> 2277031 | G7: =G10 -> 0 | H7: =H10 -> 2277031
C8: 33.15.00 Laboratorisko izmeklējumu nodrošināšana ambulatorajā aprūpē | D8: =D12 -> 151764 | E8: =E12 -> 151764 | F8: =F12 -> 151764 | G8: =G12 -> 0 | H8: =H12 -> 151764
C9: 33.16.00 Pārējo ambulatoro veselības aprūpes pakalpojumu nodrošināšana | D9: =D13 -> 5574 | E9: =E13 -> 5574 | F9: =F13 -> 5574 | G9: =G13 -> 0 | H9: =H13 -> 5574
A10: 1 | B10: Speciālā pārtika pacientiem ar uztura nepietiekamību | C10: 33.04.00 Centralizēta medikamentu un materiālu iegāde | D10: ='1.1.'!E33 -> 2277031 | E10: ='1.1.'!E33 -> 2277031 | F10: ='1.1.'!E33 -> 2277031 | G10: 0 | H10: ='1.1.'!E33 -> 2277031
A11: 2 | B11: Izmeklējumi pacientiem, kam nepieciešama speciālā pārtika | D11: =D12+D13 -> 157338 | E11: =E12+E13 -> 157338 | F11: =F12+F13 -> 157338 | G11: 0 | H11: =H12+H13 -> 157338
A12: 2.1. | B12: Laboratoriskajiem izmeklējumiem | C12: 33.15.00 Laboratorisko izmeklējumu nodrošināšana ambulatorajā aprūpē | D12: ='1.1.'!E68 -> 151764 | E12: ='1.1.'!E68 -> 151764 | F12: ='1.1.'!E68 -> 151764 | G12: 0 | H12: ='1.1.'!E68 -> 151764
A13: 2.2. | B13: Ambulatoriem izmeklējumiem | C13: 33.16.00 Pārējo ambulatoro veselības aprūpes pakalpojumu nodrošināšana | D13: ='1.1.'!E69 -> 5574 | E13: ='1.1.'!E69 -> 5574 | F13: ='1.1.'!E69 -> 5574 | G13: 0 | H13: ='1.1.'!E69 -> 5574

Sheet 1.1.
D1: 2.1. pielikums Informatīvajam ziņojumam par perorāli lietojamo speciālo pārtiku
B3: PAPILDUS NEPIECIEŠAMAIS FINANSĒJUMS SPECIĀLĀS PĀRTIKAS NOZĪMĒŠANAI
B5: KOPĀ NEPIECIEŠAMAIS FINANSĒJUMS GADĀ, EUR | E5: =E33+E67 -> 2434369
B7: Konsultācijas var veikt bērnu vai pieaugušo ārstējošais ārsts - onkologs ķīmijterapeits, ķirurgs, hematologs, paliatīvās aprūpes speciālists, gastroenterologs, dietologs, u.c, nozīmējot medicīniskiem nolūkiem paredzētu perorāli lietojamu speciālo pārtiku. Pie pacientu skaita 600 (kopā ar bērniem) maksimāli konsultāciju skaits dinamiskai novērošani 2400
B9: Nozīmējot specializēto medicīnisko uzturu ambulatorās konsultācijas ietvaros vai izrakstoties no stacionāra vai dienas stacionāra, tiek atzīmēta kā paildus manipulācija
B11: 1. Speciālā pārtika pacientiem ar uztura nepietiekamību
D13: Preces, pakalpojuma nosaukums | E13: Vienas vienības provizoriskā cena ar PVN, ietverot loģistiku, EUR
D14: Nutricomp drink 200ml- standarta enterālās barošanas dzēriens | E14: 5.45
D15: Remune 200ml - enterālās barošanas līdzeklis | E15: 8.77
D16: Supportan Drink Cappucino 4 but po 200ml Enteral nutrition | E16: 3.36
D17: Fres. 2 kcal fibre Vanilla, 4 but po 200 ml Enteral nutrition | E17: 2.56
D18: Fres. 2 kcal Vanilla, 4 but po 200 ml Enteral nutrition | E18: 2.56
D19: Cubitan -enterālās barošanas līdzeklis | E19: 2.96
D20: Nutridrink Protein | E20: 3.13
D21: Nutridrink | E21: 2.74
D22: Nutridrink Yogurt style | E22: 2.74
D23: Nutridrink Juice style | E23: 2.74
D24: Nutricia Diasip | E24: 2.74
D25: Nutricia Renilon | E25: 2.99
D26: Nutridrink Multi Fibre | E26: 2.74
D27: Bērniem:
D28: Nutricia Infatrini (ievade arī caur zondi) | E28: 2.36
D29: Nutrini (ievade caur zondi) | E29: 2.47
D30: Vienības vidējās izmaksas, EUR: | E30: =AVERAGE(E14:E29) -> 3.354
D31: Plānotais pacientu skaits (tajā skaitā bērni): | E31: 620
D32: Plānotais ēdienreižu skaits uz 1 pacientu gadā (365 d. x 3 ēdienreizes dienā): | E32: =365*3 -> 1095
D33: Kopā nepieciešamais finansējums gadā, EUR: | E33: =ROUNDUP(E30*E31*E32,0) -> 2277031
C37: 2. Izmeklējumi pacientiem, kam nepieciešama speciālā pārtika (nozīmē uzraugošais ārsts-speciālists vispārējā kārtībā pēc pamata saslimšanas)
C40: Izmeklējuma nosaukums | D40: Manipulācijas tarifs | E40: Tarifs, EUR | F40: Nepieciešamais izmeklējumu skaits gadā | G40: Nepieciešamais finansējums izmeklējumiem gadā, EUR
C41: Pilna asins aina | D41: 40042 (Pilna asins aina (hemoglobīns, eritrocīti, leikocīti, trombocīti, hematokrīts, leikocītu formula (vismaz neitrofīli, eozinofīli, bazofīli, limfocīti, monocīti)). Papildus nenorādīt manipulācijas 40010, 40014) | E41: 4.38 | F41: 4x gadā | G41: =E41*4 -> 17.52
C42: Bilirubīns | D42: 41052 (Bilirubīns, frakcijas) | E42: 1.59 | F42: 4x gadā | G42: =E42*4 -> 6.36
C43: Alanīnaminotrasneferāze (ALAT) | D43: 41022 (ALAT – alanīnaminotransferāze) | E43: 1.3 | F43: 4x gadā | G43: =E43*4 -> 5.2
C44: Urīnviela (UREA) | D44: 41004 (Urīnviela) | E44: 1.97 | F44: 4x gadā | G44: =E44*4 -> 7.88
C45: Kreatinīns | D45: 41006 (Kreatinīns) | E45: 1.42 | F45: 4x gadā | G45: =E45*4 -> 5.68
C46: Kopējais olbaltums | D46: 41001 (Kopējais olbaltums) | E46: 1.58 | F46: 4x gadā | G46: =E46*4 -> 6.32
C47: Albumīns | D47: 41002 (Albumīns) | E47: 1.58 | F47: 4x gadā | G47: =E47*4 -> 6.32
C48: C reaktīvais olbaltums (CRO) | D48: 41127 (CRO (kvantitatīvi)) | E48: 2.66 | F48: 4x gadā | G48: =E48*4 -> 10.64
C49: Glikoze | D49: 41095 (Glikoze asinīs) | E49: 1.62 | F49: 4x gadā | G49: =E49*4 -> 6.48
C50: Nātrijs | D50: 41067 (Nātrijs) | E50: 1.3 | F50: 4x gadā | G50: =E50*4 -> 5.2
C51: Kālijs | D51: 41065 (Kālijs) | E51: 1.3 | F51: 4x gadā | G51: =E51*4 -> 5.2
C52: Kalcijs | D52: 41068 (Kalcijs) | E52: 1.3 | F52: 4x gadā | G52: =E52*4 -> 5.2
... C59: Triglicerīdi | D59: 41046 (Triglicerīdi) | E59: 2.08 | F59: 4x gadā | G59: =E59*4 -> 8.32
C60: Ferritīns | D60: 41124 (Feritīns) | E60: 7.42 | F60: 2x gadā | G60: =E60*2 -> 14.84
C61: Vitamīns B12 | D61: 41200 (Vitamīns B 12) | E61: 9.04 | F61: 2x gadā | G61: =E61*2 -> 18.08
C62: Folskābe | D62: 41201 (Folskābe) | E62: 8.23 | F62: 2x gadā | G62: =E62*2 -> 16.46
C63: Urīnskābe | D63: 41005 (Urīnskābe) | E63: 1.79 | F63: 2x gadā | G63: =E63*2 -> 3.58
C64: Urīna analīze | D64: 40131-40150 | E64: 8.76 | F64: 4x gadā | G64: =E64*4 -> 35.04
C65: Koprogramma | D65: 40160 (Koprogramma) | E65: 3.94 | F65: 1x gadā | G65: =E65*1 -> 3.94
C66: Ultrasonogrāfija vēdera dobuma orgāniem | D66: 50700 (Abdominālā ultrasonogrāfija) | E66: 8.99 | F66: 1x gadā | G66: =E66 -> 8.99
D67: Nepiecieāmais finansējums gadā 620 pacientiem, EUR: | E67: =ROUNDUP(SUM(G41:G66)*E31,0) -> 157338
D68: Laboratoriskajiem izmeklējumiem | E68: =ROUND(SUM(G41:G65)*E31,0) -> 151764
D69: Ambulatoriem izmeklējumiem | E69: =ROUND(SUM(G66)*E31,0) -> 5574
