Workbook

Sheet KOPĀ
H1: 2.pielikums informatīvajam ziņojumam “Par Eiropas Parlamenta un Padomes 2024. gada 11. aprīļa Regulas (ES) 2024/1083, ar ko izveido vienotu satvaru mediju pakalpojumiem iekšējā tirgū un groza Direktīvu 2010/13/ES (Eiropas Mediju brīvības akts), prasību ieviešanu”
A2: Detalizēts Nacionālās elektronisko plašsaziņas līdzekļu padomes aprēķins divām papildu amata vietām Eiropas Parlamenta un Padomes 2024. gada 11. aprīļa Regulas (ES) 2024/1083, ar ko izveido vienotu satvaru mediju pakalpojumiem iekšējā tirgū un groza Direktīvu 2010/13/ES (Eiropas Mediju brīvības akts), funkciju ieviešanas un īstenošanas nodrošināšanai
A3: Izdevumu pozīcija | C3: Valsts un pašvaldību institūciju amatpersonu un darbinieku atlīdzības likums (euro) | F3: Turpmāk katru gadu (ja pasākums nav terminēts)
B4: 2026 | C4: 2027 | D4: 2028 | E4: 2029
A5: 2 amata vietām, t.sk.
A6: Atlīdzība 2 NEPLP darbiniekiem, t.sk.: | B6: =ALGAS_2025!N5 -> 83356.623 | C6: =ALGAS_2025!N5 -> 83356.623 | D6: =ALGAS_2025!N5 -> 83356.623 | E6: =ALGAS_2025!N5 -> 83356.623 | F6: =ALGAS_2025!N5 -> 83356.623 | H6: KOPĀ ar DD nodokli
A8: Atšifrējums:
A9: Atalgojums | B9: =ALGAS_2025!F5 -> 72492.95 | C9: =ALGAS_2025!F5 -> 72492.95 | D9: =ALGAS_2025!F5 -> 72492.95 | E9: =ALGAS_2025!F5 -> 72492.95 | H9: Kopā 2 darbiniekiem gadā
A10: Atvaļinājuma pabalsts līdz 50% (1xgadā) | B10: =ALGAS_2025!G5+ALGAS_2025!H5 -> 3020.5396 | C10: =ALGAS_2025!G5+ALGAS_2025!H5 -> 3020.5396 | D10: =ALGAS_2025!G5+ALGAS_2025!H5 -> 3020.5396 | E10: =ALGAS_2025!G5+ALGAS_2025!H5 -> 3020.5396 | H10: Kopā 2 darbiniekiem gadā
A11: Novērtēšanas prēmija līdz 75% (1xgadā) | B11: =ALGAS_2025!I5+ALGAS_2025!J5 -> 4530.8094 | C11: =ALGAS_2025!I5+ALGAS_2025!J5 -> 4530.8094 | D11: =ALGAS_2025!I5+ALGAS_2025!J5 -> 4530.8094 | E11: =ALGAS_2025!I5+ALGAS_2025!J5 -> 4530.8094 | H11: Kopā 2 darbiniekiem gadā
A12: Stratēģisko mērķu piemaksa līdz 30% (1xgadā) | B12: =ALGAS_2025!K5+ALGAS_2025!L5 -> 1812.3238 | C12: =ALGAS_2025!K5+ALGAS_2025!L5 -> 1812.3238 | D12: =ALGAS_2025!K5+ALGAS_2025!L5 -> 1812.3238 | E12: =ALGAS_2025!K5+ALGAS_2025!L5 -> 1812.3238
A13: Apdrošināšanas polises | B13: =ALGAS_2025!M5 -> 1500 | C13: =ALGAS_2025!M5 -> 1500 | D13: =ALGAS_2025!M5 -> 1500 | E13: =ALGAS_2025!M5 -> 1500 | H13: Kopā 2 darbiniekiem gadā
A15: Materiālais nodrošinājums un kapitālās izmaksas (2 darbstacijas) | B15: =C31 -> 4200.78 | H15: Finansējuma atšifrējumu sk.zemāk.
A16: Telekomunikāciju pakalpojumi, internets, komandējumi u.c. | B16: =C37 -> 2000 | C16: =C37 -> 2000 | D16: =C37 -> 2000 | E16: =C37 -> 2000 | F16: =C37 -> 2000 | H16: Preces un pakalpojumi 2 amata vietām
A18: KOPĀ: | B18: =B6+B15+B16 -> 89557.403 | C18: =C6+C15+C16 -> 85356.623 | D18: =D6+D15+D16 -> 85356.623 | E18: =E6+E15+E16 -> 85356.623 | F18: =F6+F15+F16 -> 85356.623
A21: Atšifrējums:
A22: Materiālais nodrošinājums un kapitālās izmaksas (2 darbstacijas, mēbeles) | C22: PLĀNS
A23: 1. Portatīvais 830 + PVN = 1004.30 | C23: 1004.3
A24: 2. Portatīvais 830 + PVN = 1004.30 | C24: 1004.3
A25: 3. Monitors = 343,87 + PVN = 416.09 | C25: =416.09 -> 416.09
A26: 4. Monitors = 343,87 + PVN = 416.09 | C26: =416.09 -> 416.09
A27: 5. Galds, krēsls = 562,00 + PVN = 680.00 | C27: 680
A28: 6. Galds, krēsls = 562,00 + PVN = 680.00 | C28: 680
A31: KOPĀ: | C31: =SUM(C23:C30) -> 4200.78
A34: Telekomunikāciju pakalpojumi, internets, komandējumi u.c.
A35: 1.Internets un paredzamās mobilo lietotņu abonentmaksas | C35: =1000/2 -> 500
A36: 2. Apmācības, semināri, ārvalstu pieredzes apmaiņa un komandējumu izdevumi | C36: =3000/2 -> 1500
A37: KOPĀ: | C37: =SUM(C35:C36) -> 2000

Sheet ALGAS_2025
A1: Amats | B1: Saime, līmenis, algu grupa | C1: Bāzes alga 2025.gadā (viduspunkts) | D1: DD 23.59% | E1: KOPĀ mēnesī | F1: KOPĀ 2025.gadā | G1: Atvaļinājuma pabalsts līdz 50% (1xgadā) | H1: DD 23.59% | I1: Ikgadējās Novērtēšanas prēmija līdz 75% (1xgadā) | J1: DD 23.59% | K1: Stratēģisko mērķu piemaksa līdz 30% (1xgadā) | L1: DD 23.59% | M1: Polises | N1: VISS KOPĀ 2025.gadā
A2: Jurists | B2: 24.saime, II līmenis, 10.algu grupa | C2: 2174 | D2: =C2*0.2359 -> 512.8466 | E2: =C2+D2 -> 2686.8466 | F2: =E2*12 -> 32242.159 | G2: =C2/2 -> 1087 | H2: =G2*0.2359 -> 256.4233 | I2: =C2*0.75 -> 1630.5 | J2: =I2*0.2359 -> 384.63495 | K2: =C2*0.3 -> 652.2 | L2: =K2*0.2359 -> 153.85398 | M2: 750 | N2: =F2+G2+H2+I2+J2+K2+L2+M2 -> 37156.771
A3: Vadošais eksperts | B3: 13.saime, VI līmenis, 11.algu grupa | C3: 2714 | D3: =C3*0.2359 -> 640.2326 | E3: =C3+D3 -> 3354.2326 | F3: =E3*12 -> 40250.791 | G3: =C3/2 -> 1357 | H3: =G3*0.2359 -> 320.1163 | I3: =C3*0.75 -> 2035.5 | J3: =I3*0.2359 -> 480.17445 | K3: =C3*0.3 -> 814.2 | L3: =K3*0.2359 -> 192.06978 | M3: 750 | N3: =F3+G3+H3+I3+J3+K3+L3+M3 -> 46199.852
A5: KOPĀ: | F5: =SUM(F2:F4) -> 72492.95 | G5: =SUM(G2:G4) -> 2444 | H5: =SUM(H2:H4) -> 576.5396 | I5: =SUM(I2:I4) -> 3666 | J5: =SUM(J2:J4) -> 864.8094 | K5: =SUM(K2:K4) -> 1466.4 | L5: =SUM(L2:L4) -> 345.92376 | M5: =SUM(M2:M4) -> 1500 | N5: =SUM(N2:N4) -> 83356.623
