Workbook
Name _1_2_d_NMP_lim: #REF!
Name aa: #REF!
Name b: #REF!
Name bt: #REF!
Name BX: #REF!
Name CalendarYear: #REF!
Name ccc: #REF!
Name d: #REF!
Name D_Evija3: #REF!
Name DaysAndWeeks: {0,1,2,3,4,5,6} + {0;1;2;3;4;5}*7
Name de: #REF!
Name dff: #NAME?
Name DRGNAMES: #REF!
Name e: #REF!
Name ee: #REF!
Name Excel_BuiltIn__FilterDatabase_2: #REF!
Name Excel_BuiltIn__FilterDatabase_3: #REF!
Name Excel_BuiltIn_Print_Titles_2: #REF!
Name Excel_BuiltIn_Print_Titles_3: #REF!
Name gad_skaits: #REF!
Name gad_skaits_1: #REF!
Name gggg: #REF!
Name ghy: #REF!
Name h: #REF!
Name hh: #REF!
Name hjh: #REF!
Name hyh: #REF!
Name i: #REF!
Name izm.kods: #REF!
Name izm.kods_1: [2]izm.posteni!$A$2:$A$216
Name izm.nos: #REF!
Name izm.nos_1: [2]izm.posteni!$B$2:$B$216
Name jhg: #REF!
Name kk: #REF!
Name l: #REF!
Name Limeni_7_9group: #REF!
Name n: #REF!
Name P_Dati_rikojums: #REF!
Name pp: #REF!
Name Recover: [3]Macro1!$A$80
Name Rikojums2222: [4]Macro1!$A$106
Name rr: #REF!
Name rt: #REF!
Name rty: #REF!
Name S5\: #REF!
Name ss: #REF!
Name Str.: #REF!
Name Str.vien.nos.: #REF!
Name Struktura: #REF!
Name Struktūrvien.kodi2: #REF!
Name Struktūrvien.kodi2_1: [2]strukturkodi!$B$2:$B$232
Name Struktūrvien.kods: #REF!
Name Struktūrvien.kods_1: [2]strukturkodi!$A$2:$A$232
Name T13l6: [5]ATSKAITE_2v!#REF!
Name TableName: "Dummy"
Name TWO_LINKS: '[6]8.1.'!$C$5
Name ty: #REF!
Name tyuj: #REF!
Name u: #REF!
Name U_N_A: #REF!

Sheet Pielikums Nr_1
C1: Informatīvā ziņojuma "Par Covid-19 vakcinācijas plānu 2022. gadam" 1.pielikums
A2: Covid-19 vakcinācijas plāna indikatīvais finansējums 2022.gadam - pasākumi turpināmi no 2022.gada 1.janvāra
A4: Pasākums | B4: Summa, euro | C4: Finansējuma statuss
A5: 1.Vakcīnu iegāde, loģistika un ievades izmaksas | B5: 131245007 | C5: Atbalstīts finansējums ar MK protokollēmumiem
A6: Iezīmēts finansējums 2022.gadā: | B6: =B5 -> 131245007
A8: Pasākums | B8: Summa, euro | C8: Finansējuma statuss
A9: ='Pielikums Nr_2'!A2 -> 2. Atbalsts vakcīnu iegādes, loģistikas un ievades īstenošanai | B9: ='Pielikums Nr_2'!M10 -> 103041.82 | C9: Nepieciešams papildus finansējums
A10: ='Pielikums Nr_3'!A3 -> 3. Vakcinācijas procesa infrastruktūras un citu resursu nodrošinājums | B10: ='Pielikums Nr_3'!E11+'Pielikums Nr_3'!E20+'Pielikums Nr_3'!E30+'Pielikums Nr_3'!E36+'Pielikums Nr_3'!D41+'Pielikums Nr_3'!E50+'Pielikums Nr_3'!P60 -> 3309568 | C10: Nepieciešams papildus finansējums
A11: ='Pielikums Nr_4'!A1 -> 4. Vakcinācijas IT sistēmas tehniskais atbalsts un uzturēšana | B11: ='Pielikums Nr_4'!D55+'Pielikums Nr_4'!D57+'Pielikums Nr_4'!D59+'Pielikums Nr_4'!P70 -> 1303054 | C11: Nepieciešams papildus finansējums
A12: ='Pielikums Nr_5 '!A3 -> 5. Plānotās komunikācijas un iedzīvotāju informēšanas aktivitātes | B12: ='Pielikums Nr_5 '!E31+'Pielikums Nr_5 '!P42 -> 465986 | C12: Nepieciešams papildus finansējums
A13: ='Pielikums Nr_6'!A2 -> 6. Zvanu un klientu apkalpošanas centrs "8989" | B13: ='Pielikums Nr_6'!D7+'Pielikums Nr_6'!P14 -> 1966214.7 | C13: Nepieciešams papildus finansējums
A14: ='Pielikums Nr_7'!A2 -> 7. Digitālais sertifikāts | B14: ='Pielikums Nr_7'!D9+'Pielikums Nr_7'!P19 -> 612469.26 | C14: Nepieciešams papildus finansējums
A15: Papildus nepieciešamais finansējums: | B15: =SUM(B9:B14) -> 7760333.8

Sheet Pielikums Nr_2
I1: Informatīvā ziņojuma "Par Covid-19 vakcinācijas plānu 2022. gadam" 2.pielikums
A2: 2. Atbalsts vakcīnu iegādes, loģistikas un ievades īstenošanai
A4: Amats | B4: Slodžu skaits | C4: Saime (apakšsaime) | D4: Līmenis | E4: Mēnešalgu grupa | F4: Amata vietai plānotā mēnešalga | G4: Piemaksa 10% (EKK 1147) | H4: Prēmijas un naudas balvas 10% (EKK 1148) | I4: Sociālā garantija 5% (EKK 1220) | J4: Sociālā garantija* 8.33% (EKK 1220) | K4: Valsts sociālās apdrošināšanas obligātās iemaksas, 23.59% | L4: Kopā mēnesī | M4: Kopā 12 mēnešiem (1000)**
G5: 0.1 | H5: 0.1 | I5: 0.05 | J5: 0.0833 | M5: 12
A6: 1 | B6: 2 | C6: 3 | D6: 4 | E6: 5 | F6: 6 | G6: 7=6*10% | H6: 8=6*10% | I6: 9=6*5% | J6: 10=6*8.33% | K6: 11=(6+7+8+9+10)*23.59% | L6: 12=6+7+8+9+10+11 | M6: 13=12*12 mēn.
A7: Projekta vadītājs | B7: 1 | C7: 32 | D7: IIIC | E7: 13 | F7: 1917 | G7: 191.7 | H7: 191.7 | I7: 95.85 | J7: 159.6861 | K7: 602.94533 | L7: 3158.8814 | M7: 37906.577
A8: Procesa koordinators | B8: 1 | C8: 32 | D8: IIIB | E8: 12 | F8: 1647 | G8: 164.7 | H8: 164.7 | I8: 82.35 | J8: 137.1951 | K8: 518.02345 | L8: 2713.9685 | M8: 32567.623
A9: Loģistikas koordinators | B9: 1 | C9: 32 | D9: IIIB | E9: 12 | F9: 1647 | G9: 164.7 | H9: 164.7 | I9: 82.35 | J9: 137.1951 | K9: 518.02345 | L9: 2713.9685 | M9: 32567.623
M10: =M7+M8+M9 -> 103041.82

Sheet Pielikums Nr_3
D1: Informatīvā ziņojuma "Par Covid-19 vakcinācijas plānu 2022. gadam" 3.pielikums
A3: 3. Vakcinācijas procesa infrastruktūras un citu resursu nodrošinājums
A5: 3.1. Pašvaldības centri
A7: Tehniskās izmaksas | B7: Vakcinācijas centru skaits | C7: Vienas vienības cena (ar PVN 21%), euro | D7: Mēnešu skaits | E7: Izmaksas kopā 6 mēnešiem (ar PVN 21%), euro
A8: Tehniskā aprīkojuma (galdi, krēsli, aizslietņi, u.c.) noma un/vai pārveide (montāža, demontāža, transports u.c.) | B8: 25 | C8: 1000 | D8: 6 | E8: =(B8*C8)*D8 -> 150000
A9: Telpu īre un komunālie maksājumi, balstoties uz faktiskajiem izdevumiem (elektroenerģija, internets, apkure, ūdens, apsardze, uzkopšana u.c.) | B9: 25 | C9: 7000 | D9: 6 | E9: =(B9*C9)*D9 -> 1050000
A10: Neparedzēti izdevumi aptuveni 2.5% no kopējiem izdevumiem (piemēram, dzeramais ūdens, norāžu izvietošana, u.c.) | B10: 25 | C10: 229.6 | D10: 6 | E10: =(B10*C10)*D10 -> 34440
D11: Kopā ar PVN: | E11: =SUM(E8:E10) -> 1234440
A13: 3.2. Vakcinācijas punkti tirdzniecības centros
A15: Pozīcija | B15: Vienas vienības izmaksas mēnesī (t.sk. PVN), euro | C15: Vienību skaits | D15: KOPĀ mēnesī (t.sk. PVN), euro | E15: KOPĀ 6 mēnešos (t.sk. PVN), euro
A17: Tirdzniecības centrs, u.c., nodrošina tikai par telpu/vietu (iekštelpās un ārtelpās). Līdzmaksājums par telpu uzkopšanu, apsardzi, ūdens un kanalizācijas apgādi, elektroenerģiju, sadzīves atkritumu izvešanu. | B17: 2000 | C17: 25 | D17: 50000 | E17: 300000
A18: Tehniskā aprīkojuma (galdi, krēsli, aizslietņi, u.c.) noma un/vai pārveide (montāža, demontāža, transports u.c.) | B18: 1500 | C18: 10 | D18: 15000 | E18: 90000
A19: Neparedzētie izdevumi (piemēram, papildu ārstniecības brigādes nodrošināšana, papildu komunālie izdevumi, elektrības izdevumi u.c.) - 3% no kopsummas. | B19: 105 | C19: 25 | D19: 2625 | E19: 15750
D20: Kopā ar PVN: | E20: 405750
A22: 3.3. Vakcinācijas punkti pārvietojamos konteineros
A24: Tehniskās izmaksas | B24: Punktu skaits | C24: Vienas vienības cena mēnesī (ar PVN 21%), euro | D24: Mēnešu skaits | E24: Izmaksas kopā 6 mēnešiem (ar PVN 21%), euro
A25: Pārvietojamo konteineru un WC noma (30 m2) | B25: 10 | C25: 4500 | D25: 6 | E25: =(B25*C25)*D25 -> 270000
A26: Tehniskā aprīkojuma (galdi, krēsli, aizslietņi, u.c.) noma un/vai pārveide (montāža, demontāža, transports u.c.) | B26: 10 | C26: 1500 | D26: 6 | E26: =(B26*C26)*D26 -> 90000
A27: Uzkopšanas izmaksas | B27: 10 | C27: 4000 | D27: 6 | E27: =(B27*C27)*D27 -> 240000
A28: Elektrības izmaksas (t.sk. pieslēgšana) | B28: 10 | C28: 2000 | D28: 6 | E28: =(B28*C28)*D28 -> 120000
A29: Neparedzēti izdevumi aptuveni 3% no kopējiem izdevumiem (piemēram, dzeramais ūdens, norāžu izvietošana, u.c.) | B29: 10 | C29: 337.5 | D29: 6 | E29: =(B29*C29)*D29 -> 20250
D30: Kopā ar PVN: | E30: =SUM(E25:E29) -> 740250
A32: 3.4. Mobilā izbraukuma vakcinācija - īpaši pielāgotā transporta līdzekļos - autobusos (vakcīnbusos)
A34: Pakalpojums | B34: Vienas vienības izmaksa (nedēļā) | C34: Pakalpojuma izmantošanas periods (nedēļās) | D34: Nepieciešamo transporta vienību skaits | E34: Summa, euro
A35: Transporta noma | B35: 11760 | C35: 16 | D35: 3 | E35: =11760*16*3 -> 564480
D36: Kopā ar PVN: | E36: =SUM(E35) -> 564480
A38: Pakalpojums | B38: Vienreizējās izmaksas, euro | C38: Nepieciešamo transporta vienību skaits | D38: Summa, euro
A39: Tehniskais nodrošinājums vakcinācijas nodrošināšanai transportlīdzekļos (galdi, krēsli, aizslietņi, elektrības nodrošinājums, cits tehniskais un medicīniskais aprīkojums pēc nepieciešamības) | B39: 4000 | C39: 3 | D39: =B39*C39 -> 12000
A40: Autobusu aplīmēšana | B40: 4000 | C40: 3 | D40: =B40*C40 -> 12000
C41: Kopā ar PVN: | D41: =SUM(D39:D40) -> 24000
A43: 3.5. Liela mēroga vakcinācijas centri Rīgā
A45: Tehniskās izmaksas | B45: Vakcinācijas centru skaits | C45: Vienas vienības cena (ar PVN 21%), euro | D45: Mēnešu skaits | E45: Izmaksas kopā 6 mēnešiem (ar PVN 21%), euro
A46: Tehniskā aprīkojuma (galdi, krēsli, aizslietņi, u.c.) noma un/vai pārveide (montāža, demontāža, transports u.c.) | B46: 2 | C46: 12000 | D46: 3 | E46: =(B46*C46)*D46 -> 72000
A47: Telpu īre | B47: 2 | C47: 28000 | D47: 3 | E47: =(B47*C47)*D47 -> 168000
A48: Komunālie maksājumi, balstoties uz faktiskajiem izdevumiem (elektroenerģija, internets, apkure, ūdens, apsardze, uzkopšana u.c.) | B48: 2 | C48: 10000 | D48: 3 | E48: =(B48*C48)*D48 -> 60000
A49: Neparedzēti izdevumi aptuveni 2.5% no kopējiem izdevumiem (piemēram, dzeramais ūdens, norāžu izvietošana, u.c.) | B49: 2 | C49: 2220 | D49: 3 | E49: =(B49*C49)*D49 -> 13320
A50: KOPĀ: | E50: =SUM(E46:E49) -> 313320
A53: 3.6. Atbalsts vakcinācijas procesa organizēšanai (6M)
A55: Amats | B55: Slodžu skaits | C55: Saime (apakšsaime) | D55: Līmenis | E55: Mēnešalgu grupa | F55: Amata vietai plānotā mēnešalga | G55: Piemaksa 10% (EKK 1147) | H55: Prēmijas un naudas balvas 10% (EKK 1148) | I55: Sociālā garantija 5% (EKK 1220) | J55: Sociālā garantija* 8.33% (EKK 1220) | K55: Valsts sociālās apdrošināšanas obligātās iemaksas, 23.59% | L55: Kopā mēnesī | M55: Kopā 6 mēnešiem (1000)** | N55: Kopā 6 mēnešiem (1100)** | O55: Kopā 6 mēnešiem (1200)** | P55: KOPĀ atlīdzībai
G56: 0.1 | H56: 0.1 | I56: 0.05 | J56: 0.0833 | M56: 6 | N56: 6 | O56: 6
...

Sheet Pielikums Nr_4
A1: 4. Vakcinācijas IT sistēmas tehniskais atbalsts un uzturēšana | D1: Informatīvā ziņojuma "Par Covid-19 vakcinācijas plānu 2022. gadam" 4.pielikums
A3: Nosaukums | B3: Pozīcija | C3: Pozīcijas izmaksas (euro, bez PVN 21%) | D3: Indikatīvais nepieciešamais finansējums (euro, t.sk.PVN 21%)
A4: ViVat uzturēšana
A5: Uzturēšanas izmaksas | B5: Atbilstoši VARAM metodoloģijai lielo IT sistēmu uzturēšanas izmaksas, ja sistēmai ir arī starpsistēmu integrācijas saskarnes, kuras tiek izmantotas citās sistēmās (šajā gadījumā - vairāki datu avoti, ārstniecībsa iestāžu/aptieku IS) sastāda 15-17% no kopējām izmaksām. NVD piemēro 16%, kas paredzēti izstrādātās programmatūras uzturēšanas nodrošināšanai atbilstoši tehniskās realizācijas un drošības prasībām, t.sk. līdzekļi funkcionēšanas problēmu profilaksei, kļūdu novēršanai un sistēmas lietotāju atbalstam, sistēmas ekspluatācijas laikā konstatēto kļūdu novēršanai, sistēmas darbības nepārtrauktības nodrošināšanai, pielāgošanas darbiem, kas saistīti izmaiņām izmantotajos tehnoloģiskajos risinājumos, sistēmas darbības pielāgojumi atbilstoši lietotāju vajadzībām u.c | C5: 245000 | D5: =C5+C5*0.21 -> 296450
A6: Vivat Serveru īre 2022.gadā | B6: ViVaT Serveru infrastruktūras īres pakalpojuma nodrošināšana 2022.gadam | C6: 33000 | D6: =C6+C6*0.21 -> 39930
A7: Valsts elektronisko sakaru pakalpojumu centra pakalpojumu finanšu piedāvājums
A8: Pakalpojums | B8: Prognozētais apjoms 2022.gadā | C8: 2022.gada izmaksas mēnesī, kopā, euro bez PVN | D8: Plānotais finansējums 2022.gadā, euro
A9: RAM, GB | B9: 1536 | C9: 2750 | D9: 39930
A10: CPU, GB | B10: 24
A11: SSD, TB | B11: 17.28
A13: Papildinājumu izstrāde
A14: Revakcinācija 2. posms | B14: Revakcinācija otrais posms (PCR testu pārņemšana, Klasifikators, notifikācijas uc) | C14: =SUM(C18:C33) -> 174324.36 | D14: =C14+C14*0.21 -> 210932.48
A15: Nosaukums | B15: Darbs | C15: euro
B16: c/h | C16: bez PVN
A17: POZITĪVS TESTS
A18: Pozitīva testa nodošana (DCS->VIVAT) (DB, procedūra un API DCS pusē) | B18: 104 | C18: =B18*70 -> 7280
A19: Pozitīva testa saņemšana VIVAT pusē (DB struktūras, datu apstrādes procesa izstrāde un API izveidi, integrācijas dokumentācija) | B19: 104 | C19: =B19*70 -> 7280
A20: Algoritma izstrāde - pozitīvs tests + pote | B20: 416 | C20: =B20*70 -> 29120
A21: Statusa pārrēķins pie pozitīva testa un ielikšana rindā | B21: 72 | C21: =B21*70 -> 5040
A22: BALSTVAKCINĀCIJAS KLASIFIKATORS
A23: Dienu skaitu norādīšana revakcinācijas saņemšanai atkarībā no potes/pārslimošanas (9 gadījumi) | B23: 208 | C23: =B23*70 -> 14560
A24: Klasifikatora UI | B24: 31 | C24: =B24*70 -> 2170
A25: Notifikācijas
A26: Basic - par pierakstu, atgādinājums, atcelšana. Ja 10 dienu laikā pēc pozitīva testa ir aktīvs pieraksts. | B26: 208 | C26: =B26*70 -> 14560
A27: Papildinājumi m.lv
A28: API un DB izmaiņas priekš portāla | B28: 40 | C28: =B28*70 -> 2800
A29: Jauno statusu apstrāde | B29: 276 | C29: =B29*70 -> 19320
A30: Analīze | B30: 80 | C30: =B30*70 -> 5600
A31: Testēšana | B31: 354.9 | C31: =B31*70 -> 24843
A32: Infrastruktūra | B32: 181.39 | C32: =B32*70 -> 12697.3
A33: Projektu vadība | B33: 415.058 | C33: =B33*70 -> 29054.06
A35: Aizbildņi, Bērni | B35: Nodrošināt iespēju manavakcina.lv pārstāvēt bērnu vai aizbilnībā esošas personas | C35: 25200 | D35: =C35+C35*0.21 -> 30492
A36: Nosaukums | B36: Indikatīvs vērtējums - Darbs | C36: euro
B37: c/h | C37: bez PVN
A38: Nodrošināt iespēju manavakcina.lv pārstāvēt bērnu vai aizbilnībā esošas personas | B38: 360 | C38: =B38*70 -> 25200
A40: EPIDEM | B40: EPIDEM informācijas sistēmas papildinājumi vakcīnu krājumu pārvaldīšanai un centralizētai pasūtīšanai; | C40: =C43 -> 56000 | D40: =C40+C40*0.21 -> 67760
A41: Nosaukums | B41: Indikatīvs vērtējums - Darbs | C41: euro
B42: c/h | C42: bez PVN
A43: EPIDEM informācijas sistēmas papildinājumi vakcīnu krājumu pārvaldīšanai un centralizētai pasūtīšanai | B43: 800 | C43: =B43*70 -> 56000
A45: ViVat un Ārstniecības iestāžu integrāciju uzlabojumi | C45: =SUM(C48:C50) -> 63000 | D45: =C45+C45*0.21 -> 76230
...

Sheet Pielikums Nr_5 
D1: Informatīvā ziņojuma "Par Covid-19 vakcinācijas plānu 2022. gadam" 5.pielikums
A3: 5. Plānotās komunikācijas un iedzīvotāju informēšanas aktivitātes
A5: Aktivitāte | B5: Vidējās izmaksas mēnesī (euro, t.sk.PVN) | C5: Vienas vienības izmaksas (euro, t.sk.PVN) | D5: Skaits | E5: Nepieciešamais finansējums (euro, t.sk.PVN
A6: Integrētas komunikācijas kampaņas | B6: x | C6: 70000 | D6: 1 | E6: =C6*D6 -> 70000
A7: Radošais risinājums (koncepts, klipu (TV, audio) izstrāde, vizuālais noformējums, sauklis, drukas materiālu maketi/dizains, internetmateriālu sagatavošana u.c.
A8: sagatavoto materiālu izvietošana plašsaziņas līdzekļos un citos kanālos
A9: KOPĀ:
A11: Izglītojošās aktivitātes (tiešsaistes vebināri) | B11: x | C11: 302.5 | D11: 48 | E11: =C11*D11 -> 14520
A13: Informatīvie materiāli sagatavošana (druka (un piegāde), dizains un maketēšana):
A14: 1. Plakāti | B14: x | C14: 1.75 | D14: 5000 | E14: =C14*D14 -> 8750
A15: 2. Infolapas | B15: x | C15: 0.05 | D15: 250000 | E15: =C15*D15 -> 12500
A16: 3. Skrejlapas | B16: x | C16: 0.17 | D16: 12500 | E16: =C16*D16 -> 2125
A17: 4. Buklets | B17: x | C17: 1.4 | D17: 15000 | E17: =C17*D17 -> 21000
A18: 5. Vides materiālu u.c. druka | B18: x | C18: 40 | D18: 200 m2 | E18: =40*200 -> 8000
A19: 6. Dizains un maketēšana | B19: 3000 | C19: x | D19: 6 | E19: =B19*D19 -> 18000
A20: Kopā: | E20: =SUM(E14:E19) -> 70375
A22: Digitālā komunikācija, sociālo mediju komunikācija:
A23: 1. Satura izstrāde, publicēšana, reklāmas uzstādīšana, monitorings | B23: 3000 | D23: 6 | E23: =B23*D23 -> 18000
A24: 2. Sociālo mediju reklāmas izmaksas | B24: 2000 | D24: 6 | E24: =B24*D24 -> 12000
A25: Kopā: | E25: =SUM(E23:E24) -> 30000
A27: Zinātnes komunikācija | B27: x | C27: 1100 | D27: 18 | E27: =C27*D27 -> 19800
A29: Mediju sadarbības projekti (drukātie nacionālie mediji, reģionālie mediji, TV, radio, tiešsaistes mediji, mazākumtautību projekts) | B29: x | C29: 50818 | D29: 3 | E29: =C29*D29 -> 152454
D31: PAVISAM KOPĀ: | E31: =E6+E11+E20+E25+E27+E29 -> 357149
A34: Atbalsts komunikācijai ar sabiedrību īstenošanai
A35: Amats | B35: Slodžu skaits | C35: Saime (apakšsaime) | D35: Līmenis | E35: Mēnešalgu grupa | F35: Amata vietai plānotā mēnešalga | G35: Piemaksa 10% (EKK 1147) | H35: Prēmijas un naudas balvas 10% (EKK 1148) | I35: Sociālā garantija 5% (EKK 1220) | J35: Sociālā garantija* 8.33% (EKK 1220) | K35: Valsts sociālās apdrošināšanas obligātās iemaksas, 23.59% | L35: Kopā mēnesī | M35: Kopā 12 mēnešiem (1000)** | N35: Kopā 12 mēnešiem (1100)** | O35: Kopā 12 mēnešiem (1200)** | P35: KOPĀ atlīdzībai
G36: 0.1 | H36: 0.1 | I36: 0.05 | J36: 0.0833 | M36: 12 | N36: 12 | O36: 12
A37: 1 | B37: 2 | C37: 3 | D37: 4 | E37: 5 | F37: 6 | G37: 7=6*10% | H37: 8=6*10% | I37: 9=6*5% | J37: 10=6*8.33% | K37: 11=(6+7+8+9+10)*23.59% | L37: 12=6+7+8+9+10+11 | M37: 13=12*12 mēn. | N37: 14=(6+7+8)*12 mēn | O37: 15=(9+10+11)* 12 mēn | P37: 16=14+15
A38: Komunikācijas koordinators | B38: 1 | C38: 24 | D38: IV | E38: 12 | F38: 1647 | G38: 164.7 | H38: 164.7 | I38: 82.35 | J38: 137.1951 | K38: 518.02345 | L38: 2713.9685 | M38: 32567.623 | N38: 23716.8 | O38: 8850.8226 | P38: 32568
A39: Komunikācijas koordinators | B39: 1 | C39: 24 | D39: III | E39: 11 | F39: 1382 | G39: 138.2 | H39: 138.2 | I39: 69.1 | J39: 115.1206 | K39: 434.6742 | L39: 2277.2948 | M39: 27327.538 | N39: 19900.8 | O39: 7426.7376 | P39: 27328
A40: Datu analītiķis | B40: 1 | C40: 32 | D40: IIIA | E40: 11 | F40: 1382 | G40: 138.2 | H40: 138.2 | I40: 69.1 | J40: 115.1206 | K40: 434.6742 | L40: 2277.2948 | M40: 27327.538 | N40: 19900.8 | O40: 7426.7376 | P40: 27328
A41: Vecākais referents | B41: 1 | C41: 18.3 | D41: III | E41: 8 | F41: 1093 | G41: 109.3 | H41: 109.3 | I41: 54.65 | J41: 91.0469 | K41: 343.77634 | L41: 1801.0732 | M41: 21612.879 | N41: 15739.2 | O41: 5873.6789 | P41: 21613
O42: Kopā: | P42: =SUM(P38:P41) -> 108837
P44: =P42+E31 -> 465986

Sheet Pielikums Nr_6
C1: Informatīvā ziņojuma "Par Covid-19 vakcinācijas plānu 2022. gadam" 6.pielikums
A2: 6. Zvanu un klientu apkalpošanas centrs "8989"
B4: Mēneša izmaksas, euro | C4: Mēneši | D4: Nepieciešamais finansējums, euro
A5: Vienotā tālruņa 8989 zvanu centra darbība | B5: =D5/C5 -> 134057.83 | C5: 12 | D5: 1608694
C6: Kopā bez PVN: | D6: =D5 -> 1608694
C7: Kopā ar PVN: | D7: =(D6*0.21)+D6 -> 1946519.7
A10: Amats | B10: Slodžu skaits | C10: Saime (apakšsaime) | D10: Līmenis | E10: Mēnešalgu grupa | F10: Amata vietai plānotā mēnešalga | G10: Piemaksa 10% (EKK 1147) | H10: Prēmijas un naudas balvas 10% (EKK 1148) | I10: Sociālā garantija 5% (EKK 1220) | J10: Sociālā garantija* 8.33% (EKK 1220) | K10: Valsts sociālās apdrošināšanas obligātās iemaksas, 23.59% | L10: Kopā mēnesī | M10: Kopā 12 mēnešiem (1000)** | N10: Kopā 12 mēnešiem (1100)** | O10: Kopā 12 mēnešiem (1200)** | P10: KOPĀ atlīdzībai
G11: 0.1 | H11: 0.1 | I11: 0.05 | J11: 0.0833 | M11: 12 | N11: 12 | O11: 12
A12: 1 | B12: 2 | C12: 3 | D12: 4 | E12: 5 | F12: 6 | G12: 7=6*10% | H12: 8=6*10% | I12: 9=6*5% | J12: 10=6*8.33% | K12: 11=(6+7+8+9+10)*23.59% | L12: 12=6+7+8+9+10+11 | M12: 13=12*12 mēn. | N12: 14=(6+7+8)*12 mēn | O12: 15=(9+10+11)* 12 mēn | P12: 16=14+15
A13: Klientu apkalpošanas speciālists 8989 | B13: 1 | C13: 23 | D13: IIB | E13: 7 | F13: 996 | G13: 99.6 | H13: 99.6 | I13: 49.8 | J13: 82.9668 | K13: 313.26737 | L13: 1641.2342 | M13: 19694.81 | N13: 14342.4 | O13: 5352.41 | P13: 19695
O14: Kopā: | P14: =SUM(P13) -> 19695

Sheet Pielikums Nr_7
D1: Informatīvā ziņojuma "Par Covid-19 vakcinācijas plānu 2022. gadam" 7.pielikums
A2: 7. Digitālais sertifikāts
A4: Nosaukums | B4: Pozīcija | C4: Pozīcijas izmaksas (euro, bez PVN 21%) | D4: Indikatīvais nepieciešamais finansējums (euro, t.sk.PVN 21%)
A5: Uzturēšanas izmaksas | B5: Atbilstoši VARAM metodoloģijai lielo IT sistēmu uzturēšanas izmaksas, ja sistēmai ir arī starpsistēmu integrācijas saskarnes, kuras tiek izmantotas citās sistēmās (šajā gadījumā - vairāki datu avoti, ārstniecībsa iestāžu/aptieku IS) sastāda 15-17% no kopējām izmaksām. NVD piemēro 16%, kas paredzēti izstrādātās programmatūras uzturēšanas nodrošināšanai atbilstoši tehniskās realizācijas un drošības prasībām, t.sk. līdzekļi funkcionēšanas problēmu profilaksei, kļūdu novēršanai un sistēmas lietotāju atbalstam, sistēmas ekspluatācijas laikā konstatēto kļūdu novēršanai, sistēmas darbības nepārtrauktības nodrošināšanai, pielāgošanas darbiem, kas saistīti izmaiņām izmantotajos tehnoloģiskajos risinājumos, sistēmas darbības pielāgojumi atbilstoši lietotāju vajadzībām u.c | C5: 148944 | D5: =C5+C5*0.21 -> 180222.24
A6: Izmaiņu/ pielāgojumu veikšanas izmaksas | B6: Atbalsta pakalpojumi un konsultācijas risinājumu pielāgošanā saistībā ar dažāda veida izmaiņām (normatīvie, sistēmiskie u.c.); 2000h apjomā | C6: 120000 | D6: =C6+C6*0.21 -> 145200
A7: Infrastruktūras īres izmaksas | B7: ES COVID-19 sertifikāta infrastruktūras īres pakalpojuma nodrošināšana 2022 gadam | C7: 119039 | D7: =C7+C7*0.21 -> 144037.19
A8: Drošības nodrošināšanas izmaksas | B8: LVRTC Vairogs+ pakalpojuma, ievainojamību pārvaldības risinājuma izmaksas | C8: 70323 | D8: =C8+C8*0.21 -> 85090.83
B9: Kopā: | C9: =SUM(C5:C8) -> 458306 | D9: =C9+C9*0.21 -> 554550.26
A12: 7. Atbalsts vakcinācijas procesa nodrošinājumam un uzturēšanai
A14: Amats | B14: Slodžu skaits | C14: Saime (apakšsaime) | D14: Līmenis | E14: Mēnešalgu grupa | F14: Amata vietai plānotā mēnešalga | G14: Piemaksa 10% (EKK 1147) | H14: Prēmijas un naudas balvas 10% (EKK 1148) | I14: Sociālā garantija 5% (EKK 1220) | J14: Sociālā garantija* 8.33% (EKK 1220) | K14: Valsts sociālās apdrošināšanas obligātās iemaksas, 23.59% | L14: Kopā mēnesī | M14: Kopā 12 mēnešiem (1000)** | N14: Kopā 12 mēnešiem (1100)** | O14: Kopā 12 mēnešiem (1200)** | P14: KOPĀ atlīdzībai
G15: 0.1 | H15: 0.1 | I15: 0.05 | J15: 0.0833 | M15: 12 | N15: 12 | O15: 12
A16: 1 | B16: 2 | C16: 3 | D16: 4 | E16: 5 | F16: 6 | G16: 7=6*10% | H16: 8=6*10% | I16: 9=6*5% | J16: 10=6*8.33% | K16: 11=(6+7+8+9+10)*23.59% | L16: 12=6+7+8+9+10+11 | M16: 13=12*12 mēn. | N16: 14=(6+7+8)*12 mēn | O16: 15=(9+10+11)* 12 mēn | P16: 16=14+15
A17: Projekta vadītājs (digitālais sertifikāts) | B17: 1 | C17: 19.4 | D17: IV | E17: 12 | F17: 1647 | G17: 164.7 | H17: 164.7 | I17: 82.35 | J17: 137.1951 | K17: 518.02345 | L17: 2713.9685 | M17: 32567.623 | N17: 23716.8 | O17: 8850.8226 | P17: 32568
A18: Jurists | B18: 1 | C18: 21 | D18: IIIB | E18: 10 | F18: 1282 | G18: 128.2 | H18: 128.2 | I18: 64.1 | J18: 106.7906 | K18: 403.22165 | L18: 2112.5123 | M18: 25350.147 | N18: 18460.8 | O18: 6889.347 | P18: 25351
O19: Kopā: | P19: =SUM(P17:P18) -> 57919
