Workbook

Sheet 2024 observācija
G1: 5.pielikums Informatīvajam ziņojumam par izmaiņām slimnīcu tīklā
A2: Papildus nepieciešamais finansējums par pacientu observāciju 24 stundas gada apjoms
F3: 0.2812 | G3: 0.0219 | H3: 0.0349
A4: Saskaņā ar MK noteikumiem Nr. 555 "Veselības aprūpes pakalpojumu organizēšanas un samaksas kārtība" veselības aprūpes pakalpojumu tarifus aprēķina, izmantojot šādu formulu: TC = VC (D + S + M + E) + FC (U + A + N), kur TC – veselības aprūpes pakalpojuma tarifs; VC – mainīgās izmaksas (tiešās izmaksas): D – darba samaksa; S – valsts sociālās apdrošināšanas obligātās iemaksas; M – ārstniecības līdzekļi; E – izdevumi, saistīti ar pacientu ēdināšanu; FC – pastāvīgās izmaksas (netiešās izmaksas): U – pieskaitāmās un netiešās ražošanas izmaksas (ar pacientu uzturēšanu saistītie izdevumi pakalpojumu apmaksai, riska maksājuma veikšanai, materiālu, energoresursu, ūdens un inventāra iegādei); A – administratīvie izdevumi; N – nolietojums.
A5: Nosaukums | B5: Darba samaksa | C5: Valsts sociālās apdrošināšanas obligātās iemaksas | D5: Ārstniecības līdzekļi | E5: Izdevumi, saistīti ar pacientu ēdināšanu | F5: Pieskaitāmās un netiešās ražošanas izmaksas | G5: Administratīvie izdevumi | H5: Nolietojums | I5: Kopā, EUR pēc jaunām prasībām | J5: Maksājums 2023. gadā, EUR | K5: Papildus nepieciešamais maksājums 2024. gadā, EUR
B6: D | C6: S | D6: M | E6: E | F6: U | G6: A | H6: N
A7: 1 | B7: 2 | C7: 3 | D7: 4 | E7: 5 | F7: 6 | G7: 7 | H7: 8
A8: Paula Stradiņa klīniskā universitātes slimnīca | B8: =ROUND('2024 izejas dati'!H4*'2024 izejas dati II'!$C$4,0) -> 1647337 | C8: =ROUND(B8*0.2359,0) -> 388607 | D8: =ROUND('2024 izejas dati'!H4*'2024 izejas dati II'!$B$17,0) -> 131640 | E8: =ROUND('2024 izejas dati'!E4*'2024 izejas dati II'!$C$9,0) -> 96571 | F8: =ROUND(B8*$F$3,0) -> 463231 | G8: =ROUND(B8*$G$3,0) -> 36077 | H8: =ROUND(B8*$H$3,0) -> 57492 | I8: =SUM(B8:H8) -> 2820955 | J8: 756726 | K8: =I8-J8 -> 2064229
A9: Rīgas Austrumu klīniskā universitātes slimnīca | B9: =ROUND('2024 izejas dati'!H5*'2024 izejas dati II'!$C$4,0) -> 953721 | C9: =ROUND(B9*0.2359,0) -> 224983 | D9: =ROUND('2024 izejas dati'!H5*'2024 izejas dati II'!$B$17,0) -> 76213 | E9: =ROUND('2024 izejas dati'!E5*'2024 izejas dati II'!$C$9,0) -> 57016 | F9: =ROUND(B9*$F$3,0) -> 268186 | G9: =ROUND(B9*$G$3,0) -> 20886 | H9: =ROUND(B9*$H$3,0) -> 33285 | I9: =SUM(B9:H9) -> 1634290 | J9: 2017370 | K9: =I9-J9 -> -383080
A10: Bērnu klīniskā universitātes slimnīca | B10: =ROUND('2024 izejas dati'!H6*'2024 izejas dati II'!$C$4,0) -> 1994144 | C10: =ROUND(B10*0.2359,0) -> 470419 | D10: =ROUND('2024 izejas dati'!H6*'2024 izejas dati II'!$B$17,0) -> 159354 | E10: =ROUND('2024 izejas dati'!E6*'2024 izejas dati II'!$C$9,0) -> 116820 | F10: =ROUND(B10*$F$3,0) -> 560753 | G10: =ROUND(B10*$G$3,0) -> 43672 | H10: =ROUND(B10*$H$3,0) -> 69596 | I10: =SUM(B10:H10) -> 3414758 | J10: 2686647 | K10: =I10-J10 -> 728111
A11: Liepājas reģionālā slimnīca | B11: =ROUND('2024 izejas dati'!H7*'2024 izejas dati II'!$C$5,0) -> 293829 | C11: =ROUND(B11*0.2359,0) -> 69314 | D11: =ROUND('2024 izejas dati'!H7*'2024 izejas dati II'!$B$17,0) -> 27714 | E11: =ROUND('2024 izejas dati'!E7*'2024 izejas dati II'!$C$9,0) -> 20875 | F11: =ROUND(B11*$F$3,0) -> 82625 | G11: =ROUND(B11*$G$3,0) -> 6435 | H11: =ROUND(B11*$H$3,0) -> 10255 | I11: =SUM(B11:H11) -> 511047 | J11: 155611 | K11: =I11-J11 -> 355436
A12: Daugavpils reģionālā slimnīca | B12: =ROUND('2024 izejas dati'!H8*'2024 izejas dati II'!$C$5,0) -> 539176 | C12: =ROUND(B12*0.2359,0) -> 127192 | D12: =ROUND('2024 izejas dati'!H8*'2024 izejas dati II'!$B$17,0) -> 50855 | E12: =ROUND('2024 izejas dati'!E8*'2024 izejas dati II'!$C$9,0) -> 38322 | F12: =ROUND(B12*$F$3,0) -> 151616 | G12: =ROUND(B12*$G$3,0) -> 11808 | H12: =ROUND(B12*$H$3,0) -> 18817 | I12: =SUM(B12:H12) -> 937786 | J12: 388318 | K12: =I12-J12 -> 549468
A13: Ziemeļkurzemes reģionālā slimnīca | B13: =ROUND('2024 izejas dati'!H9*'2024 izejas dati II'!$C$5,0) -> 195396 | C13: =ROUND(B13*0.2359,0) -> 46094 | D13: =ROUND('2024 izejas dati'!H9*'2024 izejas dati II'!$B$17,0) -> 18430 | E13: =ROUND('2024 izejas dati'!E9*'2024 izejas dati II'!$C$9,0) -> 13487 | F13: =ROUND(B13*$F$3,0) -> 54945 | G13: =ROUND(B13*$G$3,0) -> 4279 | H13: =ROUND(B13*$H$3,0) -> 6819 | I13: =SUM(B13:H13) -> 339450 | J13: 151235 | K13: =I13-J13 -> 188215
A14: Jelgavas pilsētas slimnīca | B14: =ROUND('2024 izejas dati'!H10*'2024 izejas dati II'!$C$5,0) -> 171890 | C14: =ROUND(B14*0.2359,0) -> 40549 | D14: =ROUND('2024 izejas dati'!H10*'2024 izejas dati II'!$B$17,0) -> 16213 | E14: =ROUND('2024 izejas dati'!E10*'2024 izejas dati II'!$C$9,0) -> 12198 | F14: =ROUND(B14*$F$3,0) -> 48335 | G14: =ROUND(B14*$G$3,0) -> 3764 | H14: =ROUND(B14*$H$3,0) -> 5999 | I14: =SUM(B14:H14) -> 298948 | J14: 179163 | K14: =I14-J14 -> 119785
A15: Vidzemes slimnīca | B15: =ROUND('2024 izejas dati'!H11*'2024 izejas dati II'!$C$5,0) -> 121939 | C15: =ROUND(B15*0.2359,0) -> 28765 | D15: =ROUND('2024 izejas dati'!H11*'2024 izejas dati II'!$B$17,0) -> 11501 | E15: =ROUND('2024 izejas dati'!E11*'2024 izejas dati II'!$C$9,0) -> 8780 | F15: =ROUND(B15*$F$3,0) -> 34289 | G15: =ROUND(B15*$G$3,0) -> 2670 | H15: =ROUND(B15*$H$3,0) -> 4256 | I15: =SUM(B15:H15) -> 212200 | J15: 152779 | K15: =I15-J15 -> 59421
A16: Jēkabpils reģionālā slimnīca | B16: =ROUND('2024 izejas dati'!H12*'2024 izejas dati II'!$C$5,0) -> 342311 | C16: =ROUND(B16*0.2359,0) -> 80751 | D16: =ROUND('2024 izejas dati'!H12*'2024 izejas dati II'!$B$17,0) -> 32287 | E16: =ROUND('2024 izejas dati'!E12*'2024 izejas dati II'!$C$9,0) -> 24289 | F16: =ROUND(B16*$F$3,0) -> 96258 | G16: =ROUND(B16*$G$3,0) -> 7497 | H16: =ROUND(B16*$H$3,0) -> 11947 | I16: =SUM(B16:H16) -> 595340 | J16: 166809 | K16: =I16-J16 -> 428531
A17: Rēzeknes slimnīca | B17: =ROUND('2024 izejas dati'!H13*'2024 izejas dati II'!$C$5,0) -> 73457 | C17: =ROUND(B17*0.2359,0) -> 17329 | D17: =ROUND('2024 izejas dati'!H13*'2024 izejas dati II'!$B$17,0) -> 6928 | E17: =ROUND('2024 izejas dati'!E13*'2024 izejas dati II'!$C$9,0) -> 5450 | F17: =ROUND(B17*$F$3,0) -> 20656 | G17: =ROUND(B17*$G$3,0) -> 1609 | H17: =ROUND(B17*$H$3,0) -> 2564 | I17: =SUM(B17:H17) -> 127993 | J17: 136690 | K17: =I17-J17 -> -8697
A18: Madonas slimnīca | B18: =ROUND('2024 izejas dati'!H14*'2024 izejas dati II'!$C$5,0) -> 121939 | C18: =ROUND(B18*0.2359,0) -> 28765 | D18: =ROUND('2024 izejas dati'!H14*'2024 izejas dati II'!$B$17,0) -> 11501 | E18: =ROUND('2024 izejas dati'!E14*'2024 izejas dati II'!$C$9,0) -> 9293 | F18: =ROUND(B18*$F$3,0) -> 34289 | G18: =ROUND(B18*$G$3,0) -> 2670 | H18: =ROUND(B18*$H$3,0) -> 4256 | I18: =SUM(B18:H18) -> 212713 | J18: 60237 | K18: =I18-J18 -> 152476
A19: Cēsu klīnika | B19: =ROUND('2024 izejas dati'!H15*'2024 izejas dati II'!$C$5,0) -> 195396 | C19: =ROUND(B19*0.2359,0) -> 46094 | D19: =ROUND('2024 izejas dati'!H15*'2024 izejas dati II'!$B$17,0) -> 18430 | E19: =ROUND('2024 izejas dati'!E15*'2024 izejas dati II'!$C$9,0) -> 13235 | F19: =ROUND(B19*$F$3,0) -> 54945 | G19: =ROUND(B19*$G$3,0) -> 4279 | H19: =ROUND(B19*$H$3,0) -> 6819 | I19: =SUM(B19:H19) -> 339198 | J19: 70792 | K19: =I19-J19 -> 268406
A20: Dobeles un apkārtnes slimnīca | B20: =ROUND('2024 izejas dati'!H16*'2024 izejas dati II'!$C$5,0) -> 24975 | C20: =ROUND(B20*0.2359,0) -> 5892 | D20: =ROUND('2024 izejas dati'!H16*'2024 izejas dati II'!$B$17,0) -> 2356 | E20: =ROUND('2024 izejas dati'!E16*'2024 izejas dati II'!$C$9,0) -> 2419 | F20: =ROUND(B20*$F$3,0) -> 7023 | G20: =ROUND(B20*$G$3,0) -> 547 | H20: =ROUND(B20*$H$3,0) -> 872 | I20: =SUM(B20:H20) -> 44084 | J20: 58048 | K20: =I20-J20 -> -13964
A21: Jūrmalas slimnīca | B21: =ROUND('2024 izejas dati'!H17*'2024 izejas dati II'!$C$5,0) -> 48482 | C21: =ROUND(B21*0.2359,0) -> 11437 | D21: =ROUND('2024 izejas dati'!H17*'2024 izejas dati II'!$B$17,0) -> 4573 | E21: =ROUND('2024 izejas dati'!E17*'2024 izejas dati II'!$C$9,0) -> 3512 | F21: =ROUND(B21*$F$3,0) -> 13633 | G21: =ROUND(B21*$G$3,0) -> 1062 | H21: =ROUND(B21*$H$3,0) -> 1692 | I21: =SUM(B21:H21) -> 84391 | J21: 40543 | K21: =I21-J21 -> 43848
A22: Ogres rajona slimnīca | B22: =ROUND('2024 izejas dati'!H18*'2024 izejas dati II'!$C$5,0) -> 318805 | C22: =ROUND(B22*0.2359,0) -> 75206 | D22: =ROUND('2024 izejas dati'!H18*'2024 izejas dati II'!$B$17,0) -> 30069 | E22: =ROUND('2024 izejas dati'!E18*'2024 izejas dati II'!$C$9,0) -> 22617 | F22: =ROUND(B22*$F$3,0) -> 89648 | G22: =ROUND(B22*$G$3,0) -> 6982 | H22: =ROUND(B22*$H$3,0) -> 11126 | I22: =SUM(B22:H22) -> 554453 | J22: 68602 | K22: =I22-J22 -> 485851
... A29: Siguldas slimnīca (būs observācija) | B29: =ROUND('2024 izejas dati'!H25*'2024 izejas dati II'!$C$5,0) -> 24975 | C29: =ROUND(B29*0.2359,0) -> 5892 | D29: =ROUND('2024 izejas dati'!H25*'2024 izejas dati II'!$B$17,0) -> 2356 | E29: =ROUND('2024 izejas dati'!E25*'2024 izejas dati II'!$C$9,0) -> 878 | F29: =ROUND(B29*$F$3,0) -> 7023 | G29: =ROUND(B29*$G$3,0) -> 547 | H29: =ROUND(B29*$H$3,0) -> 872 | I29: =SUM(B29:H29) -> 42543 | J29: 0 | K29: =I29-J29 -> 42543
A30: Krāslavas slimnīca (tiks noņemta observācija) | B30: 0 | C30: 0 | D30: 0 | E30: 0 | F30: 0 | G30: 0 | H30: 0 | I30: =SUM(B30:H30) -> 0 | J30: 28574 | K30: =I30-J30 -> -28574
A31: Rīgas psihiatrijas un narkoloģijas centrs (bez izmaiņām) | B31: 30597 | C31: 7217 | D31: 701 | E31: 1605 | F31: 5997 | G31: 803 | H31: 610 | I31: =SUM(B31:H31) -> 47530 | J31: 47530 | K31: =I31-J31 -> 0
A32: Piejūras slimnīca (bez izmaiņām) | B32: 6806 | C32: 1605 | D32: 156 | E32: 357 | F32: 1334 | G32: 179 | H32: 136 | I32: =SUM(B32:H32) -> 10573 | J32: 10573 | K32: =I32-J32 -> 0
A33: Daugavpils psihoneiroloģiskā slimnīca (bez izmaiņām) | B33: 24191 | C33: 5706 | D33: 554 | E33: 1269 | F33: 4742 | G33: 635 | H33: 482 | I33: =SUM(B33:H33) -> 37579 | J33: 37579 | K33: =I33-J33 -> 0
A34: Slimnīca Ģintermuiža (bez izmaiņām) | B34: 15041 | C34: 3548 | D34: 345 | E34: 789 | F34: 2948 | G34: 395 | H34: 300 | I34: =SUM(B34:H34) -> 23366 | J34: 23366 | K34: =I34-J34 -> 0
A35: Strenču psihoneiroloģiskā slimnīca (bez izmaiņām) | B35: 17157 | C35: 4047 | D35: 393 | E35: 900 | F35: 3363 | G35: 450 | H35: 342 | I35: =SUM(B35:H35) -> 26652 | J35: 26652 | K35: =I35-J35 -> 0
A36: Kopā | B36: =SUM(B8:B35) -> 7603777 | C36: =SUM(C8:C35) -> 1793730 | D36: =SUM(D8:D35) -> 644279 | E36: =SUM(E8:E35) -> 481929 | F36: =SUM(F8:F35) -> 2130188 | G36: =SUM(G8:G35) -> 166931 | H36: =SUM(H8:H35) -> 263970 | I36: =SUM(I8:I35) -> 13084804 | ... K36: =SUM(K8:K35) -> 5574610
A39: Papildinfo
A40: Observācijas aprēķins
A41: Observācija šobrīd | B41: Izmaiņas
A42: Aprēķinot piemaksu par pacientu observāciju līdz 24 stundām, reizina attiecīgās ārstniecības iestādes gultasdienas tarifu, kas noteikts Noteikumos Nr. 555 ar plānoto observējamo pacientu skaitu (saskaņā ar VIS un SAIRIS datiem) ; | B42: Jaunajā observācijas maksājumā netiek ņemtas vērā gultasdienas, jo uzraudzību observācijas nodaļā nodrošina māsas vai ārstu palīgi un māsu palīgi.
B43: Tika definēta pacientu:māsu:māsas palīgu attiecība, kas jānodrošina observācijas maksājumā – tie ir 6 pacienti uz 1 māsu un māsas palīgu. Šī attiecība tika izmantota aprēķinot nepieciešamo slodžu skaitu observācijā.
B44: Tika analizēti dati par 2022. gadu un pārrēķināts observācijas maksājums atbilstoši pacientu skaitam un nepieciešamajām māsu un māsu palīgu slodzēm.
B45: Papildus tāpat kā citos maksājumos, observācijas nodaļas uzturēšanas izmaksas tiek segtas ar Np, U, A koeficientiem, kas fiksēti šī gada līmenī.
B46: Tāpat kā iepriekšējā aprēķinā, kur iekļauts gultasdienas tarifs, kurā ir arī ēdināšana, arī šajā maksājuma tika iekļauta ēdināšana par vidēji 2 maltītēm (7 eiro ir gultasdienā par 3 maltītēm, šeit – 4,67 eiro uz vienu pacientu par vidēji 2 maltītēm.
B47: Ārstniecības līdzekļu (M) izmaksas iegūtas piemērojot tādu pašu principu kā uzņemšanā.
A48: Ja tiek pārrēķinātas piemaksas par pacientu observāciju līdz 24 stundām, nepieciešamo finansējuma apjomu aprēķina kā starpību no esošā finansējuma un pārrēķinātā finansējuma apmēra.
A49: Papildus finansējums observācijas maksājuma pārskatīšanā saistībā ar pacientu skaitu nav ticis ilgstoši piešķirts. Esošajos datos par pacientu skaitu, kas tikuši observēti ir 2012. gada līmenī. | B49: Tika analizēti arī dati par observējamo pacientu skaitu un nepieciešamību slimnīcām šādu pakalpojumu nodrošināt – vienai slimnīcai observācijas maksājums tiks noņemts, divām slimnīcām pievienots.

Sheet 2024 izejas dati
H1: 5.1. pielikums
A2: Pārskata periods: 2022.gada 1.janvāris -31.decembris
A3: Nr.p.k. | B3: Ārstniecības iestādes nosaukums | C3: Observācijas pacientu skaits | D3: Observācijas epizožu skaits (1.-6.epizode) | E3: Observācijas pacienti kopā | F3: Observācijas pacientu skaits dienā | G3: Observācijas pacientu skaits uz 1 māsu | H3: Māsu skaits diennaktī
A4: 1 | B4: Paula Stradiņa klīniskā universitātes slimnīca | C4: 11212 | D4: 9467 | E4: =SUM(C4:D4) -> 20679 | F4: =ROUND(E4/365,0) -> 57 | G4: 6 | H4: =ROUND(F4/G4,2) -> 9.5
A5: 2 | B5: Rīgas Austrumu klīniskā universitātes slimnīca | C5: 6313 | D5: 5896 | E5: =SUM(C5:D5) -> 12209 | F5: =ROUND(E5/365,0) -> 33 | G5: 6 | H5: =ROUND(F5/G5,2) -> 5.5
A6: 3 | B6: Bērnu klīniskā universitātes slimnīca | C6: 8045 | D6: 16970 | E6: =SUM(C6:D6) -> 25015 | F6: =ROUND(E6/365,0) -> 69 | G6: 6 | H6: =ROUND(F6/G6,2) -> 11.5
A7: 4 | B7: Liepājas reģionālā slimnīca* | E7: =2*2235 -> 4470 | F7: =ROUND(E7/365,0) -> 12 | G7: 6 | H7: =ROUND(F7/G7,2) -> 2
A8: 5 | B8: Daugavpils reģionālā slimnīca | C8: 2588 | D8: 5618 | E8: =SUM(C8:D8) -> 8206 | F8: =ROUND(E8/365,0) -> 22 | G8: 6 | H8: =ROUND(F8/G8,2) -> 3.67
A9: 6 | B9: Ziemeļkurzemes reģionālā slimnīca | C9: 654 | D9: 2234 | E9: =SUM(C9:D9) -> 2888 | F9: =ROUND(E9/365,0) -> 8 | G9: 6 | H9: =ROUND(F9/G9,2) -> 1.33
A10: 7 | B10: Jelgavas pilsētas slimnīca | C10: 886 | D10: 1726 | E10: =SUM(C10:D10) -> 2612 | F10: =ROUND(E10/365,0) -> 7 | G10: 6 | H10: =ROUND(F10/G10,2) -> 1.17
A11: 8 | B11: Vidzemes slimnīca | C11: 385 | D11: 1495 | E11: =SUM(C11:D11) -> 1880 | F11: =ROUND(E11/365,0) -> 5 | G11: 6 | H11: =ROUND(F11/G11,2) -> 0.83
A12: 9 | B12: Jēkabpils reģionālā slimnīca | C12: 2737 | D12: 2464 | E12: =SUM(C12:D12) -> 5201 | F12: =ROUND(E12/365,0) -> 14 | G12: 6 | H12: =ROUND(F12/G12,2) -> 2.33
A13: 10 | B13: Rēzeknes slimnīca | C13: 307 | D13: 860 | E13: =SUM(C13:D13) -> 1167 | F13: =ROUND(E13/365,0) -> 3 | G13: 6 | H13: =ROUND(F13/G13,2) -> 0.5
A14: 11 | B14: Madonas slimnīca | C14: 264 | D14: 1726 | E14: =SUM(C14:D14) -> 1990 | F14: =ROUND(E14/365,0) -> 5 | G14: 6 | H14: =ROUND(F14/G14,2) -> 0.83
A15: 12 | B15: Cēsu klīnika | C15: 984 | D15: 1850 | E15: =SUM(C15:D15) -> 2834 | F15: =ROUND(E15/365,0) -> 8 | G15: 6 | H15: =ROUND(F15/G15,2) -> 1.33
A16: 13 | B16: Dobeles un apkārtnes slimnīca | C16: 33 | D16: 485 | E16: =SUM(C16:D16) -> 518 | F16: =ROUND(E16/365,0) -> 1 | G16: 6 | H16: =ROUND(F16/G16,2) -> 0.17
A17: 14 | B17: Jūrmalas slimnīca | C17: 302 | D17: 450 | E17: =SUM(C17:D17) -> 752 | F17: =ROUND(E17/365,0) -> 2 | G17: 6 | H17: =ROUND(F17/G17,2) -> 0.33
A18: 15 | B18: Ogres rajona slimnīca | C18: 3042 | D18: 1801 | E18: =SUM(C18:D18) -> 4843 | F18: =ROUND(E18/365,0) -> 13 | G18: 6 | H18: =ROUND(F18/G18,2) -> 2.17
A19: 16 | B19: Balvu un Gulbenes slimnīcu apvienība | C19: 545 | D19: 845 | E19: =SUM(C19:D19) -> 1390 | F19: =ROUND(E19/365,0) -> 4 | G19: 6 | H19: =ROUND(F19/G19,2) -> 0.67
... A23: 20 | B23: Tukuma slimnīca | C23: 175 | D23: 326 | E23: =SUM(C23:D23) -> 501 | F23: =ROUND(E23/365,0) -> 1 | G23: 6 | H23: =ROUND(F23/G23,2) -> 0.17
A24: 21 | B24: Rīgas Dzemdību nams (būs observācija) | C24: - | D24: - | E24: 870 | F24: =ROUND(E24/365,0) -> 2 | G24: 6 | H24: =ROUND(F24/G24,2) -> 0.33
A25: 22 | B25: Siguldas slimnīca (būs observācija) | C25: - | D25: - | E25: 188 | F25: =ROUND(E25/365,0) -> 1 | G25: 6 | H25: =ROUND(F25/G25,2) -> 0.17
A26: 23 | B26: Krāslavas slimnīca (tiks noņemta observācija) | C26: 53 | D26: 52 | E26: =SUM(C26:D26) -> 105 | F26: =ROUND(E26/365,0) -> 0 | G26: 6 | H26: =ROUND(F26/G26,8) -> 0
A27: 24 | B27: Rīgas psihiatrijas un narkoloģijas centrs (bez izmaiņām) | C27: 448 | D27: 320 | E27: =SUM(C27:D27) -> 768 | F27: =ROUND(E27/365,0) -> 2 | G27: 6 | H27: =ROUND(F27/G27,2) -> 0.33
A28: 25 | B28: Piejūras slimnīca (bez izmaiņām) | C28: - | D28: 32 | E28: =SUM(C28:D28) -> 32 | F28: =ROUND(E28/365,0) -> 0 | G28: 6 | H28: =ROUND(F28/G28,2) -> 0
A29: 26 | B29: Daugavpils psihoneiroloģiskā slimnīca (bez izmaiņām) | C29: 199 | D29: 140 | E29: =SUM(C29:D29) -> 339 | F29: =ROUND(E29/365,0) -> 1 | G29: 6 | H29: =ROUND(F29/G29,2) -> 0.17
A30: 27 | B30: Slimnīca Ģintermuiža (bez izmaiņām) | C30: 30 | D30: 80 | E30: =SUM(C30:D30) -> 110 | F30: =ROUND(E30/365,0) -> 0 | G30: 6 | H30: =ROUND(F30/G30,2) -> 0
A31: 28 | B31: Strenču psihoneiroloģiskā slimnīca (bez izmaiņām) | C31: 3 | D31: - | E31: =SUM(C31:D31) -> 3 | F31: =ROUND(E31/365,0) -> 0 | G31: 6 | H31: =ROUND(F31/G31,2) -> 0
B32: *dati ņemti par 2023. gada I pusgadu, ņemot vērā, ka 2022. gadā Liepājas observācijas nodaļa daļēji nodrošināja darbu

Sheet 2024 izejas dati II
D1: 5.2. pielikums
A3: Slimnīcas | B3: Speciālists 1 | C3: Neatliekamā 24/7, EUR
A4: KUS | B4: Māsa + māsas palīgs | C4: ='2024 algas tabula'!BD31+'2024 algas tabula'!BD39 -> 173403.86
A5: CITI | B5: Māsa + māsas palīgs | C5: ='2024 algas tabula'!BD56+'2024 algas tabula'!BD64 -> 146914.52
B8: Slimnīcas | C8: Ēdināšana uz 1 pacientu
B9: KUS | C9: =ROUND(7/3*2,2) -> 4.67
B10: CITI | C10: =ROUND(7/3*2,2) -> 4.67
B12: *Ēdināšana rēķināta, ņemot vērā gultasdienā iekļauto E elementu 7 eur un pieņemot, ka viens pacients vidēji saņems 2 maltītes
A17: Uz vienu ārsta posteni gadā M, EUR | B17: =13856.88 -> 13856.88

Sheet 2024 algas tabula
BH1: 5.3. pielikums
BC3: =B17 -> KUS UN TOS, RDzN | BD3: Dežūrārsts (8.00-16.00) darba dienas | BE3: Dežūrārsts (16.00-8.00) katru dienu | BF3: Dežūrārsts 9.00-21.00 (12h) darba dienas | BG3: Speciālists, kurš nodrošina palīdzību 24/7 ar kabineta maksājumu | BH3: Neatliekamā 24/7 (ar kabineta maksājumu
BC4: Ārsts+māsa+jaunākais | BD4: =BD19+BD27+BD35 -> 77079.618 | BF4: =BD21+BD29+BD37 -> 153388.79 | BG4: =BD22+BD30+BD38 -> 472696.3 | BH4: =BD23+BD31+BD39 -> 472696.3
BC5: Ārsts+māsa | BD5: =BD19+BD27 -> 64420.343 | BF5: =BD21+BD29 -> 121632.48 | BG5: =BD22+BD30 -> 414079.58 | BH5: =BD23+BD31 -> 414079.58
BC6: Tikai ārsts | BD6: =BD19 -> 39630.117 | BE6: =BD20 -> 130547.86 | BG6: =BD22 -> 299292.44 | BH6: =BD23 -> 299292.44
BC7: Radiologs mājdežūrā 75%
BC8: Vecmāte, radiologa asistents, māsa | BF8: =BD29 -> 62187.304 | BG8: =BD30 -> 114787.13 | BH8: =BD31 -> 114787.13
BC9: =B42 -> PĀRĒJIE | BD9: Dežūrārsts (8.00-16.00) darba dienas | BE9: Dežūrārsts (16.00-8.00) katru dienu | BF9: Dežūrārsts 9.00-21.00 (12h) darba dienas | BG9: Speciālists, kurš nodrošina palīdzību 24/7 | BH9: Neatliekamā 24/7 (ar kabineta maksājumu
BC10: Ārsts+māsa+jaunākais | BF10: =BD46+BD54+BD62 -> 125319.76 | BG10: =BD47+BD55+BD63 -> 380337.22 | BH10: =BD48+BD56+BD64 -> 380337.22
BC11: Ārsts+māsa | BG11: =BD47+BD55 -> 321720.49 | BH11: =BD48+BD56 -> 321720.49
BC12: Tikai ārsts | BE12: =BD45 -> 100421.43 | BG12: =BD47 -> 233422.7 | BH12: =BD48 -> 233422.7
BC13: Radiologs mājdežūrā 75% | BG13: =BD49 -> 103821.28
BC14: Vecmāte, radiologa asistents, māsa | BG14: =BD55 -> 88297.795 | BH14: =BD56 -> 88297.795
B15: Posteņu, slodžu, darba stundu skaits un apmaksas nosacījumi NMPON darba nodrošināšanai | AY15: Koeficents KUS | BF15: 153.1. ārstiem un funkcionālajiem speciālistiem – | BG15: 2083
AH16: =365*8+(15*8) -> 3040 | AY16: 1.3 | BA16: 0.5 | BB16: 1 | BC16: 0.025 | BF16: 153.2. ārstniecības un pacientu aprūpes personām un funkcionālo speciālistu asistentiem – | BG16: 1303
B17: KUS UN TOS, RDzN | H17: Pirmdienās | L17: Otrdienās | P17: Trešdienās | T17: Ceturtdienās | X17: Piektdienās | AB17: Sestdienās | AF17: Svētdienās | AJ17: Svētku un brīvdienās | AO17: Stundas vidēji gadā | BF17: 153.3. ārstniecības un pacientu aprūpes atbalsta personām – | BG17: 865
B18: Posteņa nosaukums | D18: Nedēļas dienas | E18: Posteņa veids | F18: % iesaiste, ja atbalsta postenis | G18: Posteņu skaits | H18: no | I18: līdz | J18: darba st | K18: t.sk. nakts st | L18: no | M18: līdz | N18: darba st | O18: t.sk. nakts st | P18: no | Q18: līdz | R18: darba st | S18: t.sk. nakts st | T18: no | U18: līdz | V18: darba st | W18: t.sk. nakts st | X18: no | Y18: līdz | Z18: darba st | AA18: t.sk. nakts st | AB18: no | AC18: līdz | AD18: darba st | AE18: t.sk. nakts st | AF18: no | AG18: līdz | AH18: darba st | AI18: t.sk. nakts st | AJ18: no | AK18: līdz | AL18: darba st | AM18: t.sk. nakts st | AN18: Tehniskā | AO18: Darba sundas | AP18: no tām nakts | AQ18: no tām svētku | AR18: slodzes | AS18: Atvaļinājuma rezerve | AT18: KOPĀ | AU18: Slodzes pa amatiem, atbilstoši AVS | AV18: Piezīmes | AW18: DR komentāri | AX18: Mēnešalga | AY18: Stundas likme (vidējā) | AZ18: Samaksa gadā, EUR | BA18: Par Nakts stundām, EUR gadā | BB18: Par Svētku stundām, EUR gadā | BC18: Īpašā riska piemaksa gadā, EUR | BD18: Kopā gadā, EUR | BF18: Uz vienu ārsta posteni gadā M, EUR | BG18: 13856.88
A19: ĀRSTS | B19: Dežūrārsts (8.00-16.00) darba dienas | G19: 1 | H19: 8 | I19: 16 | J19: =IF(H19="",0,IF((I19-H19<=0),(24-H19+I19),(I19-H19))) -> 8 | L19: 8 | M19: 16 | N19: =IF(L19="",0,IF((M19-L19<=0),(24-L19+M19),(M19-L19))) -> 8 | P19: 8 | Q19: 16 | R19: =IF(P19="",0,IF((Q19-P19<=0),(24-P19+Q19),(Q19-P19))) -> 8 | T19: 8 | U19: 16 | V19: =IF(T19="",0,IF((U19-T19<=0),(24-T19+U19),(U19-T19))) -> 8 | X19: 8 | Y19: 16 | Z19: =IF(X19="",0,IF((Y19-X19<=0),(24-X19+Y19),(Y19-X19))) -> 8 | AD19: =IF(AB19="",0,IF((AC19-AB19<=0),(24-AB19+AC19),(AC19-AB19))) -> 0 | AH19: =IF(AF19="",0,IF((AG19-AF19<=0),(24-AF19+AG19),(AG19-AF19))) -> 0 | AJ19: 8 | AK19: 16 | AL19: =IF(AJ19="",0,IF((AK19-AJ19<=0),(24-AJ19+AK19),(AK19-AJ19))) -> 8 | AN19: =J19+N19+R19+V19+Z19+AD19+AH19+AL19 -> 48 | AO19: =IF(AN19=0,0,((J19*$C$123)+($D$123*N19)+(R19*$E$123)+(V19*$F$123)+($G$123*Z19)+(AD19*$H$124)+($I$125*AH19)+(AL19*$J$126)*G19)) -> 2144 | AP19: =IF(AN19=0,0,((K19*$C$123)+($D$123*O19)+(S19*$E$123)+(W19*$F$123)+($G$123*AA19)+(AE19*$H$124)+($I$125*AI19)+(AM19*$J$126)*G19)) -> 0 | AQ19: =AL19*$J$126*G19 -> 144 | AR19: =AO19/$L$122 -> 1.0698603 | AS19: =AR19*0.09091 -> 0.097260998 | AT19: =AS19+AR19 -> 1.1671213 | AW19: Jāizlemj - vai liekam 24h tiešo posteni, vai 8h tiešais un pēc tam mājas dežūras | AX19: =$BG$15 -> 2083 | AY19: =AX19/160*AY16 -> 16.924375 | AZ19: =AY19*AO19 -> 36285.86 | BA19: =$BA$16*AY19*AP19 -> 0 | BB19: =AY19*AQ19 -> 2437.11 | BC19: =AY19*$BC$16*AO19 -> 907.1465 | BD19: =AZ19+BA19+BB19+BC19 -> 39630.117
B20: Dežūrārsts (16.00-8.00) katru dienu | G20: 1 | H20: 16 | I20: 8 | J20: =IF(H20="",0,IF((I20-H20<=0),(24-H20+I20),(I20-H20))) -> 16 | K20: 8 | L20: 16 | M20: 8 | N20: =IF(L20="",0,IF((M20-L20<=0),(24-L20+M20),(M20-L20))) -> 16 | O20: 8 | P20: 16 | Q20: 8 | R20: =IF(P20="",0,IF((Q20-P20<=0),(24-P20+Q20),(Q20-P20))) -> 16 | S20: 8 | T20: 16 | U20: 8 | V20: =IF(T20="",0,IF((U20-T20<=0),(24-T20+U20),(U20-T20))) -> 16 | W20: 8 | X20: 16 | Y20: 8 | Z20: =IF(X20="",0,IF((Y20-X20<=0),(24-X20+Y20),(Y20-X20))) -> 16 | AA20: 8 | AB20: 16 | AC20: 8 | AD20: =IF(AB20="",0,IF((AC20-AB20<=0),(24-AB20+AC20),(AC20-AB20))) -> 16 | AE20: 8 | AF20: 16 | AG20: 8 | AH20: =IF(AF20="",0,IF((AG20-AF20<=0),(24-AF20+AG20),(AG20-AF20))) -> 16 | AI20: 8 | AJ20: 16 | AK20: 8 | AL20: =IF(AJ20="",0,IF((AK20-AJ20<=0),(24-AJ20+AK20),(AK20-AJ20))) -> 16 | AM20: 8 | AN20: =J20+N20+R20+V20+Z20+AD20+AH20+AL20 -> 128 | AO20: =IF(AN20=0,0,((J20*$C$123)+($D$123*N20)+(R20*$E$123)+(V20*$F$123)+($G$123*Z20)+(AD20*$H$124)+($I$125*AH20)+(AL20*$J$126)*G20)) -> 5824 | AP20: =IF(AN20=0,0,((K20*$C$123)+($D$123*O20)+(S20*$E$123)+(W20*$F$123)+($G$123*AA20)+(AE20*$H$124)+($I$125*AI20)+(AM20*$J$126)*G20)) -> 2912 | AQ20: =AL20*$J$126*G20 -> 288 | AR20: =AO20/$L$122 -> 2.9061876 | AS20: =AR20*0.09091 -> 0.26420152 | AT20: =AS20+AR20 -> 3.1703891 | AW20: Jāizlemj - vai liekam 24h tiešo posteni, vai 8h tiešais un pēc tam mājas dežūras | AX20: =$BG$15 -> 2083 | AY20: =AX20/160*AY16 -> 16.924375 | AZ20: =AY20*AO20 -> 98567.56 | BA20: =$BA$16*AY20*AP20 -> 24641.89 | BB20: =AY20*AQ20 -> 4874.22 | BC20: =AY20*$BC$16*AO20 -> 2464.189 | BD20: =AZ20+BA20+BB20+BC20 -> 130547.86
B21: Dežūrārsts 9.00-21.00 (12h) darba dienas | G21: 1 | H21: 9 | I21: 21 | J21: =IF(H21="",0,IF((I21-H21<=0),(24-H21+I21),(I21-H21))) -> 12 | K21: 0 | L21: 9 | M21: 21 | N21: =IF(L21="",0,IF((M21-L21<=0),(24-L21+M21),(M21-L21))) -> 12 | O21: 0 | P21: 9 | Q21: 21 | R21: =IF(P21="",0,IF((Q21-P21<=0),(24-P21+Q21),(Q21-P21))) -> 12 | S21: 0 | T21: 9 | U21: 21 | V21: =IF(T21="",0,IF((U21-T21<=0),(24-T21+U21),(U21-T21))) -> 12 | W21: 0 | X21: 9 | Y21: 21 | Z21: =IF(X21="",0,IF((Y21-X21<=0),(24-X21+Y21),(Y21-X21))) -> 12 | AA21: 0 | AD21: =IF(AB21="",0,IF((AC21-AB21<=0),(24-AB21+AC21),(AC21-AB21))) -> 0 | AE21: 0 | AH21: =IF(AF21="",0,IF((AG21-AF21<=0),(24-AF21+AG21),(AG21-AF21))) -> 0 | AI21: 0 | AJ21: 9 | AK21: 21 | AL21: =IF(AJ21="",0,IF((AK21-AJ21<=0),(24-AJ21+AK21),(AK21-AJ21))) -> 12 | AM21: 0 | AN21: =J21+N21+R21+V21+Z21+AD21+AH21+AL21 -> 72 | AO21: =IF(AN21=0,0,((J21*$C$123)+($D$123*N21)+(R21*$E$123)+(V21*$F$123)+($G$123*Z21)+(AD21*$H$124)+($I$125*AH21)+(AL21*$J$126)*G21)) -> 3216 | AP21: =IF(AN21=0,0,((K21*$C$123)+($D$123*O21)+(S21*$E$123)+(W21*$F$123)+($G$123*AA21)+(AE21*$H$124)+($I$125*AI21)+(AM21*$J$126)*G21)) -> 0 | AQ21: =AL21*$J$126*G21 -> 216 | AR21: =AO21/$L$122 -> 1.6047904 | AS21: =AR21*0.09091 -> 0.1458915 | AT21: =AS21+AR21 -> 1.7506819 | AX21: =$BG$15 -> 2083 | AY21: =AX21/160*AY16 -> 16.924375 | AZ21: =AY21*AO21 -> 54428.79 | BA21: =$BA$16*AY21*AP21 -> 0 | BB21: =AY21*AQ21 -> 3655.665 | BC21: =AY21*$BC$16*AO21 -> 1360.7198 | BD21: =AZ21+BA21+BB21+BC21 -> 59445.175 | BF21: U | BG21: A | BH21: n
B22: Speciālists, kurš nodrošina palīdzību 24/7 | G22: 1 | H22: 8 | I22: 8 | J22: =IF(H22="",0,IF((I22-H22<=0),(24-H22+I22),(I22-H22))) -> 24 | K22: 8 | L22: 8 | M22: 8 | N22: =IF(L22="",0,IF((M22-L22<=0),(24-L22+M22),(M22-L22))) -> 24 | O22: 8 | P22: 8 | Q22: 8 | R22: =IF(P22="",0,IF((Q22-P22<=0),(24-P22+Q22),(Q22-P22))) -> 24 | S22: 8 | T22: 8 | U22: 8 | V22: =IF(T22="",0,IF((U22-T22<=0),(24-T22+U22),(U22-T22))) -> 24 | W22: 8 | X22: 8 | Y22: 8 | Z22: =IF(X22="",0,IF((Y22-X22<=0),(24-X22+Y22),(Y22-X22))) -> 24 | AA22: 8 | AB22: 8 | AC22: 8 | AD22: =IF(AB22="",0,IF((AC22-AB22<=0),(24-AB22+AC22),(AC22-AB22))) -> 24 | AE22: 8 | AF22: 8 | AG22: 8 | AH22: =IF(AF22="",0,IF((AG22-AF22<=0),(24-AF22+AG22),(AG22-AF22))) -> 24 | AI22: 8 | AJ22: 8 | AK22: 8 | AL22: =IF(AJ22="",0,IF((AK22-AJ22<=0),(24-AJ22+AK22),(AK22-AJ22))) -> 24 | AM22: 8 | AN22: =J22+N22+R22+V22+Z22+AD22+AH22+AL22 -> 192 | AO22: =IF(AN22=0,0,((J22*$C$123)+($D$123*N22)+(R22*$E$123)+(V22*$F$123)+($G$123*Z22)+(AD22*$H$124)+($I$125*AH22)+(AL22*$J$126)*G22)) -> 8736 | AP22: =IF(AN22=0,0,((K22*$C$123)+($D$123*O22)+(S22*$E$123)+(W22*$F$123)+($G$123*AA22)+(AE22*$H$124)+($I$125*AI22)+(AM22*$J$126)*G22)) -> 2912 | AQ22: =AL22*$J$126*G22 -> 432 | AR22: =AO22/$L$122 -> 4.3592814 | AS22: =AR22*0.09091 -> 0.39630228 | AT22: =AS22+AR22 -> 4.7555837 | AX22: =$BG$15 -> 2083 | AY22: =AX22/160*AY16 -> 16.924375 | AZ22: =AY22*AO22 -> 147851.34 | BA22: =$BA$16*AY22*AP22 -> 24641.89 | BB22: =AY22*AQ22 -> 7311.33 | BC22: =AY22*$BC$16*AO22 -> 3696.2835 | BD22: =(AZ22+BA22+BB22+BC22)+((AZ22+BA22+BB22+BC22)*$BG$23)+((AZ22+BA22+BB22+BC22)*$BH$23)+((AZ22+BA22+BB22+BC22)*$BF$23)+BG18 -> 299292.44 | BF22: 0.3771 | BG22: 0.1435 | BH22: 0.0349
B23: Neatliekamā 24/7 (ar kabineta maksājumu | G23: 1 | H23: 8 | I23: 8 | J23: =IF(H23="",0,IF((I23-H23<=0),(24-H23+I23),(I23-H23))) -> 24 | K23: 8 | L23: 8 | M23: 8 | N23: =IF(L23="",0,IF((M23-L23<=0),(24-L23+M23),(M23-L23))) -> 24 | O23: 8 | P23: 8 | Q23: 8 | R23: =IF(P23="",0,IF((Q23-P23<=0),(24-P23+Q23),(Q23-P23))) -> 24 | S23: 8 | T23: 8 | U23: 8 | V23: =IF(T23="",0,IF((U23-T23<=0),(24-T23+U23),(U23-T23))) -> 24 | W23: 8 | X23: 8 | Y23: 8 | Z23: =IF(X23="",0,IF((Y23-X23<=0),(24-X23+Y23),(Y23-X23))) -> 24 | AA23: 8 | AB23: 8 | AC23: 8 | AD23: =IF(AB23="",0,IF((AC23-AB23<=0),(24-AB23+AC23),(AC23-AB23))) -> 24 | AE23: 8 | AF23: 8 | AG23: 8 | AH23: =IF(AF23="",0,IF((AG23-AF23<=0),(24-AF23+AG23),(AG23-AF23))) -> 24 | AI23: 8 | AJ23: 8 | AK23: 8 | AL23: =IF(AJ23="",0,IF((AK23-AJ23<=0),(24-AJ23+AK23),(AK23-AJ23))) -> 24 | AM23: 8 | AN23: =J23+N23+R23+V23+Z23+AD23+AH23+AL23 -> 192 | AO23: =IF(AN23=0,0,((J23*$C$123)+($D$123*N23)+(R23*$E$123)+(V23*$F$123)+($G$123*Z23)+(AD23*$H$124)+($I$125*AH23)+(AL23*$J$126)*G23)) -> 8736 | AP23: =IF(AN23=0,0,((K23*$C$123)+($D$123*O23)+(S23*$E$123)+(W23*$F$123)+($G$123*AA23)+(AE23*$H$124)+($I$125*AI23)+(AM23*$J$126)*G23)) -> 2912 | AQ23: =AL23*$J$126*G23 -> 432 | AR23: =AO23/$L$122 -> 4.3592814 | AS23: =AR23*0.09091 -> 0.39630228 | AT23: =AS23+AR23 -> 4.7555837 | AX23: =$BG$15 -> 2083 | AY23: =AX23/160*AY16 -> 16.924375 | AZ23: =AY23*AO23 -> 147851.34 | BA23: =$BA$16*AY23*AP23 -> 24641.89 | BB23: =AY23*AQ23 -> 7311.33 | BC23: =AY23*$BC$16*AO23 -> 3696.2835 | BD23: =(AZ23+BA23+BB23+BC23)+((AZ23+BA23+BB23+BC23)*$BG$23)+((AZ23+BA23+BB23+BC23)*$BH$23)+((AZ23+BA23+BB23+BC23)*$BF$23)+BG18 -> 299292.44 | BF23: 0.3771 | BG23: 0.1435 | BH23: 0.0349
G24: 1 | H24: 8 | I24: 8 | J24: =IF(H24="",0,IF((I24-H24<=0),(24-H24+I24),(I24-H24))) -> 24 | K24: 8 | L24: 8 | M24: 8 | N24: =IF(L24="",0,IF((M24-L24<=0),(24-L24+M24),(M24-L24))) -> 24 | O24: 8 | P24: 8 | Q24: 8 | R24: =IF(P24="",0,IF((Q24-P24<=0),(24-P24+Q24),(Q24-P24))) -> 24 | S24: 8 | T24: 8 | U24: 8 | V24: =IF(T24="",0,IF((U24-T24<=0),(24-T24+U24),(U24-T24))) -> 24 | W24: 8 | X24: 8 | Y24: 8 | Z24: =IF(X24="",0,IF((Y24-X24<=0),(24-X24+Y24),(Y24-X24))) -> 24 | AA24: 8 | AB24: 8 | AC24: 8 | AD24: =IF(AB24="",0,IF((AC24-AB24<=0),(24-AB24+AC24),(AC24-AB24))) -> 24 | AE24: 8 | AF24: 8 | AG24: 8 | AH24: =IF(AF24="",0,IF((AG24-AF24<=0),(24-AF24+AG24),(AG24-AF24))) -> 24 | AI24: 8 | AJ24: 8 | AK24: 8 | AL24: =IF(AJ24="",0,IF((AK24-AJ24<=0),(24-AJ24+AK24),(AK24-AJ24))) -> 24 | AM24: 8 | AN24: =J24+N24+R24+V24+Z24+AD24+AH24+AL24 -> 192 | AO24: =IF(AN24=0,0,((J24*$C$123)+($D$123*N24)+(R24*$E$123)+(V24*$F$123)+($G$123*Z24)+(AD24*$H$124)+($I$125*AH24)+(AL24*$J$126)*G24)) -> 8736 | AP24: =IF(AN24=0,0,((K24*$C$123)+($D$123*O24)+(S24*$E$123)+(W24*$F$123)+($G$123*AA24)+(AE24*$H$124)+($I$125*AI24)+(AM24*$J$126)*G24)) -> 2912 | AQ24: =AL24*$J$126*G24 -> 432 | AR24: =AO24/$L$122 -> 4.3592814 | AS24: =AR24*0.09091 -> 0.39630228 | AT24: =AS24+AR24 -> 4.7555837 | AX24: =$BG$15 -> 2083 | AY24: =AX24/160*AY17 -> 0 | AZ24: =AY24*AO24 -> 0 | BA24: =$BA$16*AY24*AP24 -> 0 | BB24: =AY24*AQ24 -> 0 | BC24: =AY24*$BC$16*AO24 -> 0 | BD24: =AZ24+BA24+BB24+BC24 -> 0
A27: MĀSA | B27: Dežūrārsts (8.00-16.00) darba dienas | G27: 1 | H27: 8 | I27: 16 | J27: =IF(H27="",0,IF((I27-H27<=0),(24-H27+I27),(I27-H27))) -> 8 | L27: 8 | M27: 16 | N27: =IF(L27="",0,IF((M27-L27<=0),(24-L27+M27),(M27-L27))) -> 8 | P27: 8 | Q27: 16 | R27: =IF(P27="",0,IF((Q27-P27<=0),(24-P27+Q27),(Q27-P27))) -> 8 | T27: 8 | U27: 16 | V27: =IF(T27="",0,IF((U27-T27<=0),(24-T27+U27),(U27-T27))) -> 8 | X27: 8 | Y27: 16 | Z27: =IF(X27="",0,IF((Y27-X27<=0),(24-X27+Y27),(Y27-X27))) -> 8 | AD27: =IF(AB27="",0,IF((AC27-AB27<=0),(24-AB27+AC27),(AC27-AB27))) -> 0 | AH27: =IF(AF27="",0,IF((AG27-AF27<=0),(24-AF27+AG27),(AG27-AF27))) -> 0 | AJ27: 8 | AK27: 16 | AL27: =IF(AJ27="",0,IF((AK27-AJ27<=0),(24-AJ27+AK27),(AK27-AJ27))) -> 8 | AN27: =J27+N27+R27+V27+Z27+AD27+AH27+AL27 -> 48 | AO27: =IF(AN27=0,0,((J27*$C$123)+($D$123*N27)+(R27*$E$123)+(V27*$F$123)+($G$123*Z27)+(AD27*$H$124)+($I$125*AH27)+(AL27*$J$126)*G27)) -> 2144 | AP27: =IF(AN27=0,0,((K27*$C$123)+($D$123*O27)+(S27*$E$123)+(W27*$F$123)+($G$123*AA27)+(AE27*$H$124)+($I$125*AI27)+(AM27*$J$126)*G27)) -> 0 | AQ27: =AL27*$J$126*G27 -> 144 | AR27: =AO27/$L$122 -> 1.0698603 | AS27: =AR27*0.09091 -> 0.097260998 | AT27: =AS27+AR27 -> 1.1671213 | AW27: Jāizlemj - vai liekam 24h tiešo posteni, vai 8h tiešais un pēc tam mājas dežūras | AX27: =$BG$16 -> 1303 | AY27: =AX27/160*$AY$16 -> 10.586875 | AZ27: =AY27*AO27 -> 22698.26 | BA27: =$BA$16*AY27*AP27 -> 0 | BB27: =AY27*AQ27 -> 1524.51 | BC27: =AY27*$BC$16*AO27 -> 567.4565 | BD27: =AZ27+BA27+BB27+BC27 -> 24790.227
B28: Dežūrārsts (16.00-8.00) katru dienu | G28: 1 | H28: 16 | I28: 8 | J28: =IF(H28="",0,IF((I28-H28<=0),(24-H28+I28),(I28-H28))) -> 16 | K28: 8 | L28: 16 | M28: 8 | N28: =IF(L28="",0,IF((M28-L28<=0),(24-L28+M28),(M28-L28))) -> 16 | O28: 8 | P28: 16 | Q28: 8 | R28: =IF(P28="",0,IF((Q28-P28<=0),(24-P28+Q28),(Q28-P28))) -> 16 | S28: 8 | T28: 16 | U28: 8 | V28: =IF(T28="",0,IF((U28-T28<=0),(24-T28+U28),(U28-T28))) -> 16 | W28: 8 | X28: 16 | Y28: 8 | Z28: =IF(X28="",0,IF((Y28-X28<=0),(24-X28+Y28),(Y28-X28))) -> 16 | AA28: 8 | AB28: 16 | AC28: 8 | AD28: =IF(AB28="",0,IF((AC28-AB28<=0),(24-AB28+AC28),(AC28-AB28))) -> 16 | AE28: 8 | AF28: 16 | AG28: 8 | AH28: =IF(AF28="",0,IF((AG28-AF28<=0),(24-AF28+AG28),(AG28-AF28))) -> 16 | AI28: 8 | AJ28: 16 | AK28: 8 | AL28: =IF(AJ28="",0,IF((AK28-AJ28<=0),(24-AJ28+AK28),(AK28-AJ28))) -> 16 | AM28: 8 | AN28: =J28+N28+R28+V28+Z28+AD28+AH28+AL28 -> 128 | AO28: =IF(AN28=0,0,((J28*$C$123)+($D$123*N28)+(R28*$E$123)+(V28*$F$123)+($G$123*Z28)+(AD28*$H$124)+($I$125*AH28)+(AL28*$J$126)*G28)) -> 5824 | AP28: =IF(AN28=0,0,((K28*$C$123)+($D$123*O28)+(S28*$E$123)+(W28*$F$123)+($G$123*AA28)+(AE28*$H$124)+($I$125*AI28)+(AM28*$J$126)*G28)) -> 2912 | AQ28: =AL28*$J$126*G28 -> 288 | AR28: =AO28/$L$122 -> 2.9061876 | AS28: =AR28*0.09091 -> 0.26420152 | AT28: =AS28+AR28 -> 3.1703891 | AW28: Jāizlemj - vai liekam 24h tiešo posteni, vai 8h tiešais un pēc tam mājas dežūras | AX28: =$BG$16 -> 1303 | AY28: =AX28/160*$AY$16 -> 10.586875 | AZ28: =AY28*AO28 -> 61657.96 | BA28: =$BA$16*AY28*AP28 -> 15414.49 | BB28: =AY28*AQ28 -> 3049.02 | BC28: =AY28*$BC$16*AO28 -> 1541.449 | BD28: =AZ28+BA28+BB28+BC28 -> 81662.919
B29: Dežūrārsts 9.00-21.00 (12h) darba dienas | G29: 1 | H29: 9 | I29: 21 | J29: =IF(H29="",0,IF((I29-H29<=0),(24-H29+I29),(I29-H29))) -> 12 | K29: 0 | L29: 9 | M29: 21 | N29: =IF(L29="",0,IF((M29-L29<=0),(24-L29+M29),(M29-L29))) -> 12 | O29: 0 | P29: 9 | Q29: 21 | R29: =IF(P29="",0,IF((Q29-P29<=0),(24-P29+Q29),(Q29-P29))) -> 12 | S29: 0 | T29: 9 | U29: 21 | V29: =IF(T29="",0,IF((U29-T29<=0),(24-T29+U29),(U29-T29))) -> 12 | W29: 0 | X29: 9 | Y29: 21 | Z29: =IF(X29="",0,IF((Y29-X29<=0),(24-X29+Y29),(Y29-X29))) -> 12 | AA29: 0 | AB29: 0 | AC29: 0 | AD29: =IF(AB29="",0,IF((AC29-AB29<=0),(24-AB29+AC29),(AC29-AB29))) -> 24 | AE29: 0 | AF29: 0 | AG29: 0 | AH29: =IF(AF29="",0,IF((AG29-AF29<=0),(24-AF29+AG29),(AG29-AF29))) -> 24 | AI29: 0 | AJ29: 9 | AK29: 21 | AL29: =IF(AJ29="",0,IF((AK29-AJ29<=0),(24-AJ29+AK29),(AK29-AJ29))) -> 12 | AM29: 0 | AN29: =J29+N29+R29+V29+Z29+AD29+AH29+AL29 -> 120 | AO29: =IF(AN29=0,0,((J29*$C$123)+($D$123*N29)+(R29*$E$123)+(V29*$F$123)+($G$123*Z29)+(AD29*$H$124)+($I$125*AH29)+(AL29*$J$126)*G29)) -> 5520 | AP29: =IF(AN29=0,0,((K29*$C$123)+($D$123*O29)+(S29*$E$123)+(W29*$F$123)+($G$123*AA29)+(AE29*$H$124)+($I$125*AI29)+(AM29*$J$126)*G29)) -> 0 | AQ29: =AL29*$J$126*G29 -> 216 | AR29: =AO29/$L$122 -> 2.754491 | AS29: =AR29*0.09091 -> 0.25041078 | AT29: =AS29+AR29 -> 3.0049018 | AX29: =$BG$16 -> 1303 | AY29: =AX29/160*$AY$16 -> 10.586875 | AZ29: =AY29*AO29 -> 58439.55 | BA29: =$BA$16*AY29*AP29 -> 0 | BB29: =AY29*AQ29 -> 2286.765 | BC29: =AY29*$BC$16*AO29 -> 1460.9888 | BD29: =AZ29+BA29+BB29+BC29 -> 62187.304
B30: Speciālists, kurš nodrošina palīdzību 24/7 | G30: 1 | H30: 8 | I30: 8 | J30: =IF(H30="",0,IF((I30-H30<=0),(24-H30+I30),(I30-H30))) -> 24 | K30: 8 | L30: 8 | M30: 8 | N30: =IF(L30="",0,IF((M30-L30<=0),(24-L30+M30),(M30-L30))) -> 24 | O30: 8 | P30: 8 | Q30: 8 | R30: =IF(P30="",0,IF((Q30-P30<=0),(24-P30+Q30),(Q30-P30))) -> 24 | S30: 8 | T30: 8 | U30: 8 | V30: =IF(T30="",0,IF((U30-T30<=0),(24-T30+U30),(U30-T30))) -> 24 | W30: 8 | X30: 8 | Y30: 8 | Z30: =IF(X30="",0,IF((Y30-X30<=0),(24-X30+Y30),(Y30-X30))) -> 24 | AA30: 8 | AB30: 8 | AC30: 8 | AD30: =IF(AB30="",0,IF((AC30-AB30<=0),(24-AB30+AC30),(AC30-AB30))) -> 24 | AE30: 8 | AF30: 8 | AG30: 8 | AH30: =IF(AF30="",0,IF((AG30-AF30<=0),(24-AF30+AG30),(AG30-AF30))) -> 24 | AI30: 8 | AJ30: 8 | AK30: 8 | AL30: =IF(AJ30="",0,IF((AK30-AJ30<=0),(24-AJ30+AK30),(AK30-AJ30))) -> 24 | AM30: 8 | AN30: =J30+N30+R30+V30+Z30+AD30+AH30+AL30 -> 192 | AO30: =IF(AN30=0,0,((J30*$C$123)+($D$123*N30)+(R30*$E$123)+(V30*$F$123)+($G$123*Z30)+(AD30*$H$124)+($I$125*AH30)+(AL30*$J$126)*G30)) -> 8736 | AP30: =IF(AN30=0,0,((K30*$C$123)+($D$123*O30)+(S30*$E$123)+(W30*$F$123)+($G$123*AA30)+(AE30*$H$124)+($I$125*AI30)+(AM30*$J$126)*G30)) -> 2912 | AQ30: =AL30*$J$126*G30 -> 432 | AR30: =AO30/$L$122 -> 4.3592814 | AS30: =AR30*0.09091 -> 0.39630228 | AT30: =AS30+AR30 -> 4.7555837 | AX30: =$BG$16 -> 1303 | AY30: =AX30/160*$AY$16 -> 10.586875 | AZ30: =AY30*AO30 -> 92486.94 | BA30: =$BA$16*AY30*AP30 -> 15414.49 | BB30: =AY30*AQ30 -> 4573.53 | BC30: =AY30*$BC$16*AO30 -> 2312.1735 | BD30: =AZ30+BA30+BB30+BC30 -> 114787.13
B31: Neatliekamā 24/7 (ar kabineta maksājumu | G31: 1 | H31: 8 | I31: 8 | J31: =IF(H31="",0,IF((I31-H31<=0),(24-H31+I31),(I31-H31))) -> 24 | K31: 8 | L31: 8 | M31: 8 | N31: =IF(L31="",0,IF((M31-L31<=0),(24-L31+M31),(M31-L31))) -> 24 | O31: 8 | P31: 8 | Q31: 8 | R31: =IF(P31="",0,IF((Q31-P31<=0),(24-P31+Q31),(Q31-P31))) -> 24 | S31: 8 | T31: 8 | U31: 8 | V31: =IF(T31="",0,IF((U31-T31<=0),(24-T31+U31),(U31-T31))) -> 24 | W31: 8 | X31: 8 | Y31: 8 | Z31: =IF(X31="",0,IF((Y31-X31<=0),(24-X31+Y31),(Y31-X31))) -> 24 | AA31: 8 | AB31: 8 | AC31: 8 | AD31: =IF(AB31="",0,IF((AC31-AB31<=0),(24-AB31+AC31),(AC31-AB31))) -> 24 | AE31: 8 | AF31: 8 | AG31: 8 | AH31: =IF(AF31="",0,IF((AG31-AF31<=0),(24-AF31+AG31),(AG31-AF31))) -> 24 | AI31: 8 | AJ31: 8 | AK31: 8 | AL31: =IF(AJ31="",0,IF((AK31-AJ31<=0),(24-AJ31+AK31),(AK31-AJ31))) -> 24 | AM31: 8 | AN31: =J31+N31+R31+V31+Z31+AD31+AH31+AL31 -> 192 | AO31: =IF(AN31=0,0,((J31*$C$123)+($D$123*N31)+(R31*$E$123)+(V31*$F$123)+($G$123*Z31)+(AD31*$H$124)+($I$125*AH31)+(AL31*$J$126)*G31)) -> 8736 | AP31: =IF(AN31=0,0,((K31*$C$123)+($D$123*O31)+(S31*$E$123)+(W31*$F$123)+($G$123*AA31)+(AE31*$H$124)+($I$125*AI31)+(AM31*$J$126)*G31)) -> 2912 | AQ31: =AL31*$J$126*G31 -> 432 | AR31: =AO31/$L$122 -> 4.3592814 | AS31: =AR31*0.09091 -> 0.39630228 | AT31: =AS31+AR31 -> 4.7555837 | AX31: =$BG$16 -> 1303 | AY31: =AX31/160*$AY$16 -> 10.586875 | AZ31: =AY31*AO31 -> 92486.94 | BA31: =$BA$16*AY31*AP31 -> 15414.49 | BB31: =AY31*AQ31 -> 4573.53 | BC31: =AY31*$BC$16*AO31 -> 2312.1735 | BD31: =AZ31+BA31+BB31+BC31 -> 114787.13
A35: MĀSAS PALĪGI | B35: Dežūrārsts (8.00-16.00) darba dienas | G35: 1 | H35: 8 | I35: 16 | J35: =IF(H35="",0,IF((I35-H35<=0),(24-H35+I35),(I35-H35))) -> 8 | L35: 8 | M35: 16 | N35: =IF(L35="",0,IF((M35-L35<=0),(24-L35+M35),(M35-L35))) -> 8 | P35: 8 | Q35: 16 | R35: =IF(P35="",0,IF((Q35-P35<=0),(24-P35+Q35),(Q35-P35))) -> 8 | T35: 8 | U35: 16 | V35: =IF(T35="",0,IF((U35-T35<=0),(24-T35+U35),(U35-T35))) -> 8 | X35: 8 | Y35: 16 | Z35: =IF(X35="",0,IF((Y35-X35<=0),(24-X35+Y35),(Y35-X35))) -> 8 | AD35: =IF(AB35="",0,IF((AC35-AB35<=0),(24-AB35+AC35),(AC35-AB35))) -> 0 | AH35: =IF(AF35="",0,IF((AG35-AF35<=0),(24-AF35+AG35),(AG35-AF35))) -> 0 | AJ35: 8 | AK35: 16 | AL35: =IF(AJ35="",0,IF((AK35-AJ35<=0),(24-AJ35+AK35),(AK35-AJ35))) -> 8 | AN35: =J35+N35+R35+V35+Z35+AD35+AH35+AL35 -> 48 | AO35: =IF(AN35=0,0,((J35*$C$123)+($D$123*N35)+(R35*$E$123)+(V35*$F$123)+($G$123*Z35)+(AD35*$H$124)+($I$125*AH35)+(AL35*$J$126)*G35)) -> 2144 | AP35: =IF(AN35=0,0,((K35*$C$123)+($D$123*O35)+(S35*$E$123)+(W35*$F$123)+($G$123*AA35)+(AE35*$H$124)+($I$125*AI35)+(AM35*$J$126)*G35)) -> 0 | AQ35: =AL35*$J$126*G35 -> 144 | AR35: =AO35/$L$122 -> 1.0698603 | AS35: =AR35*0.09091 -> 0.097260998 | AT35: =AS35+AR35 -> 1.1671213 | AW35: Jāizlemj - vai liekam 24h tiešo posteni, vai 8h tiešais un pēc tam mājas dežūras | AX35: =$BG$17 -> 865 | AY35: =AX35/160 -> 5.40625 | AZ35: =AY35*AO35 -> 11591 | BA35: =$BA$16*AY35*AP35 -> 0 | BB35: =AY35*AQ35 -> 778.5 | BC35: =AY35*$BC$16*AO35 -> 289.775 | BD35: =AZ35+BA35+BB35+BC35 -> 12659.275
B36: Dežūrārsts (16.00-8.00) katru dienu | G36: 1 | H36: 16 | I36: 8 | J36: =IF(H36="",0,IF((I36-H36<=0),(24-H36+I36),(I36-H36))) -> 16 | K36: 8 | L36: 16 | M36: 8 | N36: =IF(L36="",0,IF((M36-L36<=0),(24-L36+M36),(M36-L36))) -> 16 | O36: 8 | P36: 16 | Q36: 8 | R36: =IF(P36="",0,IF((Q36-P36<=0),(24-P36+Q36),(Q36-P36))) -> 16 | S36: 8 | T36: 16 | U36: 8 | V36: =IF(T36="",0,IF((U36-T36<=0),(24-T36+U36),(U36-T36))) -> 16 | W36: 8 | X36: 16 | Y36: 8 | Z36: =IF(X36="",0,IF((Y36-X36<=0),(24-X36+Y36),(Y36-X36))) -> 16 | AA36: 8 | AB36: 16 | AC36: 8 | AD36: =IF(AB36="",0,IF((AC36-AB36<=0),(24-AB36+AC36),(AC36-AB36))) -> 16 | AE36: 8 | AF36: 16 | AG36: 8 | AH36: =IF(AF36="",0,IF((AG36-AF36<=0),(24-AF36+AG36),(AG36-AF36))) -> 16 | AI36: 8 | AJ36: 16 | AK36: 8 | AL36: =IF(AJ36="",0,IF((AK36-AJ36<=0),(24-AJ36+AK36),(AK36-AJ36))) -> 16 | AM36: 8 | AN36: =J36+N36+R36+V36+Z36+AD36+AH36+AL36 -> 128 | AO36: =IF(AN36=0,0,((J36*$C$123)+($D$123*N36)+(R36*$E$123)+(V36*$F$123)+($G$123*Z36)+(AD36*$H$124)+($I$125*AH36)+(AL36*$J$126)*G36)) -> 5824 | AP36: =IF(AN36=0,0,((K36*$C$123)+($D$123*O36)+(S36*$E$123)+(W36*$F$123)+($G$123*AA36)+(AE36*$H$124)+($I$125*AI36)+(AM36*$J$126)*G36)) -> 2912 | AQ36: =AL36*$J$126*G36 -> 288 | AR36: =AO36/$L$122 -> 2.9061876 | AS36: =AR36*0.09091 -> 0.26420152 | AT36: =AS36+AR36 -> 3.1703891 | AW36: Jāizlemj - vai liekam 24h tiešo posteni, vai 8h tiešais un pēc tam mājas dežūras | AX36: =$BG$17 -> 865 | AY36: =AX36/160 -> 5.40625 | AZ36: =AY36*AO36 -> 31486 | BA36: =$BA$16*AY36*AP36 -> 7871.5 | BB36: =AY36*AQ36 -> 1557 | BC36: =AY36*$BC$16*AO36 -> 787.15 | BD36: =AZ36+BA36+BB36+BC36 -> 41701.65
B37: Dežūrārsts 9.00-21.00 (12h) darba dienas | G37: 1 | H37: 9 | I37: 21 | J37: =IF(H37="",0,IF((I37-H37<=0),(24-H37+I37),(I37-H37))) -> 12 | K37: 0 | L37: 9 | M37: 21 | N37: =IF(L37="",0,IF((M37-L37<=0),(24-L37+M37),(M37-L37))) -> 12 | O37: 0 | P37: 9 | Q37: 21 | R37: =IF(P37="",0,IF((Q37-P37<=0),(24-P37+Q37),(Q37-P37))) -> 12 | S37: 0 | T37: 9 | U37: 21 | V37: =IF(T37="",0,IF((U37-T37<=0),(24-T37+U37),(U37-T37))) -> 12 | W37: 0 | X37: 9 | Y37: 21 | Z37: =IF(X37="",0,IF((Y37-X37<=0),(24-X37+Y37),(Y37-X37))) -> 12 | AA37: 0 | AB37: 0 | AC37: 0 | AD37: =IF(AB37="",0,IF((AC37-AB37<=0),(24-AB37+AC37),(AC37-AB37))) -> 24 | AE37: 0 | AF37: 0 | AG37: 0 | AH37: =IF(AF37="",0,IF((AG37-AF37<=0),(24-AF37+AG37),(AG37-AF37))) -> 24 | AI37: 0 | AJ37: 9 | AK37: 21 | AL37: =IF(AJ37="",0,IF((AK37-AJ37<=0),(24-AJ37+AK37),(AK37-AJ37))) -> 12 | AM37: 0 | AN37: =J37+N37+R37+V37+Z37+AD37+AH37+AL37 -> 120 | AO37: =IF(AN37=0,0,((J37*$C$123)+($D$123*N37)+(R37*$E$123)+(V37*$F$123)+($G$123*Z37)+(AD37*$H$124)+($I$125*AH37)+(AL37*$J$126)*G37)) -> 5520 | AP37: =IF(AN37=0,0,((K37*$C$123)+($D$123*O37)+(S37*$E$123)+(W37*$F$123)+($G$123*AA37)+(AE37*$H$124)+($I$125*AI37)+(AM37*$J$126)*G37)) -> 0 | AQ37: =AL37*$J$126*G37 -> 216 | AR37: =AO37/$L$122 -> 2.754491 | AS37: =AR37*0.09091 -> 0.25041078 | AT37: =AS37+AR37 -> 3.0049018 | AX37: =$BG$17 -> 865 | AY37: =AX37/160 -> 5.40625 | AZ37: =AY37*AO37 -> 29842.5 | BA37: =$BA$16*AY37*AP37 -> 0 | BB37: =AY37*AQ37 -> 1167.75 | BC37: =AY37*$BC$16*AO37 -> 746.0625 | BD37: =AZ37+BA37+BB37+BC37 -> 31756.312
B38: Speciālists, kurš nodrošina palīdzību 24/7 | G38: 1 | H38: 8 | I38: 8 | J38: =IF(H38="",0,IF((I38-H38<=0),(24-H38+I38),(I38-H38))) -> 24 | K38: 8 | L38: 8 | M38: 8 | N38: =IF(L38="",0,IF((M38-L38<=0),(24-L38+M38),(M38-L38))) -> 24 | O38: 8 | P38: 8 | Q38: 8 | R38: =IF(P38="",0,IF((Q38-P38<=0),(24-P38+Q38),(Q38-P38))) -> 24 | S38: 8 | T38: 8 | U38: 8 | V38: =IF(T38="",0,IF((U38-T38<=0),(24-T38+U38),(U38-T38))) -> 24 | W38: 8 | X38: 8 | Y38: 8 | Z38: =IF(X38="",0,IF((Y38-X38<=0),(24-X38+Y38),(Y38-X38))) -> 24 | AA38: 8 | AB38: 8 | AC38: 8 | AD38: =IF(AB38="",0,IF((AC38-AB38<=0),(24-AB38+AC38),(AC38-AB38))) -> 24 | AE38: 8 | AF38: 8 | AG38: 8 | AH38: =IF(AF38="",0,IF((AG38-AF38<=0),(24-AF38+AG38),(AG38-AF38))) -> 24 | AI38: 8 | AJ38: 8 | AK38: 8 | AL38: =IF(AJ38="",0,IF((AK38-AJ38<=0),(24-AJ38+AK38),(AK38-AJ38))) -> 24 | AM38: 8 | AN38: =J38+N38+R38+V38+Z38+AD38+AH38+AL38 -> 192 | AO38: =IF(AN38=0,0,((J38*$C$123)+($D$123*N38)+(R38*$E$123)+(V38*$F$123)+($G$123*Z38)+(AD38*$H$124)+($I$125*AH38)+(AL38*$J$126)*G38)) -> 8736 | AP38: =IF(AN38=0,0,((K38*$C$123)+($D$123*O38)+(S38*$E$123)+(W38*$F$123)+($G$123*AA38)+(AE38*$H$124)+($I$125*AI38)+(AM38*$J$126)*G38)) -> 2912 | AQ38: =AL38*$J$126*G38 -> 432 | AR38: =AO38/$L$122 -> 4.3592814 | AS38: =AR38*0.09091 -> 0.39630228 | AT38: =AS38+AR38 -> 4.7555837 | AX38: =$BG$17 -> 865 | AY38: =AX38/160 -> 5.40625 | AZ38: =AY38*AO38 -> 47229 | BA38: =$BA$16*AY38*AP38 -> 7871.5 | BB38: =AY38*AQ38 -> 2335.5 | BC38: =AY38*$BC$16*AO38 -> 1180.725 | BD38: =AZ38+BA38+BB38+BC38 -> 58616.725
B39: Neatliekamā 24/7 (ar kabineta maksājumu | G39: 1 | H39: 8 | I39: 8 | J39: =IF(H39="",0,IF((I39-H39<=0),(24-H39+I39),(I39-H39))) -> 24 | K39: 8 | L39: 8 | M39: 8 | N39: =IF(L39="",0,IF((M39-L39<=0),(24-L39+M39),(M39-L39))) -> 24 | O39: 8 | P39: 8 | Q39: 8 | R39: =IF(P39="",0,IF((Q39-P39<=0),(24-P39+Q39),(Q39-P39))) -> 24 | S39: 8 | T39: 8 | U39: 8 | V39: =IF(T39="",0,IF((U39-T39<=0),(24-T39+U39),(U39-T39))) -> 24 | W39: 8 | X39: 8 | Y39: 8 | Z39: =IF(X39="",0,IF((Y39-X39<=0),(24-X39+Y39),(Y39-X39))) -> 24 | AA39: 8 | AB39: 8 | AC39: 8 | AD39: =IF(AB39="",0,IF((AC39-AB39<=0),(24-AB39+AC39),(AC39-AB39))) -> 24 | AE39: 8 | AF39: 8 | AG39: 8 | AH39: =IF(AF39="",0,IF((AG39-AF39<=0),(24-AF39+AG39),(AG39-AF39))) -> 24 | AI39: 8 | AJ39: 8 | AK39: 8 | AL39: =IF(AJ39="",0,IF((AK39-AJ39<=0),(24-AJ39+AK39),(AK39-AJ39))) -> 24 | AM39: 8 | AN39: =J39+N39+R39+V39+Z39+AD39+AH39+AL39 -> 192 | AO39: =IF(AN39=0,0,((J39*$C$123)+($D$123*N39)+(R39*$E$123)+(V39*$F$123)+($G$123*Z39)+(AD39*$H$124)+($I$125*AH39)+(AL39*$J$126)*G39)) -> 8736 | AP39: =IF(AN39=0,0,((K39*$C$123)+($D$123*O39)+(S39*$E$123)+(W39*$F$123)+($G$123*AA39)+(AE39*$H$124)+($I$125*AI39)+(AM39*$J$126)*G39)) -> 2912 | AQ39: =AL39*$J$126*G39 -> 432 | AR39: =AO39/$L$122 -> 4.3592814 | AS39: =AR39*0.09091 -> 0.39630228 | AT39: =AS39+AR39 -> 4.7555837 | AX39: =$BG$17 -> 865 | AY39: =AX39/160 -> 5.40625 | AZ39: =AY39*AO39 -> 47229 | BA39: =$BA$16*AY39*AP39 -> 7871.5 | BB39: =AY39*AQ39 -> 2335.5 | BC39: =AY39*$BC$16*AO39 -> 1180.725 | BD39: =AZ39+BA39+BB39+BC39 -> 58616.725
B42: PĀRĒJIE | H42: Pirmdienās | L42: Otrdienās | P42: Trešdienās | T42: Ceturtdienās | X42: Piektdienās | AB42: Sestdienās | AF42: Svētdienās | AJ42: Svētku un brīvdienās | AO42: Stundas vidēji gadā
B43: Posteņa nosaukums | D43: Nedēļas dienas | E43: Posteņa veids | F43: % iesaiste, ja atbalsta postenis | G43: Posteņu skaits | H43: no | I43: līdz | J43: darba st | K43: t.sk. nakts st | L43: no | M43: līdz | N43: darba st | O43: t.sk. nakts st | P43: no | Q43: līdz | R43: darba st | S43: t.sk. nakts st | T43: no | U43: līdz | V43: darba st | W43: t.sk. nakts st | X43: no | Y43: līdz | Z43: darba st | AA43: t.sk. nakts st | AB43: no | AC43: līdz | AD43: darba st | AE43: t.sk. nakts st | AF43: no | AG43: līdz | AH43: darba st | AI43: t.sk. nakts st | AJ43: no | AK43: līdz | AL43: darba st | AM43: t.sk. nakts st | AN43: Tehniskā | AO43: Darba sundas | AP43: no tām nakts | AQ43: no tām svētku | AR43: slodzes | AS43: Atvaļinājuma rezerve | AT43: KOPĀ | AU43: Slodzes pa amatiem, atbilstoši AVS | AV43: Piezīmes | AW43: DR komentāri | AX43: Mēnešalga | AY43: Stundas likme (vidējā) | AZ43: Samaksa gadā, EUR | BA43: Par Nakts stundām, EUR gadā | BB43: Par Svētku stundām, EUR gadā | BC43: Īpašā riska piemaksa gadā, EUR
A44: ĀRSTS | B44: Dežūrārsts (8.00-16.00) darba dienas | G44: 1 | H44: 8 | I44: 16 | J44: =IF(H44="",0,IF((I44-H44<=0),(24-H44+I44),(I44-H44))) -> 8 | L44: 8 | M44: 16 | N44: =IF(L44="",0,IF((M44-L44<=0),(24-L44+M44),(M44-L44))) -> 8 | P44: 8 | Q44: 16 | R44: =IF(P44="",0,IF((Q44-P44<=0),(24-P44+Q44),(Q44-P44))) -> 8 | T44: 8 | U44: 16 | V44: =IF(T44="",0,IF((U44-T44<=0),(24-T44+U44),(U44-T44))) -> 8 | X44: 8 | Y44: 16 | Z44: =IF(X44="",0,IF((Y44-X44<=0),(24-X44+Y44),(Y44-X44))) -> 8 | AD44: =IF(AB44="",0,IF((AC44-AB44<=0),(24-AB44+AC44),(AC44-AB44))) -> 0 | AH44: =IF(AF44="",0,IF((AG44-AF44<=0),(24-AF44+AG44),(AG44-AF44))) -> 0 | AJ44: 8 | AK44: 16 | AL44: =IF(AJ44="",0,IF((AK44-AJ44<=0),(24-AJ44+AK44),(AK44-AJ44))) -> 8 | AN44: =J44+N44+R44+V44+Z44+AD44+AH44+AL44 -> 48 | AO44: =IF(AN44=0,0,((J44*$C$123)+($D$123*N44)+(R44*$E$123)+(V44*$F$123)+($G$123*Z44)+(AD44*$H$124)+($I$125*AH44)+(AL44*$J$126)*G44)) -> 2144 | AP44: =IF(AN44=0,0,((K44*$C$123)+($D$123*O44)+(S44*$E$123)+(W44*$F$123)+($G$123*AA44)+(AE44*$H$124)+($I$125*AI44)+(AM44*$J$126)*G44)) -> 0 | AQ44: =AL44*$J$126*G44 -> 144 | AR44: =AO44/$L$122 -> 1.0698603 | AS44: =AR44*0.09091 -> 0.097260998 | AT44: =AS44+AR44 -> 1.1671213 | AW44: Jāizlemj - vai liekam 24h tiešo posteni, vai 8h tiešais un pēc tam mājas dežūras | AX44: =$BG$15 -> 2083 | AY44: =AX44/160 -> 13.01875 | AZ44: =AY44*AO44 -> 27912.2 | BA44: =$BA$16*AY44*AP44 -> 0 | BB44: =AY44*AQ44 -> 1874.7 | BC44: =AY44*$BC$16*AO44 -> 697.805 | BD44: =AZ44+BA44+BB44+BC44 -> 30484.705
B45: Dežūrārsts (16.00-8.00) katru dienu | G45: 1 | H45: 16 | I45: 8 | J45: =IF(H45="",0,IF((I45-H45<=0),(24-H45+I45),(I45-H45))) -> 16 | K45: 8 | L45: 16 | M45: 8 | N45: =IF(L45="",0,IF((M45-L45<=0),(24-L45+M45),(M45-L45))) -> 16 | O45: 8 | P45: 16 | Q45: 8 | R45: =IF(P45="",0,IF((Q45-P45<=0),(24-P45+Q45),(Q45-P45))) -> 16 | S45: 8 | T45: 16 | U45: 8 | V45: =IF(T45="",0,IF((U45-T45<=0),(24-T45+U45),(U45-T45))) -> 16 | W45: 8 | X45: 16 | Y45: 8 | Z45: =IF(X45="",0,IF((Y45-X45<=0),(24-X45+Y45),(Y45-X45))) -> 16 | AA45: 8 | AB45: 16 | AC45: 8 | AD45: =IF(AB45="",0,IF((AC45-AB45<=0),(24-AB45+AC45),(AC45-AB45))) -> 16 | AE45: 8 | AF45: 16 | AG45: 8 | AH45: =IF(AF45="",0,IF((AG45-AF45<=0),(24-AF45+AG45),(AG45-AF45))) -> 16 | AI45: 8 | AJ45: 16 | AK45: 8 | AL45: =IF(AJ45="",0,IF((AK45-AJ45<=0),(24-AJ45+AK45),(AK45-AJ45))) -> 16 | AM45: 8 | AN45: =J45+N45+R45+V45+Z45+AD45+AH45+AL45 -> 128 | AO45: =IF(AN45=0,0,((J45*$C$123)+($D$123*N45)+(R45*$E$123)+(V45*$F$123)+($G$123*Z45)+(AD45*$H$124)+($I$125*AH45)+(AL45*$J$126)*G45)) -> 5824 | AP45: =IF(AN45=0,0,((K45*$C$123)+($D$123*O45)+(S45*$E$123)+(W45*$F$123)+($G$123*AA45)+(AE45*$H$124)+($I$125*AI45)+(AM45*$J$126)*G45)) -> 2912 | AQ45: =AL45*$J$126*G45 -> 288 | AR45: =AO45/$L$122 -> 2.9061876 | AS45: =AR45*0.09091 -> 0.26420152 | AT45: =AS45+AR45 -> 3.1703891 | AW45: Jāizlemj - vai liekam 24h tiešo posteni, vai 8h tiešais un pēc tam mājas dežūras | AX45: =$BG$15 -> 2083 | AY45: =AX45/160 -> 13.01875 | AZ45: =AY45*AO45 -> 75821.2 | BA45: =$BA$16*AY45*AP45 -> 18955.3 | BB45: =AY45*AQ45 -> 3749.4 | BC45: =AY45*$BC$16*AO45 -> 1895.53 | BD45: =AZ45+BA45+BB45+BC45 -> 100421.43
B46: Dežūrārsts 9.00-21.00 (12h) darba dienas | G46: 1 | H46: 9 | I46: 21 | J46: =IF(H46="",0,IF((I46-H46<=0),(24-H46+I46),(I46-H46))) -> 12 | K46: 0 | L46: 9 | M46: 21 | N46: =IF(L46="",0,IF((M46-L46<=0),(24-L46+M46),(M46-L46))) -> 12 | O46: 0 | P46: 9 | Q46: 21 | R46: =IF(P46="",0,IF((Q46-P46<=0),(24-P46+Q46),(Q46-P46))) -> 12 | S46: 0 | T46: 9 | U46: 21 | V46: =IF(T46="",0,IF((U46-T46<=0),(24-T46+U46),(U46-T46))) -> 12 | W46: 0 | X46: 9 | Y46: 21 | Z46: =IF(X46="",0,IF((Y46-X46<=0),(24-X46+Y46),(Y46-X46))) -> 12 | AA46: 0 | AD46: =IF(AB46="",0,IF((AC46-AB46<=0),(24-AB46+AC46),(AC46-AB46))) -> 0 | AE46: 0 | AH46: =IF(AF46="",0,IF((AG46-AF46<=0),(24-AF46+AG46),(AG46-AF46))) -> 0 | AI46: 0 | AJ46: 9 | AK46: 21 | AL46: =IF(AJ46="",0,IF((AK46-AJ46<=0),(24-AJ46+AK46),(AK46-AJ46))) -> 12 | AM46: 0 | AN46: =J46+N46+R46+V46+Z46+AD46+AH46+AL46 -> 72 | AO46: =IF(AN46=0,0,((J46*$C$123)+($D$123*N46)+(R46*$E$123)+(V46*$F$123)+($G$123*Z46)+(AD46*$H$124)+($I$125*AH46)+(AL46*$J$126)*G46)) -> 3216 | AP46: =IF(AN46=0,0,((K46*$C$123)+($D$123*O46)+(S46*$E$123)+(W46*$F$123)+($G$123*AA46)+(AE46*$H$124)+($I$125*AI46)+(AM46*$J$126)*G46)) -> 0 | AQ46: =AL46*$J$126*G46 -> 216 | AR46: =AO46/$L$122 -> 1.6047904 | AS46: =AR46*0.09091 -> 0.1458915 | AT46: =AS46+AR46 -> 1.7506819 | AX46: =$BG$15 -> 2083 | AY46: =AX46/160 -> 13.01875 | AZ46: =AY46*AO46 -> 41868.3 | BA46: =$BA$16*AY46*AP46 -> 0 | BB46: =AY46*AQ46 -> 2812.05 | BC46: =AY46*$BC$16*AO46 -> 1046.7075 | BD46: =AZ46+BA46+BB46+BC46 -> 45727.058
B47: Speciālists, kurš nodrošina palīdzību 24/7 | G47: 1 | H47: 8 | I47: 8 | J47: =IF(H47="",0,IF((I47-H47<=0),(24-H47+I47),(I47-H47))) -> 24 | K47: 8 | L47: 8 | M47: 8 | N47: =IF(L47="",0,IF((M47-L47<=0),(24-L47+M47),(M47-L47))) -> 24 | O47: 8 | P47: 8 | Q47: 8 | R47: =IF(P47="",0,IF((Q47-P47<=0),(24-P47+Q47),(Q47-P47))) -> 24 | S47: 8 | T47: 8 | U47: 8 | V47: =IF(T47="",0,IF((U47-T47<=0),(24-T47+U47),(U47-T47))) -> 24 | W47: 8 | X47: 8 | Y47: 8 | Z47: =IF(X47="",0,IF((Y47-X47<=0),(24-X47+Y47),(Y47-X47))) -> 24 | AA47: 8 | AB47: 8 | AC47: 8 | AD47: =IF(AB47="",0,IF((AC47-AB47<=0),(24-AB47+AC47),(AC47-AB47))) -> 24 | AE47: 8 | AF47: 8 | AG47: 8 | AH47: =IF(AF47="",0,IF((AG47-AF47<=0),(24-AF47+AG47),(AG47-AF47))) -> 24 | AI47: 8 | AJ47: 8 | AK47: 8 | AL47: =IF(AJ47="",0,IF((AK47-AJ47<=0),(24-AJ47+AK47),(AK47-AJ47))) -> 24 | AM47: 8 | AN47: =J47+N47+R47+V47+Z47+AD47+AH47+AL47 -> 192 | AO47: =IF(AN47=0,0,((J47*$C$123)+($D$123*N47)+(R47*$E$123)+(V47*$F$123)+($G$123*Z47)+(AD47*$H$124)+($I$125*AH47)+(AL47*$J$126)*G47)) -> 8736 | AP47: =IF(AN47=0,0,((K47*$C$123)+($D$123*O47)+(S47*$E$123)+(W47*$F$123)+($G$123*AA47)+(AE47*$H$124)+($I$125*AI47)+(AM47*$J$126)*G47)) -> 2912 | AQ47: =AL47*$J$126*G47 -> 432 | AR47: =AO47/$L$122 -> 4.3592814 | AS47: =AR47*0.09091 -> 0.39630228 | AT47: =AS47+AR47 -> 4.7555837 | AX47: =$BG$15 -> 2083 | AY47: =AX47/160 -> 13.01875 | AZ47: =AY47*AO47 -> 113731.8 | BA47: =$BA$16*AY47*AP47 -> 18955.3 | BB47: =AY47*AQ47 -> 5624.1 | BC47: =AY47*$BC$16*AO47 -> 2843.295 | BD47: =(AZ47+BA47+BB47+BC47)+((AZ47+BA47+BB47+BC47)*$BG$23)+((AZ47+BA47+BB47+BC47)*$BH$23)+((AZ47+BA47+BB47+BC47)*$BF$23)+BG18 -> 233422.7
B48: Neatliekamā 24/7 (ar kabineta maksājumu | G48: 1 | H48: 8 | I48: 8 | J48: =IF(H48="",0,IF((I48-H48<=0),(24-H48+I48),(I48-H48))) -> 24 | K48: 8 | L48: 8 | M48: 8 | N48: =IF(L48="",0,IF((M48-L48<=0),(24-L48+M48),(M48-L48))) -> 24 | O48: 8 | P48: 8 | Q48: 8 | R48: =IF(P48="",0,IF((Q48-P48<=0),(24-P48+Q48),(Q48-P48))) -> 24 | S48: 8 | T48: 8 | U48: 8 | V48: =IF(T48="",0,IF((U48-T48<=0),(24-T48+U48),(U48-T48))) -> 24 | W48: 8 | X48: 8 | Y48: 8 | Z48: =IF(X48="",0,IF((Y48-X48<=0),(24-X48+Y48),(Y48-X48))) -> 24 | AA48: 8 | AB48: 8 | AC48: 8 | AD48: =IF(AB48="",0,IF((AC48-AB48<=0),(24-AB48+AC48),(AC48-AB48))) -> 24 | AE48: 8 | AF48: 8 | AG48: 8 | AH48: =IF(AF48="",0,IF((AG48-AF48<=0),(24-AF48+AG48),(AG48-AF48))) -> 24 | AI48: 8 | AJ48: 8 | AK48: 8 | AL48: =IF(AJ48="",0,IF((AK48-AJ48<=0),(24-AJ48+AK48),(AK48-AJ48))) -> 24 | AM48: 8 | AN48: =J48+N48+R48+V48+Z48+AD48+AH48+AL48 -> 192 | AO48: =IF(AN48=0,0,((J48*$C$123)+($D$123*N48)+(R48*$E$123)+(V48*$F$123)+($G$123*Z48)+(AD48*$H$124)+($I$125*AH48)+(AL48*$J$126)*G48)) -> 8736 | AP48: =IF(AN48=0,0,((K48*$C$123)+($D$123*O48)+(S48*$E$123)+(W48*$F$123)+($G$123*AA48)+(AE48*$H$124)+($I$125*AI48)+(AM48*$J$126)*G48)) -> 2912 | AQ48: =AL48*$J$126*G48 -> 432 | AR48: =AO48/$L$122 -> 4.3592814 | AS48: =AR48*0.09091 -> 0.39630228 | AT48: =AS48+AR48 -> 4.7555837 | AX48: =$BG$15 -> 2083 | AY48: =AX48/160 -> 13.01875 | AZ48: =AY48*AO48 -> 113731.8 | BA48: =$BA$16*AY48*AP48 -> 18955.3 | BB48: =AY48*AQ48 -> 5624.1 | BC48: =AY48*$BC$16*AO48 -> 2843.295 | BD48: =(AZ48+BA48+BB48+BC48)+((AZ48+BA48+BB48+BC48)*$BG$23)+((AZ48+BA48+BB48+BC48)*$BH$23)+((AZ48+BA48+BB48+BC48)*$BF$23)+BG18 -> 233422.7
B49: Radiologs, diagnosts (mājas dežūra) | G49: 1 | H49: 8 | I49: 8 | J49: =IF(H49="",0,IF((I49-H49<=0),(24-H49+I49),(I49-H49))) -> 24 | K49: 8 | L49: 8 | M49: 8 | N49: =IF(L49="",0,IF((M49-L49<=0),(24-L49+M49),(M49-L49))) -> 24 | O49: 8 | P49: 8 | Q49: 8 | R49: =IF(P49="",0,IF((Q49-P49<=0),(24-P49+Q49),(Q49-P49))) -> 24 | S49: 8 | T49: 8 | U49: 8 | V49: =IF(T49="",0,IF((U49-T49<=0),(24-T49+U49),(U49-T49))) -> 24 | W49: 8 | X49: 8 | Y49: 8 | Z49: =IF(X49="",0,IF((Y49-X49<=0),(24-X49+Y49),(Y49-X49))) -> 24 | AA49: 8 | AB49: 8 | AC49: 8 | AD49: =IF(AB49="",0,IF((AC49-AB49<=0),(24-AB49+AC49),(AC49-AB49))) -> 24 | AE49: 8 | AF49: 8 | AG49: 8 | AH49: =IF(AF49="",0,IF((AG49-AF49<=0),(24-AF49+AG49),(AG49-AF49))) -> 24 | AI49: 8 | AJ49: 8 | AK49: 8 | AL49: =IF(AJ49="",0,IF((AK49-AJ49<=0),(24-AJ49+AK49),(AK49-AJ49))) -> 24 | AM49: 9 | AN49: =J49+N49+R49+V49+Z49+AD49+AH49+AL49 -> 192 | AO49: =IF(AN49=0,0,((J49*$C$123)+($D$123*N49)+(R49*$E$123)+(V49*$F$123)+($G$123*Z49)+(AD49*$H$124)+($I$125*AH49)+(AL49*$J$126)*G49)) -> 8736 | AP49: =IF(AN49=0,0,((K49*$C$123)+($D$123*O49)+(S49*$E$123)+(W49*$F$123)+($G$123*AA49)+(AE49*$H$124)+($I$125*AI49)+(AM49*$J$126)*G49)) -> 2930 | AQ49: =AL49*$J$126*G49 -> 432 | AR49: =AO49/$L$122 -> 4.3592814 | AS49: =AR49*0.09091 -> 0.39630228 | AT49: =AS49+AR49 -> 4.7555837 | AX49: =$BG$15*0.75 -> 1562.25 | AY49: =AX49/160 -> 9.7640625 | AZ49: =AY49*AO49 -> 85298.85 | BA49: =$BA$16*AY49*AP49 -> 14304.352 | BB49: =AY49*AQ49 -> 4218.075 | BD49: =AZ49+BA49+BB49+BC49 -> 103821.28
A52: MĀSA | B52: Dežūrārsts (8.00-16.00) darba dienas | G52: 1 | H52: 8 | I52: 16 | J52: =IF(H52="",0,IF((I52-H52<=0),(24-H52+I52),(I52-H52))) -> 8 | L52: 8 | M52: 16 | N52: =IF(L52="",0,IF((M52-L52<=0),(24-L52+M52),(M52-L52))) -> 8 | P52: 8 | Q52: 16 | R52: =IF(P52="",0,IF((Q52-P52<=0),(24-P52+Q52),(Q52-P52))) -> 8 | T52: 8 | U52: 16 | V52: =IF(T52="",0,IF((U52-T52<=0),(24-T52+U52),(U52-T52))) -> 8 | X52: 8 | Y52: 16 | Z52: =IF(X52="",0,IF((Y52-X52<=0),(24-X52+Y52),(Y52-X52))) -> 8 | AD52: =IF(AB52="",0,IF((AC52-AB52<=0),(24-AB52+AC52),(AC52-AB52))) -> 0 | AH52: =IF(AF52="",0,IF((AG52-AF52<=0),(24-AF52+AG52),(AG52-AF52))) -> 0 | AJ52: 8 | AK52: 16 | AL52: =IF(AJ52="",0,IF((AK52-AJ52<=0),(24-AJ52+AK52),(AK52-AJ52))) -> 8 | AN52: =J52+N52+R52+V52+Z52+AD52+AH52+AL52 -> 48 | AO52: =IF(AN52=0,0,((J52*$C$123)+($D$123*N52)+(R52*$E$123)+(V52*$F$123)+($G$123*Z52)+(AD52*$H$124)+($I$125*AH52)+(AL52*$J$126)*G52)) -> 2144 | AP52: =IF(AN52=0,0,((K52*$C$123)+($D$123*O52)+(S52*$E$123)+(W52*$F$123)+($G$123*AA52)+(AE52*$H$124)+($I$125*AI52)+(AM52*$J$126)*G52)) -> 0 | AQ52: =AL52*$J$126*G52 -> 144 | AR52: =AO52/$L$122 -> 1.0698603 | AS52: =AR52*0.09091 -> 0.097260998 | AT52: =AS52+AR52 -> 1.1671213 | AW52: Jāizlemj - vai liekam 24h tiešo posteni, vai 8h tiešais un pēc tam mājas dežūras | AX52: =$BG$16 -> 1303 | AY52: =AX52/160 -> 8.14375 | AZ52: =AY52*AO52 -> 17460.2 | BA52: =$BA$16*AY52*AP52 -> 0 | BB52: =AY52*AQ52 -> 1172.7 | BC52: =AY52*$BC$16*AO52 -> 436.505 | BD52: =AZ52+BA52+BB52+BC52 -> 19069.405
B53: Dežūrārsts (16.00-8.00) katru dienu | G53: 1 | H53: 16 | I53: 8 | J53: =IF(H53="",0,IF((I53-H53<=0),(24-H53+I53),(I53-H53))) -> 16 | K53: 8 | L53: 16 | M53: 8 | N53: =IF(L53="",0,IF((M53-L53<=0),(24-L53+M53),(M53-L53))) -> 16 | O53: 8 | P53: 16 | Q53: 8 | R53: =IF(P53="",0,IF((Q53-P53<=0),(24-P53+Q53),(Q53-P53))) -> 16 | S53: 8 | T53: 16 | U53: 8 | V53: =IF(T53="",0,IF((U53-T53<=0),(24-T53+U53),(U53-T53))) -> 16 | W53: 8 | X53: 16 | Y53: 8 | Z53: =IF(X53="",0,IF((Y53-X53<=0),(24-X53+Y53),(Y53-X53))) -> 16 | AA53: 8 | AB53: 16 | AC53: 8 | AD53: =IF(AB53="",0,IF((AC53-AB53<=0),(24-AB53+AC53),(AC53-AB53))) -> 16 | AE53: 8 | AF53: 16 | AG53: 8 | AH53: =IF(AF53="",0,IF((AG53-AF53<=0),(24-AF53+AG53),(AG53-AF53))) -> 16 | AI53: 8 | AJ53: 16 | AK53: 8 | AL53: =IF(AJ53="",0,IF((AK53-AJ53<=0),(24-AJ53+AK53),(AK53-AJ53))) -> 16 | AM53: 8 | AN53: =J53+N53+R53+V53+Z53+AD53+AH53+AL53 -> 128 | AO53: =IF(AN53=0,0,((J53*$C$123)+($D$123*N53)+(R53*$E$123)+(V53*$F$123)+($G$123*Z53)+(AD53*$H$124)+($I$125*AH53)+(AL53*$J$126)*G53)) -> 5824 | AP53: =IF(AN53=0,0,((K53*$C$123)+($D$123*O53)+(S53*$E$123)+(W53*$F$123)+($G$123*AA53)+(AE53*$H$124)+($I$125*AI53)+(AM53*$J$126)*G53)) -> 2912 | AQ53: =AL53*$J$126*G53 -> 288 | AR53: =AO53/$L$122 -> 2.9061876 | AS53: =AR53*0.09091 -> 0.26420152 | AT53: =AS53+AR53 -> 3.1703891 | AW53: Jāizlemj - vai liekam 24h tiešo posteni, vai 8h tiešais un pēc tam mājas dežūras | AX53: =$BG$16 -> 1303 | AY53: =AX53/160 -> 8.14375 | AZ53: =AY53*AO53 -> 47429.2 | BA53: =$BA$16*AY53*AP53 -> 11857.3 | BB53: =AY53*AQ53 -> 2345.4 | BC53: =AY53*$BC$16*AO53 -> 1185.73 | BD53: =AZ53+BA53+BB53+BC53 -> 62817.63
B54: Dežūrārsts 9.00-21.00 (12h) darba dienas | G54: 1 | H54: 9 | I54: 21 | J54: =IF(H54="",0,IF((I54-H54<=0),(24-H54+I54),(I54-H54))) -> 12 | K54: 0 | L54: 9 | M54: 21 | N54: =IF(L54="",0,IF((M54-L54<=0),(24-L54+M54),(M54-L54))) -> 12 | O54: 0 | P54: 9 | Q54: 21 | R54: =IF(P54="",0,IF((Q54-P54<=0),(24-P54+Q54),(Q54-P54))) -> 12 | S54: 0 | T54: 9 | U54: 21 | V54: =IF(T54="",0,IF((U54-T54<=0),(24-T54+U54),(U54-T54))) -> 12 | W54: 0 | X54: 9 | Y54: 21 | Z54: =IF(X54="",0,IF((Y54-X54<=0),(24-X54+Y54),(Y54-X54))) -> 12 | AA54: 0 | AB54: 0 | AC54: 0 | AD54: =IF(AB54="",0,IF((AC54-AB54<=0),(24-AB54+AC54),(AC54-AB54))) -> 24 | AE54: 0 | AF54: 0 | AG54: 0 | AH54: =IF(AF54="",0,IF((AG54-AF54<=0),(24-AF54+AG54),(AG54-AF54))) -> 24 | AI54: 0 | AJ54: 9 | AK54: 21 | AL54: =IF(AJ54="",0,IF((AK54-AJ54<=0),(24-AJ54+AK54),(AK54-AJ54))) -> 12 | AM54: 0 | AN54: =J54+N54+R54+V54+Z54+AD54+AH54+AL54 -> 120 | AO54: =IF(AN54=0,0,((J54*$C$123)+($D$123*N54)+(R54*$E$123)+(V54*$F$123)+($G$123*Z54)+(AD54*$H$124)+($I$125*AH54)+(AL54*$J$126)*G54)) -> 5520 | AP54: =IF(AN54=0,0,((K54*$C$123)+($D$123*O54)+(S54*$E$123)+(W54*$F$123)+($G$123*AA54)+(AE54*$H$124)+($I$125*AI54)+(AM54*$J$126)*G54)) -> 0 | AQ54: =AL54*$J$126*G54 -> 216 | AR54: =AO54/$L$122 -> 2.754491 | AS54: =AR54*0.09091 -> 0.25041078 | AT54: =AS54+AR54 -> 3.0049018 | AX54: =$BG$16 -> 1303 | AY54: =AX54/160 -> 8.14375 | AZ54: =AY54*AO54 -> 44953.5 | BA54: =$BA$16*AY54*AP54 -> 0 | BB54: =AY54*AQ54 -> 1759.05 | BC54: =AY54*$BC$16*AO54 -> 1123.8375 | BD54: =AZ54+BA54+BB54+BC54 -> 47836.388
B55: Speciālists, kurš nodrošina palīdzību 24/7 | G55: 1 | H55: 8 | I55: 8 | J55: =IF(H55="",0,IF((I55-H55<=0),(24-H55+I55),(I55-H55))) -> 24 | K55: 8 | L55: 8 | M55: 8 | N55: =IF(L55="",0,IF((M55-L55<=0),(24-L55+M55),(M55-L55))) -> 24 | O55: 8 | P55: 8 | Q55: 8 | R55: =IF(P55="",0,IF((Q55-P55<=0),(24-P55+Q55),(Q55-P55))) -> 24 | S55: 8 | T55: 8 | U55: 8 | V55: =IF(T55="",0,IF((U55-T55<=0),(24-T55+U55),(U55-T55))) -> 24 | W55: 8 | X55: 8 | Y55: 8 | Z55: =IF(X55="",0,IF((Y55-X55<=0),(24-X55+Y55),(Y55-X55))) -> 24 | AA55: 8 | AB55: 8 | AC55: 8 | AD55: =IF(AB55="",0,IF((AC55-AB55<=0),(24-AB55+AC55),(AC55-AB55))) -> 24 | AE55: 8 | AF55: 8 | AG55: 8 | AH55: =IF(AF55="",0,IF((AG55-AF55<=0),(24-AF55+AG55),(AG55-AF55))) -> 24 | AI55: 8 | AJ55: 8 | AK55: 8 | AL55: =IF(AJ55="",0,IF((AK55-AJ55<=0),(24-AJ55+AK55),(AK55-AJ55))) -> 24 | AM55: 8 | AN55: =J55+N55+R55+V55+Z55+AD55+AH55+AL55 -> 192 | AO55: =IF(AN55=0,0,((J55*$C$123)+($D$123*N55)+(R55*$E$123)+(V55*$F$123)+($G$123*Z55)+(AD55*$H$124)+($I$125*AH55)+(AL55*$J$126)*G55)) -> 8736 | AP55: =IF(AN55=0,0,((K55*$C$123)+($D$123*O55)+(S55*$E$123)+(W55*$F$123)+($G$123*AA55)+(AE55*$H$124)+($I$125*AI55)+(AM55*$J$126)*G55)) -> 2912 | AQ55: =AL55*$J$126*G55 -> 432 | AR55: =AO55/$L$122 -> 4.3592814 | AS55: =AR55*0.09091 -> 0.39630228 | AT55: =AS55+AR55 -> 4.7555837 | AX55: =$BG$16 -> 1303 | AY55: =AX55/160 -> 8.14375 | AZ55: =AY55*AO55 -> 71143.8 | BA55: =$BA$16*AY55*AP55 -> 11857.3 | BB55: =AY55*AQ55 -> 3518.1 | BC55: =AY55*$BC$16*AO55 -> 1778.595 | BD55: =AZ55+BA55+BB55+BC55 -> 88297.795
B56: Neatliekamā 24/7 (ar kabineta maksājumu | G56: 1 | H56: 8 | I56: 8 | J56: =IF(H56="",0,IF((I56-H56<=0),(24-H56+I56),(I56-H56))) -> 24 | K56: 8 | L56: 8 | M56: 8 | N56: =IF(L56="",0,IF((M56-L56<=0),(24-L56+M56),(M56-L56))) -> 24 | O56: 8 | P56: 8 | Q56: 8 | R56: =IF(P56="",0,IF((Q56-P56<=0),(24-P56+Q56),(Q56-P56))) -> 24 | S56: 8 | T56: 8 | U56: 8 | V56: =IF(T56="",0,IF((U56-T56<=0),(24-T56+U56),(U56-T56))) -> 24 | W56: 8 | X56: 8 | Y56: 8 | Z56: =IF(X56="",0,IF((Y56-X56<=0),(24-X56+Y56),(Y56-X56))) -> 24 | AA56: 8 | AB56: 8 | AC56: 8 | AD56: =IF(AB56="",0,IF((AC56-AB56<=0),(24-AB56+AC56),(AC56-AB56))) -> 24 | AE56: 8 | AF56: 8 | AG56: 8 | AH56: =IF(AF56="",0,IF((AG56-AF56<=0),(24-AF56+AG56),(AG56-AF56))) -> 24 | AI56: 8 | AJ56: 8 | AK56: 8 | AL56: =IF(AJ56="",0,IF((AK56-AJ56<=0),(24-AJ56+AK56),(AK56-AJ56))) -> 24 | AM56: 8 | AN56: =J56+N56+R56+V56+Z56+AD56+AH56+AL56 -> 192 | AO56: =IF(AN56=0,0,((J56*$C$123)+($D$123*N56)+(R56*$E$123)+(V56*$F$123)+($G$123*Z56)+(AD56*$H$124)+($I$125*AH56)+(AL56*$J$126)*G56)) -> 8736 | AP56: =IF(AN56=0,0,((K56*$C$123)+($D$123*O56)+(S56*$E$123)+(W56*$F$123)+($G$123*AA56)+(AE56*$H$124)+($I$125*AI56)+(AM56*$J$126)*G56)) -> 2912 | AQ56: =AL56*$J$126*G56 -> 432 | AR56: =AO56/$L$122 -> 4.3592814 | AS56: =AR56*0.09091 -> 0.39630228 | AT56: =AS56+AR56 -> 4.7555837 | AX56: =$BG$16 -> 1303 | AY56: =AX56/160 -> 8.14375 | AZ56: =AY56*AO56 -> 71143.8 | BA56: =$BA$16*AY56*AP56 -> 11857.3 | BB56: =AY56*AQ56 -> 3518.1 | BC56: =AY56*$BC$16*AO56 -> 1778.595 | BD56: =AZ56+BA56+BB56+BC56 -> 88297.795
A60: MĀSAS PALĪGI | B60: Dežūrārsts (8.00-16.00) darba dienas | G60: 1 | H60: 8 | I60: 16 | J60: =IF(H60="",0,IF((I60-H60<=0),(24-H60+I60),(I60-H60))) -> 8 | L60: 8 | M60: 16 | N60: =IF(L60="",0,IF((M60-L60<=0),(24-L60+M60),(M60-L60))) -> 8 | P60: 8 | Q60: 16 | R60: =IF(P60="",0,IF((Q60-P60<=0),(24-P60+Q60),(Q60-P60))) -> 8 | T60: 8 | U60: 16 | V60: =IF(T60="",0,IF((U60-T60<=0),(24-T60+U60),(U60-T60))) -> 8 | X60: 8 | Y60: 16 | Z60: =IF(X60="",0,IF((Y60-X60<=0),(24-X60+Y60),(Y60-X60))) -> 8 | AD60: =IF(AB60="",0,IF((AC60-AB60<=0),(24-AB60+AC60),(AC60-AB60))) -> 0 | AH60: =IF(AF60="",0,IF((AG60-AF60<=0),(24-AF60+AG60),(AG60-AF60))) -> 0 | AJ60: 8 | AK60: 16 | AL60: =IF(AJ60="",0,IF((AK60-AJ60<=0),(24-AJ60+AK60),(AK60-AJ60))) -> 8 | AN60: =J60+N60+R60+V60+Z60+AD60+AH60+AL60 -> 48 | AO60: =IF(AN60=0,0,((J60*$C$123)+($D$123*N60)+(R60*$E$123)+(V60*$F$123)+($G$123*Z60)+(AD60*$H$124)+($I$125*AH60)+(AL60*$J$126)*G60)) -> 2144 | AP60: =IF(AN60=0,0,((K60*$C$123)+($D$123*O60)+(S60*$E$123)+(W60*$F$123)+($G$123*AA60)+(AE60*$H$124)+($I$125*AI60)+(AM60*$J$126)*G60)) -> 0 | AQ60: =AL60*$J$126*G60 -> 144 | AR60: =AO60/$L$122 -> 1.0698603 | AS60: =AR60*0.09091 -> 0.097260998 | AT60: =AS60+AR60 -> 1.1671213 | AW60: Jāizlemj - vai liekam 24h tiešo posteni, vai 8h tiešais un pēc tam mājas dežūras | AX60: =$BG$17 -> 865 | AY60: =AX60/160 -> 5.40625 | AZ60: =AY60*AO60 -> 11591 | BA60: =$BA$16*AY60*AP60 -> 0 | BB60: =AY60*AQ60 -> 778.5 | BC60: =AY60*$BC$16*AO60 -> 289.775 | BD60: =AZ60+BA60+BB60+BC60 -> 12659.275
B61: Dežūrārsts (16.00-8.00) katru dienu | G61: 1 | H61: 16 | I61: 8 | J61: =IF(H61="",0,IF((I61-H61<=0),(24-H61+I61),(I61-H61))) -> 16 | K61: 8 | L61: 16 | M61: 8 | N61: =IF(L61="",0,IF((M61-L61<=0),(24-L61+M61),(M61-L61))) -> 16 | O61: 8 | P61: 16 | Q61: 8 | R61: =IF(P61="",0,IF((Q61-P61<=0),(24-P61+Q61),(Q61-P61))) -> 16 | S61: 8 | T61: 16 | U61: 8 | V61: =IF(T61="",0,IF((U61-T61<=0),(24-T61+U61),(U61-T61))) -> 16 | W61: 8 | X61: 16 | Y61: 8 | Z61: =IF(X61="",0,IF((Y61-X61<=0),(24-X61+Y61),(Y61-X61))) -> 16 | AA61: 8 | AB61: 16 | AC61: 8 | AD61: =IF(AB61="",0,IF((AC61-AB61<=0),(24-AB61+AC61),(AC61-AB61))) -> 16 | AE61: 8 | AF61: 16 | AG61: 8 | AH61: =IF(AF61="",0,IF((AG61-AF61<=0),(24-AF61+AG61),(AG61-AF61))) -> 16 | AI61: 8 | AJ61: 16 | AK61: 8 | AL61: =IF(AJ61="",0,IF((AK61-AJ61<=0),(24-AJ61+AK61),(AK61-AJ61))) -> 16 | AM61: 8 | AN61: =J61+N61+R61+V61+Z61+AD61+AH61+AL61 -> 128 | AO61: =IF(AN61=0,0,((J61*$C$123)+($D$123*N61)+(R61*$E$123)+(V61*$F$123)+($G$123*Z61)+(AD61*$H$124)+($I$125*AH61)+(AL61*$J$126)*G61)) -> 5824 | AP61: =IF(AN61=0,0,((K61*$C$123)+($D$123*O61)+(S61*$E$123)+(W61*$F$123)+($G$123*AA61)+(AE61*$H$124)+($I$125*AI61)+(AM61*$J$126)*G61)) -> 2912 | AQ61: =AL61*$J$126*G61 -> 288 | AR61: =AO61/$L$122 -> 2.9061876 | AS61: =AR61*0.09091 -> 0.26420152 | AT61: =AS61+AR61 -> 3.1703891 | AW61: Jāizlemj - vai liekam 24h tiešo posteni, vai 8h tiešais un pēc tam mājas dežūras | AX61: =$BG$17 -> 865 | AY61: =AX61/160 -> 5.40625 | AZ61: =AY61*AO61 -> 31486 | BA61: =$BA$16*AY61*AP61 -> 7871.5 | BB61: =AY61*AQ61 -> 1557 | BC61: =AY61*$BC$16*AO61 -> 787.15 | BD61: =AZ61+BA61+BB61+BC61 -> 41701.65
B62: Dežūrārsts 9.00-21.00 (12h) darba dienas | G62: 1 | H62: 9 | I62: 21 | J62: =IF(H62="",0,IF((I62-H62<=0),(24-H62+I62),(I62-H62))) -> 12 | K62: 0 | L62: 9 | M62: 21 | N62: =IF(L62="",0,IF((M62-L62<=0),(24-L62+M62),(M62-L62))) -> 12 | O62: 0 | P62: 9 | Q62: 21 | R62: =IF(P62="",0,IF((Q62-P62<=0),(24-P62+Q62),(Q62-P62))) -> 12 | S62: 0 | T62: 9 | U62: 21 | V62: =IF(T62="",0,IF((U62-T62<=0),(24-T62+U62),(U62-T62))) -> 12 | W62: 0 | X62: 9 | Y62: 21 | Z62: =IF(X62="",0,IF((Y62-X62<=0),(24-X62+Y62),(Y62-X62))) -> 12 | AA62: 0 | AB62: 0 | AC62: 0 | AD62: =IF(AB62="",0,IF((AC62-AB62<=0),(24-AB62+AC62),(AC62-AB62))) -> 24 | AE62: 0 | AF62: 0 | AG62: 0 | AH62: =IF(AF62="",0,IF((AG62-AF62<=0),(24-AF62+AG62),(AG62-AF62))) -> 24 | AI62: 0 | AJ62: 9 | AK62: 21 | AL62: =IF(AJ62="",0,IF((AK62-AJ62<=0),(24-AJ62+AK62),(AK62-AJ62))) -> 12 | AM62: 0 | AN62: =J62+N62+R62+V62+Z62+AD62+AH62+AL62 -> 120 | AO62: =IF(AN62=0,0,((J62*$C$123)+($D$123*N62)+(R62*$E$123)+(V62*$F$123)+($G$123*Z62)+(AD62*$H$124)+($I$125*AH62)+(AL62*$J$126)*G62)) -> 5520 | AP62: =IF(AN62=0,0,((K62*$C$123)+($D$123*O62)+(S62*$E$123)+(W62*$F$123)+($G$123*AA62)+(AE62*$H$124)+($I$125*AI62)+(AM62*$J$126)*G62)) -> 0 | AQ62: =AL62*$J$126*G62 -> 216 | AR62: =AO62/$L$122 -> 2.754491 | AS62: =AR62*0.09091 -> 0.25041078 | AT62: =AS62+AR62 -> 3.0049018 | AX62: =$BG$17 -> 865 | AY62: =AX62/160 -> 5.40625 | AZ62: =AY62*AO62 -> 29842.5 | BA62: =$BA$16*AY62*AP62 -> 0 | BB62: =AY62*AQ62 -> 1167.75 | BC62: =AY62*$BC$16*AO62 -> 746.0625 | BD62: =AZ62+BA62+BB62+BC62 -> 31756.312
B63: Speciālists, kurš nodrošina palīdzību 24/7 | G63: 1 | H63: 8 | I63: 8 | J63: =IF(H63="",0,IF((I63-H63<=0),(24-H63+I63),(I63-H63))) -> 24 | K63: 8 | L63: 8 | M63: 8 | N63: =IF(L63="",0,IF((M63-L63<=0),(24-L63+M63),(M63-L63))) -> 24 | O63: 8 | P63: 8 | Q63: 8 | R63: =IF(P63="",0,IF((Q63-P63<=0),(24-P63+Q63),(Q63-P63))) -> 24 | S63: 8 | T63: 8 | U63: 8 | V63: =IF(T63="",0,IF((U63-T63<=0),(24-T63+U63),(U63-T63))) -> 24 | W63: 8 | X63: 8 | Y63: 8 | Z63: =IF(X63="",0,IF((Y63-X63<=0),(24-X63+Y63),(Y63-X63))) -> 24 | AA63: 8 | AB63: 8 | AC63: 8 | AD63: =IF(AB63="",0,IF((AC63-AB63<=0),(24-AB63+AC63),(AC63-AB63))) -> 24 | AE63: 8 | AF63: 8 | AG63: 8 | AH63: =IF(AF63="",0,IF((AG63-AF63<=0),(24-AF63+AG63),(AG63-AF63))) -> 24 | AI63: 8 | AJ63: 8 | AK63: 8 | AL63: =IF(AJ63="",0,IF((AK63-AJ63<=0),(24-AJ63+AK63),(AK63-AJ63))) -> 24 | AM63: 8 | AN63: =J63+N63+R63+V63+Z63+AD63+AH63+AL63 -> 192 | AO63: =IF(AN63=0,0,((J63*$C$123)+($D$123*N63)+(R63*$E$123)+(V63*$F$123)+($G$123*Z63)+(AD63*$H$124)+($I$125*AH63)+(AL63*$J$126)*G63)) -> 8736 | AP63: =IF(AN63=0,0,((K63*$C$123)+($D$123*O63)+(S63*$E$123)+(W63*$F$123)+($G$123*AA63)+(AE63*$H$124)+($I$125*AI63)+(AM63*$J$126)*G63)) -> 2912 | AQ63: =AL63*$J$126*G63 -> 432 | AR63: =AO63/$L$122 -> 4.3592814 | AS63: =AR63*0.09091 -> 0.39630228 | AT63: =AS63+AR63 -> 4.7555837 | AX63: =$BG$17 -> 865 | AY63: =AX63/160 -> 5.40625 | AZ63: =AY63*AO63 -> 47229 | BA63: =$BA$16*AY63*AP63 -> 7871.5 | BB63: =AY63*AQ63 -> 2335.5 | BC63: =AY63*$BC$16*AO63 -> 1180.725 | BD63: =AZ63+BA63+BB63+BC63 -> 58616.725
B64: Neatliekamā 24/7 (ar kabineta maksājumu | G64: 1 | H64: 8 | I64: 8 | J64: =IF(H64="",0,IF((I64-H64<=0),(24-H64+I64),(I64-H64))) -> 24 | K64: 8 | L64: 8 | M64: 8 | N64: =IF(L64="",0,IF((M64-L64<=0),(24-L64+M64),(M64-L64))) -> 24 | O64: 8 | P64: 8 | Q64: 8 | R64: =IF(P64="",0,IF((Q64-P64<=0),(24-P64+Q64),(Q64-P64))) -> 24 | S64: 8 | T64: 8 | U64: 8 | V64: =IF(T64="",0,IF((U64-T64<=0),(24-T64+U64),(U64-T64))) -> 24 | W64: 8 | X64: 8 | Y64: 8 | Z64: =IF(X64="",0,IF((Y64-X64<=0),(24-X64+Y64),(Y64-X64))) -> 24 | AA64: 8 | AB64: 8 | AC64: 8 | AD64: =IF(AB64="",0,IF((AC64-AB64<=0),(24-AB64+AC64),(AC64-AB64))) -> 24 | AE64: 8 | AF64: 8 | AG64: 8 | AH64: =IF(AF64="",0,IF((AG64-AF64<=0),(24-AF64+AG64),(AG64-AF64))) -> 24 | AI64: 8 | AJ64: 8 | AK64: 8 | AL64: =IF(AJ64="",0,IF((AK64-AJ64<=0),(24-AJ64+AK64),(AK64-AJ64))) -> 24 | AM64: 8 | AN64: =J64+N64+R64+V64+Z64+AD64+AH64+AL64 -> 192 | AO64: =IF(AN64=0,0,((J64*$C$123)+($D$123*N64)+(R64*$E$123)+(V64*$F$123)+($G$123*Z64)+(AD64*$H$124)+($I$125*AH64)+(AL64*$J$126)*G64)) -> 8736 | AP64: =IF(AN64=0,0,((K64*$C$123)+($D$123*O64)+(S64*$E$123)+(W64*$F$123)+($G$123*AA64)+(AE64*$H$124)+($I$125*AI64)+(AM64*$J$126)*G64)) -> 2912 | AQ64: =AL64*$J$126*G64 -> 432 | AR64: =AO64/$L$122 -> 4.3592814 | AS64: =AR64*0.09091 -> 0.39630228 | AT64: =AS64+AR64 -> 4.7555837 | AX64: =$BG$17 -> 865 | AY64: =AX64/160 -> 5.40625 | AZ64: =AY64*AO64 -> 47229 | BA64: =$BA$16*AY64*AP64 -> 7871.5 | BB64: =AY64*AQ64 -> 2335.5 | BC64: =AY64*$BC$16*AO64 -> 1180.725 | BD64: =AZ64+BA64+BB64+BC64 -> 58616.725
B67: 2023. gada darba dienu kalendārs
B68: Nedēļas diena / Mēnesis | C68: P | D68: O | E68: T | F68: C | G68: P | H68: S | I68: Sv | J68: KOPĀ dienas | K68: Darba dienas | L68: Darba stundas | M68: Svētku dienas | N68: Pārceltā brīvdiena
B69: Janvāris | I69: 1 | K69: 22 | L69: 176 | M69: 1
C70: =I69+1 -> 2 | D70: =C70+1 -> 3 | E70: =D70+1 -> 4 | F70: =E70+1 -> 5 | G70: =F70+1 -> 6 | H70: =G70+1 -> 7 | I70: =H70+1 -> 8
C71: =I70+1 -> 9 | D71: =C71+1 -> 10 | E71: =D71+1 -> 11 | F71: =E71+1 -> 12 | G71: =F71+1 -> 13 | H71: =G71+1 -> 14 | I71: =H71+1 -> 15
C72: =I71+1 -> 16 | D72: =C72+1 -> 17 | E72: =D72+1 -> 18 | F72: =E72+1 -> 19 | G72: =F72+1 -> 20 | H72: =G72+1 -> 21 | I72: =H72+1 -> 22
C73: =I72+1 -> 23 | D73: =C73+1 -> 24 | E73: =D73+1 -> 25 | F73: =E73+1 -> 26 | G73: =F73+1 -> 27 | H73: =G73+1 -> 28 | I73: =H73+1 -> 29
B74: Februāris | C74: =I73+1 -> 30 | D74: =C74+1 -> 31 | E74: 1 | F74: =E74+1 -> 2 | G74: =F74+1 -> 3 | H74: =G74+1 -> 4 | I74: =H74+1 -> 5 | K74: 20 | L74: 160
C75: =I74+1 -> 6 | D75: =C75+1 -> 7 | E75: =D75+1 -> 8 | F75: =E75+1 -> 9 | G75: =F75+1 -> 10 | H75: =G75+1 -> 11 | I75: =H75+1 -> 12
C76: =I75+1 -> 13 | D76: =C76+1 -> 14 | E76: =D76+1 -> 15 | F76: =E76+1 -> 16 | G76: =F76+1 -> 17 | H76: =G76+1 -> 18 | I76: =H76+1 -> 19
C77: =I76+1 -> 20 | D77: =C77+1 -> 21 | E77: =D77+1 -> 22 | F77: =E77+1 -> 23 | G77: =F77+1 -> 24 | H77: =G77+1 -> 25 | I77: =H77+1 -> 26
B78: Marts | C78: =I77+1 -> 27 | D78: =C78+1 -> 28 | E78: 1 | F78: =E78+1 -> 2 | G78: =F78+1 -> 3 | H78: =G78+1 -> 4 | I78: =H78+1 -> 5 | K78: 23 | L78: 184
C79: =I78+1 -> 6 | D79: =C79+1 -> 7 | E79: =D79+1 -> 8 | F79: =E79+1 -> 9 | G79: =F79+1 -> 10 | H79: =G79+1 -> 11 | I79: =H79+1 -> 12
C80: =I79+1 -> 13 | D80: =C80+1 -> 14 | E80: =D80+1 -> 15 | F80: =E80+1 -> 16 | G80: =F80+1 -> 17 | H80: =G80+1 -> 18 | I80: =H80+1 -> 19
C81: =I80+1 -> 20 | D81: =C81+1 -> 21 | E81: =D81+1 -> 22 | F81: =E81+1 -> 23 | G81: =F81+1 -> 24 | H81: =G81+1 -> 25 | I81: =H81+1 -> 26
B82: Aprīlis | C82: =I81+1 -> 27 | D82: =C82+1 -> 28 | E82: =D82+1 -> 29 | F82: =E82+1 -> 30 | G82: =F82+1 -> 31 | H82: 1 | I82: =H82+1 -> 2
C83: =I82+1 -> 3 | D83: =C83+1 -> 4 | E83: =D83+1 -> 5 | F83: =E83+1 -> 6 | G83: =F83+1 -> 7 | H83: =G83+1 -> 8 | I83: =H83+1 -> 9 | K83: 18 | L83: 143 | M83: 3
C84: =I83+1 -> 10 | D84: =C84+1 -> 11 | E84: =D84+1 -> 12 | F84: =E84+1 -> 13 | G84: =F84+1 -> 14 | H84: =G84+1 -> 15 | I84: =H84+1 -> 16
C85: =I84+1 -> 17 | D85: =C85+1 -> 18 | E85: =D85+1 -> 19 | F85: =E85+1 -> 20 | G85: =F85+1 -> 21 | H85: =G85+1 -> 22 | I85: =H85+1 -> 23
C86: =I85+1 -> 24 | D86: =C86+1 -> 25 | E86: =D86+1 -> 26 | F86: =E86+1 -> 27 | G86: =F86+1 -> 28 | H86: =G86+1 -> 29 | I86: =H86+1 -> 30
B87: Maijs | C87: 1 | D87: =C87+1 -> 2 | E87: =D87+1 -> 3 | F87: =E87+1 -> 4 | G87: =F87+1 -> 5 | H87: =G87+1 -> 6 | I87: =H87+1 -> 7 | K87: 21 | L87: 167 | M87: 4 | N87: 1
C88: =I87+1 -> 8 | D88: =C88+1 -> 9 | E88: =D88+1 -> 10 | F88: =E88+1 -> 11 | G88: =F88+1 -> 12 | H88: =G88+1 -> 13 | I88: =H88+1 -> 14
C89: =I88+1 -> 15 | D89: =C89+1 -> 16 | E89: =D89+1 -> 17 | F89: =E89+1 -> 18 | G89: =F89+1 -> 19 | H89: =G89+1 -> 20 | I89: =H89+1 -> 21
C90: =I89+1 -> 22 | D90: =C90+1 -> 23 | E90: =D90+1 -> 24 | F90: =E90+1 -> 25 | G90: =F90+1 -> 26 | H90: =G90+1 -> 27 | I90: =H90+1 -> 28
B91: Jūnijs | C91: =I90+1 -> 29 | D91: =C91+1 -> 30 | E91: =D91+1 -> 31 | F91: 1 | G91: =F91+1 -> 2 | H91: =G91+1 -> 3 | I91: =H91+1 -> 4 | K91: 21 | L91: 167 | M91: 2
C92: =I91+1 -> 5 | D92: =C92+1 -> 6 | E92: =D92+1 -> 7 | F92: =E92+1 -> 8 | G92: =F92+1 -> 9 | H92: =G92+1 -> 10 | I92: =H92+1 -> 11
C93: =I92+1 -> 12 | D93: =C93+1 -> 13 | E93: =D93+1 -> 14 | F93: =E93+1 -> 15 | G93: =F93+1 -> 16 | H93: =G93+1 -> 17 | I93: =H93+1 -> 18
C94: =I93+1 -> 19 | D94: =C94+1 -> 20 | E94: =D94+1 -> 21 | F94: =E94+1 -> 22 | G94: =F94+1 -> 23 | H94: =G94+1 -> 24 | I94: =H94+1 -> 25
B95: Jūlijs | C95: =I94+1 -> 26 | D95: =C95+1 -> 27 | E95: =D95+1 -> 28 | F95: =E95+1 -> 29 | G95: =F95+1 -> 30 | H95: 1 | I95: =H95+1 -> 2 | K95: 20 | L95: 160 | M95: 2
C96: =I95+1 -> 3 | D96: =C96+1 -> 4 | E96: =D96+1 -> 5 | F96: =E96+1 -> 6 | G96: =F96+1 -> 7 | H96: =G96+1 -> 8 | I96: =H96+1 -> 9
C97: =I96+1 -> 10 | D97: =C97+1 -> 11 | E97: =D97+1 -> 12 | F97: =E97+1 -> 13 | G97: =F97+1 -> 14 | H97: =G97+1 -> 15 | I97: =H97+1 -> 16
C98: =I97+1 -> 17 | D98: =C98+1 -> 18 | E98: =D98+1 -> 19 | F98: =E98+1 -> 20 | G98: =F98+1 -> 21 | H98: =G98+1 -> 22 | I98: =H98+1 -> 23
C99: =I98+1 -> 24 | D99: =C99+1 -> 25 | E99: =D99+1 -> 26 | F99: =E99+1 -> 27 | G99: =F99+1 -> 28 | H99: =G99+1 -> 29 | I99: =H99+1 -> 30
B100: Augusts | C100: =I99+1 -> 31 | D100: 1 | E100: =D100+1 -> 2 | F100: =E100+1 -> 3 | G100: =F100+1 -> 4 | H100: =G100+1 -> 5 | I100: =H100+1 -> 6 | K100: 23 | L100: 184
C101: =I100+1 -> 7 | D101: =C101+1 -> 8 | E101: =D101+1 -> 9 | F101: =E101+1 -> 10 | G101: =F101+1 -> 11 | H101: =G101+1 -> 12 | I101: =H101+1 -> 13
C102: =I101+1 -> 14 | D102: =C102+1 -> 15 | E102: =D102+1 -> 16 | F102: =E102+1 -> 17 | G102: =F102+1 -> 18 | H102: =G102+1 -> 19 | I102: =H102+1 -> 20
C103: =I102+1 -> 21 | D103: =C103+1 -> 22 | E103: =D103+1 -> 23 | F103: =E103+1 -> 24 | G103: =F103+1 -> 25 | H103: =G103+1 -> 26 | I103: =H103+1 -> 27
B104: Septembris | C104: =I103+1 -> 28 | D104: =C104+1 -> 29 | E104: =D104+1 -> 30 | F104: =E104+1 -> 31 | G104: 1 | H104: =G104+1 -> 2 | I104: =H104+1 -> 3 | K104: 21 | L104: 168
C105: =I104+1 -> 4 | D105: =C105+1 -> 5 | E105: =D105+1 -> 6 | F105: =E105+1 -> 7 | G105: =F105+1 -> 8 | H105: =G105+1 -> 9 | I105: =H105+1 -> 10
C106: =I105+1 -> 11 | D106: =C106+1 -> 12 | E106: =D106+1 -> 13 | F106: =E106+1 -> 14 | G106: =F106+1 -> 15 | H106: =G106+1 -> 16 | I106: =H106+1 -> 17
C107: =I106+1 -> 18 | D107: =C107+1 -> 19 | E107: =D107+1 -> 20 | F107: =E107+1 -> 21 | G107: =F107+1 -> 22 | H107: =G107+1 -> 23 | I107: =H107+1 -> 24
B108: Oktobris | C108: =I107+1 -> 25 | D108: =C108+1 -> 26 | E108: =D108+1 -> 27 | F108: =E108+1 -> 28 | G108: =F108+1 -> 29 | H108: =G108+1 -> 30 | I108: 1 | K108: 22 | L108: 176
C109: =I108+1 -> 2 | D109: =C109+1 -> 3 | E109: =D109+1 -> 4 | F109: =E109+1 -> 5 | G109: =F109+1 -> 6 | H109: =G109+1 -> 7 | I109: =H109+1 -> 8
C110: =I109+1 -> 9 | D110: =C110+1 -> 10 | E110: =D110+1 -> 11 | F110: =E110+1 -> 12 | G110: =F110+1 -> 13 | H110: =G110+1 -> 14 | I110: =H110+1 -> 15
C111: =I110+1 -> 16 | D111: =C111+1 -> 17 | E111: =D111+1 -> 18 | F111: =E111+1 -> 19 | G111: =F111+1 -> 20 | H111: =G111+1 -> 21 | I111: =H111+1 -> 22
C112: =I111+1 -> 23 | D112: =C112+1 -> 24 | E112: =D112+1 -> 25 | F112: =E112+1 -> 26 | G112: =F112+1 -> 27 | H112: =G112+1 -> 28 | I112: =H112+1 -> 29
B113: Novembris | C113: =I112+1 -> 30 | D113: =C113+1 -> 31 | E113: 1 | F113: =E113+1 -> 2 | G113: =F113+1 -> 3 | H113: =G113+1 -> 4 | I113: =H113+1 -> 5 | K113: 21 | L113: 167 | M113: 2
C114: =I113+1 -> 6 | D114: =C114+1 -> 7 | E114: =D114+1 -> 8 | F114: =E114+1 -> 9 | G114: =F114+1 -> 10 | H114: =G114+1 -> 11 | I114: =H114+1 -> 12
C115: =I114+1 -> 13 | D115: =C115+1 -> 14 | E115: =D115+1 -> 15 | F115: =E115+1 -> 16 | G115: =F115+1 -> 17 | H115: =G115+1 -> 18 | I115: =H115+1 -> 19
...

Sheet 2023 observācija
J1: 5.4. pielikums
A2: Piemaksas par pacientu observāciju 24 stundas gada apjoms, no 01.04.2023.
A3: Saskaņā ar MK noteikumiem Nr. 555 "Veselības aprūpes pakalpojumu organizēšanas un samaksas kārtība" veselības aprūpes pakalpojumu tarifus aprēķina, izmantojot šādu formulu: TC = VC (D + S + M + E) + FC (U + A + N), kur TC – veselības aprūpes pakalpojuma tarifs; VC – mainīgās izmaksas (tiešās izmaksas): D – darba samaksa; S – valsts sociālās apdrošināšanas obligātās iemaksas; M – ārstniecības līdzekļi; E – izdevumi, saistīti ar pacientu ēdināšanu; FC – pastāvīgās izmaksas (netiešās izmaksas): U – pieskaitāmās un netiešās ražošanas izmaksas (ar pacientu uzturēšanu saistītie izdevumi pakalpojumu apmaksai, riska maksājuma veikšanai, materiālu, energoresursu, ūdens un inventāra iegādei); A – administratīvie izdevumi; N – nolietojums.
A4: Nosaukums | B4: Darba samaksa | C4: Valsts sociālās apdrošināšanas obligātās iemaksas | D4: Ārstniecības līdzekļi | E4: Izdevumi, saistīti ar pacientu ēdināšanu | F4: Pieskaitāmās un netiešās ražošanas izmaksas | G4: Administratīvie izdevumi | H4: Nolietojums | I4: Papildu finansējums pieskaitāmo izmaksu segšanai | J4: Kopā, EUR
B5: D | C5: S | D5: M | E5: E | F5: U | G5: A | H5: N | I5: u`
A6: 1 | B6: 2 | C6: 3 | D6: 4 | E6: 5 | F6: 6 | G6: 7 | H6: 8 | I6: 9 | J6: 10
A7: Valsts sabiedrība ar ierobežotu atbildību "Paula Stradiņa klīniskā universitātes slimnīca" | B7: 484989 | C7: 114404 | D7: 9249 | E7: 16038 | F7: 94303 | G7: 15343 | H7: 11708 | I7: 10692 | J7: 756726
A8: Sabiedrība ar ierobežotu atbildību "Rīgas Austrumu klīniskā universitātes slimnīca" | B8: 1292941 | C8: 304993 | D8: 24656 | E8: 42756 | F8: 251405 | G8: 40903 | H8: 31212 | I8: 28504 | J8: 2017370
A9: Valsts sabiedrība ar ierobežotu atbildību "Bērnu klīniskā universitātes slimnīca" | B9: 1662951 | C9: 392279 | D9: 162461 | E9: 31772 | F9: 323122 | G9: 52742 | H9: 40139 | I9: 21181 | J9: 2686647
A10: Sabiedrība ar ierobežotu atbildību "Liepājas reģionālā slimnīca" | B10: 99247 | C10: 23406 | D10: 2092 | E10: 3627 | F10: 19284 | G10: 3143 | H10: 2394 | I10: 2418 | J10: 155611
A11: Sabiedrība ar ierobežotu atbildību "Daugavpils reģionālā slimnīca" | B11: 247666 | C11: 58409 | D11: 5219 | E11: 9051 | F11: 48121 | G11: 7844 | H11: 5974 | I11: 6034 | J11: 388318
A12: Sabiedrība ar ierobežotu atbildību "Ziemeļkurzemes reģionālā slimnīca" | B12: 96456 | C12: 22748 | D12: 2033 | E12: 3525 | F12: 18741 | G12: 3055 | H12: 2327 | I12: 2350 | J12: 151235
A13: Sabiedrība ar ierobežotu atbildību "Jelgavas pilsētas slimnīca" | B13: 114269 | C13: 26949 | D13: 2408 | E13: 4176 | F13: 22202 | G13: 3619 | H13: 2756 | I13: 2784 | J13: 179163
A14: Sabiedrība ar ierobežotu atbildību "Vidzemes slimnīca" | B14: 97441 | C14: 22980 | D14: 2054 | E14: 3561 | F14: 18933 | G14: 3086 | H14: 2350 | I14: 2374 | J14: 152779
A15: Sabiedrība ar ierobežotu atbildību "Jēkabpils reģionālā slimnīca" | B15: 106389 | C15: 25091 | D15: 2242 | E15: 3888 | F15: 20671 | G15: 3370 | H15: 2566 | I15: 2592 | J15: 166809
A16: Pašvaldības sabiedrība ar ierobežotu atbildību "Rēzeknes slimnīca" | B16: 87180 | C16: 20560 | D16: 1837 | E16: 3186 | F16: 16939 | G16: 2761 | H16: 2103 | I16: 2124 | J16: 136690
A17: Madonas novada pašvaldības sabiedrība ar ierobežotu atbildību "Madonas slimnīca" | B17: 38418 | C17: 9060 | D17: 810 | E17: 1404 | F17: 7465 | G17: 1217 | H17: 927 | I17: 936 | J17: 60237
A18: Sabiedrība ar ierobežotu atbildību "Cēsu klīnika" | B18: 45150 | C18: 10648 | D18: 952 | E18: 1650 | F18: 8773 | G18: 1430 | H18: 1089 | I18: 1100 | J18: 70792
... A33: Kopā | B33: 4748867 | C33: 1120151 | D33: 224105 | E33: 139859 | F33: 919850 | G33: 149906 | H33: 114217 | I33: 93239 | J33: 7510194

Sheet 2023 aprēķins
L1: 5.5. pielikums
A2: Piemaksas par pacientu observāciju 24 stundas gada apjoms
D3: D | E3: S | F3: M | G3: E | H3: U | I3: A | J3: N | K3: u` (pieskaitāmās izmaksas, kas piešķirtas uz 2023. gada 1.04. komunālo maksājumu segšanai) | L3: KOPĀ, EUR
A4: 2023,g. | B4: Plānotais hospitalizāciju skaits 2012.g. | C4: reģion. gd | D4: 82.09 | E4: 19.36 | F4: 1.73 | G4: 3 | H4: 15.95 | I4: 2.6 | J4: 1.98 | K4: 2 | L4: =SUM(D4:K4) -> 128.71
C5: BKUS gd | D5: 157.02 | E5: 37.04 | F5: 15.34 | G5: 3 | H5: 30.51 | I5: 4.98 | J5: 3.79 | K5: 2 | L5: =SUM(D5:K5) -> 253.68
C6: univeer.gd | D6: 90.72 | E6: 21.4 | F6: 1.73 | G6: 3 | H6: 17.64 | I6: 2.87 | J6: 2.19 | K6: 2 | L6: =SUM(D6:K6) -> 141.55
B7: Kopā | C7: spec.nark.gd. | D7: 57.19 | E7: 13.49 | F7: 1.31 | G7: 3 | H7: 9.21 | I7: 1.5 | J7: 1.14 | K7: 2 | L7: =SUM(D7:K7) -> 88.84
A8: Valsts sabiedrība ar ierobežotu atbildību "Paula Stradiņa klīniskā universitātes slimnīca" | B8: 5346 | D8: =ROUND($B8*D$6,0) -> 484989 | E8: =ROUND($B8*E$6,0) -> 114404 | F8: =ROUND($B8*F$6,0) -> 9249 | G8: =ROUND($B8*G$6,0) -> 16038 | H8: =ROUND($B8*H$6,0) -> 94303 | I8: =ROUND($B8*I$6,0) -> 15343 | J8: =ROUND($B8*J$6,0) -> 11708 | K8: =ROUND($B8*K$6,0) -> 10692 | L8: =ROUND(SUM(D8:K8),2) -> 756726
A9: Sabiedrība ar ierobežotu atbildību "Rīgas Austrumu klīniskā universitātes slimnīca" | B9: =7986+6266 -> 14252 | D9: =ROUND($B9*D$6,0) -> 1292941 | E9: =ROUND($B9*E$6,0) -> 304993 | F9: =ROUND($B9*F$6,0) -> 24656 | G9: =ROUND($B9*G$6,0) -> 42756 | H9: =ROUND($B9*H$6,0) -> 251405 | I9: =ROUND($B9*I$6,0) -> 40903 | J9: =ROUND($B9*J$6,0) -> 31212 | K9: =ROUND($B9*K$6,0) -> 28504 | L9: =ROUND(SUM(D9:K9),2) -> 2017370
A10: Valsts sabiedrība ar ierobežotu atbildību "Bērnu klīniskā universitātes slimnīca" | B10: 10590.699 | D10: =ROUND($B10*D5,0) -> 1662951 | E10: =ROUND($B10*E5,0) -> 392279 | F10: =ROUND($B10*F5,0) -> 162461 | G10: =ROUND($B10*G5,0) -> 31772 | H10: =ROUND($B10*H5,0) -> 323122 | I10: =ROUND($B10*I5,0) -> 52742 | J10: =ROUND($B10*J5,0) -> 40139 | K10: =ROUND($B10*K5,0) -> 21181 | L10: =ROUND(SUM(D10:K10),2) -> 2686647
A11: Sabiedrība ar ierobežotu atbildību "Liepājas reģionālā slimnīca" | B11: 1209 | D11: =ROUND($B11*D$4,0) -> 99247 | E11: =ROUND($B11*E$4,0) -> 23406 | F11: =ROUND($B11*F$4,0) -> 2092 | G11: =ROUND($B11*G$4,0) -> 3627 | H11: =ROUND($B11*H$4,0) -> 19284 | I11: =ROUND($B11*I$4,0) -> 3143 | J11: =ROUND($B11*J$4,0) -> 2394 | K11: =ROUND($B11*K$4,0) -> 2418 | L11: =ROUND(SUM(D11:K11),2) -> 155611
A12: Sabiedrība ar ierobežotu atbildību "Daugavpils reģionālā slimnīca" | B12: 3017 | D12: =ROUND($B12*D$4,0) -> 247666 | E12: =ROUND($B12*E$4,0) -> 58409 | F12: =ROUND($B12*F$4,0) -> 5219 | G12: =ROUND($B12*G$4,0) -> 9051 | H12: =ROUND($B12*H$4,0) -> 48121 | I12: =ROUND($B12*I$4,0) -> 7844 | J12: =ROUND($B12*J$4,0) -> 5974 | K12: =ROUND($B12*K$4,0) -> 6034 | L12: =ROUND(SUM(D12:K12),2) -> 388318
A13: Sabiedrība ar ierobežotu atbildību "Ziemeļkurzemes reģionālā slimnīca" | B13: 1175 | D13: =ROUND($B13*D$4,0) -> 96456 | E13: =ROUND($B13*E$4,0) -> 22748 | F13: =ROUND($B13*F$4,0) -> 2033 | G13: =ROUND($B13*G$4,0) -> 3525 | H13: =ROUND($B13*H$4,0) -> 18741 | I13: =ROUND($B13*I$4,0) -> 3055 | J13: =ROUND($B13*J$4,0) -> 2327 | K13: =ROUND($B13*K$4,0) -> 2350 | L13: =ROUND(SUM(D13:K13),2) -> 151235
A14: Sabiedrība ar ierobežotu atbildību "Jelgavas pilsētas slimnīca" | B14: 1392 | D14: =ROUND($B14*D$4,0) -> 114269 | E14: =ROUND($B14*E$4,0) -> 26949 | F14: =ROUND($B14*F$4,0) -> 2408 | G14: =ROUND($B14*G$4,0) -> 4176 | H14: =ROUND($B14*H$4,0) -> 22202 | I14: =ROUND($B14*I$4,0) -> 3619 | J14: =ROUND($B14*J$4,0) -> 2756 | K14: =ROUND($B14*K$4,0) -> 2784 | L14: =ROUND(SUM(D14:K14),2) -> 179163
A15: Sabiedrība ar ierobežotu atbildību "Vidzemes slimnīca" | B15: 1187 | D15: =ROUND($B15*D$4,0) -> 97441 | E15: =ROUND($B15*E$4,0) -> 22980 | F15: =ROUND($B15*F$4,0) -> 2054 | G15: =ROUND($B15*G$4,0) -> 3561 | H15: =ROUND($B15*H$4,0) -> 18933 | I15: =ROUND($B15*I$4,0) -> 3086 | J15: =ROUND($B15*J$4,0) -> 2350 | K15: =ROUND($B15*K$4,0) -> 2374 | L15: =ROUND(SUM(D15:K15),2) -> 152779
A16: Sabiedrība ar ierobežotu atbildību "Jēkabpils reģionālā slimnīca" | B16: 1296 | D16: =ROUND($B16*D$4,0) -> 106389 | E16: =ROUND($B16*E$4,0) -> 25091 | F16: =ROUND($B16*F$4,0) -> 2242 | G16: =ROUND($B16*G$4,0) -> 3888 | H16: =ROUND($B16*H$4,0) -> 20671 | I16: =ROUND($B16*I$4,0) -> 3370 | J16: =ROUND($B16*J$4,0) -> 2566 | K16: =ROUND($B16*K$4,0) -> 2592 | L16: =ROUND(SUM(D16:K16),2) -> 166809
A17: Pašvaldības sabiedrība ar ierobežotu atbildību "Rēzeknes slimnīca" | B17: 1062 | D17: =ROUND($B17*D$4,0) -> 87180 | E17: =ROUND($B17*E$4,0) -> 20560 | F17: =ROUND($B17*F$4,0) -> 1837 | G17: =ROUND($B17*G$4,0) -> 3186 | H17: =ROUND($B17*H$4,0) -> 16939 | I17: =ROUND($B17*I$4,0) -> 2761 | J17: =ROUND($B17*J$4,0) -> 2103 | K17: =ROUND($B17*K$4,0) -> 2124 | L17: =ROUND(SUM(D17:K17),2) -> 136690
A18: Madonas novada pašvaldības sabiedrība ar ierobežotu atbildību "Madonas slimnīca" | B18: 468 | D18: =ROUND($B18*D$4,0) -> 38418 | E18: =ROUND($B18*E$4,0) -> 9060 | F18: =ROUND($B18*F$4,0) -> 810 | G18: =ROUND($B18*G$4,0) -> 1404 | H18: =ROUND($B18*H$4,0) -> 7465 | I18: =ROUND($B18*I$4,0) -> 1217 | J18: =ROUND($B18*J$4,0) -> 927 | K18: =ROUND($B18*K$4,0) -> 936 | L18: =ROUND(SUM(D18:K18),2) -> 60237
A19: Sabiedrība ar ierobežotu atbildību "Cēsu klīnika" | B19: 550 | D19: =ROUND($B19*D$4,0) -> 45150 | E19: =ROUND($B19*E$4,0) -> 10648 | F19: =ROUND($B19*F$4,0) -> 952 | G19: =ROUND($B19*G$4,0) -> 1650 | H19: =ROUND($B19*H$4,0) -> 8773 | I19: =ROUND($B19*I$4,0) -> 1430 | J19: =ROUND($B19*J$4,0) -> 1089 | K19: =ROUND($B19*K$4,0) -> 1100 | L19: =ROUND(SUM(D19:K19),2) -> 70792
A20: Sabiedrība ar ierobežotu atbildību "Dobeles un apkārtnes slimnīca" | B20: 451 | D20: =ROUND($B20*D$4,0) -> 37023 | E20: =ROUND($B20*E$4,0) -> 8731 | F20: =ROUND($B20*F$4,0) -> 780 | G20: =ROUND($B20*G$4,0) -> 1353 | H20: =ROUND($B20*H$4,0) -> 7193 | I20: =ROUND($B20*I$4,0) -> 1173 | J20: =ROUND($B20*J$4,0) -> 893 | K20: =ROUND($B20*K$4,0) -> 902 | L20: =ROUND(SUM(D20:K20),2) -> 58048
A21: Sabiedrība ar ierobežotu atbildību "Jūrmalas slimnīca" | B21: 315 | D21: =ROUND($B21*D$4,0) -> 25858 | E21: =ROUND($B21*E$4,0) -> 6098 | F21: =ROUND($B21*F$4,0) -> 545 | G21: =ROUND($B21*G$4,0) -> 945 | H21: =ROUND($B21*H$4,0) -> 5024 | I21: =ROUND($B21*I$4,0) -> 819 | J21: =ROUND($B21*J$4,0) -> 624 | K21: =ROUND($B21*K$4,0) -> 630 | L21: =ROUND(SUM(D21:K21),2) -> 40543
A22: Sabiedrība ar ierobežotu atbildību "Ogres rajona slimnīca" | B22: 533 | D22: =ROUND($B22*D$4,0) -> 43754 | E22: =ROUND($B22*E$4,0) -> 10319 | F22: =ROUND($B22*F$4,0) -> 922 | G22: =ROUND($B22*G$4,0) -> 1599 | H22: =ROUND($B22*H$4,0) -> 8501 | I22: =ROUND($B22*I$4,0) -> 1386 | J22: =ROUND($B22*J$4,0) -> 1055 | K22: =ROUND($B22*K$4,0) -> 1066 | L22: =ROUND(SUM(D22:K22),2) -> 68602
... A28: Sabiedrība ar ierobežotu atbildību "Krāslavas slimnīca" | B28: 222 | D28: =ROUND($B28*D$4,0) -> 18224 | E28: =ROUND($B28*E$4,0) -> 4298 | F28: =ROUND($B28*F$4,0) -> 384 | G28: =ROUND($B28*G$4,0) -> 666 | H28: =ROUND($B28*H$4,0) -> 3541 | I28: =ROUND($B28*I$4,0) -> 577 | J28: =ROUND($B28*J$4,0) -> 440 | K28: =ROUND($B28*K$4,0) -> 444 | L28: =ROUND(SUM(D28:K28),2) -> 28574
A29: Rīgas psihiatrijas un narkoloģijas centrs | B29: 535 | D29: =ROUND($B29*D$7,0) -> 30597 | E29: =ROUND($B29*E$7,0) -> 7217 | F29: =ROUND($B29*F$7,0) -> 701 | G29: =ROUND($B29*G$7,0) -> 1605 | H29: =ROUND($B29*H$7,0) -> 4927 | I29: =ROUND($B29*I$7,0) -> 803 | J29: =ROUND($B29*J$7,0) -> 610 | K29: =ROUND($B29*K$7,0) -> 1070 | L29: =ROUND(SUM(D29:K29),2) -> 47530
A30: Piejūras slimnīca | B30: 119 | D30: =ROUND($B30*D$7,0) -> 6806 | E30: =ROUND($B30*E$7,0) -> 1605 | F30: =ROUND($B30*F$7,0) -> 156 | G30: =ROUND($B30*G$7,0) -> 357 | H30: =ROUND($B30*H$7,0) -> 1096 | I30: =ROUND($B30*I$7,0) -> 179 | J30: =ROUND($B30*J$7,0) -> 136 | K30: =ROUND($B30*K$7,0) -> 238 | L30: =ROUND(SUM(D30:K30),2) -> 10573
A31: Daugavpils psihoneiroloģiskā slimnīca | B31: 423 | D31: =ROUND($B31*D$7,0) -> 24191 | E31: =ROUND($B31*E$7,0) -> 5706 | F31: =ROUND($B31*F$7,0) -> 554 | G31: =ROUND($B31*G$7,0) -> 1269 | H31: =ROUND($B31*H$7,0) -> 3896 | I31: =ROUND($B31*I$7,0) -> 635 | J31: =ROUND($B31*J$7,0) -> 482 | K31: =ROUND($B31*K$7,0) -> 846 | L31: =ROUND(SUM(D31:K31),2) -> 37579
A32: Slimnīca Ģintermuiža | B32: 263 | D32: =ROUND($B32*D$7,0) -> 15041 | E32: =ROUND($B32*E$7,0) -> 3548 | F32: =ROUND($B32*F$7,0) -> 345 | G32: =ROUND($B32*G$7,0) -> 789 | H32: =ROUND($B32*H$7,0) -> 2422 | I32: =ROUND($B32*I$7,0) -> 395 | J32: =ROUND($B32*J$7,0) -> 300 | K32: =ROUND($B32*K$7,0) -> 526 | L32: =ROUND(SUM(D32:K32),2) -> 23366
A33: Strenču psihoneiroloģiskā slimnīca | B33: 300 | D33: =ROUND($B33*D$7,0) -> 17157 | E33: =ROUND($B33*E$7,0) -> 4047 | F33: =ROUND($B33*F$7,0) -> 393 | G33: =ROUND($B33*G$7,0) -> 900 | H33: =ROUND($B33*H$7,0) -> 2763 | I33: =ROUND($B33*I$7,0) -> 450 | J33: =ROUND($B33*J$7,0) -> 342 | K33: =ROUND($B33*K$7,0) -> 600 | L33: =ROUND(SUM(D33:K33),2) -> 26652
B34: =SUM(B8:B33) -> 46619.699 | D34: =SUM(D8:D33) -> 4748867 | E34: =SUM(E8:E33) -> 1120151 | F34: =SUM(F8:F33) -> 224105 | G34: =SUM(G8:G33) -> 139859 | H34: =SUM(H8:H33) -> 919850 | I34: =SUM(I8:I33) -> 149906 | J34: =SUM(J8:J33) -> 114217 | K34: =SUM(K8:K33) -> 93239 | L34: =SUM(L8:L33) -> 7510194
