Workbook

Sheet 2024 observācija
G1: 5.pielikums Informatīvajam ziņojumam par izmaiņām slimnīcu tīklā
A2: Papildus nepieciešamais finansējums par pacientu observāciju 24 stundas gada apjoms
F3: 0.2812 | G3: 0.0219 | H3: 0.0349
A4: Saskaņā ar MK noteikumiem Nr. 555 "Veselības aprūpes pakalpojumu organizēšanas un samaksas kārtība" veselības aprūpes pakalpojumu tarifus aprēķina, izmantojot šādu formulu: TC = VC (D + S + M + E) + FC (U + A + N), kur TC – veselības aprūpes pakalpojuma tarifs; VC – mainīgās izmaksas (tiešās izmaksas): D – darba samaksa; S – valsts sociālās apdrošināšanas obligātās iemaksas; M – ārstniecības līdzekļi; E – izdevumi, saistīti ar pacientu ēdināšanu; FC – pastāvīgās izmaksas (netiešās izmaksas): U – pieskaitāmās un netiešās ražošanas izmaksas (ar pacientu uzturēšanu saistītie izdevumi pakalpojumu apmaksai, riska maksājuma veikšanai, materiālu, energoresursu, ūdens un inventāra iegādei); A – administratīvie izdevumi; N – nolietojums.
A5: Nosaukums | B5: Darba samaksa | C5: Valsts sociālās apdrošināšanas obligātās iemaksas | D5: Ārstniecības līdzekļi | E5: Izdevumi, saistīti ar pacientu ēdināšanu | F5: Pieskaitāmās un netiešās ražošanas izmaksas | G5: Administratīvie izdevumi | H5: Nolietojums | I5: Kopā, EUR pēc jaunām prasībām | J5: Maksājums 2023. gadā, EUR | K5: Papildus nepieciešamais maksājums 2024. gadā, EUR
B6: D | C6: S | D6: M | E6: E | F6: U | G6: A | H6: N
A7: 1 | B7: 2 | C7: 3 | D7: 4 | E7: 5 | F7: 6 | G7: 7 | H7: 8
A8: Paula Stradiņa klīniskā universitātes slimnīca | B8: =ROUND('2024 izejas dati'!H4*'2024 izejas dati II'!$C$4,0) -> 1647337 | C8: =ROUND(B8*0.2359,0) -> 388607 | D8: =ROUND('2024 izejas dati'!H4*'2024 izejas dati II'!$B$17,0) -> 131640 | E8: =ROUND('2024 izejas dati'!E4*'2024 izejas dati II'!$C$9,0) -> 96571 | F8: =ROUND(B8*$F$3,0) -> 463231 | G8: =ROUND(B8*$G$3,0) -> 36077 | H8: =ROUND(B8*$H$3,0) -> 57492 | I8: =SUM(B8:H8) -> 2820955 | J8: 756726 | K8: =I8-J8 -> 2064229
A9: Rīgas Austrumu klīniskā universitātes slimnīca | B9: =ROUND('2024 izejas dati'!H5*'2024 izejas dati II'!$C$4,0) -> 953721 | C9: =ROUND(B9*0.2359,0) -> 224983 | D9: =ROUND('2024 izejas dati'!H5*'2024 izejas dati II'!$B$17,0) -> 76213 | E9: =ROUND('2024 izejas dati'!E5*'2024 izejas dati II'!$C$9,0) -> 57016 | F9: =ROUND(B9*$F$3,0) -> 268186 | G9: =ROUND(B9*$G$3,0) -> 20886 | H9: =ROUND(B9*$H$3,0) -> 33285 | I9: =SUM(B9:H9) -> 1634290 | J9: 2017370 | K9: =I9-J9 -> -383080
A10: Bērnu klīniskā universitātes slimnīca | B10: =ROUND('2024 izejas dati'!H6*'2024 izejas dati II'!$C$4,0) -> 1994144 | C10: =ROUND(B10*0.2359,0) -> 470419 | D10: =ROUND('2024 izejas dati'!H6*'2024 izejas dati II'!$B$17,0) -> 159354 | E10: =ROUND('2024 izejas dati'!E6*'2024 izejas dati II'!$C$9,0) -> 116820 | F10: =ROUND(B10*$F$3,0) -> 560753 | G10: =ROUND(B10*$G$3,0) -> 43672 | H10: =ROUND(B10*$H$3,0) -> 69596 | I10: =SUM(B10:H10) -> 3414758 | J10: 2686647 | K10: =I10-J10 -> 728111
A11: Liepājas reģionālā slimnīca | B11: =ROUND('2024 izejas dati'!H7*'2024 izejas dati II'!$C$5,0) -> 293829 | C11: =ROUND(B11*0.2359,0) -> 69314 | D11: =ROUND('2024 izejas dati'!H7*'2024 izejas dati II'!$B$17,0) -> 27714 | E11: =ROUND('2024 izejas dati'!E7*'2024 izejas dati II'!$C$9,0) -> 20875 | F11: =ROUND(B11*$F$3,0) -> 82625 | G11: =ROUND(B11*$G$3,0) -> 6435 | H11: =ROUND(B11*$H$3,0) -> 10255 | I11: =SUM(B11:H11) -> 511047 | J11: 155611 | K11: =I11-J11 -> 355436
A12: Daugavpils reģionālā slimnīca | B12: =ROUND('2024 izejas dati'!H8*'2024 izejas dati II'!$C$5,0) -> 539176 | C12: =ROUND(B12*0.2359,0) -> 127192 | D12: =ROUND('2024 izejas dati'!H8*'2024 izejas dati II'!$B$17,0) -> 50855 | E12: =ROUND('2024 izejas dati'!E8*'2024 izejas dati II'!$C$9,0) -> 38322 | F12: =ROUND(B12*$F$3,0) -> 151616 | G12: =ROUND(B12*$G$3,0) -> 11808 | H12: =ROUND(B12*$H$3,0) -> 18817 | I12: =SUM(B12:H12) -> 937786 | J12: 388318 | K12: =I12-J12 -> 549468
A13: Ziemeļkurzemes reģionālā slimnīca | B13: =ROUND('2024 izejas dati'!H9*'2024 izejas dati II'!$C$5,0) -> 195396 | C13: =ROUND(B13*0.2359,0) -> 46094 | D13: =ROUND('2024 izejas dati'!H9*'2024 izejas dati II'!$B$17,0) -> 18430 | E13: =ROUND('2024 izejas dati'!E9*'2024 izejas dati II'!$C$9,0) -> 13487 | F13: =ROUND(B13*$F$3,0) -> 54945 | G13: =ROUND(B13*$G$3,0) -> 4279 | H13: =ROUND(B13*$H$3,0) -> 6819 | I13: =SUM(B13:H13) -> 339450 | J13: 151235 | K13: =I13-J13 -> 188215
A14: Jelgavas pilsētas slimnīca | B14: =ROUND('2024 izejas dati'!H10*'2024 izejas dati II'!$C$5,0) -> 171890 | C14: =ROUND(B14*0.2359,0) -> 40549 | D14: =ROUND('2024 izejas dati'!H10*'2024 izejas dati II'!$B$17,0) -> 16213 | E14: =ROUND('2024 izejas dati'!E10*'2024 izejas dati II'!$C$9,0) -> 12198 | F14: =ROUND(B14*$F$3,0) -> 48335 | G14: =ROUND(B14*$G$3,0) -> 3764 | H14: =ROUND(B14*$H$3,0) -> 5999 | I14: =SUM(B14:H14) -> 298948 | J14: 179163 | K14: =I14-J14 -> 119785
A15: Vidzemes slimnīca | B15: =ROUND('2024 izejas dati'!H11*'2024 izejas dati II'!$C$5,0) -> 121939 | C15: =ROUND(B15*0.2359,0) -> 28765 | D15: =ROUND('2024 izejas dati'!H11*'2024 izejas dati II'!$B$17,0) -> 11501 | E15: =ROUND('2024 izejas dati'!E11*'2024 izejas dati II'!$C$9,0) -> 8780 | F15: =ROUND(B15*$F$3,0) -> 34289 | G15: =ROUND(B15*$G$3,0) -> 2670 | H15: =ROUND(B15*$H$3,0) -> 4256 | I15: =SUM(B15:H15) -> 212200 | J15: 152779 | K15: =I15-J15 -> 59421
A16: Jēkabpils reģionālā slimnīca | B16: =ROUND('2024 izejas dati'!H12*'2024 izejas dati II'!$C$5,0) -> 342311 | C16: =ROUND(B16*0.2359,0) -> 80751 | D16: =ROUND('2024 izejas dati'!H12*'2024 izejas dati II'!$B$17,0) -> 32287 | E16: =ROUND('2024 izejas dati'!E12*'2024 izejas dati II'!$C$9,0) -> 24289 | F16: =ROUND(B16*$F$3,0) -> 96258 | G16: =ROUND(B16*$G$3,0) -> 7497 | H16: =ROUND(B16*$H$3,0) -> 11947 | I16: =SUM(B16:H16) -> 595340 | J16: 166809 | K16: =I16-J16 -> 428531
A17: Rēzeknes slimnīca | B17: =ROUND('2024 izejas dati'!H13*'2024 izejas dati II'!$C$5,0) -> 73457 | C17: =ROUND(B17*0.2359,0) -> 17329 | D17: =ROUND('2024 izejas dati'!H13*'2024 izejas dati II'!$B$17,0) -> 6928 | E17: =ROUND('2024 izejas dati'!E13*'2024 izejas dati II'!$C$9,0) -> 5450 | F17: =ROUND(B17*$F$3,0) -> 20656 | G17: =ROUND(B17*$G$3,0) -> 1609 | H17: =ROUND(B17*$H$3,0) -> 2564 | I17: =SUM(B17:H17) -> 127993 | J17: 136690 | K17: =I17-J17 -> -8697
A18: Madonas slimnīca | B18: =ROUND('2024 izejas dati'!H14*'2024 izejas dati II'!$C$5,0) -> 121939 | C18: =ROUND(B18*0.2359,0) -> 28765 | D18: =ROUND('2024 izejas dati'!H14*'2024 izejas dati II'!$B$17,0) -> 11501 | E18: =ROUND('2024 izejas dati'!E14*'2024 izejas dati II'!$C$9,0) -> 9293 | F18: =ROUND(B18*$F$3,0) -> 34289 | G18: =ROUND(B18*$G$3,0) -> 2670 | H18: =ROUND(B18*$H$3,0) -> 4256 | I18: =SUM(B18:H18) -> 212713 | J18: 60237 | K18: =I18-J18 -> 152476
A19: Cēsu klīnika | B19: =ROUND('2024 izejas dati'!H15*'2024 izejas dati II'!$C$5,0) -> 195396 | C19: =ROUND(B19*0.2359,0) -> 46094 | D19: =ROUND('2024 izejas dati'!H15*'2024 izejas dati II'!$B$17,0) -> 18430 | E19: =ROUND('2024 izejas dati'!E15*'2024 izejas dati II'!$C$9,0) -> 13235 | F19: =ROUND(B19*$F$3,0) -> 54945 | G19: =ROUND(B19*$G$3,0) -> 4279 | H19: =ROUND(B19*$H$3,0) -> 6819 | I19: =SUM(B19:H19) -> 339198 | J19: 70792 | K19: =I19-J19 -> 268406
A20: Dobeles un apkārtnes slimnīca | B20: =ROUND('2024 izejas dati'!H16*'2024 izejas dati II'!$C$5,0) -> 24975 | C20: =ROUND(B20*0.2359,0) -> 5892 | D20: =ROUND('2024 izejas dati'!H16*'2024 izejas dati II'!$B$17,0) -> 2356 | E20: =ROUND('2024 izejas dati'!E16*'2024 izejas dati II'!$C$9,0) -> 2419 | F20: =ROUND(B20*$F$3,0) -> 7023 | G20: =ROUND(B20*$G$3,0) -> 547 | H20: =ROUND(B20*$H$3,0) -> 872 | I20: =SUM(B20:H20) -> 44084 | J20: 58048 | K20: =I20-J20 -> -13964
A21: Jūrmalas slimnīca | B21: =ROUND('2024 izejas dati'!H17*'2024 izejas dati II'!$C$5,0) -> 48482 | C21: =ROUND(B21*0.2359,0) -> 11437 | D21: =ROUND('2024 izejas dati'!H17*'2024 izejas dati II'!$B$17,0) -> 4573 | E21: =ROUND('2024 izejas dati'!E17*'2024 izejas dati II'!$C$9,0) -> 3512 | F21: =ROUND(B21*$F$3,0) -> 13633 | G21: =ROUND(B21*$G$3,0) -> 1062 | H21: =ROUND(B21*$H$3,0) -> 1692 | I21: =SUM(B21:H21) -> 84391 | J21: 40543 | K21: =I21-J21 -> 43848
A22: Ogres rajona slimnīca | B22: =ROUND('2024 izejas dati'!H18*'2024 izejas dati II'!$C$5,0) -> 318805 | C22: =ROUND(B22*0.2359,0) -> 75206 | D22: =ROUND('2024 izejas dati'!H18*'2024 izejas dati II'!$B$17,0) -> 30069 | E22: =ROUND('2024 izejas dati'!E18*'2024 izejas dati II'!$C$9,0) -> 22617 | F22: =ROUND(B22*$F$3,0) -> 89648 | G22: =ROUND(B22*$G$3,0) -> 6982 | H22: =ROUND(B22*$H$3,0) -> 11126 | I22: =SUM(B22:H22) -> 554453 | J22: 68602 | K22: =I22-J22 -> 485851
... A29: Siguldas slimnīca (būs observācija) | B29: =ROUND('2024 izejas dati'!H25*'2024 izejas dati II'!$C$5,0) -> 24975 | C29: =ROUND(B29*0.2359,0) -> 5892 | D29: =ROUND('2024 izejas dati'!H25*'2024 izejas dati II'!$B$17,0) -> 2356 | E29: =ROUND('2024 izejas dati'!E25*'2024 izejas dati II'!$C$9,0) -> 878 | F29: =ROUND(B29*$F$3,0) -> 7023 | G29: =ROUND(B29*$G$3,0) -> 547 | H29: =ROUND(B29*$H$3,0) -> 872 | I29: =SUM(B29:H29) -> 42543 | J29: 0 | K29: =I29-J29 -> 42543
A30: Krāslavas slimnīca (tiks noņemta observācija) | B30: 0 | C30: 0 | D30: 0 | E30: 0 | F30: 0 | G30: 0 | H30: 0 | I30: =SUM(B30:H30) -> 0 | J30: 28574 | K30: =I30-J30 -> -28574
A31: Rīgas psihiatrijas un narkoloģijas centrs (bez izmaiņām) | B31: 30597 | C31: 7217 | D31: 701 | E31: 1605 | F31: 5997 | G31: 803 | H31: 610 | I31: =SUM(B31:H31) -> 47530 | J31: 47530 | K31: =I31-J31 -> 0
A32: Piejūras slimnīca (bez izmaiņām) | B32: 6806 | C32: 1605 | D32: 156 | E32: 357 | F32: 1334 | G32: 179 | H32: 136 | I32: =SUM(B32:H32) -> 10573 | J32: 10573 | K32: =I32-J32 -> 0
A33: Daugavpils psihoneiroloģiskā slimnīca (bez izmaiņām) | B33: 24191 | C33: 5706 | D33: 554 | E33: 1269 | F33: 4742 | G33: 635 | H33: 482 | I33: =SUM(B33:H33) -> 37579 | J33: 37579 | K33: =I33-J33 -> 0
A34: Slimnīca Ģintermuiža (bez izmaiņām) | B34: 15041 | C34: 3548 | D34: 345 | E34: 789 | F34: 2948 | G34: 395 | H34: 300 | I34: =SUM(B34:H34) -> 23366 | J34: 23366 | K34: =I34-J34 -> 0
A35: Strenču psihoneiroloģiskā slimnīca (bez izmaiņām) | B35: 17157 | C35: 4047 | D35: 393 | E35: 900 | F35: 3363 | G35: 450 | H35: 342 | I35: =SUM(B35:H35) -> 26652 | J35: 26652 | K35: =I35-J35 -> 0
A36: Kopā | B36: =SUM(B8:B35) -> 7603777 | C36: =SUM(C8:C35) -> 1793730 | D36: =SUM(D8:D35) -> 644279 | E36: =SUM(E8:E35) -> 481929 | F36: =SUM(F8:F35) -> 2130188 | G36: =SUM(G8:G35) -> 166931 | H36: =SUM(H8:H35) -> 263970 | I36: =SUM(I8:I35) -> 13084804 | ... K36: =SUM(K8:K35) -> 5574610
A39: Papildinfo
A40: Observācijas aprēķins
A41: Observācija šobrīd | B41: Izmaiņas
A42: Aprēķinot piemaksu par pacientu observāciju līdz 24 stundām, reizina attiecīgās ārstniecības iestādes gultasdienas tarifu, kas noteikts Noteikumos Nr. 555 ar plānoto observējamo pacientu skaitu (saskaņā ar VIS un SAIRIS datiem) ; | B42: Jaunajā observācijas maksājumā netiek ņemtas vērā gultasdienas, jo uzraudzību observācijas nodaļā nodrošina māsas vai ārstu palīgi un māsu palīgi.
B43: Tika definēta pacientu:māsu:māsas palīgu attiecība, kas jānodrošina observācijas maksājumā – tie ir 6 pacienti uz 1 māsu un māsas palīgu. Šī attiecība tika izmantota aprēķinot nepieciešamo slodžu skaitu observācijā.
B44: Tika analizēti dati par 2022. gadu un pārrēķināts observācijas maksājums atbilstoši pacientu skaitam un nepieciešamajām māsu un māsu palīgu slodzēm.
B45: Papildus tāpat kā citos maksājumos, observācijas nodaļas uzturēšanas izmaksas tiek segtas ar Np, U, A koeficientiem, kas fiksēti šī gada līmenī.
B46: Tāpat kā iepriekšējā aprēķinā, kur iekļauts gultasdienas tarifs, kurā ir arī ēdināšana, arī šajā maksājuma tika iekļauta ēdināšana par vidēji 2 maltītēm (7 eiro ir gultasdienā par 3 maltītēm, šeit – 4,67 eiro uz vienu pacientu par vidēji 2 maltītēm.
B47: Ārstniecības līdzekļu (M) izmaksas iegūtas piemērojot tādu pašu principu kā uzņemšanā.
A48: Ja tiek pārrēķinātas piemaksas par pacientu observāciju līdz 24 stundām, nepieciešamo finansējuma apjomu aprēķina kā starpību no esošā finansējuma un pārrēķinātā finansējuma apmēra.
...

Sheet 2024 izejas dati
H1: 5.1. pielikums
A2: Pārskata periods: 2022.gada 1.janvāris -31.decembris
A3: Nr.p.k. | B3: Ārstniecības iestādes nosaukums | C3: Observācijas pacientu skaits | D3: Observācijas epizožu skaits (1.-6.epizode) | E3: Observācijas pacienti kopā | F3: Observācijas pacientu skaits dienā | G3: Observācijas pacientu skaits uz 1 māsu | H3: Māsu skaits diennaktī
A4: 1 | B4: Paula Stradiņa klīniskā universitātes slimnīca | C4: 11212 | D4: 9467 | E4: =SUM(C4:D4) -> 20679 | F4: =ROUND(E4/365,0) -> 57 | G4: 6 | H4: =ROUND(F4/G4,2) -> 9.5
A5: 2 | B5: Rīgas Austrumu klīniskā universitātes slimnīca | C5: 6313 | D5: 5896 | E5: =SUM(C5:D5) -> 12209 | F5: =ROUND(E5/365,0) -> 33 | G5: 6 | H5: =ROUND(F5/G5,2) -> 5.5
A6: 3 | B6: Bērnu klīniskā universitātes slimnīca | C6: 8045 | D6: 16970 | E6: =SUM(C6:D6) -> 25015 | F6: =ROUND(E6/365,0) -> 69 | G6: 6 | H6: =ROUND(F6/G6,2) -> 11.5
A7: 4 | B7: Liepājas reģionālā slimnīca* | E7: =2*2235 -> 4470 | F7: =ROUND(E7/365,0) -> 12 | G7: 6 | H7: =ROUND(F7/G7,2) -> 2
A8: 5 | B8: Daugavpils reģionālā slimnīca | C8: 2588 | D8: 5618 | E8: =SUM(C8:D8) -> 8206 | F8: =ROUND(E8/365,0) -> 22 | G8: 6 | H8: =ROUND(F8/G8,2) -> 3.67
A9: 6 | B9: Ziemeļkurzemes reģionālā slimnīca | C9: 654 | D9: 2234 | E9: =SUM(C9:D9) -> 2888 | F9: =ROUND(E9/365,0) -> 8 | G9: 6 | H9: =ROUND(F9/G9,2) -> 1.33
A10: 7 | B10: Jelgavas pilsētas slimnīca | C10: 886 | D10: 1726 | E10: =SUM(C10:D10) -> 2612 | F10: =ROUND(E10/365,0) -> 7 | G10: 6 | H10: =ROUND(F10/G10,2) -> 1.17
A11: 8 | B11: Vidzemes slimnīca | C11: 385 | D11: 1495 | E11: =SUM(C11:D11) -> 1880 | F11: =ROUND(E11/365,0) -> 5 | G11: 6 | H11: =ROUND(F11/G11,2) -> 0.83
A12: 9 | B12: Jēkabpils reģionālā slimnīca | C12: 2737 | D12: 2464 | E12: =SUM(C12:D12) -> 5201 | F12: =ROUND(E12/365,0) -> 14 | G12: 6 | H12: =ROUND(F12/G12,2) -> 2.33
A13: 10 | B13: Rēzeknes slimnīca | C13: 307 | D13: 860 | E13: =SUM(C13:D13) -> 1167 | F13: =ROUND(E13/365,0) -> 3 | G13: 6 | H13: =ROUND(F13/G13,2) -> 0.5
A14: 11 | B14: Madonas slimnīca | C14: 264 | D14: 1726 | E14: =SUM(C14:D14) -> 1990 | F14: =ROUND(E14/365,0) -> 5 | G14: 6 | H14: =ROUND(F14/G14,2) -> 0.83
A15: 12 | B15: Cēsu klīnika | C15: 984 | D15: 1850 | E15: =SUM(C15:D15) -> 2834 | F15: =ROUND(E15/365,0) -> 8 | G15: 6 | H15: =ROUND(F15/G15,2) -> 1.33
A16: 13 | B16: Dobeles un apkārtnes slimnīca | C16: 33 | D16: 485 | E16: =SUM(C16:D16) -> 518 | F16: =ROUND(E16/365,0) -> 1 | G16: 6 | H16: =ROUND(F16/G16,2) -> 0.17
A17: 14 | B17: Jūrmalas slimnīca | C17: 302 | D17: 450 | E17: =SUM(C17:D17) -> 752 | F17: =ROUND(E17/365,0) -> 2 | G17: 6 | H17: =ROUND(F17/G17,2) -> 0.33
A18: 15 | B18: Ogres rajona slimnīca | C18: 3042 | D18: 1801 | E18: =SUM(C18:D18) -> 4843 | F18: =ROUND(E18/365,0) -> 13 | G18: 6 | H18: =ROUND(F18/G18,2) -> 2.17
A19: 16 | B19: Balvu un Gulbenes slimnīcu apvienība | C19: 545 | D19: 845 | E19: =SUM(C19:D19) -> 1390 | F19: =ROUND(E19/365,0) -> 4 | G19: 6 | H19: =ROUND(F19/G19,2) -> 0.67
... A23: 20 | B23: Tukuma slimnīca | C23: 175 | D23: 326 | E23: =SUM(C23:D23) -> 501 | F23: =ROUND(E23/365,0) -> 1 | G23: 6 | H23: =ROUND(F23/G23,2) -> 0.17
A24: 21 | B24: Rīgas Dzemdību nams (būs observācija) | C24: - | D24: - | E24: 870 | F24: =ROUND(E24/365,0) -> 2 | G24: 6 | H24: =ROUND(F24/G24,2) -> 0.33
A25: 22 | B25: Siguldas slimnīca (būs observācija) | C25: - | D25: - | E25: 188 | F25: =ROUND(E25/365,0) -> 1 | G25: 6 | H25: =ROUND(F25/G25,2) -> 0.17
A26: 23 | B26: Krāslavas slimnīca (tiks noņemta observācija) | C26: 53 | D26: 52 | E26: =SUM(C26:D26) -> 105 | F26: =ROUND(E26/365,0) -> 0 | G26: 6 | H26: =ROUND(F26/G26,8) -> 0
A27: 24 | B27: Rīgas psihiatrijas un narkoloģijas centrs (bez izmaiņām) | C27: 448 | D27: 320 | E27: =SUM(C27:D27) -> 768 | F27: =ROUND(E27/365,0) -> 2 | G27: 6 | H27: =ROUND(F27/G27,2) -> 0.33
A28: 25 | B28: Piejūras slimnīca (bez izmaiņām) | C28: - | D28: 32 | E28: =SUM(C28:D28) -> 32 | F28: =ROUND(E28/365,0) -> 0 | G28: 6 | H28: =ROUND(F28/G28,2) -> 0
A29: 26 | B29: Daugavpils psihoneiroloģiskā slimnīca (bez izmaiņām) | C29: 199 | D29: 140 | E29: =SUM(C29:D29) -> 339 | F29: =ROUND(E29/365,0) -> 1 | G29: 6 | H29: =ROUND(F29/G29,2) -> 0.17
A30: 27 | B30: Slimnīca Ģintermuiža (bez izmaiņām) | C30: 30 | D30: 80 | E30: =SUM(C30:D30) -> 110 | F30: =ROUND(E30/365,0) -> 0 | G30: 6 | H30: =ROUND(F30/G30,2) -> 0
A31: 28 | B31: Strenču psihoneiroloģiskā slimnīca (bez izmaiņām) | C31: 3 | D31: - | E31: =SUM(C31:D31) -> 3 | F31: =ROUND(E31/365,0) -> 0 | G31: 6 | H31: =ROUND(F31/G31,2) -> 0
B32: *dati ņemti par 2023. gada I pusgadu, ņemot vērā, ka 2022. gadā Liepājas observācijas nodaļa daļēji nodrošināja darbu

Sheet 2024 izejas dati II
D1: 5.2. pielikums
A3: Slimnīcas | B3: Speciālists 1 | C3: Neatliekamā 24/7, EUR
A4: KUS | B4: Māsa + māsas palīgs | C4: ='2024 algas tabula'!BD31+'2024 algas tabula'!BD39 -> 173403.86
A5: CITI | B5: Māsa + māsas palīgs | C5: ='2024 algas tabula'!BD56+'2024 algas tabula'!BD64 -> 146914.52
B8: Slimnīcas | C8: Ēdināšana uz 1 pacientu
B9: KUS | C9: =ROUND(7/3*2,2) -> 4.67
B10: CITI | C10: =ROUND(7/3*2,2) -> 4.67
B12: *Ēdināšana rēķināta, ņemot vērā gultasdienā iekļauto E elementu 7 eur un pieņemot, ka viens pacients vidēji saņems 2 maltītes
A17: Uz vienu ārsta posteni gadā M, EUR | B17: =13856.88 -> 13856.88

Sheet 2024 algas tabula
BH1: 5.3. pielikums
BC3: =B17 -> KUS UN TOS, RDzN | BD3: Dežūrārsts (8.00-16.00) darba dienas | BE3: Dežūrārsts (16.00-8.00) katru dienu | BF3: Dežūrārsts 9.00-21.00 (12h) darba dienas | BG3: Speciālists, kurš nodrošina palīdzību 24/7 ar kabineta maksājumu | BH3: Neatliekamā 24/7 (ar kabineta maksājumu
BC4: Ārsts+māsa+jaunākais | BD4: =BD19+BD27+BD35 -> 77079.618 | BF4: =BD21+BD29+BD37 -> 153388.79 | BG4: =BD22+BD30+BD38 -> 472696.3 | BH4: =BD23+BD31+BD39 -> 472696.3
BC5: Ārsts+māsa | BD5: =BD19+BD27 -> 64420.343 | BF5: =BD21+BD29 -> 121632.48 | BG5: =BD22+BD30 -> 414079.58 | BH5: =BD23+BD31 -> 414079.58
BC6: Tikai ārsts | BD6: =BD19 -> 39630.117 | BE6: =BD20 -> 130547.86 | BG6: =BD22 -> 299292.44 | BH6: =BD23 -> 299292.44
BC7: Radiologs mājdežūrā 75%
BC8: Vecmāte, radiologa asistents, māsa | BF8: =BD29 -> 62187.304 | BG8: =BD30 -> 114787.13 | BH8: =BD31 -> 114787.13
BC9: =B42 -> PĀRĒJIE | BD9: Dežūrārsts (8.00-16.00) darba dienas | BE9: Dežūrārsts (16.00-8.00) katru dienu | BF9: Dežūrārsts 9.00-21.00 (12h) darba dienas | BG9: Speciālists, kurš nodrošina palīdzību 24/7 | BH9: Neatliekamā 24/7 (ar kabineta maksājumu
BC10: Ārsts+māsa+jaunākais | BF10: =BD46+BD54+BD62 -> 125319.76 | BG10: =BD47+BD55+BD63 -> 380337.22 | BH10: =BD48+BD56+BD64 -> 380337.22
BC11: Ārsts+māsa | BG11: =BD47+BD55 -> 321720.49 | BH11: =BD48+BD56 -> 321720.49
BC12: Tikai ārsts | BE12: =BD45 -> 100421.43 | BG12: =BD47 -> 233422.7 | BH12: =BD48 -> 233422.7
BC13: Radiologs mājdežūrā 75% | BG13: =BD49 -> 103821.28
BC14: Vecmāte, radiologa asistents, māsa | BG14: =BD55 -> 88297.795 | BH14: =BD56 -> 88297.795
B15: Posteņu, slodžu, darba stundu skaits un apmaksas nosacījumi NMPON darba nodrošināšanai | AY15: Koeficents KUS | BF15: 153.1. ārstiem un funkcionālajiem speciālistiem – | BG15: 2083
AH16: =365*8+(15*8) -> 3040 | AY16: 1.3 | BA16: 0.5 | BB16: 1 | BC16: 0.025 | BF16: 153.2. ārstniecības un pacientu aprūpes personām un funkcionālo speciālistu asistentiem – | BG16: 1303
B17: KUS UN TOS, RDzN | H17: Pirmdienās | L17: Otrdienās | P17: Trešdienās | T17: Ceturtdienās | X17: Piektdienās | AB17: Sestdienās | AF17: Svētdienās | AJ17: Svētku un brīvdienās | AO17: Stundas vidēji gadā | BF17: 153.3. ārstniecības un pacientu aprūpes atbalsta personām – | BG17: 865
B18: Posteņa nosaukums | D18: Nedēļas dienas | E18: Posteņa veids | F18: % iesaiste, ja atbalsta postenis | G18: Posteņu skaits | H18: no | I18: līdz | J18: darba st | K18: t.sk. nakts st | L18: no | M18: līdz | N18: darba st | O18: t.sk. nakts st | P18: no | Q18: līdz | R18: darba st | S18: t.sk. nakts st | T18: no | U18: līdz | V18: darba st | W18: t.sk. nakts st | X18: no | Y18: līdz | Z18: darba st | AA18: t.sk. nakts st | AB18: no | AC18: līdz | AD18: darba st | AE18: t.sk. nakts st | AF18: no | AG18: līdz | AH18: darba st | AI18: t.sk. nakts st | AJ18: no | AK18: līdz | AL18: darba st | AM18: t.sk. nakts st | AN18: Tehniskā | AO18: Darba sundas | AP18: no tām nakts | AQ18: no tām svētku | AR18: slodzes | AS18: Atvaļinājuma rezerve | AT18: KOPĀ | AU18: Slodzes pa amatiem, atbilstoši AVS | AV18: Piezīmes | AW18: DR komentāri | AX18: Mēnešalga | AY18: Stundas likme (vidējā) | AZ18: Samaksa gadā, EUR | BA18: Par Nakts stundām, EUR gadā | BB18: Par Svētku stundām, EUR gadā | BC18: Īpašā riska piemaksa gadā, EUR | BD18: Kopā gadā, EUR | BF18: Uz vienu ārsta posteni gadā M, EUR | BG18: 13856.88
A19: ĀRSTS | B19: Dežūrārsts (8.00-16.00) darba dienas | G19: 1 | H19: 8 | I19: 16 | J19: =IF(H19="",0,IF((I19-H19<=0),(24-H19+I19),(I19-H19))) -> 8 | L19: 8 | M19: 16 | N19: =IF(L19="",0,IF((M19-L19<=0),(24-L19+M19),(M19-L19))) -> 8 | P19: 8 | Q19: 16 | R19: =IF(P19="",0,IF((Q19-P19<=0),(24-P19+Q19),(Q19-P19))) -> 8 | T19: 8 | U19: 16 | V19: =IF(T19="",0,IF((U19-T19<=0),(24-T19+U19),(U19-T19))) -> 8 | X19: 8 | Y19: 16 | Z19: =IF(X19="",0,IF((Y19-X19<=0),(24-X19+Y19),(Y19-X19))) -> 8 | AD19: =IF(AB19="",0,IF((AC19-AB19<=0),(24-AB19+AC19),(AC19-AB19))) -> 0 | AH19: =IF(AF19="",0,IF((AG19-AF19<=0),(24-AF19+AG19),(AG19-AF19))) -> 0 | AJ19: 8 | AK19: 16 | AL19: =IF(AJ19="",0,IF((AK19-AJ19<=0),(24-AJ19+AK19),(AK19-AJ19))) -> 8 | AN19: =J19+N19+R19+V19+Z19+AD19+AH19+AL19 -> 48 | AO19: =IF(AN19=0,0,((J19*$C$123)+($D$123*N19)+(R19*$E$123)+(V19*$F$123)+($G$123*Z19)+(AD19*$H$124)+($I$125*AH19)+(AL19*$J$126)*G19)) -> 2144 | AP19: =IF(AN19=0,0,((K19*$C$123)+($D$123*O19)+(S19*$E$123)+(W19*$F$123)+($G$123*AA19)+(AE19*$H$124)+($I$125*AI19)+(AM19*$J$126)*G19)) -> 0 | AQ19: =AL19*$J$126*G19 -> 144 | AR19: =AO19/$L$122 -> 1.0698603 | AS19: =AR19*0.09091 -> 0.097260998 | AT19: =AS19+AR19 -> 1.1671213 | AW19: Jāizlemj - vai liekam 24h tiešo posteni, vai 8h tiešais un pēc tam mājas dežūras | AX19: =$BG$15 -> 2083 | AY19: =AX19/160*AY16 -> 16.924375 | AZ19: =AY19*AO19 -> 36285.86 | BA19: =$BA$16*AY19*AP19 -> 0 | BB19: =AY19*AQ19 -> 2437.11 | BC19: =AY19*$BC$16*AO19 -> 907.1465 | BD19: =AZ19+BA19+BB19+BC19 -> 39630.117
B20: Dežūrārsts (16.00-8.00) katru dienu | G20: 1 | H20: 16 | I20: 8 | J20: =IF(H20="",0,IF((I20-H20<=0),(24-H20+I20),(I20-H20))) -> 16 | K20: 8 | L20: 16 | M20: 8 | N20: =IF(L20="",0,IF((M20-L20<=0),(24-L20+M20),(M20-L20))) -> 16 | O20: 8 | P20: 16 | Q20: 8 | R20: =IF(P20="",0,IF((Q20-P20<=0),(24-P20+Q20),(Q20-P20))) -> 16 | S20: 8 | T20: 16 | U20: 8 | V20: =IF(T20="",0,IF((U20-T20<=0),(24-T20+U20),(U20-T20))) -> 16 | W20: 8 | X20: 16 | Y20: 8 | Z20: =IF(X20="",0,IF((Y20-X20<=0),(24-X20+Y20),(Y20-X20))) -> 16 | AA20: 8 | AB20: 16 | AC20: 8 | AD20: =IF(AB20="",0,IF((AC20-AB20<=0),(24-AB20+AC20),(AC20-AB20))) -> 16 | AE20: 8 | AF20: 16 | AG20: 8 | AH20: =IF(AF20="",0,IF((AG20-AF20<=0),(24-AF20+AG20),(AG20-AF20))) -> 16 | AI20: 8 | AJ20: 16 | AK20: 8 | AL20: =IF(AJ20="",0,IF((AK20-AJ20<=0),(24-AJ20+AK20),(AK20-AJ20))) -> 16 | AM20: 8 | AN20: =J20+N20+R20+V20+Z20+AD20+AH20+AL20 -> 128 | AO20: =IF(AN20=0,0,((J20*$C$123)+($D$123*N20)+(R20*$E$123)+(V20*$F$123)+($G$123*Z20)+(AD20*$H$124)+($I$125*AH20)+(AL20*$J$126)*G20)) -> 5824 | AP20: =IF(AN20=0,0,((K20*$C$123)+($D$123*O20)+(S20*$E$123)+(W20*$F$123)+($G$123*AA20)+(AE20*$H$124)+($I$125*AI20)+(AM20*$J$126)*G20)) -> 2912 | AQ20: =AL20*$J$126*G20 -> 288 | AR20: =AO20/$L$122 -> 2.9061876 | AS20: =AR20*0.09091 -> 0.26420152 | AT20: =AS20+AR20 -> 3.1703891 | AW20: Jāizlemj - vai liekam 24h tiešo posteni, vai 8h tiešais un pēc tam mājas dežūras | AX20: =$BG$15 -> 2083 | AY20: =AX20/160*AY16 -> 16.924375 | AZ20: =AY20*AO20 -> 98567.56 | BA20: =$BA$16*AY20*AP20 -> 24641.89 | BB20: =AY20*AQ20 -> 4874.22 | BC20: =AY20*$BC$16*AO20 -> 2464.189 | BD20: =AZ20+BA20+BB20+BC20 -> 130547.86
B21: Dežūrārsts 9.00-21.00 (12h) darba dienas | G21: 1 | H21: 9 | I21: 21 | J21: =IF(H21="",0,IF((I21-H21<=0),(24-H21+I21),(I21-H21))) -> 12 | K21: 0 | L21: 9 | M21: 21 | N21: =IF(L21="",0,IF((M21-L21<=0),(24-L21+M21),(M21-L21))) -> 12 | O21: 0 | P21: 9 | Q21: 21 | R21: =IF(P21="",0,IF((Q21-P21<=0),(24-P21+Q21),(Q21-P21))) -> 12 | S21: 0 | T21: 9 | U21: 21 | V21: =IF(T21="",0,IF((U21-T21<=0),(24-T21+U21),(U21-T21))) -> 12 | W21: 0 | X21: 9 | Y21: 21 | Z21: =IF(X21="",0,IF((Y21-X21<=0),(24-X21+Y21),(Y21-X21))) -> 12 | AA21: 0 | AD21: =IF(AB21="",0,IF((AC21-AB21<=0),(24-AB21+AC21),(AC21-AB21))) -> 0 | AE21: 0 | AH21: =IF(AF21="",0,IF((AG21-AF21<=0),(24-AF21+AG21),(AG21-AF21))) -> 0 | AI21: 0 | AJ21: 9 | AK21: 21 | AL21: =IF(AJ21="",0,IF((AK21-AJ21<=0),(24-AJ21+AK21),(AK21-AJ21))) -> 12 | AM21: 0 | AN21: =J21+N21+R21+V21+Z21+AD21+AH21+AL21 -> 72 | AO21: =IF(AN21=0,0,((J21*$C$123)+($D$123*N21)+(R21*$E$123)+(V21*$F$123)+($G$123*Z21)+(AD21*$H$124)+($I$125*AH21)+(AL21*$J$126)*G21)) -> 3216 | AP21: =IF(AN21=0,0,((K21*$C$123)+($D$123*O21)+(S21*$E$123)+(W21*$F$123)+($G$123*AA21)+(AE21*$H$124)+($I$125*AI21)+(AM21*$J$126)*G21)) -> 0 | AQ21: =AL21*$J$126*G21 -> 216 | AR21: =AO21/$L$122 -> 1.6047904 | AS21: =AR21*0.09091 -> 0.1458915 | AT21: =AS21+AR21 -> 1.7506819 | AX21: =$BG$15 -> 2083 | AY21: =AX21/160*AY16 -> 16.924375 | AZ21: =AY21*AO21 -> 54428.79 | BA21: =$BA$16*AY21*AP21 -> 0 | BB21: =AY21*AQ21 -> 3655.665 | BC21: =AY21*$BC$16*AO21 -> 1360.7198 | BD21: =AZ21+BA21+BB21+BC21 -> 59445.175 | BF21: U | BG21: A | BH21: n
B22: Speciālists, kurš nodrošina palīdzību 24/7 | G22: 1 | H22: 8 | I22: 8 | J22: =IF(H22="",0,IF((I22-H22<=0),(24-H22+I22),(I22-H22))) -> 24 | K22: 8 | L22: 8 | M22: 8 | N22: =IF(L22="",0,IF((M22-L22<=0),(24-L22+M22),(M22-L22))) -> 24 | O22: 8 | P22: 8 | Q22: 8 | R22: =IF(P22="",0,IF((Q22-P22<=0),(24-P22+Q22),(Q22-P22))) -> 24 | S22: 8 | T22: 8 | U22: 8 | V22: =IF(T22="",0,IF((U22-T22<=0),(24-T22+U22),(U22-T22))) -> 24 | W22: 8 | X22: 8 | Y22: 8 | Z22: =IF(X22="",0,IF((Y22-X22<=0),(24-X22+Y22),(Y22-X22))) -> 24 | AA22: 8 | AB22: 8 | AC22: 8 | AD22: =IF(AB22="",0,IF((AC22-AB22<=0),(24-AB22+AC22),(AC22-AB22))) -> 24 | AE22: 8 | AF22: 8 | AG22: 8 | AH22: =IF(AF22="",0,IF((AG22-AF22<=0),(24-AF22+AG22),(AG22-AF22))) -> 24 | AI22: 8 | AJ22: 8 | AK22: 8 | AL22: =IF(AJ22="",0,IF((AK22-AJ22<=0),(24-AJ22+AK22),(AK22-AJ22))) -> 24 | AM22: 8 | AN22: =J22+N22+R22+V22+Z22+AD22+AH22+AL22 -> 192 | AO22: =IF(AN22=0,0,((J22*$C$123)+($D$123*N22)+(R22*$E$123)+(V22*$F$123)+($G$123*Z22)+(AD22*$H$124)+($I$125*AH22)+(AL22*$J$126)*G22)) -> 8736 | AP22: =IF(AN22=0,0,((K22*$C$123)+($D$123*O22)+(S22*$E$123)+(W22*$F$123)+($G$123*AA22)+(AE22*$H$124)+($I$125*AI22)+(AM22*$J$126)*G22)) -> 2912 | AQ22: =AL22*$J$126*G22 -> 432 | AR22: =AO22/$L$122 -> 4.3592814 | AS22: =AR22*0.09091 -> 0.39630228 | AT22: =AS22+AR22 -> 4.7555837 | AX22: =$BG$15 -> 2083 | AY22: =AX22/160*AY16 -> 16.924375 | AZ22: =AY22*AO22 -> 147851.34 | BA22: =$BA$16*AY22*AP22 -> 24641.89 | BB22: =AY22*AQ22 -> 7311.33 | BC22: =AY22*$BC$16*AO22 -> 3696.2835 | BD22: =(AZ22+BA22+BB22+BC22)+((AZ22+BA22+BB22+BC22)*$BG$23)+((AZ22+BA22+BB22+BC22)*$BH$23)+((AZ22+BA22+BB22+BC22)*$BF$23)+BG18 -> 299292.44 | BF22: 0.3771 | BG22: 0.1435 | BH22: 0.0349
B23: Neatliekamā 24/7 (ar kabineta maksājumu | G23: 1 | H23: 8 | I23: 8 | J23: =IF(H23="",0,IF((I23-H23<=0),(24-H23+I23),(I23-H23))) -> 24 | K23: 8 | L23: 8 | M23: 8 | N23: =IF(L23="",0,IF((M23-L23<=0),(24-L23+M23),(M23-L23))) -> 24 | O23: 8 | P23: 8 | Q23: 8 | R23: =IF(P23="",0,IF((Q23-P23<=0),(24-P23+Q23),(Q23-P23))) -> 24 | S23: 8 | T23: 8 | U23: 8 | V23: =IF(T23="",0,IF((U23-T23<=0),(24-T23+U23),(U23-T23))) -> 24 | W23: 8 | X23: 8 | Y23: 8 | Z23: =IF(X23="",0,IF((Y23-X23<=0),(24-X23+Y23),(Y23-X23))) -> 24 | AA23: 8 | AB23: 8 | AC23: 8 | AD23: =IF(AB23="",0,IF((AC23-AB23<=0),(24-AB23+AC23),(AC23-AB23))) -> 24 | AE23: 8 | AF23: 8 | AG23: 8 | AH23: =IF(AF23="",0,IF((AG23-AF23<=0),(24-AF23+AG23),(AG23-AF23))) -> 24 | AI23: 8 | AJ23: 8 | AK23: 8 | AL23: =IF(AJ23="",0,IF((AK23-AJ23<=0),(24-AJ23+AK23),(AK23-AJ23))) -> 24 | AM23: 8 | AN23: =J23+N23+R23+V23+Z23+AD23+AH23+AL23 -> 192 | AO23: =IF(AN23=0,0,((J23*$C$123)+($D$123*N23)+(R23*$E$123)+(V23*$F$123)+($G$123*Z23)+(AD23*$H$124)+($I$125*AH23)+(AL23*$J$126)*G23)) -> 8736 | AP23: =IF(AN23=0,0,((K23*$C$123)+($D$123*O23)+(S23*$E$123)+(W23*$F$123)+($G$123*AA23)+(AE23*$H$124)+($I$125*AI23)+(AM23*$J$126)*G23)) -> 2912 | AQ23: =AL23*$J$126*G23 -> 432 | AR23: =AO23/$L$122 -> 4.3592814 | AS23: =AR23*0.09091 -> 0.39630228 | AT23: =AS23+AR23 -> 4.7555837 | AX23: =$BG$15 -> 2083 | AY23: =AX23/160*AY16 -> 16.924375 | AZ23: =AY23*AO23 -> 147851.34 | BA23: =$BA$16*AY23*AP23 -> 24641.89 | BB23: =AY23*AQ23 -> 7311.33 | BC23: =AY23*$BC$16*AO23 -> 3696.2835 | BD23: =(AZ23+BA23+BB23+BC23)+((AZ23+BA23+BB23+BC23)*$BG$23)+((AZ23+BA23+BB23+BC23)*$BH$23)+((AZ23+BA23+BB23+BC23)*$BF$23)+BG18 -> 299292.44 | BF23: 0.3771 | BG23: 0.1435 | BH23: 0.0349
G24: 1 | H24: 8 | I24: 8 | J24: =IF(H24="",0,IF((I24-H24<=0),(24-H24+I24),(I24-H24))) -> 24 | K24: 8 | L24: 8 | M24: 8 | N24: =IF(L24="",0,IF((M24-L24<=0),(24-L24+M24),(M24-L24))) -> 24 | O24: 8 | P24: 8 | Q24: 8 | R24: =IF(P24="",0,IF((Q24-P24<=0),(24-P24+Q24),(Q24-P24))) -> 24 | S24: 8 | T24: 8 | U24: 8 | V24: =IF(T24="",0,IF((U24-T24<=0),(24-T24+U24),(U24-T24))) -> 24 | W24: 8 | X24: 8 | Y24: 8 | Z24: =IF(X24="",0,IF((Y24-X24<=0),(24-X24+Y24),(Y24-X24))) -> 24 | AA24: 8 | AB24: 8 | AC24: 8 | AD24: =IF(AB24="",0,IF((AC24-AB24<=0),(24-AB24+AC24),(AC24-AB24))) -> 24 | AE24: 8 | AF24: 8 | AG24: 8 | AH24: =IF(AF24="",0,IF((AG24-AF24<=0),(24-AF24+AG24),(AG24-AF24))) -> 24 | AI24: 8 | AJ24: 8 | AK24: 8 | AL24: =IF(AJ24="",0,IF((AK24-AJ24<=0),(24-AJ24+AK24),(AK24-AJ24))) -> 24 | AM24: 8 | AN24: =J24+N24+R24+V24+Z24+AD24+AH24+AL24 -> 192 | AO24: =IF(AN24=0,0,((J24*$C$123)+($D$123*N24)+(R24*$E$123)+(V24*$F$123)+($G$123*Z24)+(AD24*$H$124)+($I$125*AH24)+(AL24*$J$126)*G24)) -> 8736 | AP24: =IF(AN24=0,0,((K24*$C$123)+($D$123*O24)+(S24*$E$123)+(W24*$F$123)+($G$123*AA24)+(AE24*$H$124)+($I$125*AI24)+(AM24*$J$126)*G24)) -> 2912 | AQ24: =AL24*$J$126*G24 -> 432 | AR24: =AO24/$L$122 -> 4.3592814 | AS24: =AR24*0.09091 -> 0.39630228 | AT24: =AS24+AR24 -> 4.7555837 | AX24: =$BG$15 -> 2083 | AY24: =AX24/160*AY17 -> 0 | AZ24: =AY24*AO24 -> 0 | BA24: =$BA$16*AY24*AP24 -> 0 | BB24: =AY24*AQ24 -> 0 | BC24: =AY24*$BC$16*AO24 -> 0 | BD24: =AZ24+BA24+BB24+BC24 -> 0
A27: MĀSA | B27: Dežūrārsts (8.00-16.00) darba dienas | G27: 1 | H27: 8 | I27: 16 | J27: =IF(H27="",0,IF((I27-H27<=0),(24-H27+I27),(I27-H27))) -> 8 | L27: 8 | M27: 16 | N27: =IF(L27="",0,IF((M27-L27<=0),(24-L27+M27),(M27-L27))) -> 8 | P27: 8 | Q27: 16 | R27: =IF(P27="",0,IF((Q27-P27<=0),(24-P27+Q27),(Q27-P27))) -> 8 | T27: 8 | U27: 16 | V27: =IF(T27="",0,IF((U27-T27<=0),(24-T27+U27),(U27-T27))) -> 8 | X27: 8 | Y27: 16 | Z27: =IF(X27="",0,IF((Y27-X27<=0),(24-X27+Y27),(Y27-X27))) -> 8 | AD27: =IF(AB27="",0,IF((AC27-AB27<=0),(24-AB27+AC27),(AC27-AB27))) -> 0 | AH27: =IF(AF27="",0,IF((AG27-AF27<=0),(24-AF27+AG27),(AG27-AF27))) -> 0 | AJ27: 8 | AK27: 16 | AL27: =IF(AJ27="",0,IF((AK27-AJ27<=0),(24-AJ27+AK27),(AK27-AJ27))) -> 8 | AN27: =J27+N27+R27+V27+Z27+AD27+AH27+AL27 -> 48 | AO27: =IF(AN27=0,0,((J27*$C$123)+($D$123*N27)+(R27*$E$123)+(V27*$F$123)+($G$123*Z27)+(AD27*$H$124)+($I$125*AH27)+(AL27*$J$126)*G27)) -> 2144 | AP27: =IF(AN27=0,0,((K27*$C$123)+($D$123*O27)+(S27*$E$123)+(W27*$F$123)+($G$123*AA27)+(AE27*$H$124)+($I$125*AI27)+(AM27*$J$126)*G27)) -> 0 | AQ27: =AL27*$J$126*G27 -> 144 | AR27: =AO27/$L$122 -> 1.0698603 | AS27: =AR27*0.09091 -> 0.097260998 | AT27: =AS27+AR27 -> 1.1671213 | AW27: Jāizlemj - vai liekam 24h tiešo posteni, vai 8h tiešais un pēc tam mājas dežūras | AX27: =$BG$16 -> 1303 | AY27: =AX27/160*$AY$16 -> 10.586875 | AZ27: =AY27*AO27 -> 22698.26 | BA27: =$BA$16*AY27*AP27 -> 0 | BB27: =AY27*AQ27 -> 1524.51 | BC27: =AY27*$BC$16*AO27 -> 567.4565 | BD27: =AZ27+BA27+BB27+BC27 -> 24790.227
B28: Dežūrārsts (16.00-8.00) katru dienu | G28: 1 | H28: 16 | I28: 8 | J28: =IF(H28="",0,IF((I28-H28<=0),(24-H28+I28),(I28-H28))) -> 16 | K28: 8 | L28: 16 | M28: 8 | N28: =IF(L28="",0,IF((M28-L28<=0),(24-L28+M28),(M28-L28))) -> 16 | O28: 8 | P28: 16 | Q28: 8 | R28: =IF(P28="",0,IF((Q28-P28<=0),(24-P28+Q28),(Q28-P28))) -> 16 | S28: 8 | T28: 16 | U28: 8 | V28: =IF(T28="",0,IF((U28-T28<=0),(24-T28+U28),(U28-T28))) -> 16 | W28: 8 | X28: 16 | Y28: 8 | Z28: =IF(X28="",0,IF((Y28-X28<=0),(24-X28+Y28),(Y28-X28))) -> 16 | AA28: 8 | AB28: 16 | AC28: 8 | AD28: =IF(AB28="",0,IF((AC28-AB28<=0),(24-AB28+AC28),(AC28-AB28))) -> 16 | AE28: 8 | AF28: 16 | AG28: 8 | AH28: =IF(AF28="",0,IF((AG28-AF28<=0),(24-AF28+AG28),(AG28-AF28))) -> 16 | AI28: 8 | AJ28: 16 | AK28: 8 | AL28: =IF(AJ28="",0,IF((AK28-AJ28<=0),(24-AJ28+AK28),(AK28-AJ28))) -> 16 | AM28: 8 | AN28: =J28+N28+R28+V28+Z28+AD28+AH28+AL28 -> 128 | AO28: =IF(AN28=0,0,((J28*$C$123)+($D$123*N28)+(R28*$E$123)+(V28*$F$123)+($G$123*Z28)+(AD28*$H$124)+($I$125*AH28)+(AL28*$J$126)*G28)) -> 5824 | AP28: =IF(AN28=0,0,((K28*$C$123)+($D$123*O28)+(S28*$E$123)+(W28*$F$123)+($G$123*AA28)+(AE28*$H$124)+($I$125*AI28)+(AM28*$J$126)*G28)) -> 2912 | AQ28: =AL28*$J$126*G28 -> 288 | AR28: =AO28/$L$122 -> 2.9061876 | AS28: =AR28*0.09091 -> 0.26420152 | AT28: =AS28+AR28 -> 3.1703891 | AW28: Jāizlemj - vai liekam 24h tiešo posteni, vai 8h tiešais un pēc tam mājas dežūras | AX28: =$BG$16 -> 1303 | AY28: =AX28/160*$AY$16 -> 10.586875 | AZ28: =AY28*AO28 -> 61657.96 | BA28: =$BA$16*AY28*AP28 -> 15414.49 | BB28: =AY28*AQ28 -> 3049.02 | BC28: =AY28*$BC$16*AO28 -> 1541.449 | BD28: =AZ28+BA28+BB28+BC28 -> 81662.919
B29: Dežūrārsts 9.00-21.00 (12h) darba dienas | G29: 1 | H29: 9 | I29: 21 | J29: =IF(H29="",0,IF((I29-H29<=0),(24-H29+I29),(I29-H29))) -> 12 | K29: 0 | L29: 9 | M29: 21 | N29: =IF(L29="",0,IF((M29-L29<=0),(24-L29+M29),(M29-L29))) -> 12 | O29: 0 | P29: 9 | Q29: 21 | R29: =IF(P29="",0,IF((Q29-P29<=0),(24-P29+Q29),(Q29-P29))) -> 12 | S29: 0 | T29: 9 | U29: 21 | V29: =IF(T29="",0,IF((U29-T29<=0),(24-T29+U29),(U29-T29))) -> 12 | W29: 0 | X29: 9 | Y29: 21 | Z29: =IF(X29="",0,IF((Y29-X29<=0),(24-X29+Y29),(Y29-X29))) -> 12 | AA29: 0 | AB29: 0 | AC29: 0 | AD29: =IF(AB29="",0,IF((AC29-AB29<=0),(24-AB29+AC29),(AC29-AB29))) -> 24 | AE29: 0 | AF29: 0 | AG29: 0 | AH29: =IF(AF29="",0,IF((AG29-AF29<=0),(24-AF29+AG29),(AG29-AF29))) -> 24 | AI29: 0 | AJ29: 9 | AK29: 21 | AL29: =IF(AJ29="",0,IF((AK29-AJ29<=0),(24-AJ29+AK29),(AK29-AJ29))) -> 12 | AM29: 0 | AN29: =J29+N29+R29+V29+Z29+AD29+AH29+AL29 -> 120 | AO29: =IF(AN29=0,0,((J29*$C$123)+($D$123*N29)+(R29*$E$123)+(V29*$F$123)+($G$123*Z29)+(AD29*$H$124)+($I$125*AH29)+(AL29*$J$126)*G29)) -> 5520 | AP29: =IF(AN29=0,0,((K29*$C$123)+($D$123*O29)+(S29*$E$123)+(W29*$F$123)+($G$123*AA29)+(AE29*$H$124)+($I$125*AI29)+(AM29*$J$126)*G29)) -> 0 | AQ29: =AL29*$J$126*G29 -> 216 | AR29: =AO29/$L$122 -> 2.754491 | AS29: =AR29*0.09091 -> 0.25041078 | AT29: =AS29+AR29 -> 3.0049018 | AX29: =$BG$16 -> 1303 | AY29: =AX29/160*$AY$16 -> 10.586875 | AZ29: =AY29*AO29 -> 58439.55 | BA29: =$BA$16*AY29*AP29 -> 0 | BB29: =AY29*AQ29 -> 2286.765 | BC29: =AY29*$BC$16*AO29 -> 1460.9888 | BD29: =AZ29+BA29+BB29+BC29 -> 62187.304
B30: Speciālists, kurš nodrošina palīdzību 24/7 | G30: 1 | H30: 8 | I30: 8 | J30: =IF(H30="",0,IF((I30-H30<=0),(24-H30+I30),(I30-H30))) -> 24 | K30: 8 | L30: 8 | M30: 8 | N30: =IF(L30="",0,IF((M30-L30<=0),(24-L30+M30),(M30-L30))) -> 24 | O30: 8 | P30: 8 | Q30: 8 | R30: =IF(P30="",0,IF((Q30-P30<=0),(24-P30+Q30),(Q30-P30))) -> 24 | S30: 8 | T30: 8 | U30: 8 | V30: =IF(T30="",0,IF((U30-T30<=0),(24-T30+U30),(U30-T30))) -> 24 | W30: 8 | X30: 8 | Y30: 8 | Z30: =IF(X30="",0,IF((Y30-X30<=0),(24-X30+Y30),(Y30-X30))) -> 24 | AA30: 8 | AB30: 8 | AC30: 8 | AD30: =IF(AB30="",0,IF((AC30-AB30<=0),(24-AB30+AC30),(AC30-AB30))) -> 24 | AE30: 8 | AF30: 8 | AG30: 8 | AH30: =IF(AF30="",0,IF((AG30-AF30<=0),(24-AF30+AG30),(AG30-AF30))) -> 24 | AI30: 8 | AJ30: 8 | AK30: 8 | AL30: =IF(AJ30="",0,IF((AK30-AJ30<=0),(24-AJ30+AK30),(AK30-AJ30))) -> 24 | AM30: 8 | AN30: =J30+N30+R30+V30+Z30+AD30+AH30+AL30 -> 192 | AO30: =IF(AN30=0,0,((J30*$C$123)+($D$123*N30)+(R30*$E$123)+(V30*$F$123)+($G$123*Z30)+(AD30*$H$124)+($I$125*AH30)+(AL30*$J$126)*G30)) -> 8736 | AP30: =IF(AN30=0,0,((K30*$C$123)+($D$123*O30)+(S30*$E$123)+(W30*$F$123)+($G$123*AA30)+(AE30*$H$124)+($I$125*AI30)+(AM30*$J$126)*G30)) -> 2912 | AQ30: =AL30*$J$126*G30 -> 432 | AR30: =AO30/$L$122 -> 4.3592814 | AS30: =AR30*0.09091 -> 0.39630228 | AT30: =AS30+AR30 -> 4.7555837 | AX30: =$BG$16 -> 1303 | AY30: =AX30/160*$AY$16 -> 10.586875 | AZ30: =AY30*AO30 -> 92486.94 | BA30: =$BA$16*AY30*AP30 -> 15414.49 | BB30: =AY30*AQ30 -> 4573.53 | BC30: =AY30*$BC$16*AO30 -> 2312.1735 | BD30: =AZ30+BA30+BB30+BC30 -> 114787.13
B31: Neatliekamā 24/7 (ar kabineta maksājumu | G31: 1 | H31: 8 | I31: 8 | J31: =IF(H31="",0,IF((I31-H31<=0),(24-H31+I31),(I31-H31))) -> 24 | K31: 8 | L31: 8 | M31: 8 | N31: =IF(L31="",0,IF((M31-L31<=0),(24-L31+M31),(M31-L31))) -> 24 | O31: 8 | P31: 8 | Q31: 8 | R31: =IF(P31="",0,IF((Q31-P31<=0),(24-P31+Q31),(Q31-P31))) -> 24 | S31: 8 | T31: 8 | U31: 8 | V31: =IF(T31="",0,IF((U31-T31<=0),(24-T31+U31),(U31-T31))) -> 24 | W31: 8 | X31: 8 | Y31: 8 | Z31: =IF(X31="",0,IF((Y31-X31<=0),(24-X31+Y31),(Y31-X31))) -> 24 | AA31: 8 | AB31: 8 | AC31: 8 | AD31: =IF(AB31="",0,IF((AC31-AB31<=0),(24-AB31+AC31),(AC31-AB31))) -> 24 | AE31: 8 | AF31: 8 | AG31: 8 | AH31: =IF(AF31="",0,IF((AG31-AF31<=0),(24-AF31+AG31),(AG31-AF31))) -> 24 | AI31: 8 | AJ31: 8 | AK31: 8 | AL31: =IF(AJ31="",0,IF((AK31-AJ31<=0),(24-AJ31+AK31),(AK31-AJ31))) -> 24 | AM31: 8 | AN31: =J31+N31+R31+V31+Z31+AD31+AH31+AL31 -> 192 | AO31: =IF(AN31=0,0,((J31*$C$123)+($D$123*N31)+(R31*$E$123)+(V31*$F$123)+($G$123*Z31)+(AD31*$H$124)+($I$125*AH31)+(AL31*$J$126)*G31)) -> 8736 | AP31: =IF(AN31=0,0,((K31*$C$123)+($D$123*O31)+(S31*$E$123)+(W31*$F$123)+($G$123*AA31)+(AE31*$H$124)+($I$125*AI31)+(AM31*$J$126)*G31)) -> 2912 | AQ31: =AL31*$J$126*G31 -> 432 | AR31: =AO31/$L$122 -> 4.3592814 | AS31: =AR31*0.09091 -> 0.39630228 | AT31: =AS31+AR31 -> 4.7555837 | AX31: =$BG$16 -> 1303 | AY31: =AX31/160*$AY$16 -> 10.586875 | AZ31: =AY31*AO31 -> 92486.94 | BA31: =$BA$16*AY31*AP31 -> 15414.49 | BB31: =AY31*AQ31 -> 4573.53 | BC31: =AY31*$BC$16*AO31 -> 2312.1735 | BD31: =AZ31+BA31+BB31+BC31 -> 114787.13
A35: MĀSAS PALĪGI | B35: Dežūrārsts (8.00-16.00) darba dienas | G35: 1 | H35: 8 | I35: 16 | J35: =IF(H35="",0,IF((I35-H35<=0),(24-H35+I35),(I35-H35))) -> 8 | L35: 8 | M35: 16 | N35: =IF(L35="",0,IF((M35-L35<=0),(24-L35+M35),(M35-L35))) -> 8 | P35: 8 | Q35: 16 | R35: =IF(P35="",0,IF((Q35-P35<=0),(24-P35+Q35),(Q35-P35))) -> 8 | T35: 8 | U35: 16 | V35: =IF(T35="",0,IF((U35-T35<=0),(24-T35+U35),(U35-T35))) -> 8 | X35: 8 | Y35: 16 | Z35: =IF(X35="",0,IF((Y35-X35<=0),(24-X35+Y35),(Y35-X35))) -> 8 | AD35: =IF(AB35="",0,IF((AC35-AB35<=0),(24-AB35+AC35),(AC35-AB35))) -> 0 | AH35: =IF(AF35="",0,IF((AG35-AF35<=0),(24-AF35+AG35),(AG35-AF35))) -> 0 | AJ35: 8 | AK35: 16 | AL35: =IF(AJ35="",0,IF((AK35-AJ35<=0),(24-AJ35+AK35),(AK35-AJ35))) -> 8 | AN35: =J35+N35+R35+V35+Z35+AD35+AH35+AL35 -> 48 | AO35: =IF(AN35=0,0,((J35*$C$123)+($D$123*N35)+(R35*$E$123)+(V35*$F$123)+($G$123*Z35)+(AD35*$H$124)+($I$125*AH35)+(AL35*$J$126)*G35)) -> 2144 | AP35: =IF(AN35=0,0,((K35*$C$123)+($D$123*O35)+(S35*$E$123)+(W35*$F$123)+($G$123*AA35)+(AE35*$H$124)+($I$125*AI35)+(AM35*$J$126)*G35)) -> 0 | AQ35: =AL35*$J$126*G35 -> 144 | AR35: =AO35/$L$122 -> 1.0698603 | AS35: =AR35*0.09091 -> 0.097260998 | AT35: =AS35+AR35 -> 1.1671213 | AW35: Jāizlemj - vai liekam 24h tiešo posteni, vai 8h tiešais un pēc tam mājas dežūras | AX35: =$BG$17 -> 865 | AY35: =AX35/160 -> 5.40625 | AZ35: =AY35*AO35 -> 11591 | BA35: =$BA$16*AY35*AP35 -> 0 | BB35: =AY35*AQ35 -> 778.5 | BC35: =AY35*$BC$16*AO35 -> 289.775 | BD35: =AZ35+BA35+BB35+BC35 -> 12659.275
B36: Dežūrārsts (16.00-8.00) katru dienu | G36: 1 | H36: 16 | I36: 8 | J36: =IF(H36="",0,IF((I36-H36<=0),(24-H36+I36),(I36-H36))) -> 16 | K36: 8 | L36: 16 | M36: 8 | N36: =IF(L36="",0,IF((M36-L36<=0),(24-L36+M36),(M36-L36))) -> 16 | O36: 8 | P36: 16 | Q36: 8 | R36: =IF(P36="",0,IF((Q36-P36<=0),(24-P36+Q36),(Q36-P36))) -> 16 | S36: 8 | T36: 16 | U36: 8 | V36: =IF(T36="",0,IF((U36-T36<=0),(24-T36+U36),(U36-T36))) -> 16 | W36: 8 | X36: 16 | Y36: 8 | Z36: =IF(X36="",0,IF((Y36-X36<=0),(24-X36+Y36),(Y36-X36))) -> 16 | AA36: 8 | AB36: 16 | AC36: 8 | AD36: =IF(AB36="",0,IF((AC36-AB36<=0),(24-AB36+AC36),(AC36-AB36))) -> 16 | AE36: 8 | AF36: 16 | AG36: 8 | AH36: =IF(AF36="",0,IF((AG36-AF36<=0),(24-AF36+AG36),(AG36-AF36))) -> 16 | AI36: 8 | AJ36: 16 | AK36: 8 | AL36: =IF(AJ36="",0,IF((AK36-AJ36<=0),(24-AJ36+AK36),(AK36-AJ36))) -> 16 | AM36: 8 | AN36: =J36+N36+R36+V36+Z36+AD36+AH36+AL36 -> 128 | AO36: =IF(AN36=0,0,((J36*$C$123)+($D$123*N36)+(R36*$E$123)+(V36*$F$123)+($G$123*Z36)+(AD36*$H$124)+($I$125*AH36)+(AL36*$J$126)*G36)) -> 5824 | AP36: =IF(AN36=0,0,((K36*$C$123)+($D$123*O36)+(S36*$E$123)+(W36*$F$123)+($G$123*AA36)+(AE36*$H$124)+($I$125*AI36)+(AM36*$J$126)*G36)) -> 2912 | AQ36: =AL36*$J$126*G36 -> 288 | AR36: =AO36/$L$122 -> 2.9061876 | AS36: =AR36*0.09091 -> 0.26420152 | AT36: =AS36+AR36 -> 3.1703891 | AW36: Jāizlemj - vai liekam 24h tiešo posteni, vai 8h tiešais un pēc tam mājas dežūras | AX36: =$BG$17 -> 865 | AY36: =AX36/160 -> 5.40625 | AZ36: =AY36*AO36 -> 31486 | BA36: =$BA$16*AY36*AP36 -> 7871.5 | BB36: =AY36*AQ36 -> 1557 | BC36: =AY36*$BC$16*AO36 -> 787.15 | BD36: =AZ36+BA36+BB36+BC36 -> 41701.65
B37: Dežūrārsts 9.00-21.00 (12h) darba dienas | G37: 1 | H37: 9 | I37: 21 | J37: =IF(H37="",0,IF((I37-H37<=0),(24-H37+I37),(I37-H37))) -> 12 | K37: 0 | L37: 9 | M37: 21 | N37: =IF(L37="",0,IF((M37-L37<=0),(24-L37+M37),(M37-L37))) -> 12 | O37: 0 | P37: 9 | Q37: 21 | R37: =IF(P37="",0,IF((Q37-P37<=0),(24-P37+Q37),(Q37-P37))) -> 12 | S37: 0 | T37: 9 | U37: 21 | V37: =IF(T37="",0,IF((U37-T37<=0),(24-T37+U37),(U37-T37))) -> 12 | W37: 0 | X37: 9 | Y37: 21 | Z37: =IF(X37="",0,IF((Y37-X37<=0),(24-X37+Y37),(Y37-X37))) -> 12 | AA37: 0 | AB37: 0 | AC37: 0 | AD37: =IF(AB37="",0,IF((AC37-AB37<=0),(24-AB37+AC37),(AC37-AB37))) -> 24 | AE37: 0 | AF37: 0 | AG37: 0 | AH37: =IF(AF37="",0,IF((AG37-AF37<=0),(24-AF37+AG37),(AG37-AF37))) -> 24 | AI37: 0 | AJ37: 9 | AK37: 21 | AL37: =IF(AJ37="",0,IF((AK37-AJ37<=0),(24-AJ37+AK37),(AK37-AJ37))) -> 12 | AM37: 0 | AN37: =J37+N37+R37+V37+Z37+AD37+AH37+AL37 -> 120 | AO37: =IF(AN37=0,0,((J37*$C$123)+($D$123*N37)+(R37*$E$123)+(V37*$F$123)+($G$123*Z37)+(AD37*$H$124)+($I$125*AH37)+(AL37*$J$126)*G37)) -> 5520 | AP37: =IF(AN37=0,0,((K37*$C$123)+($D$123*O37)+(S37*$E$123)+(W37*$F$123)+($G$123*AA37)+(AE37*$H$124)+($I$125*AI37)+(AM37*$J$126)*G37)) -> 0 | AQ37: =AL37*$J$126*G37 -> 216 | AR37: =AO37/$L$122 -> 2.754491 | AS37: =AR37*0.09091 -> 0.25041078 | AT37: =AS37+AR37 -> 3.0049018 | AX37: =$BG$17 -> 865 | AY37: =AX37/160 -> 5.40625 | AZ37: =AY37*AO37 -> 29842.5 | BA37: =$BA$16*AY37*AP37 -> 0 | BB37: =AY37*AQ37 -> 1167.75 | BC37: =AY37*$BC$16*AO37 -> 746.0625 | BD37: =AZ37+BA37+BB37+BC37 -> 31756.312
B38: Speciālists, kurš nodrošina palīdzību 24/7 | G38: 1 | H38: 8 | I38: 8 | J38: =IF(H38="",0,IF((I38-H38<=0),(24-H38+I38),(I38-H38))) -> 24 | K38: 8 | L38: 8 | M38: 8 | N38: =IF(L38="",0,IF((M38-L38<=0),(24-L38+M38),(M38-L38))) -> 24 | O38: 8 | P38: 8 | Q38: 8 | R38: =IF(P38="",0,IF((Q38-P38<=0),(24-P38+Q38),(Q38-P38))) -> 24 | S38: 8 | T38: 8 | U38: 8 | V38: =IF(T38="",0,IF((U38-T38<=0),(24-T38+U38),(U38-T38))) -> 24 | W38: 8 | X38: 8 | Y38: 8 | Z38: =IF(X38="",0,IF((Y38-X38<=0),(24-X38+Y38),(Y38-X38))) -> 24 | AA38: 8 | AB38: 8 | AC38: 8 | AD38: =IF(AB38="",0,IF((AC38-AB38<=0),(24-AB38+AC38),(AC38-AB38))) -> 24 | AE38: 8 | AF38: 8 | AG38: 8 | AH38: =IF(AF38="",0,IF((AG38-AF38<=0),(24-AF38+AG38),(AG38-AF38))) -> 24 | AI38: 8 | AJ38: 8 | AK38: 8 | AL38: =IF(AJ38="",0,IF((AK38-AJ38<=0),(24-AJ38+AK38),(AK38-AJ38))) -> 24 | AM38: 8 | AN38: =J38+N38+R38+V38+Z38+AD38+AH38+AL38 -> 192 | AO38: =IF(AN38=0,0,((J38*$C$123)+($D$123*N38)+(R38*$E$123)+(V38*$F$123)+($G$123*Z38)+(AD38*$H$124)+($I$125*AH38)+(AL38*$J$126)*G38)) -> 8736 | AP38: =IF(AN38=0,0,((K38*$C$123)+($D$123*O38)+(S38*$E$123)+(W38*$F$123)+($G$123*AA38)+(AE38*$H$124)+($I$125*AI38)+(AM38*$J$126)*G38)) -> 2912 | AQ38: =AL38*$J$126*G38 -> 432 | AR38: =AO38/$L$122 -> 4.3592814 | AS38: =AR38*0.09091 -> 0.39630228 | AT38: =AS38+AR38 -> 4.7555837 | AX38: =$BG$17 -> 865 | AY38: =AX38/160 -> 5.40625 | AZ38: =AY38*AO38 -> 47229 | BA38: =$BA$16*AY38*AP38 -> 7871.5 | BB38: =AY38*AQ38 -> 2335.5 | BC38: =AY38*$BC$16*AO38 -> 1180.725 | BD38: =AZ38+BA38+BB38+BC38 -> 58616.725
B39: Neatliekamā 24/7 (ar kabineta maksājumu | G39: 1 | H39: 8 | I39: 8 | J39: =IF(H39="",0,IF((I39-H39<=0),(24-H39+I39),(I39-H39))) -> 24 | K39: 8 | L39: 8 | M39: 8 | N39: =IF(L39="",0,IF((M39-L39<=0),(24-L39+M39),(M39-L39))) -> 24 | O39: 8 | P39: 8 | Q39: 8 | R39: =IF(P39="",0,IF((Q39-P39<=0),(24-P39+Q39),(Q39-P39))) -> 24 | S39: 8 | T39: 8 | U39: 8 | V39: =IF(T39="",0,IF((U39-T39<=0),(24-T39+U39),(U39-T39))) -> 24 | W39: 8 | X39: 8 | Y39: 8 | Z39: =IF(X39="",0,IF((Y39-X39<=0),(24-X39+Y39),(Y39-X39))) -> 24 | AA39: 8 | AB39: 8 | AC39: 8 | AD39: =IF(AB39="",0,IF((AC39-AB39<=0),(24-AB39+AC39),(AC39-AB39))) -> 24 | AE39: 8 | AF39: 8 | AG39: 8 | AH39: =IF(AF39="",0,IF((AG39-AF39<=0),(24-AF39+AG39),(AG39-AF39))) -> 24 | AI39: 8 | AJ39: 8 | AK39: 8 | AL39: =IF(AJ39="",0,IF((AK39-AJ39<=0),(24-AJ39+AK39),(AK39-AJ39))) -> 24 | AM39: 8 | AN39: =J39+N39+R39+V39+Z39+AD39+AH39+AL39 -> 192 | AO39: =IF(AN39=0,0,((J39*$C$123)+($D$123*N39)+(R39*$E$123)+(V39*$F$123)+($G$123*Z39)+(AD39*$H$124)+($I$125*AH39)+(AL39*$J$126)*G39)) -> 8736 | AP39: =IF(AN39=0,0,((K39*$C$123)+($D$123*O39)+(S39*$E$123)+(W39*$F$123)+($G$123*AA39)+(AE39*$H$124)+($I$125*AI39)+(AM39*$J$126)*G39)) -> 2912 | AQ39: =AL39*$J$126*G39 -> 432 | AR39: =AO39/$L$122 -> 4.3592814 | AS39: =AR39*0.09091 -> 0.39630228 | AT39: =AS39+AR39 -> 4.7555837 | AX39: =$BG$17 -> 865 | AY39: =AX39/160 -> 5.40625 | AZ39: =AY39*AO39 -> 47229 | BA39: =$BA$16*AY39*AP39 -> 7871.5 | BB39: =AY39*AQ39 -> 2335.5 | BC39: =AY39*$BC$16*AO39 -> 1180.725 | BD39: =AZ39+BA39+BB39+BC39 -> 58616.725
B42: PĀRĒJIE | H42: Pirmdienās | L42: Otrdienās | P42: Trešdienās | T42: Ceturtdienās | X42: Piektdienās | AB42: Sestdienās | AF42: Svētdienās | AJ42: Svētku un brīvdienās | AO42: Stundas vidēji gadā
B43: Posteņa nosaukums | D43: Nedēļas dienas | E43: Posteņa veids | F43: % iesaiste, ja atbalsta postenis | G43: Posteņu skaits | H43: no | I43: līdz | J43: darba st | K43: t.sk. nakts st | L43: no | M43: līdz | N43: darba st | O43: t.sk. nakts st | P43: no | Q43: līdz | R43: darba st | S43: t.sk. nakts st | T43: no | U43: līdz | V43: darba st | W43: t.sk. nakts st | X43: no | Y43: līdz | Z43: darba st | AA43: t.sk. nakts st | AB43: no | AC43: līdz | AD43: darba st | AE43: t.sk. nakts st | AF43: no | AG43: līdz | AH43: darba st | AI43: t.sk. nakts st | AJ43: no | AK43: līdz | AL43: darba st | AM43: t.sk. nakts st | AN43: Tehniskā | AO43: Darba sundas | AP43: no tām nakts | AQ43: no tām svētku | AR43: slodzes | AS43: Atvaļinājuma rezerve | AT43: KOPĀ | AU43: Slodzes pa amatiem, atbilstoši AVS | AV43: Piezīmes | AW43: DR komentāri | AX43: Mēnešalga | AY43: Stundas likme (vidējā) | AZ43: Samaksa gadā, EUR | BA43: Par Nakts stundām, EUR gadā | BB43: Par Svētku stundām, EUR gadā | BC43: Īpašā riska piemaksa gadā, EUR
A44: ĀRSTS | B44: Dežūrārsts (8.00-16.00) darba dienas | G44: 1 | H44: 8 | I44: 16 | J44: =IF(H44="",0,IF((I44-H44<=0),(24-H44+I44),(I44-H44))) -> 8 | L44: 8 | M44: 16 | N44: =IF(L44="",0,IF((M44-L44<=0),(24-L44+M44),(M44-L44))) -> 8 | P44: 8 | Q44: 16 | R44: =IF(P44="",0,IF((Q44-P44<=0),(24-P44+Q44),(Q44-P44))) -> 8 | T44: 8 | U44: 16 | V44: =IF(T44="",0,IF((U44-T44<=0),(24-T44+U44),(U44-T44))) -> 8 | X44: 8 | Y44: 16 | Z44: =IF(X44="",0,IF((Y44-X44<=0),(24-X44+Y44),(Y44-X44))) -> 8 | AD44: =IF(AB44="",0,IF((AC44-AB44<=0),(24-AB44+AC44),(AC44-AB44))) -> 0 | AH44: =IF(AF44="",0,IF((AG44-AF44<=0),(24-AF44+AG44),(AG44-AF44))) -> 0 | AJ44: 8 | AK44: 16 | AL44: =IF(AJ44="",0,IF((AK44-AJ44<=0),(24-AJ44+AK44),(AK44-AJ44))) -> 8 | AN44: =J44+N44+R44+V44+Z44+AD44+AH44+AL44 -> 48 | AO44: =IF(AN44=0,0,((J44*$C$123)+($D$123*N44)+(R44*$E$123)+(V44*$F$123)+($G$123*Z44)+(AD44*$H$124)+($I$125*AH44)+(AL44*$J$126)*G44)) -> 2144 | AP44: =IF(AN44=0,0,((K44*$C$123)+($D$123*O44)+(S44*$E$123)+(W44*$F$123)+($G$123*AA44)+(AE44*$H$124)+($I$125*AI44)+(AM44*$J$126)*G44)) -> 0 | AQ44: =AL44*$J$126*G44 -> 144 | AR44: =AO44/$L$122 -> 1.0698603 | AS44: =AR44*0.09091 -> 0.097260998 | AT44: =AS44+AR44 -> 1.1671213 | AW44: Jāizlemj - vai liekam 24h tiešo posteni, vai 8h tiešais un pēc tam mājas dežūras | AX44: =$BG$15 -> 2083 | AY44: =AX44/160 -> 13.01875 | AZ44: =AY44*AO44 -> 27912.2 | BA44: =$BA$16*AY44*AP44 -> 0 | BB44: =AY44*AQ44 -> 1874.7 | BC44: =AY44*$BC$16*AO44 -> 697.805 | BD44: =AZ44+BA44+BB44+BC44 -> 30484.705
B45: Dežūrārsts (16.00-8.00) katru dienu | G45: 1 | H45: 16 | I45: 8 | J45: =IF(H45="",0,IF((I45-H45<=0),(24-H45+I45),(I45-H45))) -> 16 | K45: 8 | L45: 16 | M45: 8 | N45: =IF(L45="",0,IF((M45-L45<=0),(24-L45+M45),(M45-L45))) -> 16 | O45: 8 | P45: 16 | Q45: 8 | R45: =IF(P45="",0,IF((Q45-P45<=0),(24-P45+Q45),(Q45-P45))) -> 16 | S45: 8 | T45: 16 | U45: 8 | V45: =IF(T45="",0,IF((U45-T45<=0),(24-T45+U45),(U45-T45))) -> 16 | W45: 8 | X45: 16 | Y45: 8 | Z45: =IF(X45="",0,IF((Y45-X45<=0),(24-X45+Y45),(Y45-X45))) -> 16 | AA45: 8 | AB45: 16 | AC45: 8 | AD45: =IF(AB45="",0,IF((AC45-AB45<=0),(24-AB45+AC45),(AC45-AB45))) -> 16 | AE45: 8 | AF45: 16 | AG45: 8 | AH45: =IF(AF45="",0,IF((AG45-AF45<=0),(24-AF45+AG45),(AG45-AF45))) -> 16 | AI45: 8 | AJ45: 16 | AK45: 8 | AL45: =IF(AJ45="",0,IF((AK45-AJ45<=0),(24-AJ45+AK45),(AK45-AJ45))) -> 16 | AM45: 8 | AN45: =J45+N45+R45+V45+Z45+AD45+AH45+AL45 -> 128 | AO45: =IF(AN45=0,0,((J45*$C$123)+($D$123*N45)+(R45*$E$123)+(V45*$F$123)+($G$123*Z45)+(AD45*$H$124)+($I$125*AH45)+(AL45*$J$126)*G45)) -> 5824 | AP45: =IF(AN45=0,0,((K45*$C$123)+($D$123*O45)+(S45*$E$123)+(W45*$F$123)+($G$123*AA45)+(AE45*$H$124)+($I$125*AI45)+(AM45*$J$126)*G45)) -> 2912 | AQ45: =AL45*$J$126*G45 -> 288 | AR45: =AO45/$L$122 -> 2.9061876 | AS45: =AR45*0.09091 -> 0.26420152 | AT45: =AS45+AR45 -> 3.1703891 | AW45: Jāizlemj - vai liekam 24h tiešo posteni, vai 8h tiešais un pēc tam mājas dežūras | AX45: =$BG$15 -> 2083 | AY45: =AX45/160 -> 13.01875 | AZ45: =AY45*AO45 -> 75821.2 | BA45: =$BA$16*AY45*AP45 -> 18955.3 | BB45: =AY45*AQ45 -> 3749.4 | BC45: =AY45*$BC$16*AO45 -> 1895.53 | BD45: =AZ45+BA45+BB45+BC45 -> 100421.43
B46: Dežūrārsts 9.00-21.00 (12h) darba dienas | G46: 1 | H46: 9 | I46: 21 | J46: =IF(H46="",0,IF((I46-H46<=0),(24-H46+I46),(I46-H46))) -> 12 | K46: 0 | L46: 9 | M46: 21 | N46: =IF(L46="",0,IF((M46-L46<=0),(24-L46+M46),(M46-L46))) -> 12 | O46: 0 | P46: 9 | Q46: 21 | R46: =IF(P46="",0,IF((Q46-P46<=0),(24-P46+Q46),(Q46-P46))) -> 12 | S46: 0 | T46: 9 | U46: 21 | V46: =IF(T46="",0,IF((U46-T46<=0),(24-T46+U46),(U46-T46))) -> 12 | W46: 0 | X46: 9 | Y46: 21 | Z46: =IF(X46="",0,IF((Y46-X46<=0),(24-X46+Y46),(Y46-X46))) -> 12 | AA46: 0 | AD46: =IF(AB46="",0,IF((AC46-AB46<=0),(24-AB46+AC46),(AC46-AB46))) -> 0 | AE46: 0 | AH46: =IF(AF46="",0,IF((AG46-AF46<=0),(24-AF46+AG46),(AG46-AF46))) -> 0 | AI46: 0 | AJ46: 9 | AK46: 21 | AL46: =IF(AJ46="",0,IF((AK46-AJ46<=0),(24-AJ46+AK46),(AK46-AJ46))) -> 12 | AM46: 0 | AN46: =J46+N46+R46+V46+Z46+AD46+AH46+AL46 -> 72 | AO46: =IF(AN46=0,0,((J46*$C$123)+($D$123*N46)+(R46*$E$123)+(V46*$F$123)+($G$123*Z46)+(AD46*$H$124)+($I$125*AH46)+(AL46*$J$126)*G46)) -> 3216 | AP46: =IF(AN46=0,0,((K46*$C$123)+($D$123*O46)+(S46*$E$123)+(W46*$F$123)+($G$123*AA46)+(AE46*$H$124)+($I$125*AI46)+(AM46*$J$126)*G46)) -> 0 | AQ46: =AL46*$J$126*G46 -> 216 | AR46: =AO46/$L$122 -> 1.6047904 | AS46: =AR46*0.09091 -> 0.1458915 | AT46: =AS46+AR46 -> 1.7506819 | AX46: =$BG$15 -> 2083 | AY46: =AX46/160 -> 13.01875 | AZ46: =AY46*AO46 -> 41868.3 | BA46: =$BA$16*AY46*AP46 -> 0 | BB46: =AY46*AQ46 -> 2812.05 | BC46: =AY46*$BC$16*AO46 -> 1046.7075 | BD46: =AZ46+BA46+BB46+BC46 -> 45727.058
B47: Speciālists, kurš nodrošina palīdzību 24/7 | G47: 1 | H47: 8 | I47: 8 | J47: =IF(H47="",0,IF((I47-H47<=0),(24-H47+I47),(I47-H47))) -> 24 | K47: 8 | L47: 8 | M47: 8 | N47: =IF(L47="",0,IF((M47-L47<=0),(24-L47+M47),(M47-L47))) -> 24 | O47: 8 | P47: 8 | Q47: 8 | R47: =IF(P47="",0,IF((Q47-P47<=0),(24-P47+Q47),(Q47-P47))) -> 24 | S47: 8 | T47: 8 | U47: 8 | V47: =IF(T47="",0,IF((U47-T47<=0),(24-T47+U47),(U47-T47))) -> 24 | W47: 8 | X47: 8 | Y47: 8 | Z47: =IF(X47="",0,IF((Y47-X47<=0),(24-X47+Y47),(Y47-X47))) -> 24 | AA47: 8 | AB47: 8 | AC47: 8 | AD47: =IF(AB47="",0,IF((AC47-AB47<=0),(24-AB47+AC47),(AC47-AB47))) -> 24 | AE47: 8 | AF47: 8 | AG47: 8 | AH47: =IF(AF47="",0,IF((AG47-AF47<=0),(24-AF47+AG47),(AG47-AF47))) -> 24 | AI47: 8 | AJ47: 8 | AK47: 8 | AL47: =IF(AJ47="",0,IF((AK47-AJ47<=0),(24-AJ47+AK47),(AK47-AJ47))) -> 24 | AM47: 8 | AN47: =J47+N47+R47+V47+Z47+AD47+AH47+AL47 -> 192 | AO47: =IF(AN47=0,0,((J47*$C$123)+($D$123*N47)+(R47*$E$123)+(V47*$F$123)+($G$123*Z47)+(AD47*$H$124)+($I$125*AH47)+(AL47*$J$126)*G47)) -> 8736 | AP47: =IF(AN47=0,0,((K47*$C$123)+($D$123*O47)+(S47*$E$123)+(W47*$F$123)+($G$123*AA47)+(AE47*$H$124)+($I$125*AI47)+(AM47*$J$126)*G47)) -> 2912 | AQ47: =AL47*$J$126*G47 -> 432 | AR47: =AO47/$L$122 -> 4.3592814 | AS47: =AR47*0.09091 -> 0.39630228 | AT47: =AS47+AR47 -> 4.7555837 | AX47: =$BG$15 -> 2083 | AY47: =AX47/160 -> 13.01875 | AZ47: =AY47*AO47 -> 113731.8 | BA47: =$BA$16*AY47*AP47 -> 18955.3 | BB47: =AY47*AQ47 -> 5624.1 | BC47: =AY47*$BC$16*AO47 -> 2843.295 | BD47: =(AZ47+BA47+BB47+BC47)+((AZ47+BA47+BB47+BC47)*$BG$23)+((AZ47+BA47+BB47+BC47)*$BH$23)+((AZ47+BA47+BB47+BC47)*$BF$23)+BG18 -> 233422.7
B48: Neatliekamā 24/7 (ar kabineta maksājumu | G48: 1 | H48: 8 | I48: 8 | J48: =IF(H48="",0,IF((I48-H48<=0),(24-H48+I48),(I48-H48))) -> 24 | K48: 8 | L48: 8 | M48: 8 | N48: =IF(L48="",0,IF((M48-L48<=0),(24-L48+M48),(M48-L48))) -> 24 | O48: 8 | P48: 8 | Q48: 8 | R48: =IF(P48="",0,IF((Q48-P48<=0),(24-P48+Q48),(Q48-P48))) -> 24 | S48: 8 | T48: 8 | U48: 8 | V48: =IF(T48="",0,IF((U48-T48<=0),(24-T48+U48),(U48-T48))) -> 24 | W48: 8 | X48: 8 | Y48: 8 | Z48: =IF(X48="",0,IF((Y48-X48<=0),(24-X48+Y48),(Y48-X48))) -> 24 | AA48: 8 | AB48: 8 | AC48: 8 | AD48: =IF(AB48="",0,IF((AC48-AB48<=0),(24-AB48+AC48),(AC48-AB48))) -> 24 | AE48: 8 | AF48: 8 | AG48: 8 | AH48: =IF(AF48="",0,IF((AG48-AF48<=0),(24-AF48+AG48),(AG48-AF48))) -> 24 | AI48: 8 | AJ48: 8 | AK48: 8 | AL48: =IF(AJ48="",0,IF((AK48-AJ48<=0),(24-AJ48+AK48),(AK48-AJ48))) -> 24 | AM48: 8 | AN48: =J48+N48+R48+V48+Z48+AD48+AH48+AL48 -> 192 | AO48: =IF(AN48=0,0,((J48*$C$123)+($D$123*N48)+(R48*$E$123)+(V48*$F$123)+($G$123*Z48)+(AD48*$H$124)+($I$125*AH48)+(AL48*$J$126)*G48)) -> 8736 | AP48: =IF(AN48=0,0,((K48*$C$123)+($D$123*O48)+(S48*$E$123)+(W48*$F$123)+($G$123*AA48)+(AE48*$H$124)+($I$125*AI48)+(AM48*$J$126)*G48)) -> 2912 | AQ48: =AL48*$J$126*G48 -> 432 | AR48: =AO48/$L$122 -> 4.3592814 | AS48: =AR48*0.09091 -> 0.39630228 | AT48: =AS48+AR48 -> 4.7555837 | AX48: =$BG$15 -> 2083 | AY48: =AX48/160 -> 13.01875 | AZ48: =AY48*AO48 -> 113731.8 | BA48: =$BA$16*AY48*AP48 -> 18955.3 | BB48: =AY48*AQ48 -> 5624.1 | BC48: =AY48*$BC$16*AO48 -> 2843.295 | BD48: =(AZ48+BA48+BB48+BC48)+((AZ48+BA48+BB48+BC48)*$BG$23)+((AZ48+BA48+BB48+BC48)*$BH$23)+((AZ48+BA48+BB48+BC48)*$BF$23)+BG18 -> 233422.7
...

Sheet 2023 observācija
J1: 5.4. pielikums
A2: Piemaksas par pacientu observāciju 24 stundas gada apjoms, no 01.04.2023.
A3: Saskaņā ar MK noteikumiem Nr. 555 "Veselības aprūpes pakalpojumu organizēšanas un samaksas kārtība" veselības aprūpes pakalpojumu tarifus aprēķina, izmantojot šādu formulu: TC = VC (D + S + M + E) + FC (U + A + N), kur TC – veselības aprūpes pakalpojuma tarifs; VC – mainīgās izmaksas (tiešās izmaksas): D – darba samaksa; S – valsts sociālās apdrošināšanas obligātās iemaksas; M – ārstniecības līdzekļi; E – izdevumi, saistīti ar pacientu ēdināšanu; FC – pastāvīgās izmaksas (netiešās izmaksas): U – pieskaitāmās un netiešās ražošanas izmaksas (ar pacientu uzturēšanu saistītie izdevumi pakalpojumu apmaksai, riska maksājuma veikšanai, materiālu, energoresursu, ūdens un inventāra iegādei); A – administratīvie izdevumi; N – nolietojums.
A4: Nosaukums | B4: Darba samaksa | C4: Valsts sociālās apdrošināšanas obligātās iemaksas | D4: Ārstniecības līdzekļi | E4: Izdevumi, saistīti ar pacientu ēdināšanu | F4: Pieskaitāmās un netiešās ražošanas izmaksas | G4: Administratīvie izdevumi | H4: Nolietojums | I4: Papildu finansējums pieskaitāmo izmaksu segšanai | J4: Kopā, EUR
B5: D | C5: S | D5: M | E5: E | F5: U | G5: A | H5: N | I5: u`
A6: 1 | B6: 2 | C6: 3 | D6: 4 | E6: 5 | F6: 6 | G6: 7 | H6: 8 | I6: 9 | J6: 10
A7: Valsts sabiedrība ar ierobežotu atbildību "Paula Stradiņa klīniskā universitātes slimnīca" | B7: 484989 | C7: 114404 | D7: 9249 | E7: 16038 | F7: 94303 | G7: 15343 | H7: 11708 | I7: 10692 | J7: 756726
A8: Sabiedrība ar ierobežotu atbildību "Rīgas Austrumu klīniskā universitātes slimnīca" | B8: 1292941 | C8: 304993 | D8: 24656 | E8: 42756 | F8: 251405 | G8: 40903 | H8: 31212 | I8: 28504 | J8: 2017370
A9: Valsts sabiedrība ar ierobežotu atbildību "Bērnu klīniskā universitātes slimnīca" | B9: 1662951 | C9: 392279 | D9: 162461 | E9: 31772 | F9: 323122 | G9: 52742 | H9: 40139 | I9: 21181 | J9: 2686647
A10: Sabiedrība ar ierobežotu atbildību "Liepājas reģionālā slimnīca" | B10: 99247 | C10: 23406 | D10: 2092 | E10: 3627 | F10: 19284 | G10: 3143 | H10: 2394 | I10: 2418 | J10: 155611
A11: Sabiedrība ar ierobežotu atbildību "Daugavpils reģionālā slimnīca" | B11: 247666 | C11: 58409 | D11: 5219 | E11: 9051 | F11: 48121 | G11: 7844 | H11: 5974 | I11: 6034 | J11: 388318
A12: Sabiedrība ar ierobežotu atbildību "Ziemeļkurzemes reģionālā slimnīca" | B12: 96456 | C12: 22748 | D12: 2033 | E12: 3525 | F12: 18741 | G12: 3055 | H12: 2327 | I12: 2350 | J12: 151235
A13: Sabiedrība ar ierobežotu atbildību "Jelgavas pilsētas slimnīca" | B13: 114269 | C13: 26949 | D13: 2408 | E13: 4176 | F13: 22202 | G13: 3619 | H13: 2756 | I13: 2784 | J13: 179163
A14: Sabiedrība ar ierobežotu atbildību "Vidzemes slimnīca" | B14: 97441 | C14: 22980 | D14: 2054 | E14: 3561 | F14: 18933 | G14: 3086 | H14: 2350 | I14: 2374 | J14: 152779
A15: Sabiedrība ar ierobežotu atbildību "Jēkabpils reģionālā slimnīca" | B15: 106389 | C15: 25091 | D15: 2242 | E15: 3888 | F15: 20671 | G15: 3370 | H15: 2566 | I15: 2592 | J15: 166809
A16: Pašvaldības sabiedrība ar ierobežotu atbildību "Rēzeknes slimnīca" | B16: 87180 | C16: 20560 | D16: 1837 | E16: 3186 | F16: 16939 | G16: 2761 | H16: 2103 | I16: 2124 | J16: 136690
A17: Madonas novada pašvaldības sabiedrība ar ierobežotu atbildību "Madonas slimnīca" | B17: 38418 | C17: 9060 | D17: 810 | E17: 1404 | F17: 7465 | G17: 1217 | H17: 927 | I17: 936 | J17: 60237
A18: Sabiedrība ar ierobežotu atbildību "Cēsu klīnika" | B18: 45150 | C18: 10648 | D18: 952 | E18: 1650 | F18: 8773 | G18: 1430 | H18: 1089 | I18: 1100 | J18: 70792
... A33: Kopā | B33: 4748867 | C33: 1120151 | D33: 224105 | E33: 139859 | F33: 919850 | G33: 149906 | H33: 114217 | I33: 93239 | J33: 7510194

Sheet 2023 aprēķins
L1: 5.5. pielikums
A2: Piemaksas par pacientu observāciju 24 stundas gada apjoms
D3: D | E3: S | F3: M | G3: E | H3: U | I3: A | J3: N | K3: u` (pieskaitāmās izmaksas, kas piešķirtas uz 2023. gada 1.04. komunālo maksājumu segšanai) | L3: KOPĀ, EUR
A4: 2023,g. | B4: Plānotais hospitalizāciju skaits 2012.g. | C4: reģion. gd | D4: 82.09 | E4: 19.36 | F4: 1.73 | G4: 3 | H4: 15.95 | I4: 2.6 | J4: 1.98 | K4: 2 | L4: =SUM(D4:K4) -> 128.71
C5: BKUS gd | D5: 157.02 | E5: 37.04 | F5: 15.34 | G5: 3 | H5: 30.51 | I5: 4.98 | J5: 3.79 | K5: 2 | L5: =SUM(D5:K5) -> 253.68
C6: univeer.gd | D6: 90.72 | E6: 21.4 | F6: 1.73 | G6: 3 | H6: 17.64 | I6: 2.87 | J6: 2.19 | K6: 2 | L6: =SUM(D6:K6) -> 141.55
B7: Kopā | C7: spec.nark.gd. | D7: 57.19 | E7: 13.49 | F7: 1.31 | G7: 3 | H7: 9.21 | I7: 1.5 | J7: 1.14 | K7: 2 | L7: =SUM(D7:K7) -> 88.84
A8: Valsts sabiedrība ar ierobežotu atbildību "Paula Stradiņa klīniskā universitātes slimnīca" | B8: 5346 | D8: =ROUND($B8*D$6,0) -> 484989 | E8: =ROUND($B8*E$6,0) -> 114404 | F8: =ROUND($B8*F$6,0) -> 9249 | G8: =ROUND($B8*G$6,0) -> 16038 | H8: =ROUND($B8*H$6,0) -> 94303 | I8: =ROUND($B8*I$6,0) -> 15343 | J8: =ROUND($B8*J$6,0) -> 11708 | K8: =ROUND($B8*K$6,0) -> 10692 | L8: =ROUND(SUM(D8:K8),2) -> 756726
