Workbook

Sheet Kopsavilkums
A2: Risinājums | B2: Risinājuma pasākumi | C2: Budžeta programmas (apakšprogrammas) kods un nosaukums | D2: Vidēja termiņa budžeta ietvara likumā plānotais finansējums | G2: Nepieciešamais papildu finansējums | L2: Pasākuma īstenošanas gads (ja risinājuma (risinājuma varianta) īstenošana ir terminēta)
D4: 2022 | E4: 2023 | F4: 2024 | G4: 2023 | H4: 2024 | I4: 2025 | J4: turpmākajā laikposmā līdz risinājuma (risinājuma varianta) pabeigšanai (ja īstenošana ir terminēta) | K4: turpmāk ik gadu (ja risinājuma (risinājuma varianta) izpilde nav terminēta)
A6: Finansējums konceptuālā ziņojuma īstenošanai kopā | D6: =D8+D10+D12+D15+D19 -> 181122752 | E6: =E8+E10+E12+E15+E19 -> 181122752 | F6: =F8+F10+F12+F15+F19 -> 181122752 | G6: =G8+G10+G12+G15+G19 -> 101060009 | H6: =H8+H10+H12+H15+H19 -> 132974640 | I6: =I8+I10+I12+I15+I19 -> 140993892 | K6: =K8+K10+K12+K15+K19 -> 140993892
A7: 2.risinājums | B7: 1. pasākums*
B8: *Atbilstoši Finanšu ministrijas veiktajam novērtējumam Pievienotās vērtības nodokļa (turpmāk - PVN) ieņēmumi no medikamentu piegādēm 2023.gadā pie nemainīgas politikas veidotu 44 milj. euro, savukārt pie PVN samazinātās likmes 5% apmērā tie būtu 18 milj. euro. Līdz ar to ieviešot Koncepcijas 2. Risinājuma varianta pirmajā daļā paredzēto - samazināt PVN likmi no 12% uz 5% - no 2023.gada 1.janvāra tas radīs ikgadējo negatīvo fiskālo ietekmi 26 milj. euro apmērā.
B9: 2. pasākums
B10: 29 Veselības ministrija | D10: 0 | E10: 0 | F10: 0 | G10: 0 | H10: 0 | I10: 0 | K10: 0
B11: 3. pasākums
B12: 29 Veselības ministrija | D12: =D13 -> 48271334 | E12: =E13 -> 48271334 | F12: =F13 -> 48271334 | G12: =G13 -> 1744285 | H12: =H13 -> 1744285 | I12: =I13 -> 1744285 | K12: =K13 -> 1744285
C13: 33.03.00 "Kompensējamo medikamentu un materiālu apmaksāšana" | D13: 48271334 | E13: 48271334 | F13: 48271334 | G13: 1744285 | H13: 1744285 | I13: 1744285 | K13: 1744285
B14: 4. pasākums
B15: 29 Veselības ministrija | D15: =D16+D17 -> 132851418 | E15: =E16+E17 -> 132851418 | F15: =F16+F17 -> 132851418 | G15: =G16+G17 -> 99315724 | H15: =H16+H17 -> 131230355 | I15: =I16+I17 -> 139249607 | K15: =K16+K17 -> 139249607
C16: 33.03.00 "Kompensējamo medikamentu un materiālu apmaksāšana" | D16: 130227705 | E16: 130227705 | F16: 130227705 | G16: 98669707 | H16: 130704601 | I16: 138723853 | K16: =I16 -> 138723853
C17: 33.04.00 "Centralizēta medikamentu un materiālu iegāde" | D17: 2623713 | E17: 2623713 | F17: 2623713 | G17: 646017 | H17: 525754 | I17: 525754 | K17: =I17 -> 525754
B18: 5. pasākums
B19: 29 Veselības ministrija | D19: 0 | E19: 0 | F19: 0 | G19: 0 | H19: 0 | I19: 0 | K19: 0

Sheet 3p_pielikums
G1: Risinājuma 3.pasākuma pielikums
A2: Nepieciešamais finansējums pacientu līdzmaksājuma samazināšanai pie noteikta maksimālā pacientu līdzmaksājuma apmēra
A3: Ierīces | B3: Prognozējamais pacientu skaits | C3: 2023.gads | E3: 2024.gads | G3: 2025.gads un turpmāk ik gadu | I3: Prioritāro pasākumu (tai skaitā starpnozaru) saraksta kartiņas Nr.
C4: Prognozējamās izmaksas 1 pac. gadā, euro | D4: Prognozētais nepieciešamais finansējums, euro gadā | E4: Prognozējamais pacientu skaits | F4: Prognozētais nepieciešamais finansējums, euro gadā | G4: Prognozējamais pacientu skaits | H4: Prognozētais nepieciešamais finansējums, euro gadā
A5: Maksimālais pacientu līdzmaksājums 250 eur gadā | B5: 15417 | C5: =D5/B5 -> 113.14036 | D5: 1744285 | E5: =B5 -> 15417 | F5: =E5*C5 -> 1744285 | G5: =E5 -> 15417 | H5: =G5*C5 -> 1744285 | I5: 29_02_P

Sheet 4p_kopsavilkums
B1: Risinājuma 4.pasākuma kopsavilkuma pielikums
A2: Nepieciešamais finansējums, lai uzlabotu kompensējamo zāļu, t.sk. onkoloģijā finansiālo pieejamību pacientiem
A3: Pasākums | B3: Nepieciešamais finansējuma apmērs, euro | E3: Prioritāro pasākumu (tai skaitā starpnozaru) saraksta kartiņas Nr.
B4: 2023.gads | C4: 2024.gads | D4: 2025.gads un turpmāk ik gadu
A5: Kopā, euro | B5: =B6+B7 -> 99315724 | C5: =C6+C7 -> 1.3123035e+08 | D5: =D6+D7 -> 1.3924961e+08
A6: 33.03.00 | B6: =B9+B11+B12+B13+B14+B15+B16+B17+B18 -> 98669707 | C6: =C9+C11+C12+C13+C14+C15+C16+C17+C18 -> 1.307046e+08 | D6: =D9+D11+D12+D13+D14+D15+D16+D17+D18 -> 1.3872385e+08
A7: 33.04.00 | B7: =B10 -> 646017 | C7: =C10 -> 525754 | D7: =D10 -> 525754
A8: Medikamenti (Veselības aprūpes pakalpojumu onkoloģijas jomā uzlabošanas plāns 2022.–2024. gadam) | B8: =B9+B10 -> 62916632 | C8: =C9+C10 -> 77408231 | D8: =D9+D10 -> 77551261 | E8: 29_04_P
A9: 33.03.00 | B9: ='4p_pielikums_Nr1'!D69 -> 62270615 | C9: ='4p_pielikums_Nr1'!E69 -> 76882477 | D9: ='4p_pielikums_Nr1'!F69 -> 77025507
A10: 33.04.00 | B10: ='4p_pielikums_Nr1'!D68 -> 646017 | C10: ='4p_pielikums_Nr1'!E68 -> 525754 | D10: ='4p_pielikums_Nr1'!F68 -> 525754
A11: Paplašināt medikamentozās ārstēšanas iespējas RS pacientiem ("Plāns reto slimību jomā 2023. - 2025.gadam" (projekts)) 33.03.00 | B11: ='4p_pielikums_Nr2'!E6 -> 6153300 | C11: ='4p_pielikums_Nr2'!H6 -> 11275590 | D11: ='4p_pielikums_Nr2'!K6 -> 12102128 | E11: 29_02_P
A12: Medikamentu kompensācijas apmēra palielināšanai no 50% uz 75% (33.03.00) | B12: ='4p_pielikums_Nr3'!D6 -> 2088851.4 | C12: ='4p_pielikums_Nr3'!D6 -> 2088851.4 | D12: ='4p_pielikums_Nr3'!D6 -> 2088851.4
A13: Jaunu diagnožu iekļaušana KZS un kompensācijas paplašināšana KZS jaunām diagnozēm ar esošām un jaunām zālēm (33.03.00) | B13: ='4p_pielikums_Nr4'!E12 -> 1220178.8 | C13: ='4p_pielikums_Nr4'!H12 -> 2712955 | D13: ='4p_pielikums_Nr4'!K12 -> 3108095
A14: Nepieciešamo medikamentu nodrošināšana sirds un asinsvadu sistēmas terapijas turpināšanai (terapija uzsākta 2018.gadā) 33.03.00 | B14: ='4p_pielikums_Nr5'!F4 -> 1118000 | C14: ='4p_pielikums_Nr5'!F4 -> 1118000 | D14: ='4p_pielikums_Nr5'!F4 -> 1118000
A15: Ikgadējais unikālo pacientu skaita pieaugums 2% 2022.gadā un turpmākajos gados esošajām diagnozēm (33.03.00) | B15: ='4p_pielikums_Nr6'!E5 -> 1763914.3 | C15: ='4p_pielikums_Nr6'!G5 -> 5362437.6 | D15: ='4p_pielikums_Nr6'!I5 -> 9032695.4 | E15: 29_15_P
A16: Medikamentu kompensācijas apmēra palielināšana no 75% uz 100% (33.03.00) | B16: ='4p_pielikums_Nr7'!D6 -> 11708666 | C16: ='4p_pielikums_Nr7'!D6 -> 11708666 | D16: ='4p_pielikums_Nr7'!D6 -> 11708666
A17: Medikamenti ("Psihiskās veselības aprūpes uzlabošanas plāns 2023. - 2025.gadam" (projekts)) 33.03.00 | B17: ='4p_pielikums_Nr8'!E18 -> 3201580.2 | C17: ='4p_pielikums_Nr8'!H18 -> 5265450.2 | D17: ='4p_pielikums_Nr8'!K18 -> 6199731.6 | E17: 29_02_P
A18: Jaunu zāļu iekļaušana un kompensācijas paplašināšana (33.03.00) | B18: ='4p_pielikums_Nr9'!D9 -> 9144601.7 | C18: ='4p_pielikums_Nr9'!G9 -> 14290174 | D18: ='4p_pielikums_Nr9'!J9 -> 16340179

Sheet 4p_pielikums_Nr1
G1: Risinājuma 4.pasākuma pielikums Nr.1 (dati no "Veselības aprūpes pakalpojumu onkoloģijas jomā uzlabošanas plāns 2022. - 2024. gadam")
A2: Dzimumneitrālas vakcinācijas pret cilvēka papilomas vīrusu (CPV) ieviešana valsts vakcinācijas programmā no 2022.gada
A4: Vakcīna | B4: 9-valentās vakcīnas cena ar PVN, euro (2020/2021 iepirkums) | C4: 2021.gadam plānotais daudzums | D4: Plānotā summa 2021.gadā
A7: 1 | B7: 2 | C7: 3 | D7: 4
A8: Vakcīna pret cilvēka papilomas vīrusu (CPV) (12 gadi (meitenes)) | B8: =ROUND(51.5*1.12,2) -> 57.68 | C8: 15090 | D8: =B8*C8 -> 870391.2
A10: Nosaukums | B10: Vecuma grupa | C10: Skaidrojums | D10: 2023. gads | G10: 2024. gads un turpmāk
D11: Demogrāfiskie dati (personu skaits) | E11: Prognozējamais daudzums (vakcīnas devas apaļojot) | F11: Vakcīnas iegādei nepieciešamais finansējums, euro | G11: Demogrāfiskie dati (personu skaits) | H11: Prognozējamais daudzums (vakcīnas devas apaļojot) | I11: Vakcīnas iegādei nepieciešamais finansējums, euro
A12: Vakcīna pret cilvēka papilomas vīrusa infekciju (CPV) | B12: 12 gadi (meitenes) | C12: 2020.gadā plānotā aptvere - 70%, 2 potes atbilstoši Sabiedrības veselības pamatnostādnēm 2014.-2020. | D12: 9951 | E12: 13935 | F12: =ROUNDUP(E12*B8,0) -> 803771 | G12: 8929 | H12: 12505 | I12: =ROUNDUP(H12*B8,0) -> 721289
A13: Vakcīna pret cilvēka papilomas vīrusa infekciju (CPV) | B13: 12 gadi (zēni) | C13: Vidēja aptvere 2011.-2012. gadā, uzsākot meiteņu vakcināciju - 60%, 2 potes. | D13: 10296 | E13: 12355 | F13: =ROUNDUP(E13*B8,0) -> 712637 | G13: 9749 | H13: 11700 | I13: =ROUNDUP(H13*B8,0) -> 674856
A14: Vakcīna pret cilvēka papilomas vīrusa infekciju (CPV) | B14: KOPĀ (meitenēm un zēniem) | D14: =D12+D13 -> 20247 | E14: =E12+E13 -> 26290 | F14: =F12+F13 -> 1516408 | G14: =G12+G13 -> 18678 | H14: =H12+H13 -> 24205 | I14: =I12+I13 -> 1396145
A15: 2021.gadā budžetā plānotie līdzekļi meiteņu vakcinēšanai pret CPV | E15: 15090 | F15: =870391 -> 870391 | H15: 15090 | I15: =870391 -> 870391
A16: Papildus nepieciešamais finansējums dzimumneitrālai vakcinēšanai pret CPV | E16: =E14-E15 -> 11200 | F16: =F14-F15 -> 646017 | H16: =H14-H15 -> 9115 | I16: =I14-I15 -> 525754
A17: Pasākums īstenojams apakšprogrammas 33.04.00 “Centralizēta medikamentu un materiālu iegāde” ietvaros
A22: Uzlabot nodrošināšanu ar inovatīvajiem medikamentiem dažādu lokalizāciju audzēju gadījumā, kā arī paplašināt medikamentozās terapijas pieejamību un nepārtrauktību onkoloģiskajiem pacientiem*
A24: Diagnoze/ diagnožu grupa | B24: Prognozējamais pacientu skaits 1. gadā | C24: Prognozētais nepieciešamais finansējums 1. gadā, euro | D24: Prognozējamais pacientu skaits 2. gadā | E24: Prognozētais nepieciešamais finansējums 2. gadā, euro | F24: Prognozējamais pacientu skaits 3. gadā | G24: Prognozētais nepieciešamais finansējums 3. gadā, euro | M24: Iesniegts Veselības aprūpes pakalpojumu onkoloģijas jomā uzlabošanas plāna 2022. - 2024. gadam projektā
A25: tikai jaunās zāles | B25: 1255 | C25: 49635545 | D25: 2028 | E25: 71720375 | F25: 2514 | G25: 86089237
A26: no jaunajām zālēm - tikai personalizētā medicīna | B26: 336 | C26: 14395345 | D26: 457 | E26: 20407908 | F26: 527 | G26: 23996483
C27: 2022.gads | E27: 2023.gads | G27: 2024.gads un turpmāk ik gadu
A30: Nepieciešamo medikamentu nodrošināšana onkoloģiskās inovatīvās terapijas turpināšanai (terapija uzsākta 2018.gadā)
A31: Diagnoze/ diagnožu grupa | B31: Prognozējamais pacientu skaits (pacienti, kas jau saņem terapiju + potenciālie pacienti nākošajā gadā) | C31: Vidējās viena pacienta izmaksas | D31: Finansējums kopā, euro | E31: 2021.gadam piešķirtie līdzekļi | F31: Prognozētais pacientu skaits 2021.gadā | G31: Prognozētais nepieciešamais papildus finansējums 2022.gadā, euro | H31: Prognozējamais pacientu skaits (pacienti, kas jau saņem terapiju + potenciālie pacienti nākošajā gadā) 2022.gadā* | I31: Prognozētais nepieciešamais papildus finansējums 2023.gadā, euro | J31: Prognozējamais pacientu skaits (pacienti, kas jau saņem terapiju + potenciālie pacienti nākošajā gadā) 2023.gadā* | K31: Prognozētais nepieciešamais papildus finansējums 2024.gadā, euro | L31: Prognozējamais pacientu skaits (pacienti, kas jau saņem terapiju + potenciālie pacienti nākošajā gadā) 2024.gadā* | M31: Finansējums, kas piešķirts caur prioritārajiem pasākumiem
A32: Onkoloģija | B32: 1373 | C32: =D32/B32 -> 13078.213 | D32: 17956386 | E32: =6600000+1600000+1146511 -> 9346511 | F32: =ROUND(E32/C32,0) -> 715 | G32: =D32-E32 -> 8609875 | H32: =1025+300 -> 1325 | I32: =G32 -> 8609875 | J32: =1025+300 -> 1325 | K32: =G32 -> 8609875 | L32: =1025+300 -> 1325
A34: * 2022.-2024.gadā plānots turpināt terapiju esošiem 1025 pacientiem un 300 jauniem pacientiem no 2022.gada. Pacientu kāpums turpmākajos gados nav paredzēts.
A36: Jaunu medikamentu nodrošināšana onkoloģiskās inovatīvās terapijas uzsākšanai
A37: Diagnoze/ diagnožu grupa | B37: Prognozējamais pacientu skaits 1. un 2.gadā | C37: Viena pacienta vidējās izmaksas 1.un 2.gadā (euro) | D37: Prognozētais nepieciešamais finansējums 1.un 2. gadā, euro | E37: Prognozējamais pacientu skaits 3. gadā | F37: Viena pacienta vidējās izmaksas 3.gadā (euro) | G37: Prognozētais nepieciešamais finansējums 3. gadā, euro
A38: Onkoloģija jaunās zāles | B38: 381 | C38: 30358.931 | D38: =ROUND(B38*C38,0) -> 11566753 | E38: 381 | F38: 30096.464 | G38: =ROUND(E38*F38,0) -> 11466753
D39: 2022. un 2023. gads | G39: 2024.gads
E42: Papildus nepieciešamais finansējums 2022.gadā, euro | F42: Papildus nepieciešamais finansējums 2023.gadā, euro | G42: Papildus nepieciešamais finansējums 2024.gadā un turpmāk, euro
E43: =G32+D38 -> 20176628 | F43: =I32+D38 -> 20176628 | G43: =K32+G38 -> 20076628
A44: Pasākumu plānots īstenot apakšprogrammas 33.03.00 "Kompensējamo medikamentu un materiālu apmaksāšana" ietvaros
F46: Papildus nepieciešamais finansējums 2023.gadā, euro | G46: Papildus nepieciešamais finansējums 2024.gadā un turpmāk, euro
F47: =E25-F43 -> 51543747 | G47: =G25-G43 -> 66012609
A48: *Ņemot vērā to, ka informācija par medikamentu cenām ir konfidenciāla, kā arī, lai novērstu iespēju ietekmēt lēmumu pieņemšanu, detalizēti aprēķini netiek sniegti.
A52: Jaunu zāļu iekļaušana un kompensācijas paplašināšana (tikai iesniegumi līdz 01.01.2021.)*
A53: Diagnoze/ diagnožu grupa | B53: Prognozējamais pacientu skaits 1. gadā | C53: Prognozētais nepieciešamais finansējums 1. gadā, EUR | D53: Prognozējamais pacientu skaits 2. gadā | E53: Prognozētais nepieciešamais finansējums 2. gadā, EUR | F53: Prognozējamais pacientu skaits 3. gadā | G53: Prognozētais nepieciešamais finansējums 3. gadā, EUR
A54: kompensācijas maiņa vecajām zālēm | B54: 4977.7778 | C54: 2116993 | D54: 5016 | E54: 2259993 | F54: 5053.6111 | G54: 2403023
C55: 2023.gads | E55: 2024.gads | G55: 2025.gads un turpmāk ik gadu
A57: *Ņemot vērā to, ka informācija par medikamentu cenām ir konfidenciāla, kā arī, lai novērstu iespēju ietekmēt lēmumu pieņemšanu, detalizēti aprēķini netiek sniegti.
A61: Nepieciešamo medikamentu nodrošināšana onkoloģiskās inovatīvās terapijas turpināšanai*
A62: Diagnoze/ diagnožu grupa | B62: Prognozējamais pacientu skaits (pacienti, kas jau saņem terapiju + potenciālie pacienti nākošajā gadā) | C62: Vidējās viena pacienta izmaksas | D62: Finansējums kopā, EUR | E62: 2021.gadam piešķirtie līdzekļi | F62: Prognozētais nepieciešamais finansējums, EUR gadā
A63: Onkoloģija | B63: 1373 | C63: 13078.213 | D63: =B63*C63 -> 17956386 | E63: 9346511 | F63: =D63-E63 -> 8609875
A65: *Ņemot vērā to, ka informācija par medikamentu cenām ir konfidenciāla, kā arī, lai novērstu iespēju ietekmēt lēmumu pieņemšanu, detalizēti aprēķini netiek sniegti.
D67: Nepieciešamais finansējums 2023.gadā | E67: Nepieciešamais finansējums 2024.gadā | F67: Nepieciešamais finansējums 2025.gadā un turpmāk ik gadu | G67: Sadalījums pa apakšprogrammām
D68: =F16 -> 646017 | E68: =I16 -> 525754 | F68: =I16 -> 525754 | G68: 33.04.00 “Centralizēta medikamentu un materiālu iegāde”
D69: =F47+C54+F63 -> 62270615 | E69: =G47+E54+F63 -> 76882477 | F69: =G47+G54+F63 -> 77025507 | G69: 33.03.00 "Kompensējamo medikamentu un materiālu apmaksāšana"
C70: Kopā, euro | D70: =D68+D69 -> 62916632 | E70: =E68+E69 -> 77408231 | F70: =F68+F69 -> 77551261

Sheet 4p_pielikums_Nr2
H1: Risinājuma 4.pasākuma pielikums Nr.2 (dati no "Plāns reto slimību jomā 2023. - 2025.gadam" (projekts))
A2: Paplašināt medikamentozās ārstēšanas iespējas RS pacientiem
C3: 2023. gads | F3: 2024. gads | I3: 2025. gads un turpmāk ik gadu
A4: Nr. | B4: Plānotais pasākums | C4: Prognozējamais pacientu/izmeklējumu skaits | D4: Prognozējamās izmaksas 1. gadā, euro | E4: Prognozētais nepieciešamais finansējums, euro gadā | F4: Prognozējamais pacientu/izmeklējumu skaits | G4: Prognozējamās izmaksas 2. gadā, euro | H4: Prognozētais nepieciešamais finansējums, euro gadā | I4: Prognozējamais pacientu/izmeklējumu skaits | J4: Prognozējamās izmaksas 3. gadā, euro | K4: Prognozētais nepieciešamais finansējums, euro gadā
A5: 1 | B5: Regulāri sagatavot un iesniegt VM nepieciešamo finansējuma apjomu jaunu zāļu iekļaušanai reto slimību ārstēšanai | C5: 75 | D5: 82044 | E5: =C5*D5 -> 6153300 | F5: 102 | G5: 110545 | H5: =F5*G5 -> 11275590 | I5: 107 | J5: 113104 | K5: =I5*J5 -> 12102128
A6: Kopā: | C6: =SUM(C5:C5) -> 75 | E6: =E5 -> 6153300 | F6: =SUM(F5:F5) -> 102 | H6: =H5 -> 11275590 | I6: =SUM(I5:I5) -> 107 | K6: =K5 -> 12102128
A7: Budžeta programmas (apakšprogrammas kods un nosaukums) | C7: 33.03.00 "Kompensējamo medikamentu un materiālu apmaksāšana" | E7: =E6 -> 6153300 | F7: 33.03.00 "Kompensējamo medikamentu un materiālu apmaksāšana" | H7: =H6 -> 11275590 | I7: 33.03.00 "Kompensējamo medikamentu un materiālu apmaksāšana" | K7: =K6 -> 12102128

Sheet 4p_pielikums_Nr3
D1: Risinājuma 4.pasākuma pielikums Nr.3
A2: Medikamentu kompensācijas apmēra palielināšanai no 50% uz 75%
A3: Kompensācijas apmērs | B3: Prognozējamais pacientu skaits | C3: Vidējās izmaksas uz 1 pacientu, euro | D3: Prognozētais nepieciešamais finansējums gadā (2023.gads un turpmāk ik gadu), euro
A4: 0.5 | B4: 162521 | C4: 25.700037 | D4: =B4*C4 -> 4176795.7
A5: 0.75 | B5: 162533 | C5: 38.55 | D5: =B5*C5 -> 6265647.1
A6: Starpība (deficīts) | D6: =D5-D4 -> 2088851.4
A8: Diagnozes:
A9: Diagnozes kods (SSK-10 klasifikācija) | B9: Diagnoze | C9: Esošais kompensācijas apmērs | D9: Plānotais kompensācijas apmērs
A10: Asins un asinsrades orgānu slimības
A11: D76.1 | B11: Hemofagocītiska limfohistiocitoze | C11: 0.5 | D11: 0.75
A12: D76.2 | B12: Ar infekciju saistīts hemofagocītisks sindroms | C12: 0.5 | D12: 0.75
A13: Ādas un zemādas slimības
A14: L10 | B14: Pemfiguss | C14: 0.5 | D14: 0.75
A15: L13.0 | B15: Dīringa slimība | C15: 0.5 | D15: 0.75
A16: Elpošanas sistēmas slimības
A17: J44 | B17: HOPS | C17: 0.5 | D17: 0.75
A18: J47 | B18: Bronhektāzes | C18: 0.5 | D18: 0.75
A19: J99 | B19: Elpošanas orgānu bojājums | C19: 0.5 | D19: 0.75
A20: Endokrīnās, uztures un vielmaiņas slimības
A21: E05 | B21: Tireotoksikoze | C21: 0.5 | D21: 0.75
A22: E20 | B22: Hipoparatireoze | C22: 0.5 | D22: 0.75
A23: E25 | B23: Adrenoģenitāli traucējumi | C23: 0.5 | D23: 0.75
A24: E78 | B24: Lipoproteīnu vielmaiņas traucējumi | C24: 0.5 | D24: 0.75
A25: Gremošanas sistēmas slimības
A26: K25- K28 | B26: Kuņģa, duodēna u.c. čūlas | C26: 0.5 | D26: 0.75
A27: K86.1 | B27: Cita veida hroniski pankreatīti | C27: 0.5 | D27: 0.75
A28: Muskuļu, skeleta un saistaudu slimības
A29: M02 | B29: Reaktīvas artropātijas | C29: 0.5 | D29: 0.75
A30: M46, M47 | B30: Spondilopātijas, spondilozes | C30: 0.5 | D30: 0.75
A31: M80, M81, M82 | B31: Osteoporoze | C31: 0.5 | D31: 0.75
A32: Infekcijas un parazitārās slimības
A33: A51 | B33: Svaigs sifiliss | C33: 0.5 | D33: 0.75
A34: B02.2 | B34: Jostas roze | C34: 0.5 | D34: 0.75
A35: Nervu sistēmas slimības
A36: G11 | B36: Centrālās nervu sistēmas primāras sistēmiskas atrofijas | C36: 0.5 | D36: 0.75
A37: G24 | B37: Distonija | C37: 0.5 | D37: 0.75
A38: G45 | B38: Cerbrāla transitoriska išēmiska lēkme | C38: 0.5 | D38: 0.75
A39: G50, G54, G56, G60- G63, G95 | B39: Neiropātiskās sāpes | C39: 0.5 | D39: 0.75
A40: Uroģenitālās sistēmas slimības
A41: N40 | B41: Prostatas hiperplāzija | C41: 0.5 | D41: 0.75
A42: N80 | B42: Endometrioze | C42: 0.5 | D42: 0.75
A43: N92, N95 | B43: Menstruāli traucējumi | C43: 0.5 | D43: 0.75

Sheet 4p_pielikums_Nr4
H1: Risinājuma 4.pasākuma pielikums Nr.4
A2: Jaunu diagnožu iekļaušana KZS un kompensācijas paplašināšana KZS jaunām diagnozēm ar esošām un jaunām zālēm
A3: Diagnožu grupa | B3: Diagnoze | C3: 2023.gads | F3: 2024.gads | I3: 2025.gads un turpmāk ik gadu
C4: Prognozējamais pacientu skaits | D4: Prognozējamās izmaksas 1 pac. gadā, euro | E4: Prognozētais nepieciešamais finansējums, euro gadā | F4: Prognozējamais pacientu skaits 2. gadā | G4: Prognozējamās izmaksas 1 pac.2. gadā, euro | H4: Prognozētais nepieciešamais finansējums, euro 2. gadā | I4: Prognozējamais pacientu skaits 3. gadā | J4: Prognozējamās izmaksas 1 pac.3 gadā, euro | K4: Prognozētais nepieciešamais finansējums, euro 3. gadā
A5: Sirds- asinsvadu sistēma | B5: Plaušu embolija (I26) (75%) | F5: 1500 | G5: 350 | H5: =F5*G5 -> 525000 | I5: 2000 | J5: 350 | K5: =I5*G5 -> 700000
B6: Dziļo vēnu tromboze (I80, I82) (75%) | F6: 1500 | G6: 350 | H6: =G6*F6 -> 525000 | I6: 2000 | J6: 350 | K6: =I6*G6 -> 700000
A7: Faktori, kas ietekmē veselību | B7: Ortopēdisks locītavas implantāts (Z96.6) Cits precizēts funkcionāls implantāts (Z96.8) | F7: 1400 | G7: 73 | H7: =G7*F7 -> 102200 | I7: 1400 | J7: 73 | K7: =I7*G7 -> 102200
B8: Transplantācija (Z94) | F8: 15 | G8: 3000 | H8: =G8*F8 -> 45000 | I8: 15 | J8: 3000 | K8: =I8*G8 -> 45000
A9: Acu un to palīgorgānu slimības | B9: Iridociklīts, uveīts (H20) | F9: 50 | G9: 2257 | H9: =G9*F9 -> 112850 | I9: 70 | J9: 2257 | K9: =I9*G9 -> 157990
A10: Nervu sistēma | B10: Migrēna (G43) | C10: 5600 | D10: 120 | E10: =C10*D10 -> 672000 | F10: 5600 | G10: 120 | H10: =F10*G10 -> 672000 | I10: 5600 | J10: 120 | K10: =I10*J10 -> 672000
A11: Ginekoloģija | B11: Mioma | C11: 750 | D11: 730.905 | E11: =C11*D11 -> 548178.75 | F11: 1000 | G11: 730.905 | H11: =F11*G11 -> 730905 | I11: 1000 | J11: 730.905 | K11: =I11*J11 -> 730905
A12: KOPĀ | C12: =C10+C11 -> 6350 | E12: =E10+E11 -> 1220178.8 | F12: =SUM(F5:F11) -> 11065 | H12: =SUM(H5:H11) -> 2712955 | I12: =SUM(I5:I11) -> 12085 | K12: =SUM(K5:K11) -> 3108095
E13: 2023.gadā | H13: 2024.gadā | K13: 2025.gadā

Sheet 4p_pielikums_Nr5
D1: Risinājuma 4.pasākuma pielikums Nr.5
A2: Nepieciešamo medikamentu nodrošināšana onkoloģiskās inovatīvās terapijas turpināšanai un sirds un asisnsvadu sistēmas terapijas turpināšanai (terapija uzsākta 2018.gadā)
A3: Diagnoze/ diagnožu grupa | B3: Prognozējamais pacientu skaits (pacienti, kas jau saņem terapiju + potenciālie pacienti nākošajā gadā) | C3: Vidējās viena pacienta izmaksas | D3: Finansējums kopā, euro | E3: 2022.gadam piešķirtie līdzekļi | F3: Prognozētais nepieciešamais finansējums, euro gadā (2023.gads un turpmāk ik gadu)
A4: Sirds- asinsvadu sistēma | B4: 3500 | C4: 548 | D4: =B4*C4 -> 1918000 | E4: 800000 | F4: =D4-E4 -> 1118000

Sheet 4p_pielikums_Nr6
G1: Risinājuma 4.pasākuma pielikums Nr.6
A2: Ikgadējais unikālo pacientu skaita pieaugums 2023.gadā un turpmākajos gados esošajām diagnozēm
A3: Pasākums | B3: Prognozējamais pacientu skaits* | C3: Vidējās izmaksas uz 1 pacientu, euro | D3: Prognozējamais pacientu skaita pieaugums 2023. gadā | E3: Prognozētais nepieciešamais finansējums, euro 2023. gadā | F3: Prognozējamais pacientu pieaugums 2024. gadā | G3: Prognozētais nepieciešamais finansējums, euro 2024. gadā | H3: Prognozējamais pacientu pieaugums 2025. gadā un turpmāk ik gadu | I3: Prognozētais nepieciešamais finansējums, euro 2025. gadā un turpmāk ik gadu
A4: Pacientu skaits un izmaksas 2019.gadā | B4: 732766 | C4: 240.72 | D4: 0.01 | F4: 0.02 | H4: 0.02
A5: Pacientu skaita pieaugums | C5: 240.72 | D5: =B4*D4 -> 7327.66 | E5: =D5*C5 -> 1763914.3 | F5: 14949 | G5: =F5*C5+E5 -> 5362437.6 | H5: 15247 | I5: =H5*C5+G5 -> 9032695.4
A6: *Atbilstoši NVD Vadības informācijas sistēmas (VIS) datiem, 2019.gadā unikālo pacientu skaits pieaudzis attiecībā pret 2018.gadu par 2% ar nelielu kritumu 2020/2021 gados, tāpēc 2023.gadā tiek prognozēts 1% pieaugums un šāds ikgadējais pacientu skaita pieaugums 2% apmērā prognozēts nākošajos gados.

Sheet 4p_pielikums_Nr7
D1: Risinājuma 4.pasākuma pielikums Nr.7
A2: Medikamentu kompensācijas apmēra palielināšana no 75% uz 100%
B3: Prognozējamais pacientu skaits | C3: Vidējās izmaksas uz 1 pacientu, euro | D3: Prognozētais nepieciešamais finansējums gadā (2023.gadā un turpmāk ik gadu), euro
A4: 0.75 | B4: 528526 | C4: 66.473234 | D4: =B4*C4 -> 35132832
A5: 1 | B5: 528526 | C5: 88.626668 | D5: =B5*C5 -> 46841498
A6: Starpība (deficīts) | D6: =ROUND((D5-D4),0) -> 11708666
A8: Diagnozes:
A9: Diagnozes kods (SSK-10 klasifikācija) | B9: Diagnozes grupa / diagnoze | C9: Esošais kompensācijas apmērs | D9: Plānotais kompensācijas apmērs
A10: Asinsrites sistēmas slimības
A11: I00- I02 | B11: Reimatisms | C11: 0.75 | D11: 1
A12: I10- I15 | B12: Hipertensīvās slimības | C12: 0.75 | D12: 1
A13: I20, I21, I25 | B13: Sirds išēmiskās slimības | C13: 0.75 | D13: 1
A14: I42, I47, I48, I50 | B14: Citas sirds slimības | C14: 0.75 | D14: 1
A15: I60, I61, I63, I65- I67, I69 | B15: Cerebrovaskulāras slimības | C15: 0.75 | D15: 1
A16: I70.2 | B16: Ekstremitāšu artēriju ateroskleroze | C16: 0.75 | D16: 1
A17: Elpošanas sistēmas slimības
A18: J45.0; J45.1; J45.8; J45.9 | B18: Astma | C18: 0.75 | D18: 1
A19: Endokrīnās, uztures un vielmaiņas slimības
A20: E03.0 - E03.5; E03.8 | B20: Citi hipotireozes veidi | C20: 0.75 | D20: 1
A21: E22.1 | B21: Hiperprolaktinēmija | C21: 0.75 | D21: 1
A22: E22.2 | B22: Antidiurētiskā (ADH) hormona neatbilstošas sekrēcijas sindroms | C22: 0.75 | D22: 1
A23: E22.8 | B23: Citi hipofīzes hiperfunkcijas varianti (centrālas ģenēzes priekšlaicīga pubertāte) | C23: 0.75 | D23: 1
A24: E23.1 | B24: Medikamentu izraisīts hipopituitārisms | C24: 0.75 | D24: 1
A25: E23.2 | B25: Bezcukura diabēts (Diabetes insipidus) | C25: 0.75 | D25: 1
A26: E27.1; E27.3; E27.4 | B26: Citas virsnieru slimības | C26: 0.75 | D26: 1
A27: E28.3 | B27: Primāra olnīcu mazspēja | C27: 0.75 | D27: 1
A28: E30.1 | B28: Priekšlaicīga pubertāte | C28: 0.75 | D28: 1
A29: E89.0 - E89.6; E89.8; E89.9 | B29: Citur neklasificēti pēcmanipulāciju endokrīni un vielmaiņas traucējumi | C29: 0.75 | D29: 1
A30: Gremošanas sistēmas slimības
A31: K91.2 | B31: Citur neklasificēta malabsorbcija pēc ķirurģiskas operācijas | C31: 0.75 | D31: 1
A32: Nervu sistēmas slimības
A33: G20 | B33: Parkinsona slimība | C33: 0.75 | D33: 1
A34: G21.0- G21.4; G21.8; G21.9 | B34: Sekundārs parkinsonisms | C34: 0.75 | D34: 1
A35: G22 | B35: Parkinsona slimība citur klasificētu slimību dēļ | C35: 0.75 | D35: 1
A36: G70.0 - G70.2; G70.8 | B36: Myasthenia gravis un citas mioneirālas patoloģijas | C36: 0.75 | D36: 1
A37: G71.2 | B37: Iedzimtas miopātijas | C37: 0.75 | D37: 1
A38: Ievainojumi, saindēšanās un citas ārējas iedarbes sekas
A39: T66 | B39: Neprecizēta radiācijas ietekme | C39: 0.75 | D39: 1
A40: T91.1 | B40: Mugurkaulāja lūzuma sekas | C40: 0.75 | D40: 1
A41: T91.2 | B41: Citu krūšukurvja un iegurņa lūzumu sekas | C41: 0.75 | D41: 1
A42: T91.3 | B42: Muguras smadzeņu bojājuma sekas | C42: 0.75 | D42: 1
A43: T92.4 | B43: Augšējās ekstremitātes nerva bojājuma sekas | C43: 0.75 | D43: 1
A44: T93.4 | B44: Apakšējās ekstremitātes nerva bojājuma sekas | C44: 0.75 | D44: 1
A45: Grūtniecība, dzemdības un pēcdzemdību periods
A46: O22.3, O22.9 | B46: Venozas komplikācijas grūtniecības laikā | C46: 0.75 | D46: 1
A47: O99.1, O99.4 | B47: Citur klasificētas slimības, kas sarežģī grūtniecību, dzemdības un pēcdzemdību periodu | C47: 0.75 | D47: 1
A48: O99.1, O99.4 | B48: Citur klasificētas slimības, kas sarežģī grūtniecību, dzemdības un pēcdzemdību periodu | C48: 0.75 | D48: 1

Sheet 4p_pielikums_Nr8
I1: Risinājuma 4.pasākuma pielikums Nr.8 (dati no "Psihiskās veselības aprūpes uzlabošanas plāns 2023. - 2025.gadam" (projekts))
B2: Paplašināt medikamentozās terapijas pieejamību un nepārtrauktību pacientiem ar psihiskās veselības traucējumiem
A3: Budžeta programmas (apakšprogrammas) kods un nosaukums: | B3: Diagnoze | C3: Prognozējamais pacientu skaits 2023.gadā | D3: Prognozējamās izmaksas 2023. gadā, euro | E3: Prognozētais nepieciešamais finansējums, euro 2023.gadā | F3: Prognozējamais pacientu skaits 2024.gadā | G3: Prognozējamās izmaksas 2024. gadā, euro | H3: Prognozētais nepieciešamais finansējums, euro 2024.gadā | I3: Prognozējamais pacientu skaits 2025.gadā | J3: Prognozējamās izmaksas 2025. gadā, euro | K3: Prognozētais nepieciešamais finansējums, euro 2025.gadā un turpmāk ik gadu
A4: 33.03.00 "Kompensējamo medikamentu un materiālu apmaksāšana" | B4: 1.Uzlabota medikamentu pieejamība pacientiem ar šizofrēniju
B5: “depo” medikamenti pacientiem ar šizofrēniju (Xeplion) | C5: 434 | D5: 3739.159 | E5: =C5*D5 -> 1622795 | F5: 500 | G5: 3382.652 | H5: =G5*F5 -> 1691326 | I5: 500 | J5: 3382.652 | K5: =J5*I5 -> 1691326
B6: Olanzapina injekcijas | I6: 50 | J6: 4452.5 | K6: =I6*J6 -> 222625
B7: 2. Palielināts kompensējamo medikamentu skaits pacientiem ar depresiju un bipolāriem traucējumiem
B8: Esketamīns (F33 Rekurenti depresīvi traucējumi) | C8: 75 | D8: 17004.747 | E8: =C8*D8 -> 1275356 | F8: 120 | G8: 20740.308 | H8: =F8*G8 -> 2488837 | I8: 150 | J8: 19772.133 | K8: =I8*J8 -> 2965820
B9: Cariprazinum (100% apmērs) | F9: 100 | G9: 1009.09 | H9: =G9*F9 -> 100909 | I9: 150 | J9: 1009.09 | K9: =I9*J9 -> 151363.5
B10: Paloperidols pie bipolārajiem traucējumiem (75% apmērs) | F10: 100 | G10: 2496.33 | H10: =F10*G10 -> 249633 | I10: 150 | J10: 2496.33 | K10: =I10*J10 -> 374449.5
B11: 3.Palielināts medikamentu kompensācijas apmērs pacientiem ar demenci (vadlīnijās paredzētajiem medikamentiem)
B12: KZS jau esošie medikamenti | C12: 1723 | D12: 14.5091 | E12: =C12*D12 -> 24999.179 | F12: 1800 | G12: 14.509 | H12: =F12*G12 -> 26116.2 | I12: 1850 | J12: 14.509 | K12: =I12*J12 -> 26841.65
B13: Jaunās paaudzes medikamenti | C13: 600 | D13: 464.05 | E13: =C13*D13 -> 278430 | F13: 700 | G13: 464.05 | H13: =F13*G13 -> 324835 | I13: 800 | J13: 464.05 | K13: =I13*J13 -> 371240
B14: 4. Jaunu diagnožu iekļaušana KZS
B15: F60 Specifiski personības traucējumi un F61 Jaukti un citi personības traucējumi (100% kompensācijas apmērs) | I15: 100 | J15: 122.72 | K15: =I15*J15 -> 12272
B16: 5. Kompensācijas apmēra palielināšana F diagnozēm
B17: Visām dg, kam tagad ir 75% uz 100% | H17: 383794 | K17: 383794
B18: KOPĀ | C18: =C13+C12+C8+C5 -> 2832 | E18: =E5+E8+E12+E13 -> 3201580.2 | F18: =F5+F8+F9+F10+F12+F13 -> 3320 | H18: =H5+H8+H9+H10+H12+H13+H17 -> 5265450.2 | I18: =I5+I6+I8+I9+I10+I12+I13+I15 -> 3750 | K18: =K5+K6+K8+K9+K10+K12+K13+K15+K17 -> 6199731.6

Sheet 4p_pielikums_Nr9
G1: Risinājuma 4.pasākuma pielikums Nr.9
A2: Jaunu zāļu iekļaušana un kompensācijas paplašināšana
B3: 2023.gadā | E3: 2024.gadā | H3: 2025.gadā un turpmāk ik gadu
A4: Diagnoze/ diagnožu grupa | B4: Prognozējamais pacientu skaits 1. gadā | C4: Prognozējamās izmaksas 1 pac. 1.gadā, euro | D4: Prognozētais nepieciešamais finansējums 1. gadā, euro | E4: Prognozējamais pacientu skaits 2. gadā | F4: Prognozējamās izmaksas 1 pac. 2.gadā, euro | G4: Prognozētais nepieciešamais finansējums 2. gadā, euro | H4: Prognozējamais pacientu skaits 3. gadā | I4: Prognozējamās izmaksas 1 pac. 3.gadā, euro | J4: Prognozētais nepieciešamais finansējums 3. gadā, euro
A5: Ādas slimības | B5: 180 | C5: 19881.75 | D5: =B5*C5 -> 3578715 | E5: 200 | F5: 19881.75 | G5: =E5*F5 -> 3976350 | H5: 250 | I5: 19881.75 | J5: =H5*I5 -> 4970437.5
A6: Endokrinoloģija | B6: 438 | C6: 1163.57 | D6: =B6*C6 -> 509643.66 | E6: 30622 | F6: 84.51695 | G6: =E6*F6 -> 2588078 | H6: 30662 | I6: 92.63697 | J6: =H6*I6 -> 2840434.8
A7: Sirds- asinsvadu sistēma | B7: 20013 | C7: 250.3844 | D7: =B7*C7 -> 5010943 | E7: 24909 | F7: 307.7946 | G7: =E7*F7 -> 7666855.7 | H7: 27178 | I7: 311.33109 | J7: =H7*I7 -> 8461356.4
A8: Muskuļu un skeleta slimības | B8: 10 | C8: 4530 | D8: =B8*C8 -> 45300 | E8: 13 | F8: 4530 | G8: =E8*F8 -> 58890 | H8: 15 | I8: 4530 | J8: =H8*I8 -> 67950
B9: =B5+B6+B7+B8 -> 20641 | D9: =D5+D6+D7+D8 -> 9144601.7 | E9: =E5+E6+E7+E8 -> 55744 | G9: =G5+G6+G7+G8 -> 14290174 | H9: =H5+H6+H7+H8 -> 58105 | J9: =J5+J6+J7+J8 -> 16340179
D10: 2023.gadā | G10: 2024.gadā | J10: 2025.gadā
