Workbook
Name _ftn1: Pasākumi_kārtas!#REF!
Name _ftn2: Pasākumi_kārtas!#REF!
Name _ftnref1: Pasākumi_kārtas!#REF!
Name _ftnref2: Pasākumi_kārtas!#REF!

Sheet Pasākumi_kārtas
A1: 1. pielikums Informatīvajam ziņojumam "Informatīvais ziņojums par Eiropas Savienības fondu un Atveseļošanas fonda plāna ieviešanu 2024. gada novembrī - decembrī"
A6: ES fondu 2021.–2027. gada plānošanas perioda MK noteikumu par specifisko atbalsta mērķu ieviešanu izstrādes laika grafika progress***
A8: Sagatavots 28.12.2024 | J8: PLĀNOTAIS FINANSĒJUMS | M8: PIEEJAMAIS FINANSĒJUMS (pieejams atlasēm)
A9: PM Nr. | B9: Prior. Nr. | C9: Prioritātes nosaukums | D9: SAM Nr. | E9: SAM nosaukums | F9: Pasākuma Nr. | G9: Pasākuma nosaukums | H9: Kārtas Nr. | I9: Fonds | J9: ES FONDU finansējums (ieskaitot elastības finansējumu)* | K9: KOPĀ (ar nac. līdzfinansējumu +15%**) | L9: NACIONĀLAIS līdzfinansējums | M9: Elastības finansējuma % atkarībā no fonda | N9: ES FONDU Elastības finansējums | O9: Elastības finansējuma NACIONĀLĀ līdzfinansējuma daļa | P9: ES fondu finansējums bez elastības finansējuma | Q9: Nacionālais līdzfinansējums bez elastības finansējuma | R9: Atbildīgā iestāde | S9: Izskatīšanas AK datums/ plānotais gads un ceturksnis *** | T9: Izskatīšanas UK datums/ pānotais gads un ceturksnis *** | U9: TAP saskaņošanas uzsākšanas datums/ plānotais gads un ceturksnis | V9: STATUSS | W9: MK apstiprināšanas datums/ plānotais gads un ceturksnis | X9: Atlases uzsākšanas datums/ plānotais gads un ceturksnis/ atlase beigusies
A10: 1 | B10: 2 | D10: 3 | F10: 4 | G10: 5 | H10: 6 | I10: 7 | N10: 8 | O10: 9 | P10: 10 | Q10: 11 | R10: 12 | S10: 13 | T10: 14 | U10: 15 | W10: 18 | X10: 17
F11: 0 | G11: Neizpildītais 2024.gada plāns - regulējums, kura skaņošana nav uzzsākta | I11: Kpopā: | N11: =SUBTOTAL(9, N12:N22) -> 125524749 | O11: =SUBTOTAL(9, O12:O22) -> 22151424 | P11: =SUBTOTAL(9, P12:P22) -> 453766694 | Q11: =SUBTOTAL(9, Q12:Q22) -> 80076481
A12: 2 | B12: 2.3. | C12: Ilgtspējīga mobilitāte | D12: 2.3.1. | E12: “Veicināt ilgtspējīgu daudzveidu mobilitāti pilsētās” | F12: 2.3.1.1. | G12: Satiksmes plūsmas viedās tehnoloģijas | H12: _ | I12: ERAF | J12: 3697500 | K12: 4350000 | L12: 652500 | M12: 0.15772532 | N12: 583189 | O12: 102915 | P12: 3114311 | Q12: 549585 | R12: SM | S12: 2024 III | T12: 2024 III | U12: 2024 III | V12: NAV UZSĀKTS | W12: 2024 IV | X12: 2024 IV
A13: 2 | B13: 2.3. | C13: Ilgtspējīga mobilitāte | D13: 2.3.1. | E13: “Veicināt ilgtspējīgu daudzveidu mobilitāti pilsētās” | F13: 2.3.1.5. | G13: Risinājuma modelējums ES Zaļā kursa jomā | H13: _ | I13: ERAF | J13: 3000000 | K13: 3529412 | L13: 529412 | M13: 0.15772532 | N13: 473176 | O13: 83501 | P13: 2526824 | Q13: 445911 | R13: SM | S13: 45624 | T13: 2024 II | U13: 2024 II | V13: NAV UZSĀKTS | W13: 2024 IV | X13: 2024 IV
A14: 2 | B14: 2.4. | C14: AER izmantošanas transportā veicināšana | D14: 2.4.1. | E14: “Veicināt ilgtspējīgu multimodālu mobilitāti, veicinot elektrotransportlīdzekļu izmantošanu” | F14: 2.4.1.3. ***** | G14: Bezemisiju (bateriju) vilcieni | H14: _ | I14: KF | J14: 18094768 | K14: 21287963 | L14: 3193195 | M14: 0.15804956 | N14: 2859870 | O14: 504683 | P14: 15234898 | Q14: 2688512 | R14: SM | S14: 45106 | T14: 45180 | U14: 2024 II | V14: NAV UZSĀKTS | W14: 2024 III | X14: 2024 III
A15: 3 | B15: 3.1. | C15: Ilgtspējīga TEN-T infrastruktūra | D15: 3.1.1. | E15: “Attīstīt ilgtspējīgu, pret klimatu izturīgu, inteliģentu, drošu un vairākveidu TEN-T infrastruktūru” | F15: 3.1.1.1. ***** | G15: Dzelzceļa transporta attīstība un energoefektivitātes uzlabošana sabiedriskajos pasažieru pārvadājumos | H15: _ | I15: KF | J15: 321397693 | K15: 378114933 | L15: 56717240 | M15: 0.15804956 | N15: 71721855 | O15: 12656798 | P15: 249675838 | Q15: 44060442 | R15: SM | S15: 2024 IV | T15: 2024 IV | U15: 2024 IV | V15: NAV UZSĀKTS | W15: 2024 II | X15: 2024 III
A16: 3 | B16: 3.1. | C16: Ilgtspējīga TEN-T infrastruktūra | D16: 3.1.1. | E16: “Attīstīt ilgtspējīgu, pret klimatu izturīgu, inteliģentu, drošu un vairākveidu TEN-T infrastruktūru” | F16: 3.1.1.3.***** | G16: Eiropas transporta tīklā esošās dzelzceļa infrastruktūras attīstība | H16: 2 | I16: KF | J16: 80000000 | K16: 94117648 | L16: 14117648 | M16: 0.15804956 | N16: 0 | O16: 0 | P16: 80000000 | Q16: 14117648 | R16: SM | S16: 2024 IV | T16: 2024 IV | U16: 2024 IV | V16: NAV UZSĀKTS | W16: 2024 II | X16: 2024 III
A17: 3 | B17: 3.1. | C17: Ilgtspējīga TEN-T infrastruktūra | D17: 3.1.1. | E17: “Attīstīt ilgtspējīgu, pret klimatu izturīgu, inteliģentu, drošu un vairākveidu TEN-T infrastruktūru” | F17: 3.1.1.7. | G17: Iekšzemes intermodālo termināļu ("sauso ostu") attīstības projekti | H17: _ | I17: KF | J17: 25000000 | K17: 29411765 | L17: 4411765 | M17: 0.15804956 | N17: 3951239 | O17: 697277 | P17: 21048761 | Q17: 3714488 | R17: SM | S17: 2024 II | T17: 2024 III | U17: 2024 III | V17: NAV UZSĀKTS | W17: 2024 III | X17: 2024 IV
A18: 4 | B18: 4.1. | C18: Veselības veicināšana un aprūpe | D18: 4.1.1. | E18: “Nodrošināt vienlīdzīgu piekļuvi veselības aprūpei un stiprināt veselības sistēmu, tostarp primārās veselības aprūpes noturību, un sekmēt pāreju no aprūpes iestādē uz ģimenē un kopienā balstītu aprūpi” | F18: 4.1.1.2. ******* | G18: P.Stradiņa klīniskās universitātes slimnīcas infrastruktūras attīstība | H18: _ | I18: ERAF | J18: 70799482 | K18: 83293509 | L18: 12494027 | M18: 0.15772532 | N18: 39679949 | O18: 7002344 | P18: 31119533 | Q18: 5491683 | R18: VM | S18: 44833 | T18: 44952 | U18: 2024 II | V18: NAV UZSĀKTS | W18: 2024 III | X18: 2024 IV
A19: 4 | B19: 4.2. | C19: Izglītība, prasmes un mūžizglītība | D19: 4.2.2. | E19: “Uzlabot izglītības un mācību sistēmu kvalitāti, iekļautību, efektivitāti un nozīmīgumu darba tirgū, tostarp ar neformālās un ikdienējās mācīšanās validēšanas palīdzību, lai atbalstītu pamatkompetenču, tostarp uzņēmējdarbības un digitālo prasmju, apguvi, un sekmējot duālo mācību sistēmu un māceklības ieviešanu” | F19: 4.2.2.9. | G19: Izglītības procesa individualizācija un starpnozaru sadarbība profesionālās izglītības izcilībai | H19: 3 | I19: ESF | J19: 4675000 | K19: 5500000 | L19: 825000 | M19: 0.15777511 | N19: 2648594 | O19: 467398 | P19: 2026406 | Q19: 357602 | R19: IZM | S19: 2024 III | T19: 2024 III | U19: 2024 IV | V19: NAV UZSĀKTS | W19: 2024 IV | X19: 2025 I
A20: 4 | B20: 4.2. | C20: Izglītība, prasmes un mūžizglītība | D20: 4.2.3. | E20: “Sekmēt to, lai – jo īpaši nelabvēlīgā situācijā esošām grupām – būtu vienlīdzīga piekļuve kvalitatīvai un iekļaujošai izglītībai un mācībām un iespēja to iegūt, sākot ar pirmsskolas izglītību un aprūpi un vispārējās izglītības un profesionālās izglītības un mācību gaitā līdz pat augstākajai izglītībai un pieaugušo izglītībai un mācībām, tostarp veicināt mācību mobilitāti visiem un atvieglot piekļūstamības iespējas personām ar invaliditāti” | F20: 4.2.3.2. | G20: Interešu izglītības, brīvā laika un bērnu pieskatīšanas pakalpojumu pieejamības paplašināšana sociālās atstumtības riskam pakļautiem izglītojamajiem un bērniem ar speciālām vajadzībām | H20: 2 | I20: ESF | J20: 4250000 | K20: 5000000 | L20: 750000 | M20: 0.15777511 | N20: 0 | O20: 0 | P20: 4250000 | Q20: 750000 | R20: IZM | S20: IPIA izņēmums (UK lēm. 23.04.2024) | T20: IPIA izņēmums (UK lēm. 23.04.2024) | U20: 2024 II | V20: NAV UZSĀKTS | W20: 2024 III | X20: 2024 III
A21: 4 | B21: 4.2. | C21: Izglītība, prasmes un mūžizglītība | D21: 4.2.3. | E21: “Sekmēt to, lai – jo īpaši nelabvēlīgā situācijā esošām grupām – būtu vienlīdzīga piekļuve kvalitatīvai un iekļaujošai izglītībai un mācībām un iespēja to iegūt, sākot ar pirmsskolas izglītību un aprūpi un vispārējās izglītības un profesionālās izglītības un mācību gaitā līdz pat augstākajai izglītībai un pieaugušo izglītībai un mācībām, tostarp veicināt mācību mobilitāti visiem un atvieglot piekļūstamības iespējas personām ar invaliditāti” | F21: 4.2.3.2. ******* | G21: Interešu izglītības, brīvā laika un bērnu pieskatīšanas pakalpojumu pieejamības paplašināšana sociālās atstumtības riskam pakļautiem izglītojamajiem un bērniem ar speciālām vajadzībām | H21: 1 | I21: ESF | J21: 1377000 | K21: 1620000 | L21: 243000 | M21: 0.15777511 | N21: 0 | O21: 0 | P21: 1377000 | Q21: 243000 | R21: IZM | S21: IPIA izņēmums (UK lēm. 23.04.2024) | T21: IPIA izņēmums (UK lēm. 23.04.2024) | U21: 2024 II | V21: NAV UZSĀKTS | W21: 2024 III | X21: 2024 III
A22: 6 | B22: 6.1. | C22: Pāreja uz klimatneitralitāti | D22: 6.1.1. | E22: "Pārejas uz klimatneitralitāti radīto ekonomisko, sociālo un vides seku mazināšana visvairāk skartajos reģionos" | F22: 6.1.1.1. | G22: Atteikšanās no kūdras izmantošanas enerģētikā | H22: 2 | I22: TPF | J22: 47000000 | K22: 55294118 | L22: 8294118 | M22: 0.065679823 | N22: 3606877 | O22: 636508 | P22: 43393123 | Q22: 7657610 | R22: VARAM | S22: 2024 III | T22: 2024 IV | U22: 2024 III | V22: NAV UZSĀKTS | W22: 2024 IV | X22: 2025 I
F23: 0 | G23: Neizpildītais 2024.gada plāns -regulējums, kas ir saskaņošanas procesā - potenciāls apstiprināt tuvākajā laikā | I23: kopā: | N23: =SUBTOTAL(9,N24:N44) -> 18138992 | O23: =SUBTOTAL(9,O24:O44) -> 3200998 | P23: =SUBTOTAL(9,P24:P44) -> 292755232 | Q23: =SUBTOTAL(9,Q24:Q44) -> 51662697
A24: 1 | B24: 1.1. | C24: Pētniecība un prasmes | D24: 1.1.1. | E24: “Pētniecības un inovāciju kapacitātes stiprināšana un progresīvu tehnoloģiju ieviešana kopējā P&A sistēmā” | F24: 1.1.1.2. | G24: RIS3 pētniecības un inovācijas centri | H24: _ | I24: ERAF | J24: 36098377 | K24: 42468679 | L24: 6370302 | M24: 0.15772532 | N24: 5693628 | O24: 1004757 | P24: 30404749 | Q24: 5365545 | R24: IZM | S24: 2024 II | T24: 2024 III | U24: 45506 | V24: IZSTRĀDĒ | W24: 2024 III | X24: 2024 III
A25: 1 | B25: 1.1. | C25: Pētniecība un prasmes | D25: 1.1.1. | E25: “Pētniecības un inovāciju kapacitātes stiprināšana un progresīvu tehnoloģiju ieviešana kopējā P&A sistēmā” | F25: 1.1.1.6. | G25: Zinātniskās darbības digitalizācija un dalība Eiropas Atvērtajā zinātnes mākonī (EOSC market place pakalpojumu iegāde) | H25: _ | I25: ERAF | J25: 18487501 | K25: 21750002 | L25: 3262501 | M25: 0.15772532 | N25: 4256611 | O25: 751167 | P25: 14230890 | Q25: 2511334 | R25: IZM | S25: 2024 II | T25: 2024 III | U25: 45653 | V25: IZSTRĀDĒ | W25: 2024 III | X25: 2024 IV
A26: 1 | B26: 1.1. | C26: Pētniecība un prasmes | D26: 1.1.1. | E26: “Pētniecības un inovāciju kapacitātes stiprināšana un progresīvu tehnoloģiju ieviešana kopējā P&A sistēmā” | F26: 1.1.1.7. | G26: Inovāciju granti studentiem | H26: _ | I26: ERAF | J26: 14025000 | K26: 16500000 | L26: 2475000 | M26: 0.15772532 | N26: 2212098 | O26: 390370 | P26: 11812902 | Q26: 2084630 | R26: IZM | S26: 45562 | T26: Uzsākta UK rakstiskā procedūra 24.10.2024 | U26: 45610 | V26: IZSTRĀDĒ | W26: 2024 III | X26: 2024 IV
A27: 1 | B27: 1.4. | C27: Digitālā savienojamība | D27: 1.4.1. | E27: “Uzlabot digitālo savienojamību” | F27: 1.4.1.1. | G27: Platjoslas infrastruktūras attīstība (pēdējā jūdze) | H27: 2 | I27: ERAF | J27: 1166379 | K27: 1372211 | L27: 205832 | M27: 0.15772532 | N27: 1166379 | O27: 205832 | P27: 0 | Q27: 0 | R27: SM | S27: 45379 | T27: 45470 | U27: 2024 II | V27: IZSTRĀDĒ | W27: 2024 II | X27: Uzsaukums par elastības finansējuma apjomu 2026.g.
A28: 1 | B28: 1.4. | C28: Digitālā savienojamība | D28: 1.4.1. | E28: “Uzlabot digitālo savienojamību” | F28: 1.4.1.1. | G28: Platjoslas infrastruktūras attīstība (pēdējā jūdze) | H28: 1 | I28: ERAF | J28: 6228621 | K28: 7327790 | L28: 1099169 | M28: 0.15772532 | N28: 0 | O28: 0 | P28: 6228621 | Q28: 1099169 | R28: SM | S28: 45379 | T28: 45470 | U28: 45602 | V28: IZSTRĀDĒ | W28: 2024 II | X28: 2024 III
A29: 2 | B29: 2.1. | C29: Klimata pārmaiņu mazināšana un pielāgošanās klimata pārmaiņām | D29: 2.1.1. | E29: “Energoefektivitātes veicināšana un siltumnīcefekta gāzu emisiju samazināšana” | F29: 2.1.1.2. | G29: AER izmantošana un energoefektivitātes paaugstināšana rūpniecībā un komersantos | H29: _ | I29: ERAF | J29: 36703812 | K29: 43180956 | L29: 6477144 | M29: 0.15772532 | N29: 0 | O29: 0 | P29: 36703812 | Q29: 6477144 | R29: EM | S29: N/A | T29: N/A | U29: 45636 | V29: IZSTRĀDĒ | W29: 2024 IV | X29: N/A, jo FI
A30: 2 | B30: 2.2. | C30: Vides aizsardzība un attīstība | D30: 2.2.3. | E30: “Uzlabot dabas aizsardzību un bioloģisko daudzveidību, “zaļo” infrastruktūru, it īpaši pilsētvidē, un samazināt piesārņojumu” | F30: 2.2.3.3. | G30: Pasākumi bioloģiskās daudzveidības veicināšanai un saglabāšanai | H30: 4 | I30: ERAF | J30: 7277500 | K30: 8561765 | L30: 1284265 | M30: 0.15772532 | N30: 0 | O30: 0 | P30: 7277500 | Q30: 1284265 | R30: VARAM | S30: 45624 | T30: 2024 IV | U30: 45632 | V30: IZSTRĀDĒ | W30: 2024 IV | X30: 2025 I
A31: 2 | B31: 2.2. | C31: Vides aizsardzība un attīstība | D31: 2.2.3. | E31: “Uzlabot dabas aizsardzību un bioloģisko daudzveidību, “zaļo” infrastruktūru, it īpaši pilsētvidē, un samazināt piesārņojumu” | F31: 2.2.3.3. | G31: Pasākumi bioloģiskās daudzveidības veicināšanai un saglabāšanai | H31: 3 | I31: ERAF | J31: 16000000 | K31: 18823530 | L31: 2823530 | M31: 0.15772532 | N31: 0 | O31: 0 | P31: 16000000 | Q31: 2823530 | R31: VARAM | S31: 45624 | T31: 2024 IV | U31: 45632 | V31: IZSTRĀDĒ | W31: 2024 IV | X31: 2025 I
A32: 4 | B32: 4.1. | C32: Veselības veicināšana un aprūpe | D32: 4.1.1. | E32: “Nodrošināt vienlīdzīgu piekļuvi veselības aprūpei un stiprināt veselības sistēmu, tostarp primārās veselības aprūpes noturību, un sekmēt pāreju no aprūpes iestādē uz ģimenē un kopienā balstītu aprūpi” | F32: 4.1.1.3. | G32: Primārās veselības aprūpes lomas stiprināšana, attīstot infrastruktūru | H32: 1 | I32: ERAF | J32: 2040000 | K32: 2400000 | L32: 360000 | M32: 0.15772532 | N32: 0 | O32: 0 | P32: 2040000 | Q32: 360000 | R32: VM | S32: 45498 | T32: 45625 | U32: 45583 | V32: IZSTRĀDĒ | W32: 2024 IV | X32: 2024 IV
A33: 4 | B33: 4.2. | C33: Izglītība, prasmes un mūžizglītība | D33: 4.2.1. | E33: “Uzlabot vienlīdzīgu piekļuvi iekļaujošiem un kvalitatīviem pakalpojumiem izglītības, mācību un mūžizglītības jomā, attīstot pieejamu infrastruktūru, tostarp, veicinot noturību izglītošanā un mācībā attālinātā un tiešsaistes režīmā” | F33: 4.2.1.4. | G33: Izglītības iestāžu nodrošinājums pilnveidotā vispārējās izglītības satura kvalitatīvai ieviešanai pirmsskolas izglītības pakāpē | H33: _ | I33: ERAF | J33: 3279958 | K33: 3858775 | L33: 578817 | M33: 0.15772532 | N33: 517332 | O33: 91294 | P33: 2762626 | Q33: 487523 | R33: IZM | S33: Plānots izskatīt 19.12.2024. AK | T33: IPIA izņēmums (UK lēm. 23.04.2024) | U33: 45505 | V33: IZSTRĀDĒ | W33: 2024 III | X33: 2024 IV
A34: 4 | B34: 4.2. | C34: Izglītība, prasmes un mūžizglītība | D34: 4.2.1. | E34: “Uzlabot vienlīdzīgu piekļuvi iekļaujošiem un kvalitatīviem pakalpojumiem izglītības, mācību un mūžizglītības jomā, attīstot pieejamu infrastruktūru, tostarp, veicinot noturību izglītošanā un mācībā attālinātā un tiešsaistes režīmā” | F34: 4.2.1.5. | G34: Izglītības iestāžu nodrošinājums pilnveidotā vispārējās izglītības satura kvalitatīvai ieviešanai pamata un vidējās izglītības pakāpē | H34: 2 | I34: ERAF | J34: 34187138 | K34: 40220163 | L34: 6033025 | M34: 0.15772532 | N34: 0 | O34: 0 | P34: 34187138 | Q34: 6033025 | R34: IZM | S34: 45533 | T34: 45638 | U34: 45504 | V34: IZSTRĀDĒ | W34: 2024 III | X34: 2024 IV
A35: 4 | B35: 4.2. | C35: Izglītība, prasmes un mūžizglītība | D35: 4.2.2. | E35: “Uzlabot izglītības un mācību sistēmu kvalitāti, iekļautību, efektivitāti un nozīmīgumu darba tirgū, tostarp ar neformālās un ikdienējās mācīšanās validēšanas palīdzību, lai atbalstītu pamatkompetenču, tostarp uzņēmējdarbības un digitālo prasmju, apguvi, un sekmējot duālo mācību sistēmu un māceklības ieviešanu” | F35: 4.2.2.11. | G35: Studiju procesa digitalizācija | H35: 1 | I35: ESF | J35: 8500000 | K35: 10000000 | L35: 1500000 | M35: 0.15777511 | N35: 0 | O35: 0 | P35: 8500000 | Q35: 1500000 | R35: IZM | S35: Plānots izskatīt 19.12.2024 AK | T35: 2024 III | U35: 45502 | V35: IZSTRĀDĒ | W35: 2024 III | X35: 2024 IV
A36: 4 | B36: 4.2. | C36: Izglītība, prasmes un mūžizglītība | D36: 4.2.2. | E36: “Uzlabot izglītības un mācību sistēmu kvalitāti, iekļautību, efektivitāti un nozīmīgumu darba tirgū, tostarp ar neformālās un ikdienējās mācīšanās validēšanas palīdzību, lai atbalstītu pamatkompetenču, tostarp uzņēmējdarbības un digitālo prasmju, apguvi, un sekmējot duālo mācību sistēmu un māceklības ieviešanu” | F36: 4.2.2.11. | G36: Studiju procesa digitalizācija | H36: 2 | I36: ESF | J36: 19922947 | K36: 23438762 | L36: 3515815 | M36: 0.15777511 | N36: 0 | O36: 0 | P36: 19922947 | Q36: 3515815 | R36: IZM | S36: Plānots izskatīt 19.12.2024 AK | T36: 2024 III | U36: 45502 | V36: IZSTRĀDĒ | W36: 2024 III | X36: 2024 IV
A37: 4 | B37: 4.2. | C37: Izglītība, prasmes un mūžizglītība | D37: 4.2.3. | E37: “Sekmēt to, lai – jo īpaši nelabvēlīgā situācijā esošām grupām – būtu vienlīdzīga piekļuve kvalitatīvai un iekļaujošai izglītībai un mācībām un iespēja to iegūt, sākot ar pirmsskolas izglītību un aprūpi un vispārējās izglītības un profesionālās izglītības un mācību gaitā līdz pat augstākajai izglītībai un pieaugušo izglītībai un mācībām, tostarp veicināt mācību mobilitāti visiem un atvieglot piekļūstamības iespējas personām ar invaliditāti” | F37: 4.2.3.3. | G37: Pilsonisko līdzdalību veicinošu kultūras pakalpojumu pieejamības veicināšana | H37: _ | I37: ESF | J37: 1775148 | K37: 2088410 | L37: 313262 | M37: 0.15777511 | N37: 280074 | O37: 49425 | P37: 1495074 | Q37: 263837 | R37: KM | S37: IPIA izņēmums (UK lēm. 23.04.2024) | T37: IPIA izņēmums (UK lēm. 23.04.2024) | U37: 45631 | V37: IZSTRĀDĒ | W37: 2024 IV | X37: 2024 IV
A38: 4 | B38: 4.2. | C38: Izglītība, prasmes un mūžizglītība | D38: 4.2.4. | E38: “Veicināt mūžizglītību, jo īpaši piedāvājot elastīgas prasmju pilnveides un pārkvalifikācijas iespējas visiem, ņemot vērā uzņēmējdarbības un digitālās prasmes, labāk prognozējot pārmaiņas un vajadzību pēc jaunām prasmēm, pamatojoties uz darba tirgus vajadzībām, atvieglojot karjeras maiņu un sekmējot profesionālo mobilitāti” | F38: 4.2.4.1. | G38: Atbalsts nozaru vajadzībās balstītai pieaugušo izglītībai | H38: 2 | I38: ESF | J38: 4898317 | K38: 5762726 | L38: 864409 | M38: 0.15777511 | N38: 0 | O38: 0 | P38: 4898317 | Q38: 864409 | R38: IZM | S38: Plānots izskatīt 19.12.2024 AK | T38: 2024 II | U38: 45628 | V38: IZSTRĀDĒ | W38: 2024 III | X38: 2024 III
A39: 4 | B39: 4.2. | C39: Izglītība, prasmes un mūžizglītība | D39: 4.2.4. | E39: “Veicināt mūžizglītību, jo īpaši piedāvājot elastīgas prasmju pilnveides un pārkvalifikācijas iespējas visiem, ņemot vērā uzņēmējdarbības un digitālās prasmes, labāk prognozējot pārmaiņas un vajadzību pēc jaunām prasmēm, pamatojoties uz darba tirgus vajadzībām, atvieglojot karjeras maiņu un sekmējot profesionālo mobilitāti” | F39: 4.2.4.3. | G39: Digitālo prasmju pilnveide | H39: _ | I39: ESF | J39: 3685037 | K39: 4335338 | L39: 650301 | M39: 0.15777511 | N39: 581407 | O39: 102601 | P39: 3103630 | Q39: 547700 | R39: VARAM | S39: 45463 | T39: 45517 | U39: 45439 | V39: IZSTRĀDĒ | W39: 2024 IV | X39: 2025 I
A40: 4 | B40: 4.3. | C40: Nodarbinātība un sociālā iekļaušana | D40: 4.3.5. | E40: "Uzlabot vienlīdzīgu un savlaicīgu piekļuvi kvalitatīviem, ilgtspējīgiem un izmaksu ziņā pieejamiem pakalpojumiem; pilnveidot sociālās aizsardzības sistēmas, tostarp veicināt sociālās aizsardzības pieejamību; uzlabot ilgtermiņa aprūpes pakalpojumu pieejamību, efektivitāti un izturētspēju" | F40: 4.3.5.1. | G40: Sabiedrībā balstītu sociālo pakalpojumu pieejamības palielināšana | H40: 4 | I40: ESF | J40: 27434580 | K40: 32275977 | L40: 4841397 | M40: 0.15777511 | N40: 0 | O40: 0 | P40: 27434580 | Q40: 4841397 | R40: LM | S40: 45624 | T40: 2025 I | U40: 45638 | V40: IZSTRĀDĒ | W40: 2025 I | X40: 2025 II
A41: 4 | B41: 4.3. | C41: Nodarbinātība un sociālā iekļaušana | D41: 4.3.5. | E41: "Uzlabot vienlīdzīgu un savlaicīgu piekļuvi kvalitatīviem, ilgtspējīgiem un izmaksu ziņā pieejamiem pakalpojumiem; pilnveidot sociālās aizsardzības sistēmas, tostarp veicināt sociālās aizsardzības pieejamību; uzlabot ilgtermiņa aprūpes pakalpojumu pieejamību, efektivitāti un izturētspēju" | F41: 4.3.5.1. | G41: Sabiedrībā balstītu sociālo pakalpojumu pieejamības palielināšana | H41: 5 | I41: ESF | J41: 10988592 | K41: 12927756 | L41: 1939164 | M41: 0.15777511 | N41: 0 | O41: 0 | P41: 10988592 | Q41: 1939164 | R41: LM | S41: 45624 | T41: 2025 I | U41: 45630 | V41: IZSTRĀDĒ | W41: 2025 I | X41: 2025 II
A42: 4 | B42: 4.3. | C42: Nodarbinātība un sociālā iekļaušana | D42: 4.3.5. | E42: "Uzlabot vienlīdzīgu un savlaicīgu piekļuvi kvalitatīviem, ilgtspējīgiem un izmaksu ziņā pieejamiem pakalpojumiem; pilnveidot sociālās aizsardzības sistēmas, tostarp veicināt sociālās aizsardzības pieejamību; uzlabot ilgtermiņa aprūpes pakalpojumu pieejamību, efektivitāti un izturētspēju" | F42: 4.3.5.2. | G42: Atbalsts paliatīvās aprūpes sistēmas pilnveidošanai | H42: _ | I42: ESF | J42: 5950000 | K42: 7000000 | L42: 1050000 | M42: 0.15777511 | N42: 0 | O42: 0 | P42: 5950000 | Q42: 1050000 | R42: LM | S42: IPIA izņēmums (UK lēm. 23.04.2024) | T42: IPIA izņēmums (UK lēm. 23.04.2024) | U42: 45638 | V42: IZSTRĀDĒ | W42: 2025 I | X42: 2025 I
A43: 6 | B43: 6.1. | C43: Pāreja uz klimatneitralitāti | D43: 6.1.1. | E43: "Pārejas uz klimatneitralitāti radīto ekonomisko, sociālo un vides seku mazināšana visvairāk skartajos reģionos" | F43: 6.1.1.4. | G43: Uzņēmējdarbības “zaļināšanas” un produktu attīstības pasākumi, veicinot energoefektivitātes paaugstināšanu un energoefektīvu tehnoloģiju ieviešanu uzņēmumos | H43: _ | I43: TPF | J43: 35298850 | K43: 41528059 | L43: 6229209 | M43: 0.065679823 | N43: 2318422 | O43: 409133 | P43: 32980428 | Q43: 5820076 | R43: EM | S43: N/A | T43: N/A | U43: 45636 | V43: IZSTRĀDĒ | W43: 2024 IV | X43: N/A, jo FI
A44: 6 | B44: 6.1. | C44: Pāreja uz klimatneitralitāti | D44: 6.1.1. | E44: "Pārejas uz klimatneitralitāti radīto ekonomisko, sociālo un vides seku mazināšana visvairāk skartajos reģionos" | F44: 6.1.1.5. | G44: Nodarbināto prasmju paaugstināšana un atbalsts kvalifikācijas iegūšanai, atbalsts darbaspēka mācībām saskaņā ar uzņēmumu pieprasījumu | H44: _ | I44: TPF | J44: 16946467 | K44: 19937020 | L44: 2990553 | M44: 0.065679823 | N44: 1113041 | O44: 196419 | P44: 15833426 | Q44: 2794134 | R44: IZM | S44: IPIA izņēmums (UK lēm. 23.04.2024) | T44: IPIA izņēmums (UK lēm. 23.04.2024) | U44: 45623 | V44: IZSTRĀDĒ | W44: 2024 III | X44: 2024 III
F45: 0 | G45: Regulējums, kas ir saskaņots un iesniegts Valsts kancelejā - potenciāls apstiprināt tuvākajās MK sēdēs | I45: kopā: | N45: =SUBTOTAL(9,N46:N55) -> 48291704 | O45: =SUBTOTAL(9,O46:O55) -> 8522064 | P45: =SUBTOTAL(9,P46:P55) -> 167519092 | Q45: =SUBTOTAL(9,Q46:Q55) -> 29562198
A46: 1 | B46: 1.2. | C46: Atbalsts uzņēmējdarbībai | D46: 1.2.1. | E46: “Pētniecības un inovāciju kapacitātes stiprināšana un progresīvu tehnoloģiju ieviešana uzņēmumiem ” | F46: 1.2.1.2. | G46: Produktivitātes aizdevumi (t.sk., ar kapitāla atlaidi) inovatīvām iekārtām, pētniecībai un attīstībai, tehnoloģiju pārnesei | H46: _ | I46: ERAF | J46: 58001921 | K46: 68237555 | L46: 10235634 | M46: 0.15772532 | N46: 28608842 | O46: 5048620 | P46: 29393079 | Q46: 5187014 | R46: EM | S46: N/A | T46: N/A | U46: 45356 | V46: IESNIEGTS VK | W46: 2024 II | X46: N/A, jo FI
A47: 1 | B47: 1.2. | C47: Atbalsts uzņēmējdarbībai | D47: 1.2.3. | E47: “Pētniecības un inovāciju kapacitātes stiprināšana un progresīvu tehnoloģiju ieviešana uzņēmumiem ” | F47: 1.2.3.7. | G47: Atbalsts jaunu darba vietu radīšanai uz eksportu orientētiem komersantiem | H47: _ | I47: ERAF | J47: 25619201 | K47: 30140237 | L47: 4521036 | M47: 0.15772532 | N47: 0 | O47: 0 | P47: 25619201 | Q47: 4521036 | R47: EM | S47: N/A | T47: N/A | U47: 45639 | V47: IESNIEGTS VK | W47: 2024 IV | X47: N/A, jo FI
A48: 2 | B48: 2.1. | C48: Klimata pārmaiņu mazināšana un pielāgošanās klimata pārmaiņām | D48: 2.1.1. | E48: “Energoefektivitātes veicināšana un siltumnīcefekta gāzu emisiju samazināšana” | F48: 2.1.1.3. | G48: AER izmantošana un energoefektivitātes paaugstināšana lokālajā un individuālajā siltumapgādē un aukstumapgādē | H48: 2 | I48: ERAF | J48: 47440102 | K48: 55811885 | L48: 8371783 | M48: 0.15772532 | N48: 7416391 | O48: 1308774 | P48: 40023711 | Q48: 7063009 | R48: KEM | S48: N/A | T48: N/A | U48: 45610 | V48: IESNIEGTS VK | W48: 2024 III | X48: 2024 IV
A49: 2 | B49: 2.1. | C49: Klimata pārmaiņu mazināšana un pielāgošanās klimata pārmaiņām | D49: 2.1.1. | E49: “Energoefektivitātes veicināšana un siltumnīcefekta gāzu emisiju samazināšana” | F49: 2.1.1.8. | G49: Energoefektivitāti veicinoši pasākumi kultūras infrastruktūrā | H49: _ | I49: ERAF | J49: 29580000 | K49: 34800000 | L49: 5220000 | M49: 0.15772532 | N49: 4665514 | O49: 823326 | P49: 24914486 | Q49: 4396674 | R49: EM | S49: 2024 III | T49: 2024 III | U49: 45491 | V49: IESNIEGTS VK | W49: 2024 IV | X49: 2024 IV
A50: 2 | B50: 2.1. | C50: Klimata pārmaiņu mazināšana un pielāgošanās klimata pārmaiņām | D50: 2.1.2. | E50: “Atjaunojamo energoresursu enerģijas veicināšana - biometāns” | F50: 2.1.2.0. | G50: _ | H50: _ | I50: KF | J50: 18246193 | K50: 21466110 | L50: 3219917 | M50: 0.15804956 | N50: 2883803 | O50: 508906 | P50: 15362390 | Q50: 2711011 | R50: KEM | S50: N/A | T50: N/A | U50: 45604 | V50: IESNIEGTS VK | W50: 2024 IV | X50: 2024 IV
A51: 4 | B51: 4.1. | C51: Veselības veicināšana un aprūpe | D51: 4.1.1. | E51: “Nodrošināt vienlīdzīgu piekļuvi veselības aprūpei un stiprināt veselības sistēmu, tostarp primārās veselības aprūpes noturību, un sekmēt pāreju no aprūpes iestādē uz ģimenē un kopienā balstītu aprūpi” | F51: 4.1.1.3. | G51: Primārās veselības aprūpes lomas stiprināšana, attīstot infrastruktūru | H51: 2 | I51: ERAF | J51: 4930000 | K51: 5800000 | L51: 870000 | M51: 0.15772532 | N51: 0 | O51: 0 | P51: 4930000 | Q51: 870000 | R51: VM | S51: 45533 | T51: 45595 | U51: 45581 | V51: IESNIEGTS VK | W51: 2025 II | X51: 2025 II
A52: 4 | B52: 4.1. | C52: Veselības veicināšana un aprūpe | D52: 4.1.2. | E52: “Uzlabot vienlīdzīgu un savlaicīgu piekļuvi kvalitatīviem, ilgtspējīgiem un izmaksu ziņā pieejamiem veselības aprūpes, veselības veicināšanas un slimību profilakses pakalpojumiem, uzlabojot veselības aprūpes sistēmu efektivitāti un izturētspēju” | F52: 4.1.2.8. | G52: Nevalstisko organizāciju iesaiste veselības veicināšanas un slimību profilakses pasākumu īstenošanā | H52: _ | I52: ESF | J52: 2550000 | K52: 3000000 | L52: 450000 | M52: 0.15777511 | N52: 0 | O52: 0 | P52: 2550000 | Q52: 450000 | R52: VM | S52: 45624 | T52: 2024 IV | U52: 45590 | V52: IESNIEGTS VK | W52: 2025 I | X52: 2025 II
A53: 4 | B53: 4.2. | C53: Izglītība, prasmes un mūžizglītība | D53: 4.2.1. | E53: “Uzlabot vienlīdzīgu piekļuvi iekļaujošiem un kvalitatīviem pakalpojumiem izglītības, mācību un mūžizglītības jomā, attīstot pieejamu infrastruktūru, tostarp, veicinot noturību izglītošanā un mācībā attālinātā un tiešsaistes režīmā” | F53: 4.2.1.8. | G53: Augstskolu studiju vides modernizācija | H53: 2 | I53: ERAF | J53: 26656937 | K53: 31361103 | L53: 4704166 | M53: 0.15772532 | N53: 4436262 | O53: 782869 | P53: 22220675 | Q53: 3921297 | R53: IZM | S53: 45533 | T53: Uzsākta UK rakstiskā procedūra 30.09.2024 | U53: 45463 | V53: IESNIEGTS VK | W53: 2024 III | X53: 2024 IV
A54: 4 | B54: 4.2. | C54: Izglītība, prasmes un mūžizglītība | D54: 4.2.1. | E54: “Uzlabot vienlīdzīgu piekļuvi iekļaujošiem un kvalitatīviem pakalpojumiem izglītības, mācību un mūžizglītības jomā, attīstot pieejamu infrastruktūru, tostarp, veicinot noturību izglītošanā un mācībā attālinātā un tiešsaistes režīmā” | F54: 4.2.1.8. | G54: Augstskolu studiju vides modernizācija | H54: 3 | I54: ERAF | J54: 1780892 | K54: 2095168 | L54: 314276 | M54: 0.15772532 | N54: 280892 | O54: 49569 | P54: 1500000 | Q54: 264707 | R54: IZM | S54: 2024 II | T54: 2024 III | U54: 45463 | V54: IESNIEGTS VK | W54: 2024 III | X54: 2024 IV
A55: 4 | B55: 4.2. | C55: Izglītība, prasmes un mūžizglītība | D55: 4.2.2. | E55: “Uzlabot izglītības un mācību sistēmu kvalitāti, iekļautību, efektivitāti un nozīmīgumu darba tirgū, tostarp ar neformālās un ikdienējās mācīšanās validēšanas palīdzību, lai atbalstītu pamatkompetenču, tostarp uzņēmējdarbības un digitālo prasmju, apguvi, un sekmējot duālās apmācības sistēmu un māceklības ieviešanu” | F55: 4.2.2.6. | G55: Cikliskas institucionālās akreditācijas ieviešana augstākajā izglītībā | H55: _ | I55: ESF | J55: 1005550 | K55: 1183000 | L55: 177450 | M55: 0.15777511 | N55: 0 | O55: 0 | P55: 1005550 | Q55: 177450 | R55: IZM | S55: IPIA izņēmums (UK lēm. 23.04.2024) | T55: IPIA izņēmums (UK lēm. 23.04.2024) | U55: 45432 | V55: IESNIEGTS VK | W55: 2024 III | X55: 2024 IV
F56: 0 | G56: Investīcijas, kas plānotas pēc 2024.gada | I56: Kopā: | N56: =SUBTOTAL(9,N57:N74) -> 129840505 | O56: =SUBTOTAL(9,O57:O74) -> 22913030 | P56: =SUBTOTAL(9,P57:P74) -> 107407793 | Q56: =SUBTOTAL(9,Q57:Q74) -> 18954321
A57: 1 | B57: 1.1. | C57: Pētniecība un prasmes | D57: 1.1.2. | E57: “Prasmju attīstīšana viedās specializācijas, industriālās pārejas un uzņēmējdarbības veicināšanai” | F57: 1.1.2.1. | G57: RIS3 industriālās prasmes | H57: _ | I57: ERAF | J57: 22185000 | K57: 26100000 | L57: 3915000 | M57: 0.15772532 | N57: 3499136 | O57: 617494 | P57: 18685864 | Q57: 3297506 | R57: IZM | S57: 2024 IV | T57: 2025 I | U57: 2024 IV | V57: PLĀNOJAS | W57: 2025 I | X57: 2025 II
A58: 2 | B58: 2.1. | C58: Klimata pārmaiņu mazināšana un pielāgošanās klimata pārmaiņām | D58: 2.1.1. | E58: “Energoefektivitātes veicināšana un siltumnīcefekta gāzu emisiju samazināšana” | F58: 2.1.1.6. | G58: Pašvaldību ēku energoefektivitātes paaugstināšana | H58: 3 | I58: ERAF | J58: 12961544 | K58: 15248876 | L58: 2287332 | M58: 0.15772532 | N58: 9555249 | O58: 1686221 | P58: 3406295 | Q58: 601111 | R58: VARAM | S58: Uzsaukums par elastības finansējuma apjomu 2026.g. | T58: Uzsaukums par elastības finansējuma apjomu 2026.g. | U58: Uzsaukums par elastības finansējuma apjomu 2026.g. | V58: PLĀNOJAS | W58: Uzsaukums par elastības finansējuma apjomu 2026.g. | X58: Uzsaukums par elastības finansējuma apjomu 2026.g.
A59: 2 | B59: 2.1. | C59: Klimata pārmaiņu mazināšana un pielāgošanās klimata pārmaiņām | D59: 2.1.3. | E59: “Veicināt pielāgošanos klimata pārmaiņām, risku novēršanu un noturību pret katastrofām” | F59: 2.1.3.1. | G59: Pašvaldību pielāgošanās klimata pārmaiņām | H59: 2 | I59: ERAF | J59: 8754334 | K59: 10299217 | L59: 1544883 | M59: 0.15772532 | N59: 8754334 | O59: 1544883 | P59: 0 | Q59: 0 | R59: VARAM | S59: Uzsaukums par elastības finansējuma apjomu 2026.g. | T59: Uzsaukums par elastības finansējuma apjomu 2026.g. | U59: Uzsaukums par elastības finansējuma apjomu 2026.g. | V59: PLĀNOJAS | W59: Uzsaukums par elastības finansējuma apjomu 2026.g. | X59: Uzsaukums par elastības finansējuma apjomu 2026.g.
A60: 2 | B60: 2.1. | C60: Klimata pārmaiņu mazināšana un pielāgošanās klimata pārmaiņām | D60: 2.1.3. | E60: “Veicināt pielāgošanos klimata pārmaiņām, risku novēršanu un noturību pret katastrofām” | F60: 2.1.3.3. | G60: Katastrofu risku mazināšanas pasākumi | H60: 2 | I60: ERAF | J60: 2200055 | K60: 2588300 | L60: 388245 | M60: 0.15772532 | N60: 0 | O60: 0 | P60: 2200055 | Q60: 388245 | R60: IeM | S60: IPIA izņēmums (UK lēm. 23.04.2024) | T60: IPIA izņēmums (UK lēm. 23.04.2024) | U60: 2024 IV | V60: PLĀNOJAS | W60: 2025 I | X60: 2025 I
A61: 2 | B61: 2.1. | C61: Klimata pārmaiņu mazināšana un pielāgošanās klimata pārmaiņām | D61: 2.1.3. | E61: “Veicināt pielāgošanos klimata pārmaiņām, risku novēršanu un noturību pret katastrofām” | F61: 2.1.3.3. | G61: Katastrofu risku mazināšanas pasākumi | H61: 4 | I61: ERAF | J61: 0 | K61: 0 | L61: 0 | M61: 0.15772532 | N61: 0 | O61: 0 | P61: 0 | Q61: 0 | R61: IeM | S61: IPIA izņēmums (UK lēm. 23.04.2024) | T61: IPIA izņēmums (UK lēm. 23.04.2024) | U61: 2025 I | V61: PLĀNOJAS | W61: 2025 II | X61: 2025 III
A62: 2 | B62: 2.2. | C62: Vides aizsardzība un attīstība | D62: 2.2.1. | E62: “Veicināt ilgtspējīgu ūdenssaimniecību” | F62: 2.2.1.1. | G62: Notekūdeņu un to dūņu apsaimniekošanas sistēmas attīstība piesārņojuma samazināšanai | H62: 2 | I62: ERAF | J62: 22309636 | K62: 26246631 | L62: 3936995 | M62: 0.15772532 | N62: 22309636 | O62: 3936995 | P62: 0 | Q62: 0 | R62: VARAM | S62: Uzsaukums par elastības finansējuma apjomu 2026.g. | T62: Uzsaukums par elastības finansējuma apjomu 2026.g. | U62: Uzsaukums par elastības finansējuma apjomu 2026.g. | V62: PLĀNOJAS | W62: Uzsaukums par elastības finansējuma apjomu 2026.g. | X62: Uzsaukums par elastības finansējuma apjomu 2026.g.
A63: 2 | B63: 2.2. | C63: Vides aizsardzība un attīstība | D63: 2.2.2. | E63: “Pārejas uz aprites ekonomiku veicināšana” | F63: 2.2.2.3. | G63: Notekūdeņu dūņu pārstrāde | H63: 1 | I63: KF | J63: 6999385 | K63: 8234571 | L63: 1235186 | M63: 0.15804956 | N63: 0 | O63: 0 | P63: 6999385 | Q63: 1235186 | R63: KEM | S63: 2024 IV | T63: 2025 I | U63: 2024 IV | V63: PLĀNOJAS | W63: 2025 I | X63: 2025 II
A64: 2 | B64: 2.2. | C64: Vides aizsardzība un attīstība | D64: 2.2.2. | E64: “Pārejas uz aprites ekonomiku veicināšana” | F64: 2.2.2.3. | G64: Notekūdeņu dūņu pārstrāde | H64: 2 | I64: KF | J64: 16149296 | K64: 18999172 | L64: 2849876 | M64: 0.15804956 | N64: 16149296 | O64: 2849876 | P64: 0 | Q64: 0 | R64: KEM | S64: Uzsaukums par elastības finansējuma apjomu 2026.g. | T64: Uzsaukums par elastības finansējuma apjomu 2026.g. | U64: Uzsaukums par elastības finansējuma apjomu 2026.g. | V64: PLĀNOJAS | W64: Uzsaukums par elastības finansējuma apjomu 2026.g. | X64: Uzsaukums par elastības finansējuma apjomu 2026.g.
A65: 2 | B65: 2.2. | C65: Vides aizsardzība un attīstība | D65: 2.2.2. | E65: “Pārejas uz aprites ekonomiku veicināšana” | F65: 2.2.2.4. ******* | G65: Aprites ekonomikas principu ieviešana | H65: _ | I65: KF | J65: 10000000 | K65: 11764706 | L65: 1764706 | M65: 0.15804956 | N65: 0 | O65: 0 | P65: 10000000 | Q65: 1764706 | R65: KEM | S65: N/A | T65: N/A | U65: 2024 IV | V65: PLĀNOJAS | W65: 2025 I | X65: 2025 I
A66: 2 | B66: 2.4. | C66: AER izmantošanas transportā veicināšana | D66: 2.4.1. | E66: “Veicināt ilgtspējīgu multimodālu mobilitāti, veicinot elektrotransportlīdzekļu izmantošanu” | F66: 2.4.1.1. | G66: Elektrotransportlīdzekļiem paredzēti lieljaudas uzlādes punkti | H66: _ | I66: KF | J66: 32100000 | K66: 37764706 | L66: 5664706 | M66: 0.15804956 | N66: 15661075 | O66: 2763719 | P66: 16438925 | Q66: 2900987 | R66: SM | S66: 2024 IV | T66: 2025 I | U66: 2024 IV | V66: PLĀNOJAS | W66: 2025 I | X66: 2025 II
A67: 3 | B67: 3.1. | C67: Ilgtspējīga TEN-T infrastruktūra | D67: 3.1.1. | E67: “Attīstīt ilgtspējīgu, pret klimatu izturīgu, inteliģentu, drošu un vairākveidu TEN-T infrastruktūru” | F67: 3.1.1.5. | G67: Nacionālās nozīmes centru maģistrālo ielu un esošo maršrutu attīstība | H67: _ | I67: KF | J67: 34229272 | K67: 40269732 | L67: 6040460 | M67: 0.15804956 | N67: 5409922 | O67: 954692 | P67: 28819350 | Q67: 5085768 | R67: SM | S67: Plānots izskatīt 31.01.2025 AK | T67: 2025 I | U67: 2024 IV | V67: PLĀNOJAS | W67: 2025 I | X67: 2025 II
A68: 4 | B68: 4.2. | C68: Izglītība, prasmes un mūžizglītība | D68: 4.2.1. | E68: “Uzlabot vienlīdzīgu piekļuvi iekļaujošiem un kvalitatīviem pakalpojumiem izglītības, mācību un mūžizglītības jomā, attīstot pieejamu infrastruktūru, tostarp, veicinot noturību izglītošanā un mācībā attālinātā un tiešsaistes režīmā” | F68: 4.2.1.1. | G68: Infrastruktūras izveide starpnozaru sadarbības un atbalsta sistēmas izveidei bērnu attīstībai | H68: _ | I68: ERAF | J68: 3697500 | K68: 4350000 | L68: 652500 | M68: 0.15772532 | N68: 583189 | O68: 102915 | P68: 3114311 | Q68: 549585 | R68: IZM | S68: IPIA izņēmums (UK lēm. 23.04.2024) | T68: IPIA izņēmums (UK lēm. 23.04.2024) | U68: 2024 IV | V68: PLĀNOJAS | W68: 2025 I | X68: 2025 I
A69: 4 | B69: 4.2. | C69: Izglītība, prasmes un mūžizglītība | D69: 4.2.1. | E69: “Uzlabot vienlīdzīgu piekļuvi iekļaujošiem un kvalitatīviem pakalpojumiem izglītības, mācību un mūžizglītības jomā, attīstot pieejamu infrastruktūru, tostarp, veicinot noturību izglītošanā un mācībā attālinātā un tiešsaistes režīmā” | F69: 4.2.1.2. | G69: Izveidot asistīvo tehnoloģiju (tehnisko palīglīdzekļu) apmaiņas sistēmu izglītības iestādēm | H69: _ | I69: ERAF | J69: 1479000 | K69: 1740000 | L69: 261000 | M69: 0.15772532 | N69: 233276 | O69: 41166 | P69: 1245724 | Q69: 219834 | R69: IZM | S69: IPIA izņēmums (UK lēm. 23.04.2024) | T69: IPIA izņēmums (UK lēm. 23.04.2024) | U69: 2024 IV | V69: PLĀNOJAS | W69: 2025 I | X69: 2025 I
A70: 4 | B70: 4.2. | C70: Izglītība, prasmes un mūžizglītība | D70: 4.2.1. | E70: “Uzlabot vienlīdzīgu piekļuvi iekļaujošiem un kvalitatīviem pakalpojumiem izglītības, mācību un mūžizglītības jomā, attīstot pieejamu infrastruktūru, tostarp, veicinot noturību izglītošanā un mācībā attālinātā un tiešsaistes režīmā” | F70: 4.2.1.5. | G70: Izglītības iestāžu nodrošinājums pilnveidotā vispārējās izglītības satura kvalitatīvai ieviešanai pamata un vidējās izglītības pakāpē | H70: 3 | I70: ERAF | J70: 13018473 | K70: 15315851 | L70: 2297378 | M70: 0.15772532 | N70: 13018473 | O70: 2297378 | P70: 0 | Q70: 0 | R70: IZM | S70: IPIA izņēmums (UK lēm. 23.04.2024) | T70: IPIA izņēmums (UK lēm. 23.04.2024) | U70: 2025 II | V70: PLĀNOJAS | W70: 2025 III | X70: 2025 IV
A71: 4 | B71: 4.2. | C71: Izglītība, prasmes un mūžizglītība | D71: 4.2.2. | E71: “Uzlabot izglītības un mācību sistēmu kvalitāti, iekļautību, efektivitāti un nozīmīgumu darba tirgū, tostarp ar neformālās un ikdienējās mācīšanās validēšanas palīdzību, lai atbalstītu pamatkompetenču, tostarp uzņēmējdarbības un digitālo prasmju, apguvi, un sekmējot duālo mācību sistēmu un māceklības ieviešanu” | F71: 4.2.2.10. | G71: Akadēmiskās karjeras sistēmas reformas ieviešana | H71: _ | I71: ESF | J71: 5512878 | K71: 6485739 | L71: 972861 | M71: 0.15777511 | N71: 5512880 | O71: 972861 | P71: -2 | Q71: 0 | R71: IZM | S71: 2024 IV | T71: 2025 I | U71: 2024 IV | V71: PLĀNOJAS | W71: 2025 I | X71: 2025 II
A72: 4 | B72: 4.3. | C72: Nodarbinātība un sociālā iekļaušana | D72: 4.3.3. | E72: “Uzlabot visu darba meklētāju, jo īpaši jauniešu – it sevišķi, īstenojot Garantiju jauniešiem –, ilgstošo bezdarbnieku un darba tirgū nelabvēlīgā situācijā esošo grupu, un ekonomiski neaktīvo personu piekļuvi nodarbinātībai un aktivizācijas pasākumiem, kā arī veicinot pašnodarbinātību un sociālo ekonomiku” | F72: 4.3.3.1. | G72: Bezdarbnieku, darba meklētāju un bezdarba riskam pakļauto personu kvalifikācijas un prasmju paaugstināšana | H72: _ | I72: ESF | J72: 40672500 | K72: 47850000 | L72: 7177500 | M72: 0.15777511 | N72: 29154039 | O72: 5144830 | P72: 11518461 | Q72: 2032670 | R72: LM | S72: Plānots izskatīt 19.12.2024 AK | T72: 2025 IV | U72: 2025 III | V72: PLĀNOJAS | W72: 2025 IV | X72: 2026 I
A73: 4 | B73: 4.3. | C73: Nodarbinātība un sociālā iekļaušana | D73: 4.3.5. | E73: "Uzlabot vienlīdzīgu un savlaicīgu piekļuvi kvalitatīviem, ilgtspējīgiem un izmaksu ziņā pieejamiem pakalpojumiem; pilnveidot sociālās aizsardzības sistēmas, tostarp veicināt sociālās aizsardzības pieejamību; uzlabot ilgtermiņa aprūpes pakalpojumu pieejamību, efektivitāti un izturētspēju" | F73: 4.3.5.1. | G73: Sabiedrībā balstītu sociālo pakalpojumu pieejamības palielināšana | H73: 3 | I73: ESF | J73: 1579425 | K73: 1858148 | L73: 278723 | M73: 0.15777511 | N73: 0 | O73: 0 | P73: 1579425 | Q73: 278723 | R73: LM | S73: 45645 | T73: 2025 III | U73: 2025 IV | V73: PLĀNOJAS | W73: 2026 I | X73: 2027 IV
A74: 4 | B74: 4.4. | C74: Sociālās inovācijas | D74: 4.4.1. | E74: "Veicināt nabadzības vai sociālās atstumtības riskam pakļauto personu sociālo integrāciju, izmantojot sociālās inovācijas " | F74: 4.4.1.2.******* | G74: Starpdisciplināra atbalsta izveide nemotivētām pilngadīgām personām ar garīga rakstura traucējumiem | H74: _ | I74: ESF | J74: 3400000 | K74: 4000000 | L74: 600000 | M74: 0.15777511 | N74: 0 | O74: 0 | P74: 3400000 | Q74: 600000 | R74: LM | S74: IPIA izņēmums (UK lēm. 23.04.2024) | T74: IPIA izņēmums (UK lēm. 23.04.2024) | U74: 2024 IV | V74: PLĀNOJAS | W74: 2025 I | X74: 2025 II
F75: 0 | G75: Apstiprinātie MKN | I75: kopā: | N75: =SUBTOTAL(9,N76:N234) -> 332415267 | O75: =SUBTOTAL(9,O76:O234) -> 56562933 | P75: =SUBTOTAL(9,P76:P234) -> 2577519319 | Q75: =SUBTOTAL(9,Q76:Q234) -> 458488471
A76: 1 | B76: 1.1. | C76: Pētniecība un prasmes | D76: 1.1.1. | E76: “Pētniecības un inovāciju kapacitātes stiprināšana un progresīvu tehnoloģiju ieviešana kopējā P&A sistēmā” | F76: 1.1.1.1. | G76: Zinātnes politikas ieviešana,vadība un kapacitātes stiprināšana | H76: _ | I76: ERAF | J76: 12239103 | K76: 14398945 | L76: 2159842 | M76: 0.15772532 | N76: 1930416 | O76: 340661 | P76: 10308687 | Q76: 1819181 | R76: IZM | S76: 45072 | T76: 45107 | U76: 45027 | V76: APSTIPRINĀTS | W76: 45258 | X76: 2023 IV
A77: 1 | B77: 1.1. | C77: Pētniecība un prasmes | D77: 1.1.1. | E77: “Pētniecības un inovāciju kapacitātes stiprināšana un progresīvu tehnoloģiju ieviešana kopējā P&A sistēmā” | F77: 1.1.1.3. | G77: Praktiskas ievirzes pētījumi | H77: 1 | I77: ERAF | J77: 30770000 | K77: 36200000 | L77: 5430000 | M77: 0.15772532 | N77: 0 | O77: 0 | P77: 30770000 | Q77: 5430000 | R77: IZM | S77: 45134 | T77: 45271 | U77: 45110 | V77: APSTIPRINĀTS | W77: 45468 | X77: 2024 III
A78: 1 | B78: 1.1. | C78: Pētniecība un prasmes | D78: 1.1.1. | E78: “Pētniecības un inovāciju kapacitātes stiprināšana un progresīvu tehnoloģiju ieviešana kopējā P&A sistēmā” | F78: 1.1.1.3. | G78: Praktiskas ievirzes pētījumi | H78: 2 | I78: ERAF | J78: 17476000 | K78: 20560000 | L78: 3084000 | M78: 0.15772532 | N78: 5598618 | O78: 987991 | P78: 11877382 | Q78: 2096009 | R78: IZM | S78: 2025 II | T78: 2025 II | U78: 45110 | V78: APSTIPRINĀTS | W78: 45468 | X78: 2025 III
A79: 1 | B79: 1.1. | C79: Pētniecība un prasmes | D79: 1.1.1. | E79: “Pētniecības un inovāciju kapacitātes stiprināšana un progresīvu tehnoloģiju ieviešana kopējā P&A sistēmā” | F79: 1.1.1.5. | G79: Latvijas pilnvērtīga dalība Apvārsnis Eiropa programmā, tajā skaitā nodrošinot kompleksu atbalsta instrumentu klāstu un sasaisti ar RIS3 specializācijas jomu attīstīšanu | H79: 1 | I79: ERAF | J79: 8028250 | K79: 9445000 | L79: 1416750 | M79: 0.15772532 | N79: 0 | O79: 0 | P79: 8028250 | Q79: 1416750 | R79: IZM | S79: 45169 | T79: 45216 | U79: 45132 | V79: APSTIPRINĀTS | W79: 45279 | X79: 2023 IV
A80: 1 | B80: 1.1. | C80: Pētniecība un prasmes | D80: 1.1.1. | E80: “Pētniecības un inovāciju kapacitātes stiprināšana un progresīvu tehnoloģiju ieviešana kopējā P&A sistēmā” | F80: 1.1.1.5. | G80: Latvijas pilnvērtīga dalība Apvārsnis Eiropa programmā, tajā skaitā nodrošinot kompleksu atbalsta instrumentu klāstu un sasaisti ar RIS3 specializācijas jomu attīstīšanu | H80: 2 | I80: ERAF | J80: 20114979 | K80: 23664682 | L80: 3549703 | M80: 0.15772532 | N80: 8565468 | O80: 1511553 | P80: 11549511 | Q80: 2038150 | R80: IZM | S80: 45169 | T80: 45216 | U80: 45132 | V80: APSTIPRINĀTS | W80: 45279 | X80: 2024 II
A81: 1 | B81: 1.1. | C81: Pētniecība un prasmes | D81: 1.1.1. | E81: “Pētniecības un inovāciju kapacitātes stiprināšana un progresīvu tehnoloģiju ieviešana kopējā P&A sistēmā” | F81: 1.1.1.5. | G81: Latvijas pilnvērtīga dalība Apvārsnis Eiropa programmā, tajā skaitā nodrošinot kompleksu atbalsta instrumentu klāstu un sasaisti ar RIS3 specializācijas jomu attīstīšanu | H81: 3 | I81: ERAF | J81: 13413000 | K81: 15780000 | L81: 2367000 | M81: 0.15772532 | N81: 0 | O81: 0 | P81: 13413000 | Q81: 2367000 | R81: IZM | S81: 45442 | T81: 45539 | U81: 45401 | V81: APSTIPRINĀTS | W81: 45496 | X81: 2024 III
A82: 1 | B82: 1.1. | C82: Pētniecība un prasmes | D82: 1.1.1. | E82: “Pētniecības un inovāciju kapacitātes stiprināšana un progresīvu tehnoloģiju ieviešana kopējā P&A sistēmā” | F82: 1.1.1.8. | G82: Doktorantūras granti | H82: _ | I82: ERAF | J82: 16269000 | K82: 19140000 | L82: 2871000 | M82: 0.15772532 | N82: 2566033 | O82: 452829 | P82: 13702967 | Q82: 2418171 | R82: IZM | S82: 45169 | T82: 45216 | U82: 45128 | V82: APSTIPRINĀTS | W82: 45279 | X82: 2024 II
A83: 1 | B83: 1.1. | C83: Pētniecība un prasmes | D83: 1.1.1. | E83: “Pētniecības un inovāciju kapacitātes stiprināšana un progresīvu tehnoloģiju ieviešana kopējā P&A sistēmā” | F83: 1.1.1.9. | G83: Pēcdoktorantūras pētījumi | H83: _ | I83: ERAF | J83: 43256500 | K83: 50890000 | L83: 7633500 | M83: 0.15772532 | N83: 5481981 | O83: 967408 | P83: 37774519 | Q83: 6666092 | R83: IZM | S83: 45169 | T83: 45279 | U83: 45138 | V83: APSTIPRINĀTS | W83: 45300 | X83: 2023 IV
A84: 1 | B84: 1.2. | C84: Atbalsts uzņēmējdarbībai | D84: 1.2.1. | E84: “Pētniecības un inovāciju kapacitātes stiprināšana un progresīvu tehnoloģiju ieviešana uzņēmumiem ” | F84: 1.2.1.1. | G84: Atbalsts jaunu produktu attīstībai un internacionalizācijai | H84: 1 | I84: ERAF | J84: 5633633 | K84: 6627804 | L84: 994171 | M84: 0.15772532 | N84: 888567 | O84: 156806 | P84: 4745066 | Q84: 837365 | R84: EM | S84: 45351 | T84: Uzsākta UK rakastiskā procedūra 29.11.2024 | U84: 45180 | V84: APSTIPRINĀTS | W84: 45496 | X84: 2024 IV
A85: 1 | B85: 1.2. | C85: Atbalsts uzņēmējdarbībai | D85: 1.2.1. | E85: “Pētniecības un inovāciju kapacitātes stiprināšana un progresīvu tehnoloģiju ieviešana uzņēmumiem ” | F85: 1.2.1.1. | G85: Atbalsts jaunu produktu attīstībai un internacionalizācijai | H85: 2 | I85: ERAF | J85: 9869476 | K85: 11611149 | L85: 1741673 | M85: 0.15772532 | N85: 1556666 | O85: 274705 | P85: 8312810 | Q85: 1466968 | R85: EM | S85: 45407 | T85: 45510 | U85: 45359 | V85: APSTIPRINĀTS | W85: 45629 | X85: 2024 IV
A86: 1 | B86: 1.2. | C86: Atbalsts uzņēmējdarbībai | D86: 1.2.1. | E86: “Pētniecības un inovāciju kapacitātes stiprināšana un progresīvu tehnoloģiju ieviešana uzņēmumiem ” | F86: 1.2.1.1. | G86: Atbalsts jaunu produktu attīstībai un internacionalizācijai | H86: 3 | I86: ERAF | J86: 27201486 | K86: 32001749 | L86: 4800263 | M86: 0.15772532 | N86: 4290362 | O86: 757122 | P86: 22911124 | Q86: 4043141 | R86: EM | S86: 45562 | T86: 2024 II | U86: 45436 | V86: APSTIPRINĀTS | W86: 45587 | X86: 2024 IV
A87: 1 | B87: 1.2. | C87: Atbalsts uzņēmējdarbībai | D87: 1.2.1. | E87: “Pētniecības un inovāciju kapacitātes stiprināšana un progresīvu tehnoloģiju ieviešana uzņēmumiem ” | F87: 1.2.1.3. | G87: Uzņēmuma atbalsts dalībai kapitāla tirgos | H87: _ | I87: ERAF | J87: 1677811 | K87: 1973896 | L87: 296085 | M87: 0.15772532 | N87: 264633 | O87: 46699 | P87: 1413178 | Q87: 249386 | R87: EM | S87: 45197 | T87: 45232 | U87: 44942 | V87: APSTIPRINĀTS | W87: 45216 | X87: 2024 II
A88: 1 | B88: 1.2. | C88: Atbalsts uzņēmējdarbībai | D88: 1.2.1. | E88: “Pētniecības un inovāciju kapacitātes stiprināšana un progresīvu tehnoloģiju ieviešana uzņēmumiem ” | F88: 1.2.1.4. | G88: Atbalsts tehnoloģiju pārneses sistēmas pilnveidošanai | H88: _ | I88: ERAF | J88: 20866556 | K88: 24548890 | L88: 3682334 | M88: 0.15772532 | N88: 3291184 | O88: 580797 | P88: 17575372 | Q88: 3101537 | R88: EM | S88: 45022 | T88: 45066 | U88: 44879 | V88: APSTIPRINĀTS | W88: 45237 | X88: 2023 II
A89: 1 | B89: 1.2. | C89: Atbalsts uzņēmējdarbībai | D89: 1.2.2. | E89: “Izmantot digitalizācijas priekšrocības uzņēmējdarbības attīstībai ” | F89: 1.2.2.1. | G89: Atbalsts procesu digitalizācijai komercdarbībā | H89: _ | I89: ERAF | J89: 23471243 | K89: 27613228 | L89: 4141985 | M89: 0.15772532 | N89: 3702009 | O89: 653295 | P89: 19769234 | Q89: 3488690 | R89: EM | S89: 45596 | T89: Uzsākta UK rakstiskā procedūra 29.11.2024 | U89: 45415 | V89: APSTIPRINĀTS | W89: 45622 | X89: 2024 IV
A90: 1 | B90: 1.2. | C90: Atbalsts uzņēmējdarbībai | D90: 1.2.2. | E90: “Izmantot digitalizācijas priekšrocības uzņēmējdarbības attīstībai ” | F90: 1.2.2.2. ******* | G90: Individuālās garantijas digitalizācijai un automatizācijai | H90: _ | I90: ERAF | J90: 4194527 | K90: 4934738 | L90: 740211 | M90: 0.15772532 | N90: 0 | O90: 0 | P90: 4194527 | Q90: 740211 | R90: EM | S90: N/A | T90: N/A | U90: 44973 | V90: APSTIPRINĀTS | W90: 45174 | X90: N/A, jo FI
A91: 1 | B91: 1.2. | C91: Atbalsts uzņēmējdarbībai | D91: 1.2.3. | E91: "Veicināt ilgtspējīgu izaugsmi, konkurētspēju un darba vietu radīšanu MVU, tostarp ar produktīvām investīcijām” | F91: 1.2.3.1. | G91: Atbalsts MVU inovatīvas uzņēmējdarbības attīstībai | H91: _ | I91: ERAF | J91: 74161672 | K91: 87249026 | L91: 13087354 | M91: 0.15772532 | N91: 18075341 | O91: 3189766 | P91: 56086331 | Q91: 9897588 | R91: EM | S91: 44938 | T91: 44992 | U91: 44677 | V91: APSTIPRINĀTS | W91: 45120 | X91: 2023 III
A92: 1 | B92: 1.2. | C92: Atbalsts uzņēmējdarbībai | D92: 1.2.3. | E92: "Veicināt ilgtspējīgu izaugsmi, konkurētspēju un darba vietu radīšanu MVU, tostarp ar produktīvām investīcijām” | F92: 1.2.3.2. | G92: Iespējkapitāla ieguldījumi | H92: _ | I92: ERAF | J92: 67478205 | K92: 79386124 | L92: 11907919 | M92: 0.15772532 | N92: 0 | O92: 0 | P92: 67478205 | Q92: 11907919 | R92: EM | S92: N/A | T92: N/A | U92: 44804 | V92: APSTIPRINĀTS | W92: 45153 | X92: N/A, jo FI
A93: 1 | B93: 1.2. | C93: Atbalsts uzņēmējdarbībai | D93: 1.2.3. | E93: "Veicināt ilgtspējīgu izaugsmi, konkurētspēju un darba vietu radīšanu MVU, tostarp ar produktīvām investīcijām” | F93: 1.2.3.3. | G93: Starta, izaugsmes aizdevumi | H93: _ | I93: ERAF | J93: 13313429 | K93: 15662858 | L93: 2349429 | M93: 0.15772532 | N93: 0 | O93: 0 | P93: 13313429 | Q93: 2349429 | R93: EM | S93: N/A | T93: N/A | U93: 44973 | V93: APSTIPRINĀTS | W93: 45188 | X93: N/A, jo FI
A94: 1 | B94: 1.2. | C94: Atbalsts uzņēmējdarbībai | D94: 1.2.3. | E94: "Veicināt ilgtspējīgu izaugsmi, konkurētspēju un darba vietu radīšanu MVU, tostarp ar produktīvām investīcijām” | F94: 1.2.3.4. | G94: Garantijas, portfeļgarantijas pilna cikla uzņēmējdarbībai | H94: _ | I94: ERAF | J94: 29361690 | K94: 34543165 | L94: 5181475 | M94: 0.15772532 | N94: 0 | O94: 0 | P94: 29361690 | Q94: 5181475 | R94: EM | S94: N/A | T94: N/A | U94: 44973 | V94: APSTIPRINĀTS | W94: 45174 | X94: N/A, jo FI
A95: 1 | B95: 1.2. | C95: Atbalsts uzņēmējdarbībai | D95: 1.2.3. | E95: "Veicināt ilgtspējīgu izaugsmi, konkurētspēju un darba vietu radīšanu MVU, tostarp ar produktīvām investīcijām” | F95: 1.2.3.5. | G95: Aizdevumi, produktivitātes kāpināšanai (investīcijas un apgrozāmie līdzekļi) | H95: _ | I95: ERAF | J95: 23853429 | K95: 28062858 | L95: 4209429 | M95: 0.15772532 | N95: 0 | O95: 0 | P95: 23853429 | Q95: 4209429 | R95: EM | S95: N/A | T95: N/A | U95: 44973 | V95: APSTIPRINĀTS | W95: 45300 | X95: N/A, jo FI
A96: 1 | B96: 1.2. | C96: Atbalsts uzņēmējdarbībai | D96: 1.2.3. | E96: “Pētniecības un inovāciju kapacitātes stiprināšana un progresīvu tehnoloģiju ieviešana uzņēmumiem ” | F96: 1.2.3.6. | G96: Tūrisma produktu attīstības programma | H96: 1 | I96: ERAF | J96: 503343 | K96: 592169 | L96: 88826 | M96: 0.15772532 | N96: 79390 | O96: 14010 | P96: 423953 | Q96: 74816 | R96: EM | S96: 45021 | T96: 45145 | U96: 44813 | V96: APSTIPRINĀTS | W96: 45160 | X96: 2024 I
A97: 1 | B97: 1.2. | C97: Atbalsts uzņēmējdarbībai | D97: 1.2.3. | E97: “Pētniecības un inovāciju kapacitātes stiprināšana un progresīvu tehnoloģiju ieviešana uzņēmumiem ” | F97: 1.2.3.6. | G97: Tūrisma produktu attīstības programma | H97: 2 | I97: ERAF | J97: 4970515 | K97: 5847665 | L97: 877150 | M97: 0.15772532 | N97: 783976 | O97: 138349 | P97: 4186539 | Q97: 738801 | R97: EM | S97: 45021 | T97: 45145 | U97: 44813 | V97: APSTIPRINĀTS | W97: 45160 | X97: 2024 I
A98: 1 | B98: 1.3. | C98: Digitalizācija | D98: 1.3.1. | E98: “Izmantot digitalizācijas priekšrocības iedzīvotājiem, uzņēmumiem, pētniecības organizācijām un publiskajām iestādēm” | F98: 1.3.1.1. | G98: IKT risinājumu un pakalpojumu attīstība un iespēju radīšana privātajam sektoram | H98: _ | I98: ERAF | J98: 148533271 | K98: 174745025 | L98: 26211754 | M98: 0.15772532 | N98: 23427457 | O98: 4134257 | P98: 125105814 | Q98: 22077497 | R98: VARAM | S98: 45281 | T98: 45331 | U98: 45274 | V98: APSTIPRINĀTS | W98: 45447 | X98: 2024 II
A99: 1 | B99: 1.3. | C99: Digitalizācija | D99: 1.3.1. | E99: “Izmantot digitalizācijas priekšrocības iedzīvotājiem, uzņēmumiem, pētniecības organizācijām un publiskajām iestādēm” | F99: 1.3.1.2. | G99: Inovācijas laboratorija digitalizācijas priekšrocību izmantošanai | H99: _ | I99: ERAF | J99: 1094772 | K99: 1287968 | L99: 193196 | M99: 0.15772532 | N99: 172673 | O99: 30471 | P99: 922099 | Q99: 162725 | R99: VK | S99: 45071 | T99: 45111 | U99: 45092 | V99: APSTIPRINĀTS | W99: 45195 | X99: 2023 IV
A100: 1 | B100: 1.4. | C100: Digitālā savienojamība | D100: 1.4.1. | E100: “Uzlabot digitālo savienojamību” | F100: 1.4.1.4. | G100: Vienotā kiberdrošības infrastruktūra | H100: _ | I100: ERAF | J100: 3697500 | K100: 4350000 | L100: 652500 | M100: 0.15772532 | N100: 583189 | O100: 102915 | P100: 3114311 | Q100: 549585 | R100: SM | S100: 45072 | T100: 45111 | U100: 45092 | V100: APSTIPRINĀTS | W100: 45433 | X100: 2024 II
A101: 2 | B101: 2.1. | C101: Klimata pārmaiņu mazināšana un pielāgošanās klimata pārmaiņām | D101: 2.1.1. | E101: “Energoefektivitātes veicināšana un siltumnīcefekta gāzu emisiju samazināšana” | F101: 2.1.1.1. | G101: Energoefektivitātes paaugstināšana dzīvojamās ēkās, t.sk. attīstot ESKO tirgu (daudzīvokļu, privātās un neliela dzīvokļu skaita ēku kompleksos) | H101: _ | I101: ERAF | J101: 147235431 | K101: 173218155 | L101: 25982724 | M101: 0.15772532 | N101: 29007341 | O101: 5118943 | P101: 118228090 | Q101: 20863781 | R101: EM | S101: N/A | T101: N/A | U101: 45470 | V101: APSTIPRINĀTS | W101: 45643 | X101: N/A, jo FI
A102: 2 | B102: 2.1. | C102: Klimata pārmaiņu mazināšana un pielāgošanās klimata pārmaiņām | D102: 2.1.1. | E102: “Energoefektivitātes veicināšana un siltumnīcefekta gāzu emisiju samazināšana” | F102: 2.1.1.3. | G102: AER izmantošana un energoefektivitātes paaugstināšana lokālajā un individuālajā siltumapgādē un aukstumapgādē | H102: 1 | I102: ERAF | J102: 271188 | K102: 319045 | L102: 47857 | M102: 0.15772532 | N102: 0 | O102: 0 | P102: 271188 | Q102: 47857 | R102: EM | S102: Posmotie projekti (KNR 118.pants - ar atlasi) | T102: 45510 | U102: Posmotie projekti (KNR 118.pants - ar atlasi) | V102: APSTIPRINĀTS | W102: 45447 | X102: N/A
A103: 2 | B103: 2.1. | C103: Klimata pārmaiņu mazināšana un pielāgošanās klimata pārmaiņām | D103: 2.1.1. | E103: “Energoefektivitātes veicināšana un siltumnīcefekta gāzu emisiju samazināšana” | F103: 2.1.1.4. | G103: Energoefektivitātes paaugstināšana valsts ēkās | H103: _ | I103: ERAF | J103: 86441736 | K103: 101696160 | L103: 15254424 | M103: 0.15772532 | N103: 13634050 | O103: 2406008 | P103: 72807686 | Q103: 12848416 | R103: EM | S103: 45533 | T103: 2024 III | U103: 45462 | V103: APSTIPRINĀTS | W103: 45643 | X103: 2024 IV
A104: 2 | B104: 2.1. | C104: Klimata pārmaiņu mazināšana un pielāgošanās klimata pārmaiņām | D104: 2.1.1. | E104: “Energoefektivitātes veicināšana un siltumnīcefekta gāzu emisiju samazināšana” | F104: 2.1.1.5. | G104: Klimata neitrāli risinājumi profesionālās izglītības iestāžu un koledžu izglītības programmās, vidē un infrastruktūrā | H104: _ | I104: ERAF | J104: 16269000 | K104: 19140000 | L104: 2871000 | M104: 0.15772532 | N104: 2566033 | O104: 452829 | P104: 13702967 | Q104: 2418171 | R104: IZM | S104: IPIA izņēmums (UK lēm. 23.04.2024) | T104: IPIA izņēmums (UK lēm. 23.04.2024) | U104: 45454 | V104: APSTIPRINĀTS | W104: 45552 | X104: 2024 II
A105: 2 | B105: 2.1. | C105: Klimata pārmaiņu mazināšana un pielāgošanās klimata pārmaiņām | D105: 2.1.1. | E105: “Energoefektivitātes veicināšana un siltumnīcefekta gāzu emisiju samazināšana” | F105: 2.1.1.6. | G105: Pašvaldību ēku energoefektivitātes paaugstināšana | H105: 1 | I105: ERAF | J105: 3093705 | K105: 3639653 | L105: 545948 | M105: 0.15772532 | N105: 0 | O105: 0 | P105: 3093705 | Q105: 545948 | R105: VARAM | S105: IPIA izņēmums (UK lēm. 23.04.2024) | T105: IPIA izņēmums (UK lēm. 23.04.2024) | U105: 45397 | V105: APSTIPRINĀTS | W105: 45489 | X105: 2024 II
...

Sheet GRAFIKI II
A1: KUMULATĪVI
H2: Laika grafiks uz 25.04.2023.
A3: MK not. gads un ceturksnis | B3: MK noteikumu faktiskā izpilde; finansējums kumulatīvi, milj. EUR | C3: MK noteikumu finansējums, EUR | D3: MK noteikumu finansējums, milj. EUR - NOBĪDE kumulatīvi | E3: Atlašu finansējums kumulatīvi, milj. EUR | F3: Atlašu finansējums, EUR | H3: MK noteikumu apstiprināšanas plāns uz 25.04.2023; finansējums kumulatīvi, milj. EUR | I3: MK noteikumu finansējums, EUR | J3: Atlašu finansējums kumulatīvi uz 25.04.2023., milj. EUR | K3: Atlašu finansējums, EUR | L3: Nobīdes MKN | M3: Nobīdes atlases
A4: 2022 IV | B4: 0 | C4: 0 | D4: =B4-H4 -> #REF! | E4: 0 | F4: 0 | H4: =I4/1000000 -> #REF! | I4: =SUMIFS(Pasākumi_kārtas!$K$98:$K$233,Pasākumi_kārtas!#REF!,'GRAFIKI II'!A4) -> #REF! | J4: =K4/1000000 -> #REF! | K4: =SUMIFS(Pasākumi_kārtas!$K$98:$K$233,Pasākumi_kārtas!#REF!,'GRAFIKI II'!A4) -> #REF! | L4: =H4-B4 -> #REF! | M4: =J4-E4 -> #REF!
A5: 2023 I | B5: =C5/1000000+B4 -> #REF! | C5: =SUMIFS(Pasākumi_kārtas!$K$98:$K$233,Pasākumi_kārtas!#REF!,A5)+C4 -> #REF! | D5: =(B5-H5)+D4 -> #REF! | E5: =F5/1000000 -> #REF! | F5: =SUMIFS(Pasākumi_kārtas!$K$98:$K$233,Pasākumi_kārtas!#REF!,A5) -> #REF! | H5: =H4+(I5/1000000) -> #REF! | I5: =SUMIFS(Pasākumi_kārtas!$K$98:$K$233,Pasākumi_kārtas!#REF!,'GRAFIKI II'!A5) -> #REF! | J5: =J4+(K5/1000000) -> #REF! | K5: =SUMIFS(Pasākumi_kārtas!$K$98:$K$233,Pasākumi_kārtas!#REF!,'GRAFIKI II'!A5) -> #REF! | L5: =H5-B5 -> #REF! | M5: =J5-E5 -> #REF!
A6: 2023 II | B6: =C6/1000000+B5 -> #REF! | C6: =SUMIFS(Pasākumi_kārtas!$K$98:$K$233,Pasākumi_kārtas!#REF!,A6) -> #REF! | D6: =(B6-H6)+D5 -> #REF! | E6: =E5+F6/1000000 -> #REF! | F6: =SUMIFS(Pasākumi_kārtas!$K$98:$K$233,Pasākumi_kārtas!#REF!,A6) -> #REF! | H6: =H5+(I6/1000000) -> #REF! | I6: =SUMIFS(Pasākumi_kārtas!$K$98:$K$233,Pasākumi_kārtas!#REF!,'GRAFIKI II'!A6) -> #REF! | J6: =J5+(K6/1000000) -> #REF! | K6: =SUMIFS(Pasākumi_kārtas!$K$98:$K$233,Pasākumi_kārtas!#REF!,'GRAFIKI II'!A6) -> #REF! | L6: =H6-B6 -> #REF! | M6: =J6-E6 -> #REF!
A7: 2023 III | B7: =C7/1000000+B6 -> #REF! | C7: =SUMIFS(Pasākumi_kārtas!$K$98:$K$233,Pasākumi_kārtas!#REF!,A7) -> #REF! | D7: =(B7-H7)+D6 -> #REF! | E7: =E6+F7/1000000 -> #REF! | F7: =SUMIFS(Pasākumi_kārtas!$K$98:$K$233,Pasākumi_kārtas!#REF!,A7) -> #REF! | H7: =H6+(I7/1000000) -> #REF! | I7: =SUMIFS(Pasākumi_kārtas!$K$98:$K$233,Pasākumi_kārtas!#REF!,'GRAFIKI II'!A7) -> #REF! | J7: =J6+(K7/1000000) -> #REF! | K7: =SUMIFS(Pasākumi_kārtas!$K$98:$K$233,Pasākumi_kārtas!#REF!,'GRAFIKI II'!A7) -> #REF! | L7: =H7-B7 -> #REF! | M7: =J7-E7 -> #REF!
A8: 2023 IV | B8: =C8/1000000+B7 -> #REF! | C8: =SUMIFS(Pasākumi_kārtas!$K$98:$K$233,Pasākumi_kārtas!#REF!,A8) -> #REF! | D8: =(B8-H8)+D7 -> #REF! | E8: =E7+F8/1000000 -> #REF! | F8: =SUMIFS(Pasākumi_kārtas!$K$98:$K$233,Pasākumi_kārtas!#REF!,A8) -> #REF! | H8: =H7+(I8/1000000) -> #REF! | I8: =SUMIFS(Pasākumi_kārtas!$K$98:$K$233,Pasākumi_kārtas!#REF!,'GRAFIKI II'!A8) -> #REF! | J8: =J7+(K8/1000000) -> #REF! | K8: =SUMIFS(Pasākumi_kārtas!$K$98:$K$233,Pasākumi_kārtas!#REF!,'GRAFIKI II'!A8) -> #REF! | L8: =H8-B8 -> #REF! | M8: =J8-E8 -> #REF!
A9: 2024 I | B9: =C9/1000000+B8 -> #REF! | C9: =SUMIFS(Pasākumi_kārtas!$K$98:$K$233,Pasākumi_kārtas!#REF!,A9) -> #REF! | D9: =(B9-H9)+D8 -> #REF! | E9: =E8+F9/1000000 -> #REF! | F9: =SUMIFS(Pasākumi_kārtas!$K$98:$K$233,Pasākumi_kārtas!#REF!,A9) -> #REF! | H9: =H8+(I9/1000000) -> #REF! | I9: =SUMIFS(Pasākumi_kārtas!$K$98:$K$233,Pasākumi_kārtas!#REF!,'GRAFIKI II'!A9) -> #REF! | J9: =J8+(K9/1000000) -> #REF! | K9: =SUMIFS(Pasākumi_kārtas!$K$98:$K$233,Pasākumi_kārtas!#REF!,'GRAFIKI II'!A9) -> #REF!
A10: 2024 II | B10: =C10/1000000+B9 -> #REF! | C10: =SUMIFS(Pasākumi_kārtas!$K$98:$K$233,Pasākumi_kārtas!#REF!,A10) -> #REF! | D10: =(B10-H10)+D9 -> #REF! | E10: =E9+F10/1000000 -> #REF! | F10: =SUMIFS(Pasākumi_kārtas!$K$98:$K$233,Pasākumi_kārtas!#REF!,A10) -> #REF! | H10: =H9+(I10/1000000) -> #REF! | I10: =SUMIFS(Pasākumi_kārtas!$K$98:$K$233,Pasākumi_kārtas!#REF!,'GRAFIKI II'!A10) -> #REF! | J10: =J9+(K10/1000000) -> #REF! | K10: =SUMIFS(Pasākumi_kārtas!$K$98:$K$233,Pasākumi_kārtas!#REF!,'GRAFIKI II'!A10) -> #REF!
A11: 2024 III | B11: =C11/1000000+B10 -> #REF! | C11: =SUMIFS(Pasākumi_kārtas!$K$98:$K$233,Pasākumi_kārtas!#REF!,A11) -> #REF! | D11: =(B11-H11)+D10 -> #REF! | E11: =E10+F11/1000000 -> #REF! | F11: =SUMIFS(Pasākumi_kārtas!$K$98:$K$233,Pasākumi_kārtas!#REF!,A11) -> #REF! | H11: =H10+(I11/1000000) -> #REF! | I11: =SUMIFS(Pasākumi_kārtas!$K$98:$K$233,Pasākumi_kārtas!#REF!,'GRAFIKI II'!A11) -> #REF! | J11: =J10+(K11/1000000) -> #REF! | K11: =SUMIFS(Pasākumi_kārtas!$K$98:$K$233,Pasākumi_kārtas!#REF!,'GRAFIKI II'!A11) -> #REF!
A12: 2024 IV | B12: =C12/1000000+B11 -> #REF! | C12: =SUMIFS(Pasākumi_kārtas!$K$98:$K$233,Pasākumi_kārtas!#REF!,A12) -> #REF! | D12: =(B12-H12)+D11 -> #REF! | E12: =E11+F12/1000000 -> #REF! | F12: =SUMIFS(Pasākumi_kārtas!$K$98:$K$233,Pasākumi_kārtas!#REF!,A12) -> #REF! | H12: =H11+(I12/1000000) -> #REF! | I12: =SUMIFS(Pasākumi_kārtas!$K$98:$K$233,Pasākumi_kārtas!#REF!,'GRAFIKI II'!A12) -> #REF! | J12: =J11+(K12/1000000) -> #REF! | K12: =SUMIFS(Pasākumi_kārtas!$K$98:$K$233,Pasākumi_kārtas!#REF!,'GRAFIKI II'!A12) -> #REF!
A13: 2025 I | B13: =C13/1000000+B12 -> #REF! | C13: =SUMIFS(Pasākumi_kārtas!$K$98:$K$233,Pasākumi_kārtas!#REF!,A13) -> #REF! | D13: =(B13-H13)+D12 -> #REF! | E13: =E12+F13/1000000 -> #REF! | F13: =SUMIFS(Pasākumi_kārtas!$K$98:$K$233,Pasākumi_kārtas!#REF!,A13) -> #REF! | H13: =H12+(I13/1000000) -> #REF! | I13: =SUMIFS(Pasākumi_kārtas!$K$98:$K$233,Pasākumi_kārtas!#REF!,'GRAFIKI II'!A13) -> #REF! | J13: =J12+(K13/1000000) -> #REF! | K13: =SUMIFS(Pasākumi_kārtas!$K$98:$K$233,Pasākumi_kārtas!#REF!,'GRAFIKI II'!A13) -> #REF!
A14: 2025 II | B14: =C14/1000000+B13 -> #REF! | C14: =SUMIFS(Pasākumi_kārtas!$K$98:$K$233,Pasākumi_kārtas!#REF!,A14) -> #REF! | D14: =(B14-H14)+D13 -> #REF! | E14: =E13+F14/1000000 -> #REF! | F14: =SUMIFS(Pasākumi_kārtas!$K$98:$K$233,Pasākumi_kārtas!#REF!,A14) -> #REF! | H14: =H13+(I14/1000000) -> #REF! | I14: =SUMIFS(Pasākumi_kārtas!$K$98:$K$233,Pasākumi_kārtas!#REF!,'GRAFIKI II'!A14) -> #REF! | J14: =J13+(K14/1000000) -> #REF! | K14: =SUMIFS(Pasākumi_kārtas!$K$98:$K$233,Pasākumi_kārtas!#REF!,'GRAFIKI II'!A14) -> #REF!
A15: 2025 III | B15: =C15/1000000+B14 -> #REF! | C15: =SUMIFS(Pasākumi_kārtas!$K$98:$K$233,Pasākumi_kārtas!#REF!,A15) -> #REF! | D15: =(B15-H15)+D14 -> #REF! | E15: =E14+F15/1000000 -> #REF! | F15: =SUMIFS(Pasākumi_kārtas!$K$98:$K$233,Pasākumi_kārtas!#REF!,A15) -> #REF! | H15: =H14+(I15/1000000) -> #REF! | I15: =SUMIFS(Pasākumi_kārtas!$K$98:$K$233,Pasākumi_kārtas!#REF!,'GRAFIKI II'!A15) -> #REF! | J15: =J14+(K15/1000000) -> #REF! | K15: =SUMIFS(Pasākumi_kārtas!$K$98:$K$233,Pasākumi_kārtas!#REF!,'GRAFIKI II'!A15) -> #REF!
A16: 2025 IV | B16: =C16/1000000+B15 -> #REF! | C16: =SUMIFS(Pasākumi_kārtas!$K$98:$K$233,Pasākumi_kārtas!#REF!,A16) -> #REF! | D16: =(B16-H16)+D15 -> #REF! | E16: =E15+F16/1000000 -> #REF! | F16: =SUMIFS(Pasākumi_kārtas!$K$98:$K$233,Pasākumi_kārtas!#REF!,A16) -> #REF! | H16: =H15+(I16/1000000) -> #REF! | I16: =SUMIFS(Pasākumi_kārtas!$K$98:$K$233,Pasākumi_kārtas!#REF!,'GRAFIKI II'!A16) -> #REF! | J16: =J15+(K16/1000000) -> #REF! | K16: =SUMIFS(Pasākumi_kārtas!$K$98:$K$233,Pasākumi_kārtas!#REF!,'GRAFIKI II'!A16) -> #REF!
A17: 2026 I | B17: =C17/1000000+B16 -> #REF! | C17: =SUMIFS(Pasākumi_kārtas!$K$98:$K$233,Pasākumi_kārtas!#REF!,A17) -> #REF! | D17: =(B17-H17)+D16 -> #REF! | E17: =E16+F17/1000000 -> #REF! | F17: =SUMIFS(Pasākumi_kārtas!$K$98:$K$233,Pasākumi_kārtas!#REF!,A17) -> #REF! | H17: =H16+(I17/1000000) -> #REF! | I17: =SUMIFS(Pasākumi_kārtas!$K$98:$K$233,Pasākumi_kārtas!#REF!,'GRAFIKI II'!A17) -> #REF! | J17: =J16+(K17/1000000) -> #REF! | K17: =SUMIFS(Pasākumi_kārtas!$K$98:$K$233,Pasākumi_kārtas!#REF!,'GRAFIKI II'!A17) -> #REF!
A18: Uzsaukums par elastības finansējuma apjomu 2026.g. | B18: =C18/1000000+B17 -> #REF! | C18: =SUMIFS(Pasākumi_kārtas!$K$98:$K$233,Pasākumi_kārtas!#REF!,A18) -> #REF! | D18: =(B18-H18)+D17 -> #REF! | E18: =E17+F18/1000000 -> #REF! | F18: =SUMIFS(Pasākumi_kārtas!$K$98:$K$233,Pasākumi_kārtas!#REF!,A18) -> #REF! | H18: =H17+(I18/1000000) -> #REF! | I18: =SUMIFS(Pasākumi_kārtas!$K$98:$K$233,Pasākumi_kārtas!#REF!,'GRAFIKI II'!A18) -> #REF! | J18: =J17+(K18/1000000) -> #REF! | K18: =SUMIFS(Pasākumi_kārtas!$K$98:$K$233,Pasākumi_kārtas!#REF!,'GRAFIKI II'!A18) -> #REF!
A19: 2026 II | B19: =C19/1000000+B18 -> #REF! | C19: =SUMIFS(Pasākumi_kārtas!$K$98:$K$233,Pasākumi_kārtas!#REF!,A19) -> #REF! | D19: =(B19-H19)+D18 -> #REF! | E19: =E18+F19/1000000 -> #REF! | F19: =SUMIFS(Pasākumi_kārtas!$K$98:$K$233,Pasākumi_kārtas!#REF!,A19) -> #REF! | H19: =H18+(I19/1000000) -> #REF! | I19: =SUMIFS(Pasākumi_kārtas!$K$98:$K$233,Pasākumi_kārtas!#REF!,'GRAFIKI II'!A19) -> #REF! | J19: =J18+(K19/1000000) -> #REF! | K19: =SUMIFS(Pasākumi_kārtas!$K$98:$K$233,Pasākumi_kārtas!#REF!,'GRAFIKI II'!A19) -> #REF!
A20: 2026 III | B20: =C20/1000000+B19 -> #REF! | C20: =SUMIFS(Pasākumi_kārtas!$K$98:$K$233,Pasākumi_kārtas!#REF!,A20) -> #REF! | D20: =(B20-H20)+D19 -> #REF! | E20: =E19+F20/1000000 -> #REF! | F20: =SUMIFS(Pasākumi_kārtas!$K$98:$K$233,Pasākumi_kārtas!#REF!,A20) -> #REF! | H20: =H19+(I20/1000000) -> #REF! | I20: =SUMIFS(Pasākumi_kārtas!$K$98:$K$233,Pasākumi_kārtas!#REF!,'GRAFIKI II'!A20) -> #REF! | J20: =J19+(K20/1000000) -> #REF! | K20: =SUMIFS(Pasākumi_kārtas!$K$98:$K$233,Pasākumi_kārtas!#REF!,'GRAFIKI II'!A20) -> #REF!
... A25: 2027 IV | B25: =C25/1000000+B24 -> #REF! | C25: =SUMIFS(Pasākumi_kārtas!$K$98:$K$233,Pasākumi_kārtas!#REF!,A25) -> #REF! | D25: =(B25-H25)+D24 -> #REF! | E25: =E24+F25/1000000 -> #REF! | F25: =SUMIFS(Pasākumi_kārtas!$K$98:$K$233,Pasākumi_kārtas!#REF!,A25) -> #REF! | H25: =H24+(I25/1000000) -> #REF! | I25: =SUMIFS(Pasākumi_kārtas!$K$98:$K$233,Pasākumi_kārtas!#REF!,'GRAFIKI II'!A25) -> #REF! | J25: =J24+(K25/1000000) -> #REF! | K25: =SUMIFS(Pasākumi_kārtas!$K$98:$K$233,Pasākumi_kārtas!#REF!,'GRAFIKI II'!A25) -> #REF!
A26: bez TP prioritātes | C26: =SUM(C5:C25) -> #REF! | F26: =SUM(F5:F25) -> #REF! | I26: =SUM(I4:I25) -> #REF! | K26: =SUM(K4:K25) -> #REF!
C27: =Pasākumi_kārtas!#REF!+Pasākumi_kārtas!#REF!+C26 -> #REF! | F27: =F26+Pasākumi_kārtas!#REF!+Pasākumi_kārtas!#REF! -> #REF! | I27: =I26+Pasākumi_kārtas!#REF!+Pasākumi_kārtas!#REF! -> #REF! | K27: =K26+Pasākumi_kārtas!#REF!+Pasākumi_kārtas!#REF! -> #REF!
C28: =Pasākumi_kārtas!K234-C27 -> #REF! | F28: =Pasākumi_kārtas!K234-F27 -> #REF! | I28: =I27-Pasākumi_kārtas!K234 -> #REF! | K28: =K27-Pasākumi_kārtas!K234 -> #REF!
A29: BEZ KUMULATĀCIJAS
H30: Laika grafiks uz 25.04.2023.
A31: MK not. gads un ceturksnis | B31: MK noteikumu faktiskā izpilde; finansējums , milj. EUR | C31: MK noteikumu finansējums, EUR | D31: MK noteikumu finansējums, milj.EUR - NOBĪDE | E31: Atlašu finansējums, milj. EUR | F31: Atlašu finansējums, EUR | H31: MK noteikumu apstiprināšanas plāns uz 25.04.2023; finansējums kumulatīvi, milj. EUR | I31: MK noteikumu finansējums, EUR | J31: Atlašu finansējums kumulatīvi uz 25.04.2023., milj. EUR | K31: Atlašu finansējums, EUR
A32: 2022 IV | B32: 0 | C32: 0 | D32: =B32-E32 -> 0 | E32: 0 | F32: 0 | H32: =I32/1000000 -> #REF! | I32: =SUMIFS(Pasākumi_kārtas!$K$98:$K$233,Pasākumi_kārtas!#REF!,'GRAFIKI II'!A32) -> #REF! | J32: =K32/1000000 -> #REF! | K32: =SUMIFS(Pasākumi_kārtas!$K$98:$K$233,Pasākumi_kārtas!#REF!,'GRAFIKI II'!A32) -> #REF!
A33: 2023 I | B33: =C33/1000000 -> #REF! | C33: =SUMIFS(Pasākumi_kārtas!$K$98:$K$233,Pasākumi_kārtas!#REF!,A33) -> #REF! | D33: =B33-H33 -> #REF! | E33: =F33/1000000 -> #REF! | F33: =SUMIFS(Pasākumi_kārtas!$K$98:$K$233,Pasākumi_kārtas!#REF!,A33) -> #REF! | H33: =(I33/1000000) -> #REF! | I33: =SUMIFS(Pasākumi_kārtas!$K$98:$K$233,Pasākumi_kārtas!#REF!,'GRAFIKI II'!A33) -> #REF! | J33: =(K33/1000000) -> #REF! | K33: =SUMIFS(Pasākumi_kārtas!$K$98:$K$233,Pasākumi_kārtas!#REF!,'GRAFIKI II'!A33) -> #REF!
A34: 2023 II | B34: =C34/1000000 -> #REF! | C34: =SUMIFS(Pasākumi_kārtas!$K$98:$K$233,Pasākumi_kārtas!#REF!,A34) -> #REF! | D34: =B34-H34 -> #REF! | E34: =F34/1000000 -> #REF! | F34: =SUMIFS(Pasākumi_kārtas!$K$98:$K$233,Pasākumi_kārtas!#REF!,A34) -> #REF! | H34: =(I34/1000000) -> #REF! | I34: =SUMIFS(Pasākumi_kārtas!$K$98:$K$233,Pasākumi_kārtas!#REF!,'GRAFIKI II'!A34) -> #REF! | J34: =(K34/1000000) -> #REF! | K34: =SUMIFS(Pasākumi_kārtas!$K$98:$K$233,Pasākumi_kārtas!#REF!,'GRAFIKI II'!A34) -> #REF!
A35: 2023 III | B35: =C35/1000000 -> #REF! | C35: =SUMIFS(Pasākumi_kārtas!$K$98:$K$233,Pasākumi_kārtas!#REF!,A35) -> #REF! | D35: =B35-H35 -> #REF! | E35: =F35/1000000 -> #REF! | F35: =SUMIFS(Pasākumi_kārtas!$K$98:$K$233,Pasākumi_kārtas!#REF!,A35) -> #REF! | H35: =(I35/1000000) -> #REF! | I35: =SUMIFS(Pasākumi_kārtas!$K$98:$K$233,Pasākumi_kārtas!#REF!,'GRAFIKI II'!A35) -> #REF! | J35: =(K35/1000000) -> #REF! | K35: =SUMIFS(Pasākumi_kārtas!$K$98:$K$233,Pasākumi_kārtas!#REF!,'GRAFIKI II'!A35) -> #REF!
A36: 2023 IV | B36: =C36/1000000 -> #REF! | C36: =SUMIFS(Pasākumi_kārtas!$K$98:$K$233,Pasākumi_kārtas!#REF!,A36) -> #REF! | D36: =B36-H36 -> #REF! | E36: =F36/1000000 -> #REF! | F36: =SUMIFS(Pasākumi_kārtas!$K$98:$K$233,Pasākumi_kārtas!#REF!,A36) -> #REF! | H36: =(I36/1000000) -> #REF! | I36: =SUMIFS(Pasākumi_kārtas!$K$98:$K$233,Pasākumi_kārtas!#REF!,'GRAFIKI II'!A36) -> #REF! | J36: =(K36/1000000) -> #REF! | K36: =SUMIFS(Pasākumi_kārtas!$K$98:$K$233,Pasākumi_kārtas!#REF!,'GRAFIKI II'!A36) -> #REF!
A37: 2024 I | B37: =C37/1000000 -> #REF! | C37: =SUMIFS(Pasākumi_kārtas!$K$98:$K$233,Pasākumi_kārtas!#REF!,A37) -> #REF! | D37: =B37-H37 -> #REF! | E37: =F37/1000000 -> #REF! | F37: =SUMIFS(Pasākumi_kārtas!$K$98:$K$233,Pasākumi_kārtas!#REF!,A37) -> #REF! | H37: =(I37/1000000) -> #REF! | I37: =SUMIFS(Pasākumi_kārtas!$K$98:$K$233,Pasākumi_kārtas!#REF!,'GRAFIKI II'!A37) -> #REF! | J37: =(K37/1000000) -> #REF! | K37: =SUMIFS(Pasākumi_kārtas!$K$98:$K$233,Pasākumi_kārtas!#REF!,'GRAFIKI II'!A37) -> #REF!
A38: 2024 II | B38: =C38/1000000 -> #REF! | C38: =SUMIFS(Pasākumi_kārtas!$K$98:$K$233,Pasākumi_kārtas!#REF!,A38) -> #REF! | D38: =B38-H38 -> #REF! | E38: =F38/1000000 -> #REF! | F38: =SUMIFS(Pasākumi_kārtas!$K$98:$K$233,Pasākumi_kārtas!#REF!,A38) -> #REF! | H38: =(I38/1000000) -> #REF! | I38: =SUMIFS(Pasākumi_kārtas!$K$98:$K$233,Pasākumi_kārtas!#REF!,'GRAFIKI II'!A38) -> #REF! | J38: =(K38/1000000) -> #REF! | K38: =SUMIFS(Pasākumi_kārtas!$K$98:$K$233,Pasākumi_kārtas!#REF!,'GRAFIKI II'!A38) -> #REF!
A39: 2024 III | B39: =C39/1000000 -> #REF! | C39: =SUMIFS(Pasākumi_kārtas!$K$98:$K$233,Pasākumi_kārtas!#REF!,A39) -> #REF! | D39: =B39-H39 -> #REF! | E39: =F39/1000000 -> #REF! | F39: =SUMIFS(Pasākumi_kārtas!$K$98:$K$233,Pasākumi_kārtas!#REF!,A39) -> #REF! | H39: =(I39/1000000) -> #REF! | I39: =SUMIFS(Pasākumi_kārtas!$K$98:$K$233,Pasākumi_kārtas!#REF!,'GRAFIKI II'!A39) -> #REF! | J39: =(K39/1000000) -> #REF! | K39: =SUMIFS(Pasākumi_kārtas!$K$98:$K$233,Pasākumi_kārtas!#REF!,'GRAFIKI II'!A39) -> #REF!
A40: 2024 IV | B40: =C40/1000000 -> #REF! | C40: =SUMIFS(Pasākumi_kārtas!$K$98:$K$233,Pasākumi_kārtas!#REF!,A40) -> #REF! | D40: =B40-H40 -> #REF! | E40: =F40/1000000 -> #REF! | F40: =SUMIFS(Pasākumi_kārtas!$K$98:$K$233,Pasākumi_kārtas!#REF!,A40) -> #REF! | H40: =(I40/1000000) -> #REF! | I40: =SUMIFS(Pasākumi_kārtas!$K$98:$K$233,Pasākumi_kārtas!#REF!,'GRAFIKI II'!A40) -> #REF! | J40: =(K40/1000000) -> #REF! | K40: =SUMIFS(Pasākumi_kārtas!$K$98:$K$233,Pasākumi_kārtas!#REF!,'GRAFIKI II'!A40) -> #REF!
A41: 2025 I | B41: =C41/1000000 -> #REF! | C41: =SUMIFS(Pasākumi_kārtas!$K$98:$K$233,Pasākumi_kārtas!#REF!,A41) -> #REF! | D41: =B41-H41 -> #REF! | E41: =F41/1000000 -> #REF! | F41: =SUMIFS(Pasākumi_kārtas!$K$98:$K$233,Pasākumi_kārtas!#REF!,A41) -> #REF! | H41: =(I41/1000000) -> #REF! | I41: =SUMIFS(Pasākumi_kārtas!$K$98:$K$233,Pasākumi_kārtas!#REF!,'GRAFIKI II'!A41) -> #REF! | J41: =(K41/1000000) -> #REF! | K41: =SUMIFS(Pasākumi_kārtas!$K$98:$K$233,Pasākumi_kārtas!#REF!,'GRAFIKI II'!A41) -> #REF!
A42: 2025 II | B42: =C42/1000000 -> #REF! | C42: =SUMIFS(Pasākumi_kārtas!$K$98:$K$233,Pasākumi_kārtas!#REF!,A42) -> #REF! | D42: =B42-H42 -> #REF! | E42: =F42/1000000 -> #REF! | F42: =SUMIFS(Pasākumi_kārtas!$K$98:$K$233,Pasākumi_kārtas!#REF!,A42) -> #REF! | H42: =(I42/1000000) -> #REF! | I42: =SUMIFS(Pasākumi_kārtas!$K$98:$K$233,Pasākumi_kārtas!#REF!,'GRAFIKI II'!A42) -> #REF! | J42: =(K42/1000000) -> #REF! | K42: =SUMIFS(Pasākumi_kārtas!$K$98:$K$233,Pasākumi_kārtas!#REF!,'GRAFIKI II'!A42) -> #REF!
A43: 2025 III | B43: =C43/1000000 -> #REF! | C43: =SUMIFS(Pasākumi_kārtas!$K$98:$K$233,Pasākumi_kārtas!#REF!,A43) -> #REF! | D43: =B43-H43 -> #REF! | E43: =F43/1000000 -> #REF! | F43: =SUMIFS(Pasākumi_kārtas!$K$98:$K$233,Pasākumi_kārtas!#REF!,A43) -> #REF! | H43: =(I43/1000000) -> #REF! | I43: =SUMIFS(Pasākumi_kārtas!$K$98:$K$233,Pasākumi_kārtas!#REF!,'GRAFIKI II'!A43) -> #REF! | J43: =(K43/1000000) -> #REF! | K43: =SUMIFS(Pasākumi_kārtas!$K$98:$K$233,Pasākumi_kārtas!#REF!,'GRAFIKI II'!A43) -> #REF!
A44: 2025 IV | B44: =C44/1000000 -> #REF! | C44: =SUMIFS(Pasākumi_kārtas!$K$98:$K$233,Pasākumi_kārtas!#REF!,A44) -> #REF! | D44: =B44-H44 -> #REF! | E44: =F44/1000000 -> #REF! | F44: =SUMIFS(Pasākumi_kārtas!$K$98:$K$233,Pasākumi_kārtas!#REF!,A44) -> #REF! | H44: =(I44/1000000) -> #REF! | I44: =SUMIFS(Pasākumi_kārtas!$K$98:$K$233,Pasākumi_kārtas!#REF!,'GRAFIKI II'!A44) -> #REF! | J44: =(K44/1000000) -> #REF! | K44: =SUMIFS(Pasākumi_kārtas!$K$98:$K$233,Pasākumi_kārtas!#REF!,'GRAFIKI II'!A44) -> #REF!
... A53: 2027 IV | B53: =C53/1000000 -> #REF! | C53: =SUMIFS(Pasākumi_kārtas!$K$98:$K$233,Pasākumi_kārtas!#REF!,A53) -> #REF! | D53: =B53-H53 -> #REF! | E53: =F53/1000000 -> #REF! | F53: =SUMIFS(Pasākumi_kārtas!$K$98:$K$233,Pasākumi_kārtas!#REF!,A53) -> #REF! | H53: =(I53/1000000) -> #REF! | I53: =SUMIFS(Pasākumi_kārtas!$K$98:$K$233,Pasākumi_kārtas!#REF!,'GRAFIKI II'!A53) -> #REF! | J53: =(K53/1000000) -> #REF! | K53: =SUMIFS(Pasākumi_kārtas!$K$98:$K$233,Pasākumi_kārtas!#REF!,'GRAFIKI II'!A53) -> #REF!
A54: Kopā | B54: =SUM(B32:B53) -> #REF! | C54: =SUM(C32:C53) -> #REF! | D54: =SUM(D32:D53) -> #REF! | E54: =SUM(E32:E53) -> #REF! | F54: =SUM(F32:F53) -> #REF! | G54: =SUM(G32:G53) -> 0 | H54: =SUM(H32:H53) -> #REF! | I54: =SUM(I32:I53) -> #REF! | ... K54: =SUM(K32:K53) -> #REF!
C55: =C26=C54 -> #REF!
A58: KUMULATĪVI
AC59: Laika grafiks uz 25.04.2023.
B60: MK noteikumu finansējums pa ministrijām kumulatīvi, milj. EUR | AB60: MK noteikumu finansējums pa ministrijām kumulatīvi uz 25.04.2023., milj. EUR
B61: SM | C61: NOBĪDE | D61: EM | E61: NOBĪDE | F61: VARAM | G61: NOBĪDE | H61: IZM | I61: NOBĪDE | J61: VM | K61: NOBĪDE | L61: LM | M61: NOBĪDE | N61: KM | O61: NOBĪDE | P61: FM | Q61: NOBĪDE | R61: VK | S61: NOBĪDE | T61: IeM | U61: NOBĪDE | V61: TM | W61: NOBĪDE | X61: KEM | Y61: NOBĪDE | Z61: VARAM izpilde | AA61: LM izpilde | AC61: SM | AD61: EM | AE61: VARAM | AF61: IZM | AG61: VM | AH61: LM | AI61: KM | AJ61: FM | AK61: VK | AL61: IeM | AM61: TM | AN61: KEM | AR61: SM plāns | AS61: SM izpilde | AT61: EM plāns | AU61: EM izpilde | AV61: VARAM plāns | AW61: VARAM izpilde | AX61: IZM plāns | AY61: IZM izpilde | AZ61: VM plāns | BA61: VM izpilde | BB61: LM plāns | BC61: LM izpilde | BD61: KM plāns | BE61: KM izpilde | BF61: FM plāns | BG61: FM izpilde | BH61: VK plāns | BI61: VK izpilde | BJ61: IeM plāns | BK61: IeM izpilde | BL61: TM plāns | BM61: TM izpilde | BN61: KEM plāns | BO61: KEM izpilde
A62: 2022 IV | B62: 0 | C62: =B62-AC62 -> #REF! | D62: 0 | E62: =D62-AD62 -> #REF! | F62: 0 | G62: =F62-AE62 -> #REF! | H62: 0 | I62: =H62-AF62 -> #REF! | J62: 0 | K62: =J62-AG62 -> #REF! | L62: 0 | M62: =L62-AH62 -> #REF! | N62: 0 | O62: =(N62-AI62) -> #REF! | P62: 0 | Q62: =(P62-AJ62) -> #REF! | R62: 0 | S62: =(R62-AK62) -> #REF! | T62: 0 | U62: =(T62-AL62) -> #REF! | V62: 0 | W62: =(V62-AM62) -> #REF! | X62: 0 | Y62: =(X62-AN62) -> #REF! | AB62: 2022 IV | AC62: =(SUMIFS(Pasākumi_kārtas!$K$98:$K$233,Pasākumi_kārtas!#REF!,'GRAFIKI II'!$AB62,Pasākumi_kārtas!$R$98:$R$233,'GRAFIKI II'!AC$61)/1000000) -> #REF! | AD62: =(SUMIFS(Pasākumi_kārtas!$K$98:$K$233,Pasākumi_kārtas!#REF!,'GRAFIKI II'!$AB62,Pasākumi_kārtas!$R$98:$R$233,'GRAFIKI II'!AD$61)/1000000) -> #REF! | AE62: =(SUMIFS(Pasākumi_kārtas!$K$98:$K$233,Pasākumi_kārtas!#REF!,'GRAFIKI II'!$AB62,Pasākumi_kārtas!$R$98:$R$233,'GRAFIKI II'!AE$61)/1000000) -> #REF! | AF62: =(SUMIFS(Pasākumi_kārtas!$K$98:$K$233,Pasākumi_kārtas!#REF!,'GRAFIKI II'!$AB62,Pasākumi_kārtas!$R$98:$R$233,'GRAFIKI II'!AF$61)/1000000) -> #REF! | AG62: =(SUMIFS(Pasākumi_kārtas!$K$98:$K$233,Pasākumi_kārtas!#REF!,'GRAFIKI II'!$AB62,Pasākumi_kārtas!$R$98:$R$233,'GRAFIKI II'!AG$61)/1000000) -> #REF! | AH62: =(SUMIFS(Pasākumi_kārtas!$K$98:$K$233,Pasākumi_kārtas!#REF!,'GRAFIKI II'!$AB62,Pasākumi_kārtas!$R$98:$R$233,'GRAFIKI II'!AH$61)/1000000) -> #REF! | AI62: =(SUMIFS(Pasākumi_kārtas!$K$98:$K$233,Pasākumi_kārtas!#REF!,'GRAFIKI II'!$AB62,Pasākumi_kārtas!$R$98:$R$233,'GRAFIKI II'!AI$61)/1000000) -> #REF! | AJ62: =(SUMIFS(Pasākumi_kārtas!$K$98:$K$233,Pasākumi_kārtas!#REF!,'GRAFIKI II'!$AB62,Pasākumi_kārtas!$R$98:$R$233,'GRAFIKI II'!AJ$61)/1000000) -> #REF! | ... AN62: =(SUMIFS(Pasākumi_kārtas!$K$98:$K$233,Pasākumi_kārtas!#REF!,'GRAFIKI II'!$AB62,Pasākumi_kārtas!$R$98:$R$233,'GRAFIKI II'!AN$61)/1000000) -> #REF! | AQ62: 2023 I | AR62: =AC63 -> #REF! | AS62: =B63 -> #REF! | AT62: =AD63 -> #REF! | AU62: =D63 -> #REF! | AV62: =AE63 -> #REF! | AW62: =F63 -> #REF! | AX62: =AF63 -> #REF! | AY62: =H63 -> #REF! | AZ62: =AG63 -> #REF! | BA62: =J63 -> #REF! | BB62: =AH63 -> #REF! | BC62: =L63 -> #REF! | BD62: =AI63 -> #REF! | BE62: =N63 -> #REF! | BF62: =AJ63 -> #REF! | BG62: =P63 -> #REF! | BH62: =AK63 -> #REF! | BI62: =R63 -> #REF! | BJ62: =AL63 -> #REF! | BK62: =T63 -> #REF! | BL62: =AM63 -> #REF! | BM62: =V63 -> #REF! | BN62: =AN63 -> #REF! | BO62: =X63 -> #REF!
A63: 2023 I | B63: =(SUMIFS(Pasākumi_kārtas!$K$98:$K$233,Pasākumi_kārtas!#REF!,$A63,Pasākumi_kārtas!$R$98:$R$233,B$61))/1000000 -> #REF! | C63: =(B63-AC63)+C62 -> #REF! | D63: =(SUMIFS(Pasākumi_kārtas!$K$98:$K$233,Pasākumi_kārtas!#REF!,$A63,Pasākumi_kārtas!$R$98:$R$233,D$61))/1000000 -> #REF! | E63: =(D63-AD63)+E62 -> #REF! | F63: =(SUMIFS(Pasākumi_kārtas!$K$98:$K$233,Pasākumi_kārtas!#REF!,$A63,Pasākumi_kārtas!$R$98:$R$233,F$61))/1000000 -> #REF! | G63: =(F63-AE63)+G62 -> #REF! | H63: =(SUMIFS(Pasākumi_kārtas!$K$98:$K$233,Pasākumi_kārtas!#REF!,$A63,Pasākumi_kārtas!$R$98:$R$233,H$61))/1000000 -> #REF! | I63: =(H63-AF63)+I62 -> #REF! | J63: =(SUMIFS(Pasākumi_kārtas!$K$98:$K$233,Pasākumi_kārtas!#REF!,$A63,Pasākumi_kārtas!$R$98:$R$233,J$61))/1000000 -> #REF! | K63: =(J63-AG63)+K62 -> #REF! | L63: =(SUMIFS(Pasākumi_kārtas!$K$98:$K$233,Pasākumi_kārtas!#REF!,$A63,Pasākumi_kārtas!$R$98:$R$233,L$61))/1000000 -> #REF! | M63: =(L63-AH63)+M62 -> #REF! | N63: =(SUMIFS(Pasākumi_kārtas!$K$98:$K$233,Pasākumi_kārtas!#REF!,$A63,Pasākumi_kārtas!$R$98:$R$233,N$61))/1000000 -> #REF! | O63: =(N63-AI63)+O62 -> #REF! | P63: =(SUMIFS(Pasākumi_kārtas!$K$98:$K$233,Pasākumi_kārtas!#REF!,$A63,Pasākumi_kārtas!$R$98:$R$233,P$61))/1000000 -> #REF! | Q63: =(P63-AJ63)+Q62 -> #REF! | R63: =(SUMIFS(Pasākumi_kārtas!$K$98:$K$233,Pasākumi_kārtas!#REF!,$A63,Pasākumi_kārtas!$R$98:$R$233,R$61))/1000000 -> #REF! | S63: =(R63-AK63)+S62 -> #REF! | T63: =(SUMIFS(Pasākumi_kārtas!$K$98:$K$233,Pasākumi_kārtas!#REF!,$A63,Pasākumi_kārtas!$R$98:$R$233,T$61))/1000000 -> #REF! | U63: =(T63-AL63)+U62 -> #REF! | V63: =(SUMIFS(Pasākumi_kārtas!$K$98:$K$233,Pasākumi_kārtas!#REF!,$A63,Pasākumi_kārtas!$R$98:$R$233,V$61))/1000000 -> #REF! | W63: =(V63-AM63)+W62 -> #REF! | X63: =(SUMIFS(Pasākumi_kārtas!$K$98:$K$233,Pasākumi_kārtas!#REF!,$A63,Pasākumi_kārtas!$R$98:$R$233,X$61))/1000000 -> #REF! | Y63: =(X63-AN63)+Y62 -> #REF! | Z63: =F63 -> #REF! | AB63: 2023 I | AC63: =(SUMIFS(Pasākumi_kārtas!$K$98:$K$233,Pasākumi_kārtas!#REF!,'GRAFIKI II'!$AB63,Pasākumi_kārtas!$R$98:$R$233,'GRAFIKI II'!AC$61)/1000000)+AC62 -> #REF! | AD63: =(SUMIFS(Pasākumi_kārtas!$K$98:$K$233,Pasākumi_kārtas!#REF!,'GRAFIKI II'!$AB63,Pasākumi_kārtas!$R$98:$R$233,'GRAFIKI II'!AD$61)/1000000)+AD62 -> #REF! | AE63: =(SUMIFS(Pasākumi_kārtas!$K$98:$K$233,Pasākumi_kārtas!#REF!,'GRAFIKI II'!$AB63,Pasākumi_kārtas!$R$98:$R$233,'GRAFIKI II'!AE$61)/1000000)+AE62 -> #REF! | AF63: =(SUMIFS(Pasākumi_kārtas!$K$98:$K$233,Pasākumi_kārtas!#REF!,'GRAFIKI II'!$AB63,Pasākumi_kārtas!$R$98:$R$233,'GRAFIKI II'!AF$61)/1000000)+AF62 -> #REF! | AG63: =(SUMIFS(Pasākumi_kārtas!$K$98:$K$233,Pasākumi_kārtas!#REF!,'GRAFIKI II'!$AB63,Pasākumi_kārtas!$R$98:$R$233,'GRAFIKI II'!AG$61)/1000000)+AG62 -> #REF! | AH63: =(SUMIFS(Pasākumi_kārtas!$K$98:$K$233,Pasākumi_kārtas!#REF!,'GRAFIKI II'!$AB63,Pasākumi_kārtas!$R$98:$R$233,'GRAFIKI II'!AH$61)/1000000)+AH62 -> #REF! | AI63: =(SUMIFS(Pasākumi_kārtas!$K$98:$K$233,Pasākumi_kārtas!#REF!,'GRAFIKI II'!$AB63,Pasākumi_kārtas!$R$98:$R$233,'GRAFIKI II'!AI$61)/1000000)+AI62 -> #REF! | AJ63: =(SUMIFS(Pasākumi_kārtas!$K$98:$K$233,Pasākumi_kārtas!#REF!,'GRAFIKI II'!$AB63,Pasākumi_kārtas!$R$98:$R$233,'GRAFIKI II'!AJ$61)/1000000)+AJ62 -> #REF! | ... AN63: =(SUMIFS(Pasākumi_kārtas!$K$98:$K$233,Pasākumi_kārtas!#REF!,'GRAFIKI II'!$AB63,Pasākumi_kārtas!$R$98:$R$233,'GRAFIKI II'!AN$61)/1000000)+AN62 -> #REF! | AQ63: 2023 II | AR63: =AC64 -> #REF! | AS63: =B64 -> #REF! | AT63: =AD64 -> #REF! | AU63: =D64 -> #REF! | AV63: =AE64 -> #REF! | AW63: =F64 -> #REF! | AX63: =AF64 -> #REF! | AY63: =H64 -> #REF! | AZ63: =AG64 -> #REF! | BA63: =J64 -> #REF! | BB63: =AH64 -> #REF! | BC63: =L64 -> #REF! | BD63: =AI64 -> #REF! | BE63: =N64 -> #REF! | BF63: =AJ64 -> #REF! | BG63: =P64 -> #REF! | BH63: =AK64 -> #REF! | BI63: =R64 -> #REF! | BJ63: =AL64 -> #REF! | BK63: =T64 -> #REF! | BL63: =AM64 -> #REF! | BM63: =V64 -> #REF! | BN63: =AN64 -> #REF! | BO63: =X64 -> #REF!
A64: 2023 II | B64: =(SUMIFS(Pasākumi_kārtas!$K$98:$K$233,Pasākumi_kārtas!#REF!,$A64,Pasākumi_kārtas!$R$98:$R$233,B$61))/1000000+B63 -> #REF! | C64: =(B64-AC64)+C63 -> #REF! | D64: =(SUMIFS(Pasākumi_kārtas!$K$98:$K$233,Pasākumi_kārtas!#REF!,$A64,Pasākumi_kārtas!$R$98:$R$233,D$61))/1000000+D63 -> #REF! | E64: =(D64-AD64)+E63 -> #REF! | F64: =(SUMIFS(Pasākumi_kārtas!$K$98:$K$233,Pasākumi_kārtas!#REF!,$A64,Pasākumi_kārtas!$R$98:$R$233,F$61))/1000000+F63 -> #REF! | G64: =(F64-AE64)+G63 -> #REF! | H64: =(SUMIFS(Pasākumi_kārtas!$K$98:$K$233,Pasākumi_kārtas!#REF!,$A64,Pasākumi_kārtas!$R$98:$R$233,H$61))/1000000+H63 -> #REF! | I64: =(H64-AF64)+I63 -> #REF! | J64: =(SUMIFS(Pasākumi_kārtas!$K$98:$K$233,Pasākumi_kārtas!#REF!,$A64,Pasākumi_kārtas!$R$98:$R$233,J$61))/1000000+J63 -> #REF! | K64: =(J64-AG64)+K63 -> #REF! | L64: =(SUMIFS(Pasākumi_kārtas!$K$98:$K$233,Pasākumi_kārtas!#REF!,$A64,Pasākumi_kārtas!$R$98:$R$233,L$61))/1000000+L63 -> #REF! | M64: =(L64-AH64)+M63 -> #REF! | N64: =(SUMIFS(Pasākumi_kārtas!$K$98:$K$233,Pasākumi_kārtas!#REF!,$A64,Pasākumi_kārtas!$R$98:$R$233,N$61))/1000000+N63 -> #REF! | O64: =(N64-AI64)+O63 -> #REF! | P64: =(SUMIFS(Pasākumi_kārtas!$K$98:$K$233,Pasākumi_kārtas!#REF!,$A64,Pasākumi_kārtas!$R$98:$R$233,P$61))/1000000+P63 -> #REF! | Q64: =(P64-AJ64)+Q63 -> #REF! | R64: =(SUMIFS(Pasākumi_kārtas!$K$98:$K$233,Pasākumi_kārtas!#REF!,$A64,Pasākumi_kārtas!$R$98:$R$233,R$61))/1000000+R63 -> #REF! | S64: =(R64-AK64)+S63 -> #REF! | T64: =(SUMIFS(Pasākumi_kārtas!$K$98:$K$233,Pasākumi_kārtas!#REF!,$A64,Pasākumi_kārtas!$R$98:$R$233,T$61))/1000000+T63 -> #REF! | U64: =(T64-AL64)+U63 -> #REF! | V64: =(SUMIFS(Pasākumi_kārtas!$K$98:$K$233,Pasākumi_kārtas!#REF!,$A64,Pasākumi_kārtas!$R$98:$R$233,V$61))/1000000+V63 -> #REF! | W64: =(V64-AM64)+W63 -> #REF! | X64: =(SUMIFS(Pasākumi_kārtas!$K$98:$K$233,Pasākumi_kārtas!#REF!,$A64,Pasākumi_kārtas!$R$98:$R$233,X$61))/1000000+X63 -> #REF! | Y64: =(X64-AN64)+Y63 -> #REF! | Z64: =103854727/1000000 -> 103.85473 | AA64: =4350000/1000000 -> 4.35 | AB64: 2023 II | AC64: =(SUMIFS(Pasākumi_kārtas!$K$98:$K$233,Pasākumi_kārtas!#REF!,'GRAFIKI II'!$AB64,Pasākumi_kārtas!$R$98:$R$233,'GRAFIKI II'!AC$61)/1000000)+AC63 -> #REF! | AD64: =(SUMIFS(Pasākumi_kārtas!$K$98:$K$233,Pasākumi_kārtas!#REF!,'GRAFIKI II'!$AB64,Pasākumi_kārtas!$R$98:$R$233,'GRAFIKI II'!AD$61)/1000000)+AD63 -> #REF! | AE64: =(SUMIFS(Pasākumi_kārtas!$K$98:$K$233,Pasākumi_kārtas!#REF!,'GRAFIKI II'!$AB64,Pasākumi_kārtas!$R$98:$R$233,'GRAFIKI II'!AE$61)/1000000)+AE63 -> #REF! | AF64: =(SUMIFS(Pasākumi_kārtas!$K$98:$K$233,Pasākumi_kārtas!#REF!,'GRAFIKI II'!$AB64,Pasākumi_kārtas!$R$98:$R$233,'GRAFIKI II'!AF$61)/1000000)+AF63 -> #REF! | AG64: =(SUMIFS(Pasākumi_kārtas!$K$98:$K$233,Pasākumi_kārtas!#REF!,'GRAFIKI II'!$AB64,Pasākumi_kārtas!$R$98:$R$233,'GRAFIKI II'!AG$61)/1000000)+AG63 -> #REF! | AH64: =(SUMIFS(Pasākumi_kārtas!$K$98:$K$233,Pasākumi_kārtas!#REF!,'GRAFIKI II'!$AB64,Pasākumi_kārtas!$R$98:$R$233,'GRAFIKI II'!AH$61)/1000000)+AH63 -> #REF! | AI64: =(SUMIFS(Pasākumi_kārtas!$K$98:$K$233,Pasākumi_kārtas!#REF!,'GRAFIKI II'!$AB64,Pasākumi_kārtas!$R$98:$R$233,'GRAFIKI II'!AI$61)/1000000)+AI63 -> #REF! | AJ64: =(SUMIFS(Pasākumi_kārtas!$K$98:$K$233,Pasākumi_kārtas!#REF!,'GRAFIKI II'!$AB64,Pasākumi_kārtas!$R$98:$R$233,'GRAFIKI II'!AJ$61)/1000000)+AJ63 -> #REF! | ... AN64: =(SUMIFS(Pasākumi_kārtas!$K$98:$K$233,Pasākumi_kārtas!#REF!,'GRAFIKI II'!$AB64,Pasākumi_kārtas!$R$98:$R$233,'GRAFIKI II'!AN$61)/1000000)+AN63 -> #REF! | AQ64: 2023 III | AR64: =AC65 -> #REF! | AS64: =B65 -> #REF! | AT64: =AD65 -> #REF! | AU64: =D65 -> #REF! | AV64: =AE65 -> #REF! | AW64: =F65 -> #REF! | AX64: =AF65 -> #REF! | AY64: =H65 -> #REF! | AZ64: =AG65 -> #REF! | BA64: =J65 -> #REF! | BB64: =AH65 -> #REF! | BC64: =L65 -> #REF! | BD64: =AI65 -> #REF! | BE64: =N65 -> #REF! | BF64: =AJ65 -> #REF! | BG64: =P65 -> #REF! | BH64: =AK65 -> #REF! | BI64: =R65 -> #REF! | BJ64: =AL65 -> #REF! | BK64: =T65 -> #REF! | BL64: =AM65 -> #REF! | BM64: =V65 -> #REF! | BN64: =AN65 -> #REF! | BO64: =X65 -> #REF!
A65: 2023 III | B65: =(SUMIFS(Pasākumi_kārtas!$K$98:$K$233,Pasākumi_kārtas!#REF!,$A65,Pasākumi_kārtas!$R$98:$R$233,B$61))/1000000+B64 -> #REF! | C65: =(B65-AC65)+C64 -> #REF! | D65: =(SUMIFS(Pasākumi_kārtas!$K$98:$K$233,Pasākumi_kārtas!#REF!,$A65,Pasākumi_kārtas!$R$98:$R$233,D$61))/1000000+D64 -> #REF! | E65: =(D65-AD65)+E64 -> #REF! | F65: =(SUMIFS(Pasākumi_kārtas!$K$98:$K$233,Pasākumi_kārtas!#REF!,$A65,Pasākumi_kārtas!$R$98:$R$233,F$61))/1000000+F64 -> #REF! | G65: =(F65-AE65)+G64 -> #REF! | H65: =(SUMIFS(Pasākumi_kārtas!$K$98:$K$233,Pasākumi_kārtas!#REF!,$A65,Pasākumi_kārtas!$R$98:$R$233,H$61))/1000000+H64 -> #REF! | I65: =(H65-AF65)+I64 -> #REF! | J65: =(SUMIFS(Pasākumi_kārtas!$K$98:$K$233,Pasākumi_kārtas!#REF!,$A65,Pasākumi_kārtas!$R$98:$R$233,J$61))/1000000+J64 -> #REF! | K65: =(J65-AG65)+K64 -> #REF! | L65: =(SUMIFS(Pasākumi_kārtas!$K$98:$K$233,Pasākumi_kārtas!#REF!,$A65,Pasākumi_kārtas!$R$98:$R$233,L$61))/1000000+L64 -> #REF! | M65: =(L65-AH65)+M64 -> #REF! | N65: =(SUMIFS(Pasākumi_kārtas!$K$98:$K$233,Pasākumi_kārtas!#REF!,$A65,Pasākumi_kārtas!$R$98:$R$233,N$61))/1000000+N64 -> #REF! | O65: =(N65-AI65)+O64 -> #REF! | P65: =(SUMIFS(Pasākumi_kārtas!$K$98:$K$233,Pasākumi_kārtas!#REF!,$A65,Pasākumi_kārtas!$R$98:$R$233,P$61))/1000000+P64 -> #REF! | Q65: =(P65-AJ65)+Q64 -> #REF! | R65: =(SUMIFS(Pasākumi_kārtas!$K$98:$K$233,Pasākumi_kārtas!#REF!,$A65,Pasākumi_kārtas!$R$98:$R$233,R$61))/1000000+R64 -> #REF! | S65: =(R65-AK65)+S64 -> #REF! | T65: =(SUMIFS(Pasākumi_kārtas!$K$98:$K$233,Pasākumi_kārtas!#REF!,$A65,Pasākumi_kārtas!$R$98:$R$233,T$61))/1000000+T64 -> #REF! | U65: =(T65-AL65)+U64 -> #REF! | V65: =(SUMIFS(Pasākumi_kārtas!$K$98:$K$233,Pasākumi_kārtas!#REF!,$A65,Pasākumi_kārtas!$R$98:$R$233,V$61))/1000000+V64 -> #REF! | W65: =(V65-AM65)+W64 -> #REF! | X65: =(SUMIFS(Pasākumi_kārtas!$K$98:$K$233,Pasākumi_kārtas!#REF!,$A65,Pasākumi_kārtas!$R$98:$R$233,X$61))/1000000+X64 -> #REF! | Y65: =(X65-AN65)+Y64 -> #REF! | AB65: 2023 III | AC65: =(SUMIFS(Pasākumi_kārtas!$K$98:$K$233,Pasākumi_kārtas!#REF!,'GRAFIKI II'!$AB65,Pasākumi_kārtas!$R$98:$R$233,'GRAFIKI II'!AC$61)/1000000)+AC64 -> #REF! | AD65: =(SUMIFS(Pasākumi_kārtas!$K$98:$K$233,Pasākumi_kārtas!#REF!,'GRAFIKI II'!$AB65,Pasākumi_kārtas!$R$98:$R$233,'GRAFIKI II'!AD$61)/1000000)+AD64 -> #REF! | AE65: =(SUMIFS(Pasākumi_kārtas!$K$98:$K$233,Pasākumi_kārtas!#REF!,'GRAFIKI II'!$AB65,Pasākumi_kārtas!$R$98:$R$233,'GRAFIKI II'!AE$61)/1000000)+AE64 -> #REF! | AF65: =(SUMIFS(Pasākumi_kārtas!$K$98:$K$233,Pasākumi_kārtas!#REF!,'GRAFIKI II'!$AB65,Pasākumi_kārtas!$R$98:$R$233,'GRAFIKI II'!AF$61)/1000000)+AF64 -> #REF! | AG65: =(SUMIFS(Pasākumi_kārtas!$K$98:$K$233,Pasākumi_kārtas!#REF!,'GRAFIKI II'!$AB65,Pasākumi_kārtas!$R$98:$R$233,'GRAFIKI II'!AG$61)/1000000)+AG64 -> #REF! | AH65: =(SUMIFS(Pasākumi_kārtas!$K$98:$K$233,Pasākumi_kārtas!#REF!,'GRAFIKI II'!$AB65,Pasākumi_kārtas!$R$98:$R$233,'GRAFIKI II'!AH$61)/1000000)+AH64 -> #REF! | AI65: =(SUMIFS(Pasākumi_kārtas!$K$98:$K$233,Pasākumi_kārtas!#REF!,'GRAFIKI II'!$AB65,Pasākumi_kārtas!$R$98:$R$233,'GRAFIKI II'!AI$61)/1000000)+AI64 -> #REF! | AJ65: =(SUMIFS(Pasākumi_kārtas!$K$98:$K$233,Pasākumi_kārtas!#REF!,'GRAFIKI II'!$AB65,Pasākumi_kārtas!$R$98:$R$233,'GRAFIKI II'!AJ$61)/1000000)+AJ64 -> #REF! | ... AM65: =(SUMIFS(Pasākumi_kārtas!$K$98:$K$233,Pasākumi_kārtas!#REF!,'GRAFIKI II'!$AB65,Pasākumi_kārtas!$R$98:$R$233,'GRAFIKI II'!AM$61)/1000000)+AM64 -> #REF! | AN65: =X65 -> #REF! | AQ65: 2023 IV | AR65: =AC66 -> #REF! | AS65: =B66 -> #REF! | AT65: =AD66 -> #REF! | AU65: =D66 -> #REF! | AV65: =AE66 -> #REF! | AW65: =F66 -> #REF! | AX65: =AF66 -> #REF! | AY65: =H66 -> #REF! | AZ65: =AG66 -> #REF! | BA65: =J66 -> #REF! | BB65: =AH66 -> #REF! | BC65: =L66 -> #REF! | BD65: =AI66 -> #REF! | BE65: =N66 -> #REF! | BF65: =AJ66 -> #REF! | BG65: =P66 -> #REF! | BH65: =AK66 -> #REF! | BI65: =R66 -> #REF! | BJ65: =AL66 -> #REF! | BK65: =T66 -> #REF! | BL65: =AM66 -> #REF! | BM65: =V66 -> #REF! | BN65: =AN66 -> #REF! | BO65: =X66 -> #REF!
A66: 2023 IV | B66: =(SUMIFS(Pasākumi_kārtas!$K$98:$K$233,Pasākumi_kārtas!#REF!,$A66,Pasākumi_kārtas!$R$98:$R$233,B$61))/1000000+B65 -> #REF! | C66: =(B66-AC66)+C65 -> #REF! | D66: =(SUMIFS(Pasākumi_kārtas!$K$98:$K$233,Pasākumi_kārtas!#REF!,$A66,Pasākumi_kārtas!$R$98:$R$233,D$61))/1000000+D65 -> #REF! | E66: =(D66-AD66)+E65 -> #REF! | F66: =(SUMIFS(Pasākumi_kārtas!$K$98:$K$233,Pasākumi_kārtas!#REF!,$A66,Pasākumi_kārtas!$R$98:$R$233,F$61))/1000000+F65 -> #REF! | G66: =(F66-AE66)+G65 -> #REF! | H66: =(SUMIFS(Pasākumi_kārtas!$K$98:$K$233,Pasākumi_kārtas!#REF!,$A66,Pasākumi_kārtas!$R$98:$R$233,H$61))/1000000+H65 -> #REF! | I66: =(H66-AF66)+I65 -> #REF! | J66: =(SUMIFS(Pasākumi_kārtas!$K$98:$K$233,Pasākumi_kārtas!#REF!,$A66,Pasākumi_kārtas!$R$98:$R$233,J$61))/1000000+J65 -> #REF! | K66: =(J66-AG66)+K65 -> #REF! | L66: =(SUMIFS(Pasākumi_kārtas!$K$98:$K$233,Pasākumi_kārtas!#REF!,$A66,Pasākumi_kārtas!$R$98:$R$233,L$61))/1000000+L65 -> #REF! | M66: =(L66-AH66)+M65 -> #REF! | N66: =(SUMIFS(Pasākumi_kārtas!$K$98:$K$233,Pasākumi_kārtas!#REF!,$A66,Pasākumi_kārtas!$R$98:$R$233,N$61))/1000000+N65 -> #REF! | O66: =(N66-AI66)+O65 -> #REF! | P66: =(SUMIFS(Pasākumi_kārtas!$K$98:$K$233,Pasākumi_kārtas!#REF!,$A66,Pasākumi_kārtas!$R$98:$R$233,P$61))/1000000+P65 -> #REF! | Q66: =(P66-AJ66)+Q65 -> #REF! | R66: =(SUMIFS(Pasākumi_kārtas!$K$98:$K$233,Pasākumi_kārtas!#REF!,$A66,Pasākumi_kārtas!$R$98:$R$233,R$61))/1000000+R65 -> #REF! | S66: =(R66-AK66)+S65 -> #REF! | T66: =(SUMIFS(Pasākumi_kārtas!$K$98:$K$233,Pasākumi_kārtas!#REF!,$A66,Pasākumi_kārtas!$R$98:$R$233,T$61))/1000000+T65 -> #REF! | U66: =(T66-AL66)+U65 -> #REF! | V66: =(SUMIFS(Pasākumi_kārtas!$K$98:$K$233,Pasākumi_kārtas!#REF!,$A66,Pasākumi_kārtas!$R$98:$R$233,V$61))/1000000+V65 -> #REF! | W66: =(V66-AM66)+W65 -> #REF! | X66: =(SUMIFS(Pasākumi_kārtas!$K$98:$K$233,Pasākumi_kārtas!#REF!,$A66,Pasākumi_kārtas!$R$98:$R$233,X$61))/1000000+X65 -> #REF! | Y66: =(X66-AN66)+Y65 -> #REF! | AB66: 2023 IV | AC66: =(SUMIFS(Pasākumi_kārtas!$K$98:$K$233,Pasākumi_kārtas!#REF!,'GRAFIKI II'!$AB66,Pasākumi_kārtas!$R$98:$R$233,'GRAFIKI II'!AC$61)/1000000)+AC65 -> #REF! | AD66: =(SUMIFS(Pasākumi_kārtas!$K$98:$K$233,Pasākumi_kārtas!#REF!,'GRAFIKI II'!$AB66,Pasākumi_kārtas!$R$98:$R$233,'GRAFIKI II'!AD$61)/1000000)+AD65 -> #REF! | AE66: =(SUMIFS(Pasākumi_kārtas!$K$98:$K$233,Pasākumi_kārtas!#REF!,'GRAFIKI II'!$AB66,Pasākumi_kārtas!$R$98:$R$233,'GRAFIKI II'!AE$61)/1000000)+AE65 -> #REF! | AF66: =(SUMIFS(Pasākumi_kārtas!$K$98:$K$233,Pasākumi_kārtas!#REF!,'GRAFIKI II'!$AB66,Pasākumi_kārtas!$R$98:$R$233,'GRAFIKI II'!AF$61)/1000000)+AF65 -> #REF! | AG66: =(SUMIFS(Pasākumi_kārtas!$K$98:$K$233,Pasākumi_kārtas!#REF!,'GRAFIKI II'!$AB66,Pasākumi_kārtas!$R$98:$R$233,'GRAFIKI II'!AG$61)/1000000)+AG65 -> #REF! | AH66: =(SUMIFS(Pasākumi_kārtas!$K$98:$K$233,Pasākumi_kārtas!#REF!,'GRAFIKI II'!$AB66,Pasākumi_kārtas!$R$98:$R$233,'GRAFIKI II'!AH$61)/1000000)+AH65 -> #REF! | AI66: =(SUMIFS(Pasākumi_kārtas!$K$98:$K$233,Pasākumi_kārtas!#REF!,'GRAFIKI II'!$AB66,Pasākumi_kārtas!$R$98:$R$233,'GRAFIKI II'!AI$61)/1000000)+AI65 -> #REF! | AJ66: =(SUMIFS(Pasākumi_kārtas!$K$98:$K$233,Pasākumi_kārtas!#REF!,'GRAFIKI II'!$AB66,Pasākumi_kārtas!$R$98:$R$233,'GRAFIKI II'!AJ$61)/1000000)+AJ65 -> #REF! | ... AN66: =(SUMIFS(Pasākumi_kārtas!$K$98:$K$233,Pasākumi_kārtas!#REF!,'GRAFIKI II'!$AB66,Pasākumi_kārtas!$R$98:$R$233,'GRAFIKI II'!AN$61)/1000000)+AN65 -> #REF!
A67: 2024 I | B67: =(SUMIFS(Pasākumi_kārtas!$K$98:$K$233,Pasākumi_kārtas!#REF!,$A67,Pasākumi_kārtas!$R$98:$R$233,B$61))/1000000+B66 -> #REF! | C67: =(B67-AC67)+C66 -> #REF! | D67: =(SUMIFS(Pasākumi_kārtas!$K$98:$K$233,Pasākumi_kārtas!#REF!,$A67,Pasākumi_kārtas!$R$98:$R$233,D$61))/1000000+D66 -> #REF! | E67: =(D67-AD67)+E66 -> #REF! | F67: =(SUMIFS(Pasākumi_kārtas!$K$98:$K$233,Pasākumi_kārtas!#REF!,$A67,Pasākumi_kārtas!$R$98:$R$233,F$61))/1000000+F66 -> #REF! | G67: =(F67-AE67)+G66 -> #REF! | H67: =(SUMIFS(Pasākumi_kārtas!$K$98:$K$233,Pasākumi_kārtas!#REF!,$A67,Pasākumi_kārtas!$R$98:$R$233,H$61))/1000000+H66 -> #REF! | I67: =(H67-AF67)+I66 -> #REF! | J67: =(SUMIFS(Pasākumi_kārtas!$K$98:$K$233,Pasākumi_kārtas!#REF!,$A67,Pasākumi_kārtas!$R$98:$R$233,J$61))/1000000+J66 -> #REF! | K67: =(J67-AG67)+K66 -> #REF! | L67: =(SUMIFS(Pasākumi_kārtas!$K$98:$K$233,Pasākumi_kārtas!#REF!,$A67,Pasākumi_kārtas!$R$98:$R$233,L$61))/1000000+L66 -> #REF! | M67: =(L67-AH67)+M66 -> #REF! | N67: =(SUMIFS(Pasākumi_kārtas!$K$98:$K$233,Pasākumi_kārtas!#REF!,$A67,Pasākumi_kārtas!$R$98:$R$233,N$61))/1000000+N66 -> #REF! | O67: =(N67-AI67)+O66 -> #REF! | P67: =(SUMIFS(Pasākumi_kārtas!$K$98:$K$233,Pasākumi_kārtas!#REF!,$A67,Pasākumi_kārtas!$R$98:$R$233,P$61))/1000000+P66 -> #REF! | Q67: =(P67-AJ67)+Q66 -> #REF! | R67: =(SUMIFS(Pasākumi_kārtas!$K$98:$K$233,Pasākumi_kārtas!#REF!,$A67,Pasākumi_kārtas!$R$98:$R$233,R$61))/1000000+R66 -> #REF! | S67: =(R67-AK67)+S66 -> #REF! | T67: =(SUMIFS(Pasākumi_kārtas!$K$98:$K$233,Pasākumi_kārtas!#REF!,$A67,Pasākumi_kārtas!$R$98:$R$233,T$61))/1000000+T66 -> #REF! | U67: =(T67-AL67)+U66 -> #REF! | V67: =(SUMIFS(Pasākumi_kārtas!$K$98:$K$233,Pasākumi_kārtas!#REF!,$A67,Pasākumi_kārtas!$R$98:$R$233,V$61))/1000000+V66 -> #REF! | W67: =(V67-AM67)+W66 -> #REF! | X67: =(SUMIFS(Pasākumi_kārtas!$K$98:$K$233,Pasākumi_kārtas!#REF!,$A67,Pasākumi_kārtas!$R$98:$R$233,X$61))/1000000+X66 -> #REF! | Y67: =(X67-AN67)+Y66 -> #REF! | AB67: 2024 I | AC67: =(SUMIFS(Pasākumi_kārtas!$K$98:$K$233,Pasākumi_kārtas!#REF!,'GRAFIKI II'!$AB67,Pasākumi_kārtas!$R$98:$R$233,'GRAFIKI II'!AC$61)/1000000)+AC66 -> #REF! | AD67: =(SUMIFS(Pasākumi_kārtas!$K$98:$K$233,Pasākumi_kārtas!#REF!,'GRAFIKI II'!$AB67,Pasākumi_kārtas!$R$98:$R$233,'GRAFIKI II'!AD$61)/1000000)+AD66 -> #REF! | AE67: =(SUMIFS(Pasākumi_kārtas!$K$98:$K$233,Pasākumi_kārtas!#REF!,'GRAFIKI II'!$AB67,Pasākumi_kārtas!$R$98:$R$233,'GRAFIKI II'!AE$61)/1000000)+AE66 -> #REF! | AF67: =(SUMIFS(Pasākumi_kārtas!$K$98:$K$233,Pasākumi_kārtas!#REF!,'GRAFIKI II'!$AB67,Pasākumi_kārtas!$R$98:$R$233,'GRAFIKI II'!AF$61)/1000000)+AF66 -> #REF! | AG67: =(SUMIFS(Pasākumi_kārtas!$K$98:$K$233,Pasākumi_kārtas!#REF!,'GRAFIKI II'!$AB67,Pasākumi_kārtas!$R$98:$R$233,'GRAFIKI II'!AG$61)/1000000)+AG66 -> #REF! | AH67: =(SUMIFS(Pasākumi_kārtas!$K$98:$K$233,Pasākumi_kārtas!#REF!,'GRAFIKI II'!$AB67,Pasākumi_kārtas!$R$98:$R$233,'GRAFIKI II'!AH$61)/1000000)+AH66 -> #REF! | AI67: =(SUMIFS(Pasākumi_kārtas!$K$98:$K$233,Pasākumi_kārtas!#REF!,'GRAFIKI II'!$AB67,Pasākumi_kārtas!$R$98:$R$233,'GRAFIKI II'!AI$61)/1000000)+AI66 -> #REF! | AJ67: =(SUMIFS(Pasākumi_kārtas!$K$98:$K$233,Pasākumi_kārtas!#REF!,'GRAFIKI II'!$AB67,Pasākumi_kārtas!$R$98:$R$233,'GRAFIKI II'!AJ$61)/1000000)+AJ66 -> #REF! | ... AN67: =(SUMIFS(Pasākumi_kārtas!$K$98:$K$233,Pasākumi_kārtas!#REF!,'GRAFIKI II'!$AB67,Pasākumi_kārtas!$R$98:$R$233,'GRAFIKI II'!AN$61)/1000000)+AN66 -> #REF!
A68: 2024 II | B68: =(SUMIFS(Pasākumi_kārtas!$K$98:$K$233,Pasākumi_kārtas!#REF!,$A68,Pasākumi_kārtas!$R$98:$R$233,B$61))/1000000+B67 -> #REF! | C68: =(B68-AC68)+C67 -> #REF! | D68: =(SUMIFS(Pasākumi_kārtas!$K$98:$K$233,Pasākumi_kārtas!#REF!,$A68,Pasākumi_kārtas!$R$98:$R$233,D$61))/1000000+D67 -> #REF! | E68: =(D68-AD68)+E67 -> #REF! | F68: =(SUMIFS(Pasākumi_kārtas!$K$98:$K$233,Pasākumi_kārtas!#REF!,$A68,Pasākumi_kārtas!$R$98:$R$233,F$61))/1000000+F67 -> #REF! | G68: =(F68-AE68)+G67 -> #REF! | H68: =(SUMIFS(Pasākumi_kārtas!$K$98:$K$233,Pasākumi_kārtas!#REF!,$A68,Pasākumi_kārtas!$R$98:$R$233,H$61))/1000000+H67 -> #REF! | I68: =(H68-AF68)+I67 -> #REF! | J68: =(SUMIFS(Pasākumi_kārtas!$K$98:$K$233,Pasākumi_kārtas!#REF!,$A68,Pasākumi_kārtas!$R$98:$R$233,J$61))/1000000+J67 -> #REF! | K68: =(J68-AG68)+K67 -> #REF! | L68: =(SUMIFS(Pasākumi_kārtas!$K$98:$K$233,Pasākumi_kārtas!#REF!,$A68,Pasākumi_kārtas!$R$98:$R$233,L$61))/1000000+L67 -> #REF! | M68: =(L68-AH68)+M67 -> #REF! | N68: =(SUMIFS(Pasākumi_kārtas!$K$98:$K$233,Pasākumi_kārtas!#REF!,$A68,Pasākumi_kārtas!$R$98:$R$233,N$61))/1000000+N67 -> #REF! | O68: =(N68-AI68)+O67 -> #REF! | P68: =(SUMIFS(Pasākumi_kārtas!$K$98:$K$233,Pasākumi_kārtas!#REF!,$A68,Pasākumi_kārtas!$R$98:$R$233,P$61))/1000000+P67 -> #REF! | Q68: =(P68-AJ68)+Q67 -> #REF! | R68: =(SUMIFS(Pasākumi_kārtas!$K$98:$K$233,Pasākumi_kārtas!#REF!,$A68,Pasākumi_kārtas!$R$98:$R$233,R$61))/1000000+R67 -> #REF! | S68: =(R68-AK68)+S67 -> #REF! | T68: =(SUMIFS(Pasākumi_kārtas!$K$98:$K$233,Pasākumi_kārtas!#REF!,$A68,Pasākumi_kārtas!$R$98:$R$233,T$61))/1000000+T67 -> #REF! | U68: =(T68-AL68)+U67 -> #REF! | V68: =(SUMIFS(Pasākumi_kārtas!$K$98:$K$233,Pasākumi_kārtas!#REF!,$A68,Pasākumi_kārtas!$R$98:$R$233,V$61))/1000000+V67 -> #REF! | W68: =(V68-AM68)+W67 -> #REF! | X68: =(SUMIFS(Pasākumi_kārtas!$K$98:$K$233,Pasākumi_kārtas!#REF!,$A68,Pasākumi_kārtas!$R$98:$R$233,X$61))/1000000+X67 -> #REF! | Y68: =(X68-AN68)+Y67 -> #REF! | AB68: 2024 II | AC68: =(SUMIFS(Pasākumi_kārtas!$K$98:$K$233,Pasākumi_kārtas!#REF!,'GRAFIKI II'!$AB68,Pasākumi_kārtas!$R$98:$R$233,'GRAFIKI II'!AC$61)/1000000)+AC67 -> #REF! | AD68: =(SUMIFS(Pasākumi_kārtas!$K$98:$K$233,Pasākumi_kārtas!#REF!,'GRAFIKI II'!$AB68,Pasākumi_kārtas!$R$98:$R$233,'GRAFIKI II'!AD$61)/1000000)+AD67 -> #REF! | AE68: =(SUMIFS(Pasākumi_kārtas!$K$98:$K$233,Pasākumi_kārtas!#REF!,'GRAFIKI II'!$AB68,Pasākumi_kārtas!$R$98:$R$233,'GRAFIKI II'!AE$61)/1000000)+AE67 -> #REF! | AF68: =(SUMIFS(Pasākumi_kārtas!$K$98:$K$233,Pasākumi_kārtas!#REF!,'GRAFIKI II'!$AB68,Pasākumi_kārtas!$R$98:$R$233,'GRAFIKI II'!AF$61)/1000000)+AF67 -> #REF! | AG68: =(SUMIFS(Pasākumi_kārtas!$K$98:$K$233,Pasākumi_kārtas!#REF!,'GRAFIKI II'!$AB68,Pasākumi_kārtas!$R$98:$R$233,'GRAFIKI II'!AG$61)/1000000)+AG67 -> #REF! | AH68: =(SUMIFS(Pasākumi_kārtas!$K$98:$K$233,Pasākumi_kārtas!#REF!,'GRAFIKI II'!$AB68,Pasākumi_kārtas!$R$98:$R$233,'GRAFIKI II'!AH$61)/1000000)+AH67 -> #REF! | AI68: =(SUMIFS(Pasākumi_kārtas!$K$98:$K$233,Pasākumi_kārtas!#REF!,'GRAFIKI II'!$AB68,Pasākumi_kārtas!$R$98:$R$233,'GRAFIKI II'!AI$61)/1000000)+AI67 -> #REF! | AJ68: =(SUMIFS(Pasākumi_kārtas!$K$98:$K$233,Pasākumi_kārtas!#REF!,'GRAFIKI II'!$AB68,Pasākumi_kārtas!$R$98:$R$233,'GRAFIKI II'!AJ$61)/1000000)+AJ67 -> #REF! | ... AN68: =(SUMIFS(Pasākumi_kārtas!$K$98:$K$233,Pasākumi_kārtas!#REF!,'GRAFIKI II'!$AB68,Pasākumi_kārtas!$R$98:$R$233,'GRAFIKI II'!AN$61)/1000000)+AN67 -> #REF!
A69: 2024 III | B69: =(SUMIFS(Pasākumi_kārtas!$K$98:$K$233,Pasākumi_kārtas!#REF!,$A69,Pasākumi_kārtas!$R$98:$R$233,B$61))/1000000+B68 -> #REF! | C69: =(B69-AC69)+C68 -> #REF! | D69: =(SUMIFS(Pasākumi_kārtas!$K$98:$K$233,Pasākumi_kārtas!#REF!,$A69,Pasākumi_kārtas!$R$98:$R$233,D$61))/1000000+D68 -> #REF! | E69: =(D69-AD69)+E68 -> #REF! | F69: =(SUMIFS(Pasākumi_kārtas!$K$98:$K$233,Pasākumi_kārtas!#REF!,$A69,Pasākumi_kārtas!$R$98:$R$233,F$61))/1000000+F68 -> #REF! | G69: =(F69-AE69)+G68 -> #REF! | H69: =(SUMIFS(Pasākumi_kārtas!$K$98:$K$233,Pasākumi_kārtas!#REF!,$A69,Pasākumi_kārtas!$R$98:$R$233,H$61))/1000000+H68 -> #REF! | I69: =(H69-AF69)+I68 -> #REF! | J69: =(SUMIFS(Pasākumi_kārtas!$K$98:$K$233,Pasākumi_kārtas!#REF!,$A69,Pasākumi_kārtas!$R$98:$R$233,J$61))/1000000+J68 -> #REF! | K69: =(J69-AG69)+K68 -> #REF! | L69: =(SUMIFS(Pasākumi_kārtas!$K$98:$K$233,Pasākumi_kārtas!#REF!,$A69,Pasākumi_kārtas!$R$98:$R$233,L$61))/1000000+L68 -> #REF! | M69: =(L69-AH69)+M68 -> #REF! | N69: =(SUMIFS(Pasākumi_kārtas!$K$98:$K$233,Pasākumi_kārtas!#REF!,$A69,Pasākumi_kārtas!$R$98:$R$233,N$61))/1000000+N68 -> #REF! | O69: =(N69-AI69)+O68 -> #REF! | P69: =(SUMIFS(Pasākumi_kārtas!$K$98:$K$233,Pasākumi_kārtas!#REF!,$A69,Pasākumi_kārtas!$R$98:$R$233,P$61))/1000000+P68 -> #REF! | Q69: =(P69-AJ69)+Q68 -> #REF! | R69: =(SUMIFS(Pasākumi_kārtas!$K$98:$K$233,Pasākumi_kārtas!#REF!,$A69,Pasākumi_kārtas!$R$98:$R$233,R$61))/1000000+R68 -> #REF! | S69: =(R69-AK69)+S68 -> #REF! | T69: =(SUMIFS(Pasākumi_kārtas!$K$98:$K$233,Pasākumi_kārtas!#REF!,$A69,Pasākumi_kārtas!$R$98:$R$233,T$61))/1000000+T68 -> #REF! | U69: =(T69-AL69)+U68 -> #REF! | V69: =(SUMIFS(Pasākumi_kārtas!$K$98:$K$233,Pasākumi_kārtas!#REF!,$A69,Pasākumi_kārtas!$R$98:$R$233,V$61))/1000000+V68 -> #REF! | W69: =(V69-AM69)+W68 -> #REF! | X69: =(SUMIFS(Pasākumi_kārtas!$K$98:$K$233,Pasākumi_kārtas!#REF!,$A69,Pasākumi_kārtas!$R$98:$R$233,X$61))/1000000+X68 -> #REF! | Y69: =(X69-AN69)+Y68 -> #REF! | AB69: 2024 III | AC69: =(SUMIFS(Pasākumi_kārtas!$K$98:$K$233,Pasākumi_kārtas!#REF!,'GRAFIKI II'!$AB69,Pasākumi_kārtas!$R$98:$R$233,'GRAFIKI II'!AC$61)/1000000)+AC68 -> #REF! | AD69: =(SUMIFS(Pasākumi_kārtas!$K$98:$K$233,Pasākumi_kārtas!#REF!,'GRAFIKI II'!$AB69,Pasākumi_kārtas!$R$98:$R$233,'GRAFIKI II'!AD$61)/1000000)+AD68 -> #REF! | AE69: =(SUMIFS(Pasākumi_kārtas!$K$98:$K$233,Pasākumi_kārtas!#REF!,'GRAFIKI II'!$AB69,Pasākumi_kārtas!$R$98:$R$233,'GRAFIKI II'!AE$61)/1000000)+AE68 -> #REF! | AF69: =(SUMIFS(Pasākumi_kārtas!$K$98:$K$233,Pasākumi_kārtas!#REF!,'GRAFIKI II'!$AB69,Pasākumi_kārtas!$R$98:$R$233,'GRAFIKI II'!AF$61)/1000000)+AF68 -> #REF! | AG69: =(SUMIFS(Pasākumi_kārtas!$K$98:$K$233,Pasākumi_kārtas!#REF!,'GRAFIKI II'!$AB69,Pasākumi_kārtas!$R$98:$R$233,'GRAFIKI II'!AG$61)/1000000)+AG68 -> #REF! | AH69: =(SUMIFS(Pasākumi_kārtas!$K$98:$K$233,Pasākumi_kārtas!#REF!,'GRAFIKI II'!$AB69,Pasākumi_kārtas!$R$98:$R$233,'GRAFIKI II'!AH$61)/1000000)+AH68 -> #REF! | AI69: =(SUMIFS(Pasākumi_kārtas!$K$98:$K$233,Pasākumi_kārtas!#REF!,'GRAFIKI II'!$AB69,Pasākumi_kārtas!$R$98:$R$233,'GRAFIKI II'!AI$61)/1000000)+AI68 -> #REF! | AJ69: =(SUMIFS(Pasākumi_kārtas!$K$98:$K$233,Pasākumi_kārtas!#REF!,'GRAFIKI II'!$AB69,Pasākumi_kārtas!$R$98:$R$233,'GRAFIKI II'!AJ$61)/1000000)+AJ68 -> #REF! | ... AN69: =(SUMIFS(Pasākumi_kārtas!$K$98:$K$233,Pasākumi_kārtas!#REF!,'GRAFIKI II'!$AB69,Pasākumi_kārtas!$R$98:$R$233,'GRAFIKI II'!AN$61)/1000000)+AN68 -> #REF!
A70: 2024 IV | B70: =(SUMIFS(Pasākumi_kārtas!$K$98:$K$233,Pasākumi_kārtas!#REF!,$A70,Pasākumi_kārtas!$R$98:$R$233,B$61))/1000000+B69 -> #REF! | C70: =(B70-AC70)+C69 -> #REF! | D70: =(SUMIFS(Pasākumi_kārtas!$K$98:$K$233,Pasākumi_kārtas!#REF!,$A70,Pasākumi_kārtas!$R$98:$R$233,D$61))/1000000+D69 -> #REF! | E70: =(D70-AD70)+E69 -> #REF! | F70: =(SUMIFS(Pasākumi_kārtas!$K$98:$K$233,Pasākumi_kārtas!#REF!,$A70,Pasākumi_kārtas!$R$98:$R$233,F$61))/1000000+F69 -> #REF! | G70: =(F70-AE70)+G69 -> #REF! | H70: =(SUMIFS(Pasākumi_kārtas!$K$98:$K$233,Pasākumi_kārtas!#REF!,$A70,Pasākumi_kārtas!$R$98:$R$233,H$61))/1000000+H69 -> #REF! | I70: =(H70-AF70)+I69 -> #REF! | J70: =(SUMIFS(Pasākumi_kārtas!$K$98:$K$233,Pasākumi_kārtas!#REF!,$A70,Pasākumi_kārtas!$R$98:$R$233,J$61))/1000000+J69 -> #REF! | K70: =(J70-AG70)+K69 -> #REF! | L70: =(SUMIFS(Pasākumi_kārtas!$K$98:$K$233,Pasākumi_kārtas!#REF!,$A70,Pasākumi_kārtas!$R$98:$R$233,L$61))/1000000+L69 -> #REF! | M70: =(L70-AH70)+M69 -> #REF! | N70: =(SUMIFS(Pasākumi_kārtas!$K$98:$K$233,Pasākumi_kārtas!#REF!,$A70,Pasākumi_kārtas!$R$98:$R$233,N$61))/1000000+N69 -> #REF! | O70: =(N70-AI70)+O69 -> #REF! | P70: =(SUMIFS(Pasākumi_kārtas!$K$98:$K$233,Pasākumi_kārtas!#REF!,$A70,Pasākumi_kārtas!$R$98:$R$233,P$61))/1000000+P69 -> #REF! | Q70: =(P70-AJ70)+Q69 -> #REF! | R70: =(SUMIFS(Pasākumi_kārtas!$K$98:$K$233,Pasākumi_kārtas!#REF!,$A70,Pasākumi_kārtas!$R$98:$R$233,R$61))/1000000+R69 -> #REF! | S70: =(R70-AK70)+S69 -> #REF! | T70: =(SUMIFS(Pasākumi_kārtas!$K$98:$K$233,Pasākumi_kārtas!#REF!,$A70,Pasākumi_kārtas!$R$98:$R$233,T$61))/1000000+T69 -> #REF! | U70: =(T70-AL70)+U69 -> #REF! | V70: =(SUMIFS(Pasākumi_kārtas!$K$98:$K$233,Pasākumi_kārtas!#REF!,$A70,Pasākumi_kārtas!$R$98:$R$233,V$61))/1000000+V69 -> #REF! | W70: =(V70-AM70)+W69 -> #REF! | X70: =(SUMIFS(Pasākumi_kārtas!$K$98:$K$233,Pasākumi_kārtas!#REF!,$A70,Pasākumi_kārtas!$R$98:$R$233,X$61))/1000000+X69 -> #REF! | Y70: =(X70-AN70)+Y69 -> #REF! | AB70: 2024 IV | AC70: =(SUMIFS(Pasākumi_kārtas!$K$98:$K$233,Pasākumi_kārtas!#REF!,'GRAFIKI II'!$AB70,Pasākumi_kārtas!$R$98:$R$233,'GRAFIKI II'!AC$61)/1000000)+AC69 -> #REF! | AD70: =(SUMIFS(Pasākumi_kārtas!$K$98:$K$233,Pasākumi_kārtas!#REF!,'GRAFIKI II'!$AB70,Pasākumi_kārtas!$R$98:$R$233,'GRAFIKI II'!AD$61)/1000000)+AD69 -> #REF! | AE70: =(SUMIFS(Pasākumi_kārtas!$K$98:$K$233,Pasākumi_kārtas!#REF!,'GRAFIKI II'!$AB70,Pasākumi_kārtas!$R$98:$R$233,'GRAFIKI II'!AE$61)/1000000)+AE69 -> #REF! | AF70: =(SUMIFS(Pasākumi_kārtas!$K$98:$K$233,Pasākumi_kārtas!#REF!,'GRAFIKI II'!$AB70,Pasākumi_kārtas!$R$98:$R$233,'GRAFIKI II'!AF$61)/1000000)+AF69 -> #REF! | AG70: =(SUMIFS(Pasākumi_kārtas!$K$98:$K$233,Pasākumi_kārtas!#REF!,'GRAFIKI II'!$AB70,Pasākumi_kārtas!$R$98:$R$233,'GRAFIKI II'!AG$61)/1000000)+AG69 -> #REF! | AH70: =(SUMIFS(Pasākumi_kārtas!$K$98:$K$233,Pasākumi_kārtas!#REF!,'GRAFIKI II'!$AB70,Pasākumi_kārtas!$R$98:$R$233,'GRAFIKI II'!AH$61)/1000000)+AH69 -> #REF! | AI70: =(SUMIFS(Pasākumi_kārtas!$K$98:$K$233,Pasākumi_kārtas!#REF!,'GRAFIKI II'!$AB70,Pasākumi_kārtas!$R$98:$R$233,'GRAFIKI II'!AI$61)/1000000)+AI69 -> #REF! | AJ70: =(SUMIFS(Pasākumi_kārtas!$K$98:$K$233,Pasākumi_kārtas!#REF!,'GRAFIKI II'!$AB70,Pasākumi_kārtas!$R$98:$R$233,'GRAFIKI II'!AJ$61)/1000000)+AJ69 -> #REF! | ... AN70: =(SUMIFS(Pasākumi_kārtas!$K$98:$K$233,Pasākumi_kārtas!#REF!,'GRAFIKI II'!$AB70,Pasākumi_kārtas!$R$98:$R$233,'GRAFIKI II'!AN$61)/1000000)+AN69 -> #REF!
A71: 2025 I | B71: =(SUMIFS(Pasākumi_kārtas!$K$98:$K$233,Pasākumi_kārtas!#REF!,$A71,Pasākumi_kārtas!$R$98:$R$233,B$61))/1000000+B70 -> #REF! | C71: =(B71-AC71)+C70 -> #REF! | D71: =(SUMIFS(Pasākumi_kārtas!$K$98:$K$233,Pasākumi_kārtas!#REF!,$A71,Pasākumi_kārtas!$R$98:$R$233,D$61))/1000000+D70 -> #REF! | E71: =(D71-AD71)+E70 -> #REF! | F71: =(SUMIFS(Pasākumi_kārtas!$K$98:$K$233,Pasākumi_kārtas!#REF!,$A71,Pasākumi_kārtas!$R$98:$R$233,F$61))/1000000+F70 -> #REF! | G71: =(F71-AE71)+G70 -> #REF! | H71: =(SUMIFS(Pasākumi_kārtas!$K$98:$K$233,Pasākumi_kārtas!#REF!,$A71,Pasākumi_kārtas!$R$98:$R$233,H$61))/1000000+H70 -> #REF! | I71: =(H71-AF71)+I70 -> #REF! | J71: =(SUMIFS(Pasākumi_kārtas!$K$98:$K$233,Pasākumi_kārtas!#REF!,$A71,Pasākumi_kārtas!$R$98:$R$233,J$61))/1000000+J70 -> #REF! | K71: =(J71-AG71)+K70 -> #REF! | L71: =(SUMIFS(Pasākumi_kārtas!$K$98:$K$233,Pasākumi_kārtas!#REF!,$A71,Pasākumi_kārtas!$R$98:$R$233,L$61))/1000000+L70 -> #REF! | M71: =(L71-AH71)+M70 -> #REF! | N71: =(SUMIFS(Pasākumi_kārtas!$K$98:$K$233,Pasākumi_kārtas!#REF!,$A71,Pasākumi_kārtas!$R$98:$R$233,N$61))/1000000+N70 -> #REF! | O71: =(N71-AI71)+O70 -> #REF! | P71: =(SUMIFS(Pasākumi_kārtas!$K$98:$K$233,Pasākumi_kārtas!#REF!,$A71,Pasākumi_kārtas!$R$98:$R$233,P$61))/1000000+P70 -> #REF! | Q71: =(P71-AJ71)+Q70 -> #REF! | R71: =(SUMIFS(Pasākumi_kārtas!$K$98:$K$233,Pasākumi_kārtas!#REF!,$A71,Pasākumi_kārtas!$R$98:$R$233,R$61))/1000000+R70 -> #REF! | S71: =(R71-AK71)+S70 -> #REF! | T71: =(SUMIFS(Pasākumi_kārtas!$K$98:$K$233,Pasākumi_kārtas!#REF!,$A71,Pasākumi_kārtas!$R$98:$R$233,T$61))/1000000+T70 -> #REF! | U71: =(T71-AL71)+U70 -> #REF! | V71: =(SUMIFS(Pasākumi_kārtas!$K$98:$K$233,Pasākumi_kārtas!#REF!,$A71,Pasākumi_kārtas!$R$98:$R$233,V$61))/1000000+V70 -> #REF! | W71: =(V71-AM71)+W70 -> #REF! | X71: =(SUMIFS(Pasākumi_kārtas!$K$98:$K$233,Pasākumi_kārtas!#REF!,$A71,Pasākumi_kārtas!$R$98:$R$233,X$61))/1000000+X70 -> #REF! | Y71: =(X71-AN71)+Y70 -> #REF! | AB71: 2025 I | AC71: =(SUMIFS(Pasākumi_kārtas!$K$98:$K$233,Pasākumi_kārtas!#REF!,'GRAFIKI II'!$AB71,Pasākumi_kārtas!$R$98:$R$233,'GRAFIKI II'!AC$61)/1000000)+AC70 -> #REF! | AD71: =(SUMIFS(Pasākumi_kārtas!$K$98:$K$233,Pasākumi_kārtas!#REF!,'GRAFIKI II'!$AB71,Pasākumi_kārtas!$R$98:$R$233,'GRAFIKI II'!AD$61)/1000000)+AD70 -> #REF! | AE71: =(SUMIFS(Pasākumi_kārtas!$K$98:$K$233,Pasākumi_kārtas!#REF!,'GRAFIKI II'!$AB71,Pasākumi_kārtas!$R$98:$R$233,'GRAFIKI II'!AE$61)/1000000)+AE70 -> #REF! | AF71: =(SUMIFS(Pasākumi_kārtas!$K$98:$K$233,Pasākumi_kārtas!#REF!,'GRAFIKI II'!$AB71,Pasākumi_kārtas!$R$98:$R$233,'GRAFIKI II'!AF$61)/1000000)+AF70 -> #REF! | AG71: =(SUMIFS(Pasākumi_kārtas!$K$98:$K$233,Pasākumi_kārtas!#REF!,'GRAFIKI II'!$AB71,Pasākumi_kārtas!$R$98:$R$233,'GRAFIKI II'!AG$61)/1000000)+AG70 -> #REF! | AH71: =(SUMIFS(Pasākumi_kārtas!$K$98:$K$233,Pasākumi_kārtas!#REF!,'GRAFIKI II'!$AB71,Pasākumi_kārtas!$R$98:$R$233,'GRAFIKI II'!AH$61)/1000000)+AH70 -> #REF! | AI71: =(SUMIFS(Pasākumi_kārtas!$K$98:$K$233,Pasākumi_kārtas!#REF!,'GRAFIKI II'!$AB71,Pasākumi_kārtas!$R$98:$R$233,'GRAFIKI II'!AI$61)/1000000)+AI70 -> #REF! | AJ71: =(SUMIFS(Pasākumi_kārtas!$K$98:$K$233,Pasākumi_kārtas!#REF!,'GRAFIKI II'!$AB71,Pasākumi_kārtas!$R$98:$R$233,'GRAFIKI II'!AJ$61)/1000000)+AJ70 -> #REF! | ... AN71: =(SUMIFS(Pasākumi_kārtas!$K$98:$K$233,Pasākumi_kārtas!#REF!,'GRAFIKI II'!$AB71,Pasākumi_kārtas!$R$98:$R$233,'GRAFIKI II'!AN$61)/1000000)+AN70 -> #REF!
A72: 2025 II | B72: =(SUMIFS(Pasākumi_kārtas!$K$98:$K$233,Pasākumi_kārtas!#REF!,$A72,Pasākumi_kārtas!$R$98:$R$233,B$61))/1000000+B71 -> #REF! | C72: =(B72-AC72)+C71 -> #REF! | D72: =(SUMIFS(Pasākumi_kārtas!$K$98:$K$233,Pasākumi_kārtas!#REF!,$A72,Pasākumi_kārtas!$R$98:$R$233,D$61))/1000000+D71 -> #REF! | E72: =(D72-AD72)+E71 -> #REF! | F72: =(SUMIFS(Pasākumi_kārtas!$K$98:$K$233,Pasākumi_kārtas!#REF!,$A72,Pasākumi_kārtas!$R$98:$R$233,F$61))/1000000+F71 -> #REF! | G72: =(F72-AE72)+G71 -> #REF! | H72: =(SUMIFS(Pasākumi_kārtas!$K$98:$K$233,Pasākumi_kārtas!#REF!,$A72,Pasākumi_kārtas!$R$98:$R$233,H$61))/1000000+H71 -> #REF! | I72: =(H72-AF72)+I71 -> #REF! | J72: =(SUMIFS(Pasākumi_kārtas!$K$98:$K$233,Pasākumi_kārtas!#REF!,$A72,Pasākumi_kārtas!$R$98:$R$233,J$61))/1000000+J71 -> #REF! | K72: =(J72-AG72)+K71 -> #REF! | L72: =(SUMIFS(Pasākumi_kārtas!$K$98:$K$233,Pasākumi_kārtas!#REF!,$A72,Pasākumi_kārtas!$R$98:$R$233,L$61))/1000000+L71 -> #REF! | M72: =(L72-AH72)+M71 -> #REF! | N72: =(SUMIFS(Pasākumi_kārtas!$K$98:$K$233,Pasākumi_kārtas!#REF!,$A72,Pasākumi_kārtas!$R$98:$R$233,N$61))/1000000+N71 -> #REF! | O72: =(N72-AI72)+O71 -> #REF! | P72: =(SUMIFS(Pasākumi_kārtas!$K$98:$K$233,Pasākumi_kārtas!#REF!,$A72,Pasākumi_kārtas!$R$98:$R$233,P$61))/1000000+P71 -> #REF! | Q72: =(P72-AJ72)+Q71 -> #REF! | R72: =(SUMIFS(Pasākumi_kārtas!$K$98:$K$233,Pasākumi_kārtas!#REF!,$A72,Pasākumi_kārtas!$R$98:$R$233,R$61))/1000000+R71 -> #REF! | S72: =(R72-AK72)+S71 -> #REF! | T72: =(SUMIFS(Pasākumi_kārtas!$K$98:$K$233,Pasākumi_kārtas!#REF!,$A72,Pasākumi_kārtas!$R$98:$R$233,T$61))/1000000+T71 -> #REF! | U72: =(T72-AL72)+U71 -> #REF! | V72: =(SUMIFS(Pasākumi_kārtas!$K$98:$K$233,Pasākumi_kārtas!#REF!,$A72,Pasākumi_kārtas!$R$98:$R$233,V$61))/1000000+V71 -> #REF! | W72: =(V72-AM72)+W71 -> #REF! | X72: =(SUMIFS(Pasākumi_kārtas!$K$98:$K$233,Pasākumi_kārtas!#REF!,$A72,Pasākumi_kārtas!$R$98:$R$233,X$61))/1000000+X71 -> #REF! | Y72: =(X72-AN72)+Y71 -> #REF! | AB72: 2025 II | AC72: =(SUMIFS(Pasākumi_kārtas!$K$98:$K$233,Pasākumi_kārtas!#REF!,'GRAFIKI II'!$AB72,Pasākumi_kārtas!$R$98:$R$233,'GRAFIKI II'!AC$61)/1000000)+AC71 -> #REF! | AD72: =(SUMIFS(Pasākumi_kārtas!$K$98:$K$233,Pasākumi_kārtas!#REF!,'GRAFIKI II'!$AB72,Pasākumi_kārtas!$R$98:$R$233,'GRAFIKI II'!AD$61)/1000000)+AD71 -> #REF! | AE72: =(SUMIFS(Pasākumi_kārtas!$K$98:$K$233,Pasākumi_kārtas!#REF!,'GRAFIKI II'!$AB72,Pasākumi_kārtas!$R$98:$R$233,'GRAFIKI II'!AE$61)/1000000)+AE71 -> #REF! | AF72: =(SUMIFS(Pasākumi_kārtas!$K$98:$K$233,Pasākumi_kārtas!#REF!,'GRAFIKI II'!$AB72,Pasākumi_kārtas!$R$98:$R$233,'GRAFIKI II'!AF$61)/1000000)+AF71 -> #REF! | AG72: =(SUMIFS(Pasākumi_kārtas!$K$98:$K$233,Pasākumi_kārtas!#REF!,'GRAFIKI II'!$AB72,Pasākumi_kārtas!$R$98:$R$233,'GRAFIKI II'!AG$61)/1000000)+AG71 -> #REF! | AH72: =(SUMIFS(Pasākumi_kārtas!$K$98:$K$233,Pasākumi_kārtas!#REF!,'GRAFIKI II'!$AB72,Pasākumi_kārtas!$R$98:$R$233,'GRAFIKI II'!AH$61)/1000000)+AH71 -> #REF! | AI72: =(SUMIFS(Pasākumi_kārtas!$K$98:$K$233,Pasākumi_kārtas!#REF!,'GRAFIKI II'!$AB72,Pasākumi_kārtas!$R$98:$R$233,'GRAFIKI II'!AI$61)/1000000)+AI71 -> #REF! | AJ72: =(SUMIFS(Pasākumi_kārtas!$K$98:$K$233,Pasākumi_kārtas!#REF!,'GRAFIKI II'!$AB72,Pasākumi_kārtas!$R$98:$R$233,'GRAFIKI II'!AJ$61)/1000000)+AJ71 -> #REF! | ... AN72: =(SUMIFS(Pasākumi_kārtas!$K$98:$K$233,Pasākumi_kārtas!#REF!,'GRAFIKI II'!$AB72,Pasākumi_kārtas!$R$98:$R$233,'GRAFIKI II'!AN$61)/1000000)+AN71 -> #REF!
A73: 2025 III | B73: =(SUMIFS(Pasākumi_kārtas!$K$98:$K$233,Pasākumi_kārtas!#REF!,$A73,Pasākumi_kārtas!$R$98:$R$233,B$61))/1000000+B72 -> #REF! | C73: =(B73-AC73)+C72 -> #REF! | D73: =(SUMIFS(Pasākumi_kārtas!$K$98:$K$233,Pasākumi_kārtas!#REF!,$A73,Pasākumi_kārtas!$R$98:$R$233,D$61))/1000000+D72 -> #REF! | E73: =(D73-AD73)+E72 -> #REF! | F73: =(SUMIFS(Pasākumi_kārtas!$K$98:$K$233,Pasākumi_kārtas!#REF!,$A73,Pasākumi_kārtas!$R$98:$R$233,F$61))/1000000+F72 -> #REF! | G73: =(F73-AE73)+G72 -> #REF! | H73: =(SUMIFS(Pasākumi_kārtas!$K$98:$K$233,Pasākumi_kārtas!#REF!,$A73,Pasākumi_kārtas!$R$98:$R$233,H$61))/1000000+H72 -> #REF! | I73: =(H73-AF73)+I72 -> #REF! | J73: =(SUMIFS(Pasākumi_kārtas!$K$98:$K$233,Pasākumi_kārtas!#REF!,$A73,Pasākumi_kārtas!$R$98:$R$233,J$61))/1000000+J72 -> #REF! | K73: =(J73-AG73)+K72 -> #REF! | L73: =(SUMIFS(Pasākumi_kārtas!$K$98:$K$233,Pasākumi_kārtas!#REF!,$A73,Pasākumi_kārtas!$R$98:$R$233,L$61))/1000000+L72 -> #REF! | M73: =(L73-AH73)+M72 -> #REF! | N73: =(SUMIFS(Pasākumi_kārtas!$K$98:$K$233,Pasākumi_kārtas!#REF!,$A73,Pasākumi_kārtas!$R$98:$R$233,N$61))/1000000+N72 -> #REF! | O73: =(N73-AI73)+O72 -> #REF! | P73: =(SUMIFS(Pasākumi_kārtas!$K$98:$K$233,Pasākumi_kārtas!#REF!,$A73,Pasākumi_kārtas!$R$98:$R$233,P$61))/1000000+P72 -> #REF! | Q73: =(P73-AJ73)+Q72 -> #REF! | R73: =(SUMIFS(Pasākumi_kārtas!$K$98:$K$233,Pasākumi_kārtas!#REF!,$A73,Pasākumi_kārtas!$R$98:$R$233,R$61))/1000000+R72 -> #REF! | S73: =(R73-AK73)+S72 -> #REF! | T73: =(SUMIFS(Pasākumi_kārtas!$K$98:$K$233,Pasākumi_kārtas!#REF!,$A73,Pasākumi_kārtas!$R$98:$R$233,T$61))/1000000+T72 -> #REF! | U73: =(T73-AL73)+U72 -> #REF! | V73: =(SUMIFS(Pasākumi_kārtas!$K$98:$K$233,Pasākumi_kārtas!#REF!,$A73,Pasākumi_kārtas!$R$98:$R$233,V$61))/1000000+V72 -> #REF! | W73: =(V73-AM73)+W72 -> #REF! | X73: =(SUMIFS(Pasākumi_kārtas!$K$98:$K$233,Pasākumi_kārtas!#REF!,$A73,Pasākumi_kārtas!$R$98:$R$233,X$61))/1000000+X72 -> #REF! | Y73: =(X73-AN73)+Y72 -> #REF! | AB73: 2025 III | AC73: =(SUMIFS(Pasākumi_kārtas!$K$98:$K$233,Pasākumi_kārtas!#REF!,'GRAFIKI II'!$AB73,Pasākumi_kārtas!$R$98:$R$233,'GRAFIKI II'!AC$61)/1000000)+AC72 -> #REF! | AD73: =(SUMIFS(Pasākumi_kārtas!$K$98:$K$233,Pasākumi_kārtas!#REF!,'GRAFIKI II'!$AB73,Pasākumi_kārtas!$R$98:$R$233,'GRAFIKI II'!AD$61)/1000000)+AD72 -> #REF! | AE73: =(SUMIFS(Pasākumi_kārtas!$K$98:$K$233,Pasākumi_kārtas!#REF!,'GRAFIKI II'!$AB73,Pasākumi_kārtas!$R$98:$R$233,'GRAFIKI II'!AE$61)/1000000)+AE72 -> #REF! | AF73: =(SUMIFS(Pasākumi_kārtas!$K$98:$K$233,Pasākumi_kārtas!#REF!,'GRAFIKI II'!$AB73,Pasākumi_kārtas!$R$98:$R$233,'GRAFIKI II'!AF$61)/1000000)+AF72 -> #REF! | AG73: =(SUMIFS(Pasākumi_kārtas!$K$98:$K$233,Pasākumi_kārtas!#REF!,'GRAFIKI II'!$AB73,Pasākumi_kārtas!$R$98:$R$233,'GRAFIKI II'!AG$61)/1000000)+AG72 -> #REF! | AH73: =(SUMIFS(Pasākumi_kārtas!$K$98:$K$233,Pasākumi_kārtas!#REF!,'GRAFIKI II'!$AB73,Pasākumi_kārtas!$R$98:$R$233,'GRAFIKI II'!AH$61)/1000000)+AH72 -> #REF! | AI73: =(SUMIFS(Pasākumi_kārtas!$K$98:$K$233,Pasākumi_kārtas!#REF!,'GRAFIKI II'!$AB73,Pasākumi_kārtas!$R$98:$R$233,'GRAFIKI II'!AI$61)/1000000)+AI72 -> #REF! | AJ73: =(SUMIFS(Pasākumi_kārtas!$K$98:$K$233,Pasākumi_kārtas!#REF!,'GRAFIKI II'!$AB73,Pasākumi_kārtas!$R$98:$R$233,'GRAFIKI II'!AJ$61)/1000000)+AJ72 -> #REF! | ... AN73: =(SUMIFS(Pasākumi_kārtas!$K$98:$K$233,Pasākumi_kārtas!#REF!,'GRAFIKI II'!$AB73,Pasākumi_kārtas!$R$98:$R$233,'GRAFIKI II'!AN$61)/1000000)+AN72 -> #REF!
A74: 2025 IV | B74: =(SUMIFS(Pasākumi_kārtas!$K$98:$K$233,Pasākumi_kārtas!#REF!,$A74,Pasākumi_kārtas!$R$98:$R$233,B$61))/1000000+B73 -> #REF! | C74: =(B74-AC74)+C73 -> #REF! | D74: =(SUMIFS(Pasākumi_kārtas!$K$98:$K$233,Pasākumi_kārtas!#REF!,$A74,Pasākumi_kārtas!$R$98:$R$233,D$61))/1000000+D73 -> #REF! | E74: =(D74-AD74)+E73 -> #REF! | F74: =(SUMIFS(Pasākumi_kārtas!$K$98:$K$233,Pasākumi_kārtas!#REF!,$A74,Pasākumi_kārtas!$R$98:$R$233,F$61))/1000000+F73 -> #REF! | G74: =(F74-AE74)+G73 -> #REF! | H74: =(SUMIFS(Pasākumi_kārtas!$K$98:$K$233,Pasākumi_kārtas!#REF!,$A74,Pasākumi_kārtas!$R$98:$R$233,H$61))/1000000+H73 -> #REF! | I74: =(H74-AF74)+I73 -> #REF! | J74: =(SUMIFS(Pasākumi_kārtas!$K$98:$K$233,Pasākumi_kārtas!#REF!,$A74,Pasākumi_kārtas!$R$98:$R$233,J$61))/1000000+J73 -> #REF! | K74: =(J74-AG74)+K73 -> #REF! | L74: =(SUMIFS(Pasākumi_kārtas!$K$98:$K$233,Pasākumi_kārtas!#REF!,$A74,Pasākumi_kārtas!$R$98:$R$233,L$61))/1000000+L73 -> #REF! | M74: =(L74-AH74)+M73 -> #REF! | N74: =(SUMIFS(Pasākumi_kārtas!$K$98:$K$233,Pasākumi_kārtas!#REF!,$A74,Pasākumi_kārtas!$R$98:$R$233,N$61))/1000000+N73 -> #REF! | O74: =(N74-AI74)+O73 -> #REF! | P74: =(SUMIFS(Pasākumi_kārtas!$K$98:$K$233,Pasākumi_kārtas!#REF!,$A74,Pasākumi_kārtas!$R$98:$R$233,P$61))/1000000+P73 -> #REF! | Q74: =(P74-AJ74)+Q73 -> #REF! | R74: =(SUMIFS(Pasākumi_kārtas!$K$98:$K$233,Pasākumi_kārtas!#REF!,$A74,Pasākumi_kārtas!$R$98:$R$233,R$61))/1000000+R73 -> #REF! | S74: =(R74-AK74)+S73 -> #REF! | T74: =(SUMIFS(Pasākumi_kārtas!$K$98:$K$233,Pasākumi_kārtas!#REF!,$A74,Pasākumi_kārtas!$R$98:$R$233,T$61))/1000000+T73 -> #REF! | U74: =(T74-AL74)+U73 -> #REF! | V74: =(SUMIFS(Pasākumi_kārtas!$K$98:$K$233,Pasākumi_kārtas!#REF!,$A74,Pasākumi_kārtas!$R$98:$R$233,V$61))/1000000+V73 -> #REF! | W74: =(V74-AM74)+W73 -> #REF! | X74: =(SUMIFS(Pasākumi_kārtas!$K$98:$K$233,Pasākumi_kārtas!#REF!,$A74,Pasākumi_kārtas!$R$98:$R$233,X$61))/1000000+X73 -> #REF! | Y74: =(X74-AN74)+Y73 -> #REF! | AB74: 2025 IV | AC74: =(SUMIFS(Pasākumi_kārtas!$K$98:$K$233,Pasākumi_kārtas!#REF!,'GRAFIKI II'!$AB74,Pasākumi_kārtas!$R$98:$R$233,'GRAFIKI II'!AC$61)/1000000)+AC73 -> #REF! | AD74: =(SUMIFS(Pasākumi_kārtas!$K$98:$K$233,Pasākumi_kārtas!#REF!,'GRAFIKI II'!$AB74,Pasākumi_kārtas!$R$98:$R$233,'GRAFIKI II'!AD$61)/1000000)+AD73 -> #REF! | AE74: =(SUMIFS(Pasākumi_kārtas!$K$98:$K$233,Pasākumi_kārtas!#REF!,'GRAFIKI II'!$AB74,Pasākumi_kārtas!$R$98:$R$233,'GRAFIKI II'!AE$61)/1000000)+AE73 -> #REF! | AF74: =(SUMIFS(Pasākumi_kārtas!$K$98:$K$233,Pasākumi_kārtas!#REF!,'GRAFIKI II'!$AB74,Pasākumi_kārtas!$R$98:$R$233,'GRAFIKI II'!AF$61)/1000000)+AF73 -> #REF! | AG74: =(SUMIFS(Pasākumi_kārtas!$K$98:$K$233,Pasākumi_kārtas!#REF!,'GRAFIKI II'!$AB74,Pasākumi_kārtas!$R$98:$R$233,'GRAFIKI II'!AG$61)/1000000)+AG73 -> #REF! | AH74: =(SUMIFS(Pasākumi_kārtas!$K$98:$K$233,Pasākumi_kārtas!#REF!,'GRAFIKI II'!$AB74,Pasākumi_kārtas!$R$98:$R$233,'GRAFIKI II'!AH$61)/1000000)+AH73 -> #REF! | AI74: =(SUMIFS(Pasākumi_kārtas!$K$98:$K$233,Pasākumi_kārtas!#REF!,'GRAFIKI II'!$AB74,Pasākumi_kārtas!$R$98:$R$233,'GRAFIKI II'!AI$61)/1000000)+AI73 -> #REF! | AJ74: =(SUMIFS(Pasākumi_kārtas!$K$98:$K$233,Pasākumi_kārtas!#REF!,'GRAFIKI II'!$AB74,Pasākumi_kārtas!$R$98:$R$233,'GRAFIKI II'!AJ$61)/1000000)+AJ73 -> #REF! | ... AN74: =(SUMIFS(Pasākumi_kārtas!$K$98:$K$233,Pasākumi_kārtas!#REF!,'GRAFIKI II'!$AB74,Pasākumi_kārtas!$R$98:$R$233,'GRAFIKI II'!AN$61)/1000000)+AN73 -> #REF!
A75: 2026 I | B75: =(SUMIFS(Pasākumi_kārtas!$K$98:$K$233,Pasākumi_kārtas!#REF!,$A75,Pasākumi_kārtas!$R$98:$R$233,B$61))/1000000+B74 -> #REF! | C75: =(B75-AC75)+C74 -> #REF! | D75: =(SUMIFS(Pasākumi_kārtas!$K$98:$K$233,Pasākumi_kārtas!#REF!,$A75,Pasākumi_kārtas!$R$98:$R$233,D$61))/1000000+D74 -> #REF! | E75: =(D75-AD75)+E74 -> #REF! | F75: =(SUMIFS(Pasākumi_kārtas!$K$98:$K$233,Pasākumi_kārtas!#REF!,$A75,Pasākumi_kārtas!$R$98:$R$233,F$61))/1000000+F74 -> #REF! | G75: =(F75-AE75)+G74 -> #REF! | H75: =(SUMIFS(Pasākumi_kārtas!$K$98:$K$233,Pasākumi_kārtas!#REF!,$A75,Pasākumi_kārtas!$R$98:$R$233,H$61))/1000000+H74 -> #REF! | I75: =(H75-AF75)+I74 -> #REF! | J75: =(SUMIFS(Pasākumi_kārtas!$K$98:$K$233,Pasākumi_kārtas!#REF!,$A75,Pasākumi_kārtas!$R$98:$R$233,J$61))/1000000+J74 -> #REF! | K75: =(J75-AG75)+K74 -> #REF! | L75: =(SUMIFS(Pasākumi_kārtas!$K$98:$K$233,Pasākumi_kārtas!#REF!,$A75,Pasākumi_kārtas!$R$98:$R$233,L$61))/1000000+L74 -> #REF! | M75: =(L75-AH75)+M74 -> #REF! | N75: =(SUMIFS(Pasākumi_kārtas!$K$98:$K$233,Pasākumi_kārtas!#REF!,$A75,Pasākumi_kārtas!$R$98:$R$233,N$61))/1000000+N74 -> #REF! | O75: =(N75-AI75)+O74 -> #REF! | P75: =(SUMIFS(Pasākumi_kārtas!$K$98:$K$233,Pasākumi_kārtas!#REF!,$A75,Pasākumi_kārtas!$R$98:$R$233,P$61))/1000000+P74 -> #REF! | Q75: =(P75-AJ75)+Q74 -> #REF! | R75: =(SUMIFS(Pasākumi_kārtas!$K$98:$K$233,Pasākumi_kārtas!#REF!,$A75,Pasākumi_kārtas!$R$98:$R$233,R$61))/1000000+R74 -> #REF! | S75: =(R75-AK75)+S74 -> #REF! | T75: =(SUMIFS(Pasākumi_kārtas!$K$98:$K$233,Pasākumi_kārtas!#REF!,$A75,Pasākumi_kārtas!$R$98:$R$233,T$61))/1000000+T74 -> #REF! | U75: =(T75-AL75)+U74 -> #REF! | V75: =(SUMIFS(Pasākumi_kārtas!$K$98:$K$233,Pasākumi_kārtas!#REF!,$A75,Pasākumi_kārtas!$R$98:$R$233,V$61))/1000000+V74 -> #REF! | W75: =(V75-AM75)+W74 -> #REF! | X75: =(SUMIFS(Pasākumi_kārtas!$K$98:$K$233,Pasākumi_kārtas!#REF!,$A75,Pasākumi_kārtas!$R$98:$R$233,X$61))/1000000+X74 -> #REF! | Y75: =(X75-AN75)+Y74 -> #REF! | AB75: 2026 I | AC75: =(SUMIFS(Pasākumi_kārtas!$K$98:$K$233,Pasākumi_kārtas!#REF!,'GRAFIKI II'!$AB75,Pasākumi_kārtas!$R$98:$R$233,'GRAFIKI II'!AC$61)/1000000)+AC74 -> #REF! | AD75: =(SUMIFS(Pasākumi_kārtas!$K$98:$K$233,Pasākumi_kārtas!#REF!,'GRAFIKI II'!$AB75,Pasākumi_kārtas!$R$98:$R$233,'GRAFIKI II'!AD$61)/1000000)+AD74 -> #REF! | AE75: =(SUMIFS(Pasākumi_kārtas!$K$98:$K$233,Pasākumi_kārtas!#REF!,'GRAFIKI II'!$AB75,Pasākumi_kārtas!$R$98:$R$233,'GRAFIKI II'!AE$61)/1000000)+AE74 -> #REF! | AF75: =(SUMIFS(Pasākumi_kārtas!$K$98:$K$233,Pasākumi_kārtas!#REF!,'GRAFIKI II'!$AB75,Pasākumi_kārtas!$R$98:$R$233,'GRAFIKI II'!AF$61)/1000000)+AF74 -> #REF! | AG75: =(SUMIFS(Pasākumi_kārtas!$K$98:$K$233,Pasākumi_kārtas!#REF!,'GRAFIKI II'!$AB75,Pasākumi_kārtas!$R$98:$R$233,'GRAFIKI II'!AG$61)/1000000)+AG74 -> #REF! | AH75: =(SUMIFS(Pasākumi_kārtas!$K$98:$K$233,Pasākumi_kārtas!#REF!,'GRAFIKI II'!$AB75,Pasākumi_kārtas!$R$98:$R$233,'GRAFIKI II'!AH$61)/1000000)+AH74 -> #REF! | AI75: =(SUMIFS(Pasākumi_kārtas!$K$98:$K$233,Pasākumi_kārtas!#REF!,'GRAFIKI II'!$AB75,Pasākumi_kārtas!$R$98:$R$233,'GRAFIKI II'!AI$61)/1000000)+AI74 -> #REF! | AJ75: =(SUMIFS(Pasākumi_kārtas!$K$98:$K$233,Pasākumi_kārtas!#REF!,'GRAFIKI II'!$AB75,Pasākumi_kārtas!$R$98:$R$233,'GRAFIKI II'!AJ$61)/1000000)+AJ74 -> #REF! | ... AN75: =(SUMIFS(Pasākumi_kārtas!$K$98:$K$233,Pasākumi_kārtas!#REF!,'GRAFIKI II'!$AB75,Pasākumi_kārtas!$R$98:$R$233,'GRAFIKI II'!AN$61)/1000000)+AN74 -> #REF!
A76: Uzsaukums par elastības finansējuma apjomu 2026.g. | B76: =(SUMIFS(Pasākumi_kārtas!$K$98:$K$233,Pasākumi_kārtas!#REF!,$A76,Pasākumi_kārtas!$R$98:$R$233,B$61))/1000000+B75 -> #REF! | C76: =(B76-AC76)+C75 -> #REF! | D76: =(SUMIFS(Pasākumi_kārtas!$K$98:$K$233,Pasākumi_kārtas!#REF!,$A76,Pasākumi_kārtas!$R$98:$R$233,D$61))/1000000+D75 -> #REF! | E76: =(D76-AD76)+E75 -> #REF! | F76: =(SUMIFS(Pasākumi_kārtas!$K$98:$K$233,Pasākumi_kārtas!#REF!,$A76,Pasākumi_kārtas!$R$98:$R$233,F$61))/1000000+F75 -> #REF! | G76: =(F76-AE76)+G75 -> #REF! | H76: =(SUMIFS(Pasākumi_kārtas!$K$98:$K$233,Pasākumi_kārtas!#REF!,$A76,Pasākumi_kārtas!$R$98:$R$233,H$61))/1000000+H75 -> #REF! | I76: =(H76-AF76)+I75 -> #REF! | J76: =(SUMIFS(Pasākumi_kārtas!$K$98:$K$233,Pasākumi_kārtas!#REF!,$A76,Pasākumi_kārtas!$R$98:$R$233,J$61))/1000000+J75 -> #REF! | K76: =(J76-AG76)+K75 -> #REF! | L76: =(SUMIFS(Pasākumi_kārtas!$K$98:$K$233,Pasākumi_kārtas!#REF!,$A76,Pasākumi_kārtas!$R$98:$R$233,L$61))/1000000+L75 -> #REF! | M76: =(L76-AH76)+M75 -> #REF! | N76: =(SUMIFS(Pasākumi_kārtas!$K$98:$K$233,Pasākumi_kārtas!#REF!,$A76,Pasākumi_kārtas!$R$98:$R$233,N$61))/1000000+N75 -> #REF! | O76: =(N76-AI76)+O75 -> #REF! | P76: =(SUMIFS(Pasākumi_kārtas!$K$98:$K$233,Pasākumi_kārtas!#REF!,$A76,Pasākumi_kārtas!$R$98:$R$233,P$61))/1000000+P75 -> #REF! | Q76: =(P76-AJ76)+Q75 -> #REF! | R76: =(SUMIFS(Pasākumi_kārtas!$K$98:$K$233,Pasākumi_kārtas!#REF!,$A76,Pasākumi_kārtas!$R$98:$R$233,R$61))/1000000+R75 -> #REF! | S76: =(R76-AK76)+S75 -> #REF! | T76: =(SUMIFS(Pasākumi_kārtas!$K$98:$K$233,Pasākumi_kārtas!#REF!,$A76,Pasākumi_kārtas!$R$98:$R$233,T$61))/1000000+T75 -> #REF! | U76: =(T76-AL76)+U75 -> #REF! | V76: =(SUMIFS(Pasākumi_kārtas!$K$98:$K$233,Pasākumi_kārtas!#REF!,$A76,Pasākumi_kārtas!$R$98:$R$233,V$61))/1000000+V75 -> #REF! | W76: =(V76-AM76)+W75 -> #REF! | X76: =(SUMIFS(Pasākumi_kārtas!$K$98:$K$233,Pasākumi_kārtas!#REF!,$A76,Pasākumi_kārtas!$R$98:$R$233,X$61))/1000000+X75 -> #REF! | Y76: =(X76-AN76)+Y75 -> #REF! | AB76: Uzsaukums par elastības finansējuma apjomu 2026.g. | AC76: =(SUMIFS(Pasākumi_kārtas!$K$98:$K$233,Pasākumi_kārtas!#REF!,'GRAFIKI II'!$AB76,Pasākumi_kārtas!$R$98:$R$233,'GRAFIKI II'!AC$61)/1000000)+AC75 -> #REF! | AD76: =(SUMIFS(Pasākumi_kārtas!$K$98:$K$233,Pasākumi_kārtas!#REF!,'GRAFIKI II'!$AB76,Pasākumi_kārtas!$R$98:$R$233,'GRAFIKI II'!AD$61)/1000000)+AD75 -> #REF! | AE76: =(SUMIFS(Pasākumi_kārtas!$K$98:$K$233,Pasākumi_kārtas!#REF!,'GRAFIKI II'!$AB76,Pasākumi_kārtas!$R$98:$R$233,'GRAFIKI II'!AE$61)/1000000)+AE75 -> #REF! | AF76: =(SUMIFS(Pasākumi_kārtas!$K$98:$K$233,Pasākumi_kārtas!#REF!,'GRAFIKI II'!$AB76,Pasākumi_kārtas!$R$98:$R$233,'GRAFIKI II'!AF$61)/1000000)+AF75 -> #REF! | AG76: =(SUMIFS(Pasākumi_kārtas!$K$98:$K$233,Pasākumi_kārtas!#REF!,'GRAFIKI II'!$AB76,Pasākumi_kārtas!$R$98:$R$233,'GRAFIKI II'!AG$61)/1000000)+AG75 -> #REF! | AH76: =(SUMIFS(Pasākumi_kārtas!$K$98:$K$233,Pasākumi_kārtas!#REF!,'GRAFIKI II'!$AB76,Pasākumi_kārtas!$R$98:$R$233,'GRAFIKI II'!AH$61)/1000000)+AH75 -> #REF! | AI76: =(SUMIFS(Pasākumi_kārtas!$K$98:$K$233,Pasākumi_kārtas!#REF!,'GRAFIKI II'!$AB76,Pasākumi_kārtas!$R$98:$R$233,'GRAFIKI II'!AI$61)/1000000)+AI75 -> #REF! | AJ76: =(SUMIFS(Pasākumi_kārtas!$K$98:$K$233,Pasākumi_kārtas!#REF!,'GRAFIKI II'!$AB76,Pasākumi_kārtas!$R$98:$R$233,'GRAFIKI II'!AJ$61)/1000000)+AJ75 -> #REF! | ... AN76: =(SUMIFS(Pasākumi_kārtas!$K$98:$K$233,Pasākumi_kārtas!#REF!,'GRAFIKI II'!$AB76,Pasākumi_kārtas!$R$98:$R$233,'GRAFIKI II'!AN$61)/1000000)+AN75 -> #REF!
A77: 2026 II | B77: =(SUMIFS(Pasākumi_kārtas!$K$98:$K$233,Pasākumi_kārtas!#REF!,$A77,Pasākumi_kārtas!$R$98:$R$233,B$61))/1000000+B76 -> #REF! | C77: =(B77-AC77)+C76 -> #REF! | D77: =(SUMIFS(Pasākumi_kārtas!$K$98:$K$233,Pasākumi_kārtas!#REF!,$A77,Pasākumi_kārtas!$R$98:$R$233,D$61))/1000000+D76 -> #REF! | E77: =(D77-AD77)+E76 -> #REF! | F77: =(SUMIFS(Pasākumi_kārtas!$K$98:$K$233,Pasākumi_kārtas!#REF!,$A77,Pasākumi_kārtas!$R$98:$R$233,F$61))/1000000+F76 -> #REF! | G77: =(F77-AE77)+G76 -> #REF! | H77: =(SUMIFS(Pasākumi_kārtas!$K$98:$K$233,Pasākumi_kārtas!#REF!,$A77,Pasākumi_kārtas!$R$98:$R$233,H$61))/1000000+H76 -> #REF! | I77: =(H77-AF77)+I76 -> #REF! | J77: =(SUMIFS(Pasākumi_kārtas!$K$98:$K$233,Pasākumi_kārtas!#REF!,$A77,Pasākumi_kārtas!$R$98:$R$233,J$61))/1000000+J76 -> #REF! | K77: =(J77-AG77)+K76 -> #REF! | L77: =(SUMIFS(Pasākumi_kārtas!$K$98:$K$233,Pasākumi_kārtas!#REF!,$A77,Pasākumi_kārtas!$R$98:$R$233,L$61))/1000000+L76 -> #REF! | M77: =(L77-AH77)+M76 -> #REF! | N77: =(SUMIFS(Pasākumi_kārtas!$K$98:$K$233,Pasākumi_kārtas!#REF!,$A77,Pasākumi_kārtas!$R$98:$R$233,N$61))/1000000+N76 -> #REF! | O77: =(N77-AI77)+O76 -> #REF! | P77: =(SUMIFS(Pasākumi_kārtas!$K$98:$K$233,Pasākumi_kārtas!#REF!,$A77,Pasākumi_kārtas!$R$98:$R$233,P$61))/1000000+P76 -> #REF! | Q77: =(P77-AJ77)+Q76 -> #REF! | R77: =(SUMIFS(Pasākumi_kārtas!$K$98:$K$233,Pasākumi_kārtas!#REF!,$A77,Pasākumi_kārtas!$R$98:$R$233,R$61))/1000000+R76 -> #REF! | S77: =(R77-AK77)+S76 -> #REF! | T77: =(SUMIFS(Pasākumi_kārtas!$K$98:$K$233,Pasākumi_kārtas!#REF!,$A77,Pasākumi_kārtas!$R$98:$R$233,T$61))/1000000+T76 -> #REF! | U77: =(T77-AL77)+U76 -> #REF! | V77: =(SUMIFS(Pasākumi_kārtas!$K$98:$K$233,Pasākumi_kārtas!#REF!,$A77,Pasākumi_kārtas!$R$98:$R$233,V$61))/1000000+V76 -> #REF! | W77: =(V77-AM77)+W76 -> #REF! | X77: =(SUMIFS(Pasākumi_kārtas!$K$98:$K$233,Pasākumi_kārtas!#REF!,$A77,Pasākumi_kārtas!$R$98:$R$233,X$61))/1000000+X76 -> #REF! | Y77: =(X77-AN77)+Y76 -> #REF! | AB77: 2026 II | AC77: =(SUMIFS(Pasākumi_kārtas!$K$98:$K$233,Pasākumi_kārtas!#REF!,'GRAFIKI II'!$AB77,Pasākumi_kārtas!$R$98:$R$233,'GRAFIKI II'!AC$61)/1000000)+AC76 -> #REF! | AD77: =(SUMIFS(Pasākumi_kārtas!$K$98:$K$233,Pasākumi_kārtas!#REF!,'GRAFIKI II'!$AB77,Pasākumi_kārtas!$R$98:$R$233,'GRAFIKI II'!AD$61)/1000000)+AD76 -> #REF! | AE77: =(SUMIFS(Pasākumi_kārtas!$K$98:$K$233,Pasākumi_kārtas!#REF!,'GRAFIKI II'!$AB77,Pasākumi_kārtas!$R$98:$R$233,'GRAFIKI II'!AE$61)/1000000)+AE76 -> #REF! | AF77: =(SUMIFS(Pasākumi_kārtas!$K$98:$K$233,Pasākumi_kārtas!#REF!,'GRAFIKI II'!$AB77,Pasākumi_kārtas!$R$98:$R$233,'GRAFIKI II'!AF$61)/1000000)+AF76 -> #REF! | AG77: =(SUMIFS(Pasākumi_kārtas!$K$98:$K$233,Pasākumi_kārtas!#REF!,'GRAFIKI II'!$AB77,Pasākumi_kārtas!$R$98:$R$233,'GRAFIKI II'!AG$61)/1000000)+AG76 -> #REF! | AH77: =(SUMIFS(Pasākumi_kārtas!$K$98:$K$233,Pasākumi_kārtas!#REF!,'GRAFIKI II'!$AB77,Pasākumi_kārtas!$R$98:$R$233,'GRAFIKI II'!AH$61)/1000000)+AH76 -> #REF! | AI77: =(SUMIFS(Pasākumi_kārtas!$K$98:$K$233,Pasākumi_kārtas!#REF!,'GRAFIKI II'!$AB77,Pasākumi_kārtas!$R$98:$R$233,'GRAFIKI II'!AI$61)/1000000)+AI76 -> #REF! | AJ77: =(SUMIFS(Pasākumi_kārtas!$K$98:$K$233,Pasākumi_kārtas!#REF!,'GRAFIKI II'!$AB77,Pasākumi_kārtas!$R$98:$R$233,'GRAFIKI II'!AJ$61)/1000000)+AJ76 -> #REF! | ... AN77: =(SUMIFS(Pasākumi_kārtas!$K$98:$K$233,Pasākumi_kārtas!#REF!,'GRAFIKI II'!$AB77,Pasākumi_kārtas!$R$98:$R$233,'GRAFIKI II'!AN$61)/1000000)+AN76 -> #REF!
... A83: 2027 IV | B83: =(SUMIFS(Pasākumi_kārtas!$K$98:$K$233,Pasākumi_kārtas!#REF!,$A83,Pasākumi_kārtas!$R$98:$R$233,B$61))/1000000+B82 -> #REF! | C83: =(B83-AC83)+C82 -> #REF! | D83: =(SUMIFS(Pasākumi_kārtas!$K$98:$K$233,Pasākumi_kārtas!#REF!,$A83,Pasākumi_kārtas!$R$98:$R$233,D$61))/1000000+D82 -> #REF! | E83: =(D83-AD83)+E82 -> #REF! | F83: =(SUMIFS(Pasākumi_kārtas!$K$98:$K$233,Pasākumi_kārtas!#REF!,$A83,Pasākumi_kārtas!$R$98:$R$233,F$61))/1000000+F82 -> #REF! | G83: =(F83-AE83)+G82 -> #REF! | H83: =(SUMIFS(Pasākumi_kārtas!$K$98:$K$233,Pasākumi_kārtas!#REF!,$A83,Pasākumi_kārtas!$R$98:$R$233,H$61))/1000000+H82 -> #REF! | I83: =(H83-AF83)+I82 -> #REF! | J83: =(SUMIFS(Pasākumi_kārtas!$K$98:$K$233,Pasākumi_kārtas!#REF!,$A83,Pasākumi_kārtas!$R$98:$R$233,J$61))/1000000+J82 -> #REF! | K83: =(J83-AG83)+K82 -> #REF! | L83: =(SUMIFS(Pasākumi_kārtas!$K$98:$K$233,Pasākumi_kārtas!#REF!,$A83,Pasākumi_kārtas!$R$98:$R$233,L$61))/1000000+L82 -> #REF! | M83: =(L83-AH83)+M82 -> #REF! | N83: =(SUMIFS(Pasākumi_kārtas!$K$98:$K$233,Pasākumi_kārtas!#REF!,$A83,Pasākumi_kārtas!$R$98:$R$233,N$61))/1000000+N82 -> #REF! | O83: =(N83-AI83)+O82 -> #REF! | P83: =(SUMIFS(Pasākumi_kārtas!$K$98:$K$233,Pasākumi_kārtas!#REF!,$A83,Pasākumi_kārtas!$R$98:$R$233,P$61))/1000000+P82 -> #REF! | Q83: =(P83-AJ83)+Q82 -> #REF! | R83: =(SUMIFS(Pasākumi_kārtas!$K$98:$K$233,Pasākumi_kārtas!#REF!,$A83,Pasākumi_kārtas!$R$98:$R$233,R$61))/1000000+R82 -> #REF! | S83: =(R83-AK83)+S82 -> #REF! | T83: =(SUMIFS(Pasākumi_kārtas!$K$98:$K$233,Pasākumi_kārtas!#REF!,$A83,Pasākumi_kārtas!$R$98:$R$233,T$61))/1000000+T82 -> #REF! | U83: =(T83-AL83)+U82 -> #REF! | V83: =(SUMIFS(Pasākumi_kārtas!$K$98:$K$233,Pasākumi_kārtas!#REF!,$A83,Pasākumi_kārtas!$R$98:$R$233,V$61))/1000000+V82 -> #REF! | W83: =(V83-AM83)+W82 -> #REF! | X83: =(SUMIFS(Pasākumi_kārtas!$K$98:$K$233,Pasākumi_kārtas!#REF!,$A83,Pasākumi_kārtas!$R$98:$R$233,X$61))/1000000+X82 -> #REF! | Y83: =(X83-AN83)+Y82 -> #REF! | AB83: 2027 IV | AC83: =(SUMIFS(Pasākumi_kārtas!$K$98:$K$233,Pasākumi_kārtas!#REF!,'GRAFIKI II'!$AB83,Pasākumi_kārtas!$R$98:$R$233,'GRAFIKI II'!AC$61)/1000000)+AC82 -> #REF! | AD83: =(SUMIFS(Pasākumi_kārtas!$K$98:$K$233,Pasākumi_kārtas!#REF!,'GRAFIKI II'!$AB83,Pasākumi_kārtas!$R$98:$R$233,'GRAFIKI II'!AD$61)/1000000)+AD82 -> #REF! | AE83: =(SUMIFS(Pasākumi_kārtas!$K$98:$K$233,Pasākumi_kārtas!#REF!,'GRAFIKI II'!$AB83,Pasākumi_kārtas!$R$98:$R$233,'GRAFIKI II'!AE$61)/1000000)+AE82 -> #REF! | AF83: =(SUMIFS(Pasākumi_kārtas!$K$98:$K$233,Pasākumi_kārtas!#REF!,'GRAFIKI II'!$AB83,Pasākumi_kārtas!$R$98:$R$233,'GRAFIKI II'!AF$61)/1000000)+AF82 -> #REF! | AG83: =(SUMIFS(Pasākumi_kārtas!$K$98:$K$233,Pasākumi_kārtas!#REF!,'GRAFIKI II'!$AB83,Pasākumi_kārtas!$R$98:$R$233,'GRAFIKI II'!AG$61)/1000000)+AG82 -> #REF! | AH83: =(SUMIFS(Pasākumi_kārtas!$K$98:$K$233,Pasākumi_kārtas!#REF!,'GRAFIKI II'!$AB83,Pasākumi_kārtas!$R$98:$R$233,'GRAFIKI II'!AH$61)/1000000)+AH82 -> #REF! | AI83: =(SUMIFS(Pasākumi_kārtas!$K$98:$K$233,Pasākumi_kārtas!#REF!,'GRAFIKI II'!$AB83,Pasākumi_kārtas!$R$98:$R$233,'GRAFIKI II'!AI$61)/1000000)+AI82 -> #REF! | AJ83: =(SUMIFS(Pasākumi_kārtas!$K$98:$K$233,Pasākumi_kārtas!#REF!,'GRAFIKI II'!$AB83,Pasākumi_kārtas!$R$98:$R$233,'GRAFIKI II'!AJ$61)/1000000)+AJ82 -> #REF! | ... AN83: =(SUMIFS(Pasākumi_kārtas!$K$98:$K$233,Pasākumi_kārtas!#REF!,'GRAFIKI II'!$AB83,Pasākumi_kārtas!$R$98:$R$233,'GRAFIKI II'!AN$61)/1000000)+AN82 -> #REF!
A84: =SUM(B84:V84) -> #REF! | B84: =B83 -> #REF! | C84: =(B84-AC84)+C83 -> #REF! | D84: =D83 -> #REF! | E84: =(D84-AD84)+E83 -> #REF! | F84: =F83 -> #REF! | G84: =(F84-AE84)+G83 -> #REF! | H84: =H83 -> #REF! | I84: =(H84-AF84)+I83 -> #REF! | J84: =J83 -> #REF! | K84: =(J84-AG84)+K83 -> #REF! | L84: =L83 -> #REF! | M84: =(L84-AH84)+M83 -> #REF! | N84: =N83 -> #REF! | O84: =(N84-AI84)+O83 -> #REF! | P84: =P83 -> #REF! | Q84: =(P84-AJ84)+Q83 -> #REF! | R84: =R83 -> #REF! | S84: =(R84-AK84)+S83 -> #REF! | T84: =T83 -> #REF! | U84: =(T84-AL84)+U83 -> #REF! | V84: =V83 -> #REF! | W84: =(V84-AM84)+W83 -> #REF! | X84: =X83 -> #REF! | Y84: =(X84-AN84)+Y83 -> #REF! | AB84: =SUM(AC84:AN84) -> #REF! | AC84: =AC83 -> #REF! | AD84: =AD83 -> #REF! | AE84: =AE83 -> #REF! | AF84: =AF83 -> #REF! | AG84: =AG83 -> #REF! | AH84: =AH83 -> #REF! | AI84: =AI83 -> #REF! | AJ84: =AJ83 -> #REF! | ... AN84: =AN83 -> #REF!
A87: BEZ KUMULATĀCIJAS
AB88: Laika grafiks uz 25.04.2023.
B89: MK noteikumu finansējums pa ministrijām kumulatīvi, milj. EUR | AB89: MK noteikumu finansējums pa ministrijām uz 25.04.2023., milj. EUR
B90: SM | C90: NOBĪDE | D90: EM | E90: NOBĪDE | F90: VARAM | G90: NOBĪDE | H90: IZM | I90: NOBĪDE | J90: VM | K90: NOBĪDE | L90: LM | M90: NOBĪDE | N90: KM | O90: NOBĪDE | P90: FM | Q90: NOBĪDE | R90: VK | S90: NOBĪDE | T90: IeM | U90: NOBĪDE | V90: TM | W90: NOBĪDE | X90: KEM | Y90: NOBĪDE | AC90: SM | AD90: EM | AE90: VARAM | AF90: IZM | AG90: VM | AH90: LM | AI90: KM | AJ90: FM | AK90: VK | AL90: IeM | AM90: TM | AN90: KEM
A91: 2022 IV | B91: 0 | C91: =B91-AC91 -> #REF! | D91: 0 | E91: =D91-AD91 -> #REF! | F91: 0 | G91: =F91-AE91 -> #REF! | H91: 0 | I91: =H91-AF91 -> #REF! | J91: 0 | K91: =J91-AG91 -> #REF! | L91: 0 | M91: =L91-AH91 -> #REF! | N91: 0 | O91: =N91-AI91 -> #REF! | P91: 0 | Q91: =P91-AJ91 -> #REF! | R91: 0 | S91: =R91-AK91 -> #REF! | T91: 0 | U91: =T91-AL91 -> #REF! | V91: 0 | W91: =V91-AM91 -> #REF! | X91: 0 | Y91: =X91-AN91 -> #REF! | AB91: 2022 IV | AC91: =(SUMIFS(Pasākumi_kārtas!$K$98:$K$233,Pasākumi_kārtas!#REF!,'GRAFIKI II'!$AB91,Pasākumi_kārtas!$R$98:$R$233,'GRAFIKI II'!AC$61)/1000000) -> #REF! | AD91: =(SUMIFS(Pasākumi_kārtas!$K$98:$K$233,Pasākumi_kārtas!#REF!,'GRAFIKI II'!$AB91,Pasākumi_kārtas!$R$98:$R$233,'GRAFIKI II'!AD$61)/1000000) -> #REF! | AE91: =(SUMIFS(Pasākumi_kārtas!$K$98:$K$233,Pasākumi_kārtas!#REF!,'GRAFIKI II'!$AB91,Pasākumi_kārtas!$R$98:$R$233,'GRAFIKI II'!AE$61)/1000000) -> #REF! | AF91: =(SUMIFS(Pasākumi_kārtas!$K$98:$K$233,Pasākumi_kārtas!#REF!,'GRAFIKI II'!$AB91,Pasākumi_kārtas!$R$98:$R$233,'GRAFIKI II'!AF$61)/1000000) -> #REF! | AG91: =(SUMIFS(Pasākumi_kārtas!$K$98:$K$233,Pasākumi_kārtas!#REF!,'GRAFIKI II'!$AB91,Pasākumi_kārtas!$R$98:$R$233,'GRAFIKI II'!AG$61)/1000000) -> #REF! | AH91: =(SUMIFS(Pasākumi_kārtas!$K$98:$K$233,Pasākumi_kārtas!#REF!,'GRAFIKI II'!$AB91,Pasākumi_kārtas!$R$98:$R$233,'GRAFIKI II'!AH$61)/1000000) -> #REF! | AI91: =(SUMIFS(Pasākumi_kārtas!$K$98:$K$233,Pasākumi_kārtas!#REF!,'GRAFIKI II'!$AB91,Pasākumi_kārtas!$R$98:$R$233,'GRAFIKI II'!AI$61)/1000000) -> #REF! | AJ91: =(SUMIFS(Pasākumi_kārtas!$K$98:$K$233,Pasākumi_kārtas!#REF!,'GRAFIKI II'!$AB91,Pasākumi_kārtas!$R$98:$R$233,'GRAFIKI II'!AJ$61)/1000000) -> #REF! | ... AN91: =(SUMIFS(Pasākumi_kārtas!$K$98:$K$233,Pasākumi_kārtas!#REF!,'GRAFIKI II'!$AB91,Pasākumi_kārtas!$R$98:$R$233,'GRAFIKI II'!AN$61)/1000000) -> #REF!
A92: 2023 I | B92: =(SUMIFS(Pasākumi_kārtas!$K$98:$K$233,Pasākumi_kārtas!#REF!,$A92,Pasākumi_kārtas!$R$98:$R$233,B$61))/1000000 -> #REF! | C92: =B92-AC92 -> #REF! | D92: =(SUMIFS(Pasākumi_kārtas!$K$98:$K$233,Pasākumi_kārtas!#REF!,$A92,Pasākumi_kārtas!$R$98:$R$233,D$61))/1000000 -> #REF! | E92: =D92-AD92 -> #REF! | F92: =(SUMIFS(Pasākumi_kārtas!$K$98:$K$233,Pasākumi_kārtas!#REF!,$A92,Pasākumi_kārtas!$R$98:$R$233,F$61))/1000000 -> #REF! | G92: =F92-AE92 -> #REF! | H92: =(SUMIFS(Pasākumi_kārtas!$K$98:$K$233,Pasākumi_kārtas!#REF!,$A92,Pasākumi_kārtas!$R$98:$R$233,H$61))/1000000 -> #REF! | I92: =H92-AF92 -> #REF! | J92: =(SUMIFS(Pasākumi_kārtas!$K$98:$K$233,Pasākumi_kārtas!#REF!,$A92,Pasākumi_kārtas!$R$98:$R$233,J$61))/1000000 -> #REF! | K92: =J92-AG92 -> #REF! | L92: =(SUMIFS(Pasākumi_kārtas!$K$98:$K$233,Pasākumi_kārtas!#REF!,$A92,Pasākumi_kārtas!$R$98:$R$233,L$61))/1000000 -> #REF! | M92: =L92-AH92 -> #REF! | N92: =(SUMIFS(Pasākumi_kārtas!$K$98:$K$233,Pasākumi_kārtas!#REF!,$A92,Pasākumi_kārtas!$R$98:$R$233,N$61))/1000000 -> #REF! | O92: =N92-AI92 -> #REF! | P92: =(SUMIFS(Pasākumi_kārtas!$K$98:$K$233,Pasākumi_kārtas!#REF!,$A92,Pasākumi_kārtas!$R$98:$R$233,P$61))/1000000 -> #REF! | Q92: =P92-AJ92 -> #REF! | R92: =(SUMIFS(Pasākumi_kārtas!$K$98:$K$233,Pasākumi_kārtas!#REF!,$A92,Pasākumi_kārtas!$R$98:$R$233,R$61))/1000000 -> #REF! | S92: =R92-AK92 -> #REF! | T92: =(SUMIFS(Pasākumi_kārtas!$K$98:$K$233,Pasākumi_kārtas!#REF!,$A92,Pasākumi_kārtas!$R$98:$R$233,T$61))/1000000 -> #REF! | U92: =T92-AL92 -> #REF! | V92: =(SUMIFS(Pasākumi_kārtas!$K$98:$K$233,Pasākumi_kārtas!#REF!,$A92,Pasākumi_kārtas!$R$98:$R$233,V$61))/1000000 -> #REF! | W92: =V92-AM92 -> #REF! | X92: =(SUMIFS(Pasākumi_kārtas!$K$98:$K$233,Pasākumi_kārtas!#REF!,$A92,Pasākumi_kārtas!$R$98:$R$233,X$61))/1000000 -> #REF! | Y92: =X92-AN92 -> #REF! | AB92: 2023 I | AC92: =(SUMIFS(Pasākumi_kārtas!$K$98:$K$233,Pasākumi_kārtas!#REF!,'GRAFIKI II'!$AB92,Pasākumi_kārtas!$R$98:$R$233,'GRAFIKI II'!AC$61)/1000000) -> #REF! | AD92: =(SUMIFS(Pasākumi_kārtas!$K$98:$K$233,Pasākumi_kārtas!#REF!,'GRAFIKI II'!$AB92,Pasākumi_kārtas!$R$98:$R$233,'GRAFIKI II'!AD$61)/1000000) -> #REF! | AE92: =(SUMIFS(Pasākumi_kārtas!$K$98:$K$233,Pasākumi_kārtas!#REF!,'GRAFIKI II'!$AB92,Pasākumi_kārtas!$R$98:$R$233,'GRAFIKI II'!AE$61)/1000000) -> #REF! | AF92: =(SUMIFS(Pasākumi_kārtas!$K$98:$K$233,Pasākumi_kārtas!#REF!,'GRAFIKI II'!$AB92,Pasākumi_kārtas!$R$98:$R$233,'GRAFIKI II'!AF$61)/1000000) -> #REF! | AG92: =(SUMIFS(Pasākumi_kārtas!$K$98:$K$233,Pasākumi_kārtas!#REF!,'GRAFIKI II'!$AB92,Pasākumi_kārtas!$R$98:$R$233,'GRAFIKI II'!AG$61)/1000000) -> #REF! | AH92: =(SUMIFS(Pasākumi_kārtas!$K$98:$K$233,Pasākumi_kārtas!#REF!,'GRAFIKI II'!$AB92,Pasākumi_kārtas!$R$98:$R$233,'GRAFIKI II'!AH$61)/1000000) -> #REF! | AI92: =(SUMIFS(Pasākumi_kārtas!$K$98:$K$233,Pasākumi_kārtas!#REF!,'GRAFIKI II'!$AB92,Pasākumi_kārtas!$R$98:$R$233,'GRAFIKI II'!AI$61)/1000000) -> #REF! | AJ92: =(SUMIFS(Pasākumi_kārtas!$K$98:$K$233,Pasākumi_kārtas!#REF!,'GRAFIKI II'!$AB92,Pasākumi_kārtas!$R$98:$R$233,'GRAFIKI II'!AJ$61)/1000000) -> #REF! | ... AN92: =(SUMIFS(Pasākumi_kārtas!$K$98:$K$233,Pasākumi_kārtas!#REF!,'GRAFIKI II'!$AB92,Pasākumi_kārtas!$R$98:$R$233,'GRAFIKI II'!AN$61)/1000000) -> #REF!
A93: 2023 II | B93: =(SUMIFS(Pasākumi_kārtas!$K$98:$K$233,Pasākumi_kārtas!#REF!,$A93,Pasākumi_kārtas!$R$98:$R$233,B$61))/1000000 -> #REF! | C93: =B93-AC93 -> #REF! | D93: =(SUMIFS(Pasākumi_kārtas!$K$98:$K$233,Pasākumi_kārtas!#REF!,$A93,Pasākumi_kārtas!$R$98:$R$233,D$61))/1000000 -> #REF! | E93: =D93-AD93 -> #REF! | F93: =(SUMIFS(Pasākumi_kārtas!$K$98:$K$233,Pasākumi_kārtas!#REF!,$A93,Pasākumi_kārtas!$R$98:$R$233,F$61))/1000000 -> #REF! | G93: =F93-AE93 -> #REF! | H93: =(SUMIFS(Pasākumi_kārtas!$K$98:$K$233,Pasākumi_kārtas!#REF!,$A93,Pasākumi_kārtas!$R$98:$R$233,H$61))/1000000 -> #REF! | I93: =H93-AF93 -> #REF! | J93: =(SUMIFS(Pasākumi_kārtas!$K$98:$K$233,Pasākumi_kārtas!#REF!,$A93,Pasākumi_kārtas!$R$98:$R$233,J$61))/1000000 -> #REF! | K93: =J93-AG93 -> #REF! | L93: =(SUMIFS(Pasākumi_kārtas!$K$98:$K$233,Pasākumi_kārtas!#REF!,$A93,Pasākumi_kārtas!$R$98:$R$233,L$61))/1000000 -> #REF! | M93: =L93-AH93 -> #REF! | N93: =(SUMIFS(Pasākumi_kārtas!$K$98:$K$233,Pasākumi_kārtas!#REF!,$A93,Pasākumi_kārtas!$R$98:$R$233,N$61))/1000000 -> #REF! | O93: =N93-AI93 -> #REF! | P93: =(SUMIFS(Pasākumi_kārtas!$K$98:$K$233,Pasākumi_kārtas!#REF!,$A93,Pasākumi_kārtas!$R$98:$R$233,P$61))/1000000 -> #REF! | Q93: =P93-AJ93 -> #REF! | R93: =(SUMIFS(Pasākumi_kārtas!$K$98:$K$233,Pasākumi_kārtas!#REF!,$A93,Pasākumi_kārtas!$R$98:$R$233,R$61))/1000000 -> #REF! | S93: =R93-AK93 -> #REF! | T93: =(SUMIFS(Pasākumi_kārtas!$K$98:$K$233,Pasākumi_kārtas!#REF!,$A93,Pasākumi_kārtas!$R$98:$R$233,T$61))/1000000 -> #REF! | U93: =T93-AL93 -> #REF! | V93: =(SUMIFS(Pasākumi_kārtas!$K$98:$K$233,Pasākumi_kārtas!#REF!,$A93,Pasākumi_kārtas!$R$98:$R$233,V$61))/1000000 -> #REF! | W93: =V93-AM93 -> #REF! | X93: =(SUMIFS(Pasākumi_kārtas!$K$98:$K$233,Pasākumi_kārtas!#REF!,$A93,Pasākumi_kārtas!$R$98:$R$233,X$61))/1000000 -> #REF! | Y93: =X93-AN93 -> #REF! | AB93: 2023 II | AC93: =(SUMIFS(Pasākumi_kārtas!$K$98:$K$233,Pasākumi_kārtas!#REF!,'GRAFIKI II'!$AB93,Pasākumi_kārtas!$R$98:$R$233,'GRAFIKI II'!AC$61)/1000000) -> #REF! | AD93: =(SUMIFS(Pasākumi_kārtas!$K$98:$K$233,Pasākumi_kārtas!#REF!,'GRAFIKI II'!$AB93,Pasākumi_kārtas!$R$98:$R$233,'GRAFIKI II'!AD$61)/1000000) -> #REF! | AE93: =(SUMIFS(Pasākumi_kārtas!$K$98:$K$233,Pasākumi_kārtas!#REF!,'GRAFIKI II'!$AB93,Pasākumi_kārtas!$R$98:$R$233,'GRAFIKI II'!AE$61)/1000000) -> #REF! | AF93: =(SUMIFS(Pasākumi_kārtas!$K$98:$K$233,Pasākumi_kārtas!#REF!,'GRAFIKI II'!$AB93,Pasākumi_kārtas!$R$98:$R$233,'GRAFIKI II'!AF$61)/1000000) -> #REF! | AG93: =(SUMIFS(Pasākumi_kārtas!$K$98:$K$233,Pasākumi_kārtas!#REF!,'GRAFIKI II'!$AB93,Pasākumi_kārtas!$R$98:$R$233,'GRAFIKI II'!AG$61)/1000000) -> #REF! | AH93: =(SUMIFS(Pasākumi_kārtas!$K$98:$K$233,Pasākumi_kārtas!#REF!,'GRAFIKI II'!$AB93,Pasākumi_kārtas!$R$98:$R$233,'GRAFIKI II'!AH$61)/1000000) -> #REF! | AI93: =(SUMIFS(Pasākumi_kārtas!$K$98:$K$233,Pasākumi_kārtas!#REF!,'GRAFIKI II'!$AB93,Pasākumi_kārtas!$R$98:$R$233,'GRAFIKI II'!AI$61)/1000000) -> #REF! | AJ93: =(SUMIFS(Pasākumi_kārtas!$K$98:$K$233,Pasākumi_kārtas!#REF!,'GRAFIKI II'!$AB93,Pasākumi_kārtas!$R$98:$R$233,'GRAFIKI II'!AJ$61)/1000000) -> #REF! | ... AN93: =(SUMIFS(Pasākumi_kārtas!$K$98:$K$233,Pasākumi_kārtas!#REF!,'GRAFIKI II'!$AB93,Pasākumi_kārtas!$R$98:$R$233,'GRAFIKI II'!AN$61)/1000000) -> #REF!
A94: 2023 III | B94: =(SUMIFS(Pasākumi_kārtas!$K$98:$K$233,Pasākumi_kārtas!#REF!,$A94,Pasākumi_kārtas!$R$98:$R$233,B$61))/1000000 -> #REF! | C94: =B94-AC94 -> #REF! | D94: =(SUMIFS(Pasākumi_kārtas!$K$98:$K$233,Pasākumi_kārtas!#REF!,$A94,Pasākumi_kārtas!$R$98:$R$233,D$61))/1000000 -> #REF! | E94: =D94-AD94 -> #REF! | F94: =(SUMIFS(Pasākumi_kārtas!$K$98:$K$233,Pasākumi_kārtas!#REF!,$A94,Pasākumi_kārtas!$R$98:$R$233,F$61))/1000000 -> #REF! | G94: =F94-AE94 -> #REF! | H94: =(SUMIFS(Pasākumi_kārtas!$K$98:$K$233,Pasākumi_kārtas!#REF!,$A94,Pasākumi_kārtas!$R$98:$R$233,H$61))/1000000 -> #REF! | I94: =H94-AF94 -> #REF! | J94: =(SUMIFS(Pasākumi_kārtas!$K$98:$K$233,Pasākumi_kārtas!#REF!,$A94,Pasākumi_kārtas!$R$98:$R$233,J$61))/1000000 -> #REF! | K94: =J94-AG94 -> #REF! | L94: =(SUMIFS(Pasākumi_kārtas!$K$98:$K$233,Pasākumi_kārtas!#REF!,$A94,Pasākumi_kārtas!$R$98:$R$233,L$61))/1000000 -> #REF! | M94: =L94-AH94 -> #REF! | N94: =(SUMIFS(Pasākumi_kārtas!$K$98:$K$233,Pasākumi_kārtas!#REF!,$A94,Pasākumi_kārtas!$R$98:$R$233,N$61))/1000000 -> #REF! | O94: =N94-AI94 -> #REF! | P94: =(SUMIFS(Pasākumi_kārtas!$K$98:$K$233,Pasākumi_kārtas!#REF!,$A94,Pasākumi_kārtas!$R$98:$R$233,P$61))/1000000 -> #REF! | Q94: =P94-AJ94 -> #REF! | R94: =(SUMIFS(Pasākumi_kārtas!$K$98:$K$233,Pasākumi_kārtas!#REF!,$A94,Pasākumi_kārtas!$R$98:$R$233,R$61))/1000000 -> #REF! | S94: =R94-AK94 -> #REF! | T94: =(SUMIFS(Pasākumi_kārtas!$K$98:$K$233,Pasākumi_kārtas!#REF!,$A94,Pasākumi_kārtas!$R$98:$R$233,T$61))/1000000 -> #REF! | U94: =T94-AL94 -> #REF! | V94: =(SUMIFS(Pasākumi_kārtas!$K$98:$K$233,Pasākumi_kārtas!#REF!,$A94,Pasākumi_kārtas!$R$98:$R$233,V$61))/1000000 -> #REF! | W94: =V94-AM94 -> #REF! | X94: =(SUMIFS(Pasākumi_kārtas!$K$98:$K$233,Pasākumi_kārtas!#REF!,$A94,Pasākumi_kārtas!$R$98:$R$233,X$61))/1000000 -> #REF! | Y94: =X94-AN94 -> #REF! | AB94: 2023 III | AC94: =(SUMIFS(Pasākumi_kārtas!$K$98:$K$233,Pasākumi_kārtas!#REF!,'GRAFIKI II'!$AB94,Pasākumi_kārtas!$R$98:$R$233,'GRAFIKI II'!AC$61)/1000000) -> #REF! | AD94: =(SUMIFS(Pasākumi_kārtas!$K$98:$K$233,Pasākumi_kārtas!#REF!,'GRAFIKI II'!$AB94,Pasākumi_kārtas!$R$98:$R$233,'GRAFIKI II'!AD$61)/1000000) -> #REF! | AE94: =(SUMIFS(Pasākumi_kārtas!$K$98:$K$233,Pasākumi_kārtas!#REF!,'GRAFIKI II'!$AB94,Pasākumi_kārtas!$R$98:$R$233,'GRAFIKI II'!AE$61)/1000000) -> #REF! | AF94: =(SUMIFS(Pasākumi_kārtas!$K$98:$K$233,Pasākumi_kārtas!#REF!,'GRAFIKI II'!$AB94,Pasākumi_kārtas!$R$98:$R$233,'GRAFIKI II'!AF$61)/1000000) -> #REF! | AG94: =(SUMIFS(Pasākumi_kārtas!$K$98:$K$233,Pasākumi_kārtas!#REF!,'GRAFIKI II'!$AB94,Pasākumi_kārtas!$R$98:$R$233,'GRAFIKI II'!AG$61)/1000000) -> #REF! | AH94: =(SUMIFS(Pasākumi_kārtas!$K$98:$K$233,Pasākumi_kārtas!#REF!,'GRAFIKI II'!$AB94,Pasākumi_kārtas!$R$98:$R$233,'GRAFIKI II'!AH$61)/1000000) -> #REF! | AI94: =(SUMIFS(Pasākumi_kārtas!$K$98:$K$233,Pasākumi_kārtas!#REF!,'GRAFIKI II'!$AB94,Pasākumi_kārtas!$R$98:$R$233,'GRAFIKI II'!AI$61)/1000000) -> #REF! | AJ94: =(SUMIFS(Pasākumi_kārtas!$K$98:$K$233,Pasākumi_kārtas!#REF!,'GRAFIKI II'!$AB94,Pasākumi_kārtas!$R$98:$R$233,'GRAFIKI II'!AJ$61)/1000000) -> #REF! | ... AN94: =(SUMIFS(Pasākumi_kārtas!$K$98:$K$233,Pasākumi_kārtas!#REF!,'GRAFIKI II'!$AB94,Pasākumi_kārtas!$R$98:$R$233,'GRAFIKI II'!AN$61)/1000000) -> #REF!
A95: 2023 IV | B95: =(SUMIFS(Pasākumi_kārtas!$K$98:$K$233,Pasākumi_kārtas!#REF!,$A95,Pasākumi_kārtas!$R$98:$R$233,B$61))/1000000 -> #REF! | C95: =B95-AC95 -> #REF! | D95: =(SUMIFS(Pasākumi_kārtas!$K$98:$K$233,Pasākumi_kārtas!#REF!,$A95,Pasākumi_kārtas!$R$98:$R$233,D$61))/1000000 -> #REF! | E95: =D95-AD95 -> #REF! | F95: =(SUMIFS(Pasākumi_kārtas!$K$98:$K$233,Pasākumi_kārtas!#REF!,$A95,Pasākumi_kārtas!$R$98:$R$233,F$61))/1000000 -> #REF! | G95: =F95-AE95 -> #REF! | H95: =(SUMIFS(Pasākumi_kārtas!$K$98:$K$233,Pasākumi_kārtas!#REF!,$A95,Pasākumi_kārtas!$R$98:$R$233,H$61))/1000000 -> #REF! | I95: =H95-AF95 -> #REF! | J95: =(SUMIFS(Pasākumi_kārtas!$K$98:$K$233,Pasākumi_kārtas!#REF!,$A95,Pasākumi_kārtas!$R$98:$R$233,J$61))/1000000 -> #REF! | K95: =J95-AG95 -> #REF! | L95: =(SUMIFS(Pasākumi_kārtas!$K$98:$K$233,Pasākumi_kārtas!#REF!,$A95,Pasākumi_kārtas!$R$98:$R$233,L$61))/1000000 -> #REF! | M95: =L95-AH95 -> #REF! | N95: =(SUMIFS(Pasākumi_kārtas!$K$98:$K$233,Pasākumi_kārtas!#REF!,$A95,Pasākumi_kārtas!$R$98:$R$233,N$61))/1000000 -> #REF! | O95: =N95-AI95 -> #REF! | P95: =(SUMIFS(Pasākumi_kārtas!$K$98:$K$233,Pasākumi_kārtas!#REF!,$A95,Pasākumi_kārtas!$R$98:$R$233,P$61))/1000000 -> #REF! | Q95: =P95-AJ95 -> #REF! | R95: =(SUMIFS(Pasākumi_kārtas!$K$98:$K$233,Pasākumi_kārtas!#REF!,$A95,Pasākumi_kārtas!$R$98:$R$233,R$61))/1000000 -> #REF! | S95: =R95-AK95 -> #REF! | T95: =(SUMIFS(Pasākumi_kārtas!$K$98:$K$233,Pasākumi_kārtas!#REF!,$A95,Pasākumi_kārtas!$R$98:$R$233,T$61))/1000000 -> #REF! | U95: =T95-AL95 -> #REF! | V95: =(SUMIFS(Pasākumi_kārtas!$K$98:$K$233,Pasākumi_kārtas!#REF!,$A95,Pasākumi_kārtas!$R$98:$R$233,V$61))/1000000 -> #REF! | W95: =V95-AM95 -> #REF! | X95: =(SUMIFS(Pasākumi_kārtas!$K$98:$K$233,Pasākumi_kārtas!#REF!,$A95,Pasākumi_kārtas!$R$98:$R$233,X$61))/1000000 -> #REF! | Y95: =X95-AN95 -> #REF! | AB95: 2023 IV | AC95: =(SUMIFS(Pasākumi_kārtas!$K$98:$K$233,Pasākumi_kārtas!#REF!,'GRAFIKI II'!$AB95,Pasākumi_kārtas!$R$98:$R$233,'GRAFIKI II'!AC$61)/1000000) -> #REF! | AD95: =(SUMIFS(Pasākumi_kārtas!$K$98:$K$233,Pasākumi_kārtas!#REF!,'GRAFIKI II'!$AB95,Pasākumi_kārtas!$R$98:$R$233,'GRAFIKI II'!AD$61)/1000000) -> #REF! | AE95: =(SUMIFS(Pasākumi_kārtas!$K$98:$K$233,Pasākumi_kārtas!#REF!,'GRAFIKI II'!$AB95,Pasākumi_kārtas!$R$98:$R$233,'GRAFIKI II'!AE$61)/1000000) -> #REF! | AF95: =(SUMIFS(Pasākumi_kārtas!$K$98:$K$233,Pasākumi_kārtas!#REF!,'GRAFIKI II'!$AB95,Pasākumi_kārtas!$R$98:$R$233,'GRAFIKI II'!AF$61)/1000000) -> #REF! | AG95: =(SUMIFS(Pasākumi_kārtas!$K$98:$K$233,Pasākumi_kārtas!#REF!,'GRAFIKI II'!$AB95,Pasākumi_kārtas!$R$98:$R$233,'GRAFIKI II'!AG$61)/1000000) -> #REF! | AH95: =(SUMIFS(Pasākumi_kārtas!$K$98:$K$233,Pasākumi_kārtas!#REF!,'GRAFIKI II'!$AB95,Pasākumi_kārtas!$R$98:$R$233,'GRAFIKI II'!AH$61)/1000000) -> #REF! | AI95: =(SUMIFS(Pasākumi_kārtas!$K$98:$K$233,Pasākumi_kārtas!#REF!,'GRAFIKI II'!$AB95,Pasākumi_kārtas!$R$98:$R$233,'GRAFIKI II'!AI$61)/1000000) -> #REF! | AJ95: =(SUMIFS(Pasākumi_kārtas!$K$98:$K$233,Pasākumi_kārtas!#REF!,'GRAFIKI II'!$AB95,Pasākumi_kārtas!$R$98:$R$233,'GRAFIKI II'!AJ$61)/1000000) -> #REF! | ... AN95: =(SUMIFS(Pasākumi_kārtas!$K$98:$K$233,Pasākumi_kārtas!#REF!,'GRAFIKI II'!$AB95,Pasākumi_kārtas!$R$98:$R$233,'GRAFIKI II'!AN$61)/1000000) -> #REF!
A96: 2024 I | B96: =(SUMIFS(Pasākumi_kārtas!$K$98:$K$233,Pasākumi_kārtas!#REF!,$A96,Pasākumi_kārtas!$R$98:$R$233,B$61))/1000000 -> #REF! | C96: =B96-AC96 -> #REF! | D96: =(SUMIFS(Pasākumi_kārtas!$K$98:$K$233,Pasākumi_kārtas!#REF!,$A96,Pasākumi_kārtas!$R$98:$R$233,D$61))/1000000 -> #REF! | E96: =D96-AD96 -> #REF! | F96: =(SUMIFS(Pasākumi_kārtas!$K$98:$K$233,Pasākumi_kārtas!#REF!,$A96,Pasākumi_kārtas!$R$98:$R$233,F$61))/1000000 -> #REF! | G96: =F96-AE96 -> #REF! | H96: =(SUMIFS(Pasākumi_kārtas!$K$98:$K$233,Pasākumi_kārtas!#REF!,$A96,Pasākumi_kārtas!$R$98:$R$233,H$61))/1000000 -> #REF! | I96: =H96-AF96 -> #REF! | J96: =(SUMIFS(Pasākumi_kārtas!$K$98:$K$233,Pasākumi_kārtas!#REF!,$A96,Pasākumi_kārtas!$R$98:$R$233,J$61))/1000000 -> #REF! | K96: =J96-AG96 -> #REF! | L96: =(SUMIFS(Pasākumi_kārtas!$K$98:$K$233,Pasākumi_kārtas!#REF!,$A96,Pasākumi_kārtas!$R$98:$R$233,L$61))/1000000 -> #REF! | M96: =L96-AH96 -> #REF! | N96: =(SUMIFS(Pasākumi_kārtas!$K$98:$K$233,Pasākumi_kārtas!#REF!,$A96,Pasākumi_kārtas!$R$98:$R$233,N$61))/1000000 -> #REF! | O96: =N96-AI96 -> #REF! | P96: =(SUMIFS(Pasākumi_kārtas!$K$98:$K$233,Pasākumi_kārtas!#REF!,$A96,Pasākumi_kārtas!$R$98:$R$233,P$61))/1000000 -> #REF! | Q96: =P96-AJ96 -> #REF! | R96: =(SUMIFS(Pasākumi_kārtas!$K$98:$K$233,Pasākumi_kārtas!#REF!,$A96,Pasākumi_kārtas!$R$98:$R$233,R$61))/1000000 -> #REF! | S96: =R96-AK96 -> #REF! | T96: =(SUMIFS(Pasākumi_kārtas!$K$98:$K$233,Pasākumi_kārtas!#REF!,$A96,Pasākumi_kārtas!$R$98:$R$233,T$61))/1000000 -> #REF! | U96: =T96-AL96 -> #REF! | V96: =(SUMIFS(Pasākumi_kārtas!$K$98:$K$233,Pasākumi_kārtas!#REF!,$A96,Pasākumi_kārtas!$R$98:$R$233,V$61))/1000000 -> #REF! | W96: =V96-AM96 -> #REF! | X96: =(SUMIFS(Pasākumi_kārtas!$K$98:$K$233,Pasākumi_kārtas!#REF!,$A96,Pasākumi_kārtas!$R$98:$R$233,X$61))/1000000 -> #REF! | Y96: =X96-AN96 -> #REF! | AB96: 2024 I | AC96: =(SUMIFS(Pasākumi_kārtas!$K$98:$K$233,Pasākumi_kārtas!#REF!,'GRAFIKI II'!$AB96,Pasākumi_kārtas!$R$98:$R$233,'GRAFIKI II'!AC$61)/1000000) -> #REF! | AD96: =(SUMIFS(Pasākumi_kārtas!$K$98:$K$233,Pasākumi_kārtas!#REF!,'GRAFIKI II'!$AB96,Pasākumi_kārtas!$R$98:$R$233,'GRAFIKI II'!AD$61)/1000000) -> #REF! | AE96: =(SUMIFS(Pasākumi_kārtas!$K$98:$K$233,Pasākumi_kārtas!#REF!,'GRAFIKI II'!$AB96,Pasākumi_kārtas!$R$98:$R$233,'GRAFIKI II'!AE$61)/1000000) -> #REF! | AF96: =(SUMIFS(Pasākumi_kārtas!$K$98:$K$233,Pasākumi_kārtas!#REF!,'GRAFIKI II'!$AB96,Pasākumi_kārtas!$R$98:$R$233,'GRAFIKI II'!AF$61)/1000000) -> #REF! | AG96: =(SUMIFS(Pasākumi_kārtas!$K$98:$K$233,Pasākumi_kārtas!#REF!,'GRAFIKI II'!$AB96,Pasākumi_kārtas!$R$98:$R$233,'GRAFIKI II'!AG$61)/1000000) -> #REF! | AH96: =(SUMIFS(Pasākumi_kārtas!$K$98:$K$233,Pasākumi_kārtas!#REF!,'GRAFIKI II'!$AB96,Pasākumi_kārtas!$R$98:$R$233,'GRAFIKI II'!AH$61)/1000000) -> #REF! | AI96: =(SUMIFS(Pasākumi_kārtas!$K$98:$K$233,Pasākumi_kārtas!#REF!,'GRAFIKI II'!$AB96,Pasākumi_kārtas!$R$98:$R$233,'GRAFIKI II'!AI$61)/1000000) -> #REF! | AJ96: =(SUMIFS(Pasākumi_kārtas!$K$98:$K$233,Pasākumi_kārtas!#REF!,'GRAFIKI II'!$AB96,Pasākumi_kārtas!$R$98:$R$233,'GRAFIKI II'!AJ$61)/1000000) -> #REF! | ... AN96: =(SUMIFS(Pasākumi_kārtas!$K$98:$K$233,Pasākumi_kārtas!#REF!,'GRAFIKI II'!$AB96,Pasākumi_kārtas!$R$98:$R$233,'GRAFIKI II'!AN$61)/1000000) -> #REF!
A97: 2024 II | B97: =(SUMIFS(Pasākumi_kārtas!$K$98:$K$233,Pasākumi_kārtas!#REF!,$A97,Pasākumi_kārtas!$R$98:$R$233,B$61))/1000000 -> #REF! | C97: =B97-AC97 -> #REF! | D97: =(SUMIFS(Pasākumi_kārtas!$K$98:$K$233,Pasākumi_kārtas!#REF!,$A97,Pasākumi_kārtas!$R$98:$R$233,D$61))/1000000 -> #REF! | E97: =D97-AD97 -> #REF! | F97: =(SUMIFS(Pasākumi_kārtas!$K$98:$K$233,Pasākumi_kārtas!#REF!,$A97,Pasākumi_kārtas!$R$98:$R$233,F$61))/1000000 -> #REF! | G97: =F97-AE97 -> #REF! | H97: =(SUMIFS(Pasākumi_kārtas!$K$98:$K$233,Pasākumi_kārtas!#REF!,$A97,Pasākumi_kārtas!$R$98:$R$233,H$61))/1000000 -> #REF! | I97: =H97-AF97 -> #REF! | J97: =(SUMIFS(Pasākumi_kārtas!$K$98:$K$233,Pasākumi_kārtas!#REF!,$A97,Pasākumi_kārtas!$R$98:$R$233,J$61))/1000000 -> #REF! | K97: =J97-AG97 -> #REF! | L97: =(SUMIFS(Pasākumi_kārtas!$K$98:$K$233,Pasākumi_kārtas!#REF!,$A97,Pasākumi_kārtas!$R$98:$R$233,L$61))/1000000 -> #REF! | M97: =L97-AH97 -> #REF! | N97: =(SUMIFS(Pasākumi_kārtas!$K$98:$K$233,Pasākumi_kārtas!#REF!,$A97,Pasākumi_kārtas!$R$98:$R$233,N$61))/1000000 -> #REF! | O97: =N97-AI97 -> #REF! | P97: =(SUMIFS(Pasākumi_kārtas!$K$98:$K$233,Pasākumi_kārtas!#REF!,$A97,Pasākumi_kārtas!$R$98:$R$233,P$61))/1000000 -> #REF! | Q97: =P97-AJ97 -> #REF! | R97: =(SUMIFS(Pasākumi_kārtas!$K$98:$K$233,Pasākumi_kārtas!#REF!,$A97,Pasākumi_kārtas!$R$98:$R$233,R$61))/1000000 -> #REF! | S97: =R97-AK97 -> #REF! | T97: =(SUMIFS(Pasākumi_kārtas!$K$98:$K$233,Pasākumi_kārtas!#REF!,$A97,Pasākumi_kārtas!$R$98:$R$233,T$61))/1000000 -> #REF! | U97: =T97-AL97 -> #REF! | V97: =(SUMIFS(Pasākumi_kārtas!$K$98:$K$233,Pasākumi_kārtas!#REF!,$A97,Pasākumi_kārtas!$R$98:$R$233,V$61))/1000000 -> #REF! | W97: =V97-AM97 -> #REF! | X97: =(SUMIFS(Pasākumi_kārtas!$K$98:$K$233,Pasākumi_kārtas!#REF!,$A97,Pasākumi_kārtas!$R$98:$R$233,X$61))/1000000 -> #REF! | Y97: =X97-AN97 -> #REF! | AB97: 2024 II | AC97: =(SUMIFS(Pasākumi_kārtas!$K$98:$K$233,Pasākumi_kārtas!#REF!,'GRAFIKI II'!$AB97,Pasākumi_kārtas!$R$98:$R$233,'GRAFIKI II'!AC$61)/1000000) -> #REF! | AD97: =(SUMIFS(Pasākumi_kārtas!$K$98:$K$233,Pasākumi_kārtas!#REF!,'GRAFIKI II'!$AB97,Pasākumi_kārtas!$R$98:$R$233,'GRAFIKI II'!AD$61)/1000000) -> #REF! | AE97: =(SUMIFS(Pasākumi_kārtas!$K$98:$K$233,Pasākumi_kārtas!#REF!,'GRAFIKI II'!$AB97,Pasākumi_kārtas!$R$98:$R$233,'GRAFIKI II'!AE$61)/1000000) -> #REF! | AF97: =(SUMIFS(Pasākumi_kārtas!$K$98:$K$233,Pasākumi_kārtas!#REF!,'GRAFIKI II'!$AB97,Pasākumi_kārtas!$R$98:$R$233,'GRAFIKI II'!AF$61)/1000000) -> #REF! | AG97: =(SUMIFS(Pasākumi_kārtas!$K$98:$K$233,Pasākumi_kārtas!#REF!,'GRAFIKI II'!$AB97,Pasākumi_kārtas!$R$98:$R$233,'GRAFIKI II'!AG$61)/1000000) -> #REF! | AH97: =(SUMIFS(Pasākumi_kārtas!$K$98:$K$233,Pasākumi_kārtas!#REF!,'GRAFIKI II'!$AB97,Pasākumi_kārtas!$R$98:$R$233,'GRAFIKI II'!AH$61)/1000000) -> #REF! | AI97: =(SUMIFS(Pasākumi_kārtas!$K$98:$K$233,Pasākumi_kārtas!#REF!,'GRAFIKI II'!$AB97,Pasākumi_kārtas!$R$98:$R$233,'GRAFIKI II'!AI$61)/1000000) -> #REF! | AJ97: =(SUMIFS(Pasākumi_kārtas!$K$98:$K$233,Pasākumi_kārtas!#REF!,'GRAFIKI II'!$AB97,Pasākumi_kārtas!$R$98:$R$233,'GRAFIKI II'!AJ$61)/1000000) -> #REF! | ... AN97: =(SUMIFS(Pasākumi_kārtas!$K$98:$K$233,Pasākumi_kārtas!#REF!,'GRAFIKI II'!$AB97,Pasākumi_kārtas!$R$98:$R$233,'GRAFIKI II'!AN$61)/1000000) -> #REF!
A98: 2024 III | B98: =(SUMIFS(Pasākumi_kārtas!$K$98:$K$233,Pasākumi_kārtas!#REF!,$A98,Pasākumi_kārtas!$R$98:$R$233,B$61))/1000000 -> #REF! | C98: =B98-AC98 -> #REF! | D98: =(SUMIFS(Pasākumi_kārtas!$K$98:$K$233,Pasākumi_kārtas!#REF!,$A98,Pasākumi_kārtas!$R$98:$R$233,D$61))/1000000 -> #REF! | E98: =D98-AD98 -> #REF! | F98: =(SUMIFS(Pasākumi_kārtas!$K$98:$K$233,Pasākumi_kārtas!#REF!,$A98,Pasākumi_kārtas!$R$98:$R$233,F$61))/1000000 -> #REF! | G98: =F98-AE98 -> #REF! | H98: =(SUMIFS(Pasākumi_kārtas!$K$98:$K$233,Pasākumi_kārtas!#REF!,$A98,Pasākumi_kārtas!$R$98:$R$233,H$61))/1000000 -> #REF! | I98: =H98-AF98 -> #REF! | J98: =(SUMIFS(Pasākumi_kārtas!$K$98:$K$233,Pasākumi_kārtas!#REF!,$A98,Pasākumi_kārtas!$R$98:$R$233,J$61))/1000000 -> #REF! | K98: =J98-AG98 -> #REF! | L98: =(SUMIFS(Pasākumi_kārtas!$K$98:$K$233,Pasākumi_kārtas!#REF!,$A98,Pasākumi_kārtas!$R$98:$R$233,L$61))/1000000 -> #REF! | M98: =L98-AH98 -> #REF! | N98: =(SUMIFS(Pasākumi_kārtas!$K$98:$K$233,Pasākumi_kārtas!#REF!,$A98,Pasākumi_kārtas!$R$98:$R$233,N$61))/1000000 -> #REF! | O98: =N98-AI98 -> #REF! | P98: =(SUMIFS(Pasākumi_kārtas!$K$98:$K$233,Pasākumi_kārtas!#REF!,$A98,Pasākumi_kārtas!$R$98:$R$233,P$61))/1000000 -> #REF! | Q98: =P98-AJ98 -> #REF! | R98: =(SUMIFS(Pasākumi_kārtas!$K$98:$K$233,Pasākumi_kārtas!#REF!,$A98,Pasākumi_kārtas!$R$98:$R$233,R$61))/1000000 -> #REF! | S98: =R98-AK98 -> #REF! | T98: =(SUMIFS(Pasākumi_kārtas!$K$98:$K$233,Pasākumi_kārtas!#REF!,$A98,Pasākumi_kārtas!$R$98:$R$233,T$61))/1000000 -> #REF! | U98: =T98-AL98 -> #REF! | V98: =(SUMIFS(Pasākumi_kārtas!$K$98:$K$233,Pasākumi_kārtas!#REF!,$A98,Pasākumi_kārtas!$R$98:$R$233,V$61))/1000000 -> #REF! | W98: =V98-AM98 -> #REF! | X98: =(SUMIFS(Pasākumi_kārtas!$K$98:$K$233,Pasākumi_kārtas!#REF!,$A98,Pasākumi_kārtas!$R$98:$R$233,X$61))/1000000 -> #REF! | Y98: =X98-AN98 -> #REF! | AB98: 2024 III | AC98: =(SUMIFS(Pasākumi_kārtas!$K$98:$K$233,Pasākumi_kārtas!#REF!,'GRAFIKI II'!$AB98,Pasākumi_kārtas!$R$98:$R$233,'GRAFIKI II'!AC$61)/1000000) -> #REF! | AD98: =(SUMIFS(Pasākumi_kārtas!$K$98:$K$233,Pasākumi_kārtas!#REF!,'GRAFIKI II'!$AB98,Pasākumi_kārtas!$R$98:$R$233,'GRAFIKI II'!AD$61)/1000000) -> #REF! | AE98: =(SUMIFS(Pasākumi_kārtas!$K$98:$K$233,Pasākumi_kārtas!#REF!,'GRAFIKI II'!$AB98,Pasākumi_kārtas!$R$98:$R$233,'GRAFIKI II'!AE$61)/1000000) -> #REF! | AF98: =(SUMIFS(Pasākumi_kārtas!$K$98:$K$233,Pasākumi_kārtas!#REF!,'GRAFIKI II'!$AB98,Pasākumi_kārtas!$R$98:$R$233,'GRAFIKI II'!AF$61)/1000000) -> #REF! | AG98: =(SUMIFS(Pasākumi_kārtas!$K$98:$K$233,Pasākumi_kārtas!#REF!,'GRAFIKI II'!$AB98,Pasākumi_kārtas!$R$98:$R$233,'GRAFIKI II'!AG$61)/1000000) -> #REF! | AH98: =(SUMIFS(Pasākumi_kārtas!$K$98:$K$233,Pasākumi_kārtas!#REF!,'GRAFIKI II'!$AB98,Pasākumi_kārtas!$R$98:$R$233,'GRAFIKI II'!AH$61)/1000000) -> #REF! | AI98: =(SUMIFS(Pasākumi_kārtas!$K$98:$K$233,Pasākumi_kārtas!#REF!,'GRAFIKI II'!$AB98,Pasākumi_kārtas!$R$98:$R$233,'GRAFIKI II'!AI$61)/1000000) -> #REF! | AJ98: =(SUMIFS(Pasākumi_kārtas!$K$98:$K$233,Pasākumi_kārtas!#REF!,'GRAFIKI II'!$AB98,Pasākumi_kārtas!$R$98:$R$233,'GRAFIKI II'!AJ$61)/1000000) -> #REF! | ... AN98: =(SUMIFS(Pasākumi_kārtas!$K$98:$K$233,Pasākumi_kārtas!#REF!,'GRAFIKI II'!$AB98,Pasākumi_kārtas!$R$98:$R$233,'GRAFIKI II'!AN$61)/1000000) -> #REF!
A99: 2024 IV | B99: =(SUMIFS(Pasākumi_kārtas!$K$98:$K$233,Pasākumi_kārtas!#REF!,$A99,Pasākumi_kārtas!$R$98:$R$233,B$61))/1000000 -> #REF! | C99: =B99-AC99 -> #REF! | D99: =(SUMIFS(Pasākumi_kārtas!$K$98:$K$233,Pasākumi_kārtas!#REF!,$A99,Pasākumi_kārtas!$R$98:$R$233,D$61))/1000000 -> #REF! | E99: =D99-AD99 -> #REF! | F99: =(SUMIFS(Pasākumi_kārtas!$K$98:$K$233,Pasākumi_kārtas!#REF!,$A99,Pasākumi_kārtas!$R$98:$R$233,F$61))/1000000 -> #REF! | G99: =F99-AE99 -> #REF! | H99: =(SUMIFS(Pasākumi_kārtas!$K$98:$K$233,Pasākumi_kārtas!#REF!,$A99,Pasākumi_kārtas!$R$98:$R$233,H$61))/1000000 -> #REF! | I99: =H99-AF99 -> #REF! | J99: =(SUMIFS(Pasākumi_kārtas!$K$98:$K$233,Pasākumi_kārtas!#REF!,$A99,Pasākumi_kārtas!$R$98:$R$233,J$61))/1000000 -> #REF! | K99: =J99-AG99 -> #REF! | L99: =(SUMIFS(Pasākumi_kārtas!$K$98:$K$233,Pasākumi_kārtas!#REF!,$A99,Pasākumi_kārtas!$R$98:$R$233,L$61))/1000000 -> #REF! | M99: =L99-AH99 -> #REF! | N99: =(SUMIFS(Pasākumi_kārtas!$K$98:$K$233,Pasākumi_kārtas!#REF!,$A99,Pasākumi_kārtas!$R$98:$R$233,N$61))/1000000 -> #REF! | O99: =N99-AI99 -> #REF! | P99: =(SUMIFS(Pasākumi_kārtas!$K$98:$K$233,Pasākumi_kārtas!#REF!,$A99,Pasākumi_kārtas!$R$98:$R$233,P$61))/1000000 -> #REF! | Q99: =P99-AJ99 -> #REF! | R99: =(SUMIFS(Pasākumi_kārtas!$K$98:$K$233,Pasākumi_kārtas!#REF!,$A99,Pasākumi_kārtas!$R$98:$R$233,R$61))/1000000 -> #REF! | S99: =R99-AK99 -> #REF! | T99: =(SUMIFS(Pasākumi_kārtas!$K$98:$K$233,Pasākumi_kārtas!#REF!,$A99,Pasākumi_kārtas!$R$98:$R$233,T$61))/1000000 -> #REF! | U99: =T99-AL99 -> #REF! | V99: =(SUMIFS(Pasākumi_kārtas!$K$98:$K$233,Pasākumi_kārtas!#REF!,$A99,Pasākumi_kārtas!$R$98:$R$233,V$61))/1000000 -> #REF! | W99: =V99-AM99 -> #REF! | X99: =(SUMIFS(Pasākumi_kārtas!$K$98:$K$233,Pasākumi_kārtas!#REF!,$A99,Pasākumi_kārtas!$R$98:$R$233,X$61))/1000000 -> #REF! | Y99: =X99-AN99 -> #REF! | AB99: 2024 IV | AC99: =(SUMIFS(Pasākumi_kārtas!$K$98:$K$233,Pasākumi_kārtas!#REF!,'GRAFIKI II'!$AB99,Pasākumi_kārtas!$R$98:$R$233,'GRAFIKI II'!AC$61)/1000000) -> #REF! | AD99: =(SUMIFS(Pasākumi_kārtas!$K$98:$K$233,Pasākumi_kārtas!#REF!,'GRAFIKI II'!$AB99,Pasākumi_kārtas!$R$98:$R$233,'GRAFIKI II'!AD$61)/1000000) -> #REF! | AE99: =(SUMIFS(Pasākumi_kārtas!$K$98:$K$233,Pasākumi_kārtas!#REF!,'GRAFIKI II'!$AB99,Pasākumi_kārtas!$R$98:$R$233,'GRAFIKI II'!AE$61)/1000000) -> #REF! | AF99: =(SUMIFS(Pasākumi_kārtas!$K$98:$K$233,Pasākumi_kārtas!#REF!,'GRAFIKI II'!$AB99,Pasākumi_kārtas!$R$98:$R$233,'GRAFIKI II'!AF$61)/1000000) -> #REF! | AG99: =(SUMIFS(Pasākumi_kārtas!$K$98:$K$233,Pasākumi_kārtas!#REF!,'GRAFIKI II'!$AB99,Pasākumi_kārtas!$R$98:$R$233,'GRAFIKI II'!AG$61)/1000000) -> #REF! | AH99: =(SUMIFS(Pasākumi_kārtas!$K$98:$K$233,Pasākumi_kārtas!#REF!,'GRAFIKI II'!$AB99,Pasākumi_kārtas!$R$98:$R$233,'GRAFIKI II'!AH$61)/1000000) -> #REF! | AI99: =(SUMIFS(Pasākumi_kārtas!$K$98:$K$233,Pasākumi_kārtas!#REF!,'GRAFIKI II'!$AB99,Pasākumi_kārtas!$R$98:$R$233,'GRAFIKI II'!AI$61)/1000000) -> #REF! | AJ99: =(SUMIFS(Pasākumi_kārtas!$K$98:$K$233,Pasākumi_kārtas!#REF!,'GRAFIKI II'!$AB99,Pasākumi_kārtas!$R$98:$R$233,'GRAFIKI II'!AJ$61)/1000000) -> #REF! | ... AN99: =(SUMIFS(Pasākumi_kārtas!$K$98:$K$233,Pasākumi_kārtas!#REF!,'GRAFIKI II'!$AB99,Pasākumi_kārtas!$R$98:$R$233,'GRAFIKI II'!AN$61)/1000000) -> #REF!
A100: 2025 I | B100: =(SUMIFS(Pasākumi_kārtas!$K$98:$K$233,Pasākumi_kārtas!#REF!,$A100,Pasākumi_kārtas!$R$98:$R$233,B$61))/1000000 -> #REF! | C100: =B100-AC100 -> #REF! | D100: =(SUMIFS(Pasākumi_kārtas!$K$98:$K$233,Pasākumi_kārtas!#REF!,$A100,Pasākumi_kārtas!$R$98:$R$233,D$61))/1000000 -> #REF! | E100: =D100-AD100 -> #REF! | F100: =(SUMIFS(Pasākumi_kārtas!$K$98:$K$233,Pasākumi_kārtas!#REF!,$A100,Pasākumi_kārtas!$R$98:$R$233,F$61))/1000000 -> #REF! | G100: =F100-AE100 -> #REF! | H100: =(SUMIFS(Pasākumi_kārtas!$K$98:$K$233,Pasākumi_kārtas!#REF!,$A100,Pasākumi_kārtas!$R$98:$R$233,H$61))/1000000 -> #REF! | I100: =H100-AF100 -> #REF! | J100: =(SUMIFS(Pasākumi_kārtas!$K$98:$K$233,Pasākumi_kārtas!#REF!,$A100,Pasākumi_kārtas!$R$98:$R$233,J$61))/1000000 -> #REF! | K100: =J100-AG100 -> #REF! | L100: =(SUMIFS(Pasākumi_kārtas!$K$98:$K$233,Pasākumi_kārtas!#REF!,$A100,Pasākumi_kārtas!$R$98:$R$233,L$61))/1000000 -> #REF! | M100: =L100-AH100 -> #REF! | N100: =(SUMIFS(Pasākumi_kārtas!$K$98:$K$233,Pasākumi_kārtas!#REF!,$A100,Pasākumi_kārtas!$R$98:$R$233,N$61))/1000000 -> #REF! | O100: =N100-AI100 -> #REF! | P100: =(SUMIFS(Pasākumi_kārtas!$K$98:$K$233,Pasākumi_kārtas!#REF!,$A100,Pasākumi_kārtas!$R$98:$R$233,P$61))/1000000 -> #REF! | Q100: =P100-AJ100 -> #REF! | R100: =(SUMIFS(Pasākumi_kārtas!$K$98:$K$233,Pasākumi_kārtas!#REF!,$A100,Pasākumi_kārtas!$R$98:$R$233,R$61))/1000000 -> #REF! | S100: =R100-AK100 -> #REF! | T100: =(SUMIFS(Pasākumi_kārtas!$K$98:$K$233,Pasākumi_kārtas!#REF!,$A100,Pasākumi_kārtas!$R$98:$R$233,T$61))/1000000 -> #REF! | U100: =T100-AL100 -> #REF! | V100: =(SUMIFS(Pasākumi_kārtas!$K$98:$K$233,Pasākumi_kārtas!#REF!,$A100,Pasākumi_kārtas!$R$98:$R$233,V$61))/1000000 -> #REF! | W100: =V100-AM100 -> #REF! | X100: =(SUMIFS(Pasākumi_kārtas!$K$98:$K$233,Pasākumi_kārtas!#REF!,$A100,Pasākumi_kārtas!$R$98:$R$233,X$61))/1000000 -> #REF! | Y100: =X100-AN100 -> #REF! | AB100: 2025 I | AC100: =(SUMIFS(Pasākumi_kārtas!$K$98:$K$233,Pasākumi_kārtas!#REF!,'GRAFIKI II'!$AB100,Pasākumi_kārtas!$R$98:$R$233,'GRAFIKI II'!AC$61)/1000000) -> #REF! | AD100: =(SUMIFS(Pasākumi_kārtas!$K$98:$K$233,Pasākumi_kārtas!#REF!,'GRAFIKI II'!$AB100,Pasākumi_kārtas!$R$98:$R$233,'GRAFIKI II'!AD$61)/1000000) -> #REF! | AE100: =(SUMIFS(Pasākumi_kārtas!$K$98:$K$233,Pasākumi_kārtas!#REF!,'GRAFIKI II'!$AB100,Pasākumi_kārtas!$R$98:$R$233,'GRAFIKI II'!AE$61)/1000000) -> #REF! | AF100: =(SUMIFS(Pasākumi_kārtas!$K$98:$K$233,Pasākumi_kārtas!#REF!,'GRAFIKI II'!$AB100,Pasākumi_kārtas!$R$98:$R$233,'GRAFIKI II'!AF$61)/1000000) -> #REF! | AG100: =(SUMIFS(Pasākumi_kārtas!$K$98:$K$233,Pasākumi_kārtas!#REF!,'GRAFIKI II'!$AB100,Pasākumi_kārtas!$R$98:$R$233,'GRAFIKI II'!AG$61)/1000000) -> #REF! | AH100: =(SUMIFS(Pasākumi_kārtas!$K$98:$K$233,Pasākumi_kārtas!#REF!,'GRAFIKI II'!$AB100,Pasākumi_kārtas!$R$98:$R$233,'GRAFIKI II'!AH$61)/1000000) -> #REF! | AI100: =(SUMIFS(Pasākumi_kārtas!$K$98:$K$233,Pasākumi_kārtas!#REF!,'GRAFIKI II'!$AB100,Pasākumi_kārtas!$R$98:$R$233,'GRAFIKI II'!AI$61)/1000000) -> #REF! | AJ100: =(SUMIFS(Pasākumi_kārtas!$K$98:$K$233,Pasākumi_kārtas!#REF!,'GRAFIKI II'!$AB100,Pasākumi_kārtas!$R$98:$R$233,'GRAFIKI II'!AJ$61)/1000000) -> #REF! | ... AN100: =(SUMIFS(Pasākumi_kārtas!$K$98:$K$233,Pasākumi_kārtas!#REF!,'GRAFIKI II'!$AB100,Pasākumi_kārtas!$R$98:$R$233,'GRAFIKI II'!AN$61)/1000000) -> #REF!
A101: 2025 II | B101: =(SUMIFS(Pasākumi_kārtas!$K$98:$K$233,Pasākumi_kārtas!#REF!,$A101,Pasākumi_kārtas!$R$98:$R$233,B$61))/1000000 -> #REF! | C101: =B101-AC101 -> #REF! | D101: =(SUMIFS(Pasākumi_kārtas!$K$98:$K$233,Pasākumi_kārtas!#REF!,$A101,Pasākumi_kārtas!$R$98:$R$233,D$61))/1000000 -> #REF! | E101: =D101-AD101 -> #REF! | F101: =(SUMIFS(Pasākumi_kārtas!$K$98:$K$233,Pasākumi_kārtas!#REF!,$A101,Pasākumi_kārtas!$R$98:$R$233,F$61))/1000000 -> #REF! | G101: =F101-AE101 -> #REF! | H101: =(SUMIFS(Pasākumi_kārtas!$K$98:$K$233,Pasākumi_kārtas!#REF!,$A101,Pasākumi_kārtas!$R$98:$R$233,H$61))/1000000 -> #REF! | I101: =H101-AF101 -> #REF! | J101: =(SUMIFS(Pasākumi_kārtas!$K$98:$K$233,Pasākumi_kārtas!#REF!,$A101,Pasākumi_kārtas!$R$98:$R$233,J$61))/1000000 -> #REF! | K101: =J101-AG101 -> #REF! | L101: =(SUMIFS(Pasākumi_kārtas!$K$98:$K$233,Pasākumi_kārtas!#REF!,$A101,Pasākumi_kārtas!$R$98:$R$233,L$61))/1000000 -> #REF! | M101: =L101-AH101 -> #REF! | N101: =(SUMIFS(Pasākumi_kārtas!$K$98:$K$233,Pasākumi_kārtas!#REF!,$A101,Pasākumi_kārtas!$R$98:$R$233,N$61))/1000000 -> #REF! | O101: =N101-AI101 -> #REF! | P101: =(SUMIFS(Pasākumi_kārtas!$K$98:$K$233,Pasākumi_kārtas!#REF!,$A101,Pasākumi_kārtas!$R$98:$R$233,P$61))/1000000 -> #REF! | Q101: =P101-AJ101 -> #REF! | R101: =(SUMIFS(Pasākumi_kārtas!$K$98:$K$233,Pasākumi_kārtas!#REF!,$A101,Pasākumi_kārtas!$R$98:$R$233,R$61))/1000000 -> #REF! | S101: =R101-AK101 -> #REF! | T101: =(SUMIFS(Pasākumi_kārtas!$K$98:$K$233,Pasākumi_kārtas!#REF!,$A101,Pasākumi_kārtas!$R$98:$R$233,T$61))/1000000 -> #REF! | U101: =T101-AL101 -> #REF! | V101: =(SUMIFS(Pasākumi_kārtas!$K$98:$K$233,Pasākumi_kārtas!#REF!,$A101,Pasākumi_kārtas!$R$98:$R$233,V$61))/1000000 -> #REF! | W101: =V101-AM101 -> #REF! | X101: =(SUMIFS(Pasākumi_kārtas!$K$98:$K$233,Pasākumi_kārtas!#REF!,$A101,Pasākumi_kārtas!$R$98:$R$233,X$61))/1000000 -> #REF! | Y101: =X101-AN101 -> #REF! | AB101: 2025 II | AC101: =(SUMIFS(Pasākumi_kārtas!$K$98:$K$233,Pasākumi_kārtas!#REF!,'GRAFIKI II'!$AB101,Pasākumi_kārtas!$R$98:$R$233,'GRAFIKI II'!AC$61)/1000000) -> #REF! | AD101: =(SUMIFS(Pasākumi_kārtas!$K$98:$K$233,Pasākumi_kārtas!#REF!,'GRAFIKI II'!$AB101,Pasākumi_kārtas!$R$98:$R$233,'GRAFIKI II'!AD$61)/1000000) -> #REF! | AE101: =(SUMIFS(Pasākumi_kārtas!$K$98:$K$233,Pasākumi_kārtas!#REF!,'GRAFIKI II'!$AB101,Pasākumi_kārtas!$R$98:$R$233,'GRAFIKI II'!AE$61)/1000000) -> #REF! | AF101: =(SUMIFS(Pasākumi_kārtas!$K$98:$K$233,Pasākumi_kārtas!#REF!,'GRAFIKI II'!$AB101,Pasākumi_kārtas!$R$98:$R$233,'GRAFIKI II'!AF$61)/1000000) -> #REF! | AG101: =(SUMIFS(Pasākumi_kārtas!$K$98:$K$233,Pasākumi_kārtas!#REF!,'GRAFIKI II'!$AB101,Pasākumi_kārtas!$R$98:$R$233,'GRAFIKI II'!AG$61)/1000000) -> #REF! | AH101: =(SUMIFS(Pasākumi_kārtas!$K$98:$K$233,Pasākumi_kārtas!#REF!,'GRAFIKI II'!$AB101,Pasākumi_kārtas!$R$98:$R$233,'GRAFIKI II'!AH$61)/1000000) -> #REF! | AI101: =(SUMIFS(Pasākumi_kārtas!$K$98:$K$233,Pasākumi_kārtas!#REF!,'GRAFIKI II'!$AB101,Pasākumi_kārtas!$R$98:$R$233,'GRAFIKI II'!AI$61)/1000000) -> #REF! | AJ101: =(SUMIFS(Pasākumi_kārtas!$K$98:$K$233,Pasākumi_kārtas!#REF!,'GRAFIKI II'!$AB101,Pasākumi_kārtas!$R$98:$R$233,'GRAFIKI II'!AJ$61)/1000000) -> #REF! | ... AN101: =(SUMIFS(Pasākumi_kārtas!$K$98:$K$233,Pasākumi_kārtas!#REF!,'GRAFIKI II'!$AB101,Pasākumi_kārtas!$R$98:$R$233,'GRAFIKI II'!AN$61)/1000000) -> #REF!
A102: 2025 III | B102: =(SUMIFS(Pasākumi_kārtas!$K$98:$K$233,Pasākumi_kārtas!#REF!,$A102,Pasākumi_kārtas!$R$98:$R$233,B$61))/1000000 -> #REF! | C102: =B102-AC102 -> #REF! | D102: =(SUMIFS(Pasākumi_kārtas!$K$98:$K$233,Pasākumi_kārtas!#REF!,$A102,Pasākumi_kārtas!$R$98:$R$233,D$61))/1000000 -> #REF! | E102: =D102-AD102 -> #REF! | F102: =(SUMIFS(Pasākumi_kārtas!$K$98:$K$233,Pasākumi_kārtas!#REF!,$A102,Pasākumi_kārtas!$R$98:$R$233,F$61))/1000000 -> #REF! | G102: =F102-AE102 -> #REF! | H102: =(SUMIFS(Pasākumi_kārtas!$K$98:$K$233,Pasākumi_kārtas!#REF!,$A102,Pasākumi_kārtas!$R$98:$R$233,H$61))/1000000 -> #REF! | I102: =H102-AF102 -> #REF! | J102: =(SUMIFS(Pasākumi_kārtas!$K$98:$K$233,Pasākumi_kārtas!#REF!,$A102,Pasākumi_kārtas!$R$98:$R$233,J$61))/1000000 -> #REF! | K102: =J102-AG102 -> #REF! | L102: =(SUMIFS(Pasākumi_kārtas!$K$98:$K$233,Pasākumi_kārtas!#REF!,$A102,Pasākumi_kārtas!$R$98:$R$233,L$61))/1000000 -> #REF! | M102: =L102-AH102 -> #REF! | N102: =(SUMIFS(Pasākumi_kārtas!$K$98:$K$233,Pasākumi_kārtas!#REF!,$A102,Pasākumi_kārtas!$R$98:$R$233,N$61))/1000000 -> #REF! | O102: =N102-AI102 -> #REF! | P102: =(SUMIFS(Pasākumi_kārtas!$K$98:$K$233,Pasākumi_kārtas!#REF!,$A102,Pasākumi_kārtas!$R$98:$R$233,P$61))/1000000 -> #REF! | Q102: =P102-AJ102 -> #REF! | R102: =(SUMIFS(Pasākumi_kārtas!$K$98:$K$233,Pasākumi_kārtas!#REF!,$A102,Pasākumi_kārtas!$R$98:$R$233,R$61))/1000000 -> #REF! | S102: =R102-AK102 -> #REF! | T102: =(SUMIFS(Pasākumi_kārtas!$K$98:$K$233,Pasākumi_kārtas!#REF!,$A102,Pasākumi_kārtas!$R$98:$R$233,T$61))/1000000 -> #REF! | U102: =T102-AL102 -> #REF! | V102: =(SUMIFS(Pasākumi_kārtas!$K$98:$K$233,Pasākumi_kārtas!#REF!,$A102,Pasākumi_kārtas!$R$98:$R$233,V$61))/1000000 -> #REF! | W102: =V102-AM102 -> #REF! | X102: =(SUMIFS(Pasākumi_kārtas!$K$98:$K$233,Pasākumi_kārtas!#REF!,$A102,Pasākumi_kārtas!$R$98:$R$233,X$61))/1000000 -> #REF! | Y102: =X102-AN102 -> #REF! | AB102: 2025 III | AC102: =(SUMIFS(Pasākumi_kārtas!$K$98:$K$233,Pasākumi_kārtas!#REF!,'GRAFIKI II'!$AB102,Pasākumi_kārtas!$R$98:$R$233,'GRAFIKI II'!AC$61)/1000000) -> #REF! | AD102: =(SUMIFS(Pasākumi_kārtas!$K$98:$K$233,Pasākumi_kārtas!#REF!,'GRAFIKI II'!$AB102,Pasākumi_kārtas!$R$98:$R$233,'GRAFIKI II'!AD$61)/1000000) -> #REF! | AE102: =(SUMIFS(Pasākumi_kārtas!$K$98:$K$233,Pasākumi_kārtas!#REF!,'GRAFIKI II'!$AB102,Pasākumi_kārtas!$R$98:$R$233,'GRAFIKI II'!AE$61)/1000000) -> #REF! | AF102: =(SUMIFS(Pasākumi_kārtas!$K$98:$K$233,Pasākumi_kārtas!#REF!,'GRAFIKI II'!$AB102,Pasākumi_kārtas!$R$98:$R$233,'GRAFIKI II'!AF$61)/1000000) -> #REF! | AG102: =(SUMIFS(Pasākumi_kārtas!$K$98:$K$233,Pasākumi_kārtas!#REF!,'GRAFIKI II'!$AB102,Pasākumi_kārtas!$R$98:$R$233,'GRAFIKI II'!AG$61)/1000000) -> #REF! | AH102: =(SUMIFS(Pasākumi_kārtas!$K$98:$K$233,Pasākumi_kārtas!#REF!,'GRAFIKI II'!$AB102,Pasākumi_kārtas!$R$98:$R$233,'GRAFIKI II'!AH$61)/1000000) -> #REF! | AI102: =(SUMIFS(Pasākumi_kārtas!$K$98:$K$233,Pasākumi_kārtas!#REF!,'GRAFIKI II'!$AB102,Pasākumi_kārtas!$R$98:$R$233,'GRAFIKI II'!AI$61)/1000000) -> #REF! | AJ102: =(SUMIFS(Pasākumi_kārtas!$K$98:$K$233,Pasākumi_kārtas!#REF!,'GRAFIKI II'!$AB102,Pasākumi_kārtas!$R$98:$R$233,'GRAFIKI II'!AJ$61)/1000000) -> #REF! | ... AN102: =(SUMIFS(Pasākumi_kārtas!$K$98:$K$233,Pasākumi_kārtas!#REF!,'GRAFIKI II'!$AB102,Pasākumi_kārtas!$R$98:$R$233,'GRAFIKI II'!AN$61)/1000000) -> #REF!
A103: 2025 IV | B103: =(SUMIFS(Pasākumi_kārtas!$K$98:$K$233,Pasākumi_kārtas!#REF!,$A103,Pasākumi_kārtas!$R$98:$R$233,B$61))/1000000 -> #REF! | C103: =B103-AC103 -> #REF! | D103: =(SUMIFS(Pasākumi_kārtas!$K$98:$K$233,Pasākumi_kārtas!#REF!,$A103,Pasākumi_kārtas!$R$98:$R$233,D$61))/1000000 -> #REF! | E103: =D103-AD103 -> #REF! | F103: =(SUMIFS(Pasākumi_kārtas!$K$98:$K$233,Pasākumi_kārtas!#REF!,$A103,Pasākumi_kārtas!$R$98:$R$233,F$61))/1000000 -> #REF! | G103: =F103-AE103 -> #REF! | H103: =(SUMIFS(Pasākumi_kārtas!$K$98:$K$233,Pasākumi_kārtas!#REF!,$A103,Pasākumi_kārtas!$R$98:$R$233,H$61))/1000000 -> #REF! | I103: =H103-AF103 -> #REF! | J103: =(SUMIFS(Pasākumi_kārtas!$K$98:$K$233,Pasākumi_kārtas!#REF!,$A103,Pasākumi_kārtas!$R$98:$R$233,J$61))/1000000 -> #REF! | K103: =J103-AG103 -> #REF! | L103: =(SUMIFS(Pasākumi_kārtas!$K$98:$K$233,Pasākumi_kārtas!#REF!,$A103,Pasākumi_kārtas!$R$98:$R$233,L$61))/1000000 -> #REF! | M103: =L103-AH103 -> #REF! | N103: =(SUMIFS(Pasākumi_kārtas!$K$98:$K$233,Pasākumi_kārtas!#REF!,$A103,Pasākumi_kārtas!$R$98:$R$233,N$61))/1000000 -> #REF! | O103: =N103-AI103 -> #REF! | P103: =(SUMIFS(Pasākumi_kārtas!$K$98:$K$233,Pasākumi_kārtas!#REF!,$A103,Pasākumi_kārtas!$R$98:$R$233,P$61))/1000000 -> #REF! | Q103: =P103-AJ103 -> #REF! | R103: =(SUMIFS(Pasākumi_kārtas!$K$98:$K$233,Pasākumi_kārtas!#REF!,$A103,Pasākumi_kārtas!$R$98:$R$233,R$61))/1000000 -> #REF! | S103: =R103-AK103 -> #REF! | T103: =(SUMIFS(Pasākumi_kārtas!$K$98:$K$233,Pasākumi_kārtas!#REF!,$A103,Pasākumi_kārtas!$R$98:$R$233,T$61))/1000000 -> #REF! | U103: =T103-AL103 -> #REF! | V103: =(SUMIFS(Pasākumi_kārtas!$K$98:$K$233,Pasākumi_kārtas!#REF!,$A103,Pasākumi_kārtas!$R$98:$R$233,V$61))/1000000 -> #REF! | W103: =V103-AM103 -> #REF! | X103: =(SUMIFS(Pasākumi_kārtas!$K$98:$K$233,Pasākumi_kārtas!#REF!,$A103,Pasākumi_kārtas!$R$98:$R$233,X$61))/1000000 -> #REF! | Y103: =X103-AN103 -> #REF! | AB103: 2025 IV | AC103: =(SUMIFS(Pasākumi_kārtas!$K$98:$K$233,Pasākumi_kārtas!#REF!,'GRAFIKI II'!$AB103,Pasākumi_kārtas!$R$98:$R$233,'GRAFIKI II'!AC$61)/1000000) -> #REF! | AD103: =(SUMIFS(Pasākumi_kārtas!$K$98:$K$233,Pasākumi_kārtas!#REF!,'GRAFIKI II'!$AB103,Pasākumi_kārtas!$R$98:$R$233,'GRAFIKI II'!AD$61)/1000000) -> #REF! | AE103: =(SUMIFS(Pasākumi_kārtas!$K$98:$K$233,Pasākumi_kārtas!#REF!,'GRAFIKI II'!$AB103,Pasākumi_kārtas!$R$98:$R$233,'GRAFIKI II'!AE$61)/1000000) -> #REF! | AF103: =(SUMIFS(Pasākumi_kārtas!$K$98:$K$233,Pasākumi_kārtas!#REF!,'GRAFIKI II'!$AB103,Pasākumi_kārtas!$R$98:$R$233,'GRAFIKI II'!AF$61)/1000000) -> #REF! | AG103: =(SUMIFS(Pasākumi_kārtas!$K$98:$K$233,Pasākumi_kārtas!#REF!,'GRAFIKI II'!$AB103,Pasākumi_kārtas!$R$98:$R$233,'GRAFIKI II'!AG$61)/1000000) -> #REF! | AH103: =(SUMIFS(Pasākumi_kārtas!$K$98:$K$233,Pasākumi_kārtas!#REF!,'GRAFIKI II'!$AB103,Pasākumi_kārtas!$R$98:$R$233,'GRAFIKI II'!AH$61)/1000000) -> #REF! | AI103: =(SUMIFS(Pasākumi_kārtas!$K$98:$K$233,Pasākumi_kārtas!#REF!,'GRAFIKI II'!$AB103,Pasākumi_kārtas!$R$98:$R$233,'GRAFIKI II'!AI$61)/1000000) -> #REF! | AJ103: =(SUMIFS(Pasākumi_kārtas!$K$98:$K$233,Pasākumi_kārtas!#REF!,'GRAFIKI II'!$AB103,Pasākumi_kārtas!$R$98:$R$233,'GRAFIKI II'!AJ$61)/1000000) -> #REF! | ... AN103: =(SUMIFS(Pasākumi_kārtas!$K$98:$K$233,Pasākumi_kārtas!#REF!,'GRAFIKI II'!$AB103,Pasākumi_kārtas!$R$98:$R$233,'GRAFIKI II'!AN$61)/1000000) -> #REF!
... A112: 2027 IV | B112: =(SUMIFS(Pasākumi_kārtas!$K$98:$K$233,Pasākumi_kārtas!#REF!,$A112,Pasākumi_kārtas!$R$98:$R$233,B$61))/1000000 -> #REF! | C112: =B112-AC112 -> #REF! | D112: =(SUMIFS(Pasākumi_kārtas!$K$98:$K$233,Pasākumi_kārtas!#REF!,$A112,Pasākumi_kārtas!$R$98:$R$233,D$61))/1000000 -> #REF! | E112: =D112-AD112 -> #REF! | F112: =(SUMIFS(Pasākumi_kārtas!$K$98:$K$233,Pasākumi_kārtas!#REF!,$A112,Pasākumi_kārtas!$R$98:$R$233,F$61))/1000000 -> #REF! | G112: =F112-AE112 -> #REF! | H112: =(SUMIFS(Pasākumi_kārtas!$K$98:$K$233,Pasākumi_kārtas!#REF!,$A112,Pasākumi_kārtas!$R$98:$R$233,H$61))/1000000 -> #REF! | I112: =H112-AF112 -> #REF! | J112: =(SUMIFS(Pasākumi_kārtas!$K$98:$K$233,Pasākumi_kārtas!#REF!,$A112,Pasākumi_kārtas!$R$98:$R$233,J$61))/1000000 -> #REF! | K112: =J112-AG112 -> #REF! | L112: =(SUMIFS(Pasākumi_kārtas!$K$98:$K$233,Pasākumi_kārtas!#REF!,$A112,Pasākumi_kārtas!$R$98:$R$233,L$61))/1000000 -> #REF! | M112: =L112-AH112 -> #REF! | N112: =(SUMIFS(Pasākumi_kārtas!$K$98:$K$233,Pasākumi_kārtas!#REF!,$A112,Pasākumi_kārtas!$R$98:$R$233,N$61))/1000000 -> #REF! | O112: =N112-AI112 -> #REF! | P112: =(SUMIFS(Pasākumi_kārtas!$K$98:$K$233,Pasākumi_kārtas!#REF!,$A112,Pasākumi_kārtas!$R$98:$R$233,P$61))/1000000 -> #REF! | Q112: =P112-AJ112 -> #REF! | R112: =(SUMIFS(Pasākumi_kārtas!$K$98:$K$233,Pasākumi_kārtas!#REF!,$A112,Pasākumi_kārtas!$R$98:$R$233,R$61))/1000000 -> #REF! | S112: =R112-AK112 -> #REF! | T112: =(SUMIFS(Pasākumi_kārtas!$K$98:$K$233,Pasākumi_kārtas!#REF!,$A112,Pasākumi_kārtas!$R$98:$R$233,T$61))/1000000 -> #REF! | U112: =T112-AL112 -> #REF! | V112: =(SUMIFS(Pasākumi_kārtas!$K$98:$K$233,Pasākumi_kārtas!#REF!,$A112,Pasākumi_kārtas!$R$98:$R$233,V$61))/1000000 -> #REF! | W112: =V112-AM112 -> #REF! | X112: =(SUMIFS(Pasākumi_kārtas!$K$98:$K$233,Pasākumi_kārtas!#REF!,$A112,Pasākumi_kārtas!$R$98:$R$233,X$61))/1000000 -> #REF! | Y112: =X112-AN112 -> #REF! | AB112: 2027 IV | AC112: =(SUMIFS(Pasākumi_kārtas!$K$98:$K$233,Pasākumi_kārtas!#REF!,'GRAFIKI II'!$AB112,Pasākumi_kārtas!$R$98:$R$233,'GRAFIKI II'!AC$61)/1000000) -> #REF! | AD112: =(SUMIFS(Pasākumi_kārtas!$K$98:$K$233,Pasākumi_kārtas!#REF!,'GRAFIKI II'!$AB112,Pasākumi_kārtas!$R$98:$R$233,'GRAFIKI II'!AD$61)/1000000) -> #REF! | AE112: =(SUMIFS(Pasākumi_kārtas!$K$98:$K$233,Pasākumi_kārtas!#REF!,'GRAFIKI II'!$AB112,Pasākumi_kārtas!$R$98:$R$233,'GRAFIKI II'!AE$61)/1000000) -> #REF! | AF112: =(SUMIFS(Pasākumi_kārtas!$K$98:$K$233,Pasākumi_kārtas!#REF!,'GRAFIKI II'!$AB112,Pasākumi_kārtas!$R$98:$R$233,'GRAFIKI II'!AF$61)/1000000) -> #REF! | AG112: =(SUMIFS(Pasākumi_kārtas!$K$98:$K$233,Pasākumi_kārtas!#REF!,'GRAFIKI II'!$AB112,Pasākumi_kārtas!$R$98:$R$233,'GRAFIKI II'!AG$61)/1000000) -> #REF! | AH112: =(SUMIFS(Pasākumi_kārtas!$K$98:$K$233,Pasākumi_kārtas!#REF!,'GRAFIKI II'!$AB112,Pasākumi_kārtas!$R$98:$R$233,'GRAFIKI II'!AH$61)/1000000) -> #REF! | AI112: =(SUMIFS(Pasākumi_kārtas!$K$98:$K$233,Pasākumi_kārtas!#REF!,'GRAFIKI II'!$AB112,Pasākumi_kārtas!$R$98:$R$233,'GRAFIKI II'!AI$61)/1000000) -> #REF! | AJ112: =(SUMIFS(Pasākumi_kārtas!$K$98:$K$233,Pasākumi_kārtas!#REF!,'GRAFIKI II'!$AB112,Pasākumi_kārtas!$R$98:$R$233,'GRAFIKI II'!AJ$61)/1000000) -> #REF! | ... AN112: =(SUMIFS(Pasākumi_kārtas!$K$98:$K$233,Pasākumi_kārtas!#REF!,'GRAFIKI II'!$AB112,Pasākumi_kārtas!$R$98:$R$233,'GRAFIKI II'!AN$61)/1000000) -> #REF!
A113: Kopā | B113: =SUM(B91:B112) -> #REF! | C113: =B113-AC113 -> #REF! | D113: =SUM(D91:D112) -> #REF! | E113: =D113-AD113 -> #REF! | F113: =SUM(F91:F112) -> #REF! | G113: =F113-AE113 -> #REF! | H113: =SUM(H91:H112) -> #REF! | I113: =H113-AF113 -> #REF! | J113: =SUM(J91:J112) -> #REF! | K113: =J113-AG113 -> #REF! | L113: =SUM(L91:L112) -> #REF! | M113: =L113-AH113 -> #REF! | N113: =SUM(N91:N112) -> #REF! | O113: =N113-AI113 -> #REF! | P113: =SUM(P91:P112) -> #REF! | Q113: =P113-AJ113 -> #REF! | R113: =SUM(R91:R112) -> #REF! | S113: =R113-AK113 -> #REF! | T113: =SUM(T91:T112) -> #REF! | U113: =T113-AL113 -> #REF! | V113: =SUM(V91:V112) -> #REF! | W113: =V113-AM113 -> #REF! | X113: =SUM(X91:X112) -> #REF! | Y113: =X113-AN113 -> #REF! | AB113: =SUM(AC113:AN113) -> #REF! | AC113: =SUM(AC91:AC112) -> #REF! | AD113: =SUM(AD91:AD112) -> #REF! | AE113: =SUM(AE91:AE112) -> #REF! | AF113: =SUM(AF91:AF112) -> #REF! | AG113: =SUM(AG91:AG112) -> #REF! | AH113: =SUM(AH91:AH112) -> #REF! | AI113: =SUM(AI91:AI112) -> #REF! | AJ113: =SUM(AJ91:AJ112) -> #REF! | ... AN113: =SUM(AN91:AN112) -> #REF!
A114: =SUM(B113:I113) -> #REF!
A116: KUMULATĪVI
P117: Laika grafiks uz 25.04.2023.
B118: Projektu atlases pa ministrijām kumulatīvi, milj. EUR | Q118: Projektu atlases kumulatīvi uz 25.04.2023., milj. EUR | AI118: Sākotnēji plānotie grafiki 30.09.2022.
B119: SM | C119: EM | D119: VARAM | E119: IZM | F119: VM | G119: LM | H119: KM | I119: FM | J119: VK | K119: IeM | L119: TM | M119: KEM | Q119: SM | R119: EM | S119: VARAM | T119: IZM | U119: VM | V119: LM | W119: KM | X119: FM | Y119: VK | Z119: IeM | AA119: TM | AB119: KEM | AI119: MK noteikumu finansējums pa ministrijām kumulatīvi uz 30.09.2023., milj. EUR
A120: 2022 IV | B120: =SUMIFS(Pasākumi_kārtas!$K$98:$K$233,Pasākumi_kārtas!#REF!,'GRAFIKI II'!$A120,Pasākumi_kārtas!$R$98:$R$233,'GRAFIKI II'!B$119) -> #REF! | C120: =SUMIFS(Pasākumi_kārtas!$K$98:$K$233,Pasākumi_kārtas!#REF!,'GRAFIKI II'!$A120,Pasākumi_kārtas!$R$98:$R$233,'GRAFIKI II'!C$119) -> #REF! | D120: =SUMIFS(Pasākumi_kārtas!$K$98:$K$233,Pasākumi_kārtas!#REF!,'GRAFIKI II'!$A120,Pasākumi_kārtas!$R$98:$R$233,'GRAFIKI II'!D$119) -> #REF! | E120: =SUMIFS(Pasākumi_kārtas!$K$98:$K$233,Pasākumi_kārtas!#REF!,'GRAFIKI II'!$A120,Pasākumi_kārtas!$R$98:$R$233,'GRAFIKI II'!E$119) -> #REF! | F120: =SUMIFS(Pasākumi_kārtas!$K$98:$K$233,Pasākumi_kārtas!#REF!,'GRAFIKI II'!$A120,Pasākumi_kārtas!$R$98:$R$233,'GRAFIKI II'!F$119) -> #REF! | G120: =SUMIFS(Pasākumi_kārtas!$K$98:$K$233,Pasākumi_kārtas!#REF!,'GRAFIKI II'!$A120,Pasākumi_kārtas!$R$98:$R$233,'GRAFIKI II'!G$119) -> #REF! | H120: =SUMIFS(Pasākumi_kārtas!$K$98:$K$233,Pasākumi_kārtas!#REF!,'GRAFIKI II'!$A120,Pasākumi_kārtas!$R$98:$R$233,'GRAFIKI II'!H$119) -> #REF! | I120: =SUMIFS(Pasākumi_kārtas!$K$98:$K$233,Pasākumi_kārtas!#REF!,'GRAFIKI II'!$A120,Pasākumi_kārtas!$R$98:$R$233,'GRAFIKI II'!I$119) -> #REF! | ... M120: =SUMIFS(Pasākumi_kārtas!$K$98:$K$233,Pasākumi_kārtas!#REF!,'GRAFIKI II'!$A120,Pasākumi_kārtas!$R$98:$R$233,'GRAFIKI II'!M$119) -> #REF! | P120: 2022 IV | Q120: =(SUMIFS(Pasākumi_kārtas!$K$98:$K$233,Pasākumi_kārtas!#REF!,'GRAFIKI II'!$P120,Pasākumi_kārtas!$R$98:$R$233,'GRAFIKI II'!Q$119))/1000000 -> #REF! | R120: =(SUMIFS(Pasākumi_kārtas!$K$98:$K$233,Pasākumi_kārtas!#REF!,'GRAFIKI II'!$P120,Pasākumi_kārtas!$R$98:$R$233,'GRAFIKI II'!R$119))/1000000 -> #REF! | S120: =(SUMIFS(Pasākumi_kārtas!$K$98:$K$233,Pasākumi_kārtas!#REF!,'GRAFIKI II'!$P120,Pasākumi_kārtas!$R$98:$R$233,'GRAFIKI II'!S$119))/1000000 -> #REF! | T120: =(SUMIFS(Pasākumi_kārtas!$K$98:$K$233,Pasākumi_kārtas!#REF!,'GRAFIKI II'!$P120,Pasākumi_kārtas!$R$98:$R$233,'GRAFIKI II'!T$119))/1000000 -> #REF! | U120: =(SUMIFS(Pasākumi_kārtas!$K$98:$K$233,Pasākumi_kārtas!#REF!,'GRAFIKI II'!$P120,Pasākumi_kārtas!$R$98:$R$233,'GRAFIKI II'!U$119))/1000000 -> #REF! | V120: =(SUMIFS(Pasākumi_kārtas!$K$98:$K$233,Pasākumi_kārtas!#REF!,'GRAFIKI II'!$P120,Pasākumi_kārtas!$R$98:$R$233,'GRAFIKI II'!V$119))/1000000 -> #REF! | W120: =(SUMIFS(Pasākumi_kārtas!$K$98:$K$233,Pasākumi_kārtas!#REF!,'GRAFIKI II'!$P120,Pasākumi_kārtas!$R$98:$R$233,'GRAFIKI II'!W$119))/1000000 -> #REF! | X120: =(SUMIFS(Pasākumi_kārtas!$K$98:$K$233,Pasākumi_kārtas!#REF!,'GRAFIKI II'!$P120,Pasākumi_kārtas!$R$98:$R$233,'GRAFIKI II'!X$119))/1000000 -> #REF! | ... AB120: =(SUMIFS(Pasākumi_kārtas!$K$98:$K$233,Pasākumi_kārtas!#REF!,'GRAFIKI II'!$P120,Pasākumi_kārtas!$R$98:$R$233,'GRAFIKI II'!AB$119))/1000000 -> #REF! | AJ120: =AD61 -> EM | AK120: =AG61 -> VM | AL120: =AL61 -> IeM | AM120: =AN61 -> KEM | AN120: =AF61 -> IZM | AO120: =AE61 -> VARAM | AP120: =AM61 -> TM
A121: 2023 I | B121: =SUMIFS(Pasākumi_kārtas!$K$98:$K$233,Pasākumi_kārtas!#REF!,'GRAFIKI II'!$A121,Pasākumi_kārtas!$R$98:$R$233,'GRAFIKI II'!B$119)/1000000+B120 -> #REF! | C121: =SUMIFS(Pasākumi_kārtas!$K$98:$K$233,Pasākumi_kārtas!#REF!,'GRAFIKI II'!$A121,Pasākumi_kārtas!$R$98:$R$233,'GRAFIKI II'!C$119)/1000000+C120 -> #REF! | D121: =SUMIFS(Pasākumi_kārtas!$K$98:$K$233,Pasākumi_kārtas!#REF!,'GRAFIKI II'!$A121,Pasākumi_kārtas!$R$98:$R$233,'GRAFIKI II'!D$119)/1000000+D120 -> #REF! | E121: =SUMIFS(Pasākumi_kārtas!$K$98:$K$233,Pasākumi_kārtas!#REF!,'GRAFIKI II'!$A121,Pasākumi_kārtas!$R$98:$R$233,'GRAFIKI II'!E$119)/1000000+E120 -> #REF! | F121: =SUMIFS(Pasākumi_kārtas!$K$98:$K$233,Pasākumi_kārtas!#REF!,'GRAFIKI II'!$A121,Pasākumi_kārtas!$R$98:$R$233,'GRAFIKI II'!F$119)/1000000+F120 -> #REF! | G121: =SUMIFS(Pasākumi_kārtas!$K$98:$K$233,Pasākumi_kārtas!#REF!,'GRAFIKI II'!$A121,Pasākumi_kārtas!$R$98:$R$233,'GRAFIKI II'!G$119)/1000000+G120 -> #REF! | H121: =SUMIFS(Pasākumi_kārtas!$K$98:$K$233,Pasākumi_kārtas!#REF!,'GRAFIKI II'!$A121,Pasākumi_kārtas!$R$98:$R$233,'GRAFIKI II'!H$119)/1000000+H120 -> #REF! | I121: =SUMIFS(Pasākumi_kārtas!$K$98:$K$233,Pasākumi_kārtas!#REF!,'GRAFIKI II'!$A121,Pasākumi_kārtas!$R$98:$R$233,'GRAFIKI II'!I$119)/1000000+I120 -> #REF! | ... M121: =SUMIFS(Pasākumi_kārtas!$K$98:$K$233,Pasākumi_kārtas!#REF!,'GRAFIKI II'!$A121,Pasākumi_kārtas!$R$98:$R$233,'GRAFIKI II'!M$119)/1000000+M120 -> #REF! | P121: 2023 I | Q121: =((SUMIFS(Pasākumi_kārtas!$K$98:$K$233,Pasākumi_kārtas!#REF!,'GRAFIKI II'!$P121,Pasākumi_kārtas!$R$98:$R$233,'GRAFIKI II'!Q$119))/1000000)+Q120 -> #REF! | R121: =((SUMIFS(Pasākumi_kārtas!$K$98:$K$233,Pasākumi_kārtas!#REF!,'GRAFIKI II'!$P121,Pasākumi_kārtas!$R$98:$R$233,'GRAFIKI II'!R$119))/1000000)+R120 -> #REF! | S121: =((SUMIFS(Pasākumi_kārtas!$K$98:$K$233,Pasākumi_kārtas!#REF!,'GRAFIKI II'!$P121,Pasākumi_kārtas!$R$98:$R$233,'GRAFIKI II'!S$119))/1000000)+S120 -> #REF! | T121: =((SUMIFS(Pasākumi_kārtas!$K$98:$K$233,Pasākumi_kārtas!#REF!,'GRAFIKI II'!$P121,Pasākumi_kārtas!$R$98:$R$233,'GRAFIKI II'!T$119))/1000000)+T120 -> #REF! | U121: =((SUMIFS(Pasākumi_kārtas!$K$98:$K$233,Pasākumi_kārtas!#REF!,'GRAFIKI II'!$P121,Pasākumi_kārtas!$R$98:$R$233,'GRAFIKI II'!U$119))/1000000)+U120 -> #REF! | V121: =((SUMIFS(Pasākumi_kārtas!$K$98:$K$233,Pasākumi_kārtas!#REF!,'GRAFIKI II'!$P121,Pasākumi_kārtas!$R$98:$R$233,'GRAFIKI II'!V$119))/1000000)+V120 -> #REF! | W121: =((SUMIFS(Pasākumi_kārtas!$K$98:$K$233,Pasākumi_kārtas!#REF!,'GRAFIKI II'!$P121,Pasākumi_kārtas!$R$98:$R$233,'GRAFIKI II'!W$119))/1000000)+W120 -> #REF! | X121: =((SUMIFS(Pasākumi_kārtas!$K$98:$K$233,Pasākumi_kārtas!#REF!,'GRAFIKI II'!$P121,Pasākumi_kārtas!$R$98:$R$233,'GRAFIKI II'!X$119))/1000000)+X120 -> #REF! | ... AB121: =((SUMIFS(Pasākumi_kārtas!$K$98:$K$233,Pasākumi_kārtas!#REF!,'GRAFIKI II'!$P121,Pasākumi_kārtas!$R$98:$R$233,'GRAFIKI II'!AB$119))/1000000)+AB120 -> #REF! | AI121: =AB62 -> 2022 IV | AJ121: =AD62 -> #REF! | AK121: =AG62 -> #REF! | AL121: =AL62 -> #REF! | AM121: =AN62 -> #REF! | AN121: =AF62 -> #REF! | AO121: =AE62 -> #REF! | AP121: =AM62 -> #REF!
A122: 2023 II | B122: =SUMIFS(Pasākumi_kārtas!$K$98:$K$233,Pasākumi_kārtas!#REF!,'GRAFIKI II'!$A122,Pasākumi_kārtas!$R$98:$R$233,'GRAFIKI II'!B$119)/1000000+B121 -> #REF! | C122: =SUMIFS(Pasākumi_kārtas!$K$98:$K$233,Pasākumi_kārtas!#REF!,'GRAFIKI II'!$A122,Pasākumi_kārtas!$R$98:$R$233,'GRAFIKI II'!C$119)/1000000+C121 -> #REF! | D122: =SUMIFS(Pasākumi_kārtas!$K$98:$K$233,Pasākumi_kārtas!#REF!,'GRAFIKI II'!$A122,Pasākumi_kārtas!$R$98:$R$233,'GRAFIKI II'!D$119)/1000000+D121 -> #REF! | E122: =SUMIFS(Pasākumi_kārtas!$K$98:$K$233,Pasākumi_kārtas!#REF!,'GRAFIKI II'!$A122,Pasākumi_kārtas!$R$98:$R$233,'GRAFIKI II'!E$119)/1000000+E121 -> #REF! | F122: =SUMIFS(Pasākumi_kārtas!$K$98:$K$233,Pasākumi_kārtas!#REF!,'GRAFIKI II'!$A122,Pasākumi_kārtas!$R$98:$R$233,'GRAFIKI II'!F$119)/1000000+F121 -> #REF! | G122: =SUMIFS(Pasākumi_kārtas!$K$98:$K$233,Pasākumi_kārtas!#REF!,'GRAFIKI II'!$A122,Pasākumi_kārtas!$R$98:$R$233,'GRAFIKI II'!G$119)/1000000+G121 -> #REF! | H122: =SUMIFS(Pasākumi_kārtas!$K$98:$K$233,Pasākumi_kārtas!#REF!,'GRAFIKI II'!$A122,Pasākumi_kārtas!$R$98:$R$233,'GRAFIKI II'!H$119)/1000000+H121 -> #REF! | I122: =SUMIFS(Pasākumi_kārtas!$K$98:$K$233,Pasākumi_kārtas!#REF!,'GRAFIKI II'!$A122,Pasākumi_kārtas!$R$98:$R$233,'GRAFIKI II'!I$119)/1000000+I121 -> #REF! | ... M122: =SUMIFS(Pasākumi_kārtas!$K$98:$K$233,Pasākumi_kārtas!#REF!,'GRAFIKI II'!$A122,Pasākumi_kārtas!$R$98:$R$233,'GRAFIKI II'!M$119)/1000000+M121 -> #REF! | P122: 2023 II | Q122: =((SUMIFS(Pasākumi_kārtas!$K$98:$K$233,Pasākumi_kārtas!#REF!,'GRAFIKI II'!$P122,Pasākumi_kārtas!$R$98:$R$233,'GRAFIKI II'!Q$119))/1000000)+Q121 -> #REF! | R122: =((SUMIFS(Pasākumi_kārtas!$K$98:$K$233,Pasākumi_kārtas!#REF!,'GRAFIKI II'!$P122,Pasākumi_kārtas!$R$98:$R$233,'GRAFIKI II'!R$119))/1000000)+R121 -> #REF! | S122: =((SUMIFS(Pasākumi_kārtas!$K$98:$K$233,Pasākumi_kārtas!#REF!,'GRAFIKI II'!$P122,Pasākumi_kārtas!$R$98:$R$233,'GRAFIKI II'!S$119))/1000000)+S121 -> #REF! | T122: =((SUMIFS(Pasākumi_kārtas!$K$98:$K$233,Pasākumi_kārtas!#REF!,'GRAFIKI II'!$P122,Pasākumi_kārtas!$R$98:$R$233,'GRAFIKI II'!T$119))/1000000)+T121 -> #REF! | U122: =((SUMIFS(Pasākumi_kārtas!$K$98:$K$233,Pasākumi_kārtas!#REF!,'GRAFIKI II'!$P122,Pasākumi_kārtas!$R$98:$R$233,'GRAFIKI II'!U$119))/1000000)+U121 -> #REF! | V122: =((SUMIFS(Pasākumi_kārtas!$K$98:$K$233,Pasākumi_kārtas!#REF!,'GRAFIKI II'!$P122,Pasākumi_kārtas!$R$98:$R$233,'GRAFIKI II'!V$119))/1000000)+V121 -> #REF! | W122: =((SUMIFS(Pasākumi_kārtas!$K$98:$K$233,Pasākumi_kārtas!#REF!,'GRAFIKI II'!$P122,Pasākumi_kārtas!$R$98:$R$233,'GRAFIKI II'!W$119))/1000000)+W121 -> #REF! | X122: =((SUMIFS(Pasākumi_kārtas!$K$98:$K$233,Pasākumi_kārtas!#REF!,'GRAFIKI II'!$P122,Pasākumi_kārtas!$R$98:$R$233,'GRAFIKI II'!X$119))/1000000)+X121 -> #REF! | ... AB122: =((SUMIFS(Pasākumi_kārtas!$K$98:$K$233,Pasākumi_kārtas!#REF!,'GRAFIKI II'!$P122,Pasākumi_kārtas!$R$98:$R$233,'GRAFIKI II'!AB$119))/1000000)+AB121 -> #REF!
A123: 2023 III | B123: =SUMIFS(Pasākumi_kārtas!$K$98:$K$233,Pasākumi_kārtas!#REF!,'GRAFIKI II'!$A123,Pasākumi_kārtas!$R$98:$R$233,'GRAFIKI II'!B$119)/1000000+B122 -> #REF! | C123: =SUMIFS(Pasākumi_kārtas!$K$98:$K$233,Pasākumi_kārtas!#REF!,'GRAFIKI II'!$A123,Pasākumi_kārtas!$R$98:$R$233,'GRAFIKI II'!C$119)/1000000+C122 -> #REF! | D123: =SUMIFS(Pasākumi_kārtas!$K$98:$K$233,Pasākumi_kārtas!#REF!,'GRAFIKI II'!$A123,Pasākumi_kārtas!$R$98:$R$233,'GRAFIKI II'!D$119)/1000000+D122 -> #REF! | E123: =SUMIFS(Pasākumi_kārtas!$K$98:$K$233,Pasākumi_kārtas!#REF!,'GRAFIKI II'!$A123,Pasākumi_kārtas!$R$98:$R$233,'GRAFIKI II'!E$119)/1000000+E122 -> #REF! | F123: =SUMIFS(Pasākumi_kārtas!$K$98:$K$233,Pasākumi_kārtas!#REF!,'GRAFIKI II'!$A123,Pasākumi_kārtas!$R$98:$R$233,'GRAFIKI II'!F$119)/1000000+F122 -> #REF! | G123: =SUMIFS(Pasākumi_kārtas!$K$98:$K$233,Pasākumi_kārtas!#REF!,'GRAFIKI II'!$A123,Pasākumi_kārtas!$R$98:$R$233,'GRAFIKI II'!G$119)/1000000+G122 -> #REF! | H123: =SUMIFS(Pasākumi_kārtas!$K$98:$K$233,Pasākumi_kārtas!#REF!,'GRAFIKI II'!$A123,Pasākumi_kārtas!$R$98:$R$233,'GRAFIKI II'!H$119)/1000000+H122 -> #REF! | I123: =SUMIFS(Pasākumi_kārtas!$K$98:$K$233,Pasākumi_kārtas!#REF!,'GRAFIKI II'!$A123,Pasākumi_kārtas!$R$98:$R$233,'GRAFIKI II'!I$119)/1000000+I122 -> #REF! | ... M123: =SUMIFS(Pasākumi_kārtas!$K$98:$K$233,Pasākumi_kārtas!#REF!,'GRAFIKI II'!$A123,Pasākumi_kārtas!$R$98:$R$233,'GRAFIKI II'!M$119)/1000000+M122 -> #REF! | P123: 2023 III | Q123: =((SUMIFS(Pasākumi_kārtas!$K$98:$K$233,Pasākumi_kārtas!#REF!,'GRAFIKI II'!$P123,Pasākumi_kārtas!$R$98:$R$233,'GRAFIKI II'!Q$119))/1000000)+Q122 -> #REF! | R123: =((SUMIFS(Pasākumi_kārtas!$K$98:$K$233,Pasākumi_kārtas!#REF!,'GRAFIKI II'!$P123,Pasākumi_kārtas!$R$98:$R$233,'GRAFIKI II'!R$119))/1000000)+R122 -> #REF! | S123: =((SUMIFS(Pasākumi_kārtas!$K$98:$K$233,Pasākumi_kārtas!#REF!,'GRAFIKI II'!$P123,Pasākumi_kārtas!$R$98:$R$233,'GRAFIKI II'!S$119))/1000000)+S122 -> #REF! | T123: =((SUMIFS(Pasākumi_kārtas!$K$98:$K$233,Pasākumi_kārtas!#REF!,'GRAFIKI II'!$P123,Pasākumi_kārtas!$R$98:$R$233,'GRAFIKI II'!T$119))/1000000)+T122 -> #REF! | U123: =((SUMIFS(Pasākumi_kārtas!$K$98:$K$233,Pasākumi_kārtas!#REF!,'GRAFIKI II'!$P123,Pasākumi_kārtas!$R$98:$R$233,'GRAFIKI II'!U$119))/1000000)+U122 -> #REF! | V123: =((SUMIFS(Pasākumi_kārtas!$K$98:$K$233,Pasākumi_kārtas!#REF!,'GRAFIKI II'!$P123,Pasākumi_kārtas!$R$98:$R$233,'GRAFIKI II'!V$119))/1000000)+V122 -> #REF! | W123: =((SUMIFS(Pasākumi_kārtas!$K$98:$K$233,Pasākumi_kārtas!#REF!,'GRAFIKI II'!$P123,Pasākumi_kārtas!$R$98:$R$233,'GRAFIKI II'!W$119))/1000000)+W122 -> #REF! | X123: =((SUMIFS(Pasākumi_kārtas!$K$98:$K$233,Pasākumi_kārtas!#REF!,'GRAFIKI II'!$P123,Pasākumi_kārtas!$R$98:$R$233,'GRAFIKI II'!X$119))/1000000)+X122 -> #REF! | ... AB123: =((SUMIFS(Pasākumi_kārtas!$K$98:$K$233,Pasākumi_kārtas!#REF!,'GRAFIKI II'!$P123,Pasākumi_kārtas!$R$98:$R$233,'GRAFIKI II'!AB$119))/1000000)+AB122 -> #REF! | AJ123: MK noteikumu skaits
A124: 2023 IV | B124: =SUMIFS(Pasākumi_kārtas!$K$98:$K$233,Pasākumi_kārtas!#REF!,'GRAFIKI II'!$A124,Pasākumi_kārtas!$R$98:$R$233,'GRAFIKI II'!B$119)/1000000+B123 -> #REF! | C124: =SUMIFS(Pasākumi_kārtas!$K$98:$K$233,Pasākumi_kārtas!#REF!,'GRAFIKI II'!$A124,Pasākumi_kārtas!$R$98:$R$233,'GRAFIKI II'!C$119)/1000000+C123 -> #REF! | D124: =SUMIFS(Pasākumi_kārtas!$K$98:$K$233,Pasākumi_kārtas!#REF!,'GRAFIKI II'!$A124,Pasākumi_kārtas!$R$98:$R$233,'GRAFIKI II'!D$119)/1000000+D123 -> #REF! | E124: =SUMIFS(Pasākumi_kārtas!$K$98:$K$233,Pasākumi_kārtas!#REF!,'GRAFIKI II'!$A124,Pasākumi_kārtas!$R$98:$R$233,'GRAFIKI II'!E$119)/1000000+E123 -> #REF! | F124: =SUMIFS(Pasākumi_kārtas!$K$98:$K$233,Pasākumi_kārtas!#REF!,'GRAFIKI II'!$A124,Pasākumi_kārtas!$R$98:$R$233,'GRAFIKI II'!F$119)/1000000+F123 -> #REF! | G124: =SUMIFS(Pasākumi_kārtas!$K$98:$K$233,Pasākumi_kārtas!#REF!,'GRAFIKI II'!$A124,Pasākumi_kārtas!$R$98:$R$233,'GRAFIKI II'!G$119)/1000000+G123 -> #REF! | H124: =SUMIFS(Pasākumi_kārtas!$K$98:$K$233,Pasākumi_kārtas!#REF!,'GRAFIKI II'!$A124,Pasākumi_kārtas!$R$98:$R$233,'GRAFIKI II'!H$119)/1000000+H123 -> #REF! | I124: =SUMIFS(Pasākumi_kārtas!$K$98:$K$233,Pasākumi_kārtas!#REF!,'GRAFIKI II'!$A124,Pasākumi_kārtas!$R$98:$R$233,'GRAFIKI II'!I$119)/1000000+I123 -> #REF! | ... M124: =SUMIFS(Pasākumi_kārtas!$K$98:$K$233,Pasākumi_kārtas!#REF!,'GRAFIKI II'!$A124,Pasākumi_kārtas!$R$98:$R$233,'GRAFIKI II'!M$119)/1000000+M123 -> #REF! | P124: 2023 IV | Q124: =((SUMIFS(Pasākumi_kārtas!$K$98:$K$233,Pasākumi_kārtas!#REF!,'GRAFIKI II'!$P124,Pasākumi_kārtas!$R$98:$R$233,'GRAFIKI II'!Q$119))/1000000)+Q123 -> #REF! | R124: =((SUMIFS(Pasākumi_kārtas!$K$98:$K$233,Pasākumi_kārtas!#REF!,'GRAFIKI II'!$P124,Pasākumi_kārtas!$R$98:$R$233,'GRAFIKI II'!R$119))/1000000)+R123 -> #REF! | S124: =((SUMIFS(Pasākumi_kārtas!$K$98:$K$233,Pasākumi_kārtas!#REF!,'GRAFIKI II'!$P124,Pasākumi_kārtas!$R$98:$R$233,'GRAFIKI II'!S$119))/1000000)+S123 -> #REF! | T124: =((SUMIFS(Pasākumi_kārtas!$K$98:$K$233,Pasākumi_kārtas!#REF!,'GRAFIKI II'!$P124,Pasākumi_kārtas!$R$98:$R$233,'GRAFIKI II'!T$119))/1000000)+T123 -> #REF! | U124: =((SUMIFS(Pasākumi_kārtas!$K$98:$K$233,Pasākumi_kārtas!#REF!,'GRAFIKI II'!$P124,Pasākumi_kārtas!$R$98:$R$233,'GRAFIKI II'!U$119))/1000000)+U123 -> #REF! | V124: =((SUMIFS(Pasākumi_kārtas!$K$98:$K$233,Pasākumi_kārtas!#REF!,'GRAFIKI II'!$P124,Pasākumi_kārtas!$R$98:$R$233,'GRAFIKI II'!V$119))/1000000)+V123 -> #REF! | W124: =((SUMIFS(Pasākumi_kārtas!$K$98:$K$233,Pasākumi_kārtas!#REF!,'GRAFIKI II'!$P124,Pasākumi_kārtas!$R$98:$R$233,'GRAFIKI II'!W$119))/1000000)+W123 -> #REF! | X124: =((SUMIFS(Pasākumi_kārtas!$K$98:$K$233,Pasākumi_kārtas!#REF!,'GRAFIKI II'!$P124,Pasākumi_kārtas!$R$98:$R$233,'GRAFIKI II'!X$119))/1000000)+X123 -> #REF! | ... AB124: =((SUMIFS(Pasākumi_kārtas!$K$98:$K$233,Pasākumi_kārtas!#REF!,'GRAFIKI II'!$P124,Pasākumi_kārtas!$R$98:$R$233,'GRAFIKI II'!AB$119))/1000000)+AB123 -> #REF! | AJ124: EM | AK124: VM | AL124: IeM | AM124: KEM | AN124: IZM | AO124: VARAM | AP124: TM
A125: 2024 I | B125: =SUMIFS(Pasākumi_kārtas!$K$98:$K$233,Pasākumi_kārtas!#REF!,'GRAFIKI II'!$A125,Pasākumi_kārtas!$R$98:$R$233,'GRAFIKI II'!B$119)/1000000+B124 -> #REF! | C125: =SUMIFS(Pasākumi_kārtas!$K$98:$K$233,Pasākumi_kārtas!#REF!,'GRAFIKI II'!$A125,Pasākumi_kārtas!$R$98:$R$233,'GRAFIKI II'!C$119)/1000000+C124 -> #REF! | D125: =SUMIFS(Pasākumi_kārtas!$K$98:$K$233,Pasākumi_kārtas!#REF!,'GRAFIKI II'!$A125,Pasākumi_kārtas!$R$98:$R$233,'GRAFIKI II'!D$119)/1000000+D124 -> #REF! | E125: =SUMIFS(Pasākumi_kārtas!$K$98:$K$233,Pasākumi_kārtas!#REF!,'GRAFIKI II'!$A125,Pasākumi_kārtas!$R$98:$R$233,'GRAFIKI II'!E$119)/1000000+E124 -> #REF! | F125: =SUMIFS(Pasākumi_kārtas!$K$98:$K$233,Pasākumi_kārtas!#REF!,'GRAFIKI II'!$A125,Pasākumi_kārtas!$R$98:$R$233,'GRAFIKI II'!F$119)/1000000+F124 -> #REF! | G125: =SUMIFS(Pasākumi_kārtas!$K$98:$K$233,Pasākumi_kārtas!#REF!,'GRAFIKI II'!$A125,Pasākumi_kārtas!$R$98:$R$233,'GRAFIKI II'!G$119)/1000000+G124 -> #REF! | H125: =SUMIFS(Pasākumi_kārtas!$K$98:$K$233,Pasākumi_kārtas!#REF!,'GRAFIKI II'!$A125,Pasākumi_kārtas!$R$98:$R$233,'GRAFIKI II'!H$119)/1000000+H124 -> #REF! | I125: =SUMIFS(Pasākumi_kārtas!$K$98:$K$233,Pasākumi_kārtas!#REF!,'GRAFIKI II'!$A125,Pasākumi_kārtas!$R$98:$R$233,'GRAFIKI II'!I$119)/1000000+I124 -> #REF! | ... M125: =SUMIFS(Pasākumi_kārtas!$K$98:$K$233,Pasākumi_kārtas!#REF!,'GRAFIKI II'!$A125,Pasākumi_kārtas!$R$98:$R$233,'GRAFIKI II'!M$119)/1000000+M124 -> #REF! | P125: 2024 I | Q125: =((SUMIFS(Pasākumi_kārtas!$K$98:$K$233,Pasākumi_kārtas!#REF!,'GRAFIKI II'!$P125,Pasākumi_kārtas!$R$98:$R$233,'GRAFIKI II'!Q$119))/1000000)+Q124 -> #REF! | R125: =((SUMIFS(Pasākumi_kārtas!$K$98:$K$233,Pasākumi_kārtas!#REF!,'GRAFIKI II'!$P125,Pasākumi_kārtas!$R$98:$R$233,'GRAFIKI II'!R$119))/1000000)+R124 -> #REF! | S125: =((SUMIFS(Pasākumi_kārtas!$K$98:$K$233,Pasākumi_kārtas!#REF!,'GRAFIKI II'!$P125,Pasākumi_kārtas!$R$98:$R$233,'GRAFIKI II'!S$119))/1000000)+S124 -> #REF! | T125: =((SUMIFS(Pasākumi_kārtas!$K$98:$K$233,Pasākumi_kārtas!#REF!,'GRAFIKI II'!$P125,Pasākumi_kārtas!$R$98:$R$233,'GRAFIKI II'!T$119))/1000000)+T124 -> #REF! | U125: =((SUMIFS(Pasākumi_kārtas!$K$98:$K$233,Pasākumi_kārtas!#REF!,'GRAFIKI II'!$P125,Pasākumi_kārtas!$R$98:$R$233,'GRAFIKI II'!U$119))/1000000)+U124 -> #REF! | V125: =((SUMIFS(Pasākumi_kārtas!$K$98:$K$233,Pasākumi_kārtas!#REF!,'GRAFIKI II'!$P125,Pasākumi_kārtas!$R$98:$R$233,'GRAFIKI II'!V$119))/1000000)+V124 -> #REF! | W125: =((SUMIFS(Pasākumi_kārtas!$K$98:$K$233,Pasākumi_kārtas!#REF!,'GRAFIKI II'!$P125,Pasākumi_kārtas!$R$98:$R$233,'GRAFIKI II'!W$119))/1000000)+W124 -> #REF! | X125: =((SUMIFS(Pasākumi_kārtas!$K$98:$K$233,Pasākumi_kārtas!#REF!,'GRAFIKI II'!$P125,Pasākumi_kārtas!$R$98:$R$233,'GRAFIKI II'!X$119))/1000000)+X124 -> #REF! | ... AB125: =((SUMIFS(Pasākumi_kārtas!$K$98:$K$233,Pasākumi_kārtas!#REF!,'GRAFIKI II'!$P125,Pasākumi_kārtas!$R$98:$R$233,'GRAFIKI II'!AB$119))/1000000)+AB124 -> #REF! | AJ125: 8 | AK125: 3 | AL125: 1 | AM125: 1 | AN125: 2 | AO125: 1 | AP125: 1
