Workbook
Name _ftn1: Pasākumi_kārtas!#REF!
Name _ftn2: Pasākumi_kārtas!#REF!
Name _ftnref1: Pasākumi_kārtas!#REF!
Name _ftnref2: Pasākumi_kārtas!#REF!

Sheet Pasākumi_kārtas
A1: 1. pielikums Informatīvajam ziņojumam "Informatīvais ziņojums par Eiropas Savienības fondu un Atveseļošanas fonda plāna ieviešanu 2024. gada novembrī - decembrī"
A6: ES fondu 2021.–2027. gada plānošanas perioda MK noteikumu par specifisko atbalsta mērķu ieviešanu izstrādes laika grafika progress***
A8: Sagatavots 28.12.2024 | J8: PLĀNOTAIS FINANSĒJUMS | M8: PIEEJAMAIS FINANSĒJUMS (pieejams atlasēm)
A9: PM Nr. | B9: Prior. Nr. | C9: Prioritātes nosaukums | D9: SAM Nr. | E9: SAM nosaukums | F9: Pasākuma Nr. | G9: Pasākuma nosaukums | H9: Kārtas Nr. | I9: Fonds | J9: ES FONDU finansējums (ieskaitot elastības finansējumu)* | K9: KOPĀ (ar nac. līdzfinansējumu +15%**) | L9: NACIONĀLAIS līdzfinansējums | M9: Elastības finansējuma % atkarībā no fonda | N9: ES FONDU Elastības finansējums | O9: Elastības finansējuma NACIONĀLĀ līdzfinansējuma daļa | P9: ES fondu finansējums bez elastības finansējuma | Q9: Nacionālais līdzfinansējums bez elastības finansējuma | R9: Atbildīgā iestāde | S9: Izskatīšanas AK datums/ plānotais gads un ceturksnis *** | T9: Izskatīšanas UK datums/ pānotais gads un ceturksnis *** | U9: TAP saskaņošanas uzsākšanas datums/ plānotais gads un ceturksnis | V9: STATUSS | W9: MK apstiprināšanas datums/ plānotais gads un ceturksnis | X9: Atlases uzsākšanas datums/ plānotais gads un ceturksnis/ atlase beigusies
A10: 1 | B10: 2 | D10: 3 | F10: 4 | G10: 5 | H10: 6 | I10: 7 | N10: 8 | O10: 9 | P10: 10 | Q10: 11 | R10: 12 | S10: 13 | T10: 14 | U10: 15 | W10: 18 | X10: 17
F11: 0 | G11: Neizpildītais 2024.gada plāns - regulējums, kura skaņošana nav uzzsākta | I11: Kpopā: | N11: =SUBTOTAL(9, N12:N22) -> 125524749 | O11: =SUBTOTAL(9, O12:O22) -> 22151424 | P11: =SUBTOTAL(9, P12:P22) -> 453766694 | Q11: =SUBTOTAL(9, Q12:Q22) -> 80076481
A12: 2 | B12: 2.3. | C12: Ilgtspējīga mobilitāte | D12: 2.3.1. | E12: “Veicināt ilgtspējīgu daudzveidu mobilitāti pilsētās” | F12: 2.3.1.1. | G12: Satiksmes plūsmas viedās tehnoloģijas | H12: _ | I12: ERAF | J12: 3697500 | K12: 4350000 | L12: 652500 | M12: 0.15772532 | N12: 583189 | O12: 102915 | P12: 3114311 | Q12: 549585 | R12: SM | S12: 2024 III | T12: 2024 III | U12: 2024 III | V12: NAV UZSĀKTS | W12: 2024 IV | X12: 2024 IV
A13: 2 | B13: 2.3. | C13: Ilgtspējīga mobilitāte | D13: 2.3.1. | E13: “Veicināt ilgtspējīgu daudzveidu mobilitāti pilsētās” | F13: 2.3.1.5. | G13: Risinājuma modelējums ES Zaļā kursa jomā | H13: _ | I13: ERAF | J13: 3000000 | K13: 3529412 | L13: 529412 | M13: 0.15772532 | N13: 473176 | O13: 83501 | P13: 2526824 | Q13: 445911 | R13: SM | S13: 45624 | T13: 2024 II | U13: 2024 II | V13: NAV UZSĀKTS | W13: 2024 IV | X13: 2024 IV
A14: 2 | B14: 2.4. | C14: AER izmantošanas transportā veicināšana | D14: 2.4.1. | E14: “Veicināt ilgtspējīgu multimodālu mobilitāti, veicinot elektrotransportlīdzekļu izmantošanu” | F14: 2.4.1.3. ***** | G14: Bezemisiju (bateriju) vilcieni | H14: _ | I14: KF | J14: 18094768 | K14: 21287963 | L14: 3193195 | M14: 0.15804956 | N14: 2859870 | O14: 504683 | P14: 15234898 | Q14: 2688512 | R14: SM | S14: 45106 | T14: 45180 | U14: 2024 II | V14: NAV UZSĀKTS | W14: 2024 III | X14: 2024 III
A15: 3 | B15: 3.1. | C15: Ilgtspējīga TEN-T infrastruktūra | D15: 3.1.1. | E15: “Attīstīt ilgtspējīgu, pret klimatu izturīgu, inteliģentu, drošu un vairākveidu TEN-T infrastruktūru” | F15: 3.1.1.1. ***** | G15: Dzelzceļa transporta attīstība un energoefektivitātes uzlabošana sabiedriskajos pasažieru pārvadājumos | H15: _ | I15: KF | J15: 321397693 | K15: 378114933 | L15: 56717240 | M15: 0.15804956 | N15: 71721855 | O15: 12656798 | P15: 249675838 | Q15: 44060442 | R15: SM | S15: 2024 IV | T15: 2024 IV | U15: 2024 IV | V15: NAV UZSĀKTS | W15: 2024 II | X15: 2024 III
A16: 3 | B16: 3.1. | C16: Ilgtspējīga TEN-T infrastruktūra | D16: 3.1.1. | E16: “Attīstīt ilgtspējīgu, pret klimatu izturīgu, inteliģentu, drošu un vairākveidu TEN-T infrastruktūru” | F16: 3.1.1.3.***** | G16: Eiropas transporta tīklā esošās dzelzceļa infrastruktūras attīstība | H16: 2 | I16: KF | J16: 80000000 | K16: 94117648 | L16: 14117648 | M16: 0.15804956 | N16: 0 | O16: 0 | P16: 80000000 | Q16: 14117648 | R16: SM | S16: 2024 IV | T16: 2024 IV | U16: 2024 IV | V16: NAV UZSĀKTS | W16: 2024 II | X16: 2024 III
A17: 3 | B17: 3.1. | C17: Ilgtspējīga TEN-T infrastruktūra | D17: 3.1.1. | E17: “Attīstīt ilgtspējīgu, pret klimatu izturīgu, inteliģentu, drošu un vairākveidu TEN-T infrastruktūru” | F17: 3.1.1.7. | G17: Iekšzemes intermodālo termināļu ("sauso ostu") attīstības projekti | H17: _ | I17: KF | J17: 25000000 | K17: 29411765 | L17: 4411765 | M17: 0.15804956 | N17: 3951239 | O17: 697277 | P17: 21048761 | Q17: 3714488 | R17: SM | S17: 2024 II | T17: 2024 III | U17: 2024 III | V17: NAV UZSĀKTS | W17: 2024 III | X17: 2024 IV
A18: 4 | B18: 4.1. | C18: Veselības veicināšana un aprūpe | D18: 4.1.1. | E18: “Nodrošināt vienlīdzīgu piekļuvi veselības aprūpei un stiprināt veselības sistēmu, tostarp primārās veselības aprūpes noturību, un sekmēt pāreju no aprūpes iestādē uz ģimenē un kopienā balstītu aprūpi” | F18: 4.1.1.2. ******* | G18: P.Stradiņa klīniskās universitātes slimnīcas infrastruktūras attīstība | H18: _ | I18: ERAF | J18: 70799482 | K18: 83293509 | L18: 12494027 | M18: 0.15772532 | N18: 39679949 | O18: 7002344 | P18: 31119533 | Q18: 5491683 | R18: VM | S18: 44833 | T18: 44952 | U18: 2024 II | V18: NAV UZSĀKTS | W18: 2024 III | X18: 2024 IV
A19: 4 | B19: 4.2. | C19: Izglītība, prasmes un mūžizglītība | D19: 4.2.2. | E19: “Uzlabot izglītības un mācību sistēmu kvalitāti, iekļautību, efektivitāti un nozīmīgumu darba tirgū, tostarp ar neformālās un ikdienējās mācīšanās validēšanas palīdzību, lai atbalstītu pamatkompetenču, tostarp uzņēmējdarbības un digitālo prasmju, apguvi, un sekmējot duālo mācību sistēmu un māceklības ieviešanu” | F19: 4.2.2.9. | G19: Izglītības procesa individualizācija un starpnozaru sadarbība profesionālās izglītības izcilībai | H19: 3 | I19: ESF | J19: 4675000 | K19: 5500000 | L19: 825000 | M19: 0.15777511 | N19: 2648594 | O19: 467398 | P19: 2026406 | Q19: 357602 | R19: IZM | S19: 2024 III | T19: 2024 III | U19: 2024 IV | V19: NAV UZSĀKTS | W19: 2024 IV | X19: 2025 I
A20: 4 | B20: 4.2. | C20: Izglītība, prasmes un mūžizglītība | D20: 4.2.3. | E20: “Sekmēt to, lai – jo īpaši nelabvēlīgā situācijā esošām grupām – būtu vienlīdzīga piekļuve kvalitatīvai un iekļaujošai izglītībai un mācībām un iespēja to iegūt, sākot ar pirmsskolas izglītību un aprūpi un vispārējās izglītības un profesionālās izglītības un mācību gaitā līdz pat augstākajai izglītībai un pieaugušo izglītībai un mācībām, tostarp veicināt mācību mobilitāti visiem un atvieglot piekļūstamības iespējas personām ar invaliditāti” | F20: 4.2.3.2. | G20: Interešu izglītības, brīvā laika un bērnu pieskatīšanas pakalpojumu pieejamības paplašināšana sociālās atstumtības riskam pakļautiem izglītojamajiem un bērniem ar speciālām vajadzībām | H20: 2 | I20: ESF | J20: 4250000 | K20: 5000000 | L20: 750000 | M20: 0.15777511 | N20: 0 | O20: 0 | P20: 4250000 | Q20: 750000 | R20: IZM | S20: IPIA izņēmums (UK lēm. 23.04.2024) | T20: IPIA izņēmums (UK lēm. 23.04.2024) | U20: 2024 II | V20: NAV UZSĀKTS | W20: 2024 III | X20: 2024 III
A21: 4 | B21: 4.2. | C21: Izglītība, prasmes un mūžizglītība | D21: 4.2.3. | E21: “Sekmēt to, lai – jo īpaši nelabvēlīgā situācijā esošām grupām – būtu vienlīdzīga piekļuve kvalitatīvai un iekļaujošai izglītībai un mācībām un iespēja to iegūt, sākot ar pirmsskolas izglītību un aprūpi un vispārējās izglītības un profesionālās izglītības un mācību gaitā līdz pat augstākajai izglītībai un pieaugušo izglītībai un mācībām, tostarp veicināt mācību mobilitāti visiem un atvieglot piekļūstamības iespējas personām ar invaliditāti” | F21: 4.2.3.2. ******* | G21: Interešu izglītības, brīvā laika un bērnu pieskatīšanas pakalpojumu pieejamības paplašināšana sociālās atstumtības riskam pakļautiem izglītojamajiem un bērniem ar speciālām vajadzībām | H21: 1 | I21: ESF | J21: 1377000 | K21: 1620000 | L21: 243000 | M21: 0.15777511 | N21: 0 | O21: 0 | P21: 1377000 | Q21: 243000 | R21: IZM | S21: IPIA izņēmums (UK lēm. 23.04.2024) | T21: IPIA izņēmums (UK lēm. 23.04.2024) | U21: 2024 II | V21: NAV UZSĀKTS | W21: 2024 III | X21: 2024 III
A22: 6 | B22: 6.1. | C22: Pāreja uz klimatneitralitāti | D22: 6.1.1. | E22: "Pārejas uz klimatneitralitāti radīto ekonomisko, sociālo un vides seku mazināšana visvairāk skartajos reģionos" | F22: 6.1.1.1. | G22: Atteikšanās no kūdras izmantošanas enerģētikā | H22: 2 | I22: TPF | J22: 47000000 | K22: 55294118 | L22: 8294118 | M22: 0.065679823 | N22: 3606877 | O22: 636508 | P22: 43393123 | Q22: 7657610 | R22: VARAM | S22: 2024 III | T22: 2024 IV | U22: 2024 III | V22: NAV UZSĀKTS | W22: 2024 IV | X22: 2025 I
F23: 0 | G23: Neizpildītais 2024.gada plāns -regulējums, kas ir saskaņošanas procesā - potenciāls apstiprināt tuvākajā laikā | I23: kopā: | N23: =SUBTOTAL(9,N24:N44) -> 18138992 | O23: =SUBTOTAL(9,O24:O44) -> 3200998 | P23: =SUBTOTAL(9,P24:P44) -> 292755232 | Q23: =SUBTOTAL(9,Q24:Q44) -> 51662697
A24: 1 | B24: 1.1. | C24: Pētniecība un prasmes | D24: 1.1.1. | E24: “Pētniecības un inovāciju kapacitātes stiprināšana un progresīvu tehnoloģiju ieviešana kopējā P&A sistēmā” | F24: 1.1.1.2. | G24: RIS3 pētniecības un inovācijas centri | H24: _ | I24: ERAF | J24: 36098377 | K24: 42468679 | L24: 6370302 | M24: 0.15772532 | N24: 5693628 | O24: 1004757 | P24: 30404749 | Q24: 5365545 | R24: IZM | S24: 2024 II | T24: 2024 III | U24: 45506 | V24: IZSTRĀDĒ | W24: 2024 III | X24: 2024 III
A25: 1 | B25: 1.1. | C25: Pētniecība un prasmes | D25: 1.1.1. | E25: “Pētniecības un inovāciju kapacitātes stiprināšana un progresīvu tehnoloģiju ieviešana kopējā P&A sistēmā” | F25: 1.1.1.6. | G25: Zinātniskās darbības digitalizācija un dalība Eiropas Atvērtajā zinātnes mākonī (EOSC market place pakalpojumu iegāde) | H25: _ | I25: ERAF | J25: 18487501 | K25: 21750002 | L25: 3262501 | M25: 0.15772532 | N25: 4256611 | O25: 751167 | P25: 14230890 | Q25: 2511334 | R25: IZM | S25: 2024 II | T25: 2024 III | U25: 45653 | V25: IZSTRĀDĒ | W25: 2024 III | X25: 2024 IV
A26: 1 | B26: 1.1. | C26: Pētniecība un prasmes | D26: 1.1.1. | E26: “Pētniecības un inovāciju kapacitātes stiprināšana un progresīvu tehnoloģiju ieviešana kopējā P&A sistēmā” | F26: 1.1.1.7. | G26: Inovāciju granti studentiem | H26: _ | I26: ERAF | J26: 14025000 | K26: 16500000 | L26: 2475000 | M26: 0.15772532 | N26: 2212098 | O26: 390370 | P26: 11812902 | Q26: 2084630 | R26: IZM | S26: 45562 | T26: Uzsākta UK rakstiskā procedūra 24.10.2024 | U26: 45610 | V26: IZSTRĀDĒ | W26: 2024 III | X26: 2024 IV
A27: 1 | B27: 1.4. | C27: Digitālā savienojamība | D27: 1.4.1. | E27: “Uzlabot digitālo savienojamību” | F27: 1.4.1.1. | G27: Platjoslas infrastruktūras attīstība (pēdējā jūdze) | H27: 2 | I27: ERAF | J27: 1166379 | K27: 1372211 | L27: 205832 | M27: 0.15772532 | N27: 1166379 | O27: 205832 | P27: 0 | Q27: 0 | R27: SM | S27: 45379 | T27: 45470 | U27: 2024 II | V27: IZSTRĀDĒ | W27: 2024 II | X27: Uzsaukums par elastības finansējuma apjomu 2026.g.
A28: 1 | B28: 1.4. | C28: Digitālā savienojamība | D28: 1.4.1. | E28: “Uzlabot digitālo savienojamību” | F28: 1.4.1.1. | G28: Platjoslas infrastruktūras attīstība (pēdējā jūdze) | H28: 1 | I28: ERAF | J28: 6228621 | K28: 7327790 | L28: 1099169 | M28: 0.15772532 | N28: 0 | O28: 0 | P28: 6228621 | Q28: 1099169 | R28: SM | S28: 45379 | T28: 45470 | U28: 45602 | V28: IZSTRĀDĒ | W28: 2024 II | X28: 2024 III
A29: 2 | B29: 2.1. | C29: Klimata pārmaiņu mazināšana un pielāgošanās klimata pārmaiņām | D29: 2.1.1. | E29: “Energoefektivitātes veicināšana un siltumnīcefekta gāzu emisiju samazināšana” | F29: 2.1.1.2. | G29: AER izmantošana un energoefektivitātes paaugstināšana rūpniecībā un komersantos | H29: _ | I29: ERAF | J29: 36703812 | K29: 43180956 | L29: 6477144 | M29: 0.15772532 | N29: 0 | O29: 0 | P29: 36703812 | Q29: 6477144 | R29: EM | S29: N/A | T29: N/A | U29: 45636 | V29: IZSTRĀDĒ | W29: 2024 IV | X29: N/A, jo FI
A30: 2 | B30: 2.2. | C30: Vides aizsardzība un attīstība | D30: 2.2.3. | E30: “Uzlabot dabas aizsardzību un bioloģisko daudzveidību, “zaļo” infrastruktūru, it īpaši pilsētvidē, un samazināt piesārņojumu” | F30: 2.2.3.3. | G30: Pasākumi bioloģiskās daudzveidības veicināšanai un saglabāšanai | H30: 4 | I30: ERAF | J30: 7277500 | K30: 8561765 | L30: 1284265 | M30: 0.15772532 | N30: 0 | O30: 0 | P30: 7277500 | Q30: 1284265 | R30: VARAM | S30: 45624 | T30: 2024 IV | U30: 45632 | V30: IZSTRĀDĒ | W30: 2024 IV | X30: 2025 I
A31: 2 | B31: 2.2. | C31: Vides aizsardzība un attīstība | D31: 2.2.3. | E31: “Uzlabot dabas aizsardzību un bioloģisko daudzveidību, “zaļo” infrastruktūru, it īpaši pilsētvidē, un samazināt piesārņojumu” | F31: 2.2.3.3. | G31: Pasākumi bioloģiskās daudzveidības veicināšanai un saglabāšanai | H31: 3 | I31: ERAF | J31: 16000000 | K31: 18823530 | L31: 2823530 | M31: 0.15772532 | N31: 0 | O31: 0 | P31: 16000000 | Q31: 2823530 | R31: VARAM | S31: 45624 | T31: 2024 IV | U31: 45632 | V31: IZSTRĀDĒ | W31: 2024 IV | X31: 2025 I
A32: 4 | B32: 4.1. | C32: Veselības veicināšana un aprūpe | D32: 4.1.1. | E32: “Nodrošināt vienlīdzīgu piekļuvi veselības aprūpei un stiprināt veselības sistēmu, tostarp primārās veselības aprūpes noturību, un sekmēt pāreju no aprūpes iestādē uz ģimenē un kopienā balstītu aprūpi” | F32: 4.1.1.3. | G32: Primārās veselības aprūpes lomas stiprināšana, attīstot infrastruktūru | H32: 1 | I32: ERAF | J32: 2040000 | K32: 2400000 | L32: 360000 | M32: 0.15772532 | N32: 0 | O32: 0 | P32: 2040000 | Q32: 360000 | R32: VM | S32: 45498 | T32: 45625 | U32: 45583 | V32: IZSTRĀDĒ | W32: 2024 IV | X32: 2024 IV
A33: 4 | B33: 4.2. | C33: Izglītība, prasmes un mūžizglītība | D33: 4.2.1. | E33: “Uzlabot vienlīdzīgu piekļuvi iekļaujošiem un kvalitatīviem pakalpojumiem izglītības, mācību un mūžizglītības jomā, attīstot pieejamu infrastruktūru, tostarp, veicinot noturību izglītošanā un mācībā attālinātā un tiešsaistes režīmā” | F33: 4.2.1.4. | G33: Izglītības iestāžu nodrošinājums pilnveidotā vispārējās izglītības satura kvalitatīvai ieviešanai pirmsskolas izglītības pakāpē | H33: _ | I33: ERAF | J33: 3279958 | K33: 3858775 | L33: 578817 | M33: 0.15772532 | N33: 517332 | O33: 91294 | P33: 2762626 | Q33: 487523 | R33: IZM | S33: Plānots izskatīt 19.12.2024. AK | T33: IPIA izņēmums (UK lēm. 23.04.2024) | U33: 45505 | V33: IZSTRĀDĒ | W33: 2024 III | X33: 2024 IV
A34: 4 | B34: 4.2. | C34: Izglītība, prasmes un mūžizglītība | D34: 4.2.1. | E34: “Uzlabot vienlīdzīgu piekļuvi iekļaujošiem un kvalitatīviem pakalpojumiem izglītības, mācību un mūžizglītības jomā, attīstot pieejamu infrastruktūru, tostarp, veicinot noturību izglītošanā un mācībā attālinātā un tiešsaistes režīmā” | F34: 4.2.1.5. | G34: Izglītības iestāžu nodrošinājums pilnveidotā vispārējās izglītības satura kvalitatīvai ieviešanai pamata un vidējās izglītības pakāpē | H34: 2 | I34: ERAF | J34: 34187138 | K34: 40220163 | L34: 6033025 | M34: 0.15772532 | N34: 0 | O34: 0 | P34: 34187138 | Q34: 6033025 | R34: IZM | S34: 45533 | T34: 45638 | U34: 45504 | V34: IZSTRĀDĒ | W34: 2024 III | X34: 2024 IV
A35: 4 | B35: 4.2. | C35: Izglītība, prasmes un mūžizglītība | D35: 4.2.2. | E35: “Uzlabot izglītības un mācību sistēmu kvalitāti, iekļautību, efektivitāti un nozīmīgumu darba tirgū, tostarp ar neformālās un ikdienējās mācīšanās validēšanas palīdzību, lai atbalstītu pamatkompetenču, tostarp uzņēmējdarbības un digitālo prasmju, apguvi, un sekmējot duālo mācību sistēmu un māceklības ieviešanu” | F35: 4.2.2.11. | G35: Studiju procesa digitalizācija | H35: 1 | I35: ESF | J35: 8500000 | K35: 10000000 | L35: 1500000 | M35: 0.15777511 | N35: 0 | O35: 0 | P35: 8500000 | Q35: 1500000 | R35: IZM | S35: Plānots izskatīt 19.12.2024 AK | T35: 2024 III | U35: 45502 | V35: IZSTRĀDĒ | W35: 2024 III | X35: 2024 IV
A36: 4 | B36: 4.2. | C36: Izglītība, prasmes un mūžizglītība | D36: 4.2.2. | E36: “Uzlabot izglītības un mācību sistēmu kvalitāti, iekļautību, efektivitāti un nozīmīgumu darba tirgū, tostarp ar neformālās un ikdienējās mācīšanās validēšanas palīdzību, lai atbalstītu pamatkompetenču, tostarp uzņēmējdarbības un digitālo prasmju, apguvi, un sekmējot duālo mācību sistēmu un māceklības ieviešanu” | F36: 4.2.2.11. | G36: Studiju procesa digitalizācija | H36: 2 | I36: ESF | J36: 19922947 | K36: 23438762 | L36: 3515815 | M36: 0.15777511 | N36: 0 | O36: 0 | P36: 19922947 | Q36: 3515815 | R36: IZM | S36: Plānots izskatīt 19.12.2024 AK | T36: 2024 III | U36: 45502 | V36: IZSTRĀDĒ | W36: 2024 III | X36: 2024 IV
A37: 4 | B37: 4.2. | C37: Izglītība, prasmes un mūžizglītība | D37: 4.2.3. | E37: “Sekmēt to, lai – jo īpaši nelabvēlīgā situācijā esošām grupām – būtu vienlīdzīga piekļuve kvalitatīvai un iekļaujošai izglītībai un mācībām un iespēja to iegūt, sākot ar pirmsskolas izglītību un aprūpi un vispārējās izglītības un profesionālās izglītības un mācību gaitā līdz pat augstākajai izglītībai un pieaugušo izglītībai un mācībām, tostarp veicināt mācību mobilitāti visiem un atvieglot piekļūstamības iespējas personām ar invaliditāti” | F37: 4.2.3.3. | G37: Pilsonisko līdzdalību veicinošu kultūras pakalpojumu pieejamības veicināšana | H37: _ | I37: ESF | J37: 1775148 | K37: 2088410 | L37: 313262 | M37: 0.15777511 | N37: 280074 | O37: 49425 | P37: 1495074 | Q37: 263837 | R37: KM | S37: IPIA izņēmums (UK lēm. 23.04.2024) | T37: IPIA izņēmums (UK lēm. 23.04.2024) | U37: 45631 | V37: IZSTRĀDĒ | W37: 2024 IV | X37: 2024 IV
A38: 4 | B38: 4.2. | C38: Izglītība, prasmes un mūžizglītība | D38: 4.2.4. | E38: “Veicināt mūžizglītību, jo īpaši piedāvājot elastīgas prasmju pilnveides un pārkvalifikācijas iespējas visiem, ņemot vērā uzņēmējdarbības un digitālās prasmes, labāk prognozējot pārmaiņas un vajadzību pēc jaunām prasmēm, pamatojoties uz darba tirgus vajadzībām, atvieglojot karjeras maiņu un sekmējot profesionālo mobilitāti” | F38: 4.2.4.1. | G38: Atbalsts nozaru vajadzībās balstītai pieaugušo izglītībai | H38: 2 | I38: ESF | J38: 4898317 | K38: 5762726 | L38: 864409 | M38: 0.15777511 | N38: 0 | O38: 0 | P38: 4898317 | Q38: 864409 | R38: IZM | S38: Plānots izskatīt 19.12.2024 AK | T38: 2024 II | U38: 45628 | V38: IZSTRĀDĒ | W38: 2024 III | X38: 2024 III
A39: 4 | B39: 4.2. | C39: Izglītība, prasmes un mūžizglītība | D39: 4.2.4. | E39: “Veicināt mūžizglītību, jo īpaši piedāvājot elastīgas prasmju pilnveides un pārkvalifikācijas iespējas visiem, ņemot vērā uzņēmējdarbības un digitālās prasmes, labāk prognozējot pārmaiņas un vajadzību pēc jaunām prasmēm, pamatojoties uz darba tirgus vajadzībām, atvieglojot karjeras maiņu un sekmējot profesionālo mobilitāti” | F39: 4.2.4.3. | G39: Digitālo prasmju pilnveide | H39: _ | I39: ESF | J39: 3685037 | K39: 4335338 | L39: 650301 | M39: 0.15777511 | N39: 581407 | O39: 102601 | P39: 3103630 | Q39: 547700 | R39: VARAM | S39: 45463 | T39: 45517 | U39: 45439 | V39: IZSTRĀDĒ | W39: 2024 IV | X39: 2025 I
A40: 4 | B40: 4.3. | C40: Nodarbinātība un sociālā iekļaušana | D40: 4.3.5. | E40: "Uzlabot vienlīdzīgu un savlaicīgu piekļuvi kvalitatīviem, ilgtspējīgiem un izmaksu ziņā pieejamiem pakalpojumiem; pilnveidot sociālās aizsardzības sistēmas, tostarp veicināt sociālās aizsardzības pieejamību; uzlabot ilgtermiņa aprūpes pakalpojumu pieejamību, efektivitāti un izturētspēju" | F40: 4.3.5.1. | G40: Sabiedrībā balstītu sociālo pakalpojumu pieejamības palielināšana | H40: 4 | I40: ESF | J40: 27434580 | K40: 32275977 | L40: 4841397 | M40: 0.15777511 | N40: 0 | O40: 0 | P40: 27434580 | Q40: 4841397 | R40: LM | S40: 45624 | T40: 2025 I | U40: 45638 | V40: IZSTRĀDĒ | W40: 2025 I | X40: 2025 II
A41: 4 | B41: 4.3. | C41: Nodarbinātība un sociālā iekļaušana | D41: 4.3.5. | E41: "Uzlabot vienlīdzīgu un savlaicīgu piekļuvi kvalitatīviem, ilgtspējīgiem un izmaksu ziņā pieejamiem pakalpojumiem; pilnveidot sociālās aizsardzības sistēmas, tostarp veicināt sociālās aizsardzības pieejamību; uzlabot ilgtermiņa aprūpes pakalpojumu pieejamību, efektivitāti un izturētspēju" | F41: 4.3.5.1. | G41: Sabiedrībā balstītu sociālo pakalpojumu pieejamības palielināšana | H41: 5 | I41: ESF | J41: 10988592 | K41: 12927756 | L41: 1939164 | M41: 0.15777511 | N41: 0 | O41: 0 | P41: 10988592 | Q41: 1939164 | R41: LM | S41: 45624 | T41: 2025 I | U41: 45630 | V41: IZSTRĀDĒ | W41: 2025 I | X41: 2025 II
A42: 4 | B42: 4.3. | C42: Nodarbinātība un sociālā iekļaušana | D42: 4.3.5. | E42: "Uzlabot vienlīdzīgu un savlaicīgu piekļuvi kvalitatīviem, ilgtspējīgiem un izmaksu ziņā pieejamiem pakalpojumiem; pilnveidot sociālās aizsardzības sistēmas, tostarp veicināt sociālās aizsardzības pieejamību; uzlabot ilgtermiņa aprūpes pakalpojumu pieejamību, efektivitāti un izturētspēju" | F42: 4.3.5.2. | G42: Atbalsts paliatīvās aprūpes sistēmas pilnveidošanai | H42: _ | I42: ESF | J42: 5950000 | K42: 7000000 | L42: 1050000 | M42: 0.15777511 | N42: 0 | O42: 0 | P42: 5950000 | Q42: 1050000 | R42: LM | S42: IPIA izņēmums (UK lēm. 23.04.2024) | T42: IPIA izņēmums (UK lēm. 23.04.2024) | U42: 45638 | V42: IZSTRĀDĒ | W42: 2025 I | X42: 2025 I
A43: 6 | B43: 6.1. | C43: Pāreja uz klimatneitralitāti | D43: 6.1.1. | E43: "Pārejas uz klimatneitralitāti radīto ekonomisko, sociālo un vides seku mazināšana visvairāk skartajos reģionos" | F43: 6.1.1.4. | G43: Uzņēmējdarbības “zaļināšanas” un produktu attīstības pasākumi, veicinot energoefektivitātes paaugstināšanu un energoefektīvu tehnoloģiju ieviešanu uzņēmumos | H43: _ | I43: TPF | J43: 35298850 | K43: 41528059 | L43: 6229209 | M43: 0.065679823 | N43: 2318422 | O43: 409133 | P43: 32980428 | Q43: 5820076 | R43: EM | S43: N/A | T43: N/A | U43: 45636 | V43: IZSTRĀDĒ | W43: 2024 IV | X43: N/A, jo FI
A44: 6 | B44: 6.1. | C44: Pāreja uz klimatneitralitāti | D44: 6.1.1. | E44: "Pārejas uz klimatneitralitāti radīto ekonomisko, sociālo un vides seku mazināšana visvairāk skartajos reģionos" | F44: 6.1.1.5. | G44: Nodarbināto prasmju paaugstināšana un atbalsts kvalifikācijas iegūšanai, atbalsts darbaspēka mācībām saskaņā ar uzņēmumu pieprasījumu | H44: _ | I44: TPF | J44: 16946467 | K44: 19937020 | L44: 2990553 | M44: 0.065679823 | N44: 1113041 | O44: 196419 | P44: 15833426 | Q44: 2794134 | R44: IZM | S44: IPIA izņēmums (UK lēm. 23.04.2024) | T44: IPIA izņēmums (UK lēm. 23.04.2024) | U44: 45623 | V44: IZSTRĀDĒ | W44: 2024 III | X44: 2024 III
F45: 0 | G45: Regulējums, kas ir saskaņots un iesniegts Valsts kancelejā - potenciāls apstiprināt tuvākajās MK sēdēs | I45: kopā: | N45: =SUBTOTAL(9,N46:N55) -> 48291704 | O45: =SUBTOTAL(9,O46:O55) -> 8522064 | P45: =SUBTOTAL(9,P46:P55) -> 167519092 | Q45: =SUBTOTAL(9,Q46:Q55) -> 29562198
...

Sheet GRAFIKI II
A1: KUMULATĪVI
H2: Laika grafiks uz 25.04.2023.
A3: MK not. gads un ceturksnis | B3: MK noteikumu faktiskā izpilde; finansējums kumulatīvi, milj. EUR | C3: MK noteikumu finansējums, EUR | D3: MK noteikumu finansējums, milj. EUR - NOBĪDE kumulatīvi | E3: Atlašu finansējums kumulatīvi, milj. EUR | F3: Atlašu finansējums, EUR | H3: MK noteikumu apstiprināšanas plāns uz 25.04.2023; finansējums kumulatīvi, milj. EUR | I3: MK noteikumu finansējums, EUR | J3: Atlašu finansējums kumulatīvi uz 25.04.2023., milj. EUR | K3: Atlašu finansējums, EUR | L3: Nobīdes MKN | M3: Nobīdes atlases
A4: 2022 IV | B4: 0 | C4: 0 | D4: =B4-H4 -> #REF! | E4: 0 | F4: 0 | H4: =I4/1000000 -> #REF! | I4: =SUMIFS(Pasākumi_kārtas!$K$98:$K$233,Pasākumi_kārtas!#REF!,'GRAFIKI II'!A4) -> #REF! | J4: =K4/1000000 -> #REF! | K4: =SUMIFS(Pasākumi_kārtas!$K$98:$K$233,Pasākumi_kārtas!#REF!,'GRAFIKI II'!A4) -> #REF! | L4: =H4-B4 -> #REF! | M4: =J4-E4 -> #REF!
A5: 2023 I | B5: =C5/1000000+B4 -> #REF! | C5: =SUMIFS(Pasākumi_kārtas!$K$98:$K$233,Pasākumi_kārtas!#REF!,A5)+C4 -> #REF! | D5: =(B5-H5)+D4 -> #REF! | E5: =F5/1000000 -> #REF! | F5: =SUMIFS(Pasākumi_kārtas!$K$98:$K$233,Pasākumi_kārtas!#REF!,A5) -> #REF! | H5: =H4+(I5/1000000) -> #REF! | I5: =SUMIFS(Pasākumi_kārtas!$K$98:$K$233,Pasākumi_kārtas!#REF!,'GRAFIKI II'!A5) -> #REF! | J5: =J4+(K5/1000000) -> #REF! | K5: =SUMIFS(Pasākumi_kārtas!$K$98:$K$233,Pasākumi_kārtas!#REF!,'GRAFIKI II'!A5) -> #REF! | L5: =H5-B5 -> #REF! | M5: =J5-E5 -> #REF!
A6: 2023 II | B6: =C6/1000000+B5 -> #REF! | C6: =SUMIFS(Pasākumi_kārtas!$K$98:$K$233,Pasākumi_kārtas!#REF!,A6) -> #REF! | D6: =(B6-H6)+D5 -> #REF! | E6: =E5+F6/1000000 -> #REF! | F6: =SUMIFS(Pasākumi_kārtas!$K$98:$K$233,Pasākumi_kārtas!#REF!,A6) -> #REF! | H6: =H5+(I6/1000000) -> #REF! | I6: =SUMIFS(Pasākumi_kārtas!$K$98:$K$233,Pasākumi_kārtas!#REF!,'GRAFIKI II'!A6) -> #REF! | J6: =J5+(K6/1000000) -> #REF! | K6: =SUMIFS(Pasākumi_kārtas!$K$98:$K$233,Pasākumi_kārtas!#REF!,'GRAFIKI II'!A6) -> #REF! | L6: =H6-B6 -> #REF! | M6: =J6-E6 -> #REF!
A7: 2023 III | B7: =C7/1000000+B6 -> #REF! | C7: =SUMIFS(Pasākumi_kārtas!$K$98:$K$233,Pasākumi_kārtas!#REF!,A7) -> #REF! | D7: =(B7-H7)+D6 -> #REF! | E7: =E6+F7/1000000 -> #REF! | F7: =SUMIFS(Pasākumi_kārtas!$K$98:$K$233,Pasākumi_kārtas!#REF!,A7) -> #REF! | H7: =H6+(I7/1000000) -> #REF! | I7: =SUMIFS(Pasākumi_kārtas!$K$98:$K$233,Pasākumi_kārtas!#REF!,'GRAFIKI II'!A7) -> #REF! | J7: =J6+(K7/1000000) -> #REF! | K7: =SUMIFS(Pasākumi_kārtas!$K$98:$K$233,Pasākumi_kārtas!#REF!,'GRAFIKI II'!A7) -> #REF! | L7: =H7-B7 -> #REF! | M7: =J7-E7 -> #REF!
A8: 2023 IV | B8: =C8/1000000+B7 -> #REF! | C8: =SUMIFS(Pasākumi_kārtas!$K$98:$K$233,Pasākumi_kārtas!#REF!,A8) -> #REF! | D8: =(B8-H8)+D7 -> #REF! | E8: =E7+F8/1000000 -> #REF! | F8: =SUMIFS(Pasākumi_kārtas!$K$98:$K$233,Pasākumi_kārtas!#REF!,A8) -> #REF! | H8: =H7+(I8/1000000) -> #REF! | I8: =SUMIFS(Pasākumi_kārtas!$K$98:$K$233,Pasākumi_kārtas!#REF!,'GRAFIKI II'!A8) -> #REF! | J8: =J7+(K8/1000000) -> #REF! | K8: =SUMIFS(Pasākumi_kārtas!$K$98:$K$233,Pasākumi_kārtas!#REF!,'GRAFIKI II'!A8) -> #REF! | L8: =H8-B8 -> #REF! | M8: =J8-E8 -> #REF!
A9: 2024 I | B9: =C9/1000000+B8 -> #REF! | C9: =SUMIFS(Pasākumi_kārtas!$K$98:$K$233,Pasākumi_kārtas!#REF!,A9) -> #REF! | D9: =(B9-H9)+D8 -> #REF! | E9: =E8+F9/1000000 -> #REF! | F9: =SUMIFS(Pasākumi_kārtas!$K$98:$K$233,Pasākumi_kārtas!#REF!,A9) -> #REF! | H9: =H8+(I9/1000000) -> #REF! | I9: =SUMIFS(Pasākumi_kārtas!$K$98:$K$233,Pasākumi_kārtas!#REF!,'GRAFIKI II'!A9) -> #REF! | J9: =J8+(K9/1000000) -> #REF! | K9: =SUMIFS(Pasākumi_kārtas!$K$98:$K$233,Pasākumi_kārtas!#REF!,'GRAFIKI II'!A9) -> #REF!
A10: 2024 II | B10: =C10/1000000+B9 -> #REF! | C10: =SUMIFS(Pasākumi_kārtas!$K$98:$K$233,Pasākumi_kārtas!#REF!,A10) -> #REF! | D10: =(B10-H10)+D9 -> #REF! | E10: =E9+F10/1000000 -> #REF! | F10: =SUMIFS(Pasākumi_kārtas!$K$98:$K$233,Pasākumi_kārtas!#REF!,A10) -> #REF! | H10: =H9+(I10/1000000) -> #REF! | I10: =SUMIFS(Pasākumi_kārtas!$K$98:$K$233,Pasākumi_kārtas!#REF!,'GRAFIKI II'!A10) -> #REF! | J10: =J9+(K10/1000000) -> #REF! | K10: =SUMIFS(Pasākumi_kārtas!$K$98:$K$233,Pasākumi_kārtas!#REF!,'GRAFIKI II'!A10) -> #REF!
A11: 2024 III | B11: =C11/1000000+B10 -> #REF! | C11: =SUMIFS(Pasākumi_kārtas!$K$98:$K$233,Pasākumi_kārtas!#REF!,A11) -> #REF! | D11: =(B11-H11)+D10 -> #REF! | E11: =E10+F11/1000000 -> #REF! | F11: =SUMIFS(Pasākumi_kārtas!$K$98:$K$233,Pasākumi_kārtas!#REF!,A11) -> #REF! | H11: =H10+(I11/1000000) -> #REF! | I11: =SUMIFS(Pasākumi_kārtas!$K$98:$K$233,Pasākumi_kārtas!#REF!,'GRAFIKI II'!A11) -> #REF! | J11: =J10+(K11/1000000) -> #REF! | K11: =SUMIFS(Pasākumi_kārtas!$K$98:$K$233,Pasākumi_kārtas!#REF!,'GRAFIKI II'!A11) -> #REF!
A12: 2024 IV | B12: =C12/1000000+B11 -> #REF! | C12: =SUMIFS(Pasākumi_kārtas!$K$98:$K$233,Pasākumi_kārtas!#REF!,A12) -> #REF! | D12: =(B12-H12)+D11 -> #REF! | E12: =E11+F12/1000000 -> #REF! | F12: =SUMIFS(Pasākumi_kārtas!$K$98:$K$233,Pasākumi_kārtas!#REF!,A12) -> #REF! | H12: =H11+(I12/1000000) -> #REF! | I12: =SUMIFS(Pasākumi_kārtas!$K$98:$K$233,Pasākumi_kārtas!#REF!,'GRAFIKI II'!A12) -> #REF! | J12: =J11+(K12/1000000) -> #REF! | K12: =SUMIFS(Pasākumi_kārtas!$K$98:$K$233,Pasākumi_kārtas!#REF!,'GRAFIKI II'!A12) -> #REF!
A13: 2025 I | B13: =C13/1000000+B12 -> #REF! | C13: =SUMIFS(Pasākumi_kārtas!$K$98:$K$233,Pasākumi_kārtas!#REF!,A13) -> #REF! | D13: =(B13-H13)+D12 -> #REF! | E13: =E12+F13/1000000 -> #REF! | F13: =SUMIFS(Pasākumi_kārtas!$K$98:$K$233,Pasākumi_kārtas!#REF!,A13) -> #REF! | H13: =H12+(I13/1000000) -> #REF! | I13: =SUMIFS(Pasākumi_kārtas!$K$98:$K$233,Pasākumi_kārtas!#REF!,'GRAFIKI II'!A13) -> #REF! | J13: =J12+(K13/1000000) -> #REF! | K13: =SUMIFS(Pasākumi_kārtas!$K$98:$K$233,Pasākumi_kārtas!#REF!,'GRAFIKI II'!A13) -> #REF!
A14: 2025 II | B14: =C14/1000000+B13 -> #REF! | C14: =SUMIFS(Pasākumi_kārtas!$K$98:$K$233,Pasākumi_kārtas!#REF!,A14) -> #REF! | D14: =(B14-H14)+D13 -> #REF! | E14: =E13+F14/1000000 -> #REF! | F14: =SUMIFS(Pasākumi_kārtas!$K$98:$K$233,Pasākumi_kārtas!#REF!,A14) -> #REF! | H14: =H13+(I14/1000000) -> #REF! | I14: =SUMIFS(Pasākumi_kārtas!$K$98:$K$233,Pasākumi_kārtas!#REF!,'GRAFIKI II'!A14) -> #REF! | J14: =J13+(K14/1000000) -> #REF! | K14: =SUMIFS(Pasākumi_kārtas!$K$98:$K$233,Pasākumi_kārtas!#REF!,'GRAFIKI II'!A14) -> #REF!
A15: 2025 III | B15: =C15/1000000+B14 -> #REF! | C15: =SUMIFS(Pasākumi_kārtas!$K$98:$K$233,Pasākumi_kārtas!#REF!,A15) -> #REF! | D15: =(B15-H15)+D14 -> #REF! | E15: =E14+F15/1000000 -> #REF! | F15: =SUMIFS(Pasākumi_kārtas!$K$98:$K$233,Pasākumi_kārtas!#REF!,A15) -> #REF! | H15: =H14+(I15/1000000) -> #REF! | I15: =SUMIFS(Pasākumi_kārtas!$K$98:$K$233,Pasākumi_kārtas!#REF!,'GRAFIKI II'!A15) -> #REF! | J15: =J14+(K15/1000000) -> #REF! | K15: =SUMIFS(Pasākumi_kārtas!$K$98:$K$233,Pasākumi_kārtas!#REF!,'GRAFIKI II'!A15) -> #REF!
A16: 2025 IV | B16: =C16/1000000+B15 -> #REF! | C16: =SUMIFS(Pasākumi_kārtas!$K$98:$K$233,Pasākumi_kārtas!#REF!,A16) -> #REF! | D16: =(B16-H16)+D15 -> #REF! | E16: =E15+F16/1000000 -> #REF! | F16: =SUMIFS(Pasākumi_kārtas!$K$98:$K$233,Pasākumi_kārtas!#REF!,A16) -> #REF! | H16: =H15+(I16/1000000) -> #REF! | I16: =SUMIFS(Pasākumi_kārtas!$K$98:$K$233,Pasākumi_kārtas!#REF!,'GRAFIKI II'!A16) -> #REF! | J16: =J15+(K16/1000000) -> #REF! | K16: =SUMIFS(Pasākumi_kārtas!$K$98:$K$233,Pasākumi_kārtas!#REF!,'GRAFIKI II'!A16) -> #REF!
A17: 2026 I | B17: =C17/1000000+B16 -> #REF! | C17: =SUMIFS(Pasākumi_kārtas!$K$98:$K$233,Pasākumi_kārtas!#REF!,A17) -> #REF! | D17: =(B17-H17)+D16 -> #REF! | E17: =E16+F17/1000000 -> #REF! | F17: =SUMIFS(Pasākumi_kārtas!$K$98:$K$233,Pasākumi_kārtas!#REF!,A17) -> #REF! | H17: =H16+(I17/1000000) -> #REF! | I17: =SUMIFS(Pasākumi_kārtas!$K$98:$K$233,Pasākumi_kārtas!#REF!,'GRAFIKI II'!A17) -> #REF! | J17: =J16+(K17/1000000) -> #REF! | K17: =SUMIFS(Pasākumi_kārtas!$K$98:$K$233,Pasākumi_kārtas!#REF!,'GRAFIKI II'!A17) -> #REF!
A18: Uzsaukums par elastības finansējuma apjomu 2026.g. | B18: =C18/1000000+B17 -> #REF! | C18: =SUMIFS(Pasākumi_kārtas!$K$98:$K$233,Pasākumi_kārtas!#REF!,A18) -> #REF! | D18: =(B18-H18)+D17 -> #REF! | E18: =E17+F18/1000000 -> #REF! | F18: =SUMIFS(Pasākumi_kārtas!$K$98:$K$233,Pasākumi_kārtas!#REF!,A18) -> #REF! | H18: =H17+(I18/1000000) -> #REF! | I18: =SUMIFS(Pasākumi_kārtas!$K$98:$K$233,Pasākumi_kārtas!#REF!,'GRAFIKI II'!A18) -> #REF! | J18: =J17+(K18/1000000) -> #REF! | K18: =SUMIFS(Pasākumi_kārtas!$K$98:$K$233,Pasākumi_kārtas!#REF!,'GRAFIKI II'!A18) -> #REF!
A19: 2026 II | B19: =C19/1000000+B18 -> #REF! | C19: =SUMIFS(Pasākumi_kārtas!$K$98:$K$233,Pasākumi_kārtas!#REF!,A19) -> #REF! | D19: =(B19-H19)+D18 -> #REF! | E19: =E18+F19/1000000 -> #REF! | F19: =SUMIFS(Pasākumi_kārtas!$K$98:$K$233,Pasākumi_kārtas!#REF!,A19) -> #REF! | H19: =H18+(I19/1000000) -> #REF! | I19: =SUMIFS(Pasākumi_kārtas!$K$98:$K$233,Pasākumi_kārtas!#REF!,'GRAFIKI II'!A19) -> #REF! | J19: =J18+(K19/1000000) -> #REF! | K19: =SUMIFS(Pasākumi_kārtas!$K$98:$K$233,Pasākumi_kārtas!#REF!,'GRAFIKI II'!A19) -> #REF!
A20: 2026 III | B20: =C20/1000000+B19 -> #REF! | C20: =SUMIFS(Pasākumi_kārtas!$K$98:$K$233,Pasākumi_kārtas!#REF!,A20) -> #REF! | D20: =(B20-H20)+D19 -> #REF! | E20: =E19+F20/1000000 -> #REF! | F20: =SUMIFS(Pasākumi_kārtas!$K$98:$K$233,Pasākumi_kārtas!#REF!,A20) -> #REF! | H20: =H19+(I20/1000000) -> #REF! | I20: =SUMIFS(Pasākumi_kārtas!$K$98:$K$233,Pasākumi_kārtas!#REF!,'GRAFIKI II'!A20) -> #REF! | J20: =J19+(K20/1000000) -> #REF! | K20: =SUMIFS(Pasākumi_kārtas!$K$98:$K$233,Pasākumi_kārtas!#REF!,'GRAFIKI II'!A20) -> #REF!
... A25: 2027 IV | B25: =C25/1000000+B24 -> #REF! | C25: =SUMIFS(Pasākumi_kārtas!$K$98:$K$233,Pasākumi_kārtas!#REF!,A25) -> #REF! | D25: =(B25-H25)+D24 -> #REF! | E25: =E24+F25/1000000 -> #REF! | F25: =SUMIFS(Pasākumi_kārtas!$K$98:$K$233,Pasākumi_kārtas!#REF!,A25) -> #REF! | H25: =H24+(I25/1000000) -> #REF! | I25: =SUMIFS(Pasākumi_kārtas!$K$98:$K$233,Pasākumi_kārtas!#REF!,'GRAFIKI II'!A25) -> #REF! | J25: =J24+(K25/1000000) -> #REF! | K25: =SUMIFS(Pasākumi_kārtas!$K$98:$K$233,Pasākumi_kārtas!#REF!,'GRAFIKI II'!A25) -> #REF!
A26: bez TP prioritātes | C26: =SUM(C5:C25) -> #REF! | F26: =SUM(F5:F25) -> #REF! | I26: =SUM(I4:I25) -> #REF! | K26: =SUM(K4:K25) -> #REF!
C27: =Pasākumi_kārtas!#REF!+Pasākumi_kārtas!#REF!+C26 -> #REF! | F27: =F26+Pasākumi_kārtas!#REF!+Pasākumi_kārtas!#REF! -> #REF! | I27: =I26+Pasākumi_kārtas!#REF!+Pasākumi_kārtas!#REF! -> #REF! | K27: =K26+Pasākumi_kārtas!#REF!+Pasākumi_kārtas!#REF! -> #REF!
C28: =Pasākumi_kārtas!K234-C27 -> #REF! | F28: =Pasākumi_kārtas!K234-F27 -> #REF! | I28: =I27-Pasākumi_kārtas!K234 -> #REF! | K28: =K27-Pasākumi_kārtas!K234 -> #REF!
A29: BEZ KUMULATĀCIJAS
H30: Laika grafiks uz 25.04.2023.
A31: MK not. gads un ceturksnis | B31: MK noteikumu faktiskā izpilde; finansējums , milj. EUR | C31: MK noteikumu finansējums, EUR | D31: MK noteikumu finansējums, milj.EUR - NOBĪDE | E31: Atlašu finansējums, milj. EUR | F31: Atlašu finansējums, EUR | H31: MK noteikumu apstiprināšanas plāns uz 25.04.2023; finansējums kumulatīvi, milj. EUR | I31: MK noteikumu finansējums, EUR | J31: Atlašu finansējums kumulatīvi uz 25.04.2023., milj. EUR | K31: Atlašu finansējums, EUR
A32: 2022 IV | B32: 0 | C32: 0 | D32: =B32-E32 -> 0 | E32: 0 | F32: 0 | H32: =I32/1000000 -> #REF! | I32: =SUMIFS(Pasākumi_kārtas!$K$98:$K$233,Pasākumi_kārtas!#REF!,'GRAFIKI II'!A32) -> #REF! | J32: =K32/1000000 -> #REF! | K32: =SUMIFS(Pasākumi_kārtas!$K$98:$K$233,Pasākumi_kārtas!#REF!,'GRAFIKI II'!A32) -> #REF!
A33: 2023 I | B33: =C33/1000000 -> #REF! | C33: =SUMIFS(Pasākumi_kārtas!$K$98:$K$233,Pasākumi_kārtas!#REF!,A33) -> #REF! | D33: =B33-H33 -> #REF! | E33: =F33/1000000 -> #REF! | F33: =SUMIFS(Pasākumi_kārtas!$K$98:$K$233,Pasākumi_kārtas!#REF!,A33) -> #REF! | H33: =(I33/1000000) -> #REF! | I33: =SUMIFS(Pasākumi_kārtas!$K$98:$K$233,Pasākumi_kārtas!#REF!,'GRAFIKI II'!A33) -> #REF! | J33: =(K33/1000000) -> #REF! | K33: =SUMIFS(Pasākumi_kārtas!$K$98:$K$233,Pasākumi_kārtas!#REF!,'GRAFIKI II'!A33) -> #REF!
A34: 2023 II | B34: =C34/1000000 -> #REF! | C34: =SUMIFS(Pasākumi_kārtas!$K$98:$K$233,Pasākumi_kārtas!#REF!,A34) -> #REF! | D34: =B34-H34 -> #REF! | E34: =F34/1000000 -> #REF! | F34: =SUMIFS(Pasākumi_kārtas!$K$98:$K$233,Pasākumi_kārtas!#REF!,A34) -> #REF! | H34: =(I34/1000000) -> #REF! | I34: =SUMIFS(Pasākumi_kārtas!$K$98:$K$233,Pasākumi_kārtas!#REF!,'GRAFIKI II'!A34) -> #REF! | J34: =(K34/1000000) -> #REF! | K34: =SUMIFS(Pasākumi_kārtas!$K$98:$K$233,Pasākumi_kārtas!#REF!,'GRAFIKI II'!A34) -> #REF!
A35: 2023 III | B35: =C35/1000000 -> #REF! | C35: =SUMIFS(Pasākumi_kārtas!$K$98:$K$233,Pasākumi_kārtas!#REF!,A35) -> #REF! | D35: =B35-H35 -> #REF! | E35: =F35/1000000 -> #REF! | F35: =SUMIFS(Pasākumi_kārtas!$K$98:$K$233,Pasākumi_kārtas!#REF!,A35) -> #REF! | H35: =(I35/1000000) -> #REF! | I35: =SUMIFS(Pasākumi_kārtas!$K$98:$K$233,Pasākumi_kārtas!#REF!,'GRAFIKI II'!A35) -> #REF! | J35: =(K35/1000000) -> #REF! | K35: =SUMIFS(Pasākumi_kārtas!$K$98:$K$233,Pasākumi_kārtas!#REF!,'GRAFIKI II'!A35) -> #REF!
A36: 2023 IV | B36: =C36/1000000 -> #REF! | C36: =SUMIFS(Pasākumi_kārtas!$K$98:$K$233,Pasākumi_kārtas!#REF!,A36) -> #REF! | D36: =B36-H36 -> #REF! | E36: =F36/1000000 -> #REF! | F36: =SUMIFS(Pasākumi_kārtas!$K$98:$K$233,Pasākumi_kārtas!#REF!,A36) -> #REF! | H36: =(I36/1000000) -> #REF! | I36: =SUMIFS(Pasākumi_kārtas!$K$98:$K$233,Pasākumi_kārtas!#REF!,'GRAFIKI II'!A36) -> #REF! | J36: =(K36/1000000) -> #REF! | K36: =SUMIFS(Pasākumi_kārtas!$K$98:$K$233,Pasākumi_kārtas!#REF!,'GRAFIKI II'!A36) -> #REF!
A37: 2024 I | B37: =C37/1000000 -> #REF! | C37: =SUMIFS(Pasākumi_kārtas!$K$98:$K$233,Pasākumi_kārtas!#REF!,A37) -> #REF! | D37: =B37-H37 -> #REF! | E37: =F37/1000000 -> #REF! | F37: =SUMIFS(Pasākumi_kārtas!$K$98:$K$233,Pasākumi_kārtas!#REF!,A37) -> #REF! | H37: =(I37/1000000) -> #REF! | I37: =SUMIFS(Pasākumi_kārtas!$K$98:$K$233,Pasākumi_kārtas!#REF!,'GRAFIKI II'!A37) -> #REF! | J37: =(K37/1000000) -> #REF! | K37: =SUMIFS(Pasākumi_kārtas!$K$98:$K$233,Pasākumi_kārtas!#REF!,'GRAFIKI II'!A37) -> #REF!
A38: 2024 II | B38: =C38/1000000 -> #REF! | C38: =SUMIFS(Pasākumi_kārtas!$K$98:$K$233,Pasākumi_kārtas!#REF!,A38) -> #REF! | D38: =B38-H38 -> #REF! | E38: =F38/1000000 -> #REF! | F38: =SUMIFS(Pasākumi_kārtas!$K$98:$K$233,Pasākumi_kārtas!#REF!,A38) -> #REF! | H38: =(I38/1000000) -> #REF! | I38: =SUMIFS(Pasākumi_kārtas!$K$98:$K$233,Pasākumi_kārtas!#REF!,'GRAFIKI II'!A38) -> #REF! | J38: =(K38/1000000) -> #REF! | K38: =SUMIFS(Pasākumi_kārtas!$K$98:$K$233,Pasākumi_kārtas!#REF!,'GRAFIKI II'!A38) -> #REF!
A39: 2024 III | B39: =C39/1000000 -> #REF! | C39: =SUMIFS(Pasākumi_kārtas!$K$98:$K$233,Pasākumi_kārtas!#REF!,A39) -> #REF! | D39: =B39-H39 -> #REF! | E39: =F39/1000000 -> #REF! | F39: =SUMIFS(Pasākumi_kārtas!$K$98:$K$233,Pasākumi_kārtas!#REF!,A39) -> #REF! | H39: =(I39/1000000) -> #REF! | I39: =SUMIFS(Pasākumi_kārtas!$K$98:$K$233,Pasākumi_kārtas!#REF!,'GRAFIKI II'!A39) -> #REF! | J39: =(K39/1000000) -> #REF! | K39: =SUMIFS(Pasākumi_kārtas!$K$98:$K$233,Pasākumi_kārtas!#REF!,'GRAFIKI II'!A39) -> #REF!
A40: 2024 IV | B40: =C40/1000000 -> #REF! | C40: =SUMIFS(Pasākumi_kārtas!$K$98:$K$233,Pasākumi_kārtas!#REF!,A40) -> #REF! | D40: =B40-H40 -> #REF! | E40: =F40/1000000 -> #REF! | F40: =SUMIFS(Pasākumi_kārtas!$K$98:$K$233,Pasākumi_kārtas!#REF!,A40) -> #REF! | H40: =(I40/1000000) -> #REF! | I40: =SUMIFS(Pasākumi_kārtas!$K$98:$K$233,Pasākumi_kārtas!#REF!,'GRAFIKI II'!A40) -> #REF! | J40: =(K40/1000000) -> #REF! | K40: =SUMIFS(Pasākumi_kārtas!$K$98:$K$233,Pasākumi_kārtas!#REF!,'GRAFIKI II'!A40) -> #REF!
A41: 2025 I | B41: =C41/1000000 -> #REF! | C41: =SUMIFS(Pasākumi_kārtas!$K$98:$K$233,Pasākumi_kārtas!#REF!,A41) -> #REF! | D41: =B41-H41 -> #REF! | E41: =F41/1000000 -> #REF! | F41: =SUMIFS(Pasākumi_kārtas!$K$98:$K$233,Pasākumi_kārtas!#REF!,A41) -> #REF! | H41: =(I41/1000000) -> #REF! | I41: =SUMIFS(Pasākumi_kārtas!$K$98:$K$233,Pasākumi_kārtas!#REF!,'GRAFIKI II'!A41) -> #REF! | J41: =(K41/1000000) -> #REF! | K41: =SUMIFS(Pasākumi_kārtas!$K$98:$K$233,Pasākumi_kārtas!#REF!,'GRAFIKI II'!A41) -> #REF!
A42: 2025 II | B42: =C42/1000000 -> #REF! | C42: =SUMIFS(Pasākumi_kārtas!$K$98:$K$233,Pasākumi_kārtas!#REF!,A42) -> #REF! | D42: =B42-H42 -> #REF! | E42: =F42/1000000 -> #REF! | F42: =SUMIFS(Pasākumi_kārtas!$K$98:$K$233,Pasākumi_kārtas!#REF!,A42) -> #REF! | H42: =(I42/1000000) -> #REF! | I42: =SUMIFS(Pasākumi_kārtas!$K$98:$K$233,Pasākumi_kārtas!#REF!,'GRAFIKI II'!A42) -> #REF! | J42: =(K42/1000000) -> #REF! | K42: =SUMIFS(Pasākumi_kārtas!$K$98:$K$233,Pasākumi_kārtas!#REF!,'GRAFIKI II'!A42) -> #REF!
A43: 2025 III | B43: =C43/1000000 -> #REF! | C43: =SUMIFS(Pasākumi_kārtas!$K$98:$K$233,Pasākumi_kārtas!#REF!,A43) -> #REF! | D43: =B43-H43 -> #REF! | E43: =F43/1000000 -> #REF! | F43: =SUMIFS(Pasākumi_kārtas!$K$98:$K$233,Pasākumi_kārtas!#REF!,A43) -> #REF! | H43: =(I43/1000000) -> #REF! | I43: =SUMIFS(Pasākumi_kārtas!$K$98:$K$233,Pasākumi_kārtas!#REF!,'GRAFIKI II'!A43) -> #REF! | J43: =(K43/1000000) -> #REF! | K43: =SUMIFS(Pasākumi_kārtas!$K$98:$K$233,Pasākumi_kārtas!#REF!,'GRAFIKI II'!A43) -> #REF!
A44: 2025 IV | B44: =C44/1000000 -> #REF! | C44: =SUMIFS(Pasākumi_kārtas!$K$98:$K$233,Pasākumi_kārtas!#REF!,A44) -> #REF! | D44: =B44-H44 -> #REF! | E44: =F44/1000000 -> #REF! | F44: =SUMIFS(Pasākumi_kārtas!$K$98:$K$233,Pasākumi_kārtas!#REF!,A44) -> #REF! | H44: =(I44/1000000) -> #REF! | I44: =SUMIFS(Pasākumi_kārtas!$K$98:$K$233,Pasākumi_kārtas!#REF!,'GRAFIKI II'!A44) -> #REF! | J44: =(K44/1000000) -> #REF! | K44: =SUMIFS(Pasākumi_kārtas!$K$98:$K$233,Pasākumi_kārtas!#REF!,'GRAFIKI II'!A44) -> #REF!
...
