Workbook

Sheet Kopsavilkums v3
D6: PIELIKUMS NR. 2
D7: ĀRZEMNIEKA eID KARTES KVANTITATĪVĀ ATTĪSTĪBA
D9: PIEŅĒMUMI
D11: * Latvijā ikgadējā izsniegto ārzemnieku eID karšu skaita mediāna par pēdējiem 3 gadiem ir 1 676. Aprēķins balstīts uz pieņēmumu, ka šis skaitlis ik gadu paliek tādā pašā līmenī.
D12: * Igaunijā par pēdējiem 3 gadiem ir vidēji 43% jeb 42.6 jaundibināti uzņēmumi uz 100 jaunreģistrētajiem e-rezidentiem. Latvijā šis rādītājs ir vidēji 5.5% jeb 5.5 jaundibināti uzņēmumi uz 100 izsniegtajām ārzemnieku eID kartēm. Izaugsmes scenārijā šis īpatsvars netiek mainīts.
D17: IKGADĒJIE RĀDĪTĀJI
D19: Gads | E19: Izsniegto ārzemnieka eID skaits | H19: Ārzemnieka eID īpašnieku dibināto uzņēmumu skaits
E20: Igaunija | F20: Latvija (bāzes scenārijs) | G20: Latvija (izaugsmes scenārijs) | H20: Igaunija | I20: Latvija (bāzes scenārijs) | J20: Latvija (izaugsmes scenārijs) | L20: Gada vidējais izaugsmes temps (CAGR) izsniegtajiem ārzemnieku eID, lai sasniegtu izaugsmes scenāriju | M20: Pēdējo 3 gadu vidējais īpatsvars ārzemnieku ar eID jaundibinātajiem uzņēmumiem, %
D21: 2030 | E21: ='Izejas dati v3'!E27 -> 11149 | F21: ='Izejas dati v3'!D8 -> 1676 | G21: =G22*$L$21 -> 11149 | H21: ='Izejas dati v3'!H27 -> 4752.1208 | I21: ='Izejas dati v3'!F8 -> 91.984423 | J21: =G21*$M$21 -> 611.894 | L21: =POWER(E21/F26,1/5) -> 1.4570003 | M21: ='Izejas dati v3'!I13/100 -> 0.054883308
D22: 2029 | E22: ='Izejas dati v3'!E28 -> 11149 | F22: ='Izejas dati v3'!D9 -> 1676 | G22: =G23*$L$21 -> 7652.023 | H22: ='Izejas dati v3'!H28 -> 4752.1208 | I22: ='Izejas dati v3'!F9 -> 91.984423 | J22: =G22*$M$21 -> 419.96833
D23: 2028 | E23: ='Izejas dati v3'!E29 -> 11149 | F23: ='Izejas dati v3'!D10 -> 1676 | G23: =G24*$L$21 -> 5251.9021 | H23: ='Izejas dati v3'!H29 -> 4752.1208 | I23: ='Izejas dati v3'!F10 -> 91.984423 | J23: =G23*$M$21 -> 288.24176
D24: 2027 | E24: ='Izejas dati v3'!E30 -> 11149 | F24: ='Izejas dati v3'!D11 -> 1676 | G24: =G25*$L$21 -> 3604.5992 | H24: ='Izejas dati v3'!H30 -> 4752.1208 | I24: ='Izejas dati v3'!F11 -> 91.984423 | J24: =G24*$M$21 -> 197.83232
D25: 2026 | E25: ='Izejas dati v3'!E31 -> 11149 | F25: ='Izejas dati v3'!D12 -> 1676 | G25: =F26*$L$21 -> 2473.9865 | H25: ='Izejas dati v3'!H31 -> 4752.1208 | I25: ='Izejas dati v3'!F12 -> 91.984423 | J25: =G25*$M$21 -> 135.78056
D26: 2025 | E26: ='Izejas dati v3'!E32 -> 13169 | F26: ='Izejas dati v3'!D13 -> 1698 | H26: ='Izejas dati v3'!H32 -> 5556 | I26: ='Izejas dati v3'!F13 -> 95
D30: KUMULATĪVIE RĀDĪTĀJI
D32: Gads | E32: Izsniegto ārzemnieka eID skaits | H32: Ārzemnieka eID īpašnieku dibināto uzņēmumu skaits
E33: Igaunija | F33: Latvija (bāzes scenārijs) | G33: Latvija (izaugsmes scenārijs) | H33: Igaunija | I33: Latvija (bāzes scenārijs) | J33: Latvija (izaugsmes scenārijs)
D34: 2030 | E34: =E35+E35*AVERAGE('Izejas dati v3'!$F25:F$32) -> 211824.98 | F34: ='Izejas dati v3'!E8 -> 14416 | G34: =F35+G21 -> 23889 | H34: =H35+H35*(AVERAGE('Izejas dati v3'!$F$43:$F$45)) -> 56931.422 | I34: ='Izejas dati v3'!G8 -> 681.93769 | J34: =J35+J21 -> 1971.717
D35: 2029 | E35: =E36+E36*AVERAGE('Izejas dati v3'!$F26:F$32) -> 196514.78 | F35: ='Izejas dati v3'!E9 -> 12740 | G35: =F36+G22 -> 18716.023 | H35: =H36+H36*(AVERAGE('Izejas dati v3'!$F$43:$F$45)) -> 52888.741 | I35: ='Izejas dati v3'!G9 -> 589.95327 | J35: =J36+J22 -> 1359.823
D36: 2028 | E36: =E37+E37*AVERAGE('Izejas dati v3'!$F$32:F32) -> 182311.16 | F36: ='Izejas dati v3'!E10 -> 11064 | G36: =F37+G23 -> 14639.902 | H36: =H37+H37*(AVERAGE('Izejas dati v3'!$F$43:$F$45)) -> 49133.13 | I36: ='Izejas dati v3'!G10 -> 497.96885 | J36: =J37+J23 -> 939.85465
D37: 2027 | E37: =E38+E38*AVERAGE('Izejas dati v3'!$F$32:F33) -> 164471.81 | F37: ='Izejas dati v3'!E11 -> 9388 | G37: =F38+G24 -> 11316.599 | H37: =H38+H38*(AVERAGE('Izejas dati v3'!$F$43:$F$45)) -> 45644.203 | I37: ='Izejas dati v3'!G11 -> 405.98442 | J37: =J38+J24 -> 651.61289
D38: 2026 | E38: =E39+E39*AVERAGE('Izejas dati v3'!$F$32:F34) -> 148871.8 | F38: ='Izejas dati v3'!E12 -> 7712 | G38: =F39+G25 -> 8509.9865 | H38: =H39+H39*(AVERAGE('Izejas dati v3'!$F$43:$F$45)) -> 42403.024 | I38: ='Izejas dati v3'!G12 -> 314 | J38: =$I$39+J25 -> 453.78056
D39: 2025 | E39: ='Izejas dati v3'!D32 -> 134582 | F39: ='Izejas dati v3'!E13 -> 6036 | H39: ='Izejas dati v3'!D43 -> 39392 | I39: ='Izejas dati v3'!G13 -> 318

Sheet Izejas dati v3
B3: LATVIJA
B5: Avots: | C5: https://www.pmlp.gov.lv/lv/personu-apliecinosi-dokumenti
B6: Latvija
B7: Gads (dati par pilnu gadu) | C7: Ārzemnieka eID pieteikumi | D7: Izsniegtie ārzemnieku eID - IK GADU (2026.-2030.gadam ņemta pēdējo 3 gadu mediāna) | E7: Izsniegtie ārzemnieku eID - KUMULATĪVI (2026.-2030.gadam ņemta pēdējo 3 gadu mediāna) | F7: Ārzemnieku ar eID jaundibināto uzņēmumu skaits - IK GADU | G7: Ārzemnieku ar eID jaundibināto uzņēmumu skaits - KUMULATĪVI | H7: Ārzemnieku ar eID jaundibināto uzņēmumu īpatsvars, % (balstoties uz ikgadējiem datiem) | I7: Jaundibināti uzņēmumi uz 100 izsniegtajiem ārzemnieku eID
B8: 2030 | D8: =MEDIAN($D$13:$D$15) -> 1676 | E8: =SUM(D8:$D$17) -> 14416 | F8: =($I$13/100)*D8 -> 91.984423 | G8: =SUM($F9:F$16) -> 681.93769
B9: 2029 | D9: =MEDIAN($D$13:$D$15) -> 1676 | E9: =SUM(D9:$D$17) -> 12740 | F9: =($I$13/100)*D9 -> 91.984423 | G9: =SUM($F10:F$16) -> 589.95327
B10: 2028 | D10: =MEDIAN($D$13:$D$15) -> 1676 | E10: =SUM(D10:$D$17) -> 11064 | F10: =($I$13/100)*D10 -> 91.984423 | G10: =SUM($F11:F$16) -> 497.96885
B11: 2027 | D11: =MEDIAN($D$13:$D$15) -> 1676 | E11: =SUM(D11:$D$17) -> 9388 | F11: =($I$13/100)*D11 -> 91.984423 | G11: =SUM($F12:F$16) -> 405.98442
B12: 2026 | D12: =MEDIAN($D$13:$D$15) -> 1676 | E12: =SUM(D12:$D$17) -> 7712 | F12: =($I$13/100)*D12 -> 91.984423 | G12: =SUM($F13:F$16) -> 314
B13: 2025 | C13: 1759 | D13: 1698 | E13: =SUM(D13:$D$17) -> 6036 | F13: 95 | G13: =SUM(F13:F$17) -> 318 | H13: =F13/D13 -> 0.055948174 | I13: =AVERAGE(H13:H15)*100 -> 5.4883308
B14: 2024 | C14: 1713 | D14: 1676 | E14: =SUM(D14:$D$17) -> 4338 | F14: 85 | G14: =SUM(F14:F$17) -> 223 | H14: =F14/D14 -> 0.05071599
B15: 2023 | C15: 1017 | D15: 983 | E15: =SUM(D15:$D$17) -> 2662 | F15: 57 | G15: =SUM(F15:F$17) -> 138 | H15: =F15/D15 -> 0.057985758
B16: 2022 | C16: 1698 | D16: 1611 | E16: =SUM(D16:$D$17) -> 1679 | F16: 77 | G16: =SUM(F16:F$17) -> 81 | H16: =F16/D16 -> 0.0477964
B17: 2021 | C17: 77 | D17: 68 | F17: 4
B22: IGAUNIJA
B24: Avots: | C24: https://www.e-resident.gov.ee/dashboard/
B25: Igaunija
B26: Gads (dati par pilnu gadu) | C26: Datums | D26: E-rezidentu skaits - KUMULATĪVI | E26: Jaunreģistrētie e-rezidenti - IK GADU | F26: E-rezidentu skaita pieaugums gadā, % | G26: E-rezidentu jaundibināto uzņēmumu skaits - KUMULATĪVI | H26: E-rezidentu jaundibināto uzņēmumu skaits - IK GADU | I26: E-rezidentu jaundibināto uzņēmumu īpatsvars, % (balstoties uz ikgadējiem datiem) | J26: Jaundibināti uzņēmumi uz 100 jaunreģistrētajiem e-rezidentiem
B27: 2030 | D27: =D28+E27 -> 190327 | E27: =MEDIAN(E28:E30) -> 11149 | F27: =D27/D28-1 -> 0.062223041 | G27: =G28+H27 -> 63152.604 | H27: =($J$32/100)*E27 -> 4752.1208 | I27: =H27/E27 -> 0.4262374
B28: 2029 | D28: =D29+E28 -> 179178 | E28: =MEDIAN(E29:E31) -> 11149 | F28: =D28/D29-1 -> 0.066351642 | G28: =G29+H28 -> 58400.483 | H28: =($J$32/100)*E28 -> 4752.1208 | I28: =H28/E28 -> 0.4262374
B29: 2028 | D29: =D30+E29 -> 168029 | E29: =MEDIAN(E30:E32) -> 11149 | F29: =D29/D30-1 -> 0.071067058 | G29: =G30+H29 -> 53648.362 | H29: =($J$32/100)*E29 -> 4752.1208 | I29: =H29/E29 -> 0.4262374
B30: 2027 | D30: =D31+E30 -> 156880 | E30: =MEDIAN(E31:E33) -> 11149 | F30: =D30/D31-1 -> 0.07650397 | G30: =G31+H30 -> 48896.242 | H30: =($J$32/100)*E30 -> 4752.1208 | I30: =H30/E30 -> 0.4262374
B31: 2026 | D31: =D32+E31 -> 145731 | E31: =MEDIAN(E32:E34) -> 11149 | F31: =D31/D32-1 -> 0.082841688 | G31: =G32+H31 -> 44144.121 | H31: =($J$32/100)*E31 -> 4752.1208 | I31: =H31/E31 -> 0.4262374
B32: 2025 | C32: 46034 | D32: 134582 | E32: =D32-D33 -> 13169 | F32: =D32/D33-1 -> 0.1084645 | G32: =D43 -> 39392 | H32: =E43 -> 5556 | I32: =H32/E32 -> 0.42189992 | J32: {=AVERAGE(I32:I34*100)} -> 42.62374
B33: 2024 | C33: 01/27/2025 | D33: 121413 | E33: =D33-D34 -> 11149 | F33: =D33/D34-1 -> 0.10111188 | G33: =D44 -> 33836 | H33: =E44 -> 4824 | I33: =H33/E33 -> 0.43268455
B34: 2023 | C34: 45320 | D34: 110264 | E34: =D34-D35 -> 10834 | F34: =D34/D35-1 -> 0.10896108 | G34: =D45 -> 29012 | H34: =E45 -> 4595 | I34: =H34/E34 -> 0.42412775
B35: 2022 | C35: 44956 | D35: 99430 | E35: =D35-D36 -> 10146 | F35: =D35/D36-1 -> 0.11363738 | G35: =D46 -> 24417 | H35: =E46 -> 4471 | I35: =H35/E35 -> 0.44066627
B36: 2021 | C36: 44592 | D36: 89284 | E36: =D36-D37 -> 12404 | F36: =D36/D37-1 -> 0.16134235 | G36: =D47 -> 19946
B37: 2020 | C37: 44221 | D37: 76880
B40: Avots: | C40: https://www.e-resident.gov.ee/dashboard/
B41: Igaunija
B42: Gads (dati par pilnu gadu) | C42: Datums | D42: E-rezidentu dibinātie uzņēmumi - KUMULATĪVI | E42: E-rezidentu jaundibināto uzņēmumu skaits - IK GADU | F42: E-rezidentu jaundibināto uzņēmumu skaita pieaugums gadā, % | G42: E-rezidentu dibināto uzņēmumu īpatsvars, % (balstoties uz kumulatīvo bāzi)
B43: 2025 | C43: 46023 | D43: 39392 | E43: =D43-D44 -> 5556 | F43: =E43/E44-1 -> 0.15174129 | G43: =D43/D32 -> 0.29269888
B44: 2024 | C44: 45658 | D44: 33836 | E44: =D44-D45 -> 4824 | F44: =E44/E45-1 -> 0.049836779 | G44: =D44/D33 -> 0.27868515
B45: 2023 | C45: 45292 | D45: 29012 | E45: =D45-D46 -> 4595 | F45: =E45/E46-1 -> 0.027734288 | G45: =D45/D34 -> 0.26311398
B46: 2022 | C46: 44927 | D46: 24417 | E46: =D46-D47 -> 4471 | G46: =D46/D35 -> 0.24556975
B47: 2021 | C47: 44562 | D47: 19946
