Workbook

Sheet lielākie ieguldijumi
D1: 1.1.pielikums
D2: Informatīvajam ziņojumam “Par paveikto veselības aprūpes sistēmas kapacitātes stiprināšanai Covid-19 pacientu ārstēšanas nodrošināšanai un priekšlikumiem neizlietotā finansējuma apguvei”
B3: Medicīniskā iekārta/papildaprīkojums (izmaksu ietilpīgākais aprīkojuma izvilkums no plānotā saraksta) | C3: Skaits | D3: Summa
A5: PSKUS | B5: Portatīva EEG iekārta | C5: 1 | D5: 47916
B6: Mākslīgās plaušas ventilācijas iekārtas gaisa sildītājs un mitrinātājs 24 gab. | C6: 24 | D6: 33396
B7: Vitālo parametru pacienta monitori 26 gab. | C7: 26 | D7: 168999.49
B8: Picco 2 monitors | C8: 1 | D8: 29999.53
B9: Skābekļa sistēmas pārveida lielas plūsmas vajadzībām | C9: 30 | D9: 16605.07
B10: Augsta plūsmas skābekļa terapijas iekārta | C10: 20 | D10: 60984
B11: Peruzori | C11: 180 | D11: 31054.65
B12: Akūta nepātraukta nieru aizstājterapijas iekārta | C12: 2 | D12: 43560
B13: Termiska plazmas mikrobu, vīrusu un baktēriju attīrīšanas iekārta | C13: 2 | D13: 17397.96
B14: Portatīvais MPV | C14: 6 | D14: 82280
B15: Bronhoskopijas tornis ar 4 videobronhoskopiem | C15: 1 | D15: 119843.82
B16: Ātra bronhoskopu dezinfekcijas iekārta | C16: 1 | D16: 30915.5
D17: =SUM(D5:D16) -> 682952.02
A18: RAKUS | B18: Defibrilatori | C18: 10 | D18: 116160
B19: Transporta plaušu ventilācijas iekārta (kopā ar skābekļa balona turētāju) | C19: 6 | D19: 174240
B20: Portatīvā ultrasonogrāfijas ierīce | C20: 5 | D20: 211750
B21: 64 slāņu datortomogrāfijas iekārta ar specializēto modulārās sistēmas konteineri | C21: 1 | D21: 630573.82 | E21: piegāde 10.2021.
B22: 64 slāņu datortomogrāfijas iekārta | C22: 1 | D22: 422453.82 | E22: piegāde 10.2021.
B23: Ultrasonogrāfijas ierīce (ITN) | C23: 1 | D23: 68020.15
B24: Portatīvais palātu rentgens (30kW) | C24: 1 | D24: 105270
B25: Ehokardiogrāfs | C25: 1 | D25: 108900
B26: Nepārtrauktās nieru aizstājēj terap.iekārta | C26: 2 | D26: 39809
B27: Mākslīgā plaušu ventilācijas iekārta (Transporta) | C27: 2 | D27: 60137
D28: =SUM(D18:D27) -> 1937313.8
A29: Daugavpils | B29: Izolācijas "biokapsula" COVID-19 inficēto pacientu transportēšanai | C29: 1 | D29: 11858
B30: Nepārtrauktās nieru aizstājterapijas iekārta | C30: 3 | D30: =26136+21296 -> 47432
B31: Pārvietojamā palātas rentgeniekārta | C31: 1 | D31: 71390
B32: Pārvietojamās USI iekārtas akūto pacientu izmeklēšanai papildus izveidotas RAN un ITN vienībās | C32: 3 | D32: 112124.65
B33: Pārvietojamā palātas rentgeniekārta | C33: 1 | D33: 74859.07
D34: =SUM(D29:D33) -> 317663.72
B35: Mākslīgās plaušu ventilācijas ierīce | C35: 2 | D35: 108900
A36: Vidzeme | B36: Videobronhoskops (daudzreizlietojams) | C36: 1 | D36: 12012.88
B37: Pacientu novērošanas monitors | C37: 10 | D37: =28919+43966 -> 72885
B38: Hemodialīzes iekārta | C38: 2 | D38: 21538
B39: Funkcionālās gultas | C39: 30 | D39: 77265.76
B40: Nepārtrauktās neatkarīgās elektro barošanas sistēmas papildināšana | C40: 1 | D40: 11930.6
B41: Trombelastogrāfs | C41: 1 | D41: 65124.62
...

Sheet kopsavilkums
E2: Papildus piešķirtā finansējums slimnīcu kapacitātes stiprināšanai Covid -19 apstākļos piešķirtā finansējuma sadalījums, izlietojums un plānotās ekonomijas, kas novirzāmas citu aktuālu ar Covid-19 pacientu ārstēšanu saistītu jautājumu risināšani
B3: marts | C3: janv | D3: febr
C4: =D8+D9+D43+D44+D45+D46+D47 -> 26407684 | D4: =D6-D8-D9-D42 -> 40254832 | F4: =F6+G6+H6 -> 62971692 | H4: =H9-D9 -> 0 | R4: 2021.gads | T4: 2022.gads
B5: Piešķirts 1.piešķīrums | C5: Piešķirts 2.piešķīrums | D5: Piešķirts 3.piešķīrums | E5: Kopā piešķirts finansējums | F5: izlietojums uz 04.10.21 no 1.piešķīruma | G5: izlietojums uz 04.10.21 no 2.piešķīruma | H5: izlietojums uz 04.10.21 no 3.piešķīruma | I5: Izlietots kopā uz 04.10.2021 (pārsvarā rēķini par augustu, ar atsevišķiem septembra rēķinu izņēmumiem) | J5: izlietojums uz 04.10.21 no 1.piešķīruma | K5: izlietojums uz 04.10.21 no 2.piešķīruma | L5: izlietojums uz 04.10.21 no 3.piešķīruma | M5: Prognoze par izlietojumu līdz decembrim atlikušie septembra, oktobra un novembra rēķini | N5: norēķini par 2021. gada decembri, kas apmaksājami 2022.gadā | O5: Neizlietotais finansējums 2021.gadā (rasts ietaupījums uz zemākām iepirkumu cenām vai neatbilst MK lēmumam) | P5: Prognoze par piešķirtā finansējuma izlietojumu | R5: Papildus nepieciešamais finansējums par 2021.gadā veiktajiem ieguldījumiem | S5: Papildus nepieciešamais finansējums par 2021.gadā veiktajiem ieguldījumiem (pamatkapitāls) | T5: norēķini par 2021. gada decembri, kas apmaksājami 2022.gadā | U5: Papildus nepieciešamais finansējums 2022.gadā
A6: Kopā trīs piešķīrumi, tai skaitā | B6: =B7+B14+B17 -> 8193718 | C6: =C7+C14+C17 -> 11737623 | D6: =D7+D14+D17 -> 66662516 | E6: =E7+E14+E17 -> 86593857 | F6: =F7+F14+F17 -> 7850896 | G6: =G7+G14+G17 -> 8601149 | H6: =H7+H14+H17 -> 46519647 | I6: =I7+I14+I17 -> 62971692 | ... O6: =O7+O14+O17 -> 2617531.1 | P6: =I6+M6 -> 81633077 | R6: =R7+R14+R17+R48 -> 287496 | S6: =S7+S14+S17+S48 -> 8226850.5 | T6: =T7+T14+T17+T48 -> 6316550.7 | U6: =U7+U14+U17+U48 -> 3074062.4
A7: Kopā infrastruktūrai kapitālsabiedrībās un IV līmeņa slimnīcās | B7: =B9+B13+B11+B12 -> 0 | C7: =C9+C13+C11+C12 -> 0 | D7: =D9+D8+D13+D11+D12 -> 25461377 | E7: =E9+E8+E13+E11+E12 -> 25461377 | F7: =F9+F13+F11+F12 -> 0 | G7: =G9+G13+G11+G12 -> 0 | H7: =H9+H8+H13+H11+H12 -> 22447619 | I7: =I9+I8+I13+I11+I12 -> 22447619 | M7: =M9+M13+M11+M12 -> 1876556 | N7: =N9+N13+N11+N12 -> 471202 | O7: =O9+O13+O11+O12 -> 666000 | R7: =R9+R13+R11+R12 -> 0 | T7: 471202 | U7: =U9+U13+U11+U12 -> 0
A8: infrastruktūra RAKUS | D8: =20387830+1560 -> 20389390 | E8: =D8 -> 20389390 | H8: =20387828.94+1561 -> 20389390 | I8: =E8 -> 20389390
A9: infrastruktūra PSKUS | D9: =1220000+55487 -> 1275487 | E9: =D9 -> 1275487 | H9: =1220000+57048-1561 -> 1275487 | I9: =E9 -> 1275487
A10: II, III, IV līmeņa slimnīcām, tai skaitā: | D10: =D18+D11+D12 -> 11670079 | E10: =E18+E11+E12 -> 22818575 | H10: =H18+H11+H12 -> 4284166 | I10: =I18+I11+I12 -> 11953366 | M10: =M18+M11+M12 -> 6570429.3 | N10: =N18+N11+N12 -> 2343248.7 | O10: =O18+O11+O12 -> 1951531.1 | R10: =R18+R11+R12 -> 287496 | S10: =S18+S11+S12 -> 0 | T10: =T18+T11+T12 -> 2343248.7 | U10: =U18+U11+U12 -> 3074062.4
A11: infrastruktūra Jēkabpils | D11: 2900500 | E11: 2900500 | H11: 768944 | I11: ='[1]3.1'!G9 -> 768944 | M11: =E11-N11-I11 -> 1681556 | N11: =[2]Kopsavilkums!$D$10 -> 450000 | T11: 450000
A12: infrastruktūra Vidzeme | D12: 170000 | E12: 170000 | H12: 13798 | I12: 13798 | M12: =E12-N12-I12 -> 135000 | N12: 21202 | T12: 21202
A13: operatīvā datu paneļa izveidei | D13: 726000 | E13: 726000 | M13: 60000 | O13: 666000
A14: tarifiem | B14: =B15+B16 -> 0 | C14: =C15+C16 -> 0 | D14: =D15+D16 -> 27858753 | E14: =E15+E16 -> 27858753 | F14: =F15+F16 -> 0 | G14: =G15+G16 -> 0 | H14: =H15+H16 -> 15827797 | I14: =I15+I16 -> 15827797 | ... O14: =O15+O16 -> 0 | R14: =R15+R16 -> 0 | T14: =T16 -> 3973302 | U14: =U15+U16 -> 0
A15: observācijas gultu apmaksai | D15: 3474533 | E15: 3474533 | H15: 2432174 | I15: ='[1]3_LNG_KOPA'!G26 -> 2432174 | M15: =E15-I15 -> 1042359 | V15: Izveidoto gultu skaits uz 4.10.21 par izlietoto finansējumu, atbilstoši plānotajam
A16: IT gultu uzturēšanai | D16: 24384220 | E16: 24384220 | H16: 13395623 | I16: 13395623 | M16: =E16-I16 -> 10988597 | N16: =E16-I16-M16 -> 0 | T16: 3973302
A17: Kopā gultām un iekārtām | B17: =B18+B42 -> 8193718 | C17: =C18+C42 -> 11737623 | D17: =D18+D42 -> 13342386 | E17: =E18+E42 -> 33273727 | F17: =F18+F42 -> 7850896 | G17: =G18+G42 -> 8601149 | H17: =H18+H42 -> 8244231 | I17: =I18+I42 -> 24696276 | ... O17: =O18+O42 -> 1951531.1 | R17: =R18+R42 -> 287496 | S17: =S18+S42 -> 8120838.5 | T17: 1872046.7 | U17: =U18+U42 -> 3074062.4
A18: II, III, IV līmeņa slimnīcām, tai skaitā: | B18: =SUM(B19:B39)+B41+B40 -> 4172321 | C18: =SUM(C19:C39)+C41+C40 -> 6976175 | D18: =SUM(D19:D39)+D41+D40 -> 8599579 | E18: =SUM(E19:E39)+E41+E40 -> 19748075 | F18: =SUM(F19:F39)+F41+F40 -> 3829499 | G18: =SUM(G19:G39)+G41+G40 -> 3839701 | H18: =SUM(H19:H39)+H41+H40 -> 3501424 | I18: =SUM(I19:I39)+I41+I40 -> 11170624 | ... O18: =SUM(O19:O39)+O41+O40 -> 1951531.1 | R18: =SUM(R19:R39)+R41+R40 -> 287496 | S18: =SUM(S19:S39)+S41+S40 -> 0 | T18: 1872046.7 | U18: =SUM(U19:U39)+U41+U40 -> 3074062.4 | V18: Jaunas gultas | W18: Pārprofilētas | X18: IT gultas aprīkotas atbilstoši līmenim | Y18: Jaunas IT gultas
A19: SIA "Liepājas reģionālā slimnīca" | B19: 127113 | C19: 1232639 | D19: 111636 | E19: ='[1]1_LNG_kopā'!D12+'[1]2_LNG_kopā'!D10+'[1]3_LNG_kopā'!D11 -> 1471388 | F19: 68231 | G19: 1215165 | H19: 109453 | I19: =[1]LNG_kopā_1!E12+[1]LNG_kopā_2!E11+[1]LNG_kopā_3!G11 -> 1392849 | J19: =B19-F19 -> 58882 | K19: =C19-G19 -> 17474 | L19: =D19-H19 -> 2183 | O19: =[1]LNG_kopā_1!R12+[1]LNG_kopā_2!T11+'[1]3.1'!S11 -> 78539 | W19: =[1]gultu_salidzinajums!P7 -> 30 | X19: =[1]gultu_salidzinajums!Q7 -> 6 | Z19: Pasākuma īstenošana pabeigta.
A20: SIA "Ziemeļkurzemes reģionālā slimnīca" Ventspils, Talsu filiāle | B20: 359230 | C20: 198375 | D20: 1381747 | E20: ='[1]1_LNG_kopā'!D15+'[1]3_LNG_kopā'!D13+'[1]2_LNG_kopā'!D12 -> 1939352 | F20: 335994 | G20: 192083 | H20: 1378197 | I20: =[1]LNG_kopā_1!E15+[1]LNG_kopā_2!E13+[1]LNG_kopā_3!G13 -> 1906274 | J20: =B20-F20 -> 23236 | K20: =C20-G20 -> 6292 | L20: =D20-H20 -> 3550 | O20: =[1]LNG_kopā_1!R15+[1]LNG_kopā_2!T13+[1]LNG_kopā_3!S13 -> 33078 | R20: 63000 | U20: 21000 | W20: =[1]gultu_salidzinajums!P8 -> 56 | X20: =[1]gultu_salidzinajums!Q8 -> 15 | Y20: =[1]gultu_salidzinajums!R8 -> 8 | Z20: Pasākuma īstenošana pabeigta.
A21: SIA "Vidzemes slimnīca" | B21: 67510 | C21: 1972320 | D21: =647610-D12 -> 477610 | E21: ='[1]1_LNG_kopā'!D14+'[1]3_LNG_kopā'!D8+'[1]2_LNG_kopā'!D8-170000 -> 2517440 | F21: 27844 | G21: 317579 | H21: =225630-H12 -> 211832 | I21: =[1]LNG_kopā_1!E14+[1]LNG_kopā_2!E9+[1]LNG_kopā_3!G8-13798 -> 557255 | J21: =B21-F21 -> 39666 | K21: =C21-G21 -> 1654741 | L21: =D21-H21 -> 265778 | M21: =E21-I21-N21-O21 -> 341806.1 | N21: =[2]Kopsavilkums!$D$9+[3]Kopsav_dec!$E$9+[4]Kopā_dec!$E$14 -> 1575461.2 | O21: =[1]LNG_kopā_1!N14+[1]LNG_kopā_2!Q9+[1]LNG_kopā_3!U8 -> 42917.74 | T21: 1575461 | U21: =240802.41-U12 -> 240802.41 | W21: =[1]gultu_salidzinajums!P9 -> 27 | X21: =[1]gultu_salidzinajums!Q9 -> 3 | Z21: Pasākuma īstenošana turpinās.
A22: SIA "Daugavpils reģionālā slimnīca" | B22: 330816 | C22: 820397 | D22: 12624 | E22: ='[1]1_LNG_kopā'!D9+'[1]3_LNG_kopā'!D7+'[1]2_LNG_kopā'!D7 -> 1163837 | F22: 330816 | G22: 362553 | H22: 0 | I22: =[1]LNG_kopā_1!E9+[1]LNG_kopā_2!E8+[1]LNG_kopā_3!G7 -> 693369 | J22: =B22-F22 -> 0 | K22: =C22-G22 -> 457844 | L22: =D22-H22 -> 12624 | M22: =E22-I22-O22 -> 142021.19 | O22: =[1]LNG_kopā_1!N9+[1]LNG_kopā_2!Q8+[1]LNG_kopā_3!G7 -> 328446.81 | W22: =[1]gultu_salidzinajums!P10 -> 87 | Z22: Pasākuma īstenošana turpinās.
A23: SIA "Rēzeknes slimnīca" | B23: 2411290 | C23: 222470 | D23: 1443383 | E23: ='[1]1_LNG_kopā'!D13+'[1]3_LNG_kopā'!D12+'[1]2_LNG_kopā'!D11 -> 4077143 | F23: 2381502 | G23: 140971 | H23: 60457 | I23: 2582930 | J23: =B23-F23 -> 29788 | K23: =C23-G23 -> 81499 | L23: =D23-H23 -> 1382926 | M23: =E23-I23-N23-O23 -> 1342338 | N23: =[2]Kopsavilkums!$D$13 -> 102800 | O23: =[1]LNG_kopā_1!N13+19287 -> 49075 | R23: 49075 | T23: =102800 -> 102800 | U23: 1190485 | W23: =[1]gultu_salidzinajums!P11 -> 20 | Y23: =[1]gultu_salidzinajums!R11 -> 8 | Z23: Pasākuma īstenošana turpinās.
A24: SIA"Jēkabpils reģionālā slimnīca" | B24: 319171 | C24: 1144327 | D24: 1520796 | E24: 2984294 | F24: 263390 | G24: 459174 | H24: 41083 | I24: ='[1]3.1'!G10+[1]LNG_kopā_2!E10+[1]LNG_kopā_1!E10 -> 763647 | J24: =B24-F24 -> 55781 | K24: =C24-G24 -> 685153 | L24: =D24-H24 -> 1479713 | M24: =E24-I24-N24-O24 -> 2091205.1 | N24: =[3]Kopsav_dec!$E$10 -> 125516 | O24: 3925.89 | T24: 125516 | W24: =[1]gultu_salidzinajums!P12 -> 55 | X24: =[1]gultu_salidzinajums!Q12 -> 3 | Z24: Pasākuma īstenošana turpinās.
A25: SIA "Jelgavas pilsētas slimnīca" | B25: 256324 | C25: 252329 | D25: 6015 | E25: ='[1]1_LNG_kopā'!D11+'[1]3_LNG_kopā'!D14+'[1]2_LNG_kopā'!D13 -> 514668 | F25: 256324 | G25: 221135 | H25: 6014 | I25: ='[1]3.1'!G14+[1]LNG_kopā_2!E14+[1]LNG_kopā_1!E11 -> 483473 | J25: =B25-F25 -> 0 | K25: =C25-G25 -> 31194 | L25: =D25-H25 -> 1 | O25: =E25-I25 -> 31195 | R25: 175421 | U25: 1621775 | W25: =[1]gultu_salidzinajums!P13 -> 50 | Z25: Pasākuma īstenošana pabeigta.
A26: SIA "Balvu un Gulbenes slimnīcu apvienība" slimnīcā Balvos | B26: 150867 | C26: 18233 | D26: 328381 | E26: ='[1]1_LNG_kopā'!D8+'[1]3_LNG_kopā'!D18+'[1]2_LNG_kopā'!D18 -> 497481 | F26: 17457 | G26: 0 | H26: 317425 | I26: ='[1]3.1'!G18+[1]LNG_kopā_2!E19+[1]LNG_kopā_1!E8 -> 334882 | J26: =B26-F26 -> 133410 | K26: =C26-G26 -> 18233 | L26: =D26-H26 -> 10956 | O26: =E26-I26 -> 162599 | V26: =[1]gultu_salidzinajums!O14 -> 25 | Z26: Pasākuma īstenošana pabeigta.
A27: SIA Bauskas slimnīca | C27: 107776 | E27: ='[1]2_LNG_kopā'!D14 -> 107776 | G27: 47645 | I27: 47645 | J27: =B27-F27 -> 0 | K27: =C27-G27 -> 60131 | L27: =D27-H27 -> 0 | O27: =E27-I27 -> 60131 | W27: =[1]gultu_salidzinajums!P15 -> 20 | Z27: Pasākuma īstenošana pabeigta.
A28: SIA Aizkraukles slimnīca | C28: 61860 | E28: ='[1]2_LNG_kopā'!D15 -> 61860 | G28: 58792 | I28: 58792 | J28: =B28-F28 -> 0 | K28: =C28-G28 -> 3068 | L28: =D28-H28 -> 0 | O28: =E28-I28 -> 3068 | W28: 40 | Z28: Pasākuma īstenošana pabeigta.
A29: SIA Ludzas medicīnas centrs | C29: 207750 | E29: ='[1]2_LNG_kopā'!D16 -> 207750 | G29: 160217 | I29: =[1]LNG_kopā_2!E17 -> 160217 | J29: =B29-F29 -> 0 | K29: =C29-G29 -> 47533 | L29: =D29-H29 -> 0 | O29: =E29-I29 -> 47533 | Z29: Pasākuma īstenošana pabeigta.
A30: SIA "Rīgas 1.slimnīca" | C30: 389130 | D30: 442980 | E30: ='[1]2_LNG_kopā'!D17+'[1]3_LNG_kopā'!D17 -> 832110 | G30: 315819 | H30: 277770 | I30: ='[1]3.1'!G17+[1]LNG_kopā_2!E18 -> 593589 | J30: =B30-F30 -> 0 | K30: =C30-G30 -> 73311 | L30: =D30-H30 -> 165210 | M30: =E30-I30-N30-O30 -> 196863.5 | N30: =[2]Kopsavilkums!$D$18+[3]Kopsav_dec!$E$18 -> 41657.5 | T30: 41658 | V30: 50 | Z30: Pasākuma īstenošana turpinās.
A31: SAI "Alūksnes slimnīca" | C31: 4500 | D31: 506376 | E31: ='[1]2_LNG_kopā'!D19+'[1]3_LNG_kopā'!D19 -> 510876 | G31: 4500 | H31: 169703 | I31: ='[1]3.1'!G19+[1]LNG_kopā_2!E20 -> 174203 | J31: =B31-F31 -> 0 | K31: =C31-G31 -> 0 | L31: =D31-H31 -> 336673 | M31: =E31-I31-O31 -> 335340.37 | O31: 1332.63 | Z31: Pasākuma īstenošana turpinās.
A32: SIA "Kuldīgas slimnīca" | C32: 3000 | D32: 2406 | E32: ='[1]2_LNG_kopā'!D20+'[1]3_LNG_kopā'!D21 -> 5406 | G32: 2999 | H32: 2406 | I32: ='[1]3.1'!E21+[1]LNG_kopā_2!E21 -> 5405 | J32: =B32-F32 -> 0 | K32: =C32-G32 -> 1 | L32: =D32-H32 -> 0 | O32: 1 | Z32: Pasākuma īstenošana pabeigta.
A33: SIA "Ogres rajona slimnīca" | D33: 505072 | E33: ='[1]3_LNG_kopā'!D23 -> 505072 | H33: 0 | I33: ='[1]3_LNG_kopā'!E23 -> 0 | J33: =B33-F33 -> 0 | K33: =C33-G33 -> 0 | L33: =D33-H33 -> 505072 | O33: 505072 | Z33: Pasākuma īstenošana nenotiks.
A34: SIA "Jūrmalas slimnīca" | D34: 166502 | E34: ='[1]3_LNG_kopā'!D15 -> 166502 | H34: 117812 | I34: =[1]LNG_kopā_3!G15 -> 117812 | J34: =B34-F34 -> 0 | K34: =C34-G34 -> 0 | L34: =D34-H34 -> 48690 | O34: =E34-I34 -> 48690 | Z34: Pasākuma īstenošana pabeigta.
A35: SIA "Cēsu klīnika" | D35: 355106 | E35: ='[1]3_LNG_kopā'!D20 -> 355106 | H35: 212557 | I35: =[1]LNG_kopā_3!G20 -> 212557 | J35: =B35-F35 -> 0 | K35: =C35-G35 -> 0 | L35: =D35-H35 -> 142549 | M35: =E35-I35 -> 142549 | Y35: 4 | Z35: Pasākuma īstenošana turpinās.
A36: SIA "Tukuma slimnīca" | D36: 540058 | E36: ='[1]3_LNG_kopā'!D16 -> 540058 | H36: 374507 | I36: =[1]LNG_kopā_3!G16 -> 374507 | J36: =B36-F36 -> 0 | K36: =C36-G36 -> 0 | L36: =D36-H36 -> 165551 | O36: =E36-I36 -> 165551 | X36: 4 | Z36: Pasākuma īstenošana pabeigta.
A37: SIA "Dobeles un apkārtnes slimnīca" | D37: 188362 | E37: ='[1]3_LNG_kopā'!D22 -> 188362 | H37: 0 | I37: ='[1]3_LNG_kopā'!E22 -> 0 | J37: =B37-F37 -> 0 | K37: =C37-G37 -> 0 | L37: =D37-H37 -> 188362 | M37: =E37-I37-N37 -> 161750 | N37: =[2]Kopsavilkums!$D$23 -> 26612 | T37: 26612 | Z37: Pasākuma īstenošana turpinās.
A38: SIA "Krāslavas slimnīca" | D38: 264286 | E38: ='[1]3_LNG_kopā'!D24 -> 264286 | H38: 222208 | I38: =[1]LNG_kopā_3!G24 -> 222208 | J38: =B38-F38 -> 0 | K38: =C38-G38 -> 0 | L38: =D38-H38 -> 42078 | O38: =E38-I38 -> 42078 | W38: 2 | Z38: Pasākuma īstenošana turpinās.
A39: SIA "Preiļu slimnīca" | D39: 346239 | E39: ='[1]3_LNG_kopā'!D25 -> 346239 | H39: 0 | I39: 0 | J39: =B39-F39 -> 0 | K39: =C39-G39 -> 0 | L39: =D39-H39 -> 346239 | O39: 346239 | Z39: Pasākuma īstenošana nenotiks.
A40: mākslīgo plaušu ventilācijas iegādei (NVD CENTRALIZĒTI IEGĀDĀTS) | C40: 341069 | E40: 341069 | G40: 341069 | I40: 341069 | J40: =B40-F40 -> 0 | K40: =C40-G40 -> 0 | L40: =D40-H40 -> 0 | O40: =E40-I40 -> 0 | Z40: Pasākuma īstenošana pabeigta.
A41: Planšetēm | B41: 150000 | E41: 150000 | F41: 147941 | I41: 147941 | J41: =B41-F41 -> 2059 | K41: =C41-G41 -> 0 | L41: =D41-H41 -> 0 | O41: =E41-I41 -> 2059 | Z41: Pasākuma īstenošana pabeigta.
...
