Workbook

Sheet Izņemuma_gadījumi_MK
K1: 1. pielikums Informatīvajam ziņojumam "Informatīvais ziņojums par Finanšu ministrijas pārziņā esošo Eiropas Savienības fondu un ārvalstu finanšu palīdzības aktualitātēm līdz 2023. gada 1. septembrim (pusgada ziņojums)"
B2: Priekšlikumi atbalsta samazinājuma nepiemērošanai ES fondu projektos
B3: 1) Dati apkopoti analīzei, balstoties uz MK 2014. gada 16. decembra noteikumu Nr.784 "Kārtība, kādā Eiropas Savienības struktūrfondu un Kohēzijas fonda vadībā iesaistītās institūcijas nodrošina plānošanas dokumentu sagatavošanu un šo fondu ieviešanu 2014.–2020.gada plānošanas periodā" 51.3 punktā noteikto. Tabulā apkopoti divi finansējuma avoti: ES fondu finansējums un valsts budžeta finansējums (Valsts budžeta dotācijas pašvaldībām aprēķinos neizmanto).
B5: 2) Projektos identificētās novirzes virs noteikumos noteiktajiem 25 % ir iekrāsotas.
B6: 3) Projektu kārtošanas prioritāte: Iespējamās atbalsta samazinājuma summas secībā no lielākās uz mazāko, atbildīgo iestāžu dalījumā
B7: Sagatavots 18.07.2023.
B8: Nr.p.k. | C8: Specifiskā atbalsta mērķa numurs | D8: Finansējuma saņēmējs | E8: Projekta nosaukums | H8: 2022. gada plānu neizpilde | I8: Izpildītie % (projektu skaits) | J8: Iespējamais atbalsta samazinājums (ES fondu +Valsts budžeta daļa) | K8: Priekšlikums MK lēmumam: Saskaņā ar MK 2014. gada 16. decembra noteikumu Nr. 784 51.4.7. apakšpunktu atbalstīt atsevišķu izņēmuma gadījumu piemērošanu un atļaut Centrālajai finanšu un līgumu aģentūrai nesamazināt ES fonda un valsts budžeta līdzfinansējumu, ja tāds projektā ir paredzēts, par starpību, kas pārsniedz 25 % no plānoto maksājuma pieprasījumu iesniegšanas grafikā paredzētā: (1) saskaņā ar atbildīgo iestāžu iesniegtajiem priekšlikumiem: - Izglītības un zinātnes ministrijas vienam projektam.
E9: Projekti, kuriem atbildīgā iestāde rosina lemt par atbalsta nesamazināšanu | F9: =#REF!+#REF!+F11+#REF! -> #REF! | G9: =#REF!+#REF!+G11+#REF! -> #REF! | H9: =H11 -> -169332.55 | I9: =I12 -> 0.2842 | J9: =J11 -> -110192.55
B10: 1 | C10: 2 | D10: 3 | E10: 4 | H10: 5 | I10: 6 | J10: 7 | K10: 8
A11: =LEFT(RIGHT(D11,17),16) | B11: Izglītības un zinātnes ministrijas ierosinājumi | F11: =SUBTOTAL(9,F12:F12) -> -169332.55 | G11: =SUBTOTAL(9,G12:G12) -> 0.2842 | H11: =SUBTOTAL(9,H12:H12) -> -169332.55 | I11: 2 | J11: =SUBTOTAL(9,J12:J12) -> -110192.55
A12: =LEFT(RIGHT(D12,17),16) -> 1.1.1.1/19/A/002 | B12: 1 | C12: 1.1.1 | D12: Sabiedrība ar ierobežotu atbildību "Blue energy global" (1.1.1.1/19/A/002) | E12: Jaunu adiabātisko dzesēšanas paneļu prototipa izstrāde dzesēšanas iekārtu ilgtspējas un energoefektivitātes nodrošināšanai | F12: -169332.55 | G12: 0.2842 | H12: -169332.55 | I12: 0.2842 | J12: -110192.55 | K12: Izglītības un zinātnes ministrija rosina nesamazināt finansējumu. CFLA finansējuma nesamazināšanas pamatojums pēc būtības:" 01.11.2022. apstiprināti LG2 (spēkā no 19.09.2022.), tādejādi projekta īstenošanas termiņš pagarināts par 6 mēnešiem (no 28.02.2023. līdz 28.08.2023.), jo projekta pirmos 18 mēnešus spēkā bija ilgstoši ierobežojumi valstiskā mērogā saistībā ar Covid-19 pandēmijas izraisītajām sekām, kas ievērojami kavēja gan uzņēmuma, gan sadarbības partnera RTU pētniecisko darbu klātienē. Ņemot vērā pagarinājumu, arī neizmantotā projekta ERAF summa 67 636.12 EUR apmērā tika pārdalīta attiecīgi no 2022.gada uz 2023.gadu. Jāņem vērā, ka projekta finansējuma saņēmēji ir informējuši, ka projekts beigsies ar ietaupījumu. CFLA rosina AI atbalstīt finanšu disciplīnas pasākumu nepiemērošanu un virzīt projektu uz MK, izņēmuma gadījuma piemērošanai (MKN 784 51.4 (prim) 7.p.)."
B14: Finanšu ministrs | K14: A. Ašeradens
B15: Pelnis 25629163
B16: ints.pelnis@fm.gov.lv

Sheet Projektu_pagarinājumi
M1: 1. pielikums Informatīvajam ziņojumam "Informatīvais ziņojums par Finanšu ministrijas pārziņā esošo Eiropas Savienības fondu un ārvalstu finanšu palīdzības aktualitātēm līdz 2023. gada 1. septembrim (pusgada ziņojums)" | N1: IZM | O1: =COUNTIF($N$8:$N$73,N1) -> 0
A2: Finansējuma saņēmēju priekšlikumi projektu ieviešanas termiņu pagarinājumiem ES fondu 2014.-2020. gada plānošanas perioda darbības programmas ietvaros | N2: EM | O2: =COUNTIF($N$8:$N$73,N2) -> 3
A3: Sagatavots 31.07.2023. | N3: VARAM | O3: =COUNTIF($N$8:$N$73,N3) -> 0
N4: LM | O4: =COUNTIF($N$8:$N$73,N4) -> 0
A5: Nr.p.k. | B5: Specifiskā atbalsta mērķis | C5: Projekta Nr. | D5: Projekta nosaukums (Projekta Nr.) | E5: Finansējuma saņēmējs | F5: Projekta līguma attiecināmās izmaksas EUR | G5: t.sk. ES fondi EUR | H5: Projektā līdz 18.07.2023 veiktie maksājumi % | J5: Projekta līguma datums | K5: Projekta ieviešanas beigu datums | M5: Atbildīgo iestāžu priekšlikumi MK lēmumam: Saskaņā ar MK 2014. gada 16. decembra noteikumu Nr. 784 51.4.7. apakšpunktu atbalstīt atsevišķu izņēmuma gadījumu piemērošanu un atļaut Centrālajai finanšu un līgumu aģentūrai (CFLA) pagarināt projektu īstenošanas termiņus vairāk kā par sešiem mēnešiem, nepārsniedzot plānošanas dokumentos definēto. | N5: KM | O5: =COUNTIF($N$8:$N$73,N5) -> 0
K6: Aktuālais | L6: Plānotais | R6: MK max termiņš 2022.31.12
A7: 1 | B7: 2 | C7: 1 | D7: 3 | E7: 4 | F7: 6 | G7: 6.1. | H7: 7 | I7: 5 | J7: 9 | K7: 6 | L7: 7 | M7: 8 | N7: a | O7: b | Q7: 1 | R7: 2
A8: 1 | B8: =VLOOKUP(C8,'IPIA_termiņu pagrinājumiem'!A:AC,8,0) -> 3.1.1 | C8: 3.1.1.5/19/A/011 | D8: =VLOOKUP(C8,'IPIA_termiņu pagrinājumiem'!A:AC,2,0)& " (" &C8&")" -> Ražošanas ēkas izveide Kurzemes reģionā, Liepājā (3.1.1.5/19/A/011) | E8: =VLOOKUP(C8,'IPIA_termiņu pagrinājumiem'!A:AC,9,0) -> Sabiedrība ar ierobežotu atbildību "EB Liepāja" | F8: =VLOOKUP(C8,'IPIA_termiņu pagrinājumiem'!A:AC,10,0) -> 3333333.3 | G8: =VLOOKUP(C8,'IPIA_termiņu pagrinājumiem'!A:AC,12,0) -> 1500000 | H8: =VLOOKUP(C8,'IPIA_termiņu pagrinājumiem'!A:AC,11,0) -> 2451115.6 | I8: =H8/F8 -> 0.73533467 | J8: =VLOOKUP(C8,'IPIA_termiņu pagrinājumiem'!A:AC,3,0) -> 43845 | K8: =VLOOKUP(C8,'IPIA_termiņu pagrinājumiem'!A:AC,5,0) -> 45091 | L8: 45290 | M8: Ekonomikas ministrija rosina pagarināt termiņu. CFLA pamatojums: " Projekta īstenošanas termiņa pagarinājums nepieciešams, lai nodrošinātu projekta īstenošanas mērķu sasniegšanu - ražošanas iekārtas piegādi un izvietošanu ēkā, jauno darba vietu izveidi. SIA "EB Liepāja" ražošanas ēkas telpu nomnieks SIA “VST Latvia” šobrīd aktīvi strādā pie pieliekošo veidņu ražošanas manuālās līnijas komplektācijas sadarbībā ar partneriem - Slovākijas “VST Production s.r.o” un Austrijas “VST Engineering GmbH” uzņēmumiem, jo plānoto manuālo ražošanas līniju, kas atrodas Slovākijā, Nitrā ir nepieciešams papildināt un pilnveidot, lai pielāgotu SIA "VST Latvia" ražošanas vajadzībām. Paredzams, ka līnija varētu tikt uzstādīta un saimnieciskā darbība uzsākta š.g. novembrī/decembrī, attiecīgi izveidojot jauno darba vietu skaitu. Papildus, ņemot vērā, ka SIA “VST Latvia” ārzemju sadarbības partneri ir vairākkārtīgi kavējuši nospraustos termiņus, tad SIA “EB Liepāja” paralēli, saskaņojot ar SIA “VST Latvia”, ir noslēgusi sadarbības līgumus ar SIA “Kivi Real Estate” un Liepājas speciālās ekonomiskās zonas SIA "Vecās Ostmalas Biznesa Parks", par potenciāli jaunu nomnieku piesaisti" | N8: EM | O8: =VLOOKUP(N8,$N$1:$O$5,2,0) -> 3
A9: 2 | B9: =VLOOKUP(C9,'IPIA_termiņu pagrinājumiem'!A:AC,8,0) -> 4.2.1 | C9: 4.2.1.2/19/I/012 | D9: =VLOOKUP(C9,'IPIA_termiņu pagrinājumiem'!A:AC,2,0)& " (" &C9&")" -> Paaugstināt valsts ēku Ezermalas ielā 8A, Rīgā, energoefektivitāti (4.2.1.2/19/I/012) | E9: =VLOOKUP(C9,'IPIA_termiņu pagrinājumiem'!A:AC,9,0) -> Nodrošinājuma valsts aģentūra | F9: =VLOOKUP(C9,'IPIA_termiņu pagrinājumiem'!A:AC,10,0) -> 5223361.8 | G9: =VLOOKUP(C9,'IPIA_termiņu pagrinājumiem'!A:AC,12,0) -> 4439857.5 | H9: =VLOOKUP(C9,'IPIA_termiņu pagrinājumiem'!A:AC,11,0) -> 4745699.8 | I9: =H9/F9 -> 0.90855276 | J9: =VLOOKUP(C9,'IPIA_termiņu pagrinājumiem'!A:AC,3,0) -> 44090 | K9: =VLOOKUP(C9,'IPIA_termiņu pagrinājumiem'!A:AC,5,0) -> 45230 | L9: 45291 | M9: Ekonomikas ministrija rosina pagarināt termiņu. CFLA pamatojums: "Projekta īstenošanas termiņa pagarinājums nepieciešams, jo projekta īstenošanas gaitā radušies neparedzēti darbi, kam nepieciešami papildu saskaņojumi no atbildīgajām iestādēm, kas attiecīgi kavē būvdarbu līguma izpildi. Projekts ir apjomīgs un sarežģīts - būvdarbu līguma ietvaros darbi tiek veikti 4 ēkās, no kurām 3 ir projekta ēkas."
A10: 3 | B10: =VLOOKUP(C10,'IPIA_termiņu pagrinājumiem'!A:AC,8,0) -> 5.2.1 | C10: 5.2.1.2/17/A/002 | D10: =VLOOKUP(C10,'IPIA_termiņu pagrinājumiem'!A:AC,2,0)& " (" &C10&")" -> Poliolefīnu pārstrādes rūpnīca (5.2.1.2/17/A/002) | E10: =VLOOKUP(C10,'IPIA_termiņu pagrinājumiem'!A:AC,9,0) -> Sabiedrība ar ierobežotu atbildību "Clean R" | F10: =VLOOKUP(C10,'IPIA_termiņu pagrinājumiem'!A:AC,10,0) -> 3606221.9 | G10: =VLOOKUP(C10,'IPIA_termiņu pagrinājumiem'!A:AC,12,0) -> 0 | H10: =VLOOKUP(C10,'IPIA_termiņu pagrinājumiem'!A:AC,11,0) -> 3198052.7 | I10: =H10/F10 -> 0.88681529 | J10: =VLOOKUP(C10,'IPIA_termiņu pagrinājumiem'!A:AC,3,0) -> 43098 | K10: =VLOOKUP(C10,'IPIA_termiņu pagrinājumiem'!A:AC,5,0) -> 45104 | L10: 45257 | M10: Vides aizsardzības un reģionālās attīstības ministrija rosina pagarināt termiņu. CFLA pamatojums: "Iegādātajām iekārtām testēšanai nepieciešams ilgāks laiks nekā sākotnēji plānots. Tas ļautu pārliecināties par iekārtu veiktspēju neatkarīgi no izejmateriālu specifikas un tādējādi preventīvi konstatēt un novērst veiktspējas nepilnības, kas secīgi ļautu nodrošināt kvalitatīvāku iekārtu darbību to lietošanas laikā. Finansējuma saņēmējs, balstoties uz savu pieredzi, secina, ka ir būtiski nepilnības novērst pirms gala pieņemšanas – nodošanas akta parakstīšanas. Līguma grozījumi par termiņa pagarināšanu iesniegti 20.06.2023." | N10: EM | O10: =VLOOKUP(N10,$N$1:$O$5,2,0) -> 3 | R10: nav
A11: 4 | B11: =VLOOKUP(C11,'IPIA_termiņu pagrinājumiem'!A:AC,8,0) -> 5.3.1 | C11: 5.3.1.0/17/I/022 | D11: =VLOOKUP(C11,'IPIA_termiņu pagrinājumiem'!A:AC,2,0)& " (" &C11&")" -> Ūdenssaimniecības pakalpojumu attīstība Kārsavā, 2.kārta (5.3.1.0/17/I/022) | E11: =VLOOKUP(C11,'IPIA_termiņu pagrinājumiem'!A:AC,9,0) -> Sabiedrība ar ierobežotu atbildību "KĀRSAVAS NAMSAIMNIEKS" | F11: =VLOOKUP(C11,'IPIA_termiņu pagrinājumiem'!A:AC,10,0) -> 274758.8 | G11: =VLOOKUP(C11,'IPIA_termiņu pagrinājumiem'!A:AC,12,0) -> 0 | H11: =VLOOKUP(C11,'IPIA_termiņu pagrinājumiem'!A:AC,11,0) -> 208762.51 | I11: =H11/F11 -> 0.75980282 | J11: =VLOOKUP(C11,'IPIA_termiņu pagrinājumiem'!A:AC,3,0) -> 43171 | K11: =VLOOKUP(C11,'IPIA_termiņu pagrinājumiem'!A:AC,5,0) -> 45180 | L11: 45291 | M11: Vides aizsardzības un reģionālās attīstības ministrija rosina pagarināt termiņu. CFLA pamatojums: " Saskaņā ar finansējuma saņēmēja iesniegto rīcības plānu (pie MP Nr.12) līdz projekta īstenošanas beigām - 11.09.2023. finansējuma saņēmējs plāno sasniegt iznākuma rādītāju - 126 iedzīvotāji (70,39%) no plānotajiem 179 iedzīvotājiem. Projekta īstenošanas termiņa pagarināšana līdz 31.12.2023. finansējuma saņēmējam dotu iespēju sasniegt faktisko iznākuma rādītāju 85% apmērā." | N11: EM | O11: =VLOOKUP(N11,$N$1:$O$5,2,0) -> 3 | R11: nav
A12: 5 | B12: =VLOOKUP(C12,'IPIA_termiņu pagrinājumiem'!A:AC,8,0) -> 5.5.1 | C12: 5.5.1.0/20/I/004 | D12: =VLOOKUP(C12,'IPIA_termiņu pagrinājumiem'!A:AC,2,0)& " (" &C12&")" -> Latviešu strēlnieku laukuma atjaunošana (5.5.1.0/20/I/004) | E12: =VLOOKUP(C12,'IPIA_termiņu pagrinājumiem'!A:AC,9,0) -> Valsts akciju sabiedrība "Valsts nekustamie īpašumi" | F12: =VLOOKUP(C12,'IPIA_termiņu pagrinājumiem'!A:AC,10,0) -> 869672.94 | G12: =VLOOKUP(C12,'IPIA_termiņu pagrinājumiem'!A:AC,12,0) -> 739222 | H12: =VLOOKUP(C12,'IPIA_termiņu pagrinājumiem'!A:AC,11,0) -> 753696.91 | I12: =H12/F12 -> 0.86664409 | J12: =VLOOKUP(C12,'IPIA_termiņu pagrinājumiem'!A:AC,3,0) -> 44193 | K12: =VLOOKUP(C12,'IPIA_termiņu pagrinājumiem'!A:AC,5,0) -> 45196 | L12: 45291 | M12: Kultūras ministrija rosina pagarināt termiņu. CFLA pamatojums: "Projekta īstenošanas termiņa pagarinājums nepieciešams sakarā ar objekta noslēguma izpilddokumentācijas saskaņošanas kavēšanās riskiem.."
A14: Finanšu ministrs | M14: A. Ašeradens
A15: Pelnis 25629163
A16: ints.pelnis@fm.gov.lv

Sheet IPIA_termiņu pagrinājumiem
A1: IPIA_termiņu pagrinājumiem
A3: Sagatavots: 18.07.2023
A5: Projekts Kods | B5: Projekts Nosaukums | C5: Projekts Līguma datums | D5: Projekts Sākuma datums | E5: Projekts Beigu datums | F5: Projekts Īstenošanas ilgums mēnešos | G5: Projekts Īstenošanas vietas | H5: Specifiskie atbalsta mērķi | I5: Finansējuma avots | J5: Kopā | L5: ERAF | N5: ESF | P5: KF | R5: JNI | T5: VB | V5: VBDP | X5: PB | Z5: Cits | AB5: Privatais
I6: Projekta finansējuma saņēmējs | J6: Projekta finansējums | K6: MP veiktie maksājumi (K) | L6: Projekta finansējums | M6: MP veiktie maksājumi (K) | N6: Projekta finansējums | O6: MP veiktie maksājumi (K) | P6: Projekta finansējums | Q6: MP veiktie maksājumi (K) | R6: Projekta finansējums | S6: MP veiktie maksājumi (K) | T6: Projekta finansējums | U6: MP veiktie maksājumi (K) | V6: Projekta finansējums | W6: MP veiktie maksājumi (K) | X6: Projekta finansējums | Y6: MP veiktie maksājumi (K) | Z6: Projekta finansējums | AA6: MP veiktie maksājumi (K) | AB6: Projekta finansējums | AC6: MP veiktie maksājumi (K)
A7: Kopā | J7: 3.6231594e+09 | K7: 2.4348036e+09 | L7: 1.3595027e+09 | M7: 9.9765666e+08 | N7: 5.9841954e+08 | O7: 5.0662304e+08 | P7: 7.4614464e+08 | Q7: 4.2783196e+08 | R7: 13823832 | S7: 13270512 | T7: 3.4842334e+08 | U7: 1.9839205e+08 | V7: 30303705 | W7: 23041532 | X7: 1.6247027e+08 | Y7: 87283231 | Z7: 2728036 | AA7: 2047976.7 | AB7: 3.6134333e+08 | AC7: 1.7865664e+08
A8: 1.1.1.1/16/A/154 | B8: Tehnoloģiska mācību e-ekosistēma ar gadījumarakstura mijiedarbībām - TELECI | C8: 42793 | D8: 42795 | E8: 43890 | F8: 36 | G8: Kronvalda bulvāris 1, Rīga, LV-1010 | H8: 1.1.1 | I8: RĪGAS TEHNISKĀ UNIVERSITĀTE | J8: 647339.23 | K8: 666791.07 | L8: 550238.34 | M8: 588076.51 | T8: 48550.44 | U8: 51889.12 | Z8: 48550.45 | AA8: 26825.44
A9: 1.1.1.1/16/A/280 | B9: Energoietilpīga ražošanas procesa optimāla plānošana un tā elektroenerģijas patēriņa optimizācija atkarībā no tirgus cenas izmaiņām | C9: 42778 | D9: 42795 | E9: 43890 | F9: 36 | G9: Āzenes iela 12 k-1, Rīga, LV-1048; Kandavas iela 14G, Rīga, LV-1083; Lomonosova iela 1, Rīga, LV-1019 | H9: 1.1.1 | I9: SIA "ENERGOSERT" | J9: 841105.87 | K9: 645185.87 | L9: 599270.19 | M9: 511382 | AB9: 241835.68 | AC9: 133803.87
A10: 1.1.1.1/19/A/002 | B10: Jaunu adiabātisko dzesēšanas paneļu prototipa izstrāde dzesēšanas iekārtu ilgtspējas un energoefektivitātes nodrošināšanai | C10: 44071 | D10: 44075 | E10: 45166 | F10: 36 | G10: Ķīpsalas iela 6A, Rīga, LV-1048; Skolas iela 18, Ogre, Ogres nov., LV-5001 | H10: 1.1.1 | I10: Sabiedrība ar ierobežotu atbildību "Blue energy global" | J10: 1012742.9 | K10: 712483.01 | L10: 598874.84 | M10: 421349.81 | AB10: 413868.02 | AC10: 291133.2
A11: 1.1.1.1/19/A/013 | B11: Koncepcijas “enerģija no atkritumiem” inovācija zema oglekļa satura ekonomikai: jauna oglekļa uztveršanas tehnoloģija cieto sadzīves atkritumu termoķīmiskajai pārstrādei (oglekļa uztveršana un uzglabāšana no atkritumiem – CCSW) | C11: 44105 | D11: 44105 | E11: 45199 | F11: 36 | G11: Jelgavas iela 1, Rīga, LV-1004; Stūri, Stalbes pag., Cēsu nov., LV-4151; Vibsteri, Remtes pag., Saldus nov., LV-3871 | H11: 1.1.1 | I11: LATVIJAS UNIVERSITĀTE | J11: 646361.5 | K11: 577216.64 | L11: 373596.94 | M11: 336237.25 | T11: 224287.44 | U11: 201858.7 | Z11: 28181.36 | AA11: 22742.16 | AB11: 20295.76 | AC11: 16378.53
A12: 1.1.1.1/19/A/016 | B12: Jaunu efektīvu PARP inhibitoru izstrāde | C12: 43969 | D12: 44044 | E12: 45138 | F12: 36 | G12: Aizkraukles iela 21, Rīga, LV-1006 | H12: 1.1.1 | I12: Atvasināta publiska persona "Latvijas Organiskās sintēzes institūts" | J12: 499207.8 | K12: 341376.68 | L12: 324485.07 | M12: 221894.85 | AB12: 174722.73 | AC12: 119481.83
A13: 1.1.1.1/19/A/017 | B13: Jaunas koncepcijas izstrāde zema energopatēriņa ēku būvniecībai no ekoloģiskiem būvmateriāliem | C13: 43909 | D13: 43922 | E13: 45016 | F13: 36 | G13: Jelgavas iela 27, Kalnciems, Kalnciema pag., Jelgavas nov., LV-3016; Ķīpsalas iela 6, Rīga, LV-1048 | H13: 1.1.1 | I13: RĪGAS TEHNISKĀ UNIVERSITĀTE | J13: 645345.85 | K13: 580811.27 | L13: 373009.9 | M13: 335708.91 | T13: 223935 | U13: 201541.5 | Z13: 18571.93 | AA13: 16714.74 | AB13: 29829.02 | AC13: 26846.12
A14: 1.1.1.1/19/A/019 | B14: Selektīvu malārijas treonil-tRNS inhibitoru izveide | C14: 44055 | D14: 44105 | E14: 45199 | F14: 36 | G14: Aizkraukles iela 21, Rīga, LV-1006 | H14: 1.1.1 | I14: Atvasināta publiska persona "Latvijas Organiskās sintēzes institūts" | J14: 648646 | K14: 386341.13 | L14: 374917.38 | M14: 223305.17 | T14: 225080.16 | U14: 134060.37 | AB14: 48648.46 | AC14: 28975.59
A15: 1.1.1.1/19/A/020 | B15: Jauni materiāli optiska temperatūras sensora izveidei (OPTSEN) | C15: 44057 | D15: 44105 | E15: 45199 | F15: 36 | G15: Celtniecības iela 8A, Līvāni, Līvānu nov., LV-5316; Ķengaraga iela 8, Rīga, LV-1063 | H15: 1.1.1 | I15: Atvasināta publiska persona LATVIJAS UNIVERSITĀTES CIETVIELU FIZIKAS INSTITŪTS | J15: 299976 | K15: 268823.72 | L15: 173386.13 | M15: 156047.52 | T15: 104091.67 | U15: 93682.5 | Z15: 13498.92 | AA15: 11456.21 | AB15: 8999.28 | AC15: 7637.49
A16: 1.1.1.1/19/A/031 | B16: Risinājumu rīks optimālai projektēšanai viedo polimēru nano kompozītmateriālu struktūru izveidei izmantojot 3D printēšanu | C16: 43901 | D16: 44013 | E16: 45107 | F16: 36 | G16: Gustava Zemgala gatve 71A, Rīga, LV-1039; Jelgavas iela 3, Rīga, LV-1004; Rāmuļu iela 3, Rīga, LV-1005 | H16: 1.1.1 | I16: LATVIJAS UNIVERSITĀTE | J16: 645000 | K16: 577870.04 | L16: 372810 | M16: 335529 | T16: 223815 | U16: 201433.5 | Z16: 27067.59 | AA16: 22908.23 | AB16: 21307.41 | AC16: 17999.31
A17: 1.1.1.1/19/A/036 | B17: Sekretorā IgA un zarnu mikrobioma mijiedarbība un dinamika antidiabētiskās terapijas laikā | C17: 43886 | D17: 43952 | E17: 45046 | F17: 36 | G17: Rātsupītes iela 1 k-1, Rīga, LV-1067 | H17: 1.1.1 | I17: Atvasināta publiska persona "Latvijas Biomedicīnas pētījumu un studiju centrs" | J17: 648648 | K17: 508953.36 | L17: 374918.54 | M17: 297258.16 | T17: 225080.85 | U17: 178457.75 | Z17: 9729.71 | AA17: 6647.49 | AB17: 38918.9 | AC17: 26589.96
A18: 1.1.1.1/19/A/047 | B18: Lipīdu atkritumu ilgtspējīga valorizācija: mikroorganismu pielietošana bio-virsmaktīvo vielu ražošanā (Waste2Surf) | C18: 44057 | D18: 44105 | E18: 45199 | F18: 36 | G18: Dzērbenes iela 27, Rīga, LV-1006; Jelgavas iela 1, Rīga, LV-1004 | H18: 1.1.1 | I18: LATVIJAS UNIVERSITĀTE | J18: 647877 | K18: 546559.17 | L18: 374472.9 | M18: 318068.55 | T18: 224813.31 | U18: 190951.19 | Z18: 9671.61 | AA18: 7457.84 | AB18: 38919.18 | AC18: 30081.59
A19: 1.1.1.1/19/A/064 | B19: Siltumnīcefekta gāzu emisijas faktoru un lēmumu pieņemšanas atbalsta rīku izstrāde degradētu kūdrāju apsaimniekošanai pēc kūdras ieguves | C19: 43928 | D19: 43922 | E19: 45016 | F19: 36 | G19: Rīgas iela 111, Salaspils, Salaspils nov., LV-2169 | H19: 1.1.1 | I19: Atvasināta publiska persona "Latvijas Valsts mežzinātnes institūts "Silava"" | J19: 675370.69 | K19: 487567.59 | L19: 438990.94 | M19: 330918.94 | AA19: 97119.94 | AB19: 236379.75 | AC19: 59528.71
A20: 1.1.1.1/19/A/075 | B20: Biorafinēšanas pieeja efektīvu kosmētikas izejvielu ieguvei no ārstniecības augu pārstrādes un augu šūnu kultivēšanas procesu blakusproduktiem. | C20: 43964 | D20: 44013 | E20: 45107 | F20: 36 | G20: Izstādes iela 2, Priekuļi, Priekuļu pag., Cēsu nov., LV-4126; Lidlauks, Priekuļu pag., Cēsu nov., LV-4126; Podraga iela 2, Rīga, LV-1007 | H20: 1.1.1 | I20: Nodibinājums "VIDES RISINĀJUMU INSTITŪTS" | J20: 797835.58 | K20: 672430.66 | L20: 582741.35 | M20: 498732.44 | AB20: 215094.23 | AC20: 173698.22
A21: 1.1.1.1/19/A/076 | B21: IT atbalsta sistēmas prototips atgriezeniskās saites sniegšanai skolēnu snieguma uzlabošanai tekstpratības un rēķinpratības apguvei | C21: 44064 | D21: 44075 | E21: 45169 | F21: 36 | G21: Čuibes iela 17, Rīga, LV-1063; Raiņa bulvāris 19, Rīga, LV-1050; Zeļļu iela 23, Rīga, LV-1002 | H21: 1.1.1 | I21: LATVIJAS UNIVERSITĀTE | J21: 644734.17 | K21: 579310.64 | L21: 372656.34 | M21: 335390.71 | T21: 223722.76 | U21: 201350.48 | Z21: 16118.35 | AA21: 14189.81 | AB21: 32236.72 | AC21: 28379.64
A22: 1.1.1.1/19/A/077 | B22: Jaunas pieprasījuma-piedāvājuma vadības sistēmas un to nodrošinošo iekārtu izstrāde elektroenerģijas balancēšanai pārvades tīklu un pieslēguma līmenī | C22: 44021 | D22: 44013 | E22: 44864 | F22: 28 | G22: Dzirnavu iela 105, Rīga, LV-1011; Krišjāņa Barona iela 11 - 48, Rīga, LV-1050 | H22: 1.1.1 | I22: Sabiedrība ar ierobežotu atbildību "Tet" | J22: 541371.85 | K22: 384606.91 | L22: 328666.84 | M22: 233494.85 | AB22: 212705.01 | AC22: 151112.06
A23: 1.1.1.1/19/A/080 | B23: Elektromagnētiska tehnoloģija ar nano-daļiņām stiprināta vieglā sakausējuma kristalizēšanas procesam 3D drukas pielietojumam | C23: 43924 | D23: 44013 | E23: 45107 | F23: 36 | G23: Jelgavas iela 3, Rīga, LV-1004; Miera iela 32, Salaspils, Salaspils nov., LV-2169; Pulka iela 3, Rīga, LV-1007 | H23: 1.1.1 | I23: LATVIJAS UNIVERSITĀTE | J23: 645000 | K23: 577965.69 | L23: 372810 | M23: 335529 | T23: 223815 | U23: 201433.5 | Z23: 28817.43 | AA23: 24437.9 | AB23: 19557.57 | AC23: 16565.29
A24: 1.1.1.1/19/A/082 | B24: Mākslīgā intelekta asistents daudzvalodu sapulču pārvaldībai | C24: 44082 | D24: 44105 | E24: 45199 | F24: 36 | G24: Vienības gatve 75A, Rīga, LV-1004 | H24: 1.1.1 | I24: Sabiedrība ar ierobežotu atbildību "TILDE" | J24: 604434 | K24: 502778.03 | L24: 425783.82 | M24: 354156.86 | AB24: 178650.18 | AC24: 148621.17
A25: 1.1.1.1/19/A/083 | B25: Audu kultūru pielietojuma izpēte apdraudēto ārstniecības augu sugu komerciālai pavairošanai | C25: 43964 | D25: 44013 | E25: 45107 | F25: 36 | G25: Izstādes iela 2, Priekuļi, Priekuļu pag., Cēsu nov., LV-4126; Lidlauks, Priekuļu pag., Cēsu nov., LV-4126 | H25: 1.1.1 | I25: Nodibinājums "VIDES RISINĀJUMU INSTITŪTS" | J25: 732561.14 | K25: 644645.86 | L25: 530804.8 | M25: 477724.32 | AB25: 201756.34 | AC25: 166921.54
A26: 1.1.1.1/19/A/089 | B26: Bērza miza kā vērtīga, atjaunojama izejviela bez-formaldehīda skaidu plātņu un suberīnskābju poliolu iegūšanai poliuretānu izstrādei | C26: 44119 | D26: 44166 | E26: 45260 | F26: 36 | G26: Dzērbenes iela 27, Rīga, LV-1006; Mūkusalas iela 46, Rīga, LV-1004 | H26: 1.1.1 | I26: Atvasināta publiska persona "Latvijas Valsts koksnes ķīmijas institūts" | J26: 645017.89 | K26: 570851.63 | L26: 372820.34 | M26: 335538.31 | T26: 223821.19 | U26: 201439.07 | Z26: 28964.94 | AA26: 20279.38 | AB26: 19411.42 | AC26: 13594.87
A27: 1.1.1.1/19/A/092 | B27: Jaunas pārtikas kūpināšanas tehnoloģijas izstrāde policiklisko aromātisko ogļūdeņražu (benzpirēna) koncentrācijas samazināšanai kūpinātos gaļas produktos - “Blue smoke” | C27: 43967 | D27: 44013 | E27: 45046 | F27: 34 | G27: Rīgas iela 111, Salaspils, Salaspils nov., LV-2169; Sabiles iela 2, Kandava, Tukuma nov., LV-3120 | H27: 1.1.1 | I27: Sabiedrība ar ierobežotu atbildību "LINDA-1" | J27: 601039.4 | K27: 532475.63 | L27: 409007.3 | M27: 362349.66 | AB27: 192032.1 | AC27: 170125.97
A28: 1.1.1.1/19/A/097 | B28: Jauni no Zymomonas mobilis iegūti antimikrobiālie peptīdi pielietojumam ādas un mīksto audu infekciju terapijā | C28: 44064 | D28: 44105 | E28: 45199 | F28: 36 | G28: Jelgavas iela 1, Rīga, LV-1004; Podraga iela 2, Rīga, LV-1007 | H28: 1.1.1 | I28: LATVIJAS UNIVERSITĀTE | J28: 599463.55 | K28: 535370.61 | L28: 346489.93 | M28: 311840.94 | T28: 208013.85 | U28: 187212.47 | Z28: 9088.8 | AA28: 7360.29 | AB28: 35870.97 | AC28: 28956.91
A29: 1.1.1.1/19/A/102 | B29: Kompleksu risinājumu izstrāde un aprobācija starojuma kapilāro siltummaiņu optimālai iekļaušanai gandrīz nulles enerģijas ēku sistēmās un primārās enerģijas patēriņa apkurei un dzesēšanai samazināšanai | C29: 44116 | D29: 44136 | E29: 45230 | F29: 36 | G29: Brīvības iela 158 - 1, Rīga, LV-1012; Jelgavas iela 3, Rīga, LV-1004; Kandavas iela 2, Rīga, LV-1083; Rāmavas iela 19, Rāmava, Ķekavas pag., Ķekavas nov., LV-2111 | H29: 1.1.1 | I29: LATVIJAS UNIVERSITĀTE | J29: 648648 | K29: 521510.63 | L29: 374918.54 | M29: 305319.89 | T29: 225080.85 | U29: 183297.61 | Z29: 29189.17 | AA29: 19735.89 | AB29: 19459.44 | AC29: 13157.24
A30: 1.1.1.1/19/A/111 | B30: Lēmumu pieņemšanas atbalsta instruments meža ražības paaugstināšanai, nodrošinot efektīvu un klimatam piemērotu selekcijas efekta pārnesi | C30: 44054 | D30: 44075 | E30: 45169 | F30: 36 | G30: Rīgas iela 111, Salaspils, Salaspils nov., LV-2169 | H30: 1.1.1 | I30: Atvasināta publiska persona "Latvijas Valsts mežzinātnes institūts "Silava"" | J30: 603441.48 | K30: 469129.69 | L30: 362004.54 | M30: 281430.91 | AB30: 241436.94 | AC30: 187698.78
A31: 1.1.1.1/19/A/112 | B31: Inovatīvu Baltā vītola - daudzgadīgo zālaugu agromežsaimniecības sistēmu ierīkošana ar koksnes pelnu un mazāk pieprasīto kūdras frakciju maisījumiem ielabotās marginālās minerālaugsnēs. | C31: 44061 | D31: 44105 | E31: 45199 | F31: 36 | G31: Audzes, Kalsnavas pag., Madonas nov., LV-4860; Meža iela 2A, Salaspils, Salaspils nov., LV-2169; Rīgas iela 111, Salaspils, Salaspils nov., LV-2169 | H31: 1.1.1 | I31: Atvasināta publiska persona "Latvijas Valsts mežzinātnes institūts "Silava"" | J31: 328531.31 | K31: 252602.78 | L31: 212888.29 | M31: 163686.6 | AB31: 115643.02 | AC31: 88916.18
A32: 1.1.1.1/19/A/130 | B32: Lēmumu pieņemšanas atbalsta rīka izstrāde integrējot informāciju no vecām daļēji dabiskām mežaudzēm precīzākai oglekļa bilances novērtēšanai | C32: 43928 | D32: 43922 | E32: 45016 | F32: 36 | G32: Avotu iela 7A, Madona, Madonas nov., LV-4801; Rīgas iela 111, Salaspils, Salaspils nov., LV-2169 | H32: 1.1.1 | I32: Atvasināta publiska persona "Latvijas Valsts mežzinātnes institūts "Silava"" | J32: 599871.81 | K32: 493948.86 | L32: 346725.9 | M32: 287574.46 | T32: 208155.51 | U32: 172644.22 | AB32: 44990.4 | AC32: 33730.18
A33: 1.1.1.1/19/A/137 | B33: Grafēnā bāzēta elektroķīmiska sūknēšana radioaktīvā ūdeņraža izotopa atdalīšanai | C33: 43928 | D33: 43922 | E33: 45016 | F33: 36 | G33: Jelgavas iela 1, Rīga, LV-1004; Rāmuļu iela 3, Rīga, LV-1005 | H33: 1.1.1 | I33: LATVIJAS UNIVERSITĀTE | J33: 648431.9 | K33: 545912.69 | L33: 374793.63 | M33: 316701.57 | T33: 225005.86 | U33: 190130.56 | Z33: 10213.53 | AA33: 8232.96 | AB33: 38418.88 | AC33: 30847.6
A34: 1.1.1.1/19/A/138 | B34: No inovatīviem oglekļa nanocaurulīšu-topoloģisko izolatoru materiālu tīkliem veidotas lokanas termoelektriskās ierīces | C34: 43880 | D34: 43922 | E34: 45016 | F34: 36 | G34: Institūta iela 36 - 17, Ulbroka, Stopiņu pag., Ropažu nov., LV-2130; Jelgavas iela 1, Rīga, LV-1004 | H34: 1.1.1 | I34: LATVIJAS UNIVERSITĀTE | J34: 648459.37 | K34: 520548.4 | L34: 374809.51 | M34: 303565.34 | T34: 225015.4 | U34: 182244.2 | Z34: 9726.49 | AA34: 6947.78 | AB34: 38907.97 | AC34: 27791.08
A35: 1.1.1.1/19/A/139 | B35: Inovatīvu bez-saistvielas anodu elektrodu izveide litija jonu baterijām | C35: 43880 | D35: 43922 | E35: 45016 | F35: 36 | G35: Institūta iela 36 - 17, Ulbroka, Stopiņu pag., Ropažu nov., LV-2130; Jelgavas iela 1, Rīga, LV-1004 | H35: 1.1.1 | I35: LATVIJAS UNIVERSITĀTE | J35: 648422.11 | K35: 564852.09 | L35: 374787.97 | M35: 330273.96 | T35: 225002.47 | U35: 198278.69 | Z35: 9725.56 | AA35: 7259.89 | AB35: 38906.11 | AC35: 29039.55
A36: 1.1.1.1/19/A/143 | B36: FDM un SLS industriālās 3D printēšanas tehnoloģiju pielietojums lidaparātu iekšējās apdares detaļu sērijveida ražošanai | C36: 43976 | D36: 43922 | E36: 45015 | F36: 36 | G36: Braslas iela 22D, Rīga, LV-1035 | H36: 1.1.1 | I36: SIA "Baltic3d.EU" | J36: 783240 | K36: 473189.71 | L36: 594552 | M36: 375243.89 | AB36: 188688 | AC36: 97945.82
A37: 1.1.1.1/19/A/144 | B37: Tehnoloģiski pētījumi lai radītu nākamās paaudzes mazizmēra 100 keV bora jonu implantācijas iekārtu ar TRL līmeni tuvu pie 4 | C37: 43938 | D37: 43952 | E37: 45046 | F37: 36 | G37: Šķūņu iela 4, Rīga, LV-1050 | H37: 1.1.1 | I37: LATVIJAS UNIVERSITĀTE | J37: 645051.19 | K37: 581392.06 | L37: 372839.59 | M37: 336084.26 | T37: 223832.75 | U37: 201766.84 | Z37: 9675.77 | AA37: 8708.19 | AB37: 38703.08 | AC37: 34832.77
A38: 1.1.1.1/19/A/146 | B38: Smiltsērkšķu veģetatīvās biomasas biorafinēšanas pārstrāde, izmantojot inovatīvas tehnoloģijas un visaptverošu analītisko izpēti, lai iegūtu Latvijas bioekonomikai perspektīvus produktus ar augstu pievienoto vērtību, ieskaitot serotonīnu | C38: 43875 | D38: 44013 | E38: 45107 | F38: 36 | G38: Dzērbenes iela 27, Rīga, LV-1006 | H38: 1.1.1 | I38: Atvasināta publiska persona "Latvijas Valsts koksnes ķīmijas institūts" | J38: 645000 | K38: 576260.2 | L38: 372810 | M38: 335529 | T38: 223815 | U38: 201433.5 | Z38: 27894.75 | AA38: 22635.48 | AB38: 20480.25 | AC38: 16662.22
A39: 1.1.1.1/19/A/147 | B39: Ātra un rentabla, uz mašīnmācīšanos balstīta sistēma mikroorganismu augšanas analīzei | C39: 43938 | D39: 44013 | E39: 45107 | F39: 36 | G39: Jelgavas iela 1, Rīga, LV-1004; Jelgavas iela 3, Rīga, LV-1004; Krīvu iela 11, Rīga, LV-1006; Sētas iela 1, Rīga, LV-1048 | H39: 1.1.1 | I39: LATVIJAS UNIVERSITĀTE | J39: 647881.72 | K39: 580143.27 | L39: 374475.63 | M39: 336871.36 | T39: 224814.95 | U39: 202239.38 | Z39: 9734.34 | AA39: 8206.5 | AB39: 38856.8 | AC39: 32826.03
A40: 1.1.1.1/19/A/148 | B40: Inovatīva un efektīva pārklājuma izstrāde magnija komponentiem | C40: 44145 | D40: 44105 | E40: 45015 | F40: 30 | G40: Krišjāņa Barona iela 3 - 1, Rīga, LV-1050 | H40: 1.1.1 | I40: AS SMW Group | J40: 552057.21 | K40: 224732.88 | L40: 386440.05 | M40: 159930.45 | AB40: 165617.16 | AC40: 64802.43
A41: 1.1.1.1/19/A/150 | B41: Mērogošanas pētījums mikrobioloģisko mēslošanas un augu aizsardzības līdzekļu ieguvei dziļuma un virsmas kultivācijas procesos | C41: 43959 | D41: 43952 | E41: 45046 | F41: 36 | G41: Dzērbenes iela 27, Rīga, LV-1006; Līvzemes iela 30, Salaspils, Salaspils nov., LV-2169 | H41: 1.1.1 | I41: Sabiedrība ar ierobežotu atbildību "BIOEFEKTS" | J41: 550643.52 | K41: 490291.79 | L41: 395272.13 | M41: 355744.92 | AB41: 155371.39 | AC41: 134546.87
A42: 1.1.1.1/20/A/009 | B42: Garķēžu acilkarnitīni kardiovaskulārajās saslimšanās: jauni zāļu mērķi un diagnostiskās iespējas | C42: 44252 | D42: 44197 | E42: 45260 | F42: 34 | G42: Aizkraukles iela 21, Rīga, LV-1006 | H42: 1.1.1 | I42: Atvasināta publiska persona "Latvijas Organiskās sintēzes institūts" | J42: 779219.02 | K42: 502806.42 | L42: 490907.98 | M42: 316768.04 | AB42: 288311.04 | AC42: 186038.38
...
