Workbook

Sheet Izņemuma_gadījumi_MK
K1: 1. pielikums Informatīvajam ziņojumam "Informatīvais ziņojums par Finanšu ministrijas pārziņā esošo Eiropas Savienības fondu un ārvalstu finanšu palīdzības aktualitātēm līdz 2023. gada 1. septembrim (pusgada ziņojums)"
B2: Priekšlikumi atbalsta samazinājuma nepiemērošanai ES fondu projektos
B3: 1) Dati apkopoti analīzei, balstoties uz MK 2014. gada 16. decembra noteikumu Nr.784 "Kārtība, kādā Eiropas Savienības struktūrfondu un Kohēzijas fonda vadībā iesaistītās institūcijas nodrošina plānošanas dokumentu sagatavošanu un šo fondu ieviešanu 2014.–2020.gada plānošanas periodā" 51.3 punktā noteikto. Tabulā apkopoti divi finansējuma avoti: ES fondu finansējums un valsts budžeta finansējums (Valsts budžeta dotācijas pašvaldībām aprēķinos neizmanto).
B5: 2) Projektos identificētās novirzes virs noteikumos noteiktajiem 25 % ir iekrāsotas.
B6: 3) Projektu kārtošanas prioritāte: Iespējamās atbalsta samazinājuma summas secībā no lielākās uz mazāko, atbildīgo iestāžu dalījumā
B7: Sagatavots 18.07.2023.
B8: Nr.p.k. | C8: Specifiskā atbalsta mērķa numurs | D8: Finansējuma saņēmējs | E8: Projekta nosaukums | H8: 2022. gada plānu neizpilde | I8: Izpildītie % (projektu skaits) | J8: Iespējamais atbalsta samazinājums (ES fondu +Valsts budžeta daļa) | K8: Priekšlikums MK lēmumam: Saskaņā ar MK 2014. gada 16. decembra noteikumu Nr. 784 51.4.7. apakšpunktu atbalstīt atsevišķu izņēmuma gadījumu piemērošanu un atļaut Centrālajai finanšu un līgumu aģentūrai nesamazināt ES fonda un valsts budžeta līdzfinansējumu, ja tāds projektā ir paredzēts, par starpību, kas pārsniedz 25 % no plānoto maksājuma pieprasījumu iesniegšanas grafikā paredzētā: (1) saskaņā ar atbildīgo iestāžu iesniegtajiem priekšlikumiem: - Izglītības un zinātnes ministrijas vienam projektam.
E9: Projekti, kuriem atbildīgā iestāde rosina lemt par atbalsta nesamazināšanu | F9: =#REF!+#REF!+F11+#REF! -> #REF! | G9: =#REF!+#REF!+G11+#REF! -> #REF! | H9: =H11 -> -169332.55 | I9: =I12 -> 0.2842 | J9: =J11 -> -110192.55
B10: 1 | C10: 2 | D10: 3 | E10: 4 | H10: 5 | I10: 6 | J10: 7 | K10: 8
A11: =LEFT(RIGHT(D11,17),16) | B11: Izglītības un zinātnes ministrijas ierosinājumi | F11: =SUBTOTAL(9,F12:F12) -> -169332.55 | G11: =SUBTOTAL(9,G12:G12) -> 0.2842 | H11: =SUBTOTAL(9,H12:H12) -> -169332.55 | I11: 2 | J11: =SUBTOTAL(9,J12:J12) -> -110192.55
A12: =LEFT(RIGHT(D12,17),16) -> 1.1.1.1/19/A/002 | B12: 1 | C12: 1.1.1 | D12: Sabiedrība ar ierobežotu atbildību "Blue energy global" (1.1.1.1/19/A/002) | E12: Jaunu adiabātisko dzesēšanas paneļu prototipa izstrāde dzesēšanas iekārtu ilgtspējas un energoefektivitātes nodrošināšanai | F12: -169332.55 | G12: 0.2842 | H12: -169332.55 | I12: 0.2842 | J12: -110192.55 | K12: Izglītības un zinātnes ministrija rosina nesamazināt finansējumu. CFLA finansējuma nesamazināšanas pamatojums pēc būtības:" 01.11.2022. apstiprināti LG2 (spēkā no 19.09.2022.), tādejādi projekta īstenošanas termiņš pagarināts par 6 mēnešiem (no 28.02.2023. līdz 28.08.2023.), jo projekta pirmos 18 mēnešus spēkā bija ilgstoši ierobežojumi valstiskā mērogā saistībā ar Covid-19 pandēmijas izraisītajām sekām, kas ievērojami kavēja gan uzņēmuma, gan sadarbības partnera RTU pētniecisko darbu klātienē. Ņemot vērā pagarinājumu, arī neizmantotā projekta ERAF summa 67 636.12 EUR apmērā tika pārdalīta attiecīgi no 2022.gada uz 2023.gadu. Jāņem vērā, ka projekta finansējuma saņēmēji ir informējuši, ka projekts beigsies ar ietaupījumu. CFLA rosina AI atbalstīt finanšu disciplīnas pasākumu nepiemērošanu un virzīt projektu uz MK, izņēmuma gadījuma piemērošanai (MKN 784 51.4 (prim) 7.p.)."
B14: Finanšu ministrs | K14: A. Ašeradens
B15: Pelnis 25629163
B16: ints.pelnis@fm.gov.lv

Sheet Projektu_pagarinājumi
M1: 1. pielikums Informatīvajam ziņojumam "Informatīvais ziņojums par Finanšu ministrijas pārziņā esošo Eiropas Savienības fondu un ārvalstu finanšu palīdzības aktualitātēm līdz 2023. gada 1. septembrim (pusgada ziņojums)" | N1: IZM | O1: =COUNTIF($N$8:$N$73,N1) -> 0
A2: Finansējuma saņēmēju priekšlikumi projektu ieviešanas termiņu pagarinājumiem ES fondu 2014.-2020. gada plānošanas perioda darbības programmas ietvaros | N2: EM | O2: =COUNTIF($N$8:$N$73,N2) -> 3
A3: Sagatavots 31.07.2023. | N3: VARAM | O3: =COUNTIF($N$8:$N$73,N3) -> 0
N4: LM | O4: =COUNTIF($N$8:$N$73,N4) -> 0
A5: Nr.p.k. | B5: Specifiskā atbalsta mērķis | C5: Projekta Nr. | D5: Projekta nosaukums (Projekta Nr.) | E5: Finansējuma saņēmējs | F5: Projekta līguma attiecināmās izmaksas EUR | G5: t.sk. ES fondi EUR | H5: Projektā līdz 18.07.2023 veiktie maksājumi % | J5: Projekta līguma datums | K5: Projekta ieviešanas beigu datums | M5: Atbildīgo iestāžu priekšlikumi MK lēmumam: Saskaņā ar MK 2014. gada 16. decembra noteikumu Nr. 784 51.4.7. apakšpunktu atbalstīt atsevišķu izņēmuma gadījumu piemērošanu un atļaut Centrālajai finanšu un līgumu aģentūrai (CFLA) pagarināt projektu īstenošanas termiņus vairāk kā par sešiem mēnešiem, nepārsniedzot plānošanas dokumentos definēto. | N5: KM | O5: =COUNTIF($N$8:$N$73,N5) -> 0
K6: Aktuālais | L6: Plānotais | R6: MK max termiņš 2022.31.12
A7: 1 | B7: 2 | C7: 1 | D7: 3 | E7: 4 | F7: 6 | G7: 6.1. | H7: 7 | I7: 5 | J7: 9 | K7: 6 | L7: 7 | M7: 8 | N7: a | O7: b | Q7: 1 | R7: 2
A8: 1 | B8: =VLOOKUP(C8,'IPIA_termiņu pagrinājumiem'!A:AC,8,0) -> 3.1.1 | C8: 3.1.1.5/19/A/011 | D8: =VLOOKUP(C8,'IPIA_termiņu pagrinājumiem'!A:AC,2,0)& " (" &C8&")" -> Ražošanas ēkas izveide Kurzemes reģionā, Liepājā (3.1.1.5/19/A/011) | E8: =VLOOKUP(C8,'IPIA_termiņu pagrinājumiem'!A:AC,9,0) -> Sabiedrība ar ierobežotu atbildību "EB Liepāja" | F8: =VLOOKUP(C8,'IPIA_termiņu pagrinājumiem'!A:AC,10,0) -> 3333333.3 | G8: =VLOOKUP(C8,'IPIA_termiņu pagrinājumiem'!A:AC,12,0) -> 1500000 | H8: =VLOOKUP(C8,'IPIA_termiņu pagrinājumiem'!A:AC,11,0) -> 2451115.6 | I8: =H8/F8 -> 0.73533467 | J8: =VLOOKUP(C8,'IPIA_termiņu pagrinājumiem'!A:AC,3,0) -> 43845 | K8: =VLOOKUP(C8,'IPIA_termiņu pagrinājumiem'!A:AC,5,0) -> 45091 | L8: 45290 | M8: Ekonomikas ministrija rosina pagarināt termiņu. CFLA pamatojums: " Projekta īstenošanas termiņa pagarinājums nepieciešams, lai nodrošinātu projekta īstenošanas mērķu sasniegšanu - ražošanas iekārtas piegādi un izvietošanu ēkā, jauno darba vietu izveidi. SIA "EB Liepāja" ražošanas ēkas telpu nomnieks SIA “VST Latvia” šobrīd aktīvi strādā pie pieliekošo veidņu ražošanas manuālās līnijas komplektācijas sadarbībā ar partneriem - Slovākijas “VST Production s.r.o” un Austrijas “VST Engineering GmbH” uzņēmumiem, jo plānoto manuālo ražošanas līniju, kas atrodas Slovākijā, Nitrā ir nepieciešams papildināt un pilnveidot, lai pielāgotu SIA "VST Latvia" ražošanas vajadzībām. Paredzams, ka līnija varētu tikt uzstādīta un saimnieciskā darbība uzsākta š.g. novembrī/decembrī, attiecīgi izveidojot jauno darba vietu skaitu. Papildus, ņemot vērā, ka SIA “VST Latvia” ārzemju sadarbības partneri ir vairākkārtīgi kavējuši nospraustos termiņus, tad SIA “EB Liepāja” paralēli, saskaņojot ar SIA “VST Latvia”, ir noslēgusi sadarbības līgumus ar SIA “Kivi Real Estate” un Liepājas speciālās ekonomiskās zonas SIA "Vecās Ostmalas Biznesa Parks", par potenciāli jaunu nomnieku piesaisti" | N8: EM | O8: =VLOOKUP(N8,$N$1:$O$5,2,0) -> 3
A9: 2 | B9: =VLOOKUP(C9,'IPIA_termiņu pagrinājumiem'!A:AC,8,0) -> 4.2.1 | C9: 4.2.1.2/19/I/012 | D9: =VLOOKUP(C9,'IPIA_termiņu pagrinājumiem'!A:AC,2,0)& " (" &C9&")" -> Paaugstināt valsts ēku Ezermalas ielā 8A, Rīgā, energoefektivitāti (4.2.1.2/19/I/012) | E9: =VLOOKUP(C9,'IPIA_termiņu pagrinājumiem'!A:AC,9,0) -> Nodrošinājuma valsts aģentūra | F9: =VLOOKUP(C9,'IPIA_termiņu pagrinājumiem'!A:AC,10,0) -> 5223361.8 | G9: =VLOOKUP(C9,'IPIA_termiņu pagrinājumiem'!A:AC,12,0) -> 4439857.5 | H9: =VLOOKUP(C9,'IPIA_termiņu pagrinājumiem'!A:AC,11,0) -> 4745699.8 | I9: =H9/F9 -> 0.90855276 | J9: =VLOOKUP(C9,'IPIA_termiņu pagrinājumiem'!A:AC,3,0) -> 44090 | K9: =VLOOKUP(C9,'IPIA_termiņu pagrinājumiem'!A:AC,5,0) -> 45230 | L9: 45291 | M9: Ekonomikas ministrija rosina pagarināt termiņu. CFLA pamatojums: "Projekta īstenošanas termiņa pagarinājums nepieciešams, jo projekta īstenošanas gaitā radušies neparedzēti darbi, kam nepieciešami papildu saskaņojumi no atbildīgajām iestādēm, kas attiecīgi kavē būvdarbu līguma izpildi. Projekts ir apjomīgs un sarežģīts - būvdarbu līguma ietvaros darbi tiek veikti 4 ēkās, no kurām 3 ir projekta ēkas."
A10: 3 | B10: =VLOOKUP(C10,'IPIA_termiņu pagrinājumiem'!A:AC,8,0) -> 5.2.1 | C10: 5.2.1.2/17/A/002 | D10: =VLOOKUP(C10,'IPIA_termiņu pagrinājumiem'!A:AC,2,0)& " (" &C10&")" -> Poliolefīnu pārstrādes rūpnīca (5.2.1.2/17/A/002) | E10: =VLOOKUP(C10,'IPIA_termiņu pagrinājumiem'!A:AC,9,0) -> Sabiedrība ar ierobežotu atbildību "Clean R" | F10: =VLOOKUP(C10,'IPIA_termiņu pagrinājumiem'!A:AC,10,0) -> 3606221.9 | G10: =VLOOKUP(C10,'IPIA_termiņu pagrinājumiem'!A:AC,12,0) -> 0 | H10: =VLOOKUP(C10,'IPIA_termiņu pagrinājumiem'!A:AC,11,0) -> 3198052.7 | I10: =H10/F10 -> 0.88681529 | J10: =VLOOKUP(C10,'IPIA_termiņu pagrinājumiem'!A:AC,3,0) -> 43098 | K10: =VLOOKUP(C10,'IPIA_termiņu pagrinājumiem'!A:AC,5,0) -> 45104 | L10: 45257 | M10: Vides aizsardzības un reģionālās attīstības ministrija rosina pagarināt termiņu. CFLA pamatojums: "Iegādātajām iekārtām testēšanai nepieciešams ilgāks laiks nekā sākotnēji plānots. Tas ļautu pārliecināties par iekārtu veiktspēju neatkarīgi no izejmateriālu specifikas un tādējādi preventīvi konstatēt un novērst veiktspējas nepilnības, kas secīgi ļautu nodrošināt kvalitatīvāku iekārtu darbību to lietošanas laikā. Finansējuma saņēmējs, balstoties uz savu pieredzi, secina, ka ir būtiski nepilnības novērst pirms gala pieņemšanas – nodošanas akta parakstīšanas. Līguma grozījumi par termiņa pagarināšanu iesniegti 20.06.2023." | N10: EM | O10: =VLOOKUP(N10,$N$1:$O$5,2,0) -> 3 | R10: nav
A11: 4 | B11: =VLOOKUP(C11,'IPIA_termiņu pagrinājumiem'!A:AC,8,0) -> 5.3.1 | C11: 5.3.1.0/17/I/022 | D11: =VLOOKUP(C11,'IPIA_termiņu pagrinājumiem'!A:AC,2,0)& " (" &C11&")" -> Ūdenssaimniecības pakalpojumu attīstība Kārsavā, 2.kārta (5.3.1.0/17/I/022) | E11: =VLOOKUP(C11,'IPIA_termiņu pagrinājumiem'!A:AC,9,0) -> Sabiedrība ar ierobežotu atbildību "KĀRSAVAS NAMSAIMNIEKS" | F11: =VLOOKUP(C11,'IPIA_termiņu pagrinājumiem'!A:AC,10,0) -> 274758.8 | G11: =VLOOKUP(C11,'IPIA_termiņu pagrinājumiem'!A:AC,12,0) -> 0 | H11: =VLOOKUP(C11,'IPIA_termiņu pagrinājumiem'!A:AC,11,0) -> 208762.51 | I11: =H11/F11 -> 0.75980282 | J11: =VLOOKUP(C11,'IPIA_termiņu pagrinājumiem'!A:AC,3,0) -> 43171 | K11: =VLOOKUP(C11,'IPIA_termiņu pagrinājumiem'!A:AC,5,0) -> 45180 | L11: 45291 | M11: Vides aizsardzības un reģionālās attīstības ministrija rosina pagarināt termiņu. CFLA pamatojums: " Saskaņā ar finansējuma saņēmēja iesniegto rīcības plānu (pie MP Nr.12) līdz projekta īstenošanas beigām - 11.09.2023. finansējuma saņēmējs plāno sasniegt iznākuma rādītāju - 126 iedzīvotāji (70,39%) no plānotajiem 179 iedzīvotājiem. Projekta īstenošanas termiņa pagarināšana līdz 31.12.2023. finansējuma saņēmējam dotu iespēju sasniegt faktisko iznākuma rādītāju 85% apmērā." | N11: EM | O11: =VLOOKUP(N11,$N$1:$O$5,2,0) -> 3 | R11: nav
A12: 5 | B12: =VLOOKUP(C12,'IPIA_termiņu pagrinājumiem'!A:AC,8,0) -> 5.5.1 | C12: 5.5.1.0/20/I/004 | D12: =VLOOKUP(C12,'IPIA_termiņu pagrinājumiem'!A:AC,2,0)& " (" &C12&")" -> Latviešu strēlnieku laukuma atjaunošana (5.5.1.0/20/I/004) | E12: =VLOOKUP(C12,'IPIA_termiņu pagrinājumiem'!A:AC,9,0) -> Valsts akciju sabiedrība "Valsts nekustamie īpašumi" | F12: =VLOOKUP(C12,'IPIA_termiņu pagrinājumiem'!A:AC,10,0) -> 869672.94 | G12: =VLOOKUP(C12,'IPIA_termiņu pagrinājumiem'!A:AC,12,0) -> 739222 | H12: =VLOOKUP(C12,'IPIA_termiņu pagrinājumiem'!A:AC,11,0) -> 753696.91 | I12: =H12/F12 -> 0.86664409 | J12: =VLOOKUP(C12,'IPIA_termiņu pagrinājumiem'!A:AC,3,0) -> 44193 | K12: =VLOOKUP(C12,'IPIA_termiņu pagrinājumiem'!A:AC,5,0) -> 45196 | L12: 45291 | M12: Kultūras ministrija rosina pagarināt termiņu. CFLA pamatojums: "Projekta īstenošanas termiņa pagarinājums nepieciešams sakarā ar objekta noslēguma izpilddokumentācijas saskaņošanas kavēšanās riskiem.."
A14: Finanšu ministrs | M14: A. Ašeradens
A15: Pelnis 25629163
A16: ints.pelnis@fm.gov.lv

Sheet IPIA_termiņu pagrinājumiem
A1: IPIA_termiņu pagrinājumiem
A3: Sagatavots: 18.07.2023
A5: Projekts Kods | B5: Projekts Nosaukums | C5: Projekts Līguma datums | D5: Projekts Sākuma datums | E5: Projekts Beigu datums | F5: Projekts Īstenošanas ilgums mēnešos | G5: Projekts Īstenošanas vietas | H5: Specifiskie atbalsta mērķi | I5: Finansējuma avots | J5: Kopā | L5: ERAF | N5: ESF | P5: KF | R5: JNI | T5: VB | V5: VBDP | X5: PB | Z5: Cits | AB5: Privatais
I6: Projekta finansējuma saņēmējs | J6: Projekta finansējums | K6: MP veiktie maksājumi (K) | L6: Projekta finansējums | M6: MP veiktie maksājumi (K) | N6: Projekta finansējums | O6: MP veiktie maksājumi (K) | P6: Projekta finansējums | Q6: MP veiktie maksājumi (K) | R6: Projekta finansējums | S6: MP veiktie maksājumi (K) | T6: Projekta finansējums | U6: MP veiktie maksājumi (K) | V6: Projekta finansējums | W6: MP veiktie maksājumi (K) | X6: Projekta finansējums | Y6: MP veiktie maksājumi (K) | Z6: Projekta finansējums | AA6: MP veiktie maksājumi (K) | AB6: Projekta finansējums | AC6: MP veiktie maksājumi (K)
A7: Kopā | J7: 3.6231594e+09 | K7: 2.4348036e+09 | L7: 1.3595027e+09 | M7: 9.9765666e+08 | N7: 5.9841954e+08 | O7: 5.0662304e+08 | P7: 7.4614464e+08 | Q7: 4.2783196e+08 | R7: 13823832 | S7: 13270512 | T7: 3.4842334e+08 | U7: 1.9839205e+08 | V7: 30303705 | W7: 23041532 | X7: 1.6247027e+08 | Y7: 87283231 | Z7: 2728036 | AA7: 2047976.7 | AB7: 3.6134333e+08 | AC7: 1.7865664e+08
A8: 1.1.1.1/16/A/154 | B8: Tehnoloģiska mācību e-ekosistēma ar gadījumarakstura mijiedarbībām - TELECI | C8: 42793 | D8: 42795 | E8: 43890 | F8: 36 | G8: Kronvalda bulvāris 1, Rīga, LV-1010 | H8: 1.1.1 | I8: RĪGAS TEHNISKĀ UNIVERSITĀTE | J8: 647339.23 | K8: 666791.07 | L8: 550238.34 | M8: 588076.51 | T8: 48550.44 | U8: 51889.12 | Z8: 48550.45 | AA8: 26825.44
A9: 1.1.1.1/16/A/280 | B9: Energoietilpīga ražošanas procesa optimāla plānošana un tā elektroenerģijas patēriņa optimizācija atkarībā no tirgus cenas izmaiņām | C9: 42778 | D9: 42795 | E9: 43890 | F9: 36 | G9: Āzenes iela 12 k-1, Rīga, LV-1048; Kandavas iela 14G, Rīga, LV-1083; Lomonosova iela 1, Rīga, LV-1019 | H9: 1.1.1 | I9: SIA "ENERGOSERT" | J9: 841105.87 | K9: 645185.87 | L9: 599270.19 | M9: 511382 | AB9: 241835.68 | AC9: 133803.87
A10: 1.1.1.1/19/A/002 | B10: Jaunu adiabātisko dzesēšanas paneļu prototipa izstrāde dzesēšanas iekārtu ilgtspējas un energoefektivitātes nodrošināšanai | C10: 44071 | D10: 44075 | E10: 45166 | F10: 36 | G10: Ķīpsalas iela 6A, Rīga, LV-1048; Skolas iela 18, Ogre, Ogres nov., LV-5001 | H10: 1.1.1 | I10: Sabiedrība ar ierobežotu atbildību "Blue energy global" | J10: 1012742.9 | K10: 712483.01 | L10: 598874.84 | M10: 421349.81 | AB10: 413868.02 | AC10: 291133.2
A11: 1.1.1.1/19/A/013 | B11: Koncepcijas “enerģija no atkritumiem” inovācija zema oglekļa satura ekonomikai: jauna oglekļa uztveršanas tehnoloģija cieto sadzīves atkritumu termoķīmiskajai pārstrādei (oglekļa uztveršana un uzglabāšana no atkritumiem – CCSW) | C11: 44105 | D11: 44105 | E11: 45199 | F11: 36 | G11: Jelgavas iela 1, Rīga, LV-1004; Stūri, Stalbes pag., Cēsu nov., LV-4151; Vibsteri, Remtes pag., Saldus nov., LV-3871 | H11: 1.1.1 | I11: LATVIJAS UNIVERSITĀTE | J11: 646361.5 | K11: 577216.64 | L11: 373596.94 | M11: 336237.25 | T11: 224287.44 | U11: 201858.7 | Z11: 28181.36 | AA11: 22742.16 | AB11: 20295.76 | AC11: 16378.53
A12: 1.1.1.1/19/A/016 | B12: Jaunu efektīvu PARP inhibitoru izstrāde | C12: 43969 | D12: 44044 | E12: 45138 | F12: 36 | G12: Aizkraukles iela 21, Rīga, LV-1006 | H12: 1.1.1 | I12: Atvasināta publiska persona "Latvijas Organiskās sintēzes institūts" | J12: 499207.8 | K12: 341376.68 | L12: 324485.07 | M12: 221894.85 | AB12: 174722.73 | AC12: 119481.83
A13: 1.1.1.1/19/A/017 | B13: Jaunas koncepcijas izstrāde zema energopatēriņa ēku būvniecībai no ekoloģiskiem būvmateriāliem | C13: 43909 | D13: 43922 | E13: 45016 | F13: 36 | G13: Jelgavas iela 27, Kalnciems, Kalnciema pag., Jelgavas nov., LV-3016; Ķīpsalas iela 6, Rīga, LV-1048 | H13: 1.1.1 | I13: RĪGAS TEHNISKĀ UNIVERSITĀTE | J13: 645345.85 | K13: 580811.27 | L13: 373009.9 | M13: 335708.91 | T13: 223935 | U13: 201541.5 | Z13: 18571.93 | AA13: 16714.74 | AB13: 29829.02 | AC13: 26846.12
A14: 1.1.1.1/19/A/019 | B14: Selektīvu malārijas treonil-tRNS inhibitoru izveide | C14: 44055 | D14: 44105 | E14: 45199 | F14: 36 | G14: Aizkraukles iela 21, Rīga, LV-1006 | H14: 1.1.1 | I14: Atvasināta publiska persona "Latvijas Organiskās sintēzes institūts" | J14: 648646 | K14: 386341.13 | L14: 374917.38 | M14: 223305.17 | T14: 225080.16 | U14: 134060.37 | AB14: 48648.46 | AC14: 28975.59
A15: 1.1.1.1/19/A/020 | B15: Jauni materiāli optiska temperatūras sensora izveidei (OPTSEN) | C15: 44057 | D15: 44105 | E15: 45199 | F15: 36 | G15: Celtniecības iela 8A, Līvāni, Līvānu nov., LV-5316; Ķengaraga iela 8, Rīga, LV-1063 | H15: 1.1.1 | I15: Atvasināta publiska persona LATVIJAS UNIVERSITĀTES CIETVIELU FIZIKAS INSTITŪTS | J15: 299976 | K15: 268823.72 | L15: 173386.13 | M15: 156047.52 | T15: 104091.67 | U15: 93682.5 | Z15: 13498.92 | AA15: 11456.21 | AB15: 8999.28 | AC15: 7637.49
A16: 1.1.1.1/19/A/031 | B16: Risinājumu rīks optimālai projektēšanai viedo polimēru nano kompozītmateriālu struktūru izveidei izmantojot 3D printēšanu | C16: 43901 | D16: 44013 | E16: 45107 | F16: 36 | G16: Gustava Zemgala gatve 71A, Rīga, LV-1039; Jelgavas iela 3, Rīga, LV-1004; Rāmuļu iela 3, Rīga, LV-1005 | H16: 1.1.1 | I16: LATVIJAS UNIVERSITĀTE | J16: 645000 | K16: 577870.04 | L16: 372810 | M16: 335529 | T16: 223815 | U16: 201433.5 | Z16: 27067.59 | AA16: 22908.23 | AB16: 21307.41 | AC16: 17999.31
A17: 1.1.1.1/19/A/036 | B17: Sekretorā IgA un zarnu mikrobioma mijiedarbība un dinamika antidiabētiskās terapijas laikā | C17: 43886 | D17: 43952 | E17: 45046 | F17: 36 | G17: Rātsupītes iela 1 k-1, Rīga, LV-1067 | H17: 1.1.1 | I17: Atvasināta publiska persona "Latvijas Biomedicīnas pētījumu un studiju centrs" | J17: 648648 | K17: 508953.36 | L17: 374918.54 | M17: 297258.16 | T17: 225080.85 | U17: 178457.75 | Z17: 9729.71 | AA17: 6647.49 | AB17: 38918.9 | AC17: 26589.96
A18: 1.1.1.1/19/A/047 | B18: Lipīdu atkritumu ilgtspējīga valorizācija: mikroorganismu pielietošana bio-virsmaktīvo vielu ražošanā (Waste2Surf) | C18: 44057 | D18: 44105 | E18: 45199 | F18: 36 | G18: Dzērbenes iela 27, Rīga, LV-1006; Jelgavas iela 1, Rīga, LV-1004 | H18: 1.1.1 | I18: LATVIJAS UNIVERSITĀTE | J18: 647877 | K18: 546559.17 | L18: 374472.9 | M18: 318068.55 | T18: 224813.31 | U18: 190951.19 | Z18: 9671.61 | AA18: 7457.84 | AB18: 38919.18 | AC18: 30081.59
A19: 1.1.1.1/19/A/064 | B19: Siltumnīcefekta gāzu emisijas faktoru un lēmumu pieņemšanas atbalsta rīku izstrāde degradētu kūdrāju apsaimniekošanai pēc kūdras ieguves | C19: 43928 | D19: 43922 | E19: 45016 | F19: 36 | G19: Rīgas iela 111, Salaspils, Salaspils nov., LV-2169 | H19: 1.1.1 | I19: Atvasināta publiska persona "Latvijas Valsts mežzinātnes institūts "Silava"" | J19: 675370.69 | K19: 487567.59 | L19: 438990.94 | M19: 330918.94 | AA19: 97119.94 | AB19: 236379.75 | AC19: 59528.71
A20: 1.1.1.1/19/A/075 | B20: Biorafinēšanas pieeja efektīvu kosmētikas izejvielu ieguvei no ārstniecības augu pārstrādes un augu šūnu kultivēšanas procesu blakusproduktiem. | C20: 43964 | D20: 44013 | E20: 45107 | F20: 36 | G20: Izstādes iela 2, Priekuļi, Priekuļu pag., Cēsu nov., LV-4126; Lidlauks, Priekuļu pag., Cēsu nov., LV-4126; Podraga iela 2, Rīga, LV-1007 | H20: 1.1.1 | I20: Nodibinājums "VIDES RISINĀJUMU INSTITŪTS" | J20: 797835.58 | K20: 672430.66 | L20: 582741.35 | M20: 498732.44 | AB20: 215094.23 | AC20: 173698.22
A21: 1.1.1.1/19/A/076 | B21: IT atbalsta sistēmas prototips atgriezeniskās saites sniegšanai skolēnu snieguma uzlabošanai tekstpratības un rēķinpratības apguvei | C21: 44064 | D21: 44075 | E21: 45169 | F21: 36 | G21: Čuibes iela 17, Rīga, LV-1063; Raiņa bulvāris 19, Rīga, LV-1050; Zeļļu iela 23, Rīga, LV-1002 | H21: 1.1.1 | I21: LATVIJAS UNIVERSITĀTE | J21: 644734.17 | K21: 579310.64 | L21: 372656.34 | M21: 335390.71 | T21: 223722.76 | U21: 201350.48 | Z21: 16118.35 | AA21: 14189.81 | AB21: 32236.72 | AC21: 28379.64
A22: 1.1.1.1/19/A/077 | B22: Jaunas pieprasījuma-piedāvājuma vadības sistēmas un to nodrošinošo iekārtu izstrāde elektroenerģijas balancēšanai pārvades tīklu un pieslēguma līmenī | C22: 44021 | D22: 44013 | E22: 44864 | F22: 28 | G22: Dzirnavu iela 105, Rīga, LV-1011; Krišjāņa Barona iela 11 - 48, Rīga, LV-1050 | H22: 1.1.1 | I22: Sabiedrība ar ierobežotu atbildību "Tet" | J22: 541371.85 | K22: 384606.91 | L22: 328666.84 | M22: 233494.85 | AB22: 212705.01 | AC22: 151112.06
A23: 1.1.1.1/19/A/080 | B23: Elektromagnētiska tehnoloģija ar nano-daļiņām stiprināta vieglā sakausējuma kristalizēšanas procesam 3D drukas pielietojumam | C23: 43924 | D23: 44013 | E23: 45107 | F23: 36 | G23: Jelgavas iela 3, Rīga, LV-1004; Miera iela 32, Salaspils, Salaspils nov., LV-2169; Pulka iela 3, Rīga, LV-1007 | H23: 1.1.1 | I23: LATVIJAS UNIVERSITĀTE | J23: 645000 | K23: 577965.69 | L23: 372810 | M23: 335529 | T23: 223815 | U23: 201433.5 | Z23: 28817.43 | AA23: 24437.9 | AB23: 19557.57 | AC23: 16565.29
A24: 1.1.1.1/19/A/082 | B24: Mākslīgā intelekta asistents daudzvalodu sapulču pārvaldībai | C24: 44082 | D24: 44105 | E24: 45199 | F24: 36 | G24: Vienības gatve 75A, Rīga, LV-1004 | H24: 1.1.1 | I24: Sabiedrība ar ierobežotu atbildību "TILDE" | J24: 604434 | K24: 502778.03 | L24: 425783.82 | M24: 354156.86 | AB24: 178650.18 | AC24: 148621.17
A25: 1.1.1.1/19/A/083 | B25: Audu kultūru pielietojuma izpēte apdraudēto ārstniecības augu sugu komerciālai pavairošanai | C25: 43964 | D25: 44013 | E25: 45107 | F25: 36 | G25: Izstādes iela 2, Priekuļi, Priekuļu pag., Cēsu nov., LV-4126; Lidlauks, Priekuļu pag., Cēsu nov., LV-4126 | H25: 1.1.1 | I25: Nodibinājums "VIDES RISINĀJUMU INSTITŪTS" | J25: 732561.14 | K25: 644645.86 | L25: 530804.8 | M25: 477724.32 | AB25: 201756.34 | AC25: 166921.54
A26: 1.1.1.1/19/A/089 | B26: Bērza miza kā vērtīga, atjaunojama izejviela bez-formaldehīda skaidu plātņu un suberīnskābju poliolu iegūšanai poliuretānu izstrādei | C26: 44119 | D26: 44166 | E26: 45260 | F26: 36 | G26: Dzērbenes iela 27, Rīga, LV-1006; Mūkusalas iela 46, Rīga, LV-1004 | H26: 1.1.1 | I26: Atvasināta publiska persona "Latvijas Valsts koksnes ķīmijas institūts" | J26: 645017.89 | K26: 570851.63 | L26: 372820.34 | M26: 335538.31 | T26: 223821.19 | U26: 201439.07 | Z26: 28964.94 | AA26: 20279.38 | AB26: 19411.42 | AC26: 13594.87
A27: 1.1.1.1/19/A/092 | B27: Jaunas pārtikas kūpināšanas tehnoloģijas izstrāde policiklisko aromātisko ogļūdeņražu (benzpirēna) koncentrācijas samazināšanai kūpinātos gaļas produktos - “Blue smoke” | C27: 43967 | D27: 44013 | E27: 45046 | F27: 34 | G27: Rīgas iela 111, Salaspils, Salaspils nov., LV-2169; Sabiles iela 2, Kandava, Tukuma nov., LV-3120 | H27: 1.1.1 | I27: Sabiedrība ar ierobežotu atbildību "LINDA-1" | J27: 601039.4 | K27: 532475.63 | L27: 409007.3 | M27: 362349.66 | AB27: 192032.1 | AC27: 170125.97
A28: 1.1.1.1/19/A/097 | B28: Jauni no Zymomonas mobilis iegūti antimikrobiālie peptīdi pielietojumam ādas un mīksto audu infekciju terapijā | C28: 44064 | D28: 44105 | E28: 45199 | F28: 36 | G28: Jelgavas iela 1, Rīga, LV-1004; Podraga iela 2, Rīga, LV-1007 | H28: 1.1.1 | I28: LATVIJAS UNIVERSITĀTE | J28: 599463.55 | K28: 535370.61 | L28: 346489.93 | M28: 311840.94 | T28: 208013.85 | U28: 187212.47 | Z28: 9088.8 | AA28: 7360.29 | AB28: 35870.97 | AC28: 28956.91
A29: 1.1.1.1/19/A/102 | B29: Kompleksu risinājumu izstrāde un aprobācija starojuma kapilāro siltummaiņu optimālai iekļaušanai gandrīz nulles enerģijas ēku sistēmās un primārās enerģijas patēriņa apkurei un dzesēšanai samazināšanai | C29: 44116 | D29: 44136 | E29: 45230 | F29: 36 | G29: Brīvības iela 158 - 1, Rīga, LV-1012; Jelgavas iela 3, Rīga, LV-1004; Kandavas iela 2, Rīga, LV-1083; Rāmavas iela 19, Rāmava, Ķekavas pag., Ķekavas nov., LV-2111 | H29: 1.1.1 | I29: LATVIJAS UNIVERSITĀTE | J29: 648648 | K29: 521510.63 | L29: 374918.54 | M29: 305319.89 | T29: 225080.85 | U29: 183297.61 | Z29: 29189.17 | AA29: 19735.89 | AB29: 19459.44 | AC29: 13157.24
A30: 1.1.1.1/19/A/111 | B30: Lēmumu pieņemšanas atbalsta instruments meža ražības paaugstināšanai, nodrošinot efektīvu un klimatam piemērotu selekcijas efekta pārnesi | C30: 44054 | D30: 44075 | E30: 45169 | F30: 36 | G30: Rīgas iela 111, Salaspils, Salaspils nov., LV-2169 | H30: 1.1.1 | I30: Atvasināta publiska persona "Latvijas Valsts mežzinātnes institūts "Silava"" | J30: 603441.48 | K30: 469129.69 | L30: 362004.54 | M30: 281430.91 | AB30: 241436.94 | AC30: 187698.78
A31: 1.1.1.1/19/A/112 | B31: Inovatīvu Baltā vītola - daudzgadīgo zālaugu agromežsaimniecības sistēmu ierīkošana ar koksnes pelnu un mazāk pieprasīto kūdras frakciju maisījumiem ielabotās marginālās minerālaugsnēs. | C31: 44061 | D31: 44105 | E31: 45199 | F31: 36 | G31: Audzes, Kalsnavas pag., Madonas nov., LV-4860; Meža iela 2A, Salaspils, Salaspils nov., LV-2169; Rīgas iela 111, Salaspils, Salaspils nov., LV-2169 | H31: 1.1.1 | I31: Atvasināta publiska persona "Latvijas Valsts mežzinātnes institūts "Silava"" | J31: 328531.31 | K31: 252602.78 | L31: 212888.29 | M31: 163686.6 | AB31: 115643.02 | AC31: 88916.18
A32: 1.1.1.1/19/A/130 | B32: Lēmumu pieņemšanas atbalsta rīka izstrāde integrējot informāciju no vecām daļēji dabiskām mežaudzēm precīzākai oglekļa bilances novērtēšanai | C32: 43928 | D32: 43922 | E32: 45016 | F32: 36 | G32: Avotu iela 7A, Madona, Madonas nov., LV-4801; Rīgas iela 111, Salaspils, Salaspils nov., LV-2169 | H32: 1.1.1 | I32: Atvasināta publiska persona "Latvijas Valsts mežzinātnes institūts "Silava"" | J32: 599871.81 | K32: 493948.86 | L32: 346725.9 | M32: 287574.46 | T32: 208155.51 | U32: 172644.22 | AB32: 44990.4 | AC32: 33730.18
A33: 1.1.1.1/19/A/137 | B33: Grafēnā bāzēta elektroķīmiska sūknēšana radioaktīvā ūdeņraža izotopa atdalīšanai | C33: 43928 | D33: 43922 | E33: 45016 | F33: 36 | G33: Jelgavas iela 1, Rīga, LV-1004; Rāmuļu iela 3, Rīga, LV-1005 | H33: 1.1.1 | I33: LATVIJAS UNIVERSITĀTE | J33: 648431.9 | K33: 545912.69 | L33: 374793.63 | M33: 316701.57 | T33: 225005.86 | U33: 190130.56 | Z33: 10213.53 | AA33: 8232.96 | AB33: 38418.88 | AC33: 30847.6
A34: 1.1.1.1/19/A/138 | B34: No inovatīviem oglekļa nanocaurulīšu-topoloģisko izolatoru materiālu tīkliem veidotas lokanas termoelektriskās ierīces | C34: 43880 | D34: 43922 | E34: 45016 | F34: 36 | G34: Institūta iela 36 - 17, Ulbroka, Stopiņu pag., Ropažu nov., LV-2130; Jelgavas iela 1, Rīga, LV-1004 | H34: 1.1.1 | I34: LATVIJAS UNIVERSITĀTE | J34: 648459.37 | K34: 520548.4 | L34: 374809.51 | M34: 303565.34 | T34: 225015.4 | U34: 182244.2 | Z34: 9726.49 | AA34: 6947.78 | AB34: 38907.97 | AC34: 27791.08
A35: 1.1.1.1/19/A/139 | B35: Inovatīvu bez-saistvielas anodu elektrodu izveide litija jonu baterijām | C35: 43880 | D35: 43922 | E35: 45016 | F35: 36 | G35: Institūta iela 36 - 17, Ulbroka, Stopiņu pag., Ropažu nov., LV-2130; Jelgavas iela 1, Rīga, LV-1004 | H35: 1.1.1 | I35: LATVIJAS UNIVERSITĀTE | J35: 648422.11 | K35: 564852.09 | L35: 374787.97 | M35: 330273.96 | T35: 225002.47 | U35: 198278.69 | Z35: 9725.56 | AA35: 7259.89 | AB35: 38906.11 | AC35: 29039.55
A36: 1.1.1.1/19/A/143 | B36: FDM un SLS industriālās 3D printēšanas tehnoloģiju pielietojums lidaparātu iekšējās apdares detaļu sērijveida ražošanai | C36: 43976 | D36: 43922 | E36: 45015 | F36: 36 | G36: Braslas iela 22D, Rīga, LV-1035 | H36: 1.1.1 | I36: SIA "Baltic3d.EU" | J36: 783240 | K36: 473189.71 | L36: 594552 | M36: 375243.89 | AB36: 188688 | AC36: 97945.82
A37: 1.1.1.1/19/A/144 | B37: Tehnoloģiski pētījumi lai radītu nākamās paaudzes mazizmēra 100 keV bora jonu implantācijas iekārtu ar TRL līmeni tuvu pie 4 | C37: 43938 | D37: 43952 | E37: 45046 | F37: 36 | G37: Šķūņu iela 4, Rīga, LV-1050 | H37: 1.1.1 | I37: LATVIJAS UNIVERSITĀTE | J37: 645051.19 | K37: 581392.06 | L37: 372839.59 | M37: 336084.26 | T37: 223832.75 | U37: 201766.84 | Z37: 9675.77 | AA37: 8708.19 | AB37: 38703.08 | AC37: 34832.77
A38: 1.1.1.1/19/A/146 | B38: Smiltsērkšķu veģetatīvās biomasas biorafinēšanas pārstrāde, izmantojot inovatīvas tehnoloģijas un visaptverošu analītisko izpēti, lai iegūtu Latvijas bioekonomikai perspektīvus produktus ar augstu pievienoto vērtību, ieskaitot serotonīnu | C38: 43875 | D38: 44013 | E38: 45107 | F38: 36 | G38: Dzērbenes iela 27, Rīga, LV-1006 | H38: 1.1.1 | I38: Atvasināta publiska persona "Latvijas Valsts koksnes ķīmijas institūts" | J38: 645000 | K38: 576260.2 | L38: 372810 | M38: 335529 | T38: 223815 | U38: 201433.5 | Z38: 27894.75 | AA38: 22635.48 | AB38: 20480.25 | AC38: 16662.22
A39: 1.1.1.1/19/A/147 | B39: Ātra un rentabla, uz mašīnmācīšanos balstīta sistēma mikroorganismu augšanas analīzei | C39: 43938 | D39: 44013 | E39: 45107 | F39: 36 | G39: Jelgavas iela 1, Rīga, LV-1004; Jelgavas iela 3, Rīga, LV-1004; Krīvu iela 11, Rīga, LV-1006; Sētas iela 1, Rīga, LV-1048 | H39: 1.1.1 | I39: LATVIJAS UNIVERSITĀTE | J39: 647881.72 | K39: 580143.27 | L39: 374475.63 | M39: 336871.36 | T39: 224814.95 | U39: 202239.38 | Z39: 9734.34 | AA39: 8206.5 | AB39: 38856.8 | AC39: 32826.03
A40: 1.1.1.1/19/A/148 | B40: Inovatīva un efektīva pārklājuma izstrāde magnija komponentiem | C40: 44145 | D40: 44105 | E40: 45015 | F40: 30 | G40: Krišjāņa Barona iela 3 - 1, Rīga, LV-1050 | H40: 1.1.1 | I40: AS SMW Group | J40: 552057.21 | K40: 224732.88 | L40: 386440.05 | M40: 159930.45 | AB40: 165617.16 | AC40: 64802.43
A41: 1.1.1.1/19/A/150 | B41: Mērogošanas pētījums mikrobioloģisko mēslošanas un augu aizsardzības līdzekļu ieguvei dziļuma un virsmas kultivācijas procesos | C41: 43959 | D41: 43952 | E41: 45046 | F41: 36 | G41: Dzērbenes iela 27, Rīga, LV-1006; Līvzemes iela 30, Salaspils, Salaspils nov., LV-2169 | H41: 1.1.1 | I41: Sabiedrība ar ierobežotu atbildību "BIOEFEKTS" | J41: 550643.52 | K41: 490291.79 | L41: 395272.13 | M41: 355744.92 | AB41: 155371.39 | AC41: 134546.87
A42: 1.1.1.1/20/A/009 | B42: Garķēžu acilkarnitīni kardiovaskulārajās saslimšanās: jauni zāļu mērķi un diagnostiskās iespējas | C42: 44252 | D42: 44197 | E42: 45260 | F42: 34 | G42: Aizkraukles iela 21, Rīga, LV-1006 | H42: 1.1.1 | I42: Atvasināta publiska persona "Latvijas Organiskās sintēzes institūts" | J42: 779219.02 | K42: 502806.42 | L42: 490907.98 | M42: 316768.04 | AB42: 288311.04 | AC42: 186038.38
A43: 1.1.1.1/20/A/016 | B43: Darbojošu objektu tipveida konstrukcijas tehniskā stāvokļa monitoringa sistēmas prototips, objekta tehniskā stāvokļa novērtēšanai to ekspluatācijas laikā. | C43: 44347 | D43: 44348 | E43: 45260 | F43: 30 | G43: Ķīpsalas iela 6B, Rīga, LV-1048; Ziemeļu iela 24, Lidosta "Rīga", Mārupes pag., Mārupes nov., LV-1053 | H43: 1.1.1 | I43: RĪGAS TEHNISKĀ UNIVERSITĀTE | J43: 540540 | K43: 365799.16 | L43: 444810.36 | M43: 305813.85 | T43: 55189.13 | U43: 37976.41 | Z43: 24324.01 | AA43: 13205.34 | AB43: 16216.5 | AC43: 8803.56
A44: 1.1.1.1/20/A/020 | B44: Lielo datu vadīta informācijas un komunikācijas tehnoloģiju drošības pārvaldības risinājuma izstrāde (BICTSeMS) | C44: 44216 | D44: 44197 | E44: 45107 | F44: 30 | G44: Čuibes iela 17, Rīga, LV-1063 | H44: 1.1.1 | I44: Sabiedrība ar ierobežotu atbildību "Izglītības sistēmas" | J44: 621003.95 | K44: 538959.34 | L44: 465752.95 | M44: 406024.13 | AB44: 155251 | AC44: 132935.21
A45: 1.1.1.1/20/A/021 | B45: Lielo datu vadīta Termodinamisko procesu monitoringa un pārvaldības risinājuma izstrāde datu centra gaisa dzesēšanas sistēmu Energopatēriņa samazināšanai un Optimālas darbības nodrošināšanai (bigTEO) | C45: 44342 | D45: 44317 | E45: 45229 | F45: 30 | G45: Čuibes iela 17, Rīga, LV-1063 | H45: 1.1.1 | I45: Sabiedrība ar ierobežotu atbildību "Izglītības sistēmas" | J45: 621590.98 | K45: 494718.51 | L45: 466131.07 | M45: 382995.67 | AB45: 155459.91 | AC45: 111722.84
A46: 1.1.1.1/20/A/027 | B46: Koksnes biorafinēšanas procesa inovatīva pilnveide veicot atlikumu konversiju nanoporainos oglekļa materiālos (BiReMa) | C46: 44336 | D46: 44348 | E46: 45260 | F46: 30 | G46: Dzērbenes iela 27, Rīga, LV-1006 | H46: 1.1.1 | I46: Atvasināta publiska persona "Latvijas Valsts koksnes ķīmijas institūts" | J46: 498653.74 | K46: 429797.39 | L46: 410342.16 | M46: 361332.03 | T46: 50912.54 | U46: 44831.69 | Z46: 37399.04 | AA46: 23633.67
A47: 1.1.1.1/20/A/028 | B47: Jaunu sensoru izstrāde un to pielietojumu izpēte satiksmes un gājēju plūsmas datu iegūšanai viedo pilsētu apgaismojuma un citu pilsētvides plānošanas risinājumu uzlabošanai | C47: 44281 | D47: 44287 | E47: 45199 | F47: 30 | G47: Pulka iela 3, Rīga, LV-1007 | H47: 1.1.1 | I47: SIA "MAUGLO" | J47: 624338.85 | K47: 411061.36 | L47: 468254.13 | M47: 320866.34 | AB47: 156084.72 | AC47: 90195.02
A48: 1.1.1.1/20/A/035 | B48: Hibrīda-sensora izelpas analīze kolorektālā vēža skrīningam (HYCOR) | C48: 44361 | D48: 44378 | E48: 45260 | F48: 29 | G48: Gaiļezera iela 1, Rīga, LV-1079; Slimnīcas iela 25, Liepāja, LV-3414 | H48: 1.1.1 | I48: LATVIJAS UNIVERSITĀTE | J48: 539115.71 | K48: 465151.48 | L48: 443638.31 | M48: 390886.21 | T48: 55043.71 | U48: 48498.59 | AB48: 40433.69 | AC48: 25766.68
A49: 1.1.1.1/20/A/038 | B49: Jaunas profilaktiskas acu muskulatūras vingrināšanas un nostiprināšanas ierīces EYE ROLL un tās pielietojamības metodoloģijas izstrāde un izpēte | C49: 44378 | D49: 44317 | E49: 45169 | F49: 26 | G49: Jelgavas iela 3, Rīga, LV-1004; Lomonosova iela 1 k-6, Rīga, LV-1019; Rūmenes iela 41, Kandava, Tukuma nov., LV-3120 | H49: 1.1.1 | I49: Sabiedrība ar ierobežotu atbildību "Eye roll" | J49: 434715.34 | K49: 329770.65 | L49: 317168.31 | M49: 246358.53 | AB49: 117547.03 | AC49: 83412.12
A50: 1.1.1.1/20/A/041 | B50: Tehnoloģiju izstrāde notekūdens dūņu pārstrādei sekundārās izejvielās | C50: 44271 | D50: 44228 | E50: 45260 | F50: 33 | G50: Paula Valdena iela 1, Rīga, LV-1048; Rūpnīcu iela 3, Olaine, Olaines nov., LV-2114 | H50: 1.1.1 | I50: RĪGAS TEHNISKĀ UNIVERSITĀTE | J50: 540540.54 | K50: 409536.17 | L50: 444810.81 | M50: 344739.04 | T50: 55189.18 | U50: 42771.33 | Z50: 7837.72 | AA50: 4258.32 | AB50: 32702.83 | AC50: 17767.48
A51: 1.1.1.1/20/A/045 | B51: Mikrofluīdikas iekārtas izstrāde prostatas vēža sekretēto ekstracelulāro vezikulu kvantificēšanai un to RNS satura analīzei (PROCEX) | C51: 44376 | D51: 44317 | E51: 45260 | F51: 30 | G51: Ķengaraga iela 8, Rīga, LV-1063; Rātsupītes iela 1 k-1, Rīga, LV-1067 | H51: 1.1.1 | I51: Atvasināta publiska persona "Latvijas Biomedicīnas pētījumu un studiju centrs" | J51: 540540.54 | K51: 444021.25 | L51: 444810.81 | M51: 372575.29 | T51: 55189.18 | U51: 46226.68 | Z51: 6756.84 | AA51: 4203.21 | AB51: 33783.71 | AC51: 21016.07
A52: 1.1.1.1/20/A/046 | B52: Tuberkulozes pilna genoma sekvenēšana lietošanai Latvijas klīnikā: dizains un koncepta izvērtēšana. | C52: 44216 | D52: 44197 | E52: 45260 | F52: 35 | G52: Rātsupītes iela 1 k-1, Rīga, LV-1067 | H52: 1.1.1 | I52: Atvasināta publiska persona "Latvijas Biomedicīnas pētījumu un studiju centrs" | J52: 540540.54 | K52: 449891.16 | L52: 444810.81 | M52: 374281.95 | T52: 55189.18 | U52: 46438.45 | Z52: 9459.48 | AA52: 6806.51 | AB52: 31081.07 | AC52: 22364.25
A53: 1.1.1.1/20/A/047 | B53: DECIDE – Dinamiskās informētās piekrišanas sistēmas izveide biobankas un sabiedrības zinātnisko aktivitāšu datu pārvaldībai, kvalitātes kontrolei un integrācijai | C53: 44244 | D53: 44256 | E53: 45260 | F53: 33 | G53: Elijas iela 17, Rīga, LV-1050; Rātsupītes iela 1 k-1, Rīga, LV-1067 | H53: 1.1.1 | I53: Atvasināta publiska persona "Latvijas Biomedicīnas pētījumu un studiju centrs" | J53: 540540.54 | K53: 463607.61 | L53: 444810.81 | M53: 386943.33 | T53: 55189.18 | U53: 48009.38 | Z53: 6882.52 | AA53: 4852.23 | AB53: 33658.03 | AC53: 23802.67
A54: 1.1.1.1/20/A/048 | B54: Konservatīva borēliju proteīna kā vakcīnas mērķu pielietojums | C54: 44244 | D54: 44256 | E54: 45260 | F54: 33 | G54: Dzērbenes iela 27, Rīga, LV-1006; Rātsupītes iela 1 k-1, Rīga, LV-1067 | H54: 1.1.1 | I54: Atvasināta publiska persona "Latvijas Biomedicīnas pētījumu un studiju centrs" | J54: 540540.54 | K54: 344884.29 | L54: 444810.81 | M54: 289380 | T54: 55189.18 | U54: 35904.36 | Z54: 8108.12 | AA54: 3919.99 | AB54: 32432.43 | AC54: 15679.94
A55: 1.1.1.1/20/A/053 | B55: IWiRoM: Jauna tipa intelektiskas ziemas ceļu uzturēšanas atbalsta informācijas sistēmas un tai pielāgota ERP integrācijas risinājuma izstrāde uzturēšanas procesu efektivitātes paaugstināšanai | C55: 44214 | D55: 44197 | E55: 45107 | F55: 30 | G55: Elizabetes iela 41/43, Rīga, LV-1010 | H55: 1.1.1 | I55: Sabiedrība ar ierobežotu atbildību "ZZ Dats" | J55: 666625.37 | K55: 580289.02 | L55: 476570.47 | M55: 414848.61 | AB55: 190054.9 | AC55: 165440.41
A56: 1.1.1.1/20/A/057 | B56: Funkcionālas Platzonas Gallija Oksīda un Cinka Gallāta Plānas Kārtiņas un Jaunas Uzklāšanas Tehnoloģijas | C56: 44216 | D56: 44197 | E56: 45107 | F56: 30 | G56: Ķengaraga iela 8, Rīga, LV-1063; Starta iela 4A, Rīga, LV-1026; Šmerļa iela 3, Rīga, LV-1006 | H56: 1.1.1 | I56: Atvasināta publiska persona LATVIJAS UNIVERSITĀTES CIETVIELU FIZIKAS INSTITŪTS | J56: 537004.6 | K56: 481251.71 | L56: 441901.08 | M56: 397710.97 | T56: 54828.16 | U56: 49345.34 | Z56: 24165.21 | AA56: 20517.25 | AB56: 16110.15 | AC56: 13678.15
A57: 1.1.1.1/20/A/060 | B57: Funkcionālas tintes drukāšana bezvadu enerģijas sistēmām | C57: 44246 | D57: 44287 | E57: 45199 | F57: 30 | G57: Ķengaraga iela 8, Rīga, LV-1063; Šmerļa iela 3, Rīga, LV-1006 | H57: 1.1.1 | I57: Atvasināta publiska persona LATVIJAS UNIVERSITĀTES CIETVIELU FIZIKAS INSTITŪTS | J57: 539594.38 | K57: 478514.15 | L57: 444032.21 | M57: 399307.72 | T57: 55092.58 | U57: 49543.45 | Z57: 23205.27 | AA57: 17006.77 | AB57: 17264.32 | AC57: 12656.21
A58: 1.1.1.1/20/A/063 | B58: Attālināti strādājošo IT sistēmu lietotāju efektivitātes un uzvedības analīze izmantojot AI/ML | C58: 44259 | D58: 44317 | E58: 45230 | F58: 30 | G58: Tallinas iela 51A - 1, Rīga, LV-1012 | H58: 1.1.1 | I58: Sabiedrība ar ierobežotu atbildību "ABC software" | J58: 482146 | K58: 388719.49 | L58: 342676.1 | M58: 276262.93 | AB58: 139469.9 | AC58: 112456.56
A59: 1.1.1.1/20/A/068 | B59: Elektrovilciena elektroaprīkojuma komplekta izstrāde ar uzlabotām īpašībām | C59: 44386 | D59: 44197 | E59: 45260 | F59: 29 | G59: Ganību dambis 53, Rīga, LV-1005 | H59: 1.1.1 | I59: Akciju sabiedrība "RĪGAS ELEKTROMAŠĪNBŪVES RŪPNĪCA" | J59: 819732.43 | K59: 396292.73 | L59: 456454.2 | M59: 220655.79 | AB59: 363278.23 | AC59: 175636.94
A60: 1.1.1.1/20/A/070 | B60: Nākamās paaudzes tehnoloģijas izstrāde augstas tīrības kristālu audzēšanā, izmantojot MHD pseido levitāciju | C60: 44273 | D60: 44287 | E60: 45260 | F60: 32 | G60: Andreja iela 7/9, Ventspils, LV-3601; Šķūņu iela 4, Rīga, LV-1050; Šmerļa iela 3, Rīga, LV-1006 | H60: 1.1.1 | I60: LATVIJAS UNIVERSITĀTE | J60: 539853.15 | K60: 442840.86 | L60: 444245.15 | M60: 371862.85 | T60: 55119.01 | U60: 46138.3 | AB60: 40488.99 | AC60: 24839.71
A61: 1.1.1.1/20/A/071 | B61: Augstas īpatnējās virsmas bērza tāss betulīna daļiņu iegūšanas, ražošanas un pielietojuma izpēte dispersās sistēmās | C61: 44230 | D61: 44197 | E61: 45260 | F61: 35 | G61: Dzērbenes iela 27, Rīga, LV-1006; Pāvila iela 22, Cēsis, Cēsu nov., LV-4101 | H61: 1.1.1 | I61: Atvasināta publiska persona "Latvijas Valsts koksnes ķīmijas institūts" | J61: 704158.17 | K61: 419540.17 | L61: 499979.58 | M61: 309443.79 | AB61: 204178.59 | AC61: 110096.38
A62: 1.1.1.1/20/A/072 | B62: Reto ādas slimību efektīvas identifikācijas un multimodālas diagnostikas sistēma | C62: 44301 | D62: 44378 | E62: 45199 | F62: 27 | G62: Jelgavas iela 3, Rīga, LV-1004; Kronvalda bulvāris 4, Rīga, LV-1010; Zunda krastmala 10, Rīga, LV-1048 | H62: 1.1.1 | I62: LATVIJAS UNIVERSITĀTE | J62: 540540.54 | K62: 477612.69 | L62: 444810.8 | M62: 400329.72 | T62: 55189.18 | U62: 49670.26 | Z62: 7754.13 | AA62: 5264.83 | AB62: 32786.43 | AC62: 22347.88
A63: 1.1.1.1/20/A/075 | B63: CdZnTe gamma-starojuma detektoru spektrometrisku un ekspluatācijas īpašību uzlabošanas metožu izpete un attīstība uz kvazi-pussfērisko detektoru, kas izmanto gamma-starojuma spektrometriskajiem mērījumiem dažādās komerciāli pieiejamās iekārtās, piemēra. | C63: 44244 | D63: 44197 | E63: 45260 | F63: 34 | G63: Gustava Zemgala gatve 71A, Rīga, LV-1039 | H63: 1.1.1 | I63: Zinātniskā ražošanas firma "RITEC" , SIA | J63: 423600.35 | K63: 333551.35 | L63: 302111.77 | M63: 237888.84 | AB63: 121488.58 | AC63: 95662.51
A64: 1.1.1.1/20/A/076 | B64: Tehnoloģija notikumu plūsmas augstas precizitātes laika-amplitūdas analīzei | C64: 44270 | D64: 44348 | E64: 45077 | F64: 24 | G64: Andrejostas iela 17, Rīga, LV-1045; Dzērbenes iela 14, Rīga, LV-1006; Kandavas iela 2, Rīga, LV-1083 | H64: 1.1.1 | I64: Valsts zinātniskais institūts - atvasināta publiska persona "Elektronikas un datorzinātņu institūts" | J64: 540033.44 | K64: 478669.71 | L64: 444393.51 | M64: 397502.88 | T64: 55137.41 | U64: 49319.53 | Z64: 24301.69 | AA64: 19108.38 | AB64: 16200.83 | AC64: 12738.92
A65: 1.1.1.1/20/A/079 | B65: Siltumcilpu un siltumcauruļu izstrāde un izpēte apgaismošanas ierīču funkcionālo un ekspluatācijas iespēju uzlabošanai. | C65: 44277 | D65: 44287 | E65: 45199 | F65: 30 | G65: Āzenes iela 12 k-1, Rīga, LV-1048; Pulka iela 3, Rīga, LV-1007 | H65: 1.1.1 | I65: RĪGAS TEHNISKĀ UNIVERSITĀTE | J65: 536588.24 | K65: 475374.83 | L65: 441558.46 | M65: 397402.61 | T65: 54785.65 | U65: 49307.09 | Z65: 13900.03 | AA65: 9899.02 | AB65: 26344.1 | AC65: 18766.11
A66: 1.1.1.1/20/A/095 | B66: Sakņu trupes ierobežošana, izmantojot Latvijas izcelsmes sēņu izolātus | C66: 44274 | D66: 44166 | E66: 45260 | F66: 33 | G66: Rīgas iela 111, Salaspils, Salaspils nov., LV-2169 | H66: 1.1.1 | I66: Atvasināta publiska persona "Latvijas Valsts mežzinātnes institūts "Silava"" | J66: 465976.22 | K66: 256792.94 | L66: 279585.73 | M66: 154075.77 | AB66: 186390.49 | AC66: 102717.17
A67: 1.1.1.1/20/A/096 | B67: Ēterisko eļļu destilācijas atlikumi kā potenciālā izejviela ilgtspējīgiem augu izcelsmes produktiem ar repelentu iedarbību | C67: 44273 | D67: 44228 | E67: 45260 | F67: 33 | G67: Izstādes iela 2, Priekuļi, Priekuļu pag., Cēsu nov., LV-4126; Lidlauks, Priekuļu pag., Cēsu nov., LV-4126 | H67: 1.1.1 | I67: Nodibinājums "VIDES RISINĀJUMU INSTITŪTS" | J67: 679407.98 | K67: 482629.94 | L67: 499313.02 | M67: 359318.23 | AB67: 180094.96 | AC67: 123311.71
A68: 1.1.1.1/20/A/098 | B68: Bio-bāzētu siltumizolācijas putu polimēra izstrāde | C68: 44379 | D68: 44378 | E68: 45169 | F68: 26 | G68: Brīvības iela 103, Liepāja, LV-3401 | H68: 1.1.1 | I68: SIA NEDEX | J68: 640400 | K68: 543291.83 | L68: 448280 | M68: 391929.28 | AB68: 192120 | AC68: 151362.55
A69: 1.1.1.1/20/A/101 | B69: Daudzdzīvokļu namiem pielāgotas intelektiskas elektroenerģijas pārvaldības sistēmas un tajās integrējamo iekārtu izstrāde efektīvai tīkla pieslēguma izmantošanai un jaunu pakalpojumu pieejamības nodrošināšanai - InReBEMD | C69: 44221 | D69: 44197 | E69: 45199 | F69: 33 | G69: Krišjāņa Barona iela 11 - 48, Rīga, LV-1050 | H69: 1.1.1 | I69: Sabiedrība ar ierobežotu atbildību "ETAGO network" | J69: 664592.48 | K69: 276980.09 | L69: 497979.15 | M69: 214148.47 | AB69: 166613.33 | AC69: 62831.62
A70: 1.1.1.1/20/A/104 | B70: Daudzkanālu pikosekundes precizitātes laika zīmoga sistēma ar amplitūdas mērījumiem satelīta lāzerlokācijai ar vairākiem impulsu emisijas avotiem | C70: 44264 | D70: 44197 | E70: 45260 | F70: 33 | G70: Āzenes iela 12, Rīga, LV-1048 | H70: 1.1.1 | I70: Sabiedrība ar ierobežotu atbildību "Eventech" | J70: 378742.85 | K70: 317373.47 | L70: 302994.28 | M70: 257124.87 | AB70: 75748.57 | AC70: 60248.6
A71: 1.1.1.1/20/A/106 | B71: Kvantu kriptogrāfijas iekārtu un programmatūras risinājumu pielietojumi Latvijas skaitļošanas resursu infrastruktūrā | C71: 44389 | D71: 44348 | E71: 45260 | F71: 29 | G71: Raiņa bulvāris 29 - 1, Rīga, LV-1050 | H71: 1.1.1 | I71: Latvijas Universitātes Matemātikas un informātikas institūts | J71: 667120 | K71: 406389.52 | L71: 433628 | M71: 264153.13 | AB71: 233492 | AC71: 142236.39
A72: 1.1.1.1/20/A/109 | B72: Planāra lauka emisijas mikrotriodes struktūra | C72: 44277 | D72: 44228 | E72: 45260 | F72: 33 | G72: Jelgavas iela 1, Rīga, LV-1004; Paula Valdena iela 1, Rīga, LV-1048; Ropažu iela 140, Rīga, LV-1006 | H72: 1.1.1 | I72: RĪGAS TEHNISKĀ UNIVERSITĀTE | J72: 540539.16 | K72: 438583.91 | L72: 444809.67 | M72: 367780.09 | T72: 55189.04 | U72: 45631.74 | Z72: 11690.52 | AA72: 7249.56 | AB72: 28849.93 | AC72: 17922.52
A73: 1.1.1.1/20/A/110 | B73: Sintēzes gāzes ražošanas metodes izstrāde inovatīvai metanola ieguvei ar kompaktiekārtām, izmantojot tehnoloģisko procesu matemātisko modelēšanu | C73: 44336 | D73: 44348 | E73: 45260 | F73: 30 | G73: Jelgavas iela 3, Rīga, LV-1004; Paula Valdena iela 7, Rīga, LV-1048 | H73: 1.1.1 | I73: LATVIJAS UNIVERSITĀTE | J73: 540540 | K73: 409085.57 | L73: 444810.36 | M73: 343725.23 | T73: 55189.13 | U73: 42647.15 | Z73: 24324.31 | AA73: 13627.91 | AB73: 16216.2 | AC73: 9085.28
A74: 1.1.1.1/20/A/113 | B74: Ekoloģisku un bionoārdāmu materiālu izveide no dabīgām šķiedrām ar funkcionālām biopolimēru piedevām | C74: 44232 | D74: 44197 | E74: 45260 | F74: 34 | G74: Dzērbenes iela 27, Rīga, LV-1006; Mūrmuižas iela 11A, Valmiera, Valmieras nov., LV-4201 | H74: 1.1.1 | I74: Atvasināta publiska persona "Latvijas Valsts koksnes ķīmijas institūts" | J74: 500000 | K74: 442032.7 | L74: 411449.97 | M74: 369385.57 | T74: 51050 | U74: 45830.93 | Z74: 22500.02 | AA74: 16089.72 | AB74: 15000.01 | AC74: 10726.48
A75: 1.1.1.1/20/A/116 | B75: Elektrisko transportlīdzekļu vilces integrēto piedziņu ar iebūvētiem dzinējiem, spēka elektronikas pārveidotājiem, enerģijas avotiem un siltuma kontūriem vieda termiskā pārvaldība | C75: 44358 | D75: 44348 | E75: 45260 | F75: 30 | G75: Āzenes iela 12 k-1, Rīga, LV-1048; Ganību dambis 53, Rīga, LV-1005; Pulka iela 3 k-7, Rīga, LV-1007 | H75: 1.1.1 | I75: RĪGAS TEHNISKĀ UNIVERSITĀTE | J75: 527008.07 | K75: 404966.17 | L75: 433674.93 | M75: 338681.33 | T75: 53807.53 | U75: 42021.35 | Z75: 12693.7 | AA75: 7796.67 | AB75: 26831.91 | AC75: 16466.82
A76: 1.1.1.1/20/A/124 | B76: Zāļu pakošana pacientu cilmes šūnu sekretētās vezikulās un testēšana personalizētā plaušu vēža uz čipa platformā | C76: 44244 | D76: 44228 | E76: 45260 | F76: 34 | G76: Ķengaraga iela 8, Rīga, LV-1063; Rātsupītes iela 1 k-1, Rīga, LV-1067 | H76: 1.1.1 | I76: Atvasināta publiska persona "Latvijas Biomedicīnas pētījumu un studiju centrs" | J76: 540540.53 | K76: 479152.58 | L76: 444810.8 | M76: 400329.72 | T76: 55189.18 | U76: 49670.26 | Z76: 7432.58 | AA76: 5364.08 | AB76: 33107.97 | AC76: 23788.52
A77: 1.1.1.1/20/A/126 | B77: Integrētas Latvijas populācijas genoma variāciju datubāzes izveidošana un tā pielietošana individualizēta metabolo slimību ģenētiskā riska noteikšanai. | C77: 44244 | D77: 44256 | E77: 45260 | F77: 33 | G77: Lidostas parks, Mārupes pag., Mārupes nov., LV-2167; Rātsupītes iela 1 k-1, Rīga, LV-1067 | H77: 1.1.1 | I77: Atvasināta publiska persona "Latvijas Biomedicīnas pētījumu un studiju centrs" | J77: 540540.54 | K77: 233491.12 | L77: 444810.81 | M77: 196368.13 | T77: 55189.18 | U77: 24364.07 | Z77: 8108.12 | AA77: 2551.78 | AB77: 32432.43 | AC77: 10207.14
A78: 1.1.1.1/20/A/137 | B78: Ar genoma mēroga stehiometrisko modelēšanu sasaistīta bioreaktora vadības sistēma (GenCon) | C78: 44272 | D78: 44348 | E78: 45260 | F78: 30 | G78: Dzērbenes iela 27, Rīga, LV-1006; Jelgavas iela 1, Rīga, LV-1004 | H78: 1.1.1 | I78: LATVIJAS UNIVERSITĀTE | J78: 540000 | K78: 442463.11 | L78: 444366 | M78: 366685.36 | T78: 55134 | U78: 45495.89 | Z78: 23400 | AA78: 17482.72 | AB78: 17100 | AC78: 12799.14
A79: 1.1.1.1/20/A/138 | B79: Mehanoluminiscentu plāno kārtiņu izpēte mehānisko spriegumu sensora izstrādei | C79: 44237 | D79: 44287 | E79: 45199 | F79: 30 | G79: Krustpils iela 17, Rīga, LV-1073; Ķengaraga iela 8, Rīga, LV-1063 | H79: 1.1.1 | I79: Atvasināta publiska persona LATVIJAS UNIVERSITĀTES CIETVIELU FIZIKAS INSTITŪTS | J79: 535856.88 | K79: 474757.82 | L79: 440956.62 | M79: 396860.96 | T79: 54710.98 | U79: 49239.88 | Z79: 24113.58 | AA79: 17194.19 | AB79: 16075.7 | AC79: 11462.79
A80: 1.1.1.1/20/A/139 | B80: Ilgtspējīgas tehnoloģijas attīstība elektronikas lūžņu pārstrādei dārgmetālu un krāsaino metālu atgūšanai | C80: 44365 | D80: 44348 | E80: 45260 | F80: 30 | G80: Ķengaraga iela 8, Rīga, LV-1063; Miera iela 32, Salaspils, Salaspils nov., LV-2169; Paula Valdena iela 3, Rīga, LV-1048 | H80: 1.1.1 | I80: Atvasināta publiska persona LATVIJAS UNIVERSITĀTES CIETVIELU FIZIKAS INSTITŪTS | J80: 540540 | K80: 431034.07 | L80: 444810.36 | M80: 363864.96 | T80: 55189 | U80: 45116.56 | Z80: 19324.44 | AA80: 10512.4 | AB80: 21216.2 | AC80: 11540.15
A81: 1.1.1.1/20/A/144 | B81: Nanostrukturēto termoelektrisku materiālu izstrāde un to pielietojums siltumizolācijas paneļos ēku energoefektivitātes palielināšanai | C81: 44336 | D81: 44348 | E81: 45260 | F81: 30 | G81: Institūta iela 36 - 17, Ulbroka, Stopiņu pag., Ropažu nov., LV-2130; Jelgavas iela 1, Rīga, LV-1004 | H81: 1.1.1 | I81: LATVIJAS UNIVERSITĀTE | J81: 537500 | K81: 409971.78 | L81: 442308.75 | M81: 344250.95 | T81: 54878.75 | U81: 42712.38 | Z81: 8062.5 | AA81: 4601.69 | AB81: 32250 | AC81: 18406.76
A82: 1.1.1.1/20/A/151 | B82: Miniatūra nākošās paaudzes multifokāla attēla avota moduļa izstrāde izmantošanai ierīcēs ar acij tuvu novietotu displeju | C82: 44246 | D82: 44256 | E82: 45260 | F82: 33 | G82: Kalniņi, Mārupes pag., Mārupes nov., LV-2167; Ventspils Augsto tehnoloģiju parks 2, Ventspils, LV-3602 | H82: 1.1.1 | I82: SIA Lightspace Technologies | J82: 680184.19 | K82: 508318.42 | L82: 476128.93 | M82: 355822.9 | AB82: 204055.26 | AC82: 152495.52
A83: 1.1.1.1/20/A/155 | B83: Jaunu un inovatīvu kompozītmateriālu izstrāde ar uzlabotām sorbcijas īpašībām no Latvijas Republikā pieejamiem atjaunojamiem bioloģiskiem dabas resursiem komerciālām gaisa attīrīšanas filtrēšanas sistēmām | C83: 44273 | D83: 44197 | E83: 45260 | F83: 33 | G83: Jelgavas iela 1, Rīga, LV-1004; Rūpnīcu iela 4, Olaine, Olaines nov., LV-2114 | H83: 1.1.1 | I83: LATVIJAS UNIVERSITĀTE | J83: 532134.55 | K83: 378605.24 | L83: 437893.52 | M83: 315545.85 | T83: 54330.93 | U83: 39150.85 | Z83: 7982.03 | AA83: 4781.7 | AB83: 31928.07 | AC83: 19126.84
A84: 1.1.1.1/20/A/169 | B84: Eiropas Zaļā kursa noteikto vidi saudzējošo tehnoloģisko risinājumu izstrāde un ieviešana dārzkopībā Latvijā (GreenHort) | C84: 44270 | D84: 44200 | E84: 45260 | F84: 33 | G84: Atvases, Ķekavas pag., Ķekavas nov., LV-2123; Brīvības iela 40 - 48, Rīga, LV-1050; Puteņi, Lielvārdes pag., Ogres nov., LV-5070; Tauriņi, Dzintars, Pūres pag., Tukuma nov., LV-3124 | H84: 1.1.1 | I84: Atvasināta publiska persona "Dārzkopības institūts" | J84: 500762.33 | K84: 402953.01 | L84: 412077.32 | M84: 335540.87 | T84: 51127.82 | U84: 41631.68 | AB84: 37557.19 | AC84: 25780.46
A85: 1.1.1.1/20/A/185 | B85: Ūdeņraža hidrauliskās kompresijas tehnoloģijas izstrāde ūdeņraža degvielas uzpildes stacijām (H2-Compression) | C85: 44400 | D85: 44317 | E85: 45260 | F85: 28 | G85: Ganību dambis 53, Rīga, LV-1005; Inženieru iela 101, Ventspils, LV-3601; Pulka iela 3, Rīga, LV-1007 | H85: 1.1.1 | I85: VENTSPILS AUGSTSKOLA | J85: 538346.55 | K85: 464006.76 | L85: 443005.37 | M85: 389626.45 | T85: 54965.18 | U85: 48342.33 | AB85: 40376 | AC85: 26037.98
A86: 1.1.1.1/20/A/186 | B86: Clean 4.0 - paātrināt autonomu tehnoloģiju pielietojumu visā Eiropas tīrīšanas ekosistēmā. | C86: 44326 | D86: 44409 | E86: 45138 | F86: 24 | G86: Gustava Zemgala gatve 64 - 5, Rīga, LV-1039 | H86: 1.1.1 | I86: Sabiedrība ar ierobežotu atbildību "Robotic Solutions" | J86: 666875 | K86: 595648.55 | L86: 500000 | M86: 446617.29 | AB86: 166875 | AC86: 149031.26
A87: 1.1.1.1/20/A/188 | B87: Aviācijas nozares vajadzību risināšana, integrējot 3D industriālās printēšanas risinājumus esošajās piegāžu ķēdēs | C87: 44281 | D87: 44228 | E87: 45260 | F87: 34 | G87: Braslas iela 22D, Rīga, LV-1035 | H87: 1.1.1 | I87: SIA "Baltic3d.EU" | J87: 668860 | K87: 245072.37 | L87: 461475 | M87: 182499.95 | AB87: 207385 | AC87: 62572.42
A88: 1.1.1.1/21/A/010 | B88: Optimāla iekštelpu gaisa kvalitātes un siltuma komforta kontrole, pamatojoties uz telpas reāllaika 3D skenēšanas datiem | C88: 44575 | D88: 44562 | E88: 45260 | F88: 23 | G88: Bukaišu iela 1, Rīga, LV-1004; Ķīpsalas iela 6, Rīga, LV-1048 | H88: 1.1.1 | I88: RĪGAS TEHNISKĀ UNIVERSITĀTE | J88: 504897.39 | K88: 334240.77 | L88: 413813.9 | M88: 281121.4 | T88: 53216.18 | U88: 36152.03 | Z88: 9915.42 | AA88: 4434.13 | AB88: 27951.89 | AC88: 12533.21
A89: 1.1.1.1/21/A/011 | B89: Platforma Covid-19 drošai darba videi | C89: 44575 | D89: 44562 | E89: 45260 | F89: 23 | G89: Ganību dambis 24A - 52, Rīga, LV-1005; Ķīpsalas iela 6A, Rīga, LV-1048; Zunda krastmala 10, Rīga, LV-1048 | H89: 1.1.1 | I89: RĪGAS TEHNISKĀ UNIVERSITĀTE | J89: 528487.5 | K89: 451559.39 | L89: 434871 | M89: 377997.96 | T89: 53958.58 | U89: 46899.48 | Z89: 10045.42 | AA89: 6754.37 | AB89: 29612.5 | AC89: 19907.58
A90: 1.1.1.1/21/A/029 | B90: Dažādu COVID-19 slimības ilgtermiņa blakusefektu saistības ar molekulārajiem faktoriem noskaidrošana Latvijas populācijā | C90: 44544 | D90: 44562 | E90: 45260 | F90: 23 | G90: Pilsoņu iela 13, Rīga, LV-1002; Rātsupītes iela 1 k-1, Rīga, LV-1067 | H90: 1.1.1 | I90: Atvasināta publiska persona "Latvijas Biomedicīnas pētījumu un studiju centrs" | J90: 500000 | K90: 120904.67 | L90: 425000 | M90: 102768.98 | T90: 75000 | U90: 18135.69
A91: 1.1.1.1/21/A/030 | B91: Klimata izmaiņu mazināšanas iespēju izpēte aramzemju un zālāju meliorācijas sistēmās | C91: 44645 | D91: 44564 | E91: 45260 | F91: 20 | G91: Rīgas iela 111, Salaspils, Salaspils nov., LV-2169; Rīgas iela 34, Ozolnieki, Ozolnieku pag., Jelgavas nov., LV-3018 | H91: 1.1.1 | I91: Atvasināta publiska persona "Latvijas Valsts mežzinātnes institūts "Silava"" | J91: 496936.99 | K91: 326638.18 | L91: 407289.55 | M91: 275004.73 | T91: 52377.15 | U91: 35365.06 | Z91: 29704.14 | AA91: 12971.33 | AB91: 7566.15 | AC91: 3297.06
A92: 1.1.1.1/21/A/031 | B92: Siltumnīcefekta gāzu (SEG) emisiju mazināšanas potenciālu ietekmējošo faktoru izpēte zālājos un aramzemēs ar organiskajām augsnēm | C92: 44658 | D92: 44564 | E92: 45260 | F92: 20 | G92: Rīgas iela 111, Salaspils, Salaspils nov., LV-2169 | H92: 1.1.1 | I92: Atvasināta publiska persona "Latvijas Valsts mežzinātnes institūts "Silava"" | J92: 482265.13 | K92: 343574.19 | L92: 395264.49 | M92: 288784.9 | T92: 50830.73 | U92: 37137.54 | Z92: 36169.91 | AA92: 17651.75
A93: 1.1.1.1/21/A/033 | B93: BSL3 un mikrogravitācijas iekārtai pielāgotas plaušas uz čipa sistēmas izveide respiratoro saslimšanu pētniecībai (LocBox) | C93: 44544 | D93: 44562 | E93: 45260 | F93: 23 | G93: Ķengaraga iela 8, Rīga, LV-1063; Rātsupītes iela 1 k-1, Rīga, LV-1067 | H93: 1.1.1 | I93: Atvasināta publiska persona "Latvijas Biomedicīnas pētījumu un studiju centrs" | J93: 500000 | K93: 332518.13 | L93: 425000 | M93: 282640.41 | T93: 75000 | U93: 49877.72
A94: 1.1.1.1/21/A/034 | B94: Antibakteriālās rezistences ātras novērtēšanas sistēma, pacientiem ar sekundārām bakteriālām infekcijām | C94: 44578 | D94: 44562 | E94: 45260 | F94: 23 | G94: Jelgavas iela 3, Rīga, LV-1004; Pilsoņu iela 13 k-21, Rīga, LV-1002; Zunda krastmala 10, Rīga, LV-1048 | H94: 1.1.1 | I94: LATVIJAS UNIVERSITĀTE | J94: 500000 | K94: 352343.19 | L94: 425000 | M94: 299491.7 | T94: 75000 | U94: 52851.49
A95: 1.1.1.1/21/A/040 | B95: Uz tālizpēti balstīta meža riska faktoru uzraudzības sistēma | C95: 44581 | D95: 44621 | E95: 45260 | F95: 21 | G95: Dzērbenes iela 14, Rīga, LV-1006; Miera iela 29, Jūrmala, LV-2015; Rīgas iela 2 - 111, Salaspils, Salaspils nov., LV-2121 | H95: 1.1.1 | I95: Valsts zinātniskais institūts - atvasināta publiska persona "Elektronikas un datorzinātņu institūts" | J95: 431726 | K95: 265853.63 | L95: 353842.62 | M95: 221443.23 | T95: 45503.92 | U95: 28477.43 | Z95: 24256.96 | AA95: 11939.11 | AB95: 8122.5 | AC95: 3993.86
A96: 1.1.1.1/21/A/044 | B96: Efektīvas pilot-mēroga leghemoglobīna ražošanas tehnoloģijas izstrāde uz rekombinanto Pichia pastoris un Kluyveromyces lactis fermentācijas procesu ar piebarošanu bāzes. (BioHeme) | C96: 44571 | D96: 44562 | E96: 45260 | F96: 23 | G96: Dzērbenes iela 27, Rīga, LV-1006; Rātsupītes iela 1 k-1, Rīga, LV-1067 | H96: 1.1.1 | I96: Atvasināta publiska persona "Latvijas Valsts koksnes ķīmijas institūts" | J96: 540540 | K96: 294939 | L96: 443026.58 | M96: 248687.49 | T96: 56972.91 | U96: 31981.03 | Z96: 22972.96 | AA96: 8086.61 | AB96: 17567.55 | AC96: 6183.87
A97: 1.1.1.1/21/A/046 | B97: Sistēma COVID-19 inficēšanās riska noteikšanai un samazināšanai iekštelpās. | C97: 44543 | D97: 44621 | E97: 45260 | F97: 21 | G97: Jelgavas iela 3, Rīga, LV-1004 | H97: 1.1.1 | I97: LATVIJAS UNIVERSITĀTE | J97: 459129 | K97: 281425.07 | L97: 390259.65 | M97: 239211.31 | T97: 68869.35 | U97: 42213.76
A98: 1.1.1.1/21/A/050 | B98: Liela laukuma daudzfunkcionālu antibakteriālu un antivirālu nano-pārklājumu uzklāšanas tehnoloģijas | C98: 44580 | D98: 44562 | E98: 45260 | F98: 23 | G98: Krustpils iela 17 k-1, Rīga, LV-1073; Ķengaraga iela 8, Rīga, LV-1063; Rātsupītes iela 1, Rīga, LV-1067 | H98: 1.1.1 | I98: Atvasināta publiska persona LATVIJAS UNIVERSITĀTES CIETVIELU FIZIKAS INSTITŪTS | J98: 499903.58 | K98: 397486.49 | L98: 424918.04 | M98: 337863.51 | T98: 74985.54 | U98: 59622.98
A99: 1.1.1.1/21/A/052 | B99: Riņķa Rezonatora Modulatori Optiskiem Starpsavienojumiem (RINGO) | C99: 44565 | D99: 44562 | E99: 45260 | F99: 23 | G99: Andrejostas iela 17, Rīga, LV-1045; Āzenes iela 12, Rīga, LV-1048 | H99: 1.1.1 | I99: RĪGAS TEHNISKĀ UNIVERSITĀTE | J99: 540540 | K99: 455934.86 | L99: 443026.58 | M99: 381460.62 | T99: 56972.91 | U99: 49055.59 | Z99: 11266.27 | AA99: 7049.44 | AB99: 29274.24 | AC99: 18369.21
A100: 1.1.1.1/21/A/053 | B100: Jaunas, uz optiskajām šķiedrām balstītas sistēmas izstrāde vīrusu proteīnu mobilai noteikšanai ar augstu jutību, izmantojot SERS tehnoloģiju | C100: 44580 | D100: 44562 | E100: 45260 | F100: 23 | G100: Domes iela 1A, Līvāni, Līvānu nov., LV-5316; Ķengaraga iela 8, Rīga, LV-1063 | H100: 1.1.1 | I100: Atvasināta publiska persona LATVIJAS UNIVERSITĀTES CIETVIELU FIZIKAS INSTITŪTS | J100: 540467.91 | K100: 395823.89 | L100: 442967.49 | M100: 330952.67 | T100: 56965.31 | U100: 42560.29 | Z100: 32258.51 | AA100: 17759.51 | AB100: 8276.6 | AC100: 4551.42
A101: 1.1.1.1/21/A/055 | B101: Caurlaidības un efektivitātes uzlabošana lielā izmēra elektroluminiscentām ierīcēm izmantojot dzidrinātus slāņus un advancētus materiālus | C101: 44581 | D101: 44562 | E101: 45260 | F101: 23 | G101: Katlakalna iela 4B, Rīga, LV-1073; Ķengaraga iela 8, Rīga, LV-1063 | H101: 1.1.1 | I101: Atvasināta publiska persona LATVIJAS UNIVERSITĀTES CIETVIELU FIZIKAS INSTITŪTS | J101: 539863.59 | K101: 398213.38 | L101: 442472.19 | M101: 331710.61 | T101: 56901.62 | U101: 42657.77 | Z101: 28109.53 | AA101: 16564.33 | AB101: 12380.25 | AC101: 7280.67
A102: 1.1.1.1/21/A/063 | B102: Modelēšanas instrumenti oglekļa aprites un siltumnīcefekta gāzu emisiju novērtēšanai serdes trupes bojātās lapu koku audzēs | C102: 44613 | D102: 44564 | E102: 45260 | F102: 22 | G102: Ādažu iela 24, Bukulti, Garkalnes pag., Ropažu nov., LV-1024; Rīgas iela 111, Salaspils, Salaspils nov., LV-2169 | H102: 1.1.1 | I102: Atvasināta publiska persona "Latvijas Valsts mežzinātnes institūts "Silava"" | J102: 494533.03 | K102: 382653.58 | L102: 405319.27 | M102: 321163.69 | T102: 52123.78 | U102: 41301.42 | AB102: 37089.98 | AC102: 20188.47
...
