Workbook

Sheet Kompakti
A1: Pedagogu darba samaksas pieauguma grafiks
A3: Pasākuma Nr. | B3: Izglītības pakāpe | C3: Zemākās mēneša darba algas likmes palielināšana EUR
A4: 1. | B4: Vispārējā izglītība, profesionālā izglītība, t.sk. profesionālās ievirzes izglītība, interešu izglītība | C4: 2023.g. 1.sept. | D4: 2024.g. 1.sept. | E4: 2025.g. 1.sept. | F4: 2026.g. 1.sept. | G4: 2027.g. 1.sept.
B5: Pedagoga zemākā mēneša darba algas likme | C5: =+izvērsti!E5 -> 976 | D5: =+izvērsti!F5 -> 1058 | E5: =+izvērsti!G5 -> 1147 | F5: =+izvērsti!H5 -> 1243 | G5: =+izvērsti!I5 -> 1347
B6: Papildu nepieciešamais finansējums | C6: 2023. gada 4 mēn. | D6: 2024. gadam | E6: 2025. gadam | F6: 2026. gadam | G6: 2027. gadam
C7: =SUM(C8:C12) -> 5373580 | D7: =SUM(D8:D12) -> 22319975 | E7: =SUM(E8:E12) -> 39987813 | F7: =SUM(F8:F12) -> 158240841 | G7: =SUM(G8:G12) -> 213967063
B8: Pamata un vispārējā vidējā izglītība | C8: =izvērsti!E12+izvērsti!E16+izvērsti!E18+izvērsti!E19+izvērsti!E23+izvērsti!E32 -> 440789 | D8: =izvērsti!F12+izvērsti!F16+izvērsti!F18+izvērsti!F19+izvērsti!F23+izvērsti!F32 -> 1797960 | E8: =izvērsti!G12+izvērsti!G16+izvērsti!G18+izvērsti!G19+izvērsti!G23+izvērsti!G32 -> 3265344 | F8: =izvērsti!H12+izvērsti!H16+izvērsti!H18+izvērsti!H19+izvērsti!H23+izvērsti!H32 -> 103969522 | G8: =izvērsti!I12+izvērsti!I16+izvērsti!I18+izvērsti!I19+izvērsti!I23+izvērsti!I32 -> 140737731
B9: Speciālā izglītība | C9: =+izvērsti!E9+izvērsti!E13 -> 989965 | D9: =+izvērsti!F9+izvērsti!F13 -> 4038015 | E9: =+izvērsti!G9+izvērsti!G13 -> 7333556 | F9: =+izvērsti!H9+izvērsti!H13 -> 10902639 | G9: =+izvērsti!I9+izvērsti!I13 -> 14758289
B10: Profesionālā izglītība | C10: =+izvērsti!E14+izvērsti!E20+izvērsti!E21+izvērsti!E22+izvērsti!E26+izvērsti!E28+izvērsti!E30+izvērsti!E36+izvērsti!E40 -> 1824680 | D10: =+izvērsti!F14+izvērsti!F20+izvērsti!F21+izvērsti!F22+izvērsti!F26+izvērsti!F28+izvērsti!F30+izvērsti!F36+izvērsti!F40 -> 7438279 | E10: =+izvērsti!G14+izvērsti!G20+izvērsti!G21+izvērsti!G22+izvērsti!G26+izvērsti!G28+izvērsti!G30+izvērsti!G36+izvērsti!G40 -> 13500506 | F10: =+izvērsti!H14+izvērsti!H20+izvērsti!H21+izvērsti!H22+izvērsti!H26+izvērsti!H28+izvērsti!H30+izvērsti!H36+izvērsti!H40 -> 20069615 | G10: =+izvērsti!I14+izvērsti!I20+izvērsti!I21+izvērsti!I22+izvērsti!I26+izvērsti!I28+izvērsti!I30+izvērsti!I36+izvērsti!I40 -> 27166301
B11: Profesionālā ievirzes izglītība | C11: =+izvērsti!E24+izvērsti!E37+izvērsti!E38 -> 1514635 | D11: =+izvērsti!F24+izvērsti!F37+izvērsti!F38 -> 6584031 | E11: =+izvērsti!G24+izvērsti!G37+izvērsti!G38 -> 11417661 | F11: =+izvērsti!H24+izvērsti!H37+izvērsti!H38 -> 16652504 | G11: =+izvērsti!I24+izvērsti!I37+izvērsti!I38 -> 22307660
B12: Interešu izglītība | C12: =+izvērsti!E15+izvērsti!E41 -> 603511 | D12: =+izvērsti!F15+izvērsti!F41 -> 2461690 | E12: =+izvērsti!G15+izvērsti!G41 -> 4470746 | F12: =+izvērsti!H15+izvērsti!H41 -> 6646561 | G12: =+izvērsti!I15+izvērsti!I41 -> 8997082
A13: 2. | B13: Pirmsskolas izglītība (5-6 gadus vecu bērnu izglītošana) | C13: 2023.g. 1.sept. | D13: 2024.g. 1.sept. | E13: 2025.g. 1.sept. | F13: 2026.g. 1.sept. | G13: 2027.g. 1.sept.
B14: Pedagoga zemākā mēneša darba algas likme | C14: =+izvērsti!E43 -> 1141 | D14: =+izvērsti!F43 -> 1312 | E14: =+izvērsti!G43 -> 1483 | F14: =+izvērsti!H43 -> 1656 | G14: =+izvērsti!I43 -> 1795
B15: Papildu nepieciešamais finansējums pirmsskolas izglītībai (5-6 gadus veciem bērniem) | C15: 2023. gada 4 mēn. | D15: 2024. gadam | E15: 2025. gadam | F15: 2026. gadam | G15: 2027. gadam
C16: =+izvērsti!E45 -> 3205550 | D16: =+izvērsti!F45 -> 12822200 | E16: =+izvērsti!G45 -> 22438850 | F16: =+izvērsti!H45 -> 32092992 | G16: =+izvērsti!I45 -> 41184759
A17: 2.A | B17: (pašvaldību budžeta ietekme 1,5-4 gadus veciem bērniem) | C17: =+'Ietekme uz pašvaldību budžetu'!C7 -> 7079616 | D17: =+'Ietekme uz pašvaldību budžetu'!D7 -> 28318464 | E17: =+'Ietekme uz pašvaldību budžetu'!E7 -> 49557312 | F17: =+'Ietekme uz pašvaldību budžetu'!F7 -> 70878963 | G17: =+'Ietekme uz pašvaldību budžetu'!G7 -> 90958577
A18: 3. | B18: Augstākā izglītība | C18: 2023. 1.janv. | D18: 2024.g. 1.janv. | E18: 2025.g. 1.janv. | F18: 2026.g. 1.janv. | G18: 2027.g. 1.janv.
B19: Pedagoga zemākā mēneša darba algas likme
B20: Asistents | C20: =+izvērsti!E55 -> 798 | D20: =+izvērsti!F55 -> 880 | E20: =+izvērsti!G55 -> 961 | F20: =+izvērsti!H55 -> 1325 | G20: =+izvērsti!I55 -> 1436
B21: Lektors | C21: =+izvērsti!E56 -> 1000 | D21: =+izvērsti!F56 -> 1101 | E21: =+izvērsti!G56 -> 1201 | F21: =+izvērsti!H56 -> 1656 | G21: =+izvērsti!I56 -> 1795
B22: Docents | C22: =+izvērsti!E57 -> 1250 | D22: =+izvērsti!F57 -> 1376 | E22: =+izvērsti!G57 -> 1502 | F22: =+izvērsti!H57 -> 2070 | G22: =+izvērsti!I57 -> 2244
B23: Asociētais profesors | C23: =+izvērsti!E58 -> 1562 | D23: =+izvērsti!F58 -> 1719 | E23: =+izvērsti!G58 -> 1877 | F23: =+izvērsti!H58 -> 2588 | G23: =+izvērsti!I58 -> 2805
B24: Profesors | C24: =+izvērsti!E59 -> 1951 | D24: =+izvērsti!F59 -> 2149 | E24: =+izvērsti!G59 -> 2346 | F24: =+izvērsti!H59 -> 3234 | G24: =+izvērsti!I59 -> 3506
B25: Papildu nepieciešamais finansējums augstākai izglītībai | C25: 2023. gadam | D25: 2024. gadam | E25: 2025. gadam | F25: 2026. gadam | G25: 2027. gadam
C26: =+izvērsti!E61 -> 6264840 | D26: =+izvērsti!F61 -> 12614096 | E26: =+izvērsti!G61 -> 18943741 | F26: =+izvērsti!H61 -> 47510334 | G26: =+izvērsti!I61 -> 56247370
A27: PAVISAM KOPĀ | C27: =+C26+C16+C7+C17 -> 21923586 | D27: =+D26+D16+D7+D17 -> 76074735 | E27: =+E26+E16+E7+E17 -> 130927716 | F27: =+F26+F16+F7+F17 -> 308723130 | G27: =+G26+G16+G7+G17 -> 402357769
A28: t.sk., ietekme uz:
A29: Valsts budžetu | C29: =+C27-C17 -> 14843970 | D29: =+D27-D17 -> 47756271 | E29: =+E27-E17 -> 81370404 | F29: =+F27-F17 -> 237844167 | G29: =+G27-G17 -> 311399192
A30: Pašbvaldību budžetu | C30: =+C17 -> 7079616 | D30: =+D17 -> 28318464 | E30: =+E17 -> 49557312 | F30: =+F17 -> 70878963 | G30: =+G17 -> 90958577

Sheet izvērsti
A1: Pedagogu darba samaksas pieauguma grafiks
A3: Pasākuma Nr. | B3: Valsts budžeta resors | C3: Valsts budžeta programma / apakšprogramma | E3: Zemākās mēneša darba algas likmes palielināšana EUR | K3: Piezīmes
A4: 1. | B4: Vispārējā izglītība, profesionālā izglītība, profesionālā ievirze, interešu izglītība | E4: 2023.g. 1.sept. | F4: 2024.g. 1.sept. | G4: 2025.g. 1.sept. | H4: 2026.g. 1.sept. | I4: 2027.g. 1.sept.
B5: Pedagoga zemākā mēneša darba algas likme | E5: 976 | F5: 1058 | G5: 1147 | H5: 1243 | I5: 1347
B6: Papildu nepieciešamais finansējums (aprēķins veikts atbilstoši 2021./2022. mācību gadam aprēķinātajam/apstiprinātajam pedagoģisko likmju un izglītojamo skaitam) | E6: 2023. gada 4 mēn. | F6: 2024. gadam | G6: 2025. gadam | H6: 2026. gadam | I6: 2027. gadam | J6: turpmāk ik gadu
B7: Kopā vispārējā izglītība, profesionālā izglītība, profesionālā ievirze, interešu izglītība | E7: =+E8+E17+E25+E27+E29+E31+E33+E39 -> 5373580 | F7: =+F8+F17+F25+F27+F29+F31+F33+F39 -> 22319975 | G7: =+G8+G17+G25+G27+G29+G31+G33+G39 -> 39987813 | H7: =+H8+H17+H25+H27+H29+H31+H33+H39 -> 158240841 | I7: =+I8+I17+I25+I27+I29+I31+I33+I39 -> 213967063 | J7: =+J8+J17+J25+J27+J29+J31+J33+J39 -> 253116895
B8: 62. Mērķdotācijas pašvaldībām, t.sk.: | E8: =+E9+E10+E16 -> 1717015 | F8: =+F9+F10+F16 -> 7003614 | G8: =+G9+G10+G16 -> 12719467 | H8: =+H9+H10+H16 -> 118024746 | I8: =+I9+I10+I16 -> 159763483 | J8: =+J9+J10+J16 -> 189093405
C9: 01.00.00. | D9: Mērķdotācijas izglītības pasākumiem | E9: 915545 | F9: 3734460 | G9: 6782261 | H9: 10083040 | I9: 13648844 | J9: 16154544 | K9: Speciālās izglītības iestādes, kas nodrošina interenāta pakalpojumus | L9: speciālā izglītība
C10: 05.00.00. | D10: Mērķdotācijas pašvaldībām – pašvaldību izglītības iestāžu pedagogu darba samaksai un valsts sociālās apdrošināšanas obligātajām iemaksām | E10: =SUM(E12:E15) -> 723731 | F10: =SUM(F12:F15) -> 2952060 | G10: =SUM(G12:G15) -> 5361321 | H10: =SUM(H12:H15) -> 107085550 | I10: =SUM(I12:I15) -> 144955709 | J10: =SUM(J12:J15) -> 171567171
D11: tai skaitā:
D12: Pamata un vispārējās vidējās izglītības iestādes | H12: 99114989 | I12: 134166408 | J12: 158797134 | K12: Vispārizglītojošās skolas (sākumskolas, pamatskolas, vidusskolas, valsts ģimnāzijas), izņemot speciālās izglītības iestādes | L12: pamata un vispārējā vidējā izglītība
D13: Speciālās izglītības iestādes | E13: 74420 | F13: 303555 | G13: 551295 | H13: 819599 | I13: 1109445 | J13: 1313121 | K13: Speciālās izglītības iestādes, kas nenodrošina interenāta pakalpojumus | L13: speciālā izglītība
D14: Profesionālās izglītības iestādes un programmas | E14: 52489 | F14: 214100 | G14: 388833 | H14: 578069 | I14: 782500 | J14: 926154 | K14: Izglītības iestādes, kas īsteno profesionālās un arodizglītības programmas | L14: profesionālā izglītība
D15: Interešu izglītības iestādes un programmas | E15: 596822 | F15: 2434405 | G15: 4421193 | H15: 6572893 | I15: 8897356 | J15: 10530762 | K15: Izglītības iestādes, kas īsteno interešu izglītības programmas | L15: interešu izglītība
C16: 10.00.00. | D16: Mērķdotācijas pašvaldībām – pašvaldību izglītības iestādēs bērnu no piecu gadu vecuma izglītošanā nodarbināto pedagogu darba samaksai un valsts sociālās apdrošināšanas obligātajām iemaksām | E16: 77739 | F16: 317094 | G16: 575885 | H16: 856156 | I16: 1158930 | J16: 1371690 | K16: Logopēdi | L16: pamata un vispārējā vidējā izglītība
B17: 15. Izglītības un zinātnes ministrija, t.sk.: | E17: =SUM(E18:E24) -> 2322547 | F17: =SUM(F18:F24) -> 9465441 | G17: =SUM(G18:G24) -> 17172069 | H17: =SUM(H18:H24) -> 25518382 | I17: =SUM(I18:I24) -> 34534824 | J17: =SUM(J18:J24) -> 40870711
C18: 01.05.00. | D18: Dotācija privātajām mācību iestādēm | E18: 324448 | F18: 1323405 | G18: 2403472 | H18: 3573190 | I18: 4836827 | J18: 5724789 | K18: Akreditētās privātās vispārizglītojošās skolas | L18: pamata un vispārējā vidējā izglītība
C19: 01.08.00. | D19: Vispārējās izglītības atbalsta pasākumi | E19: 2130 | F19: 8688 | G19: 15779 | H19: 23460 | I19: 31757 | J19: 37587 | K19: Eiropas skolas vispārējās izglītības pedagogu atalgojums | L19: pamata un vispārējā vidējā izglītība
C20: 02.01.00. | D20: Profesionālās izglītības programmu īstenošana | E20: 1093740 | F20: 4453200 | G20: 8069200 | H20: 11985356 | I20: 16215912 | J20: 19188720 | K20: IZM padotības profesionālās izglītības iestādes un valsts budžeta finansētās vietas valsts kapitālsabiedrībās | L20: profesionālā izglītība
E21: 93260 | F21: 380408 | G21: 690872 | H21: 1027096 | I21: 1390332 | J21: 1645572 | K21: VSIA Rīgas Tūrisma un radošās industrijas tehnikums | L21: profesionālā izglītība
E22: 39492 | F22: 161080 | G22: 292528 | H22: 434884 | I22: 588684 | J22: 696780 | K22: RTU Olaines Tehnoloģiju koledža LU Rīgas 1. medicīnas koledža LJA Jūrskola DU Daugavpils medicīnas koledža | L22: profesionālā izglītība
C23: 09.10.00. | D23: Murjāņu sporta ģimnāzija | E23: 33412 | F23: 136288 | G23: 247524 | H23: 367992 | I23: 498128 | J23: 589584 | L23: pamata un vispārējā vidējā izglītība
C24: 09.19.00. | D24: Finansējums profesionālās ievirzes sporta izglītības programmu pedagogu darba samaksai un valsts sociālās apdrošināšanas obligātajām iemaksām | E24: 736065 | F24: 3002372 | G24: 5452694 | H24: 8106404 | I24: 10973184 | J24: 12987679 | K24: Sporta izglītības iestādēs īstenotās profesionālās ievirzes sporta izglītības programmas | L24: profesionālā ievirze
B25: 10.resors "Aizsardzības ministrija", t.sk.: | E25: =+E26 -> 4204 | F25: =+F26 -> 20029 | G25: =+G26 -> 44342 | H25: =+H26 -> 73525 | I25: =+I26 -> 105052 | J25: =+J26 -> 127206
C26: 22.10.00. | D26: Starptautisko operāciju un Nacionālo bruņoto spēku personālsastāva centralizētais atalgojums | E26: 4204 | F26: 20029 | G26: 44342 | H26: 73525 | I26: 105052 | J26: 127206 | K26: Pulkveža Oskara Kalpaka profesionālā vidusskola | L26: profesionālā izglītība
B27: 16.resors "Zemkopības ministrija", t.sk.: | E27: =+E28 -> 27346 | F27: =+F28 -> 112278 | G27: =+G28 -> 205971 | H27: =+H28 -> 308273 | I27: =+I28 -> 418911 | J27: =+J28 -> 496683
C28: 22.01.00. | D28: Profesionālā izglītība | E28: 27346 | F28: 112278 | G28: 205971 | H28: 308273 | I28: 418911 | J28: 496683 | K28: Malnavas koledža LLU SIA "Bulduru Dārzkopības vidusskola" | L28: profesionālā izglītība
B29: 18.resors "Labklājības ministrija", t.sk.: | E29: =+E30 -> 11172 | F29: =+F30 -> 45570 | G29: =+G30 -> 82761 | H29: =+H30 -> 123039 | I29: =+I30 -> 166551 | J29: =+J30 -> 197127
C30: 05.37.00. | D30: Sociālās integrācijas valsts aģentūras administrēšana un profesionālās un sociālās rehabilitācijas nodrošināšana | E30: 11172 | F30: 45570 | G30: 82761 | H30: 123039 | I30: 166551 | J30: 197127 | K30: Sociālās integrācijas valsts aģentūras Jūrmalas profesionālās vidusskola | L30: profesionālā izglītība
B31: 19.resors "Tieslietu ministrija", t.sk.: | E31: =+E32 -> 3060 | F31: =+F32 -> 12485 | G31: =+G32 -> 22684 | H31: =+H32 -> 33735 | I31: =+I32 -> 45681 | J31: =+J32 -> 44906
C32: 04.01.00. | D32: Ieslodzījuma vietas | E32: 3060 | F32: 12485 | G32: 22684 | H32: 33735 | I32: 45681 | J32: 44906 | K32: Ieslodzījuma vietu pārvalde - pedagogu, kuri strādā ieslodzījuma vietās, darba samaksa | L32: pamata un vispārējā vidējā izglītība
B33: 22.resors "Kultūras ministrija", t.sk.: | E33: =+E34 -> 1275343 | F33: =+F34 -> 5607967 | G33: =+G34 -> 9645005 | H33: =+H34 -> 14017133 | I33: =+I34 -> 18740307 | J33: =+J34 -> 22059295
C34: 20.00.00. | D34: Kultūrizglītība | E34: =SUM(E36:E38) -> 1275343 | F34: =SUM(F36:F38) -> 5607967 | G34: =SUM(G36:G38) -> 9645005 | H34: =SUM(H36:H38) -> 14017133 | I34: =SUM(I36:I38) -> 18740307 | J34: =SUM(J36:J38) -> 22059295
D35: tai skaitā:
D36: KM vidusskolas | E36: 496773 | F36: 2026308 | G36: 3680038 | H36: 5471033 | I36: 7405831 | J36: 8765419 | L36: profesionālā izglītība
D37: Profesionālās ievirzes izglītības iestādes un programmas | E37: 654309 | F37: 3152658 | G37: 5361223 | H37: 7753109 | I37: 10337043 | J37: 12152781 | K37: Mūzikas, mākslas un dejas profesionālās ievirzes izglītības programmās | L37: profesionālā ievirze
D38: Pašvaldību izglītības iestādes | E38: 124261 | F38: 429001 | G38: 603744 | H38: 792991 | I38: 997433 | J38: 1141095 | L38: profesionālā ievirze
B39: 29.resors "Veselības ministrija", t.sk.: | E39: =SUM(E40:E41) -> 12893 | F39: =SUM(F40:F41) -> 52591 | G39: =SUM(G40:G41) -> 95514 | H39: =SUM(H40:H41) -> 142008 | I39: =SUM(I40:I41) -> 192254 | J39: =SUM(J40:J41) -> 227562
C40: 02.03.00. | D40: Augstākā medicīnas izglītība | E40: 6204 | F40: 25306 | G40: 45961 | H40: 68340 | I40: 92528 | J40: 109524 | K40: Sarkanā Krusta medicīnas koledža | L40: profesionālā izglītība
C41: 33.09.00. | D41: Interešu izglītības nodrošināšana VSIA "Bērnu klīniskā universitātes slimnīca" | E41: 6689 | F41: 27285 | G41: 49553 | H41: 73668 | I41: 99726 | J41: 118038 | K41: VSIA “Bērnu klīniskā universitātes slimnīca" | L41: interešu izglītība
...

Sheet izvērsti (bez AI)
A1: Pedagogu darba samaksas pieauguma grafiks
A3: Pasākuma Nr. | B3: Valsts budžeta resors | C3: Valsts budžeta programma / apakšprogramma | E3: Zemākās mēneša darba algas likmes palielināšana EUR | K3: Piezīmes
A4: 1. | B4: Vispārējā izglītība, profesionālā izglītība, profesionālā ievirze, interešu izglītība | E4: 2023.g. 1.sept. | F4: 2024.g. 1.sept. | G4: 2025.g. 1.sept. | H4: 2026.g. 1.sept. | I4: 2027.g. 1.sept.
B5: Pedagoga zemākā mēneša darba algas likme | E5: 976 | F5: 1058 | G5: 1147 | H5: 1243 | I5: 1347
B6: Papildu nepieciešamais finansējums (aprēķins veikts atbilstoši 2021./2022. mācību gadam aprēķinātajam/apstiprinātajam pedagoģisko likmju un izglītojamo skaitam) | E6: 2023. gada 4 mēn. | F6: 2024. gadam | G6: 2025. gadam | H6: 2026. gadam | I6: 2027. gadam | J6: turpmāk ik gadu
B7: Kopā vispārējā izglītība, profesionālā izglītība, profesionālā ievirze, interešu izglītība | E7: =+E8+E17+E25+E27+E29+E31+E33+E39 -> 5373580 | F7: =+F8+F17+F25+F27+F29+F31+F33+F39 -> 22319975 | G7: =+G8+G17+G25+G27+G29+G31+G33+G39 -> 39987813 | H7: =+H8+H17+H25+H27+H29+H31+H33+H39 -> 158240841 | I7: =+I8+I17+I25+I27+I29+I31+I33+I39 -> 213967063 | J7: =+J8+J17+J25+J27+J29+J31+J33+J39 -> 253116895
B8: 62. Mērķdotācijas pašvaldībām, t.sk.: | E8: =+E9+E10+E16 -> 1717015 | F8: =+F9+F10+F16 -> 7003614 | G8: =+G9+G10+G16 -> 12719467 | H8: =+H9+H10+H16 -> 118024746 | I8: =+I9+I10+I16 -> 159763483 | J8: =+J9+J10+J16 -> 189093405
C9: 01.00.00. | D9: Mērķdotācijas izglītības pasākumiem | E9: 915545 | F9: 3734460 | G9: 6782261 | H9: 10083040 | I9: 13648844 | J9: 16154544 | K9: Speciālās izglītības iestādes, kas nodrošina interenāta pakalpojumus | L9: speciālā izglītība
C10: 05.00.00. | D10: Mērķdotācijas pašvaldībām – pašvaldību izglītības iestāžu pedagogu darba samaksai un valsts sociālās apdrošināšanas obligātajām iemaksām | E10: =SUM(E12:E15) -> 723731 | F10: =SUM(F12:F15) -> 2952060 | G10: =SUM(G12:G15) -> 5361321 | H10: =SUM(H12:H15) -> 107085550 | I10: =SUM(I12:I15) -> 144955709 | J10: =SUM(J12:J15) -> 171567171
D11: tai skaitā:
D12: Pamata un vispārējās vidējās izglītības iestādes | H12: 99114989 | I12: 134166408 | J12: 158797134 | K12: Vispārizglītojošās skolas (sākumskolas, pamatskolas, vidusskolas, valsts ģimnāzijas), izņemot speciālās izglītības iestādes | L12: pamata un vispārējā vidējā izglītība
D13: Speciālās izglītības iestādes | E13: 74420 | F13: 303555 | G13: 551295 | H13: 819599 | I13: 1109445 | J13: 1313121 | K13: Speciālās izglītības iestādes, kas nenodrošina interenāta pakalpojumus | L13: speciālā izglītība
D14: Profesionālās izglītības iestādes un programmas | E14: 52489 | F14: 214100 | G14: 388833 | H14: 578069 | I14: 782500 | J14: 926154 | K14: Izglītības iestādes, kas īsteno profesionālās un arodizglītības programmas | L14: profesionālā izglītība
D15: Interešu izglītības iestādes un programmas | E15: 596822 | F15: 2434405 | G15: 4421193 | H15: 6572893 | I15: 8897356 | J15: 10530762 | K15: Izglītības iestādes, kas īsteno interešu izglītības programmas | L15: interešu izglītība
C16: 10.00.00. | D16: Mērķdotācijas pašvaldībām – pašvaldību izglītības iestādēs bērnu no piecu gadu vecuma izglītošanā nodarbināto pedagogu darba samaksai un valsts sociālās apdrošināšanas obligātajām iemaksām | E16: 77739 | F16: 317094 | G16: 575885 | H16: 856156 | I16: 1158930 | J16: 1371690 | K16: Logopēdi | L16: pamata un vispārējā vidējā izglītība
B17: 15. Izglītības un zinātnes ministrija, t.sk.: | E17: =SUM(E18:E24) -> 2322547 | F17: =SUM(F18:F24) -> 9465441 | G17: =SUM(G18:G24) -> 17172069 | H17: =SUM(H18:H24) -> 25518382 | I17: =SUM(I18:I24) -> 34534824 | J17: =SUM(J18:J24) -> 40870711
C18: 01.05.00. | D18: Dotācija privātajām mācību iestādēm | E18: 324448 | F18: 1323405 | G18: 2403472 | H18: 3573190 | I18: 4836827 | J18: 5724789 | K18: Akreditētās privātās vispārizglītojošās skolas | L18: pamata un vispārējā vidējā izglītība
C19: 01.08.00. | D19: Vispārējās izglītības atbalsta pasākumi | E19: 2130 | F19: 8688 | G19: 15779 | H19: 23460 | I19: 31757 | J19: 37587 | K19: Eiropas skolas vispārējās izglītības pedagogu atalgojums | L19: pamata un vispārējā vidējā izglītība
C20: 02.01.00. | D20: Profesionālās izglītības programmu īstenošana | E20: 1093740 | F20: 4453200 | G20: 8069200 | H20: 11985356 | I20: 16215912 | J20: 19188720 | K20: IZM padotības profesionālās izglītības iestādes un valsts budžeta finansētās vietas valsts kapitālsabiedrībās | L20: profesionālā izglītība
E21: 93260 | F21: 380408 | G21: 690872 | H21: 1027096 | I21: 1390332 | J21: 1645572 | K21: VSIA Rīgas Tūrisma un radošās industrijas tehnikums | L21: profesionālā izglītība
E22: 39492 | F22: 161080 | G22: 292528 | H22: 434884 | I22: 588684 | J22: 696780 | K22: RTU Olaines Tehnoloģiju koledža LU Rīgas 1. medicīnas koledža LJA Jūrskola DU Daugavpils medicīnas koledža | L22: profesionālā izglītība
C23: 09.10.00. | D23: Murjāņu sporta ģimnāzija | E23: 33412 | F23: 136288 | G23: 247524 | H23: 367992 | I23: 498128 | J23: 589584 | L23: pamata un vispārējā vidējā izglītība
C24: 09.19.00. | D24: Finansējums profesionālās ievirzes sporta izglītības programmu pedagogu darba samaksai un valsts sociālās apdrošināšanas obligātajām iemaksām | E24: 736065 | F24: 3002372 | G24: 5452694 | H24: 8106404 | I24: 10973184 | J24: 12987679 | K24: Sporta izglītības iestādēs īstenotās profesionālās ievirzes sporta izglītības programmas | L24: profesionālā ievirze
B25: 10.resors "Aizsardzības ministrija", t.sk.: | E25: =+E26 -> 4204 | F25: =+F26 -> 20029 | G25: =+G26 -> 44342 | H25: =+H26 -> 73525 | I25: =+I26 -> 105052 | J25: =+J26 -> 127206
C26: 22.10.00. | D26: Starptautisko operāciju un Nacionālo bruņoto spēku personālsastāva centralizētais atalgojums | E26: 4204 | F26: 20029 | G26: 44342 | H26: 73525 | I26: 105052 | J26: 127206 | K26: Pulkveža Oskara Kalpaka profesionālā vidusskola | L26: profesionālā izglītība
B27: 16.resors "Zemkopības ministrija", t.sk.: | E27: =+E28 -> 27346 | F27: =+F28 -> 112278 | G27: =+G28 -> 205971 | H27: =+H28 -> 308273 | I27: =+I28 -> 418911 | J27: =+J28 -> 496683
C28: 22.01.00. | D28: Profesionālā izglītība | E28: 27346 | F28: 112278 | G28: 205971 | H28: 308273 | I28: 418911 | J28: 496683 | K28: Malnavas koledža LLU SIA "Bulduru Dārzkopības vidusskola" | L28: profesionālā izglītība
B29: 18.resors "Labklājības ministrija", t.sk.: | E29: =+E30 -> 11172 | F29: =+F30 -> 45570 | G29: =+G30 -> 82761 | H29: =+H30 -> 123039 | I29: =+I30 -> 166551 | J29: =+J30 -> 197127
C30: 05.37.00. | D30: Sociālās integrācijas valsts aģentūras administrēšana un profesionālās un sociālās rehabilitācijas nodrošināšana | E30: 11172 | F30: 45570 | G30: 82761 | H30: 123039 | I30: 166551 | J30: 197127 | K30: Sociālās integrācijas valsts aģentūras Jūrmalas profesionālās vidusskola | L30: profesionālā izglītība
B31: 19.resors "Tieslietu ministrija", t.sk.: | E31: =+E32 -> 3060 | F31: =+F32 -> 12485 | G31: =+G32 -> 22684 | H31: =+H32 -> 33735 | I31: =+I32 -> 45681 | J31: =+J32 -> 44906
C32: 04.01.00. | D32: Ieslodzījuma vietas | E32: 3060 | F32: 12485 | G32: 22684 | H32: 33735 | I32: 45681 | J32: 44906 | K32: Ieslodzījuma vietu pārvalde - pedagogu, kuri strādā ieslodzījuma vietās, darba samaksa | L32: pamata un vispārējā vidējā izglītība
B33: 22.resors "Kultūras ministrija", t.sk.: | E33: =+E34 -> 1275343 | F33: =+F34 -> 5607967 | G33: =+G34 -> 9645005 | H33: =+H34 -> 14017133 | I33: =+I34 -> 18740307 | J33: =+J34 -> 22059295
C34: 20.00.00. | D34: Kultūrizglītība | E34: =SUM(E36:E38) -> 1275343 | F34: =SUM(F36:F38) -> 5607967 | G34: =SUM(G36:G38) -> 9645005 | H34: =SUM(H36:H38) -> 14017133 | I34: =SUM(I36:I38) -> 18740307 | J34: =SUM(J36:J38) -> 22059295
D35: tai skaitā:
D36: KM vidusskolas | E36: 496773 | F36: 2026308 | G36: 3680038 | H36: 5471033 | I36: 7405831 | J36: 8765419 | L36: profesionālā izglītība
D37: Profesionālās ievirzes izglītības iestādes un programmas | E37: 654309 | F37: 3152658 | G37: 5361223 | H37: 7753109 | I37: 10337043 | J37: 12152781 | K37: Mūzikas, mākslas un dejas profesionālās ievirzes izglītības programmās | L37: profesionālā ievirze
D38: Pašvaldību izglītības iestādes | E38: 124261 | F38: 429001 | G38: 603744 | H38: 792991 | I38: 997433 | J38: 1141095 | L38: profesionālā ievirze
B39: 29.resors "Veselības ministrija", t.sk.: | E39: =SUM(E40:E41) -> 12893 | F39: =SUM(F40:F41) -> 52591 | G39: =SUM(G40:G41) -> 95514 | H39: =SUM(H40:H41) -> 142008 | I39: =SUM(I40:I41) -> 192254 | J39: =SUM(J40:J41) -> 227562
C40: 02.03.00. | D40: Augstākā medicīnas izglītība | E40: 6204 | F40: 25306 | G40: 45961 | H40: 68340 | I40: 92528 | J40: 109524 | K40: Sarkanā Krusta medicīnas koledža | L40: profesionālā izglītība
C41: 33.09.00. | D41: Interešu izglītības nodrošināšana VSIA "Bērnu klīniskā universitātes slimnīca" | E41: 6689 | F41: 27285 | G41: 49553 | H41: 73668 | I41: 99726 | J41: 118038 | K41: VSIA “Bērnu klīniskā universitātes slimnīca" | L41: interešu izglītība
...

Sheet RESORI_EKK_(bez AI)
A1: Pedagogu darba samaksas pieauguma grafiks
A3: Valsts budžeta resors | B3: Valsts budžeta programma / apakšprogramma | D3: EKK | E3: Papildu nepieciešamais finansējums zemākās mēneša darba algas likmes palielināšanai EUR
A4: KOPĀ | E4: =+E5+E9+E17+E19+E21+E23+E25+E29 -> 8579130 | F4: =+F5+F9+F17+F19+F21+F23+F25+F29 -> 35142175 | G4: =+G5+G9+G17+G19+G21+G23+G25+G29 -> 62426663 | H4: =+H5+H9+H17+H19+H21+H23+H25+H29 -> 190333833 | I4: =+I5+I9+I17+I19+I21+I23+I25+I29 -> 255151822 | J4: =+J5+J9+J17+J19+J21+J23+J25+J29 -> 299513020
A5: 62. Mērķdotācijas pašvaldībām, t.sk.: | E5: =+E6+E7+E8 -> 4744661 | F5: =+F6+F7+F8 -> 19114198 | G5: =+G6+G7+G8 -> 33912989 | H5: =+H6+H7+H8 -> 148336617 | I5: =+I6+I7+I8 -> 198662538 | J5: =+J6+J7+J8 -> 232914600
B6: 01.00.00. | C6: Mērķdotācijas izglītības pasākumiem | D6: 7460 | E6: =+izvērsti!E9+izvērsti!E47 -> 1186197 | F6: =+izvērsti!F9+izvērsti!F47 -> 4817068 | G6: =+izvērsti!G9+izvērsti!G47 -> 8676825 | H6: =+izvērsti!H9+izvērsti!H47 -> 12792725 | I6: =+izvērsti!I9+izvērsti!I47 -> 17126167 | J6: =+izvērsti!J9+izvērsti!J47 -> 20071875
B7: 05.00.00. | C7: Mērķdotācijas pašvaldībām – pašvaldību izglītības iestāžu pedagogu darba samaksai un valsts sociālās apdrošināšanas obligātajām iemaksām | D7: 7460 | E7: =+izvērsti!E10+izvērsti!E48 -> 729024 | F7: =+izvērsti!F10+izvērsti!F48 -> 2973232 | G7: =+izvērsti!G10+izvērsti!G48 -> 5398372 | H7: =+izvērsti!H10+izvērsti!H48 -> 107138542 | I7: =+izvērsti!I10+izvērsti!I48 -> 145023714 | J7: =+izvērsti!J10+izvērsti!J48 -> 171643782
B8: 10.00.00. | C8: Mērķdotācijas pašvaldībām – pašvaldību izglītības iestādēs bērnu no piecu gadu vecuma izglītošanā nodarbināto pedagogu darba samaksai un valsts sociālās apdrošināšanas obligātajām iemaksām | D8: 7460 | E8: =+izvērsti!E16+izvērsti!E49 -> 2829440 | F8: =+izvērsti!F16+izvērsti!F49 -> 11323898 | G8: =+izvērsti!G16+izvērsti!G49 -> 19837792 | H8: =+izvērsti!H16+izvērsti!H49 -> 28405350 | I8: =+izvērsti!I16+izvērsti!I49 -> 36512657 | J8: =+izvērsti!J16+izvērsti!J49 -> 41198943
A9: 15. Izglītības un zinātnes ministrija, t.sk.: | E9: =SUM(E10:E16) -> 2500451 | F9: =SUM(F10:F16) -> 10177057 | G9: =SUM(G10:G16) -> 18417397 | H9: =SUM(H10:H16) -> 27299503 | I9: =SUM(I10:I16) -> 36820528 | J9: =SUM(J10:J16) -> 43445641
B10: 01.05.00. | C10: Dotācija privātajām mācību iestādēm | D10: 3000 | E10: =+izvērsti!E18+izvērsti!E51 -> 501228 | F10: =+izvērsti!F18+izvērsti!F51 -> 2030525 | G10: =+izvērsti!G18+izvērsti!G51 -> 3640932 | H10: =+izvērsti!H18+izvērsti!H51 -> 5343058 | I10: =+izvērsti!I18+izvērsti!I51 -> 7108090 | J10: =+izvērsti!J18+izvērsti!J51 -> 8283450
B11: 01.08.00. | C11: Vispārējās izglītības atbalsta pasākumi | D11: 1000 | E11: =+izvērsti!E19+izvērsti!E52 -> 3254 | F11: =+izvērsti!F19+izvērsti!F52 -> 13184 | G11: =+izvērsti!G19+izvērsti!G52 -> 23647 | H11: =+izvērsti!H19+izvērsti!H52 -> 34713 | I11: =+izvērsti!I19+izvērsti!I52 -> 46198 | J11: =+izvērsti!J19+izvērsti!J52 -> 53856
B12: 02.01.00. | C12: Profesionālās izglītības programmu īstenošana | D12: 1000 | E12: =+izvērsti!E20 -> 1093740 | F12: =+izvērsti!F20 -> 4453200 | G12: =+izvērsti!G20 -> 8069200 | H12: =+izvērsti!H20 -> 11985356 | I12: =+izvērsti!I20 -> 16215912 | J12: =+izvērsti!J20 -> 19188720
D13: 3000 | E13: =+izvērsti!E21 -> 93260 | F13: =+izvērsti!F21 -> 380408 | G13: =+izvērsti!G21 -> 690872 | H13: =+izvērsti!H21 -> 1027096 | I13: =+izvērsti!I21 -> 1390332 | J13: =+izvērsti!J21 -> 1645572
D14: 7470 | E14: =+izvērsti!E22 -> 39492 | F14: =+izvērsti!F22 -> 161080 | G14: =+izvērsti!G22 -> 292528 | H14: =+izvērsti!H22 -> 434884 | I14: =+izvērsti!I22 -> 588684 | J14: =+izvērsti!J22 -> 696780
B15: 09.10.00. | C15: Murjāņu sporta ģimnāzija | D15: 1000 | E15: =+izvērsti!E23 -> 33412 | F15: =+izvērsti!F23 -> 136288 | G15: =+izvērsti!G23 -> 247524 | H15: =+izvērsti!H23 -> 367992 | I15: =+izvērsti!I23 -> 498128 | J15: =+izvērsti!J23 -> 589584
B16: 09.19.00. | C16: Finansējums profesionālās ievirzes sporta izglītības programmu pedagogu darba samaksai un valsts sociālās apdrošināšanas obligātajām iemaksām | D16: 7460 | E16: =+izvērsti!E24 -> 736065 | F16: =+izvērsti!F24 -> 3002372 | G16: =+izvērsti!G24 -> 5452694 | H16: =+izvērsti!H24 -> 8106404 | I16: =+izvērsti!I24 -> 10973184 | J16: =+izvērsti!J24 -> 12987679
A17: 10.resors "Aizsardzības ministrija", t.sk.: | E17: =+E18 -> 4204 | F17: =+F18 -> 20029 | G17: =+G18 -> 44342 | H17: =+H18 -> 73525 | I17: =+I18 -> 105052 | J17: =+J18 -> 127206
B18: 22.10.00. | C18: Starptautisko operāciju un Nacionālo bruņoto spēku personālsastāva centralizētais atalgojums | D18: 1000 | E18: =+izvērsti!E26 -> 4204 | F18: =+izvērsti!F26 -> 20029 | G18: =+izvērsti!G26 -> 44342 | H18: =+izvērsti!H26 -> 73525 | I18: =+izvērsti!I26 -> 105052 | J18: =+izvērsti!J26 -> 127206
A19: 16.resors "Zemkopības ministrija", t.sk.: | E19: =+E20 -> 27346 | F19: =+F20 -> 112278 | G19: =+G20 -> 205971 | H19: =+H20 -> 308273 | I19: =+I20 -> 418911 | J19: =+J20 -> 496683
B20: 22.01.00. | C20: Profesionālā izglītība | D20: 7470 | E20: =+izvērsti!E28 -> 27346 | F20: =+izvērsti!F28 -> 112278 | G20: =+izvērsti!G28 -> 205971 | H20: =+izvērsti!H28 -> 308273 | I20: =+izvērsti!I28 -> 418911 | J20: =+izvērsti!J28 -> 496683
A21: 18.resors "Labklājības ministrija", t.sk.: | E21: =+E22 -> 11172 | F21: =+F22 -> 45570 | G21: =+G22 -> 82761 | H21: =+H22 -> 123039 | I21: =+I22 -> 166551 | J21: =+J22 -> 197127
B22: 05.37.00. | C22: Sociālās integrācijas valsts aģentūras administrēšana un profesionālās un sociālās rehabilitācijas nodrošināšana | D22: 1000 | E22: =+izvērsti!E30 -> 11172 | F22: =+izvērsti!F30 -> 45570 | G22: =+izvērsti!G30 -> 82761 | H22: =+izvērsti!H30 -> 123039 | I22: =+izvērsti!I30 -> 166551 | J22: =+izvērsti!J30 -> 197127
A23: 19.resors "Tieslietu ministrija", t.sk.: | E23: =+E24 -> 3060 | F23: =+F24 -> 12485 | G23: =+G24 -> 22684 | H23: =+H24 -> 33735 | I23: =+I24 -> 45681 | J23: =+J24 -> 44906
B24: 04.01.00. | C24: Ieslodzījuma vietas | D24: 1000 | E24: =+izvērsti!E32 -> 3060 | F24: =+izvērsti!F32 -> 12485 | G24: =+izvērsti!G32 -> 22684 | H24: =+izvērsti!H32 -> 33735 | I24: =+izvērsti!I32 -> 45681 | J24: =+izvērsti!J32 -> 44906
A25: 22.resors "Kultūras ministrija", t.sk.: | E25: =SUM(E26:E28) -> 1275343 | F25: =SUM(F26:F28) -> 5607967 | G25: =SUM(G26:G28) -> 9645005 | H25: =SUM(H26:H28) -> 14017133 | I25: =SUM(I26:I28) -> 18740307 | J25: =SUM(J26:J28) -> 22059295
B26: 20.00.00. | C26: Kultūrizglītība | D26: 1000 | E26: =+izvērsti!E36 -> 496773 | F26: =+izvērsti!F36 -> 2026308 | G26: =+izvērsti!G36 -> 3680038 | H26: =+izvērsti!H36 -> 5471033 | I26: =+izvērsti!I36 -> 7405831 | J26: =+izvērsti!J36 -> 8765419
D27: 7460 | E27: =+izvērsti!E37 -> 654309 | F27: =+izvērsti!F37 -> 3152658 | G27: =+izvērsti!G37 -> 5361223 | H27: =+izvērsti!H37 -> 7753109 | I27: =+izvērsti!I37 -> 10337043 | J27: =+izvērsti!J37 -> 12152781
D28: 7460 | E28: =+izvērsti!E38 -> 124261 | F28: =+izvērsti!F38 -> 429001 | G28: =+izvērsti!G38 -> 603744 | H28: =+izvērsti!H38 -> 792991 | I28: =+izvērsti!I38 -> 997433 | J28: =+izvērsti!J38 -> 1141095
A29: 29.resors "Veselības ministrija", t.sk.: | E29: =SUM(E30:E31) -> 12893 | F29: =SUM(F30:F31) -> 52591 | G29: =SUM(G30:G31) -> 95514 | H29: =SUM(H30:H31) -> 142008 | I29: =SUM(I30:I31) -> 192254 | J29: =SUM(J30:J31) -> 227562
B30: 02.03.00. | C30: Augstākā medicīnas izglītība | D30: 7470 | E30: =+izvērsti!E40 -> 6204 | F30: =+izvērsti!F40 -> 25306 | G30: =+izvērsti!G40 -> 45961 | H30: =+izvērsti!H40 -> 68340 | I30: =+izvērsti!I40 -> 92528 | J30: =+izvērsti!J40 -> 109524
B31: 33.09.00. | C31: Interešu izglītības nodrošināšana VSIA "Bērnu klīniskā universitātes slimnīca" | D31: 3000 | E31: =+izvērsti!E41 -> 6689 | F31: =+izvērsti!F41 -> 27285 | G31: =+izvērsti!G41 -> 49553 | H31: =+izvērsti!H41 -> 73668 | I31: =+izvērsti!I41 -> 99726 | J31: =+izvērsti!J41 -> 118038
D34: 1000 | E34: =+E11+E12+E15+E18+E22+E24+E26 -> 1645615 | F34: =+F11+F12+F15+F18+F22+F24+F26 -> 6707064 | G34: =+G11+G12+G15+G18+G22+G24+G26 -> 12170196 | H34: =+H11+H12+H15+H18+H22+H24+H26 -> 18089393 | I34: =+I11+I12+I15+I18+I22+I24+I26 -> 24483353 | J34: =+J11+J12+J15+J18+J22+J24+J26 -> 28966818
D35: 3000 | E35: =+E10+E31+E13 -> 601177 | F35: =+F10+F31+F13 -> 2438218 | G35: =+G10+G31+G13 -> 4381357 | H35: =+H10+H31+H13 -> 6443822 | I35: =+I10+I31+I13 -> 8598148 | J35: =+J10+J31+J13 -> 10047060
D36: 7460 | E36: =+E6+E7+E8+E16+E27+E28 -> 6259296 | F36: =+F6+F7+F8+F16+F27+F28 -> 25698229 | G36: =+G6+G7+G8+G16+G27+G28 -> 45330650 | H36: =+H6+H7+H8+H16+H27+H28 -> 164989121 | I36: =+I6+I7+I8+I16+I27+I28 -> 220970198 | J36: =+J6+J7+J8+J16+J27+J28 -> 259196155
D37: 7470 | E37: =+E14+E20+E30 -> 73042 | F37: =+F14+F20+F30 -> 298664 | G37: =+G14+G20+G30 -> 544460 | H37: =+H14+H20+H30 -> 811497 | I37: =+I14+I20+I30 -> 1100123 | J37: =+J14+J20+J30 -> 1302987
E38: =SUM(E34:E37) -> 8579130 | F38: =SUM(F34:F37) -> 35142175 | G38: =SUM(G34:G37) -> 62426663 | H38: =SUM(H34:H37) -> 190333833 | I38: =SUM(I34:I37) -> 255151822 | J38: =SUM(J34:J37) -> 299513020
E39: =+E38-E4 -> 0 | F39: =+F38-F4 -> 0 | G39: =+G38-G4 -> 0 | H39: =+H38-H4 -> 0 | I39: =+I38-I4 -> 0 | J39: =+J38-J4 -> 0

Sheet Ietekme uz pašvaldību budžetu
A1: Pedagogu darba samaksas pieauguma grafiks
A3: Pasākuma Nr. | B3: Izglītības pakāpe | C3: Zemākās mēneša darba algas likmes palielināšana EUR
A4: 2.A | B4: Pirmsskolas izglītība (1,5-4 gadus vecu bērnu izglītošana) | C4: 2023.g. 1.sept. | D4: 2024.g. 1.sept. | E4: 2025.g. 1.sept. | F4: 2026.g. 1.sept. | G4: 2027.g. 1.sept.
B5: Pedagoga zemākā mēneša darba algas likme | C5: =+izvērsti!E43 -> 1141 | D5: =+izvērsti!F43 -> 1312 | E5: =+izvērsti!G43 -> 1483 | F5: =+izvērsti!H43 -> 1656 | G5: =+izvērsti!I43 -> 1795
B6: Papildu nepieciešamais finansējums | C6: 2023. gada 4 mēn. | D6: 2024. gadam | E6: 2025. gadam | F6: 2026. gadam | G6: 2027. gadam | H6: turpmāk ik gadu
C7: 7079616 | D7: 28318464 | E7: 49557312 | F7: 70878963 | G7: 90958577 | H7: 102468129
