Workbook

Sheet Kopējais_gultu_skaits
L1: 3.1.pielikums.
L2: Informatīvajam ziņojumam “Par medicīniskā skābekļa pieejamības nodrošināšanu un slimnīcu rezervju, kā arī valsts gultu rezervju veidošanu”
A3: Kopējais gultu skaits stacionārajās ārstniecības iestādēs. Informācija iegūta no Operatīvo datu paneļa sadaļas
A4: Ārstniecības iestādes un tās filiāles nosaukums | B4: "Gultasvietas (operatīvie dati)", 01.01.2021. | C4: "Gultasvietas (operatīvie dati)", 15.10.2021. | D4: "Gultasvietas (operatīvie dati)", 06.12.2021. | E4: Gultu skaita pieaugums/ samazinājums | F4: IT gultu skaits | I4: Kopējais Covid-19 ārstēšanas nodrošināšanai gultu skaits (ar papildus finansējuma piešķīrumiem)
B5: Visu profilu gultas – kopā | C5: Visu profilu gultas – kopā | D5: Visu profilu gultas – kopā | F5: I līmenis | G5: II līmenis | H5: III līmenis | I5: Jaunas gultas | J5: Jaunas IT gultas | K5: Pārprofilētas gultas | L5: Esošo gultu uzlabošana | M5: Kopā
A6: RAKUS stacionārs Gaiļezers | B6: 741 | C6: 728 | D6: 733 | E6: =SUM(D6-B6) -> -8
A7: RAKUS stacionārs Latvijas Onkoloģijas centrs | B7: 407 | C7: 428 | D7: 428 | E7: =SUM(D7-B7) -> 21
A8: RAKUS stacionārs Biķernieki | B8: 207 | C8: 234 | D8: 226 | E8: =SUM(D8-B8) -> 19
A9: RAKUS stacionārs Latvijas Infektoloģijas centrs | B9: 106 | C9: 116 | D9: 119 | E9: =SUM(D9-B9) -> 13
A10: RAKUS stacionārs Tuberkulozes un plaušu slimību centrs | B10: 235 | C10: 209 | D10: 227 | E10: =SUM(D10-B10) -> -8
A11: RAKUS - kopā | B11: 1696 | C11: 1715 | D11: 1733 | E11: =SUM(D11-B11) -> 37 | F11: 82 | G11: 62 | H11: 44 | I11: =111+11 -> 122 | J11: 12 | K11: =447-I11-J11 -> 313 | L11: 294 | M11: =I11+J11+K11+L11 -> 741
A12: Paula Stradiņa klīniskā universitātes slimnīca | B12: 676 | C12: 722 | D12: 741 | E12: =SUM(D12-B12) -> 65 | F12: 70 | G12: 27 | H12: 34 | J12: 26 | K12: =473-J12 -> 447 | L12: -15 | M12: =I12+J12+K12+L12 -> 458
A13: Bērnu klīniskā universitātes slimnīca | B13: 160 | C13: 279 | D13: 279 | E13: =SUM(D13-B13) -> 119 | L13: 0 | M13: =I13+J13+K13+L13 -> 0
A14: Liepājas reģionālā slimnīca | B14: 338 | C14: 338 | D14: 338 | E14: =SUM(D14-B14) -> 0 | F14: 18 | G14: 21 | I14: 13 | J14: 14 | K14: =119-I14-J14 -> 92 | L14: 1 | M14: =I14+J14+K14+L14 -> 120
A15: Ziemeļkurzemes reģionālā slimnīca Ventspils | B15: 219 | C15: 218 | D15: 218 | E15: =SUM(D15-B15) -> -1 | F15: 8 | G15: 13 | I15: 4 | J15: 15 | K15: =111-I15-J15 -> 92 | L15: -39 | M15: =I15+J15+K15+L15 -> 72
A16: Ziemeļkurzemes reģionālā slimnīca Talsu filiāle | B16: 39 | C16: 39 | D16: 39 | E16: =SUM(D16-B16) -> 0 | K16: 10 | L16: 21 | M16: =I16+J16+K16+L16 -> 31
A17: Vidzemes slimnīca | B17: 248 | C17: 282 | D17: 282 | E17: =SUM(D17-B17) -> 34 | F17: 12 | G17: 12 | J17: 8 | K17: =141-J17 -> 133 | L17: 0 | M17: =I17+J17+K17+L17 -> 141
A18: Daugavpils reģionālā slimnīca | B18: 640 | C18: 640 | D18: 640 | E18: =SUM(D18-B18) -> 0 | F18: 35 | G18: 66 | I18: 41 | K18: =41-I18 -> 0 | L18: 216 | M18: =I18+J18+K18+L18 -> 257
A19: Rēzeknes slimnīca | B19: 255 | C19: 259 | D19: 247 | E19: =SUM(D19-B19) -> -8 | F19: 21 | G19: 15 | J19: 8 | K19: =93-J19 -> 85 | L19: 20 | M19: =I19+J19+K19+L19 -> 113
A20: Jēkabpils reģionālā slimnīca | B20: 178 | C20: 192 | D20: 212 | E20: =SUM(D20-B20) -> 34 | F20: 20 | G20: 28 | I20: 15 | J20: 13 | K20: =85-I20-J20 -> 57 | L20: 24 | M20: =I20+J20+K20+L20 -> 109
A21: Jelgavas pilsētas slimnīca | B21: 219 | C21: 256 | D21: 257 | E21: =SUM(D21-B21) -> 38 | F21: 48 | G21: 8 | I21: 20 | K21: =90-I21 -> 70 | L21: 0 | M21: =I21+J21+K21+L21 -> 90
A22: Ogres rajona slimnīca | B22: 97 | C22: 97 | D22: 90 | E22: =SUM(D22-B22) -> -7 | K22: 4 | L22: -4 | M22: =I22+J22+K22+L22 -> 0
A23: Jūrmalas slimnīca | B23: 100 | C23: 80 | D23: 80 | E23: =SUM(D23-B23) -> -20 | F23: 2 | J23: 1 | L23: 17 | M23: =I23+J23+K23+L23 -> 18
A24: Kuldīgas slimnīca | B24: 105 | C24: 86 | D24: 86 | E24: =SUM(D24-B24) -> -19 | G24: 3 | L24: 25 | M24: =I24+J24+K24+L24 -> 25
A25: Cēsu klīnika | B25: 44 | C25: 68 | D25: 79 | E25: =SUM(D25-B25) -> 35 | F25: 4 | J25: 4 | K25: =28-J25 -> 24 | L25: 0 | M25: =I25+J25+K25+L25 -> 28
A26: Balvu un Gulbenes slimnīcu apvienība | B26: 87 | C26: 74 | D26: 83 | E26: =SUM(D26-B26) -> -4 | F26: 4 | G26: 2 | I26: 15 | K26: =25-I26 -> 10 | L26: 0 | M26: =I26+J26+K26+L26 -> 25
A27: Madonas slimnīca | B27: 90 | C27: 90 | D27: 90 | E27: =SUM(D27-B27) -> 0 | K27: 20 | L27: 0 | M27: =I27+J27+K27+L27 -> 20
A28: Dobeles un apkārtnes slimnīca | B28: 85 | C28: 70 | D28: 70 | E28: =SUM(D28-B28) -> -15 | K28: 17 | L28: -1 | M28: =I28+J28+K28+L28 -> 16
A29: Krāslavas slimnīca | B29: 60 | C29: 60 | D29: 60 | E29: =SUM(D29-B29) -> 0 | F29: 2 | K29: 20 | L29: 0 | M29: =I29+J29+K29+L29 -> 20
A30: Preiļu slimnīca | B30: 42 | C30: 42 | D30: 42 | E30: =SUM(D30-B30) -> 0 | K30: 42 | L30: 0 | M30: =I30+J30+K30+L30 -> 42
A31: Tukuma slimnīca | B31: 39 | C31: 63 | D31: 69 | E31: =SUM(D31-B31) -> 30 | F31: 3 | G31: 4 | J31: 4 | K31: =52-J31 -> 48 | L31: 11 | M31: =I31+J31+K31+L31 -> 63
A32: Alūksnes slimnīca | B32: 65 | C32: 65 | D32: 77 | E32: =SUM(D32-B32) -> 12 | F32: 4 | J32: 2 | K32: =20-J32 -> 18 | L32: 12 | M32: =I32+J32+K32+L32 -> 32
A33: Līvānu slimnīca | B33: 50 | C33: 50 | D33: 50 | E33: =SUM(D33-B33) -> 0 | L33: 0 | M33: =I33+J33+K33+L33 -> 0
A34: Aizkraukles slimnīca | B34: 40 | C34: 42 | D34: 42 | E34: =SUM(D34-B34) -> 2 | K34: 40 | L34: 0 | M34: =I34+J34+K34+L34 -> 40
A35: Bauskas slimnīca | B35: 30 | C35: 20 | D35: 20 | E35: =SUM(D35-B35) -> -10 | K35: 40 | L35: 0 | M35: =I35+J35+K35+L35 -> 40
A36: Limbažu slimnīca | B36: 46 | C36: 39 | D36: 53 | E36: =SUM(D36-B36) -> 7 | K36: 19 | L36: 33 | M36: =I36+J36+K36+L36 -> 52
A37: Ludzas medicīnas centrs | B37: 15 | C37: 53 | D37: 43 | E37: =SUM(D37-B37) -> 28 | K37: 60 | L37: 0 | M37: =I37+J37+K37+L37 -> 60
A38: Saldus medicīnas centrs | B38: 35 | C38: 35 | D38: 35 | E38: =SUM(D38-B38) -> 0 | K38: 14 | L38: -14 | M38: =I38+J38+K38+L38 -> 0
A39: Traumatoloģijas un ortopēdijas slimnīca | B39: 203 | C39: 220 | D39: 220 | E39: =SUM(D39-B39) -> 17 | K39: 40 | L39: 0 | M39: =I39+J39+K39+L39 -> 40
A40: Vaivaru rehabilitācijas centrs | B40: 235 | C40: 235 | D40: 235 | E40: =SUM(D40-B40) -> 0 | L40: 0 | M40: =I40+J40+K40+L40 -> 0
A41: Rīgas Dzemdību nams | B41: 213 | C41: 213 (tai skaitā 89 jaundzimušo gultas) | D41: 123 | E41: =SUM(D41-B41) -> -90 | L41: 0 | M41: =I41+J41+K41+L41 -> 0
A42: Rīgas 2. slimnīca | B42: 58 | C42: 89 | D42: 105 | E42: =SUM(D42-B42) -> 47 | K42: 150 | L42: 0 | M42: =I42+J42+K42+L42 -> 150
A43: Rīgas psihiatrijas un narkoloģijas centrs | B43: 403 | C43: 408 | D43: 408 | E43: =SUM(D43-B43) -> 5 | K43: 18 | L43: -18 | M43: =I43+J43+K43+L43 -> 0
A44: Strenču psihoneiroloģiskā slimnīca | B44: 300 | C44: 300 | D44: 300 | E44: =SUM(D44-B44) -> 0 | K44: 20 | L44: 80 | M44: =I44+J44+K44+L44 -> 100
A45: Slimnīca Ģintermuiža | B45: 320 | C45: 300 | D45: 315 | E45: =SUM(D45-B45) -> -5 | K45: 75 | L45: -60 | M45: =I45+J45+K45+L45 -> 15
A46: Daugavpils psihoneiroloģiskā slimnīca | B46: 375 | C46: 375 | D46: 375 | E46: =SUM(D46-B46) -> 0 | K46: 20 | L46: 82 | M46: =I46+J46+K46+L46 -> 102
A47: Siguldas slimnīca | B47: 82 | C47: 68 | D47: 68 | E47: =SUM(D47-B47) -> -14 | L47: 0 | M47: =I47+J47+K47+L47 -> 0
A48: Piejūras slimnīca | B48: 77 | C48: 95 | D48: 95 | E48: =SUM(D48-B48) -> 18 | L48: 0 | M48: =I48+J48+K48+L48 -> 0
A49: Daugavpils psihoneiroloģiskās slimnīcas Aknīstes slimnīca | B49: 350 | C49: 350 | D49: 350 | E49: =SUM(D49-B49) -> 0 | K49: 0 | L49: 50 | M49: =I49+J49+K49+L49 -> 50
A50: Bērnu psihoneiroloģiskā slimnīca "Ainaži" | B50: 45 | C50: 45 | D50: 45 | E50: =SUM(D50-B50) -> 0 | L50: 0 | M50: =I50+J50+K50+L50 -> 0
A51: Rīgas 1. slimnīca | B51: 60 | C51: 0 | D51: 60 | E51: =SUM(D51-B51) -> 0 | F51: 5 | I51: 50 | K51: =150-I51 -> 100 | L51: 20 | M51: =I51+J51+K51+L51 -> 170
A52: Sanare - KRC Jaunķemeri | B52: 21 | C52: 20 | D52: 21 | E52: =SUM(D52-B52) -> 0 | K52: 49 | L52: 0 | M52: =I52+J52+K52+L52 -> 49
A53: Latvijas Jūras medicīnas centrs | B53: 31 | C53: 31 | D53: 31 | E53: =SUM(D53-B53) -> 0 | K53: 31 | L53: -31 | M53: =I53+J53+K53+L53 -> 0
A54: Priekules slimnīca | B54: 20 | D54: 20 | E54: =SUM(D54-B54) -> 0 | L54: 0 | M54: =I54+J54+K54+L54 -> 0
A55: Saulkrastu veselības un sociālās aprūpes centrs | B55: 18 | D55: 18 | E55: =SUM(D55-B55) -> 0 | L55: 0 | M55: =I55+J55+K55+L55 -> 0
A56: Irlavas Sarkanā Krusta slimnīca | B56: 46 | D56: 46 | E56: =SUM(D56-B56) -> 0 | L56: 12 | M56: =I56+J56+K56+L56 -> 12
A57: KOPĀ | B57: =SUM(B11:B56) -> 8555 | C57: =SUM(C11:C55) -> 8510 | D57: =SUM(D11:D56) -> 8890 | E57: =SUM(D57-B57) -> 335 | F57: =SUM(F6:F56) -> 338 | G57: =SUM(G6:G56) -> 261 | H57: =SUM(H6:H56) -> 78 | I57: =SUM(I6:I56) -> 280 | J57: =SUM(J6:J56) -> 107 | K57: =SUM(K6:K56) -> 2178 | L57: 736 | M57: =SUM(M6:M56) -> 3301

Sheet iekartu_rezervju_sadalijums
AA1: 4. LĪMENIS | CJ1: 3.2. pielikums
B3: III. Līmeņa ITN nodaļa (12 gultas) | E3: RAKUS | G3: PSKUS | I3: Pavisam kopā slimnīcās | K3: Valsts rezerve | N3: II. Līmeņa ITN nodaļa (12 gultas) | Q3: RAKUS | S3: PSKUS | U3: Liepājas reģionālā slimnīca | W3: Ziemeļkurzemes reģionālā slimnīca | Y3: Vidzemes slimnīca | AA3: Daugavpils reģionālā slimnīca | AC3: Rēzeknes slimnīca | AE3: Jēkabpils reģionālā slimnīca | AG3: Jelgavas pilsētas slimnīca | AH3: Jēkabpils reģionālā slimnīca | AI3: SIA "Balvu un Gulbenes slimnīcu apvienība" | AK3: SIA "Tukuma slimnīca" | AM3: SIA "Kuldīgas slimnīca" | AO3: Pavisam kopā slimnīcās | AS3: I. Līmeņa ITN nodaļa (12 gultas) | AV3: RAKUS | AX3: PSKUS | AZ3: Liepājas reģionālā slimnīca | BB3: Ziemeļkurzemes reģionālā slimnīca | BD3: Vidzemes slimnīca | BF3: Daugavpils reģionālā slimnīca | BH3: Rēzeknes slimnīca | BJ3: Jēkabpils reģionālā slimnīca | BL3: Jelgavas pilsētas slimnīca | BM3: Jēkabpils reģionālā slimnīca | BN3: SIA "Balvu un Gulbenes slimnīcu apvienība" | BP3: SIA "Tukuma slimnīca" | BR3: SIA "Cēsu klīnika" | BT3: SIA "Rīgas 1. slimnīca" | BV3: SIA "Alūksnes slimnīca" | BX3: SIA "Krāslavas slimnīca" | BZ3: SIA "Jūrmalas slimnīca" | CB3: Pavisam kopā slimnīcās | CE3: Pavisam kopā slimnīcās I, II un III līmenis | CG3: Pvisam slimnīcās Covid-19 pacientu ārstēšanais paredzētais terapitisko gultu skaits | CH3: No starptautiskās palīdzības saņemtie (paliek lietošanā) | CI3: Apjoms, kas tika pieprasīts no LNG iegādāties | CJ3: Starpība
A4: N.p.k. | B4: Nosaukums | C4: Kritiskais minimums | D4: Optimālais daudzums (lai nodrošinātu ierīču remontu, dezinfekciju, pacientu pārvietošanu) | E4: NODAĻAS | F4: Kopējais gultu skaits | G4: NODAĻAS | H4: Kopējais gultu skaits | I4: NODAĻAS | J4: Kopējais gultu skaits | M4: N.p.k. | N4: Nosaukums | O4: Kritiskais minimums | P4: Optimālais daudzums (lai nodrošinātu ierīču remontu, dezinfekciju, pacientu pārvietošanu) | Q4: NODAĻAS | R4: Kopējais gultu skaits | S4: NODAĻAS | T4: Kopējais gultu skaits | U4: NODAĻAS | V4: Kopējais gultu skaits | W4: NODAĻAS | X4: Kopējais gultu skaits | Y4: NODAĻAS | Z4: Kopējais gultu skaits | AA4: NODAĻAS | AB4: Kopējais gultu skaits | AC4: NODAĻAS | AD4: Kopējais gultu skaits | AE4: NODAĻAS | AF4: Kopējais gultu skaits | AG4: NODAĻAS | AH4: Kopējais gultu skaits | AI4: NODAĻAS | AJ4: Kopējais gultu skaits | AK4: NODAĻAS | AL4: Kopējais gultu skaits | AM4: NODAĻAS | AN4: Kopējais gultu skaits | AO4: NODAĻAS | AP4: Kopējais gultu skaits | AR4: N.p.k. | AS4: Nosaukums | AT4: Kritiskais minimums | AU4: Optimālais daudzums (lai nodrošinātu ierīču remontu, dezinfekciju, pacientu pārvietošanu) | AV4: NODAĻAS | AW4: Kopējais gultu skaits | AX4: NODAĻAS | AY4: Kopējais gultu skaits | AZ4: NODAĻAS | BA4: Kopējais gultu skaits | BB4: NODAĻAS | BC4: Kopējais gultu skaits | BD4: NODAĻAS | BE4: Kopējais gultu skaits | BF4: NODAĻAS | BG4: Kopējais gultu skaits | BH4: NODAĻAS | BI4: Kopējais gultu skaits | BJ4: NODAĻAS | BK4: Kopējais gultu skaits | BL4: NODAĻAS | BM4: Kopējais gultu skaits | BN4: NODAĻAS | BO4: Kopējais gultu skaits | BP4: NODAĻAS | BQ4: Kopējais gultu skaits | BR4: NODAĻAS | BS4: Kopējais gultu skaits | BT4: NODAĻAS | BU4: Kopējais gultu skaits | BV4: NODAĻAS | BW4: Kopējais gultu skaits | BX4: NODAĻAS | BY4: Kopējais gultu skaits | BZ4: NODAĻAS | CA4: Kopējais gultu skaits | CB4: NODAĻAS | CC4: Kopējais gultu skaits | CE4: NODAĻAS | CF4: Kopējais rezervju nepieciešamais iekārtu/ierīču skaits uz 677 IT gultām | CG4: Kopējais rezervju nepieciešamais iekārtu/ierīču skaits uz 3194 gultām
E5: 3 | F5: 44 | G5: 3 | H5: 34 | I5: =E5+G5 -> 6 | J5: =F5+H5 -> 78 | Q5: 8 | R5: 62 | S5: 5 | T5: 27 | U5: 2 | V5: 21 | W5: 3 | X5: =7+6 -> 13 | Y5: 2 | Z5: 12 | AA5: 9 | AB5: 66 | AC5: 2 | AD5: 15 | AE5: 4 | AF5: 28 | AG5: 1 | AH5: 8 | AI5: 1 | AJ5: 2 | AK5: 1 | AL5: 4 | AM5: 1 | AN5: 3 | AO5: =Q5+S5+U5+W5+Y5+AA5+AC5+AE5+AG5+AI5+AK5+AM5 -> 39 | AP5: =R5+T5+V5+X5+Z5+AB5+AD5+AF5+AH5+AJ5+AL5+AN5 -> 261 | AV5: 16 | AW5: 82 | AX5: 5 | AY5: 70 | AZ5: 6 | BA5: 18 | BB5: 4 | BC5: 8 | BD5: 4 | BE5: 12 | BF5: 10 | BG5: 35 | BH5: 6 | BI5: 21 | BJ5: 3 | BK5: 20 | BL5: 6 | BM5: 48 | BN5: 1 | BO5: 4 | BP5: 1 | BQ5: 3 | BR5: 1 | BS5: 4 | BT5: 1 | BU5: 5 | BV5: 1 | BW5: 2 | BX5: 1 | BY5: 4 | BZ5: 1 | CA5: 2 | CB5: =AV5+AX5+AZ5+BB5+BD5+BF5+BH5+BJ5+BL5+BN5+BP5+BR5+BT5+BV5+BX5+BZ5 -> 67 | CC5: =AW5+AY5+BA5+BC5+BE5+BG5+BI5+BK5+BM5+BO5+BQ5+BS5+BU5+BW5+BY5+CA5 -> 338 | CE5: =I5+AO5+CB5 -> 112 | CF5: =J5+AP5+CC5 -> 677 | CG5: 3194
A6: 1 | B6: ITK gulta daudzfunkcionāla ar svariem un sānu sasveri | C6: 12 | D6: 15 | F6: =$F$5*3/12 -> 11 | H6: =ROUND($H$5*3/12,0) -> 9 | I6: =E6+G6 -> 0 | J6: =F6+H6 -> 20 | K6: X | M6: 1 | N6: ITK gulta daudzfunkcionāla ar svariem un sānu sasveri | O6: 12 | P6: 15 | R6: =ROUND($R$5*3/12,0) -> 16 | T6: =ROUND($T$5*3/12,0) -> 7 | V6: =ROUND($V$5*3/12,0) -> 5 | X6: =ROUND($X$5*3/12,0) -> 3 | Z6: =ROUND($Z$5*3/12,0) -> 3 | AB6: =ROUND($AB$5*3/12,0) -> 17 | AD6: =ROUND($AD$5*3/12,0) -> 4 | AF6: =ROUND($AF$5*3/12,0) -> 7 | AH6: =ROUND($AH$5*3/12,0) -> 2 | AJ6: =ROUND($AJ$5*3/12,0) -> 1 | AL6: =ROUND($AL$5*3/12,0) -> 1 | AN6: =ROUND($AN$5*3/12,0) -> 1 | AO6: =Q6+S6+U6+W6+Y6+AA6+AC6+AE6+AG6+AI6+AK6+AM6 -> 0 | AP6: =R6+T6+V6+X6+Z6+AB6+AD6+AF6+AH6+AJ6+AL6+AN6 -> 67 | AR6: 1 | AS6: ITK gulta daudzfunkcionāla | AT6: 12 | AU6: 15 | AW6: =ROUND($AW$5*3/12,0) -> 21 | AY6: =ROUND($AY$5*3/12,0) -> 18 | BA6: =ROUND($BA$5*3/12,0) -> 5 | BC6: =ROUND($BC$5*3/12,0) -> 2 | BE6: =ROUND($BE$5*3/12,0) -> 3 | BG6: =ROUND($BG$5*3/12,0) -> 9 | BI6: =ROUND($BI$5*3/12,0) -> 5 | BK6: =ROUND($BK$5*3/12,0) -> 5 | BM6: =ROUND($BM$5*3/12,0) -> 12 | BO6: =ROUND($BO$5*3/12,0) -> 1 | BQ6: =ROUND($BQ$5*3/12,0) -> 1 | BS6: =ROUND($BS$5*3/12,0) -> 1 | BU6: =ROUND($BU$5*3/12,0) -> 1 | BW6: =ROUND($BW$5*3/12,0) -> 1 | BY6: =ROUND($BY$5*3/12,0) -> 1 | CA6: =ROUND($CA$5*3/12,0) -> 1 | CC6: =AW6+AY6+BA6+BC6+BE6+BG6+BI6+BK6+BM6+BO6+BQ6+BS6+BU6+BW6+BY6+CA6 -> 87 | CE6: =I6+AO6+CB6 -> 0 | CF6: =J6+AP6+CC6 -> 174 | CG6: =parprof_gultu_rezerves!E4 -> 399 | CI6: =gultas!E76 -> 3507 | CJ6: =CI6+CH6-CF6-CG6 -> 2934
A7: 2 | B7: Aktīvais pretizgulējumu matracis (pcienta svaram ne mazāk 200 kg) | C7: 12 | D7: 15 | F7: =$F$5*3/12 -> 11 | H7: =ROUND($H$5*3/12,0) -> 9 | I7: =E7+G7 -> 0 | J7: =F7+H7 -> 20 | K7: X | M7: 2 | N7: Aktīvais pretizgulējumu matracis (pcienta svaram ne mazāk 200 kg) | O7: 6 | P7: 9 | R7: =ROUND($R$5*3/12,0) -> 16 | T7: =ROUND($T$5*3/12,0) -> 7 | V7: =ROUND($V$5*3/12,0) -> 5 | X7: =ROUND($X$5*3/12,0) -> 3 | Z7: =ROUND($Z$5*3/12,0) -> 3 | AB7: =ROUND($AB$5*3/12,0) -> 17 | AD7: =ROUND($AD$5*3/12,0) -> 4 | AF7: =ROUND($AF$5*3/12,0) -> 7 | AH7: =ROUND($AH$5*3/12,0) -> 2 | AJ7: =ROUND($AJ$5*3/12,0) -> 1 | AL7: =ROUND($AL$5*3/12,0) -> 1 | AN7: =ROUND($AN$5*3/12,0) -> 1 | AO7: =Q7+S7+U7+W7+Y7+AA7+AC7+AE7+AG7+AI7+AK7+AM7 -> 0 | AP7: =R7+T7+V7+X7+Z7+AB7+AD7+AF7+AH7+AJ7+AL7+AN7 -> 67 | AR7: 2 | AS7: Aktīvais pretizgulējumu matracis (pcienta svaram ne mazāk 200 kg) | AT7: 4 | AU7: 6 | AW7: =ROUND($AW$5*2/12,0) -> 14 | AY7: =ROUND($AY$5*3/12,0) -> 18 | BA7: =ROUND($BA$5*2/12,0) -> 3 | BC7: =ROUND($BC$5*3/12,0) -> 2 | BE7: =ROUND($BE$5*3/12,0) -> 3 | BG7: =ROUND($BG$5*3/12,0) -> 9 | BI7: =ROUND($BI$5*3/12,0) -> 5 | BK7: =ROUND($BK$5*3/12,0) -> 5 | BM7: =ROUND($BM$5*3/12,0) -> 12 | BO7: =ROUND($BO$5*3/12,0) -> 1 | BQ7: =ROUND($BQ$5*3/12,0) -> 1 | BS7: =ROUND($BS$5*3/12,0) -> 1 | BU7: =ROUND($BU$5*3/12,0) -> 1 | BW7: =ROUND($BW$5*3/12,0) -> 1 | BY7: =ROUND($BY$5*3/12,0) -> 1 | CA7: =ROUND($CA$5*3/12,0) -> 1 | CC7: =AW7+AY7+BA7+BC7+BE7+BG7+BI7+BK7+BM7+BO7+BQ7+BS7+BU7+BW7+BY7+CA7 -> 78 | CE7: =I7+AO7+CB7 -> 0 | CF7: =J7+AP7+CC7 -> 165 | CG7: =parprof_gultu_rezerves!E5 -> 133 | CI7: =matrači!E76 -> 3243 | CJ7: =CI7+CH7-CF7-CG7 -> 2945
A8: 3 | B8: Statīvs āķveida, fiksējams pie gultas | C8: 12 | D8: 15 | F8: =$F$5*3/12 -> 11 | H8: =ROUND($H$5*3/12,0) -> 9 | I8: =E8+G8 -> 0 | J8: =F8+H8 -> 20 | M8: 3 | N8: Statīvs āķveida, fiksējams pie gultas | O8: 12 | P8: 15 | R8: =ROUND($R$5*3/12,0) -> 16 | T8: =ROUND($T$5*3/12,0) -> 7 | V8: =ROUND($V$5*3/12,0) -> 5 | X8: =ROUND($X$5*3/12,0) -> 3 | Z8: =ROUND($Z$5*3/12,0) -> 3 | AB8: =ROUND($AB$5*3/12,0) -> 17 | AD8: =ROUND($AD$5*3/12,0) -> 4 | AF8: =ROUND($AF$5*3/12,0) -> 7 | AH8: =ROUND($AH$5*3/12,0) -> 2 | AJ8: =ROUND($AJ$5*3/12,0) -> 1 | AL8: =ROUND($AL$5*3/12,0) -> 1 | AN8: =ROUND($AN$5*3/12,0) -> 1 | AO8: =Q8+S8+U8+W8+Y8+AA8+AC8+AE8+AG8+AI8+AK8+AM8 -> 0 | AP8: =R8+T8+V8+X8+Z8+AB8+AD8+AF8+AH8+AJ8+AL8+AN8 -> 67 | AR8: 3 | AS8: Statīvs āķveida, fiksējams pie gultas | AT8: 12 | AU8: 15 | AW8: =ROUND($AW$5*3/12,0) -> 21 | AY8: =ROUND($AY$5*3/12,0) -> 18 | BA8: =ROUND($BA$5*3/12,0) -> 5 | BC8: =ROUND($BC$5*3/12,0) -> 2 | BE8: =ROUND($BE$5*3/12,0) -> 3 | BG8: =ROUND($BG$5*3/12,0) -> 9 | BI8: =ROUND($BI$5*3/12,0) -> 5 | BK8: =ROUND($BK$5*3/12,0) -> 5 | BM8: =ROUND($BM$5*3/12,0) -> 12 | BO8: =ROUND($BO$5*3/12,0) -> 1 | BQ8: =ROUND($BQ$5*3/12,0) -> 1 | BS8: =ROUND($BS$5*3/12,0) -> 1 | BU8: =ROUND($BU$5*3/12,0) -> 1 | BW8: =ROUND($BW$5*3/12,0) -> 1 | BY8: =ROUND($BY$5*3/12,0) -> 1 | CA8: =ROUND($CA$5*3/12,0) -> 1 | CC8: =AW8+AY8+BA8+BC8+BE8+BG8+BI8+BK8+BM8+BO8+BQ8+BS8+BU8+BW8+BY8+CA8 -> 87 | CE8: =I8+AO8+CB8 -> 0 | CF8: =J8+AP8+CC8 -> 174
A9: 4 | B9: Stanga gultai (pacientam) | C9: 12 | D9: 15 | F9: =$F$5*3/12 -> 11 | H9: =ROUND($H$5*3/12,0) -> 9 | I9: =E9+G9 -> 0 | J9: =F9+H9 -> 20 | M9: 4 | N9: Stanga gultai (pacientam) | O9: 12 | P9: 15 | R9: =ROUND($R$5*3/12,0) -> 16 | T9: =ROUND($T$5*3/12,0) -> 7 | V9: =ROUND($V$5*3/12,0) -> 5 | X9: =ROUND($X$5*3/12,0) -> 3 | Z9: =ROUND($Z$5*3/12,0) -> 3 | AB9: =ROUND($AB$5*3/12,0) -> 17 | AD9: =ROUND($AD$5*3/12,0) -> 4 | AF9: =ROUND($AF$5*3/12,0) -> 7 | AH9: =ROUND($AH$5*3/12,0) -> 2 | AJ9: =ROUND($AJ$5*3/12,0) -> 1 | AL9: =ROUND($AL$5*3/12,0) -> 1 | AN9: =ROUND($AN$5*3/12,0) -> 1 | AO9: =Q9+S9+U9+W9+Y9+AA9+AC9+AE9+AG9+AI9+AK9+AM9 -> 0 | AP9: =R9+T9+V9+X9+Z9+AB9+AD9+AF9+AH9+AJ9+AL9+AN9 -> 67 | AR9: 4 | AS9: Stanga gultai (pacientam) | AT9: 12 | AU9: 15 | AW9: =ROUND($AW$5*3/12,0) -> 21 | AY9: =ROUND($AY$5*3/12,0) -> 18 | BA9: =ROUND($BA$5*3/12,0) -> 5 | BC9: =ROUND($BC$5*3/12,0) -> 2 | BE9: =ROUND($BE$5*3/12,0) -> 3 | BG9: =ROUND($BG$5*3/12,0) -> 9 | BI9: =ROUND($BI$5*3/12,0) -> 5 | BK9: =ROUND($BK$5*3/12,0) -> 5 | BM9: =ROUND($BM$5*3/12,0) -> 12 | BO9: =ROUND($BO$5*3/12,0) -> 1 | BQ9: =ROUND($BQ$5*3/12,0) -> 1 | BS9: =ROUND($BS$5*3/12,0) -> 1 | BU9: =ROUND($BU$5*3/12,0) -> 1 | BW9: =ROUND($BW$5*3/12,0) -> 1 | BY9: =ROUND($BY$5*3/12,0) -> 1 | CA9: =ROUND($CA$5*3/12,0) -> 1 | CC9: =AW9+AY9+BA9+BC9+BE9+BG9+BI9+BK9+BM9+BO9+BQ9+BS9+BU9+BW9+BY9+CA9 -> 87 | CE9: =I9+AO9+CB9 -> 0 | CF9: =J9+AP9+CC9 -> 174
A10: 5 | B10: Slimnieka galdiņš | C10: 12 | D10: 15 | F10: =$F$5*3/12 -> 11 | H10: =ROUND($H$5*3/12,0) -> 9 | I10: =E10+G10 -> 0 | J10: =F10+H10 -> 20 | M10: 5 | N10: Slimnieka galdiņš | O10: 12 | P10: 15 | R10: =ROUND($R$5*3/12,0) -> 16 | T10: =ROUND($T$5*3/12,0) -> 7 | V10: =ROUND($V$5*3/12,0) -> 5 | X10: =ROUND($X$5*3/12,0) -> 3 | Z10: =ROUND($Z$5*3/12,0) -> 3 | AB10: =ROUND($AB$5*3/12,0) -> 17 | AD10: =ROUND($AD$5*3/12,0) -> 4 | AF10: =ROUND($AF$5*3/12,0) -> 7 | AH10: =ROUND($AH$5*3/12,0) -> 2 | AJ10: =ROUND($AJ$5*3/12,0) -> 1 | AL10: =ROUND($AL$5*3/12,0) -> 1 | AN10: =ROUND($AN$5*3/12,0) -> 1 | AO10: =Q10+S10+U10+W10+Y10+AA10+AC10+AE10+AG10+AI10+AK10+AM10 -> 0 | AP10: =R10+T10+V10+X10+Z10+AB10+AD10+AF10+AH10+AJ10+AL10+AN10 -> 67 | AR10: 5 | AS10: Slimnieka galdiņš | AT10: 12 | AU10: 15 | AW10: =ROUND($AW$5*3/12,0) -> 21 | AY10: =ROUND($AY$5*3/12,0) -> 18 | BA10: =ROUND($BA$5*3/12,0) -> 5 | BC10: =ROUND($BC$5*3/12,0) -> 2 | BE10: =ROUND($BE$5*3/12,0) -> 3 | BG10: =ROUND($BG$5*3/12,0) -> 9 | BI10: =ROUND($BI$5*3/12,0) -> 5 | BK10: =ROUND($BK$5*3/12,0) -> 5 | BM10: =ROUND($BM$5*3/12,0) -> 12 | BO10: =ROUND($BO$5*3/12,0) -> 1 | BQ10: =ROUND($BQ$5*3/12,0) -> 1 | BS10: =ROUND($BS$5*3/12,0) -> 1 | BU10: =ROUND($BU$5*3/12,0) -> 1 | BW10: =ROUND($BW$5*3/12,0) -> 1 | BY10: =ROUND($BY$5*3/12,0) -> 1 | CA10: =ROUND($CA$5*3/12,0) -> 1 | CC10: =AW10+AY10+BA10+BC10+BE10+BG10+BI10+BK10+BM10+BO10+BQ10+BS10+BU10+BW10+BY10+CA10 -> 87 | CE10: =I10+AO10+CB10 -> 0 | CF10: =J10+AP10+CC10 -> 174 | CI10: =pacientu_galdini!E9 -> 97 | CJ10: =CI10+CH10-CF10-CG10 -> -77
A11: 6 | B11: Monitors (augstākās klases) | C11: 12 | D11: 15 | F11: =$F$5*3/12 -> 11 | H11: =ROUND($H$5*3/12,0) -> 9 | I11: =E11+G11 -> 0 | J11: =F11+H11 -> 20 | K11: X | M11: 6 | N11: Monitors (Vidējā klase) | O11: 12 | P11: 15 | R11: =ROUND($R$5*3/12,0) -> 16 | T11: =ROUND($T$5*3/12,0) -> 7 | V11: =ROUND($V$5*3/12,0) -> 5 | X11: =ROUND($X$5*3/12,0) -> 3 | Z11: =ROUND($Z$5*3/12,0) -> 3 | AB11: =ROUND($AB$5*3/12,0) -> 17 | AD11: =ROUND($AD$5*3/12,0) -> 4 | AF11: =ROUND($AF$5*3/12,0) -> 7 | AH11: =ROUND($AH$5*3/12,0) -> 2 | AJ11: =ROUND($AJ$5*3/12,0) -> 1 | AL11: =ROUND($AL$5*3/12,0) -> 1 | AN11: =ROUND($AN$5*3/12,0) -> 1 | AO11: =Q11+S11+U11+W11+Y11+AA11+AC11+AE11+AG11+AI11+AK11+AM11 -> 0 | AP11: =R11+T11+V11+X11+Z11+AB11+AD11+AF11+AH11+AJ11+AL11+AN11 -> 67 | AR11: 6 | AS11: Monitors (Basic konfigurācija) | AT11: 12 | AU11: 15 | AW11: =ROUND($AW$5*3/12,0) -> 21 | AY11: =ROUND($AY$5*3/12,0) -> 18 | BA11: =ROUND($BA$5*3/12,0) -> 5 | BC11: =ROUND($BC$5*3/12,0) -> 2 | BE11: =ROUND($BE$5*3/12,0) -> 3 | BG11: =ROUND($BG$5*3/12,0) -> 9 | BI11: =ROUND($BI$5*3/12,0) -> 5 | BK11: =ROUND($BK$5*3/12,0) -> 5 | BM11: =ROUND($BM$5*3/12,0) -> 12 | BO11: =ROUND($BO$5*3/12,0) -> 1 | BQ11: =ROUND($BQ$5*3/12,0) -> 1 | BS11: =ROUND($BS$5*3/12,0) -> 1 | BU11: =ROUND($BU$5*3/12,0) -> 1 | BW11: =ROUND($BW$5*3/12,0) -> 1 | BY11: =ROUND($BY$5*3/12,0) -> 1 | CA11: =ROUND($CA$5*3/12,0) -> 1 | CC11: =AW11+AY11+BA11+BC11+BE11+BG11+BI11+BK11+BM11+BO11+BQ11+BS11+BU11+BW11+BY11+CA11 -> 87 | CE11: =I11+AO11+CB11 -> 0 | CF11: =J11+AP11+CC11 -> 174 | CG11: =parprof_gultu_rezerves!E9 -> 133 | CH11: 88 | CI11: =monitori!E125 -> 1165 | CJ11: =CI11+CH11-CF11-CG11 -> 946
A12: 7 | B12: Monitoru darba stacija (ārstu istabā, māsu postenids novērošanas telpā) | C12: atkarīgs no telpu plānojuma | D12: atkarīgs no telpu plānojuma | I12: =E12+G12 -> 0 | J12: =F12+H12 -> 0 | K12: X | M12: 7 | N12: Monitoru darba stacija (ārstu istabā, māsu postenids novērošanas telpā) | O12: atkarīgs no telpu plānojuma | P12: atkarīgs no telpu plānojuma | AO12: =Q12+S12+U12+W12+Y12+AA12+AC12+AE12+AG12+AI12+AK12+AM12 -> 0 | AP12: =R12+T12+V12+X12+Z12+AB12+AD12+AF12+AH12+AJ12+AL12+AN12 -> 0 | AR12: 7 | AS12: Monitoru darba stacija (ārstu istabā, māsu postenids novērošanas telpā) | AT12: atkarīgs no telpu plānojuma | AU12: atkarīgs no telpu plānojuma | CC12: =AW12+AY12+BA12+BC12+BE12+BG12+BI12+BK12+BM12+BO12+BQ12+BS12+BU12+BW12+BY12+CA12 -> 0 | CE12: =I12+AO12+CB12 -> 0 | CF12: =J12+AP12+CC12 -> 0 | CH12: 15
A13: 8 | B13: Mākslīgās plaušu Ventilācijas iekārta (Augstākā klases) | C13: 12 | D13: 15 | F13: =$F$5*3/12 -> 11 | H13: =ROUND($H$5*3/12,0) -> 9 | I13: =E13+G13 -> 0 | J13: =F13+H13 -> 20 | K13: X | M13: 8 | N13: Mākslīgās plaušu Ventilācijas iekārta (Vidējā klase) | O13: 12 | P13: 15 | R13: =ROUND($R$5*3/12,0) -> 16 | T13: =ROUND($T$5*3/12,0) -> 7 | V13: =ROUND($V$5*3/12,0) -> 5 | X13: =ROUND($X$5*3/12,0) -> 3 | Z13: =ROUND($Z$5*3/12,0) -> 3 | AB13: =ROUND($AB$5*3/12,0) -> 17 | AD13: =ROUND($AD$5*3/12,0) -> 4 | AF13: =ROUND($AF$5*3/12,0) -> 7 | AH13: =ROUND($AH$5*3/12,0) -> 2 | AJ13: =ROUND($AJ$5*3/12,0) -> 1 | AL13: =ROUND($AL$5*3/12,0) -> 1 | AN13: =ROUND($AN$5*3/12,0) -> 1 | AO13: =Q13+S13+U13+W13+Y13+AA13+AC13+AE13+AG13+AI13+AK13+AM13 -> 0 | AP13: =R13+T13+V13+X13+Z13+AB13+AD13+AF13+AH13+AJ13+AL13+AN13 -> 67 | AR13: 8 | AS13: Mākslīgās plaušu Ventilācijas iekārta (BASIC) | AT13: 12 | AU13: 15 | AW13: =ROUND($AW$5*3/12,0) -> 21 | AY13: =ROUND($AY$5*3/12,0) -> 18 | BA13: =ROUND($BA$5*3/12,0) -> 5 | BC13: =ROUND($BC$5*3/12,0) -> 2 | BE13: =ROUND($BE$5*3/12,0) -> 3 | BG13: =ROUND($BG$5*3/12,0) -> 9 | BI13: =ROUND($BI$5*3/12,0) -> 5 | BK13: =ROUND($BK$5*3/12,0) -> 5 | BM13: =ROUND($BM$5*3/12,0) -> 12 | BO13: =ROUND($BO$5*3/12,0) -> 1 | BQ13: =ROUND($BQ$5*3/12,0) -> 1 | BS13: =ROUND($BS$5*3/12,0) -> 1 | BU13: =ROUND($BU$5*3/12,0) -> 1 | BW13: =ROUND($BW$5*3/12,0) -> 1 | BY13: =ROUND($BY$5*3/12,0) -> 1 | CA13: =ROUND($CA$5*3/12,0) -> 1 | CC13: =AW13+AY13+BA13+BC13+BE13+BG13+BI13+BK13+BM13+BO13+BQ13+BS13+BU13+BW13+BY13+CA13 -> 87 | CE13: =I13+AO13+CB13 -> 0 | CF13: =J13+AP13+CC13 -> 174 | CH13: 229 | CI13: =MPV!E29 -> 161 | CJ13: =CI13+CH13-CF13-CG13 -> 216
A14: 9 | B14: Griestu Konsole: elektrības ligzdas (8 – MPV, gultai, perfuzoru stacijai, enteromatam, papildus perfuzori, hemodialīzes aparātam, sildāmais aparāts, 1 rezervē), saspiestais gaiss (3), skābeklis (3) | C14: 12 | D14: 12 | I14: =E14+G14 -> 0 | J14: =F14+H14 -> 0 | M14: 9 | N14: Griestu Konsole: elektrības ligzdas (8 – MPV, gultai, perfuzoru stacijai, enteromatam, papildus perfuzori, hemodialīzes aparātam, sildāmais aparāts, 1 rezervē), saspiestais gaiss (2), skābeklis (2) | O14: 12 | P14: 12 | AO14: =Q14+S14+U14+W14+Y14+AA14+AC14+AE14+AG14+AI14+AK14+AM14 -> 0 | AP14: =R14+T14+V14+X14+Z14+AB14+AD14+AF14+AH14+AJ14+AL14+AN14 -> 0 | AR14: 9 | AS14: Sienas Konsole: elektrības ligzdas (6 – MPV, gultai, perfuzoru stacijai, enteromatam, papildus perfuzori, sildāmais aparāts, 1 rezervē), saspiestais gaiss (2), skābeklis (2) | AT14: 12 | AU14: 12 | CC14: =AW14+AY14+BA14+BC14+BE14+BG14+BI14+BK14+BM14+BO14+BQ14+BS14+BU14+BW14+BY14+CA14 -> 0 | CE14: =I14+AO14+CB14 -> 0 | CF14: =J14+AP14+CC14 -> 0
A15: 10 | B15: Perfuzoru stacija ar statīvu (8 perfuzoriem, 1 infuzomatam) | C15: 12 | D15: 15 | F15: =$F$5*3/12 -> 11 | H15: =ROUND($H$5*3/12,0) -> 9 | I15: =E15+G15 -> 0 | J15: =F15+H15 -> 20 | K15: X | M15: 10 | N15: Perfuzoru stacija ar statīvu (4 perfuzoriem, 1 infuzomatam) | O15: 12 | P15: 15 | R15: =ROUND($R$5*3/12,0) -> 16 | T15: =ROUND($T$5*3/12,0) -> 7 | V15: =ROUND($V$5*3/12,0) -> 5 | X15: =ROUND($X$5*3/12,0) -> 3 | Z15: =ROUND($Z$5*3/12,0) -> 3 | AB15: =ROUND($AB$5*3/12,0) -> 17 | AD15: =ROUND($AD$5*3/12,0) -> 4 | AF15: =ROUND($AF$5*3/12,0) -> 7 | AH15: =ROUND($AH$5*3/12,0) -> 2 | AJ15: =ROUND($AJ$5*3/12,0) -> 1 | AL15: =ROUND($AL$5*3/12,0) -> 1 | AN15: =ROUND($AN$5*3/12,0) -> 1 | AO15: =Q15+S15+U15+W15+Y15+AA15+AC15+AE15+AG15+AI15+AK15+AM15 -> 0 | AP15: =R15+T15+V15+X15+Z15+AB15+AD15+AF15+AH15+AJ15+AL15+AN15 -> 67 | AR15: 10 | AS15: Perfuzoru stacija ar statīvu (3 perfuzoriem, 1 infuzomatam) | AT15: 12 | AU15: 15 | AW15: =ROUND($AW$5*3/12,0) -> 21 | AY15: =ROUND($AY$5*3/12,0) -> 18 | BA15: =ROUND($BA$5*3/12,0) -> 5 | BC15: =ROUND($BC$5*3/12,0) -> 2 | BE15: =ROUND($BE$5*3/12,0) -> 3 | BG15: =ROUND($BG$5*3/12,0) -> 9 | BI15: =ROUND($BI$5*3/12,0) -> 5 | BK15: =ROUND($BK$5*3/12,0) -> 5 | BM15: =ROUND($BM$5*3/12,0) -> 12 | BO15: =ROUND($BO$5*3/12,0) -> 1 | BQ15: =ROUND($BQ$5*3/12,0) -> 1 | BS15: =ROUND($BS$5*3/12,0) -> 1 | BU15: =ROUND($BU$5*3/12,0) -> 1 | BW15: =ROUND($BW$5*3/12,0) -> 1 | BY15: =ROUND($BY$5*3/12,0) -> 1 | CA15: =ROUND($CA$5*3/12,0) -> 1 | CC15: =AW15+AY15+BA15+BC15+BE15+BG15+BI15+BK15+BM15+BO15+BQ15+BS15+BU15+BW15+BY15+CA15 -> 87 | CE15: =I15+AO15+CB15 -> 0 | CF15: =J15+AP15+CC15 -> 174 | CG15: =parprof_gultu_rezerves!E12 -> 266 | CH15: 500 | CI15: =perfuzori!E51 -> 742 | CJ15: =CI15+CH15-CF15-CG15 -> 802
A16: 11 | B16: Enteromats | C16: 12 | D16: 15 | F16: =$F$5*3/12 -> 11 | H16: =ROUND($H$5*3/12,0) -> 9 | I16: =E16+G16 -> 0 | J16: =F16+H16 -> 20 | M16: 11 | N16: Enteromats | O16: 12 | P16: 15 | R16: =ROUND($R$5*3/12,0) -> 16 | T16: =ROUND($T$5*3/12,0) -> 7 | V16: =ROUND($V$5*3/12,0) -> 5 | X16: =ROUND($X$5*3/12,0) -> 3 | Z16: =ROUND($Z$5*3/12,0) -> 3 | AB16: =ROUND($AB$5*3/12,0) -> 17 | AD16: =ROUND($AD$5*3/12,0) -> 4 | AF16: =ROUND($AF$5*3/12,0) -> 7 | AH16: =ROUND($AH$5*3/12,0) -> 2 | AJ16: =ROUND($AJ$5*3/12,0) -> 1 | AL16: =ROUND($AL$5*3/12,0) -> 1 | AN16: =ROUND($AN$5*3/12,0) -> 1 | AO16: =Q16+S16+U16+W16+Y16+AA16+AC16+AE16+AG16+AI16+AK16+AM16 -> 0 | AP16: =R16+T16+V16+X16+Z16+AB16+AD16+AF16+AH16+AJ16+AL16+AN16 -> 67 | AR16: 11 | AS16: Enteromats | AT16: 6 | AU16: 12 | AW16: =$AW$5*6/12 -> 41 | AY16: =ROUND($AY$5*6/12,0) -> 35 | BA16: =$BA$5*6/12 -> 9 | BC16: =ROUND($BC$5*6/12,0) -> 4 | BE16: =ROUND($BE$5*6/12,0) -> 6 | BG16: =ROUND($BG$5*6/12,0) -> 18 | BI16: =ROUND($BI$5*6/12,0) -> 11 | BK16: =ROUND($BK$5*6/12,0) -> 10 | BM16: =ROUND($BM$5*6/12,0) -> 24 | BO16: =ROUND($BO$5*6/12,0) -> 2 | BQ16: =ROUND($BQ$5*6/12,0) -> 2 | BS16: =ROUND($BS$5*6/12,0) -> 2 | BU16: =ROUND($BU$5*6/12,0) -> 3 | BW16: =ROUND($BW$5*6/12,0) -> 1 | BY16: =ROUND($BY$5*6/12,0) -> 2 | CA16: =ROUND($CA$5*6/12,0) -> 1 | CC16: =AW16+AY16+BA16+BC16+BE16+BG16+BI16+BK16+BM16+BO16+BQ16+BS16+BU16+BW16+BY16+CA16 -> 171 | CE16: =I16+AO16+CB16 -> 0 | CF16: =J16+AP16+CC16 -> 258 | CJ16: =CI16+CH16-CF16-CG16 -> -258 | CK16: Nav
B17: Parenteriālās barošanas iekārta | C17: 12 | D17: 14 | I17: =E17+G17 -> 0 | J17: =F17+H17 -> 0 | K17: X | N17: Parenteriālās barošanas iekārta | O17: 12 | P17: 14 | R17: =ROUND($R$5*2/12,0) -> 10 | T17: =ROUND($T$5*2/12,0) -> 5 | V17: =ROUND($V$5*2/12,0) -> 4 | X17: =ROUND($X$5*2/12,0) -> 2 | Z17: =ROUND($Z$5*2/12,0) -> 2 | AB17: =ROUND($AB$5*2/12,0) -> 11 | AD17: =ROUND($AD$5*2/12,0) -> 3 | AF17: =ROUND($AF$5*2/12,0) -> 5 | AH17: =ROUND($AH$5*2/12,0) -> 1 | AJ17: =ROUND($AJ$5*2/12,0) -> 0 | AL17: =ROUND($AL$5*2/12,0) -> 1 | AN17: =ROUND($AN$5*3/12,0) -> 1 | AO17: =Q17+S17+U17+W17+Y17+AA17+AC17+AE17+AG17+AI17+AK17+AM17 -> 0 | AP17: =R17+T17+V17+X17+Z17+AB17+AD17+AF17+AH17+AJ17+AL17+AN17 -> 45 | AS17: Parenteriālās barošanas iekārta | AT17: 12 | AU17: 14 | AW17: =ROUND($AW$5*2/12,0) -> 14 | AY17: =ROUND($AY$5*2/12,0) -> 12 | BA17: =ROUND($BA$5*2/12,0) -> 3 | BC17: =ROUND($BC$5*2/12,0) -> 1 | BE17: =ROUND($BE$5*2/12,0) -> 2 | BG17: =ROUND($BG$5*2/12,0) -> 6 | BI17: =ROUND($BI$5*2/12,0) -> 4 | BK17: =ROUND($BK$5*2/12,0) -> 3 | BM17: =ROUND($BM$5*2/12,0) -> 8 | BO17: =ROUND($BO$5*2/12,0) -> 1 | BQ17: =ROUND($BQ$5*3/12,0) -> 1 | BS17: =ROUND($BS$5*3/12,0) -> 1 | BU17: =ROUND($BU$5*3/12,0) -> 1 | BW17: =ROUND($BW$5*3/12,0) -> 1 | BY17: =ROUND($BY$5*3/12,0) -> 1 | CA17: =ROUND($CA$5*3/12,0) -> 1 | CC17: =AW17+AY17+BA17+BC17+BE17+BG17+BI17+BK17+BM17+BO17+BQ17+BS17+BU17+BW17+BY17+CA17 -> 60 | CE17: =I17+AO17+CB17 -> 0 | CF17: =J17+AP17+CC17 -> 105
A18: 12 | B18: Tvertne atkritumiem ar vāku un pedāli | C18: 3 | D18: 4 | I18: =E18+G18 -> 0 | J18: =F18+H18 -> 0 | M18: 12 | N18: Tvertne atkritumiem ar vāku un pedāli | O18: 3 | P18: 4 | Q18: 8 | S18: 5 | U18: 2 | W18: 3 | Y18: 2 | AA18: 9 | AC18: 2 | AE18: 4 | AG18: 1 | AO18: =Q18+S18+U18+W18+Y18+AA18+AC18+AE18+AG18+AI18+AK18+AM18 -> 36 | AP18: =R18+T18+V18+X18+Z18+AB18+AD18+AF18+AH18+AJ18+AL18+AN18 -> 0 | AR18: 12 | AS18: Tvertne atkritumiem ar vāku un pedāli | AT18: 3 | AU18: 4 | CC18: =AW18+AY18+BA18+BC18+BE18+BG18+BI18+BK18+BM18+BO18+BQ18+BS18+BU18+BW18+BY18+CA18 -> 0 | CE18: =I18+AO18+CB18 -> 36 | CF18: =J18+AP18+CC18 -> 0
A19: 13 | B19: Pārejas invazīva AT un CVP mērīšanai | C19: 6 | D19: 9 | F19: =$F$5*3/12 -> 11 | H19: =ROUND($H$5*3/12,0) -> 9 | I19: =E19+G19 -> 0 | J19: =F19+H19 -> 20 | K19: X | M19: 13 | N19: Pārejas invazīva AT un CVP mērīšanai | O19: 3 | P19: 4 | Q19: 8 | S19: 5 | U19: 2 | W19: 3 | Y19: 2 | AA19: 9 | AC19: 2 | AE19: 4 | AG19: 1 | AO19: =Q19+S19+U19+W19+Y19+AA19+AC19+AE19+AG19+AI19+AK19+AM19 -> 36 | AP19: =R19+T19+V19+X19+Z19+AB19+AD19+AF19+AH19+AJ19+AL19+AN19 -> 0 | AR19: 13 | AS19: Fonendoskops | AT19: 4 | AU19: 6 | AW19: =ROUND($AW$5*2/12,0) -> 14 | AY19: =ROUND($AY$5*2/12,0) -> 12 | BA19: =ROUND($BA$5*2/12,0) -> 3 | BC19: =ROUND($BC$5*2/12,0) -> 1 | BE19: =ROUND($BE$5*2/12,0) -> 2 | BG19: =ROUND($BG$5*2/12,0) -> 6 | BI19: =ROUND($BI$5*2/12,0) -> 4 | BK19: =ROUND($BK$5*2/12,0) -> 3 | BM19: =ROUND($BM$5*2/12,0) -> 8 | BO19: =ROUND($BO$5*2/12,0) -> 1 | BQ19: =ROUND($BQ$5*3/12,0) -> 1 | BS19: =ROUND($BS$5*3/12,0) -> 1 | BU19: =ROUND($BU$5*3/12,0) -> 1 | BW19: =ROUND($BW$5*3/12,0) -> 1 | BY19: =ROUND($BY$5*3/12,0) -> 1 | CA19: =ROUND($CA$5*3/12,0) -> 1 | CC19: =AW19+AY19+BA19+BC19+BE19+BG19+BI19+BK19+BM19+BO19+BQ19+BS19+BU19+BW19+BY19+CA19 -> 60 | CE19: =I19+AO19+CB19 -> 36 | CF19: =J19+AP19+CC19 -> 80
A20: 14 | B20: Manžete ar manometru šķidrumu saspiešanai (infūzijai) | C20: 6 | D20: 9 | F20: =$F$5*3/12 -> 11 | H20: =ROUND($H$5*3/12,0) -> 9 | I20: =E20+G20 -> 0 | J20: =F20+H20 -> 20 | M20: 14 | N20: Manžete ar manometru šķidrumu saspiešanai (infūzijai) | O20: 3 | P20: 4 | Q20: 8 | S20: 5 | U20: 2 | W20: 3 | Y20: 2 | AA20: 9 | AC20: 2 | AE20: 4 | AG20: 1 | AO20: =Q20+S20+U20+W20+Y20+AA20+AC20+AE20+AG20+AI20+AK20+AM20 -> 36 | AP20: =R20+T20+V20+X20+Z20+AB20+AD20+AF20+AH20+AJ20+AL20+AN20 -> 0 | AR20: 14 | AS20: Defibrilators palātai | AT20: 1 | AU20: 1 | CC20: =AW20+AY20+BA20+BC20+BE20+BG20+BI20+BK20+BM20+BO20+BQ20+BS20+BU20+BW20+BY20+CA20 -> 0 | CE20: =I20+AO20+CB20 -> 36 | CF20: =J20+AP20+CC20 -> 20
A21: 15 | B21: Fonendoskops | C21: 12 | D21: 15 | F21: =$F$5*3/12 -> 11 | H21: =ROUND($H$5*3/12,0) -> 9 | I21: =E21+G21 -> 0 | J21: =F21+H21 -> 20 | M21: 15 | N21: Fonendoskops | O21: 12 | P21: 15 | R21: =ROUND($R$5*3/12,0) -> 16 | T21: =ROUND($T$5*3/12,0) -> 7 | V21: =ROUND($V$5*3/12,0) -> 5 | X21: =ROUND($X$5*3/12,0) -> 3 | Z21: =ROUND($Z$5*3/12,0) -> 3 | AB21: =ROUND($AB$5*3/12,0) -> 17 | AD21: =ROUND($AD$5*3/12,0) -> 4 | AF21: =ROUND($AF$5*3/12,0) -> 7 | AH21: =ROUND($AH$5*3/12,0) -> 2 | AJ21: =ROUND($AJ$5*3/12,0) -> 1 | AL21: =ROUND($AL$5*3/12,0) -> 1 | AN21: =ROUND($AN$5*3/12,0) -> 1 | AO21: =Q21+S21+U21+W21+Y21+AA21+AC21+AE21+AG21+AI21+AK21+AM21 -> 0 | AP21: =R21+T21+V21+X21+Z21+AB21+AD21+AF21+AH21+AJ21+AL21+AN21 -> 67 | AR21: 15 | AS21: Postenis (darba virsma) māsai | AT21: atkarīgs no telpu plānojuma | AU21: atkarīgs no telpu plānojuma | CC21: =AW21+AY21+BA21+BC21+BE21+BG21+BI21+BK21+BM21+BO21+BQ21+BS21+BU21+BW21+BY21+CA21 -> 0 | CE21: =I21+AO21+CB21 -> 0 | CF21: =J21+AP21+CC21 -> 87
A22: 16 | B22: Defibrilators palātai | C22: 1 | D22: 2 | E22: 3 | G22: 3 | I22: =E22+G22 -> 6 | J22: =F22+H22 -> 0 | K22: X | M22: 16 | N22: Defibrilators palātai | O22: 1 | P22: 2 | Q22: 8 | S22: 5 | U22: 2 | W22: 3 | Y22: 2 | AA22: 9 | AC22: 2 | AE22: 4 | AG22: 1 | AO22: =Q22+S22+U22+W22+Y22+AA22+AC22+AE22+AG22+AI22+AK22+AM22 -> 36 | AP22: =R22+T22+V22+X22+Z22+AB22+AD22+AF22+AH22+AJ22+AL22+AN22 -> 0 | AR22: 16 | AS22: Pārsienamais galds | AT22: 2 | AU22: 3 | AW22: =ROUND($AW$5*1/12,0) -> 7 | AY22: =ROUND($AY$5*1/12,0) -> 6 | BA22: =ROUND($BA$5*1/12,0) -> 2 | BC22: =ROUND($BC$5*1/12,0) -> 1 | BE22: =ROUND($BE$5*1/12,0) -> 1 | BG22: =ROUND($BG$5*1/12,0) -> 3 | BI22: =ROUND($BI$5*1/12,0) -> 2 | BK22: =ROUND($BK$5*1/12,0) -> 2 | BM22: =ROUND($BM$5*1/12,0) -> 4 | BO22: =ROUNDUP($BO$5*1/12,0) -> 1 | BQ22: =ROUNDUP($BQ$5*1/12,0) -> 1 | BS22: =ROUNDUP($BS$5*1/12,0) -> 1 | BU22: =ROUND($BU$5*3/12,0) -> 1 | BW22: 1 | BY22: 1 | CA22: 1 | CC22: =AW22+AY22+BA22+BC22+BE22+BG22+BI22+BK22+BM22+BO22+BQ22+BS22+BU22+BW22+BY22+CA22 -> 35 | CE22: =I22+AO22+CB22 -> 42 | CF22: =J22+AP22+CC22 -> 35 | CI22: =defibrilatori!E38 -> 62 | CJ22: =CI22+CH22-CF22-CG22 -> 27
A23: 17 | B23: Postenis (darba virsma) māsai | C23: atkarīgs no telpu plānojuma | D23: atkarīgs no telpu plānojuma | I23: =E23+G23 -> 0 | J23: =F23+H23 -> 0 | M23: 17 | N23: Postenis (darba virsma) māsai | O23: atkarīgs no telpu plānojuma | P23: atkarīgs no telpu plānojuma | AO23: =Q23+S23+U23+W23+Y23+AA23+AC23+AE23+AG23+AI23+AK23+AM23 -> 0 | AP23: =R23+T23+V23+X23+Z23+AB23+AD23+AF23+AH23+AJ23+AL23+AN23 -> 0 | AR23: 17 | AS23: Intubācijas galds | AT23: 2 | AU23: 3 | AW23: =ROUND($AW$5*1/12,0) -> 7 | AY23: =ROUND($AY$5*1/12,0) -> 6 | BA23: =ROUND($BA$5*1/12,0) -> 2 | BC23: =ROUND($BC$5*1/12,0) -> 1 | BE23: =ROUND($BE$5*1/12,0) -> 1 | BG23: =ROUND($BG$5*1/12,0) -> 3 | BI23: =ROUND($BI$5*1/12,0) -> 2 | BK23: =ROUND($BK$5*1/12,0) -> 2 | BM23: =ROUND($BM$5*1/12,0) -> 4 | BO23: =ROUNDUP($BO$5*1/12,0) -> 1 | BQ23: =ROUNDUP($BQ$5*1/12,0) -> 1 | BS23: =ROUNDUP($BS$5*1/12,0) -> 1 | BU23: =ROUND($BU$5*3/12,0) -> 1 | BW23: 1 | BY23: 1 | CA23: 1 | CC23: =AW23+AY23+BA23+BC23+BE23+BG23+BI23+BK23+BM23+BO23+BQ23+BS23+BU23+BW23+BY23+CA23 -> 35 | CE23: =I23+AO23+CB23 -> 0 | CF23: =J23+AP23+CC23 -> 35
A24: 18 | B24: Pārsienamais galds | C24: 4 | D24: 6 | F24: =ROUND($F$5*2/12,0) -> 7 | H24: =ROUND($H$5*2/12,0) -> 6 | I24: =E24+G24 -> 0 | J24: =F24+H24 -> 13 | M24: 18 | N24: Pārsienamais galds | O24: 3 | P24: 4 | Q24: 8 | S24: 5 | U24: 2 | W24: 3 | Y24: 2 | AA24: 9 | AC24: 2 | AE24: 4 | AG24: 1 | AO24: =Q24+S24+U24+W24+Y24+AA24+AC24+AE24+AG24+AI24+AK24+AM24 -> 36 | AP24: =R24+T24+V24+X24+Z24+AB24+AD24+AF24+AH24+AJ24+AL24+AN24 -> 0 | AR24: 18 | AS24: Gaisa attīrīšanas iekārta (1/80 m2) | AT24: 4 | AU24: 6 | AW24: =ROUND($AW$5*2/12,0) -> 14 | AY24: =ROUND($AY$5*2/12,0) -> 12 | BA24: =ROUND($BA$5*2/12,0) -> 3 | BC24: =ROUND($BC$5*2/12,0) -> 1 | BE24: =ROUND($BE$5*1/12,0) -> 1 | BG24: =ROUND($BG$5*1/12,0) -> 3 | BI24: =ROUND($BI$5*1/12,0) -> 2 | BK24: =ROUND($BK$5*1/12,0) -> 2 | BM24: =ROUND($BM$5*1/12,0) -> 4 | BO24: =ROUNDUP($BO$5*1/12,0) -> 1 | BQ24: =ROUNDUP($BQ$5*1/12,0) -> 1 | BS24: =ROUNDUP($BS$5*1/12,0) -> 1 | BU24: =ROUND($BU$5*3/12,0) -> 1 | BW24: 1 | BY24: 1 | CA24: 1 | CC24: =AW24+AY24+BA24+BC24+BE24+BG24+BI24+BK24+BM24+BO24+BQ24+BS24+BU24+BW24+BY24+CA24 -> 49 | CE24: =I24+AO24+CB24 -> 36 | CF24: =J24+AP24+CC24 -> 62
A25: 19 | B25: Intubācijas galds | C25: 2 | D25: 3 | F25: =ROUND($F$5*2/12,0) -> 7 | H25: =ROUND($H$5*2/12,0) -> 6 | I25: =E25+G25 -> 0 | J25: =F25+H25 -> 13 | M25: 19 | N25: Intubācijas galds | O25: 2 | P25: 3 | Q25: 8 | S25: 5 | U25: 2 | W25: 3 | Y25: 2 | AA25: 9 | AC25: 2 | AE25: 4 | AG25: 1 | AO25: =Q25+S25+U25+W25+Y25+AA25+AC25+AE25+AG25+AI25+AK25+AM25 -> 36 | AP25: =R25+T25+V25+X25+Z25+AB25+AD25+AF25+AH25+AJ25+AL25+AN25 -> 0 | AR25: 19 | AS25: Šībera mazgājamā mašīna | AT25: 1 | AU25: 1 | CC25: =AW25+AY25+BA25+BC25+BE25+BG25+BI25+BK25+BM25+BO25+BQ25+BS25+BU25+BW25+BY25+CA25 -> 0 | CE25: =I25+AO25+CB25 -> 36 | CF25: =J25+AP25+CC25 -> 13
A26: 20 | B26: Gaisa attīrīšanas iekārta (1/80 m2) | C26: 4 | D26: 6 | F26: =ROUND($F$5*2/12,0) -> 7 | H26: =ROUND($H$5*2/12,0) -> 6 | I26: =E26+G26 -> 0 | J26: =F26+H26 -> 13 | K26: X | M26: 20 | N26: Gaisa attīrīšanas iekārta (1/80 m2) | O26: 3 | P26: 6 | AO26: =Q26+S26+U26+W26+Y26+AA26+AC26+AE26+AG26+AI26+AK26+AM26 -> 0 | AP26: =R26+T26+V26+X26+Z26+AB26+AD26+AF26+AH26+AJ26+AL26+AN26 -> 0 | AR26: 20 | AS26: Kapnometrs (ja nav monitora funkcija) | AT26: 2 | AU26: 3 | AW26: =ROUND($AW$5*1/12,0) -> 7 | AY26: =ROUND($AY$5*1/12,0) -> 6 | BA26: =ROUND($BA$5*1/12,0) -> 2 | BC26: =ROUND($BC$5*1/12,0) -> 1 | BE26: =ROUND($BE$5*1/12,0) -> 1 | BG26: =ROUND($BG$5*1/12,0) -> 3 | BI26: =ROUND($BI$5*1/12,0) -> 2 | BK26: =ROUND($BK$5*1/12,0) -> 2 | BM26: =ROUND($BM$5*1/12,0) -> 4 | BO26: =ROUNDUP($BO$5*1/12,0) -> 1 | BQ26: =ROUNDUP($BQ$5*1/12,0) -> 1 | BS26: =ROUNDUP($BS$5*1/12,0) -> 1 | BU26: =ROUND($BU$5*3/12,0) -> 1 | BW26: 1 | BY26: 1 | CA26: 1 | CC26: =AW26+AY26+BA26+BC26+BE26+BG26+BI26+BK26+BM26+BO26+BQ26+BS26+BU26+BW26+BY26+CA26 -> 35 | CE26: =I26+AO26+CB26 -> 0 | CF26: =J26+AP26+CC26 -> 48
A27: 21 | B27: Šībera mazgājamā mašīna | C27: 1 | D27: 1 | I27: =E27+G27 -> 0 | J27: =F27+H27 -> 0 | M27: 21 | N27: Šībera mazgājamā mašīna | O27: 1 | P27: 1 | AO27: =Q27+S27+U27+W27+Y27+AA27+AC27+AE27+AG27+AI27+AK27+AM27 -> 0 | AP27: =R27+T27+V27+X27+Z27+AB27+AD27+AF27+AH27+AJ27+AL27+AN27 -> 0 | AR27: 21 | AS27: Sanitārais mezgls (tualete, skapīši sanitāram aprūpes materiālam) | AT27: 1 | AU27: 1 | CC27: =AW27+AY27+BA27+BC27+BE27+BG27+BI27+BK27+BM27+BO27+BQ27+BS27+BU27+BW27+BY27+CA27 -> 0 | CE27: =I27+AO27+CB27 -> 0 | CF27: =J27+AP27+CC27 -> 0
A28: 22 | B28: Asins gāzu analizators | C28: 1 | D28: 1 | I28: =E28+G28 -> 0 | J28: =F28+H28 -> 0 | K28: X | M28: 22 | N28: Asins gāzu analizators | O28: 1 | P28: 1 | AO28: =Q28+S28+U28+W28+Y28+AA28+AC28+AE28+AG28+AI28+AK28+AM28 -> 0 | AP28: =R28+T28+V28+X28+Z28+AB28+AD28+AF28+AH28+AJ28+AL28+AN28 -> 0 | AR28: 22 | AS28: EKG | AT28: 1 | AU28: 1 | CC28: =AW28+AY28+BA28+BC28+BE28+BG28+BI28+BK28+BM28+BO28+BQ28+BS28+BU28+BW28+BY28+CA28 -> 0 | CE28: =I28+AO28+CB28 -> 0 | CF28: =J28+AP28+CC28 -> 0 | CI28: =asins_gazu_analizators!E30 -> 4103 | CJ28: =CI28+CH28-CF28-CG28 -> 4103
A29: 23 | B29: Galdiņš asins gāzu analizatoram | C29: 1 | D29: 1 | I29: =E29+G29 -> 0 | J29: =F29+H29 -> 0 | M29: 23 | N29: Galdiņš asins gāzu analizatoram | O29: 1 | P29: 1 | AO29: =Q29+S29+U29+W29+Y29+AA29+AC29+AE29+AG29+AI29+AK29+AM29 -> 0 | AP29: =R29+T29+V29+X29+Z29+AB29+AD29+AF29+AH29+AJ29+AL29+AN29 -> 0 | AR29: 23 | AS29: Pulsoksimetrs ar mtHb noteikšanas iespēju | AT29: 2 | AU29: 3 | AW29: =ROUND($AW$5*1/12,0) -> 7 | AY29: =ROUND($AY$5*1/12,0) -> 6 | BA29: =ROUND($BA$5*1/12,0) -> 2 | BC29: =ROUND($BC$5*1/12,0) -> 1 | BE29: =ROUND($BE$5*1/12,0) -> 1 | BG29: =ROUND($BG$5*1/12,0) -> 3 | BI29: =ROUND($BI$5*1/12,0) -> 2 | BK29: =ROUND($BK$5*1/12,0) -> 2 | BM29: =ROUND($BM$5*1/12,0) -> 4 | BO29: =ROUNDUP($BO$5*1/12,0) -> 1 | BQ29: =ROUNDUP($BQ$5*1/12,0) -> 1 | BS29: =ROUNDUP($BS$5*1/12,0) -> 1 | BU29: =ROUND($BU$5*3/12,0) -> 1 | BW29: 1 | BY29: 1 | CA29: 1 | CC29: =AW29+AY29+BA29+BC29+BE29+BG29+BI29+BK29+BM29+BO29+BQ29+BS29+BU29+BW29+BY29+CA29 -> 35 | CE29: =I29+AO29+CB29 -> 0 | CF29: =J29+AP29+CC29 -> 35
A30: 24 | B30: Kapnometrs (ja nav monitora funkcija) | C30: 2 | D30: 4 | F30: =ROUND($F$5*2/12,0) -> 7 | H30: =ROUND($H$5*2/12,0) -> 6 | I30: =E30+G30 -> 0 | J30: =F30+H30 -> 13 | M30: 24 | N30: Kapnometrs (ja nav monitora funkcija) | O30: 2 | P30: 3 | AO30: =Q30+S30+U30+W30+Y30+AA30+AC30+AE30+AG30+AI30+AK30+AM30 -> 0 | AP30: =R30+T30+V30+X30+Z30+AB30+AD30+AF30+AH30+AJ30+AL30+AN30 -> 0 | AR30: 24 | AS30: Transporta ventilators | AT30: 1 | AU30: 2 | AW30: =ROUND($AW$5*1/12,0) -> 7 | AY30: =ROUND($AY$5*1/12,0) -> 6 | BA30: =ROUND($BA$5*1/12,0) -> 2 | BC30: =ROUND($BC$5*1/12,0) -> 1 | BE30: =ROUND($BE$5*1/12,0) -> 1 | BG30: =ROUND($BG$5*1/12,0) -> 3 | BI30: =ROUND($BI$5*1/12,0) -> 2 | BK30: =ROUND($BK$5*1/12,0) -> 2 | BM30: =ROUND($BM$5*1/12,0) -> 4 | BO30: =ROUNDUP($BO$5*1/12,0) -> 1 | BQ30: =ROUNDUP($BQ$5*1/12,0) -> 1 | BS30: =ROUNDUP($BS$5*1/12,0) -> 1 | BU30: 1 | BW30: 1 | BY30: 1 | CA30: 1 | CC30: =AW30+AY30+BA30+BC30+BE30+BG30+BI30+BK30+BM30+BO30+BQ30+BS30+BU30+BW30+BY30+CA30 -> 35 | CE30: =I30+AO30+CB30 -> 0 | CF30: =J30+AP30+CC30 -> 48
A31: 25 | B31: Sanitārais mezgls (tualete, skapīši sanitāram aprūpes materiālam) | C31: 1 | D31: 1 | I31: =E31+G31 -> 0 | J31: =F31+H31 -> 0 | M31: 25 | N31: Sanitārais mezgls (tualete, skapīši sanitāram aprūpes materiālam) | O31: 1 | P31: 1 | AO31: =Q31+S31+U31+W31+Y31+AA31+AC31+AE31+AG31+AI31+AK31+AM31 -> 0 | AP31: =R31+T31+V31+X31+Z31+AB31+AD31+AF31+AH31+AJ31+AL31+AN31 -> 0 | AR31: 25 | AS31: Nakts apgaismojums gultai | AT31: 12 | AU31: 12 | CC31: =AW31+AY31+BA31+BC31+BE31+BG31+BI31+BK31+BM31+BO31+BQ31+BS31+BU31+BW31+BY31+CA31 -> 0 | CE31: =I31+AO31+CB31 -> 0 | CF31: =J31+AP31+CC31 -> 0
A32: 26 | B32: EKG (ja nav integrēts vitālo parametru monitorā) | C32: 1 | D32: 2 | E32: 3 | G32: 3 | I32: =E32+G32 -> 6 | J32: =F32+H32 -> 0 | K32: X | M32: 26 | N32: EKG | O32: 1 | P32: 2 | AO32: =Q32+S32+U32+W32+Y32+AA32+AC32+AE32+AG32+AI32+AK32+AM32 -> 0 | AP32: =R32+T32+V32+X32+Z32+AB32+AD32+AF32+AH32+AJ32+AL32+AN32 -> 0 | AR32: 26 | AS32: Ķirurģiskā lampa | AT32: 1 | AU32: 2 | AW32: =ROUND($AW$5*1/12,0) -> 7 | AY32: =ROUND($AY$5*1/12,0) -> 6 | BA32: =ROUND($BA$5*1/12,0) -> 2 | BC32: =ROUND($BC$5*1/12,0) -> 1 | BE32: =ROUND($BE$5*1/12,0) -> 1 | BG32: =ROUND($BG$5*1/12,0) -> 3 | BI32: =ROUND($BI$5*1/12,0) -> 2 | BK32: =ROUND($BK$5*1/12,0) -> 2 | BM32: =ROUND($BM$5*1/12,0) -> 4 | BO32: =ROUNDUP($BO$5*1/12,0) -> 1 | BQ32: =ROUNDUP($BQ$5*1/12,0) -> 1 | BS32: =ROUNDUP($BS$5*1/12,0) -> 1 | BU32: 1 | BW32: 1 | BY32: 1 | CA32: 1 | CC32: =AW32+AY32+BA32+BC32+BE32+BG32+BI32+BK32+BM32+BO32+BQ32+BS32+BU32+BW32+BY32+CA32 -> 35 | CE32: =I32+AO32+CB32 -> 6 | CF32: =J32+AP32+CC32 -> 35
A33: 27 | B33: Portatīvais rtg aparāts | C33: 1 | D33: 1 | I33: =E33+G33 -> 0 | J33: =F33+H33 -> 0 | K33: X | M33: 27 | N33: Portatīvais rtg aparāts | O33: 1 | P33: 1 | AO33: =Q33+S33+U33+W33+Y33+AA33+AC33+AE33+AG33+AI33+AK33+AM33 -> 0 | AP33: =R33+T33+V33+X33+Z33+AB33+AD33+AF33+AH33+AJ33+AL33+AN33 -> 0 | AR33: 27 | AS33: Seifs | AT33: 2 | AU33: 2 | CC33: =AW33+AY33+BA33+BC33+BE33+BG33+BI33+BK33+BM33+BO33+BQ33+BS33+BU33+BW33+BY33+CA33 -> 0 | CE33: =I33+AO33+CB33 -> 0 | CF33: =J33+AP33+CC33 -> 0 | CH33: 3 | CI33: =RTG!E11 -> 8 | CJ33: =CI33+CH33-CF33-CG33 -> 11
A34: 28 | B34: Automātiskā netiešā sirds masāžas ierīce (Lukas) | C34: 1 | D34: 2 | E34: 3 | G34: 3 | I34: =E34+G34 -> 6 | J34: =F34+H34 -> 0 | K34: X | M34: 28 | N34: Automātiskā netiešā sirds masāžas ierīce (Lukas) | O34: 1 | P34: 1 | AO34: =Q34+S34+U34+W34+Y34+AA34+AC34+AE34+AG34+AI34+AK34+AM34 -> 0 | AP34: =R34+T34+V34+X34+Z34+AB34+AD34+AF34+AH34+AJ34+AL34+AN34 -> 0 | AR34: 28 | AS34: Ledusskapis | AT34: 2 | AU34: 2 | CC34: =AW34+AY34+BA34+BC34+BE34+BG34+BI34+BK34+BM34+BO34+BQ34+BS34+BU34+BW34+BY34+CA34 -> 0 | CE34: =I34+AO34+CB34 -> 6 | CF34: =J34+AP34+CC34 -> 0
A35: 29 | B35: Videolaringoskops | C35: 1 | D35: 2 | E35: 3 | G35: 3 | I35: =E35+G35 -> 6 | J35: =F35+H35 -> 0 | K35: X | M35: 29 | N35: Videolaringoskops | O35: 1 | P35: 2 | R35: =ROUND($R$5*1/12,0) -> 5 | T35: =ROUND($T$5*1/12,0) -> 2 | V35: =ROUND($V$5*1/12,0) -> 2 | X35: =ROUND($X$5*1/12,0) -> 1 | Z35: =ROUND($Z$5*1/12,0) -> 1 | AB35: =ROUND($AB$5*1/12,0) -> 6 | AD35: =ROUND($AD$5*1/12,0) -> 1 | AF35: =ROUND($AF$5*1/12,0) -> 2 | AH35: =ROUND($AH$5*1/12,0) -> 1 | AJ35: =ROUNDUP($AJ$5*1/12,0) -> 1 | AL35: =ROUNDUP($AL$5*1/12,0) -> 1 | AN35: =ROUNDUP($AN$5*1/12,0) -> 1 | AO35: =Q35+S35+U35+W35+Y35+AA35+AC35+AE35+AG35+AI35+AK35+AM35 -> 0 | AP35: =R35+T35+V35+X35+Z35+AB35+AD35+AF35+AH35+AJ35+AL35+AN35 -> 24 | AR35: 29 | AS35: Slēdzama dzelzs kaste (Diazepams) | AT35: 1 | AU35: 1 | CC35: =AW35+AY35+BA35+BC35+BE35+BG35+BI35+BK35+BM35+BO35+BQ35+BS35+BU35+BW35+BY35+CA35 -> 0 | CE35: =I35+AO35+CB35 -> 6 | CF35: =J35+AP35+CC35 -> 24
A36: 30 | B36: Pulsoksimetrs ar mtHb noteikšanas iespēju | C36: 6 | D36: 8 | F36: =ROUND($F$5*2/12,0) -> 7 | H36: =ROUND($H$5*2/12,0) -> 6 | I36: =E36+G36 -> 0 | J36: =F36+H36 -> 13 | M36: 30 | N36: Pulsoksimetrs ar mtHb noteikšanas iespēju | O36: 3 | P36: 4 | R36: =ROUND($R$5*1/12,0) -> 5 | T36: =ROUND($T$5*1/12,0) -> 2 | V36: =ROUND($V$5*1/12,0) -> 2 | X36: =ROUND($X$5*1/12,0) -> 1 | Z36: =ROUND($Z$5*1/12,0) -> 1 | AB36: =ROUND($AB$5*1/12,0) -> 6 | AD36: =ROUND($AD$5*1/12,0) -> 1 | AF36: =ROUND($AF$5*1/12,0) -> 2 | AH36: =ROUND($AH$5*1/12,0) -> 1 | AJ36: =ROUNDUP($AJ$5*1/12,0) -> 1 | AL36: =ROUNDUP($AL$5*1/12,0) -> 1 | AN36: =ROUNDUP($AN$5*1/12,0) -> 1 | AO36: =Q36+S36+U36+W36+Y36+AA36+AC36+AE36+AG36+AI36+AK36+AM36 -> 0 | AP36: =R36+T36+V36+X36+Z36+AB36+AD36+AF36+AH36+AJ36+AL36+AN36 -> 24 | AR36: 30 | AS36: Saimniecības rati | AT36: 2 | AU36: 2 | CC36: =AW36+AY36+BA36+BC36+BE36+BG36+BI36+BK36+BM36+BO36+BQ36+BS36+BU36+BW36+BY36+CA36 -> 0 | CE36: =I36+AO36+CB36 -> 0 | CF36: =J36+AP36+CC36 -> 37
A37: 31 | B37: Transporta ventilators | C37: 2 | D37: 3 | E37: 3 | G37: 3 | I37: =E37+G37 -> 6 | J37: =F37+H37 -> 0 | K37: X | M37: 31 | N37: Transporta ventilators | O37: 2 | P37: 3 | R37: =ROUND($R$5*1/12,0) -> 5 | T37: =ROUND($T$5*1/12,0) -> 2 | V37: =ROUND($V$5*1/12,0) -> 2 | X37: =ROUND($X$5*1/12,0) -> 1 | Z37: =ROUND($Z$5*1/12,0) -> 1 | AB37: =ROUND($AB$5*1/12,0) -> 6 | AD37: =ROUND($AD$5*1/12,0) -> 1 | AF37: =ROUND($AF$5*1/12,0) -> 2 | AH37: =ROUND($AH$5*1/12,0) -> 1 | AJ37: =ROUNDUP($AJ$5*1/12,0) -> 1 | AL37: =ROUNDUP($AL$5*1/12,0) -> 1 | AN37: =ROUNDUP($AN$5*1/12,0) -> 1 | AO37: =Q37+S37+U37+W37+Y37+AA37+AC37+AE37+AG37+AI37+AK37+AM37 -> 0 | AP37: =R37+T37+V37+X37+Z37+AB37+AD37+AF37+AH37+AJ37+AL37+AN37 -> 24 | AR37: 31 | AS37: Medikamentu rati | AT37: 3 | AU37: 4 | AW37: =ROUND($AW$5*1/12,0) -> 7 | AY37: =ROUND($AY$5*1/12,0) -> 6 | BA37: =ROUND($BA$5*1/12,0) -> 2 | BC37: =ROUND($BC$5*1/12,0) -> 1 | BE37: =ROUND($BE$5*1/12,0) -> 1 | BG37: =ROUND($BG$5*1/12,0) -> 3 | BI37: =ROUND($BI$5*1/12,0) -> 2 | BK37: =ROUND($BK$5*1/12,0) -> 2 | BM37: =ROUND($BM$5*1/12,0) -> 4 | BO37: =ROUNDUP($BO$5*1/12,0) -> 1 | BQ37: =ROUNDUP($BQ$5*1/12,0) -> 1 | BS37: =ROUNDUP($BS$5*1/12,0) -> 1 | BU37: 1 | BW37: 1 | BY37: 1 | CA37: 1 | CC37: =AW37+AY37+BA37+BC37+BE37+BG37+BI37+BK37+BM37+BO37+BQ37+BS37+BU37+BW37+BY37+CA37 -> 35 | CE37: =I37+AO37+CB37 -> 6 | CF37: =J37+AP37+CC37 -> 59
A38: 32 | B38: Nakts apgaismojums gultai | C38: 12 | D38: 12 | I38: =E38+G38 -> 0 | J38: =F38+H38 -> 0 | M38: 32 | N38: Nakts apgaismojums gultai | O38: 12 | P38: 12 | AO38: =Q38+S38+U38+W38+Y38+AA38+AC38+AE38+AG38+AI38+AK38+AM38 -> 0 | AP38: =R38+T38+V38+X38+Z38+AB38+AD38+AF38+AH38+AJ38+AL38+AN38 -> 0 | AR38: 32 | AS38: Pacientu aprūpes rati (sanitārie atkritumi, netīrā veļa) | AT38: 2 | AU38: 3 | AW38: =ROUND($AW$5*1/12,0) -> 7 | AY38: =ROUND($AY$5*1/12,0) -> 6 | BA38: =ROUND($BA$5*1/12,0) -> 2 | BC38: =ROUND($BC$5*1/12,0) -> 1 | BE38: =ROUND($BE$5*1/12,0) -> 1 | BG38: =ROUND($BG$5*1/12,0) -> 3 | BI38: =ROUND($BI$5*1/12,0) -> 2 | BK38: =ROUND($BK$5*1/12,0) -> 2 | BM38: =ROUND($BM$5*1/12,0) -> 4 | BO38: =ROUNDUP($BO$5*1/12,0) -> 1 | BQ38: =ROUNDUP($BQ$5*1/12,0) -> 1 | BS38: =ROUNDUP($BS$5*1/12,0) -> 1 | BU38: 1 | BW38: 1 | BY38: 1 | CA38: 1 | CC38: =AW38+AY38+BA38+BC38+BE38+BG38+BI38+BK38+BM38+BO38+BQ38+BS38+BU38+BW38+BY38+CA38 -> 35 | CE38: =I38+AO38+CB38 -> 0 | CF38: =J38+AP38+CC38 -> 35
A39: 33 | B39: Ķirurģiskā lampa | C39: 2 | D39: 3 | E39: 3 | G39: 3 | I39: =E39+G39 -> 6 | J39: =F39+H39 -> 0 | M39: 33 | N39: Ķirurģiskā lampa | O39: 1 | P39: 2 | AO39: =Q39+S39+U39+W39+Y39+AA39+AC39+AE39+AG39+AI39+AK39+AM39 -> 0 | AP39: =R39+T39+V39+X39+Z39+AB39+AD39+AF39+AH39+AJ39+AL39+AN39 -> 0 | AR39: 33 | AS39: Dezinfekcijas līdzekļu dozators virsmas apstrādei | AT39: 1 | AU39: 2 | AW39: =ROUND($AW$5*1/12,0) -> 7 | AY39: =ROUND($AY$5*1/12,0) -> 6 | BA39: =ROUND($BA$5*1/12,0) -> 2 | BC39: =ROUND($BC$5*1/12,0) -> 1 | BE39: =ROUND($BE$5*1/12,0) -> 1 | BG39: =ROUND($BG$5*1/12,0) -> 3 | BI39: =ROUND($BI$5*1/12,0) -> 2 | BK39: =ROUND($BK$5*1/12,0) -> 2 | BM39: =ROUND($BM$5*1/12,0) -> 4 | BO39: =ROUNDUP($BO$5*1/12,0) -> 1 | BQ39: =ROUNDUP($BQ$5*1/12,0) -> 1 | BS39: =ROUNDUP($BS$5*1/12,0) -> 1 | BU39: 1 | BW39: 1 | BY39: 1 | CA39: 1 | CC39: =AW39+AY39+BA39+BC39+BE39+BG39+BI39+BK39+BM39+BO39+BQ39+BS39+BU39+BW39+BY39+CA39 -> 35 | CE39: =I39+AO39+CB39 -> 6 | CF39: =J39+AP39+CC39 -> 35
A40: 34 | B40: Seifs | C40: 2 | D40: 2 | I40: =E40+G40 -> 0 | J40: =F40+H40 -> 0 | M40: 34 | N40: Seifs | O40: 2 | P40: 2 | AO40: =Q40+S40+U40+W40+Y40+AA40+AC40+AE40+AG40+AI40+AK40+AM40 -> 0 | AP40: =R40+T40+V40+X40+Z40+AB40+AD40+AF40+AH40+AJ40+AL40+AN40 -> 0 | AR40: 34 | AS40: Ultra sonogrāfijas iekārta (BASIC) | AT40: 1 | AU40: 1 | CC40: =AW40+AY40+BA40+BC40+BE40+BG40+BI40+BK40+BM40+BO40+BQ40+BS40+BU40+BW40+BY40+CA40 -> 0 | CE40: =I40+AO40+CB40 -> 0 | CF40: =J40+AP40+CC40 -> 0
A41: 35 | B41: Ledusskapis | C41: 4 | D41: 4 | I41: =E41+G41 -> 0 | J41: =F41+H41 -> 0 | M41: 35 | N41: Ledusskapis | O41: 3 | P41: 4 | AO41: =Q41+S41+U41+W41+Y41+AA41+AC41+AE41+AG41+AI41+AK41+AM41 -> 0 | AP41: =R41+T41+V41+X41+Z41+AB41+AD41+AF41+AH41+AJ41+AL41+AN41 -> 0 | AR41: 35 | AS41: Ežekcijas sūknis | AT41: 12 | AU41: 15 | AW41: =ROUND($AW$5*3/12,0) -> 21 | AY41: =ROUND($AY$5*3/12,0) -> 18 | BA41: =ROUND($BA$5*3/12,0) -> 5 | BC41: =ROUND($BC$5*3/12,0) -> 2 | BE41: =ROUND($BE$5*3/12,0) -> 3 | BG41: =ROUND($BG$5*3/12,0) -> 9 | BI41: =ROUND($BI$5*3/12,0) -> 5 | BK41: =ROUND($BK$5*3/12,0) -> 5 | BM41: =ROUND($BM$5*3/12,0) -> 12 | BO41: =ROUND($BO$5*3/12,0) -> 1 | BQ41: =ROUND($BQ$5*3/12,0) -> 1 | BS41: =ROUND($BS$5*3/12,0) -> 1 | BU41: =ROUND($BU$5*3/12,0) -> 1 | BW41: =ROUND($BW$5*3/12,0) -> 1 | BY41: 1 | CA41: =ROUND($CA$5*3/12,0) -> 1 | CC41: =AW41+AY41+BA41+BC41+BE41+BG41+BI41+BK41+BM41+BO41+BQ41+BS41+BU41+BW41+BY41+CA41 -> 87 | CE41: =I41+AO41+CB41 -> 0 | CF41: =J41+AP41+CC41 -> 87
A42: 36 | B42: Slēdzama dzelzs kaste (Diazepams) | C42: 1 | D42: 1 | I42: =E42+G42 -> 0 | J42: =F42+H42 -> 0 | M42: 36 | N42: Slēdzama dzelzs kaste (Diazepams) | O42: 1 | P42: 1 | AO42: =Q42+S42+U42+W42+Y42+AA42+AC42+AE42+AG42+AI42+AK42+AM42 -> 0 | AP42: =R42+T42+V42+X42+Z42+AB42+AD42+AF42+AH42+AJ42+AL42+AN42 -> 0 | AR42: 36 | AS42: Ķirurģiskais atsūcējs | AT42: 3 | AU42: 4 | AW42: =ROUND($AW$5*1/12,0) -> 7 | AY42: =ROUND($AY$5*1/12,0) -> 6 | BA42: =ROUND($BA$5*1/12,0) -> 2 | BC42: =ROUND($BC$5*1/12,0) -> 1 | BE42: =ROUND($BE$5*1/12,0) -> 1 | BG42: =ROUND($BG$5*1/12,0) -> 3 | BI42: =ROUND($BI$5*1/12,0) -> 2 | BK42: =ROUND($BK$5*1/12,0) -> 2 | BM42: =ROUND($BM$5*1/12,0) -> 4 | BO42: =ROUNDUP($BO$5*1/12,0) -> 1 | BQ42: =ROUNDUP($BQ$5*1/12,0) -> 1 | BS42: =ROUNDUP($BS$5*1/12,0) -> 1 | BU42: 1 | BW42: 1 | BY42: 1 | CA42: 1 | CC42: =AW42+AY42+BA42+BC42+BE42+BG42+BI42+BK42+BM42+BO42+BQ42+BS42+BU42+BW42+BY42+CA42 -> 35 | CE42: =I42+AO42+CB42 -> 0 | CF42: =J42+AP42+CC42 -> 35
A43: 37 | B43: Saimniecības rati | C43: 2 | D43: 3 | E43: 3 | G43: 3 | I43: =E43+G43 -> 6 | J43: =F43+H43 -> 0 | M43: 37 | N43: Saimniecības rati | O43: 2 | P43: 3 | AO43: =Q43+S43+U43+W43+Y43+AA43+AC43+AE43+AG43+AI43+AK43+AM43 -> 0 | AP43: =R43+T43+V43+X43+Z43+AB43+AD43+AF43+AH43+AJ43+AL43+AN43 -> 0 | AR43: 37 | AS43: Pacienta guļrati | AT43: 2 | AU43: 3 | AW43: =ROUND($AW$5*1/12,0) -> 7 | AY43: =ROUND($AY$5*1/12,0) -> 6 | BA43: =ROUND($BA$5*1/12,0) -> 2 | BC43: =ROUND($BC$5*1/12,0) -> 1 | BE43: =ROUND($BE$5*1/12,0) -> 1 | BG43: =ROUND($BG$5*1/12,0) -> 3 | BI43: =ROUND($BI$5*1/12,0) -> 2 | BK43: =ROUND($BK$5*1/12,0) -> 2 | BM43: =ROUND($BM$5*1/12,0) -> 4 | BO43: =ROUNDUP($BO$5*1/12,0) -> 1 | BQ43: =ROUNDUP($BQ$5*1/12,0) -> 1 | BS43: =ROUNDUP($BS$5*1/12,0) -> 1 | BU43: 1 | BW43: 1 | BY43: 1 | CA43: 1 | CC43: =AW43+AY43+BA43+BC43+BE43+BG43+BI43+BK43+BM43+BO43+BQ43+BS43+BU43+BW43+BY43+CA43 -> 35 | CE43: =I43+AO43+CB43 -> 6 | CF43: =J43+AP43+CC43 -> 35
A44: 38 | B44: Medikamentu rati | C44: 4 | D44: 6 | E44: 6 | G44: 6 | I44: =E44+G44 -> 12 | J44: =F44+H44 -> 0 | M44: 38 | N44: Medikamentu rati | O44: 3 | P44: 4 | AO44: =Q44+S44+U44+W44+Y44+AA44+AC44+AE44+AG44+AI44+AK44+AM44 -> 0 | AP44: =R44+T44+V44+X44+Z44+AB44+AD44+AF44+AH44+AJ44+AL44+AN44 -> 0 | AR44: 38 | AS44: Cits specializētais aprīkojums (atkarīgs no profila) | CC44: =AW44+AY44+BA44+BC44+BE44+BG44+BI44+BK44+BM44+BO44+BQ44+BS44+BU44+BW44+BY44+CA44 -> 0 | CE44: =I44+AO44+CB44 -> 12 | CF44: =J44+AP44+CC44 -> 0
B45: Koagulators LOR manipulācijām | C45: 1 | D45: 2 | I45: =E45+G45 -> 0 | J45: =F45+H45 -> 0 | K45: X | N45: Koagulators LOR manipulācijām | O45: 1 | P45: 2 | R45: =ROUND($R$5*1/12,0) -> 5 | T45: =ROUND($T$5*1/12,0) -> 2 | V45: =ROUND($V$5*1/12,0) -> 2 | X45: =ROUND($X$5*1/12,0) -> 1 | Z45: =ROUND($Z$5*1/12,0) -> 1 | AB45: =ROUND($AB$5*1/12,0) -> 6 | AD45: =ROUND($AD$5*1/12,0) -> 1 | AF45: =ROUND($AF$5*1/12,0) -> 2 | AH45: =ROUND($AH$5*1/12,0) -> 1 | AJ45: =ROUNDUP($AJ$5*2/12,0) -> 1 | AL45: =ROUNDUP($AL$5*1/12,0) -> 1 | AN45: =ROUNDUP($AN$5*1/12,0) -> 1 | AO45: =Q45+S45+U45+W45+Y45+AA45+AC45+AE45+AG45+AI45+AK45+AM45 -> 0 | AP45: =R45+T45+V45+X45+Z45+AB45+AD45+AF45+AH45+AJ45+AL45+AN45 -> 24 | CE45: =I45+AO45+CB45 -> 0 | CF45: =J45+AP45+CC45 -> 24
B46: Augstfrekvences MPV iekārta | C46: 1 | D46: 2 | I46: =E46+G46 -> 0 | J46: =F46+H46 -> 0 | K46: X | N46: Augstfrekvences MPV iekārta | O46: 1 | P46: 2 | R46: =ROUND($R$5*1/12,0) -> 5 | T46: =ROUND($T$5*1/12,0) -> 2 | V46: =ROUND($V$5*1/12,0) -> 2 | X46: =ROUND($X$5*1/12,0) -> 1 | Z46: =ROUND($Z$5*1/12,0) -> 1 | AB46: =ROUND($AB$5*1/12,0) -> 6 | AD46: =ROUND($AD$5*1/12,0) -> 1 | AF46: =ROUND($AF$5*1/12,0) -> 2 | AH46: =ROUND($AH$5*1/12,0) -> 1 | AJ46: =ROUNDUP($AJ$5*2/12,0) -> 1 | AL46: =ROUNDUP($AL$5*1/12,0) -> 1 | AN46: =ROUNDUP($AN$5*1/12,0) -> 1 | AO46: =Q46+S46+U46+W46+Y46+AA46+AC46+AE46+AG46+AI46+AK46+AM46 -> 0 | AP46: =R46+T46+V46+X46+Z46+AB46+AD46+AF46+AH46+AJ46+AL46+AN46 -> 24 | CE46: =I46+AO46+CB46 -> 0 | CF46: =J46+AP46+CC46 -> 24
A47: 39 | B47: Pacientu aprūpes rati (sanitārie atkritumi, netīrā veļa) | C47: 3 | D47: 4 | E47: 3 | G47: 3 | I47: =E47+G47 -> 6 | J47: =F47+H47 -> 0 | M47: 39 | N47: Pacientu aprūpes rati (sanitārie atkritumi, netīrā veļa) | O47: 3 | P47: 4 | R47: =ROUND($R$5*1/12,0) -> 5 | T47: =ROUND($T$5*1/12,0) -> 2 | V47: =ROUND($V$5*1/12,0) -> 2 | X47: =ROUND($X$5*1/12,0) -> 1 | Z47: =ROUND($Z$5*1/12,0) -> 1 | AB47: =ROUND($AB$5*1/12,0) -> 6 | AD47: =ROUND($AD$5*1/12,0) -> 1 | AF47: =ROUND($AF$5*1/12,0) -> 2 | AH47: =ROUND($AH$5*1/12,0) -> 1 | AJ47: =ROUNDUP($AJ$5*2/12,0) -> 1 | AL47: =ROUNDUP($AL$5*1/12,0) -> 1 | AN47: =ROUNDUP($AN$5*1/12,0) -> 1 | AO47: =Q47+S47+U47+W47+Y47+AA47+AC47+AE47+AG47+AI47+AK47+AM47 -> 0 | AP47: =R47+T47+V47+X47+Z47+AB47+AD47+AF47+AH47+AJ47+AL47+AN47 -> 24 | CE47: =I47+AO47+CB47 -> 6 | CF47: =J47+AP47+CC47 -> 24
A48: 40 | B48: Dezinfekcijas līdzekļu dozators virsmas apstrādei | C48: 1 | D48: 2 | E48: 3 | G48: 3 | I48: =E48+G48 -> 6 | J48: =F48+H48 -> 0 | M48: 40 | N48: Dezinfekcijas līdzekļu dozators virsmas apstrādei | O48: 1 | P48: 2 | R48: =ROUND($R$5*1/12,0) -> 5 | T48: =ROUND($T$5*1/12,0) -> 2 | V48: =ROUND($V$5*1/12,0) -> 2 | X48: =ROUND($X$5*1/12,0) -> 1 | Z48: =ROUND($Z$5*1/12,0) -> 1 | AB48: =ROUND($AB$5*1/12,0) -> 6 | AD48: =ROUND($AD$5*1/12,0) -> 1 | AF48: =ROUND($AF$5*1/12,0) -> 2 | AH48: =ROUND($AH$5*1/12,0) -> 1 | AJ48: =ROUNDUP($AJ$5*2/12,0) -> 1 | AL48: =ROUNDUP($AL$5*1/12,0) -> 1 | AN48: =ROUNDUP($AN$5*1/12,0) -> 1 | AO48: =Q48+S48+U48+W48+Y48+AA48+AC48+AE48+AG48+AI48+AK48+AM48 -> 0 | AP48: =R48+T48+V48+X48+Z48+AB48+AD48+AF48+AH48+AJ48+AL48+AN48 -> 24 | CE48: =I48+AO48+CB48 -> 6 | CF48: =J48+AP48+CC48 -> 24
A49: 41 | B49: Dialīzes iekārta | C49: 2 | D49: 4 | E49: 6 | G49: 6 | I49: =E49+G49 -> 12 | J49: =F49+H49 -> 0 | K49: X | M49: 41 | N49: Dialīzes iekārta | O49: 2 | P49: 3 | Q49: 8 | S49: 5 | U49: 2 | W49: 3 | Y49: 2 | AA49: 9 | AC49: 2 | AE49: 4 | AG49: 1 | AO49: =Q49+S49+U49+W49+Y49+AA49+AC49+AE49+AG49+AI49+AK49+AM49 -> 36 | AP49: =R49+T49+V49+X49+Z49+AB49+AD49+AF49+AH49+AJ49+AL49+AN49 -> 0 | CE49: =I49+AO49+CB49 -> 48 | CF49: =J49+AP49+CC49 -> 0 | CI49: =dializes_iekarta!E10 -> 9 | CJ49: =CI49+CH49-CF49-CG49 -> 9
A50: 42 | B50: Ultra sonogrāfijas iekārta (ar EHO funkciju) | C50: 1 | D50: 2 | E50: 3 | G50: 3 | I50: =E50+G50 -> 6 | J50: =F50+H50 -> 0 | K50: X | M50: 42 | N50: Ultra sonogrāfijas iekārta (ar EHO funkciju) | O50: 1 | P50: 2 | Q50: 8 | S50: 5 | U50: 2 | W50: 3 | Y50: 2 | AA50: 9 | AC50: 2 | AE50: 4 | AG50: 1 | AO50: =Q50+S50+U50+W50+Y50+AA50+AC50+AE50+AG50+AI50+AK50+AM50 -> 36 | AP50: =R50+T50+V50+X50+Z50+AB50+AD50+AF50+AH50+AJ50+AL50+AN50 -> 0 | CE50: =I50+AO50+CB50 -> 42 | CF50: =J50+AP50+CC50 -> 0 | CI50: =USG!E7 -> 2 | CJ50: =CI50+CH50-CF50-CG50 -> 2
B51: Zonde transezofagiālā EHO iekārtai | C51: 3 | D51: 4 | I51: =E51+G51 -> 0 | J51: =F51+H51 -> 0 | K51: x | N51: Zonde transezofagiālā EHO iekārtai | O51: 3 | P51: 4 | Q51: 8 | S51: 5 | U51: 2 | W51: 3 | Y51: 2 | AA51: 9 | AC51: 2 | AE51: 4 | AG51: 1 | AO51: =Q51+S51+U51+W51+Y51+AA51+AC51+AE51+AG51+AI51+AK51+AM51 -> 36 | AP51: =R51+T51+V51+X51+Z51+AB51+AD51+AF51+AH51+AJ51+AL51+AN51 -> 0 | CE51: =I51+AO51+CB51 -> 36 | CF51: =J51+AP51+CC51 -> 0
B52: Transezofagiālās zondes 4 gab. konteineru komplekts ar ratiem | C52: 1 | D52: 1 | I52: =E52+G52 -> 0 | J52: =F52+H52 -> 0 | N52: Transezofagiālās zondes 4 gab. konteineru komplekts ar ratiem | O52: 1 | P52: 1 | Q52: 8 | S52: 5 | U52: 2 | W52: 3 | Y52: 2 | AA52: 9 | AC52: 2 | AE52: 4 | AG52: 1 | AO52: =Q52+S52+U52+W52+Y52+AA52+AC52+AE52+AG52+AI52+AK52+AM52 -> 36 | AP52: =R52+T52+V52+X52+Z52+AB52+AD52+AF52+AH52+AJ52+AL52+AN52 -> 0 | CE52: =I52+AO52+CB52 -> 36 | CF52: =J52+AP52+CC52 -> 0
B53: Portatīva USG iekārta ar trīs zondēm punkcijām un skrīningam | C53: 1 | D53: 2 | I53: =E53+G53 -> 0 | J53: =F53+H53 -> 0 | K53: X | N53: Portatīva USG iekārta ar trīs zondēm punkcijām un skrīningam | O53: 1 | P53: 2 | Q53: 8 | S53: 5 | U53: 2 | W53: 3 | Y53: 2 | AA53: 9 | AC53: 2 | AE53: 4 | AG53: 1 | AO53: =Q53+S53+U53+W53+Y53+AA53+AC53+AE53+AG53+AI53+AK53+AM53 -> 36 | AP53: =R53+T53+V53+X53+Z53+AB53+AD53+AF53+AH53+AJ53+AL53+AN53 -> 0 | CE53: =I53+AO53+CB53 -> 36 | CF53: =J53+AP53+CC53 -> 0 | CI53: =USG!E9 -> 8 | CJ53: =CI53+CH53-CF53-CG53 -> 8
B54: Portatīva EEG iekārta | C54: 1 | D54: 2 | I54: =E54+G54 -> 0 | J54: =F54+H54 -> 0 | N54: Portatīva EEG iekārta | O54: 1 | P54: 2 | Q54: 8 | S54: 5 | U54: 2 | W54: 3 | Y54: 2 | AA54: 9 | AC54: 2 | AE54: 4 | AG54: 1 | AO54: =Q54+S54+U54+W54+Y54+AA54+AC54+AE54+AG54+AI54+AK54+AM54 -> 36 | AP54: =R54+T54+V54+X54+Z54+AB54+AD54+AF54+AH54+AJ54+AL54+AN54 -> 0 | CE54: =I54+AO54+CB54 -> 36 | CF54: =J54+AP54+CC54 -> 0
A55: 43 | B55: Ežekcijas sūknis | C55: 12 | D55: 15 | F55: =ROUND($F$5*3/12,0) -> 11 | H55: =ROUND($H$5*3/12,0) -> 9 | I55: =E55+G55 -> 0 | J55: =F55+H55 -> 20 | K55: X | M55: 43 | N55: Ežekcijas sūknis | O55: 12 | P55: 15 | R55: =ROUND($R$5*3/12,0) -> 16 | T55: =ROUND($T$5*3/12,0) -> 7 | V55: =ROUND($V$5*3/12,0) -> 5 | X55: =ROUND($X$5*3/12,0) -> 3 | Z55: =ROUND($Z$5*3/12,0) -> 3 | AB55: =ROUND($AB$5*3/12,0) -> 17 | AD55: =ROUND($AD$5*3/12,0) -> 4 | AF55: =ROUND($AF$5*3/12,0) -> 7 | AH55: =ROUND($AH$5*3/12,0) -> 2 | AJ55: =ROUND($AJ$5*3/12,0) -> 1 | AL55: =ROUND($AL$5*3/12,0) -> 1 | AN55: =ROUND($AN$5*3/12,0) -> 1 | AO55: =Q55+S55+U55+W55+Y55+AA55+AC55+AE55+AG55+AI55+AK55+AM55 -> 0 | AP55: =R55+T55+V55+X55+Z55+AB55+AD55+AF55+AH55+AJ55+AL55+AN55 -> 67 | CE55: =I55+AO55+CB55 -> 0 | CF55: =J55+AP55+CC55 -> 87 | CH55: 50 | CI55: =sūkņi!E64 -> 10788 | CJ55: =CI55+CH55-CF55-CG55 -> 10751
A56: 44 | B56: Ķirurģiskais atsūcējs | C56: 12 | D56: 14 | F56: =ROUND($F$5*2/12,0) -> 7 | H56: =ROUND($H$5*2/12,0) -> 6 | I56: =E56+G56 -> 0 | J56: =F56+H56 -> 13 | K56: X | M56: 44 | N56: Ķirurģiskais atsūcējs | O56: 12 | P56: 14 | R56: =ROUND($R$5*2/12,0) -> 10 | T56: =ROUND($T$5*2/12,0) -> 5 | V56: =ROUND($V$5*2/12,0) -> 4 | X56: =ROUND($X$5*2/12,0) -> 2 | Z56: =ROUND($Z$5*2/12,0) -> 2 | AB56: =ROUND($AB$5*2/12,0) -> 11 | AD56: =ROUND($AD$5*2/12,0) -> 3 | AF56: =ROUND($AF$5*2/12,0) -> 5 | AH56: =ROUND($AH$5*2/12,0) -> 1 | AJ56: =ROUNDUP($AJ$5*2/12,0) -> 1 | AL56: =ROUND($AL$5*2/12,0) -> 1 | AN56: =ROUND($AN$5*2/12,0) -> 1 | AO56: =Q56+S56+U56+W56+Y56+AA56+AC56+AE56+AG56+AI56+AK56+AM56 -> 0 | AP56: =R56+T56+V56+X56+Z56+AB56+AD56+AF56+AH56+AJ56+AL56+AN56 -> 46 | CE56: =I56+AO56+CB56 -> 0 | CF56: =J56+AP56+CC56 -> 59
A57: 45 | B57: Pacienta guļrati | C57: 3 | D57: 4 | E57: 3 | G57: 3 | I57: =E57+G57 -> 6 | J57: =F57+H57 -> 0 | M57: 45 | N57: Pacienta guļrati | O57: 2 | P57: 3 | R57: =ROUND($R$5*1/12,0) -> 5 | T57: =ROUND($T$5*1/12,0) -> 2 | V57: =ROUND($V$5*1/12,0) -> 2 | X57: =ROUND($X$5*1/12,0) -> 1 | Z57: =ROUND($Z$5*1/12,0) -> 1 | AB57: =ROUND($AB$5*1/12,0) -> 6 | AD57: =ROUND($AD$5*1/12,0) -> 1 | AF57: =ROUND($AF$5*1/12,0) -> 2 | AH57: =ROUND($AH$5*1/12,0) -> 1 | AJ57: =ROUNDUP($AJ$5*2/12,0) -> 1 | AL57: =ROUNDUP($AL$5*1/12,0) -> 1 | AN57: =ROUNDUP($AN$5*1/12,0) -> 1 | AO57: =Q57+S57+U57+W57+Y57+AA57+AC57+AE57+AG57+AI57+AK57+AM57 -> 0 | AP57: =R57+T57+V57+X57+Z57+AB57+AD57+AF57+AH57+AJ57+AL57+AN57 -> 24 | CE57: =I57+AO57+CB57 -> 6 | CF57: =J57+AP57+CC57 -> 24
A58: 46 | B58: Trombelastogrāfs | C58: 1 | D58: 1 | I58: =E58+G58 -> 0 | J58: =F58+H58 -> 0 | K58: X | M58: 46 | N58: JET ventilators | O58: 1 | P58: 2 | R58: =ROUND($R$5*1/12,0) -> 5 | T58: =ROUND($T$5*1/12,0) -> 2 | V58: =ROUND($V$5*1/12,0) -> 2 | X58: =ROUND($X$5*1/12,0) -> 1 | Z58: =ROUND($Z$5*1/12,0) -> 1 | AB58: =ROUND($AB$5*1/12,0) -> 6 | AD58: =ROUND($AD$5*1/12,0) -> 1 | AF58: =ROUND($AF$5*1/12,0) -> 2 | AH58: =ROUND($AH$5*1/12,0) -> 1 | AJ58: =ROUNDUP($AJ$5*2/12,0) -> 1 | AL58: =ROUNDUP($AL$5*1/12,0) -> 1 | AN58: =ROUNDUP($AN$5*1/12,0) -> 1 | AO58: =Q58+S58+U58+W58+Y58+AA58+AC58+AE58+AG58+AI58+AK58+AM58 -> 0 | AP58: =R58+T58+V58+X58+Z58+AB58+AD58+AF58+AH58+AJ58+AL58+AN58 -> 24 | CE58: =I58+AO58+CB58 -> 0 | CF58: =J58+AP58+CC58 -> 24
A59: 47 | B59: Elektromagnētiskās impedances mērīšanas ierīce | C59: 1 | D59: 1 | I59: =E59+G59 -> 0 | J59: =F59+H59 -> 0 | K59: X | M59: 47 | N59: Cits specializētais aprīkojums (atkarīgs no profila) | AO59: =Q59+S59+U59+W59+Y59+AA59+AC59+AE59+AG59+AI59+AK59+AM59 -> 0 | AP59: =R59+T59+V59+X59+Z59+AB59+AD59+AF59+AH59+AJ59+AL59+AN59 -> 0 | CE59: =I59+AO59+CB59 -> 0 | CF59: =J59+AP59+CC59 -> 0
A60: 48 | B60: ECMO | C60: 2 | D60: 2 | I60: =E60+G60 -> 0 | J60: =F60+H60 -> 0 | K60: X | M60: 48 | N60: Intraaortālā balona kontrapulsācijas iekārta | O60: 1 | P60: 2 | R60: =ROUND($R$5*1/12,0) -> 5 | T60: =ROUND($R$5*1/12,0) -> 5 | V60: =ROUND($V$5*1/12,0) -> 2 | X60: =ROUND($X$5*1/12,0) -> 1 | Z60: =ROUND($Z$5*1/12,0) -> 1 | AB60: =ROUND($AB$5*1/12,0) -> 6 | AD60: =ROUND($AD$5*1/12,0) -> 1 | AF60: =ROUND($AF$5*1/12,0) -> 2 | AH60: =ROUND($AH$5*1/12,0) -> 1 | AJ60: =ROUNDUP($AJ$5*1/12,0) -> 1 | AL60: =ROUNDUP($AL$5*1/12,0) -> 1 | AN60: =ROUNDUP($AN$5*1/12,0) -> 1 | AO60: =Q60+S60+U60+W60+Y60+AA60+AC60+AE60+AG60+AI60+AK60+AM60 -> 0 | AP60: =R60+T60+V60+X60+Z60+AB60+AD60+AF60+AH60+AJ60+AL60+AN60 -> 27 | CE60: =I60+AO60+CB60 -> 0 | CF60: =J60+AP60+CC60 -> 27

Sheet parprof_gultu_rezerves
E1: 3.3. pielikums
A2: Stacionāra nodaļa (24 gultas)
A3: N.p.k. | B3: Nosaukums | C3: Kritiskais minimums | D3: Optimālais daudzums (lai nodrošinātu ierīču remontu, dezinfekciju, pacientu pārvietošanu) | E3: Kopējā rezervju nepieciešamība uz 3194 gultām
A4: 1 | B4: Pacientu gulta (elektriska, 3 sekciju) | C4: 24 | D4: 27 | E4: =ROUND(3194*3/24,0) -> 399
A5: 2 | B5: Aktīvais pretizgulējumu matracis (pcienta svaram ne mazāk 200 kg) | C5: 4 | D5: 5 | E5: =ROUND(3194*1/24,0) -> 133
A6: 3 | B6: Statīvs āķveida, fiksējams pie gultas | C6: 24 | D6: 27 | E6: =ROUND(3194*3/24,0) -> 399
A7: 4 | B7: Stanga gultai (pacientam) | C7: 6 | D7: 6
A8: 5 | B8: Slimnieka galdiņš | C8: 24 | D8: 24
A9: 6 | B9: Monitors (standarta klases) | C9: 4 | D9: 5 | E9: =ROUND(3194*1/24,0) -> 133
A10: 7 | B10: Monitoru darba stacija (ārstu istabā, māsu postenids novērošanas telpā) | C10: atkarīgs no telpu plānojuma | D10: atkarīgs no telpu plānojuma
A11: 8 | B11: Sienas Konsole: elektrības ligzdas (3 – gultai, enteromatam, papildus perfuzori, 1 rezervē), saspiestais gaiss (1), skābeklis (1) | C11: 24 | D11: 24
A12: 9 | B12: Perfuzors | C12: 6 | D12: 8 | E12: =ROUND(3194*2/24,0) -> 266
A13: 10 | B13: Enteromats | C13: 3 | D13: 4 | E13: =ROUND(3194*1/24,0) -> 133
A14: 11 | B14: Tvertne atkritumiem ar vāku un pedāli | C14: 3 | D14: 4 | E14: =ROUND(3194*1/24,0) -> 133
A15: 12 | B15: Fonendoskops | C15: 6 | D15: 8 | E15: =ROUND(3194*2/24,0) -> 266
A16: 13 | B16: Defibrilators palātai (1 uz 48 gultām) | C16: 1 | D16: 1
A17: 14 | B17: Postenis (darba virsma) māsai | C17: atkarīgs no telpu plānojuma | D17: atkarīgs no telpu plānojuma
A18: 15 | B18: Pārsienamais galds | C18: 2 | D18: 3 | E18: =ROUND(3194*1/24,0) -> 133
A19: 16 | B19: Intubācijas galds | C19: 1 | D19: 1
A20: 17 | B20: Gaisa attīrīšanas iekārta (1/80 m2) | C20: 2 | D20: 3 | E20: =ROUND(3194*1/24,0) -> 133
A21: 18 | B21: Šībera mazgājamā mašīna (no augšas lādējamā) | C21: 1 | D21: 1
A22: 19 | B22: Sanitārais mezgls (tualete, skapīši sanitāram aprūpes materiālam) | C22: 1 | D22: 1
A23: 20 | B23: EKG (1 uz 48 gultām) | C23: 1 | D23: 1
A24: 21 | B24: Pulsoksimetrs | C24: 6 | D24: 8 | E24: =ROUND(3194*2/24,0) -> 266
A25: 22 | B25: Procedūru lampa (mobila) | C25: 1 | D25: 2 | E25: =ROUND(3194*1/24,0) -> 133
A26: 23 | B26: Seifs | C26: 1 | D26: 1
A27: 24 | B27: Ledusskapis | C27: 2 | D27: 2
A28: 25 | B28: Saimniecības rati | C28: 2 | D28: 3 | E28: =ROUND(3194*1/24,0) -> 133
A29: 26 | B29: Medikamentu rati | C29: 4 | D29: 4
A30: 27 | B30: Pacientu aprūpes rati (sanitārie atkritumi, netīrā veļa) | C30: 3 | D30: 4 | E30: =ROUND(3194*1/24,0) -> 133
A31: 28 | B31: Ežekcijas sūknis | C31: 6 | D31: 8 | E31: =ROUND(3194*2/24,0) -> 266
A32: 29 | B32: Ķirurģiskais atsūcējs | C32: 3 | D32: 4 | E32: =ROUND(3194*1/24,0) -> 133
A33: 30 | B33: Pacienta guļrati | C33: 1 | D33: 2 | E33: =ROUND(3194*1/24,0) -> 133

Sheet kopsavilkums
P1: 3.4. pielikums
A2: Piešķīruma datums | B2: Rīkojuma Nr./MK protokols | C2: Iestādes nosaukums | D2: Nosaukums | E2: Mērvienība (m2/gab) | F2: Cena | G2: Kopā | H2: Medicīniskās iekārtas/ medicīniskās ierīces | I2: Invitro iekārtas | J2: Papildus iekārtas medicīniskām iekārtām | K2: Iekārtas, kas atzīstamas kā valsts īpašums | L2: Papildaprīkojums pacientu aprūpei | M2: Papildaprīkojums epidemioloģisko prasību ievērošanai | N2: Papildaprīkojums | O2: Infrastuktūras ieguldījumi | P2: Skābekļa terapija
A3: 11.02.2021. | B3: MK81 | C3: Cēsu klīnika | D3: Iekārta mākslīgai elpināšanai | E3: 1 | F3: 43558 | G3: 43558 | H3: X
A4: 11.02.2021. | B4: MK81 | C4: Cēsu klīnika | D4: Asinsgāzu analizators | E4: 1 | F4: 19000 | G4: 19000 | H4: X | I4: X
A5: 11.02.2021. | B5: MK81 | C5: Cēsu klīnika | D5: Hemodinamikas monitors ar aprīkojumu | E5: 4 | F5: 22477 | G5: 89907 | H5: X
A6: 11.02.2021. | B6: MK81 | C6: Cēsu klīnika | D6: Iekārta dialīzes (hroniskās) | E6: 1 | F6: 18910 | G6: 18910 | H6: X
A7: 11.02.2021. | B7: MK81 | C7: Cēsu klīnika | D7: Zonde transezofagiālā | E7: 1 | F7: 13736 | G7: 13736 | H7: X
A8: 11.02.2021. | B8: MK81 | C8: Cēsu klīnika | D8: Video laringoskops ar piederumiem | E8: 1 | F8: 11952 | G8: 11952 | H8: X
A9: 11.02.2021. | B9: MK81 | C9: Cēsu klīnika | D9: Perfuzori 6gab, + turētājskapis | E9: 3 | F9: 11936 | G9: 35807 | H9: X
A10: 11.02.2021. | B10: MK81 | C10: Cēsu klīnika | D10: Iekārta mazgāšanai/ dezinfekcijai sanitāriem priekšmetiem | E10: 1 | F10: 11482 | G10: 11482 | H10: X
A11: 11.02.2021. | B11: MK81 | C11: Cēsu klīnika | D11: Defibrilators | E11: 1 | F11: 8722 | G11: 8722 | H11: X
A12: 11.02.2021. | B12: MK81 | C12: Cēsu klīnika | D12: Portatīvs fibrooptiskais intubāciju bronhoskops | E12: 1 | F12: 7186 | G12: 7186 | H12: X
A13: 11.02.2021. | B13: MK81 | C13: Cēsu klīnika | D13: Mākslīgā plaušu ventilācijas iekārta (Transporta) | E13: 1 | F13: 6403 | G13: 6403 | H13: X
A14: 11.02.2021. | B14: MK81 | C14: Cēsu klīnika | D14: Inhalators ultraskaņas | E14: 1 | F14: 5498 | G14: 5498 | H14: X
A15: 11.02.2021. | B15: MK81 | C15: Cēsu klīnika | D15: Gulta funkcionālā slimnieku | E15: 1 | F15: 4500 | G15: 4500 | H15: X | L15: X
A16: 11.02.2021. | B16: MK81 | C16: Cēsu klīnika | D16: Infūzijas šķīdumu sildītājs | E16: 2 | F16: 3126 | G16: 6252 | H16: X | J16: X
A17: 11.02.2021. | B17: MK81 | C17: Cēsu klīnika | D17: Matracis pretizgulējumu dinamiskais | E17: 1 | F17: 2638 | G17: 2638 | H17: X | L17: X
A18: 11.02.2021. | B18: MK81 | C18: Cēsu klīnika | D18: Vakuuma sūknis ar piederumiem | E18: 1 | F18: 1493 | G18: 1493 | H18: X
A19: 11.02.2021. | B19: MK81 | C19: Cēsu klīnika | D19: Aizsargaizslietnis rtg, mobils | E19: 1 | F19: 1370 | G19: 1370 | N19: X
A20: 11.02.2021. | B20: MK81 | C20: Cēsu klīnika | D20: Galdiņš ar hidrauliku | E20: 1 | F20: 1300 | G20: 1300 | L20: X
A21: 11.02.2021. | B21: MK81 | C21: Cēsu klīnika | D21: medikamentu škidruma dozators, infuzors | E21: 1 | F21: 2211 | G21: 2211 | H21: X
A22: 11.02.2021. | B22: MK81 | C22: Cēsu klīnika | D22: Aizslietnis pacientu norobežošanai | E22: 4 | F22: 672 | G22: 2689 | M22: X | N22: X
A23: 11.02.2021. | B23: MK81 | C23: Cēsu klīnika | D23: Sūknis zema vakuma | E23: 1 | F23: 611 | G23: 611 | H23: X
A24: 11.02.2021. | B24: MK81 | C24: Cēsu klīnika | D24: monitors ar hemodinamikas monitoru un piederumiem | E24: 2 | F24: 15687 | G24: 31374 | H24: X
A25: 11.02.2021. | B25: MK81 | C25: Cēsu klīnika | D25: Defibrilators ar moduli | E25: 1 | F25: 9635 | G25: 9635 | H25: X
A26: 11.02.2021. | B26: MK81 | C26: Cēsu klīnika | D26: Matracis, pretizgulējumu, dinamiskais | E26: 2 | F26: 2638 | G26: 5276 | H26: X | L26: X
A27: 11.02.2021. | B27: MK81 | C27: Cēsu klīnika | D27: Perfuzors un zāļu kalkulācijai | E27: 2 | F27: 4211 | G27: 8421 | H27: X
A28: 11.02.2021. | B28: MK81 | C28: Cēsu klīnika | D28: Rati stumjami procedūru | E28: 1 | F28: 2068 | G28: 2068 | L28: X
A29: 11.02.2021. | B29: MK81 | C29: Cēsu klīnika | D29: Aizsargaizslietnis rtg, mobils | E29: 1 | F29: 1370 | G29: 1370 | N29: X
A30: 11.02.2021. | B30: MK81 | C30: Cēsu klīnika | D30: Infuzomats | E30: 1 | F30: 1162 | G30: 1162 | H30: X
A31: 11.02.2021. | B31: MK81 | C31: Cēsu klīnika | D31: Laringoskops (rokturis un spoguļi) | E31: 1 | F31: 576 | G31: 576 | H31: X
A32: 11.02.2021. | B32: MK81 | C32: Dobeles un apkārtnes slimnīca | D32: Trombelastogrāfs | E32: 1 | F32: 25992 | G32: 25992 | I32: X
A33: 11.02.2021. | B33: MK81 | C33: Dobeles un apkārtnes slimnīca | D33: Augstfrekvences ventilātors ar piederumiem | E33: 1 | F33: 21685 | G33: 21685 | H33: X
A34: 11.02.2021. | B34: MK81 | C34: Dobeles un apkārtnes slimnīca | D34: Video laringoskops ar piederumiem | E34: 1 | F34: 11952 | G34: 11952 | H34: X
A35: 11.02.2021. | B35: MK81 | C35: Dobeles un apkārtnes slimnīca | D35: Perfuzori 6gab, + turētājskapis | E35: 1 | F35: 11936 | G35: 11936 | H35: X
A36: 11.02.2021. | B36: MK81 | C36: Dobeles un apkārtnes slimnīca | D36: Iekārta mazgāšanai/ dezinfekcijai sanitāriem priekšmetiem | E36: 1 | F36: 11482 | G36: 11482 | H36: X | M36: X
A37: 11.02.2021. | B37: MK81 | C37: Dobeles un apkārtnes slimnīca | D37: Sirds izsviedes rādītāju monitors | E37: 1 | F37: 9711 | G37: 9711 | H37: X
A38: 11.02.2021. | B38: MK81 | C38: Dobeles un apkārtnes slimnīca | D38: Defibrilators | E38: 1 | F38: 8722 | G38: 8722 | H38: X
A39: 11.02.2021. | B39: MK81 | C39: Dobeles un apkārtnes slimnīca | D39: Mākslīgā plaušu ventilācijas iekārta (Transporta) | E39: 1 | F39: 6403 | G39: 6403 | H39: X
A40: 11.02.2021. | B40: MK81 | C40: Dobeles un apkārtnes slimnīca | D40: Aizsargaizslietnis rtg, mobils | E40: 1 | F40: 1370 | G40: 1370 | N40: X
A41: 11.02.2021. | B41: MK81 | C41: Dobeles un apkārtnes slimnīca | D41: Medikamentu šķīdumu dozātors | E41: 1 | F41: 1195 | G41: 1195 | H41: X
A42: 11.02.2021. | B42: MK81 | C42: Dobeles un apkārtnes slimnīca | D42: medikamentu škidruma dozators, infuzors | E42: 2 | F42: 2211 | G42: 4422 | H42: X
A43: 11.02.2021. | B43: MK81 | C43: Dobeles un apkārtnes slimnīca | D43: Intravenozo šķidrumu sildīšanas iekārta | E43: 1 | F43: 1098 | G43: 1098 | H43: X | J43: X
A44: 11.02.2021. | B44: MK81 | C44: Dobeles un apkārtnes slimnīca | D44: Ultrasonogrāfs, portatīvs | E44: 1 | F44: 49489 | G44: 49489 | H44: X
A45: 11.02.2021. | B45: MK81 | C45: Dobeles un apkārtnes slimnīca | D45: Mazgāšanas-dezinficēšanas iekārta ar statīvu un piederumiem | E45: 1 | F45: 13876 | G45: 13876 | H45: X | M45: X
A46: 11.02.2021. | B46: MK81 | C46: Dobeles un apkārtnes slimnīca | D46: Gulta ar piederumiem un matraci | E46: 3 | F46: 2540 | G46: 7619 | H46: X | L46: X
A47: 11.02.2021. | B47: MK81 | C47: Dobeles un apkārtnes slimnīca | D47: Elektrokardiostimulātors ārējās stimulācijai | E47: 1 | F47: 1409 | G47: 1409 | H47: X
A48: 11.02.2021. | B48: MK81 | C48: Preiļu slimnīca | D48: Iekārta mākslīgai elpināšanai | E48: 1 | F48: 43557.58 | G48: 43558 | H48: X
A49: 11.02.2021. | B49: MK81 | C49: Preiļu slimnīca | D49: Asinsgāzu analizators | E49: 1 | F49: 19000 | G49: 19000 | H49: X | I49: X
A50: 11.02.2021. | B50: MK81 | C50: Preiļu slimnīca | D50: Endoskopu mazgāšanas un dezinfekcijas mašīna | E50: 1 | F50: 26468.4 | G50: 26468 | H50: X | J50: X
A51: 11.02.2021. | B51: MK81 | C51: Preiļu slimnīca | D51: Augstfrekvences ventilātors ar piederumiem | E51: 1 | F51: 21684.57 | G51: 21685 | H51: X
A52: 11.02.2021. | B52: MK81 | C52: Preiļu slimnīca | D52: Perfuzori 6gab, + turētājskapis | E52: 1 | F52: 11935.69 | G52: 11936 | H52: X
A53: 11.02.2021. | B53: MK81 | C53: Preiļu slimnīca | D53: Iekārta mazgāšanai/ dezinfekcijai sanitāriem priekšmetiem | E53: 1 | F53: 11482.36 | G53: 11482 | H53: X | M53: X
A54: 11.02.2021. | B54: MK81 | C54: Preiļu slimnīca | D54: Portatīvs fibrooptiskais intubāciju bronhoskops | E54: 1 | F54: 7186.43 | G54: 7186 | H54: X
A55: 11.02.2021. | B55: MK81 | C55: Preiļu slimnīca | D55: Mākslīgā plaušu ventilācijas iekārta (Transporta) | E55: 1 | F55: 6402.92 | G55: 6403 | H55: X
A56: 11.02.2021. | B56: MK81 | C56: Preiļu slimnīca | D56: Asins plazmas atkausētājs | E56: 1 | F56: 5677.26 | G56: 5677 | H56: X
A57: 11.02.2021. | B57: MK81 | C57: Preiļu slimnīca | D57: Inhalators ultraskaņas | E57: 1 | F57: 5497.98 | G57: 5498 | H57: X
A58: 11.02.2021. | B58: MK81 | C58: Preiļu slimnīca | D58: Gulta funkcionālā slimnieku | E58: 10 | F58: 4500 | G58: 45000 | H58: X | L58: X
A59: 11.02.2021. | B59: MK81 | C59: Preiļu slimnīca | D59: Infūzijas šķīdumu sildītājs | E59: 5 | F59: 3126.05 | G59: 15630 | H59: X | J59: X
A60: 11.02.2021. | B60: MK81 | C60: Preiļu slimnīca | D60: Matracis pretizgulējumu dinamiskais | E60: 10 | F60: 2637.8 | G60: 26378 | H60: X | L60: X
A61: 11.02.2021. | B61: MK81 | C61: Preiļu slimnīca | D61: Vakuuma sūknis ar piederumiem | E61: 2 | F61: 1492.52 | G61: 2985 | H61: X
A62: 11.02.2021. | B62: MK81 | C62: Preiļu slimnīca | D62: Aizsargaizslietnis rtg, mobils | E62: 1 | F62: 1370 | G62: 1370 | N62: X
A63: 11.02.2021. | B63: MK81 | C63: Preiļu slimnīca | D63: Ledusskapis medicīniskais | E63: 1 | F63: 1300 | G63: 1300 | J63: X
A64: 11.02.2021. | B64: MK81 | C64: Preiļu slimnīca | D64: Galdiņš ar hidrauliku | E64: 5 | F64: 1300 | G64: 6499 | L64: X
A65: 11.02.2021. | B65: MK81 | C65: Preiļu slimnīca | D65: Medikamentu šķīdumu dozātors | E65: 1 | F65: 1195 | G65: 1195 | H65: X
A66: 11.02.2021. | B66: MK81 | C66: Preiļu slimnīca | D66: Inkubātors - termoskapis | E66: 1 | F66: 1165 | G66: 1165 | J66: X
A67: 11.02.2021. | B67: MK81 | C67: Preiļu slimnīca | D67: medikamentu škidruma dozators, infuzors | E67: 1 | F67: 2211 | G67: 2211 | H67: X
A68: 11.02.2021. | B68: MK81 | C68: Preiļu slimnīca | D68: Intravenozo šķidrumu sildīšanas iekārta | E68: 1 | F68: 1098 | G68: 1098 | H68: X | J68: X
A69: 11.02.2021. | B69: MK81 | C69: Preiļu slimnīca | D69: Aizslietnis pacientu norobežošanai | E69: 10 | F69: 672 | G69: 6723 | M69: X | N69: X
A70: 11.02.2021. | B70: MK81 | C70: Preiļu slimnīca | D70: Sūknis zema vakuma | E70: 1 | F70: 611 | G70: 611 | H70: X
A71: 11.02.2021. | B71: MK81 | C71: Preiļu slimnīca | D71: monitors ar hemodinamikas monitoru un piederumiem | E71: 1 | F71: 15687 | G71: 15687 | H71: X
A72: 11.02.2021. | B72: MK81 | C72: Preiļu slimnīca | D72: Mazgāšanas-dezinficēšanas iekārta ar statīvu un piederumiem | E72: 1 | F72: 13876 | G72: 13876 | H72: X | M72: X
A73: 11.02.2021. | B73: MK81 | C73: Preiļu slimnīca | D73: Video laringoskops ar piederumiem | E73: 1 | F73: 11952 | G73: 11952 | H73: X
A74: 11.02.2021. | B74: MK81 | C74: Preiļu slimnīca | D74: Transporta ventilators | E74: 1 | F74: 9490 | G74: 9490 | H74: X
A75: 11.02.2021. | B75: MK81 | C75: Preiļu slimnīca | D75: Matracis, pretizgulējumu, dinamiskais | E75: 1 | F75: 2638 | G75: 2638 | H75: X | L75: X
A76: 11.02.2021. | B76: MK81 | C76: Preiļu slimnīca | D76: Gulta ar piederumiem un matraci | E76: 1 | F76: 2540 | G76: 2540 | H76: X | L76: X
A77: 11.02.2021. | B77: MK81 | C77: Preiļu slimnīca | D77: Perfuzors un zāļu kalkulācijai | E77: 1 | F77: 4211 | G77: 4211 | H77: X
A78: 11.02.2021. | B78: MK81 | C78: Preiļu slimnīca | D78: Rati stumjami procedūru | E78: 2 | F78: 2068 | G78: 4136 | L78: X
A79: 11.02.2021. | B79: MK81 | C79: Preiļu slimnīca | D79: Termoskapis | E79: 1 | F79: 1487 | G79: 1487 | J79: X
A80: 11.02.2021. | B80: MK81 | C80: Preiļu slimnīca | D80: Elektrokardiostimulātors ārējās stimulācijai | E80: 1 | F80: 1409 | G80: 1409 | H80: X
A81: 11.02.2021. | B81: MK81 | C81: Preiļu slimnīca | D81: Aizsargaizslietnis rtg, mobils | E81: 1 | F81: 1370 | G81: 1370 | N81: X
A82: 11.02.2021. | B82: MK81 | C82: Preiļu slimnīca | D82: Infuzomats | E82: 5 | F82: 1162 | G82: 5808 | H82: X
A83: 11.02.2021. | B83: MK81 | C83: Preiļu slimnīca | D83: Laringoskops (rokturis un spoguļi) | E83: 1 | F83: 576 | G83: 576 | H83: X
A84: 11.02.2021. | B84: MK81 | C84: Krāslavas slimnīca | D84: Iekārta mākslīgai elpināšanai | E84: 1 | F84: 43557.58 | G84: 43558 | H84: X
A85: 11.02.2021. | B85: MK81 | C85: Krāslavas slimnīca | D85: Hemodinamikas monitors ar aprīkojumu | E85: 2 | F85: 22476.64 | G85: 44953 | H85: X
A86: 11.02.2021. | B86: MK81 | C86: Krāslavas slimnīca | D86: Augstfrekvences ventilātors ar piederumiem | E86: 1 | F86: 21684.57 | G86: 21685 | H86: X
A87: 11.02.2021. | B87: MK81 | C87: Krāslavas slimnīca | D87: Perfuzori 6gab, + turētājskapis | E87: 2 | F87: 11935.69 | G87: 23871 | H87: X
A88: 11.02.2021. | B88: MK81 | C88: Krāslavas slimnīca | D88: Iekārta mazgāšanai/ dezinfekcijai sanitāriem priekšmetiem | E88: 1 | F88: 11482.36 | G88: 11482 | H88: X | M88: X
A89: 11.02.2021. | B89: MK81 | C89: Krāslavas slimnīca | D89: Defibrilators | E89: 1 | F89: 8721.68 | G89: 8722 | H89: X
A90: 11.02.2021. | B90: MK81 | C90: Krāslavas slimnīca | D90: Mākslīgā plaušu ventilācijas iekārta (Transporta) | E90: 1 | F90: 6402.92 | G90: 6403 | H90: X
A91: 11.02.2021. | B91: MK81 | C91: Krāslavas slimnīca | D91: Inhalators ultraskaņas | E91: 2 | F91: 5497.98 | G91: 10996 | H91: X
A92: 11.02.2021. | B92: MK81 | C92: Krāslavas slimnīca | D92: Gulta funkcionālā slimnieku | E92: 4 | F92: 4500 | G92: 18000 | H92: X | L92: X
A93: 11.02.2021. | B93: MK81 | C93: Krāslavas slimnīca | D93: Vakuuma sūknis ar piederumiem | E93: 3 | F93: 1492.52 | G93: 4478 | H93: X
A94: 11.02.2021. | B94: MK81 | C94: Krāslavas slimnīca | D94: Aizsargaizslietnis rtg, mobils | E94: 1 | F94: 1369.72 | G94: 1370 | N94: X
A95: 11.02.2021. | B95: MK81 | C95: Krāslavas slimnīca | D95: Medikamentu šķīdumu dozātors | E95: 2 | F95: 1195.21 | G95: 2390 | H95: X
A96: 11.02.2021. | B96: MK81 | C96: Krāslavas slimnīca | D96: Inkubātors - termoskapis | E96: 1 | F96: 1165.33 | G96: 1165 | J96: X
A97: 11.02.2021. | B97: MK81 | C97: Krāslavas slimnīca | D97: medikamentu škidruma dozators, infuzors | E97: 4 | F97: 2211.14 | G97: 8845 | H97: X
A98: 11.02.2021. | B98: MK81 | C98: Krāslavas slimnīca | D98: Intravenozo šķidrumu sildīšanas iekārta | E98: 3 | F98: 1098.1 | G98: 3294 | H98: X | J98: X
A99: 11.02.2021. | B99: MK81 | C99: Krāslavas slimnīca | D99: Sūknis zema vakuma | E99: 1 | F99: 611.05 | G99: 611 | H99: X
A100: 11.02.2021. | B100: MK81 | C100: Krāslavas slimnīca | D100: Mazgāšanas-dezinficēšanas iekārta ar statīvu un piederumiem | E100: 1 | F100: 13876.42 | G100: 13876 | H100: X | M100: X
...

Sheet dializes_iekarta
G1: 3.5. pielikums
A2: Piešķīruma datums | B2: Rīkojuma Nr./MK protokols | C2: Iestādes nosaukums | D2: Nosaukums | E2: Mērvienība (m2/gab) | F2: Cena | G2: Kopā
A3: 11.02.2021. | B3: MK81 | C3: Cēsu klīnika | D3: Iekārta dialīzes (hroniskās) | E3: 1 | F3: 18910 | G3: 18910
A4: 11.02.2021. | B4: MK81 | C4: Balvu un Gulbenes slimnīcu apvienība | D4: Iekārta dialīzes (hroniskās) | E4: 1 | F4: 18910 | G4: 18910
A5: 05.01.2021. | B5: MK2 | C5: Vidzemes slimnīca | D5: Hemodialīzes iekārta | E5: 2 | F5: 12000 | G5: 24000
A6: 05.01.2021. | B6: MK2 | C6: Vidzemes slimnīca | D6: Hemodialīzes nodaļas izolatora izbūve | E6: 1 | F6: 2000 | G6: 2000
A7: 11.02.2021. | B7: MK81 | C7: Ogres rajona slimnīca | D7: Iekārta dialīzes (hroniskās) | E7: 2 | F7: 18910 | G7: 37820
A8: 11.02.2021. | B8: MK81 | C8: Ziemeļkurzemes reģionālā slimnīca | D8: Iekārta dialīzes (hroniskās) | E8: 1 | F8: 26620 | G8: 26620
A9: 11.02.2021. | B9: MK81 | C9: Jēkabpils reģionālā slimnīca | D9: Iekārta dialīzes (hroniskās) | E9: 1 | F9: 18910 | G9: 18910
E10: =SUM(E3:E9) -> 9

Sheet asins_gazu_analizators
G1: 3.6. pielikums
A2: Piešķīruma datums | B2: Rīkojuma Nr./MK protokols | C2: Iestādes nosaukums | D2: Nosaukums | E2: Mērvienība (m2/gab) | F2: Cena | G2: Kopā
A3: 11.02.2021. | B3: MK81 | C3: Cēsu klīnika | D3: Asinsgāzu analizators | E3: 1 | F3: 19000 | G3: 19000
A4: 11.02.2021. | B4: MK81 | C4: Preiļu slimnīca | D4: Asinsgāzu analizators | E4: 1 | F4: 19000 | G4: 19000
A5: 11.02.2021. | B5: MK81 | C5: Balvu un Gulbenes slimnīcu apvienība | D5: Asinsgāzu analizators | E5: 1 | F5: 19000 | G5: 19000
A6: 11.02.2021. | B6: MK81 | C6: Tukuma slimnīca | D6: Asinsgāzu analizators | E6: 2 | F6: 19000 | G6: 38000
A7: 11.02.2021. | B7: MK81 | C7: Alūksnes slimnīca | D7: Asinsgāzu analizators | E7: 2 | F7: 19000 | G7: 38000
A8: 11.02.2021. | B8: MK81 | C8: Rīgas Austrumu klīniskā universitātes slimnīca | D8: Asins gāzu analizators | E8: 1 | F8: 19360 | G8: 19360
A9: 02.11.2021. | B9: Prot73 | C9: Preiļu slimnīca | D9: Asinsgāzu analizators | E9: 1 | F9: 20000 | G9: 20000
A10: 02.11.2021. | B10: Prot73 | C10: Vidzemes slimnīca | D10: Asins kultūru analizators | E10: 1 | F10: 46000 | G10: 46000
A11: 05.01.2021. | B11: MK2 | C11: Balvu un Gulbenes slimnīcu apvienība | D11: Asinsgāzu analizators ar vienreizlietojamiem kartridžiem | E11: 1 | F11: 6413 | G11: 6413
A12: 11.02.2021. | B12: MK81 | C12: Vidzemes slimnīca | D12: Asinsgāzu analizators | E12: 1 | F12: 19000 | G12: 19000
A13: 05.01.2021. | B13: MK2 | C13: Bauskas slimnīca | D13: asins gāzes analizātors GEM 5000 (pH, pCO2, pO2, Na+, K+, Ca++, Cl-, Glu, Lac, Hct, tHb, O2Hb, COHb, MetHb, HHb, tBili, sO2 u.c. kalkulējamie parametri): - iekārta GEM 5000; - kasetes ar reaģentiem (4 gab.) | E13: 1 | F13: 21828.4 | G13: 21828.4
A14: 05.01.2021. | B14: MK2 | C14: Aizkraukles slimnīca | D14: asins gāzes analizātors GEM 5000 (pH, pCO2, pO2, Na+, K+, Ca++, Cl-, Glu, Lac, Hct, tHb, O2Hb, COHb, MetHb, HHb, tBili, sO2 u.c. kalkulējamie parametri): - iekārta GEM 5000; - kasetes ar reaģentiem (4 gab.) | E14: 1 | F14: 21828.4 | G14: 21828.4
... A29: 26.11.2021. | B29: Prot21-TA-1278 | C29: Rīgas 1.slimnīca | D29: Asins gāzu analizatoru šļirce | E29: 4000 | F29: 2.42 | G29: 9680
E30: =SUM(E3:E29) -> 4103

Sheet defibrilatori
G1: 3.7. pielikums
A3: Piešķīruma datums | B3: Rīkojuma Nr./MK protokols | C3: Iestādes nosaukums | D3: Nosaukums | E3: Mērvienība (m2/gab) | F3: Cena | G3: Kopā
A4: 11.02.2021. | B4: MK81 | C4: Cēsu klīnika | D4: Defibrilators | E4: 1 | F4: 8722 | G4: 8722
A5: 11.02.2021. | B5: MK81 | C5: Cēsu klīnika | D5: Defibrilators ar moduli | E5: 1 | F5: 9635 | G5: 9635
A6: 11.02.2021. | B6: MK81 | C6: Dobeles un apkārtnes slimnīca | D6: Defibrilators | E6: 1 | F6: 8722 | G6: 8722
A7: 11.02.2021. | B7: MK81 | C7: Krāslavas slimnīca | D7: Defibrilators | E7: 1 | F7: 8721.68 | G7: 8722
A8: 11.02.2021. | B8: MK81 | C8: Balvu un Gulbenes slimnīcu apvienība | D8: Defibrilators | E8: 1 | F8: 8722 | G8: 8722
A9: 11.02.2021. | B9: MK81 | C9: Tukuma slimnīca | D9: Defibrilators | E9: 1 | F9: 8721.68 | G9: 8721.68
A10: 11.02.2021. | B10: MK81 | C10: Tukuma slimnīca | D10: Defibrilators ar moduli | E10: 1 | F10: 9635 | G10: 9635
A11: 11.02.2021. | B11: MK81 | C11: Jūrmalas slimnīca | D11: Defibrilators | E11: 1 | F11: 5445 | G11: 5445
A12: 11.02.2021. | B12: MK81 | C12: Alūksnes slimnīca | D12: Defibrilators ar moduli | E12: 1 | F12: 9635 | G12: 9635
A13: 11.02.2021. | B13: MK81 | C13: Rīgas Austrumu klīniskā universitātes slimnīca | D13: Defibrilatori | E13: 2 | F13: 11616 | G13: 23232
A14: 02.11.2021. | B14: Prot73 | C14: Liepājas reģionālā slimnīca | D14: Defibrilators | E14: 1 | F14: 20570 | G14: 20570
A15: 02.11.2021. | B15: Prot73 | C15: Vidzemes slimnīca | D15: Defibrilators | E15: 2 | F15: 8000 | G15: 16000
... A37: 03.11.2021. | B37: MK799 | C37: Ziemeļkurzemes reģionālā slimnīca | D37: Defibrilators | E37: 1 | F37: 21000 | G37: 21000
E38: =SUM(E4:E37) -> 62

Sheet pacientu_galdini
G1: 3.8. pielikums
A2: Piešķīruma datums | B2: Rīkojuma Nr./MK protokols | C2: Iestādes nosaukums | D2: Nosaukums | E2: Mērvienība (m2/gab) | F2: Cena | G2: Kopā
A3: 11.02.2021. | B3: MK81 | C3: Paula Stradiņa klīniskā universitātes slimnīca | D3: Pacienta galds skapītis | E3: 1 | G3: 430
A4: 02.11.2021. | B4: Prot73 | C4: Bauskas slimnīca | D4: Pacientu galdiņi | E4: 10 | F4: 556 | G4: 5560
A5: 02.11.2021. | B5: Prot73 | C5: SIA "Sanare - KRC Jaunķemeri" | D5: Funkcionālie galdiņi (pie pacientu gultām) | E5: 36 | F5: 605 | G5: 21780
A6: 05.01.2021. | B6: MK2 | C6: Bauskas slimnīca | D6: pacienta galds ar ēdināšanas dēli ELEGANZA CLASSIC | E6: 10 | F6: 556.6 | G6: 5566
A7: 05.01.2021. | B7: MK2 | C7: Aizkraukles slimnīca | D7: pacienta galds ar ēdināšanas dēli ELEGANZA CLASSIC | E7: 10 | F7: 556.6 | G7: 5566
A8: 05.01.2021. | B8: MK2 | C8: Paula Stradiņa klīniskā universitātes slimnīca | D8: Multifunkcionālais galdiņš | E8: 30 | F8: 650 | G8: 19500
E9: =SUM(E3:E8) -> 97

Sheet matrači
G1: 3.9. pielikums
A2: Piešķīruma datums | B2: Rīkojuma Nr./MK protokols | C2: Iestādes nosaukums | D2: Nosaukums | E2: Mērvienība (m2/gab) | F2: Cena | G2: Kopā
A3: 11.02.2021. | B3: MK81 | C3: Cēsu klīnika | D3: Gulta funkcionālā slimnieku | E3: 1 | F3: 4500 | G3: 4500
A4: 11.02.2021. | B4: MK81 | C4: Dobeles un apkārtnes slimnīca | D4: Gulta ar piederumiem un matraci | E4: 3 | F4: 2540 | G4: 7619
A5: 11.02.2021. | B5: MK81 | C5: Preiļu slimnīca | D5: Gulta funkcionālā slimnieku | E5: 10 | F5: 4500 | G5: 45000
A6: 11.02.2021. | B6: MK81 | C6: Preiļu slimnīca | D6: Gulta ar piederumiem un matraci | E6: 1 | F6: 2540 | G6: 2540
A7: 11.02.2021. | B7: MK81 | C7: Krāslavas slimnīca | D7: Gulta funkcionālā slimnieku | E7: 4 | F7: 4500 | G7: 18000
A8: 11.02.2021. | B8: MK81 | C8: Krāslavas slimnīca | D8: Gulta ar piederumiem un matraci | E8: 4 | F8: 2539.83 | G8: 10159
A9: 11.02.2021. | B9: MK81 | C9: Tukuma slimnīca | D9: Gulta ar piederumiem un matraci | E9: 6 | F9: 2540 | G9: 15240
A10: 11.02.2021. | B10: MK81 | C10: Tukuma slimnīca | D10: Gulta ar piederumiem un matraci | E10: 4 | F10: 2540 | G10: 10159
A11: 11.02.2021. | B11: MK81 | C11: Tukuma slimnīca | D11: funkcionālās gultas ar pretizgulējuma matraci | E11: 10 | F11: 3267 | G11: 32670
A12: 11.02.2021. | B12: MK81 | C12: Alūksnes slimnīca | D12: Gulta funkcionālā slimnieku | E12: 3 | F12: 4500 | G12: 13500
A13: 11.02.2021. | B13: MK81 | C13: Rīgas Austrumu klīniskā universitātes slimnīca | D13: Intensīvās terapijas gultas | E13: 12 | F13: 9680 | G13: 116160
A14: 11.02.2021. | B14: MK81 | C14: Rīgas Austrumu klīniskā universitātes slimnīca | D14: Pretizgulējuma matracis ITN gultai (SWL ne mazāk par 200kg) | E14: 12 | F14: 2904 | G14: 34848
A15: 11.02.2021. | B15: MK81 | C15: Paula Stradiņa klīniskā universitātes slimnīca | D15: Gulta funkcionālā slimnieku | E15: 1 | G15: 2539.83
A16: 11.02.2021. | B16: MK81 | C16: Paula Stradiņa klīniskā universitātes slimnīca | D16: Reanimācijas pacienta gulta | E16: 2 | G16: 9000
A17: 02.11.2021. | B17: Prot73 | C17: Ziemeļkurzemes slimnīca- Ventspils | D17: Funkcionālās gultas + matrači | E17: 20 | F17: 2100 | G17: 42000
A18: 02.11.2021. | B18: Prot73 | C18: Ziemeļkurzemes slimnīca- Talsi | D18: intensīvās terapijas pacientu gultas | E18: 2 | F18: 15900 | G18: 31800
A19: 02.11.2021. | B19: Prot73 | C19: Alūksnes slimnīca | D19: Funkcionālās gultas ar skapīti | E19: 8 | F19: 2000 | G19: 16000
A20: 02.11.2021. | B20: Prot73 | C20: Bauskas slimnīca | D20: Pacientu gultas | E20: 10 | F20: 1936 | G20: 19360
A21: 02.11.2021. | B21: Prot73 | C21: Preiļu slimnīca | D21: gultas | E21: 10 | F21: 1000 | G21: 10000
A22: 02.11.2021. | B22: Prot73 | C22: Krāslavas slimnīca | D22: Funkcionālās gultas | E22: 20 | F22: 1200 | G22: 24000
A23: 02.11.2021. | B23: Prot73 | C23: Liepājas reģionālā slimnīca | D23: Funkcionālās gultas | E23: 28 | F23: 5082 | G23: 142296
A24: 02.11.2021. | B24: Prot73 | C24: Jēkabpils slimnīca | D24: multifunkcionālās reanimācijas gulta, elektriska | E24: 4 | F24: 7700 | G24: 30800
A25: 02.11.2021. | B25: Prot73 | C25: Vidzemes slimnīca | D25: Funkcionālās gultas (ar pasīviem pretizgulējumu matračiem) | E25: 10 | F25: 2500 | G25: 25000
A26: 02.11.2021. | B26: Prot73 | C26: Madonas slimnīca | D26: Funkcionālās gultas | E26: 20 | F26: 2000 | G26: 40000
A27: 02.11.2021. | B27: Prot73 | C27: Limbažu slimnīca | D27: funkcionālās gultas ar matračiem | E27: 2000 | F27: 10 | G27: 20000
A28: 02.11.2021. | B28: Prot73 | C28: SIA "Sanare - KRC Jaunķemeri" | D28: Funkcionālās gultas | E28: 16 | F28: 2420 | G28: 38720
... A75: 26.11.2021. | B75: Prot21-TA-1278 | C75: Rīgas Dzemdību nams | D75: Elektriski regulējama dzemdību gulta-galds | E75: 2 | F75: 20812 | G75: 41624
E76: =SUM(E3:E75) -> 3243

Sheet gultas
G1: 3.10. pielikums
A2: Piešķīruma datums | B2: Rīkojuma Nr./MK protokols | C2: Iestādes nosaukums | D2: Nosaukums | E2: Mērvienība (m2/gab) | F2: Cena | G2: Kopā
A3: 11.02.2021. | B3: MK81 | C3: Cēsu klīnika | D3: Gulta funkcionālā slimnieku | E3: 1 | F3: 4500 | G3: 4500
A4: 11.02.2021. | B4: MK81 | C4: Dobeles un apkārtnes slimnīca | D4: Gulta ar piederumiem un matraci | E4: 3 | F4: 2540 | G4: 7619
A5: 11.02.2021. | B5: MK81 | C5: Preiļu slimnīca | D5: Gulta funkcionālā slimnieku | E5: 10 | F5: 4500 | G5: 45000
A6: 11.02.2021. | B6: MK81 | C6: Preiļu slimnīca | D6: Gulta ar piederumiem un matraci | E6: 1 | F6: 2540 | G6: 2540
A7: 11.02.2021. | B7: MK81 | C7: Krāslavas slimnīca | D7: Gulta funkcionālā slimnieku | E7: 4 | F7: 4500 | G7: 18000
A8: 11.02.2021. | B8: MK81 | C8: Krāslavas slimnīca | D8: Gulta ar piederumiem un matraci | E8: 4 | F8: 2539.83 | G8: 10159
A9: 11.02.2021. | B9: MK81 | C9: Tukuma slimnīca | D9: Gulta ar piederumiem un matraci | E9: 6 | F9: 2540 | G9: 15240
A10: 11.02.2021. | B10: MK81 | C10: Tukuma slimnīca | D10: Gulta ar piederumiem un matraci | E10: 4 | F10: 2540 | G10: 10159
A11: 11.02.2021. | B11: MK81 | C11: Tukuma slimnīca | D11: funkcionālās gultas ar pretizgulējuma matraci | E11: 10 | F11: 3267 | G11: 32670
A12: 11.02.2021. | B12: MK81 | C12: Alūksnes slimnīca | D12: Gulta funkcionālā slimnieku | E12: 3 | F12: 4500 | G12: 13500
A13: 11.02.2021. | B13: MK81 | C13: Rīgas Austrumu klīniskā universitātes slimnīca | D13: Intensīvās terapijas gultas | E13: 12 | F13: 9680 | G13: 116160
A14: 11.02.2021. | B14: MK81 | C14: Rīgas Austrumu klīniskā universitātes slimnīca | D14: Pretizgulējuma matracis ITN gultai (SWL ne mazāk par 200kg) | E14: 12 | F14: 2904 | G14: 34848
A15: 11.02.2021. | B15: MK81 | C15: Paula Stradiņa klīniskā universitātes slimnīca | D15: Gulta funkcionālā slimnieku | E15: 1 | G15: 2539.83
A16: 11.02.2021. | B16: MK81 | C16: Paula Stradiņa klīniskā universitātes slimnīca | D16: Reanimācijas pacienta gulta | E16: 2 | G16: 9000
A17: 02.11.2021. | B17: Prot73 | C17: Ziemeļkurzemes slimnīca- Ventspils | D17: Funkcionālās gultas + matrači | E17: 20 | F17: 2100 | G17: 42000
A18: 02.11.2021. | B18: Prot73 | C18: Ziemeļkurzemes slimnīca- Talsi | D18: intensīvās terapijas pacientu gultas | E18: 2 | F18: 15900 | G18: 31800
A19: 02.11.2021. | B19: Prot73 | C19: Alūksnes slimnīca | D19: Funkcionālās gultas ar skapīti | E19: 8 | F19: 2000 | G19: 16000
A20: 02.11.2021. | B20: Prot73 | C20: Bauskas slimnīca | D20: Pacientu gultas | E20: 10 | F20: 1936 | G20: 19360
A21: 02.11.2021. | B21: Prot73 | C21: Preiļu slimnīca | D21: gultas | E21: 10 | F21: 1000 | G21: 10000
A22: 02.11.2021. | B22: Prot73 | C22: Krāslavas slimnīca | D22: Funkcionālās gultas | E22: 20 | F22: 1200 | G22: 24000
A23: 02.11.2021. | B23: Prot73 | C23: Liepājas reģionālā slimnīca | D23: Funkcionālās gultas | E23: 28 | F23: 5082 | G23: 142296
A24: 02.11.2021. | B24: Prot73 | C24: Jēkabpils slimnīca | D24: multifunkcionālās reanimācijas gulta, elektriska | E24: 4 | F24: 7700 | G24: 30800
A25: 02.11.2021. | B25: Prot73 | C25: Vidzemes slimnīca | D25: Funkcionālās gultas (ar pasīviem pretizgulējumu matračiem) | E25: 10 | F25: 2500 | G25: 25000
A26: 02.11.2021. | B26: Prot73 | C26: Madonas slimnīca | D26: Funkcionālās gultas | E26: 20 | F26: 2000 | G26: 40000
A27: 02.11.2021. | B27: Prot73 | C27: Limbažu slimnīca | D27: funkcionālās gultas ar matračiem | E27: 2000 | F27: 10 | G27: 20000
A28: 02.11.2021. | B28: Prot73 | C28: SIA "Sanare - KRC Jaunķemeri" | D28: Funkcionālās gultas | E28: 16 | F28: 2420 | G28: 38720
... A75: 26.11.2021. | B75: Prot21-TA-1278 | C75: Rīgas Dzemdību nams | D75: Elektriski regulējama dzemdību gulta-galds | E75: 2 | F75: 20812 | G75: 41624
E76: =SUM(E3:E75) -> 3507

Sheet flowmetri
G1: 3.11. pielikums
A2: Piešķīruma datums | B2: Rīkojuma Nr./MK protokols | C2: Iestādes nosaukums | D2: Nosaukums | E2: Mērvienība (m2/gab) | F2: Cena | G2: Kopā
A3: 05.01.2021. | B3: MK2 | C3: Rīgas 1.slimnīca | D3: Mākslīgās plaušu ventilācijas (MPV) iekārtas ar neinvazīvās ventilācijas režīmu un High flow režīmu | E3: 2 | F3: 27000 | G3: 54000
A4: 05.01.2021. | B4: MK2 | C4: Rīgas 1.slimnīca | D4: Flovmetri ar mitrinātāju | E4: 50 | F4: 70 | G4: 3500
A5: 11.02.2021. | B5: MK81 | C5: Rīgas 1.slimnīca | D5: Mākslīgās plaušu ventilācijas (MPV) iekārtas ar neinvazīvās ventilācijas režīmu un High flow režīmu | E5: 2 | F5: 5670 | G5: 11340
A6: 11.02.2021. | B6: MK81 | C6: Rīgas 1.slimnīca | D6: Flovmetri ar mitrinātāju | E6: 50 | F6: 14.7 | G6: 735
A7: 03.11.2021. | B7: MK799 | C7: Rīgas 1.slimnīca | D7: Flovmetri ar mitrinātāju 120 gab. | E7: 120 | F7: 84.7 | G7: 10164
E8: =SUM(E3:E7) -> 224

Sheet RTG
G1: 3.12. pielikums
A2: Piešķīruma datums | B2: Rīkojuma Nr./MK protokols | C2: Iestādes nosaukums | D2: Nosaukums | E2: Mērvienība (m2/gab) | F2: Cena | G2: Kopā
A3: 11.02.2021. | B3: MK81 | C3: Balvu un Gulbenes slimnīcu apvienība | D3: Portatīvs RTG | E3: 1 | F3: 80000 | G3: 80000
A4: 02.11.2021. | B4: Prot73 | C4: Bauskas slimnīca | D4: Digitālais RTG aparāts ar 2 detektoriem, stacionārais | E4: 1 | F4: 140000 | G4: 140000
A5: 02.11.2021. | B5: Prot73 | C5: Dobeles un apkārtnes slimnīca | D5: Mobilā RTG iekārta (pārvietojama) | E5: 1 | F5: 114950 | G5: 114950
A6: 02.11.2021. | B6: Prot73 | C6: SIA "Sanare - KRC Jaunķemeri" | D6: Portatīvais RTG aparāts | E6: 1 | F6: 108900 | G6: 108900
A7: 05.01.2021. | B7: MK2 | C7: Ludzas medicīnas centrs | D7: Pārvietojama palātas RTG iekārta | E7: 1 | F7: 115000 | G7: 115000
A8: 05.01.2021. | B8: MK2 | C8: Rīgas Austrumu klīniskā universitātes slimnīca | D8: Digititālā RTG iekārta ar griestu piekari | E8: 1 | F8: 254100 | G8: 254100
A9: 12.03.2021. | B9: MK161 | C9: VSIA "Paula Stradiņa klīniskā universitātes slimnīca" | D9: Portatīvais digitālais rtg | E9: 1 | F9: 100000 | G9: 100000
A10: 03.11.2021. | B10: MK799 | C10: Jelgavas pilsētas slimnīca | D10: Digitālā palātas RTG iekārta Covid nodaļai | E10: 1 | F10: 78650 | G10: 78650
E11: =SUM(E3:E10) -> 8

Sheet USG
G1: 3.13. pielikums
A3: Piešķīruma datums | B3: Rīkojuma Nr./MK protokols | C3: Iestādes nosaukums | D3: Nosaukums | E3: Mērvienība (m2/gab) | F3: Cena | G3: Kopā
A4: 02.11.2021. | B4: Prot73 | C4: Preiļu slimnīca | D4: Portatīvais USG | E4: 1 | F4: 30000 | G4: 30000
A5: 02.11.2021. | B5: Prot73 | C5: Liepājas reģionālā slimnīca | D5: Mobilā USG iekārta | E5: 1 | F5: 48400 | G5: 48400
A6: 03.11.2021. | B6: MK799 | C6: Rīgas 1.slimnīca | D6: Portatīvais USG ar EHO | E6: 1 | F6: 54450 | G6: 54450
A7: 03.11.2021. | B7: MK799 | C7: Rīgas Austrumu klīniskā universitātes slimnīca | D7: USG | E7: 2 | F7: 45000 | G7: 90000
A8: 03.11.2021. | B8: MK799 | C8: Rīgas Austrumu klīniskā universitātes slimnīca | D8: USG | E8: 3 | F8: 45000 | G8: 135000
E9: =SUM(E4:E8) -> 8

Sheet sūkņi
G1: 3.14. pielikums
A2: Piešķīruma datums | B2: Rīkojuma Nr./MK protokols | C2: Iestādes nosaukums | D2: Nosaukums | E2: Mērvienība (m2/gab) | F2: Cena | G2: Kopā
A3: 11.02.2021. | B3: MK81 | C3: Cēsu klīnika | D3: Vakuuma sūknis ar piederumiem | E3: 1 | F3: 1493 | G3: 1493
A4: 11.02.2021. | B4: MK81 | C4: Cēsu klīnika | D4: Sūknis zema vakuma | E4: 1 | F4: 611 | G4: 611
A5: 11.02.2021. | B5: MK81 | C5: Preiļu slimnīca | D5: Vakuuma sūknis ar piederumiem | E5: 2 | F5: 1492.52 | G5: 2985
A6: 11.02.2021. | B6: MK81 | C6: Preiļu slimnīca | D6: Sūknis zema vakuma | E6: 1 | F6: 611 | G6: 611
A7: 11.02.2021. | B7: MK81 | C7: Krāslavas slimnīca | D7: Vakuuma sūknis ar piederumiem | E7: 3 | F7: 1492.52 | G7: 4478
A8: 11.02.2021. | B8: MK81 | C8: Krāslavas slimnīca | D8: Sūknis zema vakuma | E8: 1 | F8: 611.05 | G8: 611
A9: 11.02.2021. | B9: MK81 | C9: Tukuma slimnīca | D9: Vakuuma sūknis ar piederumiem | E9: 2 | F9: 1493 | G9: 2986
A10: 11.02.2021. | B10: MK81 | C10: Tukuma slimnīca | D10: Vakuma sūkņi | E10: 2 | F10: 605 | G10: 1210
A11: 11.02.2021. | B11: MK81 | C11: Jūrmalas slimnīca | D11: Vakuuma sūknis ar piederumiem | E11: 2 | F11: 1493 | G11: 2985
A12: 11.02.2021. | B12: MK81 | C12: Alūksnes slimnīca | D12: Vakuuma sūknis ar piederumiem | E12: 5 | F12: 1493 | G12: 7463
A13: 11.02.2021. | B13: MK81 | C13: Rīgas Austrumu klīniskā universitātes slimnīca | D13: Ežekcijas sūknis | E13: 16 | F13: 338.8 | G13: 5420.8
A14: 11.02.2021. | B14: MK81 | C14: Rīgas Austrumu klīniskā universitātes slimnīca | D14: Ķirurģiskais atsūcējs krēpu atsūkšanai | E14: 4 | F14: 3025 | G14: 12100
A15: 11.02.2021. | B15: MK81 | C15: Rīgas Austrumu klīniskā universitātes slimnīca | D15: Zema vakuuma sūknis (torokālām drenām) | E15: 8 | F15: 9680 | G15: 77440
A16: 11.02.2021. | B16: MK81 | C16: Paula Stradiņa klīniskā universitātes slimnīca | D16: Vakuuma sūknis | E16: 3 | G16: 1833.15
A17: 02.11.2021. | B17: Prot73 | C17: Alūksnes slimnīca | D17: Vakuumsūkņi ar piederumiem | E17: 3 | F17: 1200 | G17: 3600
A18: 02.11.2021. | B18: Prot73 | C18: Bauskas slimnīca | D18: Vakuumsūknis | E18: 1 | F18: 1331.1 | G18: 1331.1
A19: 02.11.2021. | B19: Prot73 | C19: Preiļu slimnīca | D19: Vakuuma sūknis ar piederumiem | E19: 2 | F19: 1500 | G19: 3000
A20: 02.11.2021. | B20: Prot73 | C20: Preiļu slimnīca | D20: Sūknis zema vakuma | E20: 1 | F20: 600 | G20: 600
A21: 02.11.2021. | B21: Prot73 | C21: Liepājas reģionālā slimnīca | D21: Medicīniskie sūkņi | E21: 28 | F21: 423.5 | G21: 11858
A22: 02.11.2021. | B22: Prot73 | C22: Priekules slimnīca | D22: Sūkņi | E22: 2 | F22: 500 | G22: 1000
A23: 02.11.2021. | B23: Prot73 | C23: Tukuma slimnīca | D23: Vakuumsūknis | E23: 3 | F23: 2178 | G23: 6534
A24: 02.11.2021. | B24: Prot73 | C24: SIA "Sanare - KRC Jaunķemeri" | D24: Vakuuma sūknis | E24: 1 | F24: 2178 | G24: 2178
A25: 05.01.2021. | B25: MK2 | C25: Balvu un Gulbenes slimnīcu apvienība | D25: Vakuumsūknis | E25: 1 | F25: 373.2366 | G25: 373.2366
A26: 12.03.2021. | B26: MK161 | C26: Balvu un Gulbenes slimnīcu apvienība | D26: Vakumsūkņi (ķirurģiskais) | E26: 1 | F26: 370 | G26: 370
A27: 12.03.2021. | B27: MK161 | C27: Daugavpils reģionālā slimnīca | D27: Vakuumsūknis tipa Laerdal LSU | E27: 3 | F27: 1400 | G27: 4200
A28: 05.01.2021. | B28: MK2 | C28: Vidzemes slimnīca | D28: Vakuumsūknis (50l/min) | E28: 7 | F28: 1650 | G28: 11550
... A63: 26.11.2021. | B63: Prot21-TA-1278 | C63: Rīgas Dzemdību nams | D63: Ķirurģiskais vakuumsūknis | E63: 2 | F63: 3025 | G63: 6050
E64: =SUM(E3:E63) -> 10788

Sheet MPV
G1: 3.15. pielikums
A2: Piešķīruma datums | B2: Rīkojuma Nr./MK protokols | C2: Iestādes nosaukums | D2: Nosaukums | E2: Mērvienība (m2/gab) | F2: Cena | G2: Kopā
A3: 11.02.2021. | B3: MK81 | C3: Jūrmalas slimnīca | D3: Mitrinātāji pie mākslīgās plaušu ventilācijas aparāta | E3: 3 | F3: 1600 | G3: 4800
A4: 11.02.2021. | B4: MK81 | C4: Rīgas Austrumu klīniskā universitātes slimnīca | D4: Mākslīgās plaušu ventilācijas iekārta ar mitrinātāju | E4: 12 | F4: 50820 | G4: 609840
A5: 02.11.2021. | B5: Prot73 | C5: Liepājas reģionālā slimnīca | D5: Mākslīgās plaušu ventilācijas iekārtas | E5: 3 | F5: 41745 | G5: 125235
A6: 02.11.2021. | B6: Prot73 | C6: Jēkabpils slimnīca | D6: mākslīgās plaušu ventilācijas aparāti (NIVA, APST, INV) | E6: 4 | F6: 33000 | G6: 132000
A7: 02.11.2021. | B7: Prot73 | C7: Madonas slimnīca | D7: Mākslīgās plaušu ventilācijas iekārtas (neinvazīvas) | E7: 3 | F7: 17400 | G7: 52200
A8: 02.11.2021. | B8: Prot73 | C8: Tukuma slimnīca | D8: Mākslīgās plaušu ventilācijas iekārtas | E8: 2 | F8: 31460 | G8: 62920
A9: 12.03.2021. | B9: MK161 | C9: Balvu un Gulbenes slimnīcu apvienība | D9: Mākslīgās plaušu ventilācijas ierīce Philips V60 Plus Ventilator | E9: 2 | F9: 14520 | G9: 29040
A10: 05.01.2021. | B10: MK2 | C10: Alūksnes slimnīca | D10: Mākslīgās plaušas ventilācijas iekārtas gaisa sildītājs un mitrinātājs (centralizēti piegādātiem) | E10: 3 | F10: 1500 | G10: 4500
A11: 05.01.2021. | B11: MK2 | C11: Daugavpils reģionālā slimnīca | D11: Mākslīgās plaušu ventilācijas ierīce tipa Hamilton C1 | E11: 1 | F11: 23595 | G11: 23595
A12: 05.01.2021. | B12: MK2 | C12: Daugavpils reģionālā slimnīca | D12: Mākslīgās plaušu ventilācijas ierīce tipa Hamilton C6 | E12: 3 | F12: 36300 | G12: 108900
A13: 05.01.2021. | B13: MK2 | C13: Liepājas reģionālā slimnīca | D13: Mākslīgās plaušu ventilācijas (MPV) iekārtas | E13: 5 | F13: 38115 | G13: 190575
A14: 05.01.2021. | B14: MK2 | C14: Liepājas reģionālā slimnīca | D14: Mākslīgās plaušu ventilācijas iekārtas | E14: 6 | F14: 32488 | G14: 194928
... A24: 03.11.2021. | B24: MK799 | C24: Paula Stradiņa klīniskā universitātes slimnīca | D24: Strūklas mākslīgās plaušu ventilācijas iekārta | E24: 1 | F24: 125000 | G24: 125000
A25: 26.10.2021. | C25: Paula Stradiņa klīniskā universitātes slimnīca | D25: Mākslīgās plaušu ventilācijas iekārtas (INV, NIV, APST) | E25: 28 | F25: 30250 | G25: 847000
A26: 12.03.2021. | B26: MK161 | C26: VSIA "Paula Stradiņa klīniskā universitātes slimnīca" | D26: Portatīvais MPV | E26: 6 | F26: 15000 | G26: 90000
A27: 12.03.2021. | B27: MK161 | C27: VSIA "Paula Stradiņa klīniskā universitātes slimnīca" | D27: Getinge MPV INV APST funkcijas nodrošinājums | E27: 26 | F27: 1700 | G27: 44200
A28: 26.11.2021. | B28: Prot21-TA-1278 | C28: Ludzas medicīnas centrs | D28: Portatīva MPV iekārta ar neinvazīvo ventilācijas funkciju | E28: 2 | F28: 14100 | G28: 28200
E29: =SUM(E3:E28) -> 161

Sheet monitori
G1: 3.16. pielikums
A2: Piešķīruma datums | B2: Rīkojuma Nr./MK protokols | C2: Iestādes nosaukums | D2: Nosaukums | E2: Mērvienība (m2/gab) | F2: Cena | G2: Kopā
A3: 11.02.2021. | B3: MK81 | C3: Cēsu klīnika | D3: Hemodinamikas monitors ar aprīkojumu | E3: 4 | F3: 22477 | G3: 89907
A4: 11.02.2021. | B4: MK81 | C4: Cēsu klīnika | D4: monitors ar hemodinamikas monitoru un piederumiem | E4: 2 | F4: 15687 | G4: 31374
A5: 11.02.2021. | B5: MK81 | C5: Dobeles un apkārtnes slimnīca | D5: Sirds izsviedes rādītāju monitors | E5: 1 | F5: 9711 | G5: 9711
A6: 11.02.2021. | B6: MK81 | C6: Preiļu slimnīca | D6: monitors ar hemodinamikas monitoru un piederumiem | E6: 1 | F6: 15687 | G6: 15687
A7: 11.02.2021. | B7: MK81 | C7: Krāslavas slimnīca | D7: Hemodinamikas monitors ar aprīkojumu | E7: 2 | F7: 22476.64 | G7: 44953
A8: 11.02.2021. | B8: MK81 | C8: Balvu un Gulbenes slimnīcu apvienība | D8: Sirds izsviedes rādītāju monitors | E8: 1 | F8: 9711 | G8: 9711
A9: 11.02.2021. | B9: MK81 | C9: Tukuma slimnīca | D9: Hemodinamikas monitors ar aprīkojumu | E9: 1 | F9: 22476.64 | G9: 22476.64
A10: 11.02.2021. | B10: MK81 | C10: Tukuma slimnīca | D10: Sirds izsviedes rādītāju monitors | E10: 1 | F10: 9711.1 | G10: 9711.1
A11: 11.02.2021. | B11: MK81 | C11: Tukuma slimnīca | D11: monitors ar hemodinamikas monitoru un piederumiem | E11: 4 | F11: 15687 | G11: 62749
A12: 11.02.2021. | B12: MK81 | C12: Tukuma slimnīca | D12: Pacientu novērošanas monitori | E12: 5 | F12: 5000 | G12: 25000
A13: 11.02.2021. | B13: MK81 | C13: Alūksnes slimnīca | D13: Asins recēšanas monitors | E13: 1 | F13: 8324 | G13: 8324
A14: 11.02.2021. | B14: MK81 | C14: Alūksnes slimnīca | D14: monitors ar hemodinamikas monitoru un piederumiem | E14: 4 | F14: 15687 | G14: 62749
... A17: 11.02.2021. | B17: MK81 | C17: Rīgas Austrumu klīniskā universitātes slimnīca | D17: Asins recēšanas monitors | E17: 2 | F17: 9680 | G17: 19360
A18: 11.02.2021. | B18: MK81 | C18: Paula Stradiņa klīniskā universitātes slimnīca | D18: Hemodinamikas CO, SvO2, EDV, SVR parametru monitors | E18: 2 | G18: 21600
A19: 11.02.2021. | B19: MK81 | C19: Paula Stradiņa klīniskā universitātes slimnīca | D19: Hemodinamikas vitālo parametru monitors | E19: 3 | G19: 36500
A20: 02.11.2021. | B20: Prot73 | C20: Ziemeļkurzemes slimnīca- Ventspils | D20: Komplekts 12 pacientu nov.monitori ar centrālo staciju | E20: 1 | F20: 80000 | G20: 80000
A21: 02.11.2021. | B21: Prot73 | C21: Alūksnes slimnīca | D21: Pacientu monitori ar statīvu | E21: 4 | F21: 2000 | G21: 8000
A22: 02.11.2021. | B22: Prot73 | C22: Alūksnes slimnīca | D22: Pacientu novērošanas kameras ar piederumiem un monitoriem | E22: 7 | F22: 1714.29 | G22: 12000.03
A23: 02.11.2021. | B23: Prot73 | C23: Bauskas slimnīca | D23: Kardiomonitori | E23: 5 | F23: 5089.26 | G23: 25446.3
A24: 02.11.2021. | B24: Prot73 | C24: Cēsu klīnika | D24: Vitālo funkciju monitoru stacija | E24: 2 | F24: 9100 | G24: 18200
A25: 02.11.2021. | B25: Prot73 | C25: Cēsu klīnika | D25: Monitori ar invazīvā spiediena mērīšanas moduli | E25: 5 | F25: 3000 | G25: 15000
A26: 02.11.2021. | B26: Prot73 | C26: Preiļu slimnīca | D26: monitors | E26: 42 | F26: 1200 | G26: 50400
A27: 02.11.2021. | B27: Prot73 | C27: Krāslavas slimnīca | D27: Pacientu monitori | E27: 10 | F27: 4000 | G27: 40000
A28: 02.11.2021. | B28: Prot73 | C28: Liepājas reģionālā slimnīca | D28: Pacientu monitoru komplekti | E28: 28 | F28: 4840 | G28: 135520
A29: 02.11.2021. | B29: Prot73 | C29: Liepājas reģionālā slimnīca | D29: Pacientu monitoru stacijas/sistēmas (komplekts) | E29: 2 | F29: 43560 | G29: 87120
A30: 02.11.2021. | B30: Prot73 | C30: Dobeles un apkārtnes slimnīca | D30: Pacientu monitoru novērošanas stacijas ar riteņiem un statīviem | E30: 16 | F30: 2105.38 | G30: 33686.08
A31: 02.11.2021. | B31: Prot73 | C31: Rīgas 2.slimnīca | D31: Pacientu attālināta monitoringa izveidošana 55 palātās ar monitoringa staciju(5 gab.) katras nodaļas māsu postenī | E31: 1 | F31: 51570.2 | G31: 51570.2
... A118: 26.11.2021. | B118: Prot21-TA-1278 | C118: Latvijas Jūras medicīnas centrs | D118: Pacientu vitālo funkciju monitors | E118: 4 | F118: 2178 | G118: 8712
A119: 26.10.2021. | C119: Paula Stradiņa klīniskā universitātes slimnīca | D119: Vitālo parametru monitors | E119: 113 | F119: 1573 | G119: 177749
A120: 26.10.2021. | C120: Paula Stradiņa klīniskā universitātes slimnīca | D120: Vitālo parametru monitorēšanas darba stacija vai stacijas uzlabošana | E120: 3 | F120: 7260 | G120: 21780
A121: 26.11.2021. | B121: Prot21-TA-1278 | C121: Rīgas 1.slimnīca | D121: Palātu / pacientu informatīvais sienas monitors (māsu postenis) | E121: 2 | F121: 1210 | G121: 2420
A122: 26.11.2021. | B122: Prot21-TA-1278 | C122: Balvu un Gulbenes slimnīcu apvienība | D122: Pacientu monitors | E122: 2 | F122: 2500 | G122: 5000
A123: 26.11.2021. | B123: Prot21-TA-1278 | C123: Rīgas Dzemdību nams | D123: Pacienta vitālo funkciju novērošanas monitors | E123: 3 | F123: 4682.7 | G123: 14048.1
A124: 26.11.2021. | B124: Prot21-TA-1278 | C124: Rīgas Dzemdību nams | D124: Anestēzijas darba stacija ar pacienta novērošanas monitoru | E124: 1 | F124: 45980 | G124: 45980
E125: =SUM(E3:E124) -> 1165

Sheet perfuzori
G1: 3.17. pielikums
A2: Piešķīruma datums | B2: Rīkojuma Nr./MK protokols | C2: Iestādes nosaukums | D2: Nosaukums | E2: Mērvienība (m2/gab) | F2: Cena | G2: Kopā
A3: 11.02.2021. | B3: MK81 | C3: Cēsu klīnika | D3: Perfuzori 6gab, + turētājskapis | E3: 3 | F3: 11936 | G3: 35807
A4: 11.02.2021. | B4: MK81 | C4: Cēsu klīnika | D4: Perfuzors un zāļu kalkulācijai | E4: 2 | F4: 4211 | G4: 8421
A5: 11.02.2021. | B5: MK81 | C5: Dobeles un apkārtnes slimnīca | D5: Perfuzori 6gab, + turētājskapis | E5: 1 | F5: 11936 | G5: 11936
A6: 11.02.2021. | B6: MK81 | C6: Preiļu slimnīca | D6: Perfuzori 6gab, + turētājskapis | E6: 1 | F6: 11935.69 | G6: 11936
A7: 11.02.2021. | B7: MK81 | C7: Preiļu slimnīca | D7: Perfuzors un zāļu kalkulācijai | E7: 1 | F7: 4211 | G7: 4211
A8: 11.02.2021. | B8: MK81 | C8: Krāslavas slimnīca | D8: Perfuzori 6gab, + turētājskapis | E8: 2 | F8: 11935.69 | G8: 23871
A9: 11.02.2021. | B9: MK81 | C9: Krāslavas slimnīca | D9: Perfuzors un zāļu kalkulācijai | E9: 2 | F9: 4210.62 | G9: 8421
A10: 11.02.2021. | B10: MK81 | C10: Tukuma slimnīca | D10: Perfuzori 6gab, + turētājskapis | E10: 2 | F10: 11936 | G10: 23872
A11: 11.02.2021. | B11: MK81 | C11: Tukuma slimnīca | D11: Perfuzors un zāļu kalkulācijai | E11: 8 | F11: 4211 | G11: 33685
A12: 11.02.2021. | B12: MK81 | C12: Tukuma slimnīca | D12: Perfuzori | E12: 10 | F12: 4211 | G12: 42106
A13: 11.02.2021. | B13: MK81 | C13: Jūrmalas slimnīca | D13: Perfuzors un zāļu kalkulācijai | E13: 8 | F13: 4211 | G13: 33685
A14: 11.02.2021. | B14: MK81 | C14: Alūksnes slimnīca | D14: Perfuzors un zāļu kalkulācijai | E14: 10 | F14: 4211 | G14: 42106
A15: 11.02.2021. | B15: MK81 | C15: Rīgas Austrumu klīniskā universitātes slimnīca | D15: Perfūzijas/infūzijas sūkņu stacija (8 perfuzoriem/infūzijas sūkņiem) ar statīvu | E15: 12 | F15: 15125 | G15: 181500
A16: 11.02.2021. | B16: MK81 | C16: Paula Stradiņa klīniskā universitātes slimnīca | D16: Perfuzoru turētājskapis uz portīva statīva | E16: 3 | F16: =G16/E16 -> 1200 | G16: 3600
A17: 02.11.2021. | B17: Prot73 | C17: Ziemeļkurzemes slimnīca- Ventspils | D17: Perfuzori | E17: 21 | F17: 968 | G17: 20328
A18: 02.11.2021. | B18: Prot73 | C18: Ziemeļkurzemes slimnīca- Ventspils | D18: Perfuzoru turētājskapis ar statīvu (1 uz 3 perfuzoriem) | E18: 7 | F18: 1808.95 | G18: 12662.65
A19: 02.11.2021. | B19: Prot73 | C19: Alūksnes slimnīca | D19: Perfuzors | E19: 6 | F19: 4216.67 | G19: 25300.02
A20: 02.11.2021. | B20: Prot73 | C20: Bauskas slimnīca | D20: Medicīniskie perfuzori | E20: 3 | F20: 800 | G20: 2400
A21: 02.11.2021. | B21: Prot73 | C21: Cēsu klīnika | D21: Perfuzori | E21: 2 | F21: 800 | G21: 1600
A22: 02.11.2021. | B22: Prot73 | C22: Dobeles un apkārtnes slimnīca | D22: Perfuzori | E22: 16 | F22: 968 | G22: 15488
A23: 02.11.2021. | B23: Prot73 | C23: Jēkabpils slimnīca | D23: Perfuzori | E23: 24 | F23: 1333 | G23: 31992
A24: 02.11.2021. | B24: Prot73 | C24: Madonas slimnīca | D24: Perfuzori | E24: 20 | F24: 1200 | G24: 24000
A25: 02.11.2021. | B25: Prot73 | C25: Limbažu slimnīca | D25: Perfuzori | E25: 8 | F25: 1000 | G25: 8000
A26: 02.11.2021. | B26: Prot73 | C26: SIA "Sanare - KRC Jaunķemeri" | D26: Perfuzors | E26: 4 | F26: 1270.5 | G26: 5082
A27: 05.01.2021. | B27: MK2 | C27: Balvu un Gulbenes slimnīcu apvienība | D27: Perfuzors | E27: 1 | F27: 1113.2 | G27: 1113.2
A28: 12.03.2021. | B28: MK161 | C28: Balvu un Gulbenes slimnīcu apvienība | D28: perfuzori | E28: 2 | F28: 1000 | G28: 2000
... A50: 26.11.2021. | B50: Prot21-TA-1278 | C50: Rīgas Dzemdību nams | D50: Perfuzors – infūzijas sūknis dozētai medikamentu ievadei | E50: 4 | F50: 686.675 | G50: 2746.7
E51: =SUM(E3:E50) -> 742
